{"text_format":"1","workbook":"xlsx","n_sheets":25,"sheets":["AFR_Down","COVER","Assets-Liab 5-6","Acct Summary 7-8","Revenues 9-14","Expenditures 15-22","ARRA Sched 23","Tax Sched 23","Short-Term Long-Term Debt 24","Rest Tax Levies-Tort Im 25","Cap Outlay Deprec 26","PCTC-OEPP 27-28","Close Files","LoadData","Exit","AFR19","Crete Monee Totals 5-8","Data Pull totals 5-8","Sheet4","Sheet5","SDJA Field #'s","worksheet","Data pull 5-1-19","5-7-19 Data Pull","ESTL,CoC,LkPk ttls 5-1-19"],"not_rendered":{"charts":0,"images":0,"macros":1,"external_links":1,"defined_names":28,"comments":3,"pivot_tables":0},"unopened":[{"sheet":"Close Files","index":12,"reason":"part_missing"},{"sheet":"LoadData","index":13,"reason":"part_missing"},{"sheet":"Exit","index":14,"reason":"part_missing"}],"bounds":{"document_bytes":16777216,"sheet_cells":100000,"rows_first":2000,"rows_last":500,"rows_between":2000,"halvings":0,"cell_chars":16384,"cell_head_chars":4096},"cells_cut":0,"cells_raw":0,"read":"whole","date_system":"1900"}

{"sheet":"AFR_Down","index":0,"n_rows":0,"n_cols":0,"rows_kept":0,"cut":false,"hidden":true,"merged":[]}

{"sheet":"COVER","index":1,"n_rows":47,"n_cols":25,"rows_kept":47,"cut":false,"hidden":false,"merged":[[22,0,22,6],[20,7,20,17],[21,7,21,17],[41,3,41,6],[24,0,24,6],[41,0,41,2],[38,0,38,1],[43,18,43,25],[26,7,26,17],[24,18,24,25],[41,22,41,25],[20,18,20,21],[20,23,20,25],[22,18,22,25],[34,14,34,16],[41,14,41,17],[41,18,41,21],[43,7,43,17],[39,7,39,17],[38,7,38,11],[0,7,0,17],[1,7,1,17],[6,7,6,17],[8,7,8,17],[5,7,5,17],[2,7,2,17],[3,7,3,17],[4,7,4,17],[10,0,10,6],[20,0,20,6],[18,0,18,6],[12,0,12,6],[14,0,14,6],[16,0,16,6],[43,0,43,6],[8,18,10,25],[18,18,18,21],[17,7,17,17],[37,18,37,25],[39,18,39,25],[37,7,37,17],[12,18,12,25],[14,18,14,25],[18,24,18,25],[18,22,18,23],[16,18,16,25],[9,0,9,6],[37,0,37,6],[39,0,39,6],[41,7,41,13]]}
["Due to ROE on October 15th",null,null,null,null,null,null,"ILLINOIS STATE BOARD OF EDUCATION"]
["Due to ISBE on November 16th",null,null,null,null,null,null,"School Business Services Department"]
["SD/JA19",null,null,null,null,null,null,"100 North First Street, Springfield, Illinois  62777-0001"]
[null,null,null,null,null,null,null,"217/785-8779"]
[null,null,"   School District",null,null,null,null,"Illinois School District/Joint Agreement"]
[null,null,"   Joint Agreement",null,null,null,null,"Annual Financial Report *"]
[null,null,null,null,null,null,null,"2019-06-30"]
[]
[null,null,null,null,null,null,null,"Accounting Basis:",null,null,null,null,null,null,null,null,null,null,"Certified Public Accountant Information"]
["School District/Joint Agreement Information"]
["(See instructions on inside of this page.)",null,null,null,null,null,null,null,null,null,null,null,null,null,"CASH"]
["School District/Joint Agreement Number:",null,null,null,null,null,null,null,null,null,null,null,null,null,"ACCRUAL",null,null,null,"Name of Auditing Firm:"]
[{"$f":"'AFR19'!B2","v":"99-999-9999-99"}]
["County Name:",null,null,null,null,null,null,null,null,null,null,null,null,null,null,null,null,null,"Name of Audit Supervisor:"]
[]
["Name of School District/Joint Agreement:",null,null,null,null,null,null,null,null,null,null,null,null,null,null,null,null,null,"Address:"]
[{"$f":"'AFR19'!B3","v":"2018-19 State Totals - SD Only"}]
["Address:",null,null,null,null,null,null,"Filing Status:",null,null,null,null,null,null,null,null,null,null,"City:",null,null,null,"State:",null,"Zip Code:"]
[null,null,null,null,null,null,null,null,null,null,null,"Submit electronic AFR directly to ISBE"]
["City:",null,null,null,null,null,null,null,null,null,null,null,null,null,null,null,null,null,"Phone Number:",null,null,null,null,"Fax Number:"]
[null,null,null,null,null,null,null,"  Click on the Link to Submit:"]
["Email Address:",null,null,null,null,null,null,"     www.isbe.net/sfms/afr/afr.htm",null,null,null,null,null,null,null,null,null,null,"IL Registration Number:"]
[]
["Zip Code:",null,null,null,null,null,null,null,null,null,null,null,null,null,null,null,null,null,"Email Address:"]
[]
[]
[null,null,"Annual Financial Report",null,null,null,null,"Single Audit Status:"]
[null,null,"Type of Auditor's Report Issued:",null,null,null,null,null,null,null,null,null,null,null,null,null,null,null,null,null,null,"ISBE Use Only"]
[null,null,"Qualified",null,null,null,null,null,null,"  YES",null,"NO","Are Federal expenditures greater than $750,000?"]
[null,null,"Adverse",null,null,null,null,null,null,"  YES",null,"NO","Is all Single Audit Information completed and attached?"]
[null,null,"Disclaimer",null,null,null,null,null,null,"YES",null,"NO","Were any financial Statement or federal awards findings issued?"]
[]
[]
[null,null,"  Reviewed by District Superintendent/Administrator",null,null,null,null,null,null,null,null,"Reviewed by Township Treasurer (Cook County only)",null,null,null,null,null,null,null,"x","  Reviewed by Regional Superintendent"]
[null,null,null,null,null,null,null,null,null,null,"Name of Township:"]
[]
["District Superintendent/Administrator Name (Type or Print):",null,null,null,null,null,null,"Township Treasurer Name (type or print)",null,null,null,null,null,null,null,null,null,null,"Regional Superintendent Name (Type or Print):"]
[]
["Email Address:",null,null,null,null,null,null,"Email Address:",null,null,null,null,null,null,null,null,null,null,"Email Address:"]
[]
["Telephone:",null,null,"Fax Number:",null,null,null,"Telephone:",null,null,null,null,null,null,"Fax Number:",null,null,null,"Telephone:",null,null,null,"Fax Number:"]
[]
["Signature & Date:",null,null,null,null,null,null,"Signature & Date:",null,null,null,null,null,null,null,null,null,null,"Signature & Date:"]
[]
["* This form is based on 23 Illinois Administrative Code 100, Subtitle A, Chapter I, Subchapter C (Part 100)."]
["   ISBE Form SD50-35/JA50-60 (5/19)"]
["Revised 07/13/20"]

{"sheet":"Assets-Liab 5-6","index":2,"n_rows":41,"n_cols":14,"rows_kept":41,"cut":false,"hidden":false,"merged":[]}
[null,null,"(10)","(20)","(30)","(40)","(50)","(60)","(70)","(80)","(90)",null,"Account Groups"]
["ASSETS","Acct. #","Educational","Operations & Maintenance","Debt Services","Transportation","Municipal Retirement/Social Security","Capital Projects","Working Cash","Tort","Fire Prevention & Safety","Agency Fund","General Fixed Assets","General Long-Term Debt"]
["CURRENT ASSETS (100)"]
["Cash (Accounts 111 through 115)",null,{"$f":"'AFR19'!B3357","v":6734270927},{"$f":"'AFR19'!B3360","v":1142668771},{"$f":"'AFR19'!B3363","v":1362854592},{"$f":"'AFR19'!B3365","v":715022560},{"$f":"'AFR19'!B3368","v":407516554},{"$f":"'AFR19'!B3371","v":2258155283},{"$f":"'AFR19'!B3373","v":1750161689},{"$f":"'AFR19'!B6163","v":198857946},{"$f":"'AFR19'!B3492","v":250766051},{"$f":"'AFR19'!B3381","v":208677212.28999999}]
["Investments",120,{"$f":"'AFR19'!B19","v":2144597017},{"$f":"'AFR19'!B51","v":353955928},{"$f":"'AFR19'!B75","v":189814038},{"$f":"'AFR19'!B99","v":210862565},{"$f":"'AFR19'!B123","v":114270042},{"$f":"'AFR19'!B145","v":412799483},{"$f":"'AFR19'!B2831","v":479799929},{"$f":"'AFR19'!B6164","v":55760562},{"$f":"'AFR19'!B3496","v":97027237},{"$f":"'AFR19'!B2838","v":33400916}]
["Taxes Receivable",130,{"$f":"'AFR19'!B11","v":4730386878},{"$f":"'AFR19'!B43","v":510303177},{"$f":"'AFR19'!B72","v":448723134},{"$f":"'AFR19'!B91","v":178845751},{"$f":"'AFR19'!B119","v":171511446},{"$f":"'AFR19'!B3465","v":12010485},{"$f":"'AFR19'!B2826","v":15267628},{"$f":"'AFR19'!B6165","v":93181011},{"$f":"'AFR19'!B3494","v":13250611}]
["Interfund Receivables",140,{"$f":"'AFR19'!B6027","v":89651518},{"$f":"'AFR19'!B6028","v":12382552},{"$f":"'AFR19'!B6029","v":1125459},{"$f":"'AFR19'!B6030","v":3112044},{"$f":"'AFR19'!B6031","v":451640},{"$f":"'AFR19'!B6032","v":289737},{"$f":"'AFR19'!B6033","v":69167592},{"$f":"'AFR19'!B6034","v":469761},{"$f":"'AFR19'!B6035","v":5086}]
["Intergovernmental Accounts Receivable",150,{"$f":"'AFR19'!B6036","v":556764876},{"$f":"'AFR19'!B6037","v":5898929},{"$f":"'AFR19'!B6038","v":68436969},{"$f":"'AFR19'!B6039","v":128628711},{"$f":"'AFR19'!B6040","v":634477},{"$f":"'AFR19'!B6041","v":19167752},{"$f":"'AFR19'!B6042","v":20732575},{"$f":"'AFR19'!B6043","v":1},{"$f":"'AFR19'!B6044","v":0}]
["Other Receivables",160,{"$f":"'AFR19'!B6045","v":39473714},{"$f":"'AFR19'!B6046","v":4076284},{"$f":"'AFR19'!B6047","v":1402834},{"$f":"'AFR19'!B6048","v":5544178},{"$f":"'AFR19'!B6049","v":649572},{"$f":"'AFR19'!B6050","v":5699479},{"$f":"'AFR19'!B6051","v":3601857},{"$f":"'AFR19'!B6052","v":150516},{"$f":"'AFR19'!B6053","v":131660},{"$f":"'AFR19'!B6054","v":575953}]
["Inventory",170,{"$f":"'AFR19'!B18","v":11601686},{"$f":"'AFR19'!B50","v":146411},{"$f":"'AFR19'!B6055","v":0},{"$f":"'AFR19'!B98","v":0},{"$f":"'AFR19'!B6056","v":223},{"$f":"'AFR19'!B144","v":0},{"$f":"'AFR19'!B6057","v":0},{"$f":"'AFR19'!B6058","v":0},{"$f":"'AFR19'!B3495","v":0},{"$f":"'AFR19'!B2837","v":0}]
["Prepaid Items",180,{"$f":"'AFR19'!B6059","v":22219773},{"$f":"'AFR19'!B6060","v":1550072},{"$f":"'AFR19'!B6061","v":8083810},{"$f":"'AFR19'!B6062","v":1247771},{"$f":"'AFR19'!B6063","v":10950},{"$f":"'AFR19'!B6064","v":54770},{"$f":"'AFR19'!B6065","v":0},{"$f":"'AFR19'!B6066","v":2574673},{"$f":"'AFR19'!B6067","v":0},{"$f":"'AFR19'!B6068","v":0}]
["Other Current Assets (Describe & Itemize)",190,{"$f":"'AFR19'!B22","v":7860108},{"$f":"'AFR19'!B54","v":286148},{"$f":"'AFR19'!B76","v":12381853},{"$f":"'AFR19'!B102","v":57200},{"$f":"'AFR19'!B125","v":48004},{"$f":"'AFR19'!B148","v":120438},{"$f":"'AFR19'!B2833","v":86859},{"$f":"'AFR19'!B6069","v":444},{"$f":"'AFR19'!B3497","v":36},{"$f":"'AFR19'!B2840","v":492841}]
["Total Current Assets",null,{"$f":"SUM(C4:C12)","v":14336826497},{"$f":"SUM(D4:D12)","v":2031268272},2092822689,1243320780,695092908,2708297427,2338818129,350994914,361180681,243146922.28999999]
["CAPITAL ASSETS (200)"]
["Works of Art & Historical Treasures",210,null,null,null,null,null,null,null,null,null,null,{"$f":"'AFR19'!B6243","v":265586}]
["Land",220,null,null,null,null,null,null,null,null,null,null,{"$f":"'AFR19'!B219","v":1352330415}]
["Building & Building Improvements",230,null,null,null,null,null,null,null,null,null,null,{"$f":"'AFR19'!B220","v":35556439359.309998}]
["Site Improvements & Infrastructure",240,null,null,null,null,null,null,null,null,null,null,{"$f":"'AFR19'!B221","v":2021651769.6700001}]
["Capitalized Equipment",250,null,null,null,null,null,null,null,null,null,null,{"$f":"'AFR19'!B222","v":3674257106.6700001}]
["Construction in Progress",260,null,null,null,null,null,null,null,null,null,null,{"$f":"'AFR19'!B2810","v":1720705428}]
["Amount Available in Debt Service Funds",340,null,null,null,null,null,null,null,null,null,null,null,{"$f":"'AFR19'!B228","v":1578305756}]
["Amount to be Provided for Payment on Bonds",350,null,null,null,null,null,null,null,null,null,null,null,{"$f":"'AFR19'!B229","v":20159129693.900002}]
["Total Capital Assets",null,null,null,null,null,null,null,null,null,null,null,{"$f":"SUM(M15:M20)","v":44325649664.649994},{"$f":"SUM(N21:N22)","v":21737435449.900002}]
["CURRENT LIABILITIES (400)"]
["Interfund Payables",410,{"$f":"'AFR19'!B6071","v":40602505},{"$f":"'AFR19'!B6072","v":23889268},{"$f":"'AFR19'!B6073","v":6423924},{"$f":"'AFR19'!B6074","v":22292948},{"$f":"'AFR19'!B6075","v":6642032},{"$f":"'AFR19'!B6076","v":18657171},null,{"$f":"'AFR19'!B6077","v":56740877},{"$f":"'AFR19'!B6078","v":8808355}]
["Intergovernmental Accounts Payable",420,{"$f":"'AFR19'!B6079","v":3953970},{"$f":"'AFR19'!B6080","v":1259887},{"$f":"'AFR19'!B6081","v":370375},{"$f":"'AFR19'!B6082","v":181347},{"$f":"'AFR19'!B6083","v":136177},{"$f":"'AFR19'!B6084","v":14609150},{"$f":"'AFR19'!B6085","v":0},{"$f":"'AFR19'!B6086","v":1470732},{"$f":"'AFR19'!B6087","v":0}]
["Other Payables",430,{"$f":"'AFR19'!B6088","v":796661865},{"$f":"'AFR19'!B6089","v":64068737},{"$f":"'AFR19'!B6090","v":4885342},{"$f":"'AFR19'!B6091","v":32454417},{"$f":"'AFR19'!B6092","v":2663617},{"$f":"'AFR19'!B6093","v":198506332},{"$f":"'AFR19'!B6094","v":940364},{"$f":"'AFR19'!B6095","v":5913999},{"$f":"'AFR19'!B6096","v":12244005}]
["Contracts Payable",440,{"$f":"'AFR19'!B6097","v":13737070},{"$f":"'AFR19'!B6098","v":430458},{"$f":"'AFR19'!B6099","v":0},{"$f":"'AFR19'!B6100","v":577667},{"$f":"'AFR19'!B6101","v":192477},{"$f":"'AFR19'!B6102","v":10214577},{"$f":"'AFR19'!B6103","v":12202},{"$f":"'AFR19'!B6104","v":27162},{"$f":"'AFR19'!B6105","v":2356472}]
["Loans Payable",460,{"$f":"'AFR19'!B6106","v":4769873},{"$f":"'AFR19'!B6107","v":15340},{"$f":"'AFR19'!B6108","v":0},{"$f":"'AFR19'!B6109","v":187403},{"$f":"'AFR19'!B6110","v":0},{"$f":"'AFR19'!B6111","v":6104232},{"$f":"'AFR19'!B6112","v":0},{"$f":"'AFR19'!B6113","v":0},{"$f":"'AFR19'!B6114","v":0}]
["Salaries & Benefits Payable",470,{"$f":"'AFR19'!B6115","v":668620884},{"$f":"'AFR19'!B6116","v":3716857},{"$f":"'AFR19'!B6117","v":0},{"$f":"'AFR19'!B6118","v":1972232},{"$f":"'AFR19'!B6119","v":5161997},{"$f":"'AFR19'!B6120","v":15870},{"$f":"'AFR19'!B6121","v":0},{"$f":"'AFR19'!B6122","v":742492},{"$f":"'AFR19'!B6123","v":20603}]
["Payroll Deductions & Withholdings",480,{"$f":"'AFR19'!B32","v":125255861},{"$f":"'AFR19'!B63","v":1025851},{"$f":"'AFR19'!B6124","v":0},{"$f":"'AFR19'!B110","v":893674},{"$f":"'AFR19'!B130","v":5294526},{"$f":"'AFR19'!B152","v":9450},{"$f":"'AFR19'!B6125","v":42920},{"$f":"'AFR19'!B6126","v":60843},{"$f":"'AFR19'!B3507","v":200}]
["Deferred Revenues & Other Current Liabilities",490,{"$f":"'AFR19'!B34","v":4458840163},{"$f":"'AFR19'!B65","v":558592347},{"$f":"'AFR19'!B80","v":455747781},{"$f":"'AFR19'!B112","v":262659001},{"$f":"'AFR19'!B131","v":177333434},{"$f":"'AFR19'!B154","v":5696137},{"$f":"'AFR19'!B2854","v":18347941},{"$f":"'AFR19'!B6127","v":57235109},{"$f":"'AFR19'!B3508","v":13950236}]
["Due to Activity Fund Organizations",493,{"$f":"'AFR19'!B6128","v":52373270},{"$f":"'AFR19'!B6129","v":0},{"$f":"'AFR19'!B6130","v":0},{"$f":"'AFR19'!B6131","v":4659},{"$f":"'AFR19'!B6132","v":0},{"$f":"'AFR19'!B6133","v":27083860},{"$f":"'AFR19'!B6134","v":0},{"$f":"'AFR19'!B6135","v":0},{"$f":"'AFR19'!B6136","v":0},{"$f":"'AFR19'!B2860","v":198420370.28999999}]
["Total Current Liabilities",null,{"$f":"SUM(C25:C33)","v":6164815461},{"$f":"SUM(D25:D33)","v":652998745},467427422,321223348,197424260,280896779,19343427,122191214,37379871,{"$f":"L33","v":198420370.28999999}]
["LONG-TERM LIABILITIES (500)"]
["Long-Term Debt Payable (General Obligation, Revenue, Other)",511,null,null,null,null,null,null,null,null,null,null,null,{"$f":"'AFR19'!B231","v":21737434113.900002}]
["Total Long-Term Liabilities",null,null,null,null,null,null,null,null,null,null,null,null,{"$f":"N36","v":21737434113.900002}]
["Reserved Fund Balance",714,{"$f":"'AFR19'!B2381","v":297895232},{"$f":"'AFR19'!B2383","v":214608822},{"$f":"'AFR19'!B2450","v":1038854749},{"$f":"'AFR19'!B2421","v":198543221},{"$f":"'AFR19'!B2423","v":165987992},{"$f":"'AFR19'!B2481","v":1076832399},{"$f":"'AFR19'!B2857","v":86738134},{"$f":"'AFR19'!B6160","v":82859569},{"$f":"'AFR19'!B3512","v":74187771},{"$f":"'AFR19'!B3017","v":43024405}]
["Unreserved Fund balance",730,{"$f":"'AFR19'!B38","v":7874115804.04},{"$f":"'AFR19'!B69","v":1163660705},{"$f":"'AFR19'!B86","v":586540518},{"$f":"'AFR19'!B116","v":723554211},{"$f":"'AFR19'!B135","v":331680656},{"$f":"'AFR19'!B158","v":1350568217},{"$f":"'AFR19'!B2858","v":2232736568},{"$f":"'AFR19'!B6161","v":145944131},{"$f":"'AFR19'!B3513","v":249613039},{"$f":"'AFR19'!B3018","v":1702147}]
["Investment in General Fixed Assets",null,null,null,null,null,null,null,null,null,null,null,{"$f":"'AFR19'!B226","v":44325649664.650002}]
["Total Liabilities and Fund Balance",null,{"$f":"SUM(C34,C38:C39)","v":14336826497.040001},{"$f":"SUM(D34,D38:D39)","v":2031268272},2092822689,1243320780,695092908,2708297395,2338818129,350994914,361180681,243146922.28999999,{"$f":"M40","v":44325649664.650002},{"$f":"N37","v":21737434113.900002}]

{"sheet":"Acct Summary 7-8","index":3,"n_rows":81,"n_cols":11,"rows_kept":81,"cut":false,"hidden":false,"merged":[[77,0,77,1]]}
[null,null,"(10)","(20)","(30)","(40)","(50)","(60)","(70)","(80)","(90)"]
["Description","Acct #","Educational","Operations & Maintenance","Debt Services","Transportation","Municipal Retirement/ Social Security","Capital Projects","Working Cash","Tort","Fire Prevention & Safety"]
["RECEIPTS/REVENUES"]
["Local Sources",1000,{"$f":"'Revenues 9-14'!C109","v":14754899831.200003},{"$f":"'Revenues 9-14'!D109","v":1789002744.8000002},{"$f":"'Revenues 9-14'!E109","v":1801161409.4199998},{"$f":"'Revenues 9-14'!F109","v":646739883.99000001},{"$f":"'Revenues 9-14'!G109","v":635332547.86000001},{"$f":"'Revenues 9-14'!H109","v":223665035.18000001},{"$f":"'Revenues 9-14'!I109","v":116633339.30000001},{"$f":"'Revenues 9-14'!J109","v":385320201.19},{"$f":"'Revenues 9-14'!K109","v":60520473.060000002}]
["Flow-Through Receipts/Revenues from One District to                                          Another District",2000,{"$f":"'Revenues 9-14'!C114","v":10276423},{"$f":"'Revenues 9-14'!D114","v":510487},null,{"$f":"'Revenues 9-14'!F114","v":141160},{"$f":"'Revenues 9-14'!G114","v":0}," "," "," "," "]
["State Sources",3000,{"$f":"'Revenues 9-14'!C170","v":6481608320.5900002},{"$f":"'Revenues 9-14'!D170","v":622829102},{"$f":"'Revenues 9-14'!E170","v":314401382},{"$f":"'Revenues 9-14'!F170","v":674475072.01999998},{"$f":"'Revenues 9-14'!G170","v":11736720},{"$f":"'Revenues 9-14'!H170","v":57097412},{"$f":"'Revenues 9-14'!I170","v":0},{"$f":"'Revenues 9-14'!J170","v":5121652},{"$f":"'Revenues 9-14'!K170","v":678591}]
["Federal Sources",4000,{"$f":"'Revenues 9-14'!C267","v":2080721390.7199998},{"$f":"'Revenues 9-14'!D267","v":8884666.4000000004},{"$f":"'Revenues 9-14'!E267","v":48301633},{"$f":"'Revenues 9-14'!F267","v":2028565},{"$f":"'Revenues 9-14'!G267","v":2500225},{"$f":"'AFR19'!B2603","v":1523211},{"$f":"'Revenues 9-14'!I267","v":0},{"$f":"'Revenues 9-14'!J267","v":0},{"$f":"'Revenues 9-14'!K267","v":0}]
["Total Direct Receipts/Revenues",null,{"$f":"SUM(C4:C7)","v":23327505965.510002},{"$f":"SUM(D4:D7)","v":2421227000.2000003},2163864424.4200001,1323384681.01,649569492.86000001,282285658.18000001,116633339.30000001,390441853.19,61199064.060000002]
["Receipts/Revenues for \"On Behalf\" Payments  2",3998,{"$f":"'AFR19'!B4059","v":5909326256.7989998},{"$f":"'AFR19'!B4060","v":7090148},{"$f":"'AFR19'!B4061","v":0},{"$f":"'AFR19'!B4062","v":2379},{"$f":"'AFR19'!B4063","v":0},{"$f":"'AFR19'!B4064","v":688465}," ",{"$f":"'AFR19'!B6170","v":9680603},{"$f":"'AFR19'!B4067","v":0}]
["Total Receipts/Revenues",null,{"$f":"SUM(C8:C9)","v":29236832222.309002},{"$f":"SUM(D8:D9)","v":2428317148.2000003},2163864424.4200001,1323387060.01,649569492.86000001,282974123.18000001,116633339.30000001,400122456.19,61199064.060000002]
["DISBURSEMENTS/EXPENDITURES"]
["Instruction",1000,{"$f":"'Expenditures 15-22'!K33","v":15060244150.949999}," "," "," ",{"$f":"'Expenditures 15-22'!K229","v":245504120.90000004},null," "," "," "]
["Support Services",2000,{"$f":"'Expenditures 15-22'!K74","v":6456131781.4300003},{"$f":"'Expenditures 15-22'!K129","v":2326391224.4000001}," ",{"$f":"'Expenditures 15-22'!K184","v":1220337601.26},{"$f":"'Expenditures 15-22'!K279","v":366331916.71000004},{"$f":"'Expenditures 15-22'!K303","v":2015522005.8}," ",{"$f":"'Expenditures 15-22'!K330","v":379602503},{"$f":"'Expenditures 15-22'!K352","v":176986335.81999999}]
["Community Services",3000,{"$f":"'Expenditures 15-22'!K75","v":167249497.77000001},{"$f":"'Expenditures 15-22'!K130","v":366434}," ",{"$f":"'Expenditures 15-22'!K185","v":206240},{"$f":"'Expenditures 15-22'!K280","v":6389057.5999999996},null," "," "," "]
["Payments to Other Districts & Govermental Units",4000,{"$f":"'Expenditures 15-22'!K102","v":752639020.77999997},{"$f":"'Expenditures 15-22'!K139","v":5128059},{"$f":"'Expenditures 15-22'!K160","v":105596},{"$f":"'Expenditures 15-22'!K196","v":14624269},{"$f":"'Expenditures 15-22'!K285","v":1833094},{"$f":"'Expenditures 15-22'!K310","v":633862}," ",{"$f":"'Expenditures 15-22'!K334","v":806600},{"$f":"'Expenditures 15-22'!K357","v":13759}]
["Debt Service",5000,{"$f":"'Expenditures 15-22'!K112","v":9325339},{"$f":"'Expenditures 15-22'!K149","v":471810},{"$f":"'Expenditures 15-22'!K172","v":2675917124.6999998},{"$f":"'Expenditures 15-22'!K208","v":16870528},{"$f":"'Expenditures 15-22'!K293","v":7},null," ",{"$f":"'Expenditures 15-22'!K340","v":0},{"$f":"'Expenditures 15-22'!K365","v":313020}]
["Total Direct Disbursements/Expenditures",null,{"$f":"SUM(C12:C16)","v":22445589789.929996},2332357527.4000001,2676022720.6999998,1252038638.26,620058196.21000016,2016155867.8,null,{"$f":"SUM(J12:J16)","v":380409103},{"$f":"SUM(K12:K16)","v":177313114.81999999}]
["Disbursements/Expenditures for \"On Behalf\" Payments 2",4180,{"$f":"'AFR19'!B4077","v":5909326256.7989998},{"$f":"'AFR19'!B4078","v":7090148},{"$f":"'AFR19'!B4121","v":0},{"$f":"'AFR19'!B4079","v":2379},{"$f":"'AFR19'!B4122","v":0},{"$f":"'AFR19'!B4080","v":688465},null,{"$f":"'AFR19'!B6174","v":9680603},{"$f":"'AFR19'!B4081","v":0}]
["Total Disbursements/Expenditures",null,{"$f":"SUM(C17:C18)","v":28354916046.728996},2339447675.4000001,2676022720.6999998,1252041017.26,620058196.21000016,2016844332.8,null,{"$f":"SUM(J17:J18)","v":390089706},{"$f":"SUM(K17:K18)","v":177313114.81999999}]
["Excess of Direct Receipts/Revenues Over (Under) Direct Disbursements/Expenditures  3",null,{"$f":"C8-C17","v":881916175.58000565},{"$f":"D8-D17","v":88869472.800000191},-512158296.27999973,71346042.75,29511296.649999857,-1733870209.6199999,116633339.30000001,10032750.189999998,-116114050.75999999]
["OTHER SOURCES/USES OF FUNDS"]
["OTHER SOURCES OF FUNDS  (7000)"]
["PERMANENT TRANSFER FROM VARIOUS FUNDS"]
["Abolishment of Working Cash Fund",7110,{"$f":"'AFR19'!B266","v":7501035}]
["Abatement of Working Cash Fund",null,{"$f":"'AFR19'!B7694","v":48227005},{"$f":"'AFR19'!B7695","v":158953848},{"$f":"'AFR19'!B7696","v":4082213},{"$f":"'AFR19'!B7697","v":10639900},{"$f":"'AFR19'!B7698","v":155000},{"$f":"'AFR19'!B7699","v":128248065},null,{"$f":"'AFR19'!B7700","v":1515886},{"$f":"'AFR19'!B7701","v":1128845}]
["Transfer of Working Cash Fund Interest",7120,{"$f":"'AFR19'!B267","v":2293697},{"$f":"'AFR19'!B378","v":11364184},{"$f":"'AFR19'!B3436","v":1758976},{"$f":"'AFR19'!B2708","v":71759},{"$f":"'AFR19'!B3438","v":36000},{"$f":"'AFR19'!B3439","v":5098843},null,{"$f":"'AFR19'!B6177","v":0},{"$f":"'AFR19'!B3523","v":55484}]
["Transfer Among Funds",7130,{"$f":"'AFR19'!B4958","v":14192473},{"$f":"'AFR19'!B4959","v":148475419},null,{"$f":"'AFR19'!B4960","v":971571}]
["Transfer of Interest",7140,{"$f":"'AFR19'!B2703","v":1765232},{"$f":"'AFR19'!B2704","v":3126148},{"$f":"'AFR19'!B2706","v":4952699},{"$f":"'AFR19'!B2709","v":0},{"$f":"'AFR19'!B2712","v":19616},{"$f":"'AFR19'!B2715","v":16441361},{"$f":"'AFR19'!B2718","v":36743},{"$f":"'AFR19'!B6178","v":0},{"$f":"'AFR19'!B3524","v":433}]
["Transfer from Capital Project Fund to O&M Fund",7150,null,{"$f":"'AFR19'!B3107","v":1459218}]
["Transfer of Excess Fire Prevention & Safety Tax and Interest Proceeds to Debt Service Fund 4",7160,null,{"$f":"'AFR19'!B3644","v":2867664}]
["Transfer to Excess Fire Prevention & Safety Bond and Interest Proceeds to Debt Service Fund 4 ",7170,null,null,{"$f":"'AFR19'!B3645","v":207620}]
["SALE OF BONDS (7200)"]
["Principal on Bonds Sold",7210,{"$f":"'AFR19'!B269","v":11031585},{"$f":"'AFR19'!B3024","v":5395804},{"$f":"'AFR19'!B3028","v":1076642900},{"$f":"'AFR19'!B3029","v":5560187},null,{"$f":"'AFR19'!B564","v":1085640613},{"$f":"'AFR19'!B597","v":334555301},{"$f":"'AFR19'!B6179","v":664520},{"$f":"'AFR19'!B3525","v":118751902}]
["Premium on Bonds Sold",7220,{"$f":"'AFR19'!B270","v":32500},{"$f":"'AFR19'!B3025","v":0},{"$f":"'AFR19'!B446","v":58419339},{"$f":"'AFR19'!B3030","v":0},null,{"$f":"'AFR19'!B565","v":47200028},{"$f":"'AFR19'!B598","v":10007002},{"$f":"'AFR19'!B6180","v":82110},{"$f":"'AFR19'!B3526","v":5943882}]
["Accrued Interest on Bonds Sold",7230,{"$f":"'AFR19'!B271","v":0},{"$f":"'AFR19'!B3026","v":0},{"$f":"'AFR19'!B447","v":717426},{"$f":"'AFR19'!B3031","v":0},null,{"$f":"'AFR19'!B566","v":3800},{"$f":"'AFR19'!B599","v":0},{"$f":"'AFR19'!B6181","v":0},{"$f":"'AFR19'!B3527","v":0}]
["Sale or Compensation for Fixed Assets 5",7300,{"$f":"'AFR19'!B3476","v":2001715},{"$f":"'AFR19'!B3477","v":1415948},{"$f":"'AFR19'!B4163","v":0},{"$f":"'AFR19'!B3478","v":2968883},{"$f":"'AFR19'!B3479","v":0},{"$f":"'AFR19'!B3480","v":5908737},null,{"$f":"'AFR19'!B6182","v":55121},{"$f":"'AFR19'!B3528","v":0}]
["Transfer to Debt Service to Pay Principal on Capital Leases",7400,null,null,{"$f":"SUM(C54:D57,H54:H57)","v":50793945}]
["Transfer to Debt Service to Pay Interest on Capital Leases",7500,null,null,{"$f":"SUM(C58:D61,H58:H61)","v":4418122}]
["Transfer to Debt Service to Pay Principal on Revenue Bonds",7600,null,null,{"$f":"SUM(C62:D65)","v":44525880}]
["Transfer to Debt Service Fund to Pay Interest on Revenue Bonds",7700,null,null,{"$f":"SUM(C66:D69)","v":15083785}]
["Transfer to Capital Projects Fund",7800,null,null,null,null,null,{"$f":"SUM(C70:D73)","v":411872758}]
["ISBE Loan Proceeds",7900,{"$f":"'AFR19'!B6236","v":442300},{"$f":"'AFR19'!B6237","v":0},{"$f":"'AFR19'!B6238","v":1040855},{"$f":"'AFR19'!B6239","v":0},{"$f":"'AFR19'!B6240","v":0},{"$f":"'AFR19'!B6241","v":14000000},null,null,{"$f":"'AFR19'!B6242","v":0}]
["Other Sources Not Classified Elsewhere",7990,{"$f":"'AFR19'!B3174","v":45270963},{"$f":"'AFR19'!B3180","v":18141105},{"$f":"'AFR19'!B3219","v":63546461},{"$f":"'AFR19'!B3197","v":13179821},{"$f":"'AFR19'!B3203","v":0},{"$f":"'AFR19'!B3241","v":44582043},{"$f":"'AFR19'!B3262","v":841232},{"$f":"'AFR19'!B6183","v":27981},{"$f":"'AFR19'!B3529","v":68}]
["Total Other Sources of Funds",null,{"$f":"SUM(C24:C43)","v":132758505},351199338,1326190221,33392121,210616,1758996248,345440278,2345618,125880614]
["OTHER USES OF FUNDS (8000)"]
["PERMANENT TRANSFER TO VARIOUS OTHER FUNDS (8100)"]
["Abolishment or Abatement of the Working Cash Fund",8110,null,null,null,null,null,null,{"$f":"SUM(C24,C25:H25,J25:K25)","v":360451797}]
["Transfer of Working Cash Fund Interest",8120,null,null,null,null,null,null,{"$f":"SUM(C26:H26,J26,K26)","v":20678943}]
["Transfer Among Funds",8130,{"$f":"'AFR19'!B4968","v":117798509},{"$f":"'AFR19'!B4969","v":5562446},null,{"$f":"'AFR19'!B4970","v":40378508}]
["Transfer of Interest",8140,{"$f":"'AFR19'!B2740","v":10776640},{"$f":"'AFR19'!B2752","v":11478151},{"$f":"'AFR19'!B2763","v":1911909},{"$f":"'AFR19'!B2786","v":171779},{"$f":"'AFR19'!B3205","v":11374},{"$f":"'AFR19'!B2794","v":1181515},null,{"$f":"'AFR19'!B6185","v":810864}]
["Transfer from Capital Project Fund to O&M Fund",8150,null,null,null,null,null,{"$f":"D29","v":1459218}]
["Transfer of Excess Fire Prevention & Safety Tax & Interest Proceeds to O&M Fund",8160,null,null,null,null,null,null,null,null,{"$f":"D30","v":2867664}]
["Transfer of Excess Fire Prevention & Safety Bond and Interest Proceeds to Debt Service Fund",8170,null,null,null,null,null,null,null,null,{"$f":"E31","v":207620}]
["Taxes Pledged to pay Prinicipal on Capital Leases",8410,{"$f":"'AFR19'!B6186","v":9921016},{"$f":"'AFR19'!B6187","v":2339864},null,null,null,{"$f":"'AFR19'!B6188","v":2179147}]
["Grants/Reimbursements Pledged to Pay Principal on Capital Leases",8420,{"$f":"'AFR19'!B7597","v":519015},{"$f":"'AFR19'!B7598","v":0},null,null,null,{"$f":"'AFR19'!B7599","v":0}]
["Other Revenues Pledged to Pay Principal on Capital Leases",8430,{"$f":"'AFR19'!B7600","v":8411284},{"$f":"'AFR19'!B7601","v":1933794},null,null,null,{"$f":"'AFR19'!B7602","v":111933}]
["Fund Balances Transfers Pledged to Pay Principal on Capital Leases",8440,{"$f":"'AFR19'!B7603","v":20275333},{"$f":"'AFR19'!B7604","v":4472277},null,null,null,{"$f":"'AFR19'!B7605","v":630282}]
["Taxes Pledged to Pay Interest on Capital Leases",8510,{"$f":"'AFR19'!B6189","v":949288},{"$f":"'AFR19'!B6190","v":335857},null,null,null,{"$f":"'AFR19'!B6191","v":560764}]
["Grants/Reimbursements Pledged to Pay Interest on Capital Leases",8520,{"$f":"'AFR19'!B7606","v":108546},{"$f":"'AFR19'!B7607","v":0},null,null,null,{"$f":"'AFR19'!B7608","v":0}]
["Other Revenues Pledged to Pay Interest on Capital Leases",8530,{"$f":"'AFR19'!B7609","v":425347},{"$f":"'AFR19'!B7610","v":464224},null,null,null,{"$f":"'AFR19'!B7611","v":18067}]
["Fund Balances Transfers Pledged to Pay Interest on Capital Leases",8540,{"$f":"'AFR19'!B7612","v":885616},{"$f":"'AFR19'!B7613","v":653295},null,null,null,{"$f":"'AFR19'!B7614","v":17118}]
["Taxes Pledged to Pay Prinicipal on Revenue Bonds",8610,{"$f":"'AFR19'!B6192","v":983347},{"$f":"'AFR19'!B6193","v":1437670}]
["Grants/Reimbursements Pledged to Pay Principal on Revenue Bonds",8620,{"$f":"'AFR19'!B7615","v":820000},{"$f":"'AFR19'!B7616","v":70000}]
["Other Revenues Pledged to Pay Principal on Revenue Bonds",8630,{"$f":"'AFR19'!B7617","v":2801120},{"$f":"'AFR19'!B7618","v":3770586}]
["Fund Balance Transfers Pledged to Pay Principal on Revenue Bonds",8640,{"$f":"'AFR19'!B7619","v":11789305},{"$f":"'AFR19'!B7620","v":22853852}]
["Taxes Pledged to Pay Interest on Revenue Bonds",8710,{"$f":"'AFR19'!B6194","v":4838},{"$f":"'AFR19'!B6195","v":494211}]
["Grants/Reimbursements Pledged to Pay Interest on Revenue Bonds",8720,{"$f":"'AFR19'!B7621","v":887375},{"$f":"'AFR19'!B7622","v":371800}]
["Other Revenues Pledged to Pay Interest on Revenue Bonds",8730,{"$f":"'AFR19'!B7623","v":463920},{"$f":"'AFR19'!B7624","v":2369829}]
["Fund Balance Transfers Pledged to Pay Interest on Revenue Bonds",8740,{"$f":"'AFR19'!B7625","v":3042976},{"$f":"'AFR19'!B7626","v":7448836}]
["Taxes Transferred to Pay for Capital Projects",8810,{"$f":"'AFR19'!B6196","v":280000},{"$f":"'AFR19'!B6197","v":20400000}]
["Grants/Reimbursements Pledged to Pay for Capital Projects",8820,{"$f":"'AFR19'!B7627","v":0},{"$f":"'AFR19'!B7628","v":0}]
["Other Revenues Pledged for Capital Projects",8830,{"$f":"'AFR19'!B7629","v":32407815},{"$f":"'AFR19'!B7630","v":3392915}]
["Fund Balance Transfers Pledged to Pay for Capital Projects",8840,{"$f":"'AFR19'!B7631","v":87653246},{"$f":"'AFR19'!B7632","v":267738782}]
["Transfer to Debt Service Fund to Pay Principal on ISBE Loans",8910,{"$f":"'AFR19'!B6198","v":1029916},{"$f":"'AFR19'!B6199","v":14411},null,{"$f":"'AFR19'!B6200","v":0},{"$f":"'AFR19'!B6201","v":0},{"$f":"'AFR19'!B6202","v":0},null,null,{"$f":"'AFR19'!B6203","v":0}]
["Other Uses Not Classified Elsewhere",8990,{"$f":"'AFR19'!B3176","v":53222162},{"$f":"'AFR19'!B3182","v":67726860},{"$f":"'AFR19'!B3221","v":841958238},{"$f":"'AFR19'!B3199","v":2548836},{"$f":"'AFR19'!B6204","v":8350},{"$f":"'AFR19'!B3243","v":45519466},{"$f":"'AFR19'!B6205","v":18478227},{"$f":"'AFR19'!B6206","v":4868422},{"$f":"'AFR19'!B3531","v":1403076}]
["Total Other Uses of Funds",null,{"$f":"SUM(C47:C75)","v":365456614},{"$f":"SUM(D47:D75)","v":425329660},843870147,43099123,19724,51677510,399608967,5679286,4478360]
["Total Other Sources/Uses of Funds 6",null,{"$f":"(C44-C76)","v":-232698109},{"$f":"(D44-D76)","v":-74130322},482320074,-9707002,190892,1707318738,-54168689,-3333668,121402254]
["Excess of Receipts/Revenues and Other Sources of Funds (Over/Under) Expenditures/Disbursements and Other Uses of Funds",null,{"$f":"SUM(C20+C77)","v":649218066.58000565},{"$f":"SUM(D20+D77)","v":14739150.800000191},{"$f":"SUM(E20+E77)","v":-29838222.279999733},61639040.75,29702188.649999857,-26551471.619999886,62464650.300000012,6699082.1899999976,5288203.2400000095]
["Fund Balances - July 1, 2018",null,{"$f":"'AFR19'!B1563","v":7507102781},{"$f":"'AFR19'!B1577","v":1362190051},{"$f":"'AFR19'!B1591","v":1653172007},{"$f":"'AFR19'!B1605","v":859943832},{"$f":"'AFR19'!B1619","v":467499740},{"$f":"'AFR19'!B1633","v":2453580822},{"$f":"'AFR19'!B3267","v":2257079613},{"$f":"'AFR19'!B6210","v":222119291},{"$f":"'AFR19'!B3535","v":319204097}]
["Other Changes in Fund Balances - Increases (Decreases)                                   (Describe & Itemize)",null,{"$f":"'AFR19'!B2509","v":15690188},{"$f":"'AFR19'!B2521","v":1340324},{"$f":"'AFR19'!B2583","v":2061481},{"$f":"'AFR19'!B2548","v":514559},{"$f":"'AFR19'!B2560","v":466719},{"$f":"'AFR19'!B2609","v":371298},{"$f":"'AFR19'!B3268","v":-69561},{"$f":"'AFR19'!B6211","v":-14673},{"$f":"'AFR19'!B3536","v":-691490}]
["Fund Balances - June 30, 2019",null,{"$f":"SUM(C78:C80)","v":8172011035.5800056},{"$f":"SUM(D78:D80)","v":1378269525.8000002},1625395265.7200003,922097431.75,497668647.64999986,2427400648.3800001,2319474702.3000002,228803700.19,323800810.24000001]

{"sheet":"Revenues 9-14","index":4,"n_rows":268,"n_cols":11,"rows_kept":268,"cut":false,"hidden":false,"merged":[[168,0,168,1],[171,0,171,1],[109,0,109,1],[265,0,265,1],[181,0,181,1],[174,0,174,1],[180,0,180,1],[175,0,175,1],[114,0,114,1],[170,0,170,1]]}
[null,null,"(10)","(20)","(30)","(40)","(50)","(60)","(70)","(80)","(90)"]
["Description","Acct #","Educational","Operations & Maintenance","Debt Services","Transportation","Municipal Retirement/ Social Security","Capital Projects","Working Cash","Tort","Fire Prevention & Safety"]
["RECEIPTS/REVENUES FROM LOCAL SOURCES (1000)"]
["AD VALOREM TAXES LEVIED BY LOCAL EDUCATION AGENCY"]
["Designated Purposes Levies 7",null,{"$f":"'AFR19'!B5007","v":12531819350.49},{"$f":"'AFR19'!B5274","v":1556317301.21},{"$f":"'AFR19'!B5455","v":1534413665.21},{"$f":"'AFR19'!B5499","v":576586162.95999992},{"$f":"'AFR19'!B5667","v":266985769.53},{"$f":"'AFR19'!B5817","v":11120377},{"$f":"'AFR19'!B5862","v":67098363.219999999},{"$f":"'AFR19'!B6244","v":375678196.57999998},{"$f":"'AFR19'!B5931","v":54460270.079999998}]
["Leasing Purposes Levy 8    ",1130,{"$f":"'AFR19'!B4972","v":27652032},{"$f":"'AFR19'!B5276","v":6497152}]
["Special Education Purposes Levy",1140,{"$f":"'AFR19'!B5009","v":494294442.75},{"$f":"'AFR19'!B5277","v":98212},null,{"$f":"'AFR19'!B5501","v":0},{"$f":"'AFR19'!B5668","v":1199757},{"$f":"'AFR19'!B6245","v":0}]
["FICA/Medicare Only Purposes Levies",1150,null,null,null,null,{"$f":"'AFR19'!B5669","v":301792612.81999999}]
["Area Vocational Construction Purposes Levy",1160,null,{"$f":"'AFR19'!B5278","v":0},{"$f":"'AFR19'!B5457","v":0},null,null,{"$f":"'AFR19'!B6989","v":0}]
["Summer School Purposes Levy ",1170,{"$f":"'AFR19'!B5010","v":0}]
["Other Tax Levies (Describe & Itemize)",1190,{"$f":"'AFR19'!B5011","v":172573},{"$f":"'AFR19'!B5279","v":2623666},{"$f":"'AFR19'!B5458","v":3444039},{"$f":"'AFR19'!B5502","v":2084860},{"$f":"'AFR19'!B5670","v":1465901},{"$f":"'AFR19'!B5818","v":7000},{"$f":"'AFR19'!B5863","v":206137},{"$f":"'AFR19'!B6246","v":290592},{"$f":"'AFR19'!B5932","v":451041}]
["Total Ad Valorem Taxes Levied By District",null,{"$f":"SUM(C5:C11)","v":13053938398.24},{"$f":"SUM(D5:D11)","v":1565536331.21},1537857704.21,578671022.95999992,571444040.35000002,11127377,67304500.219999999,375968788.57999998,54911311.079999998]
["PAYMENTS IN LIEU OF TAXES"]
["Mobile Home Privilege Tax",1210,{"$f":"'AFR19'!B5013","v":1296094.98},{"$f":"'AFR19'!B5281","v":213309.45},{"$f":"'AFR19'!B5460","v":263171.83999999997},{"$f":"'AFR19'!B5504","v":85945.96},{"$f":"'AFR19'!B5672","v":116243.11},{"$f":"'AFR19'!B5820","v":0},{"$f":"'AFR19'!B5865","v":15292.75},{"$f":"'AFR19'!B6248","v":117237.5},{"$f":"'AFR19'!B5934","v":17548.75}]
["Payments from Local Housing Authorities",1220,{"$f":"'AFR19'!B5014","v":547369},{"$f":"'AFR19'!B5282","v":44643},{"$f":"'AFR19'!B5461","v":70657},{"$f":"'AFR19'!B5505","v":16015},{"$f":"'AFR19'!B5673","v":28681},{"$f":"'AFR19'!B5821","v":0},{"$f":"'AFR19'!B5866","v":3308},{"$f":"'AFR19'!B6249","v":25095},{"$f":"'AFR19'!B5935","v":2620}]
["Corporate Personal Property Replacement Taxes 9",1230,{"$f":"'AFR19'!B5015","v":493272836.45999998},{"$f":"'AFR19'!B5283","v":98454852},{"$f":"'AFR19'!B5462","v":36627716},{"$f":"'AFR19'!B5506","v":8510339},{"$f":"'AFR19'!B5674","v":52453106.850000001},{"$f":"'AFR19'!B5822","v":6187848},{"$f":"'AFR19'!B5867","v":2698561},{"$f":"'AFR19'!B6250","v":2019464},{"$f":"'AFR19'!B5936","v":27}]
["Other Payments in Lieu of Taxes (Describe & Itemize)",1290,{"$f":"'AFR19'!B5016","v":10258939},{"$f":"'AFR19'!B5284","v":1368360},{"$f":"'AFR19'!B5463","v":581544},{"$f":"'AFR19'!B5507","v":33632},{"$f":"'AFR19'!B5675","v":117348},{"$f":"'AFR19'!B5823","v":4890221},{"$f":"'AFR19'!B5868","v":5188},{"$f":"'AFR19'!B6251","v":22344},{"$f":"'AFR19'!B5937","v":39673}]
["Total Payments in Lieu of Taxes ",null,{"$f":"SUM(C14:C17)","v":505375239.44},{"$f":"SUM(D14:D17)","v":100081164.45},37543088.840000004,8645931.9600000009,52715378.960000001,11078069,2722349.75,2184140.5,59868.75]
["Tuition"]
["Regular - Tuition from Pupils or Parents (In State)",1311,{"$f":"'AFR19'!B5018","v":17387807.25}]
["Regular - Tuition from Other Districts (In State)",1312,{"$f":"'AFR19'!B5019","v":4125458.77}]
["Regular - Tuition from Other Sources (In State)",1313,{"$f":"'AFR19'!B5020","v":3181105}]
["Regular - Tuition from Other Sources (Out of State)",1314,{"$f":"'AFR19'!B6253","v":498250}]
["Summer Sch - Tuition from Pupils or Parents (In State)",1321,{"$f":"'AFR19'!B5021","v":15675352}]
["Summer Sch - Tuition from Other Districts (In State)",1322,{"$f":"'AFR19'!B5022","v":406380}]
["Summer Sch - Tuition from Other Sources (In State)",1323,{"$f":"'AFR19'!B5023","v":641917}]
["Summer Sch - Tuition from Other Sources (Out of State)",1324,{"$f":"'AFR19'!B6254","v":0}]
["CTE - Tuition from Pupils or Parents (In State)",1331,{"$f":"'AFR19'!B5024","v":109331}]
["CTE - Tuition from Other Districts (In State)",1332,{"$f":"'AFR19'!B5025","v":184573}]
["CTE - Tuition from Other Sources (In State)",1333,{"$f":"'AFR19'!B5026","v":28310}]
["CTE - Tuition from Other Sources (Out of State)",1334,{"$f":"'AFR19'!B6255","v":0}]
["Special Ed - Tuition from Pupils or Parents (In State)",1341,{"$f":"'AFR19'!B5027","v":3814207}]
["Special Ed - Tuition from Other Districts (In State)",1342,{"$f":"'AFR19'!B5028","v":23435605}]
["Special Ed - Tuition from Other Sources (In State)",1343,{"$f":"'AFR19'!B5029","v":979455}]
["Special Ed - Tuition from Other Sources (Out of State)",1344,{"$f":"'AFR19'!B6256","v":101760}]
["Adult - Tuition from Pupils or Parents (In State)",1351,{"$f":"'AFR19'!B5030","v":3367476}]
["Adult - Tuition from Other Districts (In State)",1352,{"$f":"'AFR19'!B5031","v":0}]
["Adult - Tuition from Other Sources (In State)",1353,{"$f":"'AFR19'!B5032","v":525310}]
["Adult - Tuition from Other Sources (Out of State)",1354,{"$f":"'AFR19'!B6257","v":295564}]
["Total Tuition",null,{"$f":"SUM(C20:C39)","v":74757861.019999996}]
["TRANSPORTATION FEES"]
["Regular -Transp Fees from Pupils or Parents (In State)",1411,null,null,null,{"$f":"'AFR19'!B5509","v":7064759}]
["Regular - Transp Fees from Other Districts (In State)",1412,null,null,null,{"$f":"'AFR19'!B5510","v":15713989}]
["Regular - Transp Fees from Other Sources (In State)",1413,null,null,null,{"$f":"'AFR19'!B5511","v":1514448}]
["Regular - Transp Fees from Co-curricular Activities (In State)",1415,null,null,null,{"$f":"'AFR19'!B5512","v":5432092}]
["Regular Transp Fees from Other Sources (Out of State)",1416,null,null,null,{"$f":"'AFR19'!B6258","v":39257}]
["Summer Sch - Transp. Fees from Pupils or Parents (In State)",1421,null,null,null,{"$f":"'AFR19'!B5513","v":271078}]
["Summer Sch - Transp. Fees from Other Districts (In State)",1422,null,null,null,{"$f":"'AFR19'!B5514","v":0}]
["Summer Sch - Transp. Fees from Other Sources (In State)",1423,null,null,null,{"$f":"'AFR19'!B5515","v":0}]
["Summer Sch - Transp. Fees from Other Sources (Out of State)",1424,null,null,null,{"$f":"'AFR19'!B6259","v":0}]
["CTE - Transp Fees from Pupils or Parents (In State)",1431,null,null,null,{"$f":"'AFR19'!B5516","v":76413}]
["CTE - Transp Fees from Other Districts (In State)",1432,null,null,null,{"$f":"'AFR19'!B5517","v":17358}]
["CTE - Transp Fees from Other Sources (In State)",1433,null,null,null,{"$f":"'AFR19'!B5518","v":100}]
["CTE - Transp Fees from Other Sources (Out of State)",1434,null,null,null,{"$f":"'AFR19'!B6260","v":0}]
["Special Ed - Transp Fees from Pupils or Parents (In State)",1441,null,null,null,{"$f":"'AFR19'!B5519","v":27846}]
["Special Ed - Transp Fees from Other Districts (In State)",1442,null,null,null,{"$f":"'AFR19'!B5520","v":5026824}]
["Special Ed - Transp Fees from Other Sources (In State)",1443,null,null,null,{"$f":"'AFR19'!B5521","v":159020}]
["Special Ed - Transp Fees from Other Sources (Out of State)",1444,null,null,null,{"$f":"'AFR19'!B7710","v":0}]
["Adult - Transp Fees from Pupils or Parents (In State)",1451,null,null,null,{"$f":"'AFR19'!B5522","v":1851}]
["Adult - Transp Fees from Other Districts (In State)",1452,null,null,null,{"$f":"'AFR19'!B5523","v":0}]
["Adult - Transp Fees from Other Sources (In State)",1453,null,null,null,{"$f":"'AFR19'!B5524","v":26081}]
["Adult - Transp Fees from Other Sources (Out of State)",1454,null,null,null,{"$f":"'AFR19'!B6261","v":564}]
["Total Transportation Fees",null,null,null,null,{"$f":"SUM(F42:F62)","v":35371680}]
["EARNINGS ON INVESTMENTS",1500]
["Interest on Investments",1510,{"$f":"'AFR19'!B5034","v":184201922.53},{"$f":"'AFR19'!B5286","v":25219471.140000001},{"$f":"'AFR19'!B5465","v":18293645.369999997},{"$f":"'AFR19'!B5526","v":14710130.07},{"$f":"'AFR19'!B5677","v":9283025.5499999989},{"$f":"'AFR19'!B5825","v":29508700.18},{"$f":"'AFR19'!B5870","v":45135616.330000006},{"$f":"'AFR19'!B6262","v":3884726.11},{"$f":"'AFR19'!B5939","v":4742369.2300000004}]
["Gain or Loss on Sale of Investments",1520,{"$f":"'AFR19'!B5035","v":3828546},{"$f":"'AFR19'!B5287","v":330146},{"$f":"'AFR19'!B5466","v":22723065},{"$f":"'AFR19'!B5527","v":265030},{"$f":"'AFR19'!B5678","v":206999},{"$f":"'AFR19'!B5826","v":15764954},{"$f":"'AFR19'!B5871","v":1302368},{"$f":"'AFR19'!B6263","v":121963},{"$f":"'AFR19'!B5940","v":186888}]
["Total Earnings on Investments",null,{"$f":"SUM(C65:C66)","v":188030468.53},{"$f":"SUM(D65:D66)","v":25549617.140000001},41016710.369999997,14975160.07,9490024.5499999989,45273654.18,46437984.330000006,4006689.11,4929257.2300000004]
["FOOD SERVICE",1600]
["Sales to Pupils - Lunch",1611,{"$f":"'AFR19'!B5977","v":136407055.81999999}]
["Sales to Pupils - Breakfast",1612,{"$f":"'AFR19'!B5037","v":3005808}]
["Sales to Pupils - A la Carte",1613,{"$f":"'AFR19'!B5038","v":35821123}]
["Sales to Pupils - Other (Describe & Itemize)",1614,{"$f":"'AFR19'!B5039","v":8009149}]
["Sales to Adults",1620,{"$f":"'AFR19'!B5040","v":4574024.45}]
["Other Food Service (Describe & Itemize)",1690,{"$f":"'AFR19'!B5041","v":16173369}]
["Total Food Service",null,{"$f":"SUM(C69:C74)","v":203990529.26999998}]
["DISTRICT/SCHOOL ACTIVITY INCOME",1700]
["Admissions - Athletic",1711,{"$f":"'AFR19'!B5043","v":22158977.66},{"$f":"'AFR19'!B5289","v":2800}]
["Admissions - Other (Describe & Itemize)",1719,{"$f":"'AFR19'!B5044","v":3443734},{"$f":"'AFR19'!B5290","v":298995}]
["Fees",1720,{"$f":"'AFR19'!B5045","v":69869995},{"$f":"'AFR19'!B5291","v":2190810}]
["Book Store Sales",1730,{"$f":"'AFR19'!B5046","v":5274796},{"$f":"'AFR19'!B5292","v":6633}]
["Other District/School Activity Revenue (Describe & Itemize)",1790,{"$f":"'AFR19'!B5047","v":18703708.920000002},{"$f":"'AFR19'!B5293","v":451565}]
["Total District/School Activity Income",null,{"$f":"SUM(C77:C81)","v":119451211.58},{"$f":"SUM(D77:D81)","v":2950803}]
["TEXTBOOK INCOME",1800]
["Rentals - Regular Textbooks",1811,{"$f":"'AFR19'!B5049","v":101696669}]
["Rentals - Summer School Textbooks",1812,{"$f":"'AFR19'!B5050","v":828478}]
["Rentals - Adult/Continuing Education Textbooks",1813,{"$f":"'AFR19'!B5051","v":626895}]
["Rentals - Other (Describe & Itemize)",1819,{"$f":"'AFR19'!B5052","v":2327450}]
["Sales - Regular Textbooks",1821,{"$f":"'AFR19'!B5053","v":1924657}]
["Sales - Summer School Textbooks",1822,{"$f":"'AFR19'!B5054","v":109731}]
["Sales - Adult/Continuing Education Textbooks",1823,{"$f":"'AFR19'!B5055","v":30740}]
["Sales - Other (Describe & Itemize)",1829,{"$f":"'AFR19'!B5056","v":888402}]
["Other (Describe & Itemize)",1890,{"$f":"'AFR19'!B5057","v":2465653}," "]
["Total Textbook Income",null,{"$f":"SUM(C84:C92)","v":110898675}]
["OTHER REVENUE FROM LOCAL SOURCES",1900]
["Rentals",1910,{"$f":"'AFR19'!B5059","v":12159872},{"$f":"'AFR19'!B5295","v":31196543}]
["Contributions and Donations from Private Sources",1920,{"$f":"'AFR19'!B5060","v":22907366.890000001},{"$f":"'AFR19'!B5296","v":5391511},{"$f":"'AFR19'!B5468","v":1820000},{"$f":"'AFR19'!B5529","v":183839},{"$f":"'AFR19'!B5680","v":16949},{"$f":"'AFR19'!B5828","v":9046649},{"$f":"'AFR19'!B5873","v":60000},{"$f":"'AFR19'!B6265","v":107771},{"$f":"'AFR19'!B5942","v":0}]
["Impact Fees from Municipal or County Governments",1930,{"$f":"'AFR19'!B6266","v":1934487},{"$f":"'AFR19'!B6267","v":2246231},{"$f":"'AFR19'!B6268","v":533360},{"$f":"'AFR19'!B6269","v":0},{"$f":"'AFR19'!B6270","v":3384},{"$f":"'AFR19'!B6271","v":7567494},{"$f":"'AFR19'!B6272","v":0},{"$f":"'AFR19'!B6273","v":0},{"$f":"'AFR19'!B6274","v":0}]
["Services Provided Other Districts",1940,{"$f":"'AFR19'!B5061","v":12048806},{"$f":"'AFR19'!B5297","v":1061878},null,{"$f":"'AFR19'!B5530","v":621998}]
["Refund of Prior Years' Expenditures",1950,{"$f":"'AFR19'!B5062","v":30773615},{"$f":"'AFR19'!B5298","v":4050055},{"$f":"'AFR19'!B5469","v":902331},{"$f":"'AFR19'!B5531","v":1660102},{"$f":"'AFR19'!B5681","v":172385},{"$f":"'AFR19'!B5829","v":1011556},null,{"$f":"'AFR19'!B6275","v":1424232},{"$f":"'AFR19'!B5943","v":5250}]
["Payments of Surplus Moneys from TIF Districts",1960,{"$f":"'AFR19'!B6276","v":138197191},{"$f":"'AFR19'!B6277","v":10230092},{"$f":"'AFR19'!B6278","v":6492504},{"$f":"'AFR19'!B6279","v":195681},{"$f":"'AFR19'!B6280","v":223746},{"$f":"'AFR19'!B6281","v":9338240},{"$f":"'AFR19'!B6282","v":105875},{"$f":"'AFR19'!B6283","v":193940},{"$f":"'AFR19'!B6284","v":45051}]
["Drivers' Education Fees",1970,{"$f":"'AFR19'!B6285","v":8587032}]
["Proceeds from Vendors' Contracts",1980,{"$f":"'AFR19'!B6286","v":2379127},{"$f":"'AFR19'!B6287","v":712732},{"$f":"'AFR19'!B6288","v":0},{"$f":"'AFR19'!B6289","v":0},{"$f":"'AFR19'!B6290","v":0},{"$f":"'AFR19'!B6291","v":230832},{"$f":"'AFR19'!B6292","v":0},{"$f":"'AFR19'!B6293","v":0},{"$f":"'AFR19'!B6294","v":0}]
["School Facility Occupation Tax Proceeds",1983,null,null,{"$f":"'AFR19'!B7674","v":42269835},null,null,{"$f":"'AFR19'!B7677","v":82634273}]
["Payment from Other Districts",1991,{"$f":"'AFR19'!B4707","v":4917066},{"$f":"'AFR19'!B5299","v":902150},{"$f":"'AFR19'!B5470","v":872981},{"$f":"'AFR19'!B4973","v":1636186},{"$f":"'AFR19'!B6295","v":276887},{"$f":"'AFR19'!B5830","v":748624}]
["Sale of Vocational Projects",1992,{"$f":"'AFR19'!B5063","v":1971788}]
["Other Local Fees",1993,{"$f":"'AFR19'!B5064","v":65193454},{"$f":"'AFR19'!B6990","v":9375241},{"$f":"'AFR19'!B6991","v":6534822},{"$f":"'AFR19'!B6992","v":132003},{"$f":"'AFR19'!B7582","v":30852},{"$f":"'AFR19'!B7583","v":1640763},null,{"$f":"'AFR19'!B7584","v":0},{"$f":"'AFR19'!B7585","v":0}]
["Other Local Revenues (Describe & Itemize)",1999,{"$f":"'AFR19'!B5065","v":197387643.22999999},{"$f":"'AFR19'!B5300","v":29718396},{"$f":"'AFR19'!B5471","v":125318073},{"$f":"'AFR19'!B5532","v":4646280},{"$f":"'AFR19'!B5682","v":958901},{"$f":"'AFR19'!B5831","v":43967504},{"$f":"'AFR19'!B5875","v":2630},{"$f":"'AFR19'!B6296","v":1434640},{"$f":"'AFR19'!B5944","v":569735}]
["Total Other Revenue from Local Sources",null,{"$f":"SUM(C95:C107)","v":498457448.12},{"$f":"SUM(D95:D107)","v":94884829},{"$f":"SUM(E95:E107)","v":184743906},9076089,1683104,156185935,168505,3160583,620036]
["Total Receipts/Revenues from Local Sources","1000",{"$f":"SUM(C12,C18,C40,C63,C67,C75,C82,C93,C108)","v":14754899831.200003},1789002744.8000002,1801161409.4199998,646739883.99000001,635332547.86000001,223665035.18000001,116633339.30000001,385320201.19,60520473.060000002]
["FLOW-THROUGH RECEIPTS/REVENUES                                                               FROM ONE DISTRICT TO ANOTHER DISTRICT (2000)"]
["Flow-through Revenue from State Sources",2100,{"$f":"'AFR19'!B5068","v":8365945},{"$f":"'AFR19'!B5303","v":121265},null,{"$f":"'AFR19'!B5535","v":61292},{"$f":"'AFR19'!B5684","v":0}]
["Flow-through Revenue from Federal Sources",2200,{"$f":"'AFR19'!B5069","v":1883563},{"$f":"'AFR19'!B5304","v":0},null,{"$f":"'AFR19'!B5536","v":79868},{"$f":"'AFR19'!B5685","v":0}]
["Other Flow-Through (Describe & Itemize)",2300,{"$f":"'AFR19'!B5070","v":26915},{"$f":"'AFR19'!B5305","v":389222},null,{"$f":"'AFR19'!B5537","v":0},{"$f":"'AFR19'!B5686","v":0}]
["Total Flow-Through Receipts/Revenues from One District to Another District","2000",{"$f":"SUM(C111:C113)","v":10276423},{"$f":"SUM(D111:D113)","v":510487}," ",{"$f":"SUM(F111:F113)","v":141160},{"$f":"SUM(G111:G113)","v":0}]
["RECEIPTS/REVENUES FROM STATE SOURCES (3000)"]
["UNRESTRICTED GRANTS-IN-AID"]
["Evidence-Based Funding Formula (Section 18-8.15)",3001,{"$f":"'AFR19'!B5072","v":5650443892.8299999},{"$f":"'AFR19'!B5307","v":619402609},{"$f":"'AFR19'!B5474","v":307841182},{"$f":"'AFR19'!B5539","v":42663969},{"$f":"'AFR19'!B5688","v":10326713},{"$f":"'AFR19'!B5833","v":39073428},null,{"$f":"'AFR19'!B6299","v":5074945},{"$f":"'AFR19'!B5946","v":678591}]
["General State Aid - Hold Harmless/Supplemental",3002,{"$f":"'AFR19'!B4820","v":5023846},{"$f":"'AFR19'!B4821","v":647000},{"$f":"'AFR19'!B4822","v":0},{"$f":"'AFR19'!B4823","v":0},{"$f":"'AFR19'!B4824","v":33000},{"$f":"'AFR19'!B4825","v":0},null,{"$f":"'AFR19'!B6300","v":0},{"$f":"'AFR19'!B4827","v":0}]
["Reorganization Incentives (Accounts 3005-3021)",3005,{"$f":"'AFR19'!B5073","v":1598566},{"$f":"'AFR19'!B5308","v":0},{"$f":"'AFR19'!B5475","v":0},{"$f":"'AFR19'!B5540","v":0},{"$f":"'AFR19'!B5689","v":0},{"$f":"'AFR19'!B5834","v":0},null,{"$f":"'AFR19'!B6301","v":0},{"$f":"'AFR19'!B5947","v":0}]
["General State Aid - Fast Growth District Grant",3030,{"$f":"'AFR19'!B7747","v":0},{"$f":"'AFR19'!B7748","v":0},{"$f":"'AFR19'!B7749","v":0},{"$f":"'AFR19'!B7750","v":0},{"$f":"'AFR19'!B7751","v":0},{"$f":"'AFR19'!B7752","v":0},null,{"$f":"'AFR19'!B7753","v":0},{"$f":"'AFR19'!B7754","v":0}]
["Other Unrestricted Grants-In-Aid from State Sources                                             (Describe & Itemize)",3099,{"$f":"'AFR19'!B4828","v":1847135},{"$f":"'AFR19'!B4829","v":194695},{"$f":"'AFR19'!B4830","v":0},{"$f":"'AFR19'!B4831","v":0},{"$f":"'AFR19'!B4832","v":0},{"$f":"'AFR19'!B4833","v":124505},null,{"$f":"'AFR19'!B6302","v":17500},{"$f":"'AFR19'!B4835","v":0}]
["Total Unrestricted Grants-In-Aid",null,{"$f":"SUM(C117:C121)","v":5658913439.8299999},620244304,307841182,42663969,10359713,39197933,null,{"$f":"SUM(J117:J121)","v":5092445},{"$f":"SUM(K117:K121)","v":678591}]
["RESTRICTED GRANTS-IN-AID"]
["SPECIAL EDUCATION"]
["Special Education - Private Facility Tuition",3100,{"$f":"'AFR19'!B5079","v":149431399},null,null,{"$f":"'AFR19'!B5546","v":14331}]
["Special Education - Extraordinary",3105,{"$f":"'AFR19'!B5080","v":384315},null,null,{"$f":"'AFR19'!B5547","v":0}]
["Special Education - Personnel",3110,{"$f":"'AFR19'!B5081","v":843142},{"$f":"'AFR19'!B5314","v":0},null,{"$f":"'AFR19'!B5548","v":61611}]
["Special Education - Orphanage - Individual",3120,{"$f":"'AFR19'!B5083","v":69171748},null,null,{"$f":"'AFR19'!B5550","v":221476}]
["Special Education - Orphanage - Summer ",3130,{"$f":"'AFR19'!B5085","v":3646982},null,null,{"$f":"'AFR19'!B5552","v":4953}]
["Special Education - Summer School",3145,{"$f":"'AFR19'!B5088","v":18346},null,null,{"$f":"'AFR19'!B5555","v":0}]
["Special Education - Other (Describe & Itemize)",3199,{"$f":"'AFR19'!B4255","v":64749},{"$f":"'AFR19'!B4256","v":0},null,{"$f":"'AFR19'!B4257","v":0}]
["Total Special Education",null,{"$f":"SUM(C125:C131)","v":223560681},{"$f":"SUM(D125:D131)","v":0}," ",{"$f":"SUM(F125:F131)","v":302371}," "," "," "," "," "]
["CAREER AND TECHNICAL EDUCATION (CTE)"]
["CTE - Technical Education - Tech Prep",3200,{"$f":"'AFR19'!B5094","v":766900},{"$f":"'AFR19'!B5316","v":0},null,null,{"$f":"'AFR19'!B5695","v":0}]
["CTE - Secondary Program Improvement (CTEI)",3220,{"$f":"'AFR19'!B5098","v":15668230},{"$f":"'AFR19'!B5320","v":0},null,null,{"$f":"'AFR19'!B6304","v":3660}]
["CTE - WECEP",3225,{"$f":"'AFR19'!B5099","v":69354},{"$f":"'AFR19'!B5321","v":0},null,null,{"$f":"'AFR19'!B4717","v":0}]
["CTE - Agriculture Education",3235,{"$f":"'AFR19'!B6305","v":4758389},{"$f":"'AFR19'!B6306","v":0},null,null,{"$f":"'AFR19'!B6307","v":182}]
["CTE - Instructor Practicum",3240,{"$f":"'AFR19'!B6308","v":9319},{"$f":"'AFR19'!B6309","v":0},null,null,{"$f":"'AFR19'!B6310","v":0}]
["CTE - Student Organizations",3270,{"$f":"'AFR19'!B6311","v":5606},{"$f":"'AFR19'!B6312","v":0},null,null,{"$f":"'AFR19'!B6313","v":0}]
["CTE - Other (Describe & Itemize)",3299,{"$f":"'AFR19'!B4173","v":1226411},{"$f":"'AFR19'!B4174","v":0},null,null,{"$f":"'AFR19'!B4176","v":0}]
["Total Career and Technical Education",null,{"$f":"SUM(C134:C140)","v":22504209},{"$f":"SUM(D134:D140)","v":0}," ",null,{"$f":"SUM(G134:G140)","v":3842}," "," "," "," "]
["BILINGUAL EDUCATION"]
["Bilingual Ed - Downstate - TPI and TBE",3305,{"$f":"'AFR19'!B5109","v":361289},null,null,null,{"$f":"'AFR19'!B5700","v":0}]
["Bilingual Education - Transitional Bilingual Education",3310,{"$f":"'AFR19'!B5110","v":0},null,null,null,{"$f":"'AFR19'!B5701","v":0}]
["Total Bilingual Ed",null,{"$f":"SUM(C143:C144)","v":361289},null,null,null,{"$f":"SUM(G143:G144)","v":0}]
["State Free Lunch & Breakfast",3360,{"$f":"'AFR19'!B5113","v":10388192.76}]
["School Breakfast Initiative",3365,{"$f":"'AFR19'!B4297","v":72316},{"$f":"'AFR19'!B4298","v":0},null,null,{"$f":"'AFR19'!B4299","v":0}]
["Driver Education",3370,{"$f":"'AFR19'!B5114","v":16895540},{"$f":"'AFR19'!B5330","v":0}]
["Adult Ed (from ICCB)",3410,{"$f":"'AFR19'!B5117","v":2825385},{"$f":"'AFR19'!B5333","v":0},{"$f":"'AFR19'!B6314","v":0},{"$f":"'AFR19'!B6315","v":0},{"$f":"'AFR19'!B6316","v":0},{"$f":"'AFR19'!B6317","v":0},{"$f":"'AFR19'!B6318","v":0},{"$f":"'AFR19'!B6319","v":0},{"$f":"'AFR19'!B6320","v":0}]
["Adult Ed - Other (Describe & Itemize)",3499,{"$f":"'AFR19'!B4258","v":150750},{"$f":"'AFR19'!B4259","v":0},{"$f":"'AFR19'!B6321","v":0},{"$f":"'AFR19'!B4300","v":0},{"$f":"'AFR19'!B4301","v":0},{"$f":"'AFR19'!B6322","v":0},{"$f":"'AFR19'!B6323","v":0},{"$f":"'AFR19'!B6324","v":0},{"$f":"'AFR19'!B6325","v":0}]
["TRANSPORTATION"]
["Transportation - Regular/Vocational",3500,{"$f":"'AFR19'!B5121","v":402586},{"$f":"'AFR19'!B5337","v":65000},null,{"$f":"'AFR19'!B5561","v":279684858.91999996},{"$f":"'AFR19'!B6326","v":523000}]
["Transportation - Special Education",3510,{"$f":"'AFR19'!B5123","v":78349724},{"$f":"'AFR19'!B5339","v":10000},null,{"$f":"'AFR19'!B5563","v":345491362.10000002},{"$f":"'AFR19'!B6327","v":0}]
["Transportation - Other (Describe & Itemize)",3599,{"$f":"'AFR19'!B4260","v":0},{"$f":"'AFR19'!B4261","v":0},null,{"$f":"'AFR19'!B4262","v":4685},{"$f":"'AFR19'!B4302","v":0}]
["Total Transportation",null,{"$f":"SUM(C152:C154)","v":78752310},{"$f":"SUM(D152:D154)","v":75000},null,{"$f":"SUM(F152:F154)","v":625180906.01999998},{"$f":"SUM(G152:G154)","v":523000}]
["Learning Improvement - Change Grants",3610,{"$f":"'AFR19'!B5127","v":37313}]
["Scientific Literacy",3660,{"$f":"'AFR19'!B5133","v":6661},{"$f":"'AFR19'!B5341","v":0},null,{"$f":"'AFR19'!B5565","v":0},{"$f":"'AFR19'!B5703","v":0}]
["Truant Alternative/Optional Education",3695,{"$f":"'AFR19'!B5140","v":8195240},null,null,{"$f":"'AFR19'!B5571","v":320},{"$f":"'AFR19'!B5709","v":2974}]
["Early Childhood - Block Grant",3705,{"$f":"'AFR19'!B5142","v":425590996},{"$f":"'AFR19'!B5347","v":588285},null,{"$f":"'AFR19'!B5573","v":6082742},{"$f":"'AFR19'!B5711","v":838798}]
["Chicago General Education Block Grant",3766,{"$f":"'AFR19'!B5002","v":0},{"$f":"'AFR19'!B5003","v":0},null,{"$f":"'AFR19'!B5004","v":0},{"$f":"'AFR19'!B5005","v":0}]
["Chicago Educational Services Block Grant",3767,{"$f":"'AFR19'!B5006","v":0},{"$f":"'AFR19'!B4125","v":0},null,{"$f":"'AFR19'!B4126","v":0},{"$f":"'AFR19'!B4127","v":0}]
["School Safety & Educational Improvement Block Grant",3775,{"$f":"'AFR19'!B4861","v":1500},{"$f":"'AFR19'!B4862","v":13002},{"$f":"'AFR19'!B4863","v":0},{"$f":"'AFR19'!B4864","v":0},{"$f":"'AFR19'!B4865","v":0},{"$f":"'AFR19'!B4866","v":0},null,null,{"$f":"'AFR19'!B4868","v":0}]
["Technology - Learning Technology Centers",3780,{"$f":"'AFR19'!B6334","v":18504},{"$f":"'AFR19'!B6335","v":0},{"$f":"'AFR19'!B6336","v":0},{"$f":"'AFR19'!B6337","v":0},{"$f":"'AFR19'!B6338","v":0},{"$f":"'AFR19'!B6339","v":0},null,null,{"$f":"'AFR19'!B6340","v":0}]
["State Charter Schools",3815,{"$f":"'AFR19'!B4263","v":5055},null,null,{"$f":"'AFR19'!B4264","v":0}]
["Extended Learning Opportunities - Summer Bridges",3825,{"$f":"'AFR19'!B4267","v":750},null,null,{"$f":"'AFR19'!B4268","v":0}]
["Infrastructure Improvements - Construction",3920,null,{"$f":"'AFR19'!B4273","v":370611},null,null,null,{"$f":"'AFR19'!B4274","v":3036676}]
["School Infrastructure - Maintenance",3925,null,{"$f":"'AFR19'!B4275","v":5000},null,null,null,{"$f":"'AFR19'!B7652","v":892508},null,null,{"$f":"'AFR19'!B4276","v":0}]
["Other Restricted Revenue from State Sources (Describe & Itemize)",3999,{"$f":"'AFR19'!B4738","v":33328189},{"$f":"'AFR19'!B4739","v":1532900},{"$f":"'AFR19'!B4740","v":6560200},{"$f":"'AFR19'!B4741","v":244764},{"$f":"'AFR19'!B4742","v":8393},{"$f":"'AFR19'!B4743","v":13970295},{"$f":"'AFR19'!B4161","v":0},{"$f":"'AFR19'!B6341","v":29207},{"$f":"'AFR19'!B4745","v":0}]
["Total Restricted Grants-In-Aid",null,{"$f":"SUM(C132,C141,C145,C146:C150,C155,C156:C168)","v":822694880.75999999},2584798,6560200,631811103.01999998,1377007,17899479,0,29207,0]
["Total Receipts from State Sources","3000",{"$f":"SUM(C122,C169)","v":6481608320.5900002},622829102,314401382,674475072.01999998,11736720,57097412,0,5121652,678591]
["RECEIPTS/REVENUES FROM FEDERAL SOURCES (4000)"]
["UNRESTRICTED GRANTS-IN-AID RECEIVED DIRECTLY FROM FEDERAL GOVT"]
["Federal Impact Aid",4001,{"$f":"'AFR19'!B5170","v":23838448},{"$f":"'AFR19'!B5368","v":5989226},{"$f":"'AFR19'!B4310","v":0},{"$f":"'AFR19'!B5600","v":500000},{"$f":"'AFR19'!B5725","v":0},{"$f":"'AFR19'!B4311","v":0},{"$f":"'AFR19'!B4312","v":0},{"$f":"'AFR19'!B6344","v":0},{"$f":"'AFR19'!B4314","v":0}]
["Other Unrestricted Grants-In-Aid Received Directly from the Fed Govt (Describe & Itemize)",4009,{"$f":"'AFR19'!B4890","v":535085.82000000007},{"$f":"'AFR19'!B4891","v":0},{"$f":"'AFR19'!B4315","v":182652},{"$f":"'AFR19'!B4892","v":0},{"$f":"'AFR19'!B4893","v":0},{"$f":"'AFR19'!B4894","v":0},{"$f":"'AFR19'!B4316","v":0},{"$f":"'AFR19'!B6345","v":0},{"$f":"'AFR19'!B4895","v":0}]
["Total Unrestricted  Grants-In-Aid Received Directly                                     from the Federal Govt",null,{"$f":"SUM(C173:C174)","v":24373533.82},{"$f":"SUM(D173:D174)","v":5989226},182652,500000,0,0,0,0,0]
["RESTRICTED GRANTS-IN-AID RECEIVED DIRECTLY FROM FEDERAL GOVT"]
["Head Start",4045,{"$f":"'AFR19'!B5176","v":47094105}]
["Construction (Impact Aid)",4050,{"$f":"'AFR19'!B5177","v":0},{"$f":"'AFR19'!B5370","v":0},null,null,null,{"$f":"'AFR19'!B5853","v":0}]
["MAGNET",4060,{"$f":"'AFR19'!B4747","v":2197110},{"$f":"'AFR19'!B4748","v":0},null,{"$f":"'AFR19'!B4750","v":0},{"$f":"'AFR19'!B4756","v":0},{"$f":"'AFR19'!B4757","v":0}]
["Other Restricted Grants-In-Aid Received Directly from the Federal Govt (Describe & Itemize)",4090,{"$f":"'AFR19'!B4751","v":16480832},{"$f":"'AFR19'!B4752","v":5583.4},null,{"$f":"'AFR19'!B4754","v":0},{"$f":"'AFR19'!B4759","v":270992},{"$f":"'AFR19'!B4760","v":0},null,null,{"$f":"'AFR19'!B4762","v":0}]
["Total Restricted Grants-In-Aid Received Directly from Federal Govt",null,{"$f":"SUM(C177:C180)","v":65772047},{"$f":"SUM(D177:D180)","v":5583.4},null,{"$f":"SUM(F177:F180)","v":0},{"$f":"SUM(G177:G180)","v":270992},{"$f":"SUM(H177:H180)","v":0},null,null,{"$f":"SUM(K177:K180)","v":0}]
["RESTRICTED GRANTS-IN-AID RECEIVED FROM FEDERAL GOVT                         THRU THE STATE"]
["TITLE VI"]
["Title VI - Innovation and Flexibility Formula",4100,{"$f":"'AFR19'!B5179","v":71154},{"$f":"'AFR19'!B5372","v":0},null,{"$f":"'AFR19'!B5605","v":41000},{"$f":"'AFR19'!B5731","v":0}]
["Title VI - District Projects",4105,{"$f":"'AFR19'!B4321","v":0},{"$f":"'AFR19'!B4322","v":0},null,{"$f":"'AFR19'!B4323","v":0},{"$f":"'AFR19'!B4324","v":0}]
["Title VI - Rural & Low Income Schools",4107,{"$f":"'AFR19'!B4325","v":2853539},{"$f":"'AFR19'!B4326","v":0},null,{"$f":"'AFR19'!B4327","v":0},{"$f":"'AFR19'!B4328","v":0}]
["Title VI - Other (Describe & Itemize)",4199,{"$f":"'AFR19'!B4337","v":178447},{"$f":"'AFR19'!B4338","v":0},null,{"$f":"'AFR19'!B4339","v":0},{"$f":"'AFR19'!B4340","v":0}]
["Total Title VI",null,{"$f":"SUM(C184:C187)","v":3103140},{"$f":"SUM(D184:D187)","v":0},null,{"$f":"SUM(F184:F187)","v":41000},{"$f":"SUM(G184:G187)","v":0}]
["FOOD SERVICE"]
["Breakfast Start-Up",4200,{"$f":"'AFR19'!B6347","v":498064},null,null,null,{"$f":"'AFR19'!B6348","v":0}]
["National School Lunch Program",4210,{"$f":"'AFR19'!B5185","v":425249861.80000001},null,null,null,{"$f":"'AFR19'!B6349","v":37385}]
["Special Milk Program",4215,{"$f":"'AFR19'!B5186","v":49050770},null,null,null,{"$f":"'AFR19'!B6350","v":0}]
["School Breakfast Program",4220,{"$f":"'AFR19'!B5187","v":87823162},null,null,null,{"$f":"'AFR19'!B6351","v":0}]
["Summer Food Service Admin/Program",4225,{"$f":"'AFR19'!B5188","v":4528479},null,null,null,{"$f":"'AFR19'!B6352","v":0}]
["Child Care Commodity/SFS 13-Adult Day Care",4226,{"$f":"'AFR19'!B5189","v":10251545},null,null,null,{"$f":"'AFR19'!B6353","v":0}]
["Fresh Fruits & Vegetables",4240,{"$f":"'AFR19'!B7633","v":4448512}]
["Food Service - Other (Describe & Itemize)",4299,{"$f":"'AFR19'!B4277","v":19011864},null,null,null,{"$f":"'AFR19'!B6354","v":0}]
["Total Food Service",null,{"$f":"SUM(C190:C197)","v":600862257.79999995},null,null,null,{"$f":"SUM(G190:G197)","v":37385}]
["TITLE I"]
["Title I - Low Income",4300,{"$f":"'AFR19'!B5193","v":609244956},{"$f":"'AFR19'!B5377","v":0},null,{"$f":"'AFR19'!B5610","v":831877},{"$f":"'AFR19'!B5736","v":935775}]
["Title I - Low Income - Neglected,  Private",4305,{"$f":"'AFR19'!B5194","v":1179624},{"$f":"'AFR19'!B5378","v":0},null,{"$f":"'AFR19'!B5611","v":0},{"$f":"'AFR19'!B5737","v":140}]
["Title I - Migrant Education",4340,{"$f":"'AFR19'!B5201","v":412709},{"$f":"'AFR19'!B5385","v":0},null,{"$f":"'AFR19'!B5618","v":0},{"$f":"'AFR19'!B5744","v":3590}]
["Title I - Other (Describe & Itemize)",4399,{"$f":"'AFR19'!B4278","v":24580103},{"$f":"'AFR19'!B4279","v":0},null,{"$f":"'AFR19'!B4280","v":18720},{"$f":"'AFR19'!B4281","v":237}]
["Total Title I",null,{"$f":"SUM(C200:C203)","v":635417392},{"$f":"SUM(D200:D203)","v":0},null,{"$f":"SUM(F200:F203)","v":850597},{"$f":"SUM(G200:G203)","v":939742}]
["TITLE IV"]
["Title IV - Safe & Drug Free Schools - Formula",4400,{"$f":"'AFR19'!B5202","v":14645765},{"$f":"'AFR19'!B5386","v":0},null,{"$f":"'AFR19'!B5619","v":12740},{"$f":"'AFR19'!B5745","v":10550}]
["Title IV - 21st Century",4421,{"$f":"'AFR19'!B4353","v":18308735},{"$f":"'AFR19'!B4354","v":0},null,{"$f":"'AFR19'!B4355","v":259820},{"$f":"'AFR19'!B4356","v":63020}]
["Title IV - Other (Describe & Itemize)",4499,{"$f":"'AFR19'!B4282","v":616592},{"$f":"'AFR19'!B4283","v":0},null,{"$f":"'AFR19'!B4284","v":0},{"$f":"'AFR19'!B4285","v":0}]
["Total Title IV",null,{"$f":"SUM(C206:C208)","v":33571092},{"$f":"SUM(D206:D208)","v":0}," ",{"$f":"SUM(F206:F208)","v":272560},{"$f":"SUM(G206:G208)","v":73570}]
["FEDERAL - SPECIAL EDUCATION"]
["Fed - Spec Education - Preschool Flow-Through",4600,{"$f":"'AFR19'!B5220","v":9230343},{"$f":"'AFR19'!B5404","v":0},null,{"$f":"'AFR19'!B5637","v":1394},{"$f":"'AFR19'!B5763","v":57126}]
["Fed - Spec Education - Preschool Discretionary",4605,{"$f":"'AFR19'!B5221","v":2473159},{"$f":"'AFR19'!B5405","v":0},null,{"$f":"'AFR19'!B5638","v":0},{"$f":"'AFR19'!B5764","v":0}]
["Fed - Spec Education - IDEA - Flow Through",4620,{"$f":"'AFR19'!B5224","v":353268987.19},{"$f":"'AFR19'!B5408","v":341865},null,{"$f":"'AFR19'!B5641","v":89818},{"$f":"'AFR19'!B5767","v":991397}]
["Fed - Spec Education - IDEA - Room & Board",4625,{"$f":"'AFR19'!B5225","v":47300838.329999998},{"$f":"'AFR19'!B5409","v":0},null,{"$f":"'AFR19'!B5642","v":6065},{"$f":"'AFR19'!B5768","v":0}]
["Fed - Spec Education - IDEA - Discretionary",4630,{"$f":"'AFR19'!B5226","v":78881},{"$f":"'AFR19'!B5410","v":0},null,{"$f":"'AFR19'!B5643","v":0},{"$f":"'AFR19'!B5769","v":0}]
["Fed - Spec Education - IDEA - Other (Describe & Itemize)",4699,{"$f":"'AFR19'!B4286","v":180732},{"$f":"'AFR19'!B4287","v":0},null,{"$f":"'AFR19'!B4288","v":0},{"$f":"'AFR19'!B4289","v":0}]
["Total Federal - Special Education",null,{"$f":"SUM(C211:C216)","v":412532940.51999998},{"$f":"SUM(D211:D216)","v":341865},null,{"$f":"SUM(F211:F216)","v":97277},{"$f":"SUM(G211:G216)","v":1048523}]
["CTE - PERKINS"]
["CTE - Perkins - Title IIIE - Tech Prep",4770,{"$f":"'AFR19'!B5247","v":6081218},{"$f":"'AFR19'!B5431","v":0},null,null,{"$f":"'AFR19'!B5790","v":141}]
["CTE - Other (Describe & Itemize)",4799,{"$f":"'AFR19'!B4290","v":8540138},{"$f":"'AFR19'!B4291","v":0},null,null,{"$f":"'AFR19'!B4292","v":0}]
["Total CTE - Perkins",null,{"$f":"SUM(C219:C220)","v":14621356},{"$f":"SUM(D219:D220)","v":0},null,null,{"$f":"SUM(G219:G220)","v":141}]
["Federal - Adult Education",4810,{"$f":"'AFR19'!B5256","v":1226784},{"$f":"'AFR19'!B5440","v":0},null,null,{"$f":"'AFR19'!B5799","v":0}]
["ARRA - General State Aid - Education Stabilization",4850,{"$f":"'AFR19'!B6560","v":0},{"$f":"'AFR19'!B6561","v":0},{"$f":"'AFR19'!B6562","v":0},{"$f":"'AFR19'!B6563","v":0},{"$f":"'AFR19'!B6564","v":0},{"$f":"'AFR19'!B6565","v":0},null,{"$f":"'AFR19'!B6566","v":0},{"$f":"'AFR19'!B6567","v":0}]
["ARRA - Title I - Low Income",4851,{"$f":"'AFR19'!B6568","v":0},{"$f":"'AFR19'!B6569","v":0},null,{"$f":"'AFR19'!B6570","v":0},{"$f":"'AFR19'!B6571","v":0}]
["ARRA - Title I - Neglected, Private",4852,{"$f":"'AFR19'!B6572","v":0},{"$f":"'AFR19'!B6573","v":0},{"$f":"'AFR19'!B6574","v":0},{"$f":"'AFR19'!B6575","v":0},{"$f":"'AFR19'!B6576","v":0},{"$f":"'AFR19'!B6577","v":0},null,{"$f":"'AFR19'!B6578","v":0},{"$f":"'AFR19'!B6579","v":0}]
["ARRA - Title I - Delinquent, Private",4853,{"$f":"'AFR19'!B6580","v":0},{"$f":"'AFR19'!B6581","v":0},{"$f":"'AFR19'!B6582","v":0},{"$f":"'AFR19'!B6583","v":0},{"$f":"'AFR19'!B6584","v":0},{"$f":"'AFR19'!B6585","v":0},null,{"$f":"'AFR19'!B6586","v":0},{"$f":"'AFR19'!B6587","v":0}]
["ARRA A- Title I - School Improvement (Part A)",4854,{"$f":"'AFR19'!B6588","v":177737},{"$f":"'AFR19'!B6589","v":0},{"$f":"'AFR19'!B6590","v":0},{"$f":"'AFR19'!B6591","v":0},{"$f":"'AFR19'!B6592","v":0},{"$f":"'AFR19'!B6593","v":0},null,{"$f":"'AFR19'!B6594","v":0},{"$f":"'AFR19'!B6595","v":0}]
["ARRA - Title I - School Improvement (Part G)",4855,{"$f":"'AFR19'!B6596","v":0},{"$f":"'AFR19'!B6597","v":0},{"$f":"'AFR19'!B6598","v":0},{"$f":"'AFR19'!B6599","v":0},{"$f":"'AFR19'!B6600","v":0},{"$f":"'AFR19'!B6601","v":0},null,{"$f":"'AFR19'!B6602","v":0},{"$f":"'AFR19'!B6603","v":0}]
["ARRA - IDEA - Part B - Preschool",4856,{"$f":"'AFR19'!B6604","v":0},{"$f":"'AFR19'!B6605","v":0},{"$f":"'AFR19'!B6606","v":0},{"$f":"'AFR19'!B6607","v":0},{"$f":"'AFR19'!B6608","v":0},{"$f":"'AFR19'!B6609","v":0},null,{"$f":"'AFR19'!B6610","v":0},{"$f":"'AFR19'!B6611","v":0}]
["ARRA - IDEA - Part B - Flow-Through",4857,{"$f":"'AFR19'!B6612","v":24992},{"$f":"'AFR19'!B6613","v":0},{"$f":"'AFR19'!B6614","v":0},{"$f":"'AFR19'!B6615","v":0},{"$f":"'AFR19'!B6616","v":0},{"$f":"'AFR19'!B6617","v":0},null,{"$f":"'AFR19'!B6618","v":0},{"$f":"'AFR19'!B6619","v":0}]
["ARRA - Title IID - Technology-Formula",4860,{"$f":"'AFR19'!B6620","v":0},{"$f":"'AFR19'!B6621","v":0},{"$f":"'AFR19'!B6622","v":0},{"$f":"'AFR19'!B6623","v":0},{"$f":"'AFR19'!B6624","v":0},{"$f":"'AFR19'!B6625","v":0},null,{"$f":"'AFR19'!B6626","v":0},{"$f":"'AFR19'!B6627","v":0}]
["ARRA - Title IID - Technology-Competitive",4861,{"$f":"'AFR19'!B6628","v":0},{"$f":"'AFR19'!B6629","v":0},{"$f":"'AFR19'!B6630","v":0},{"$f":"'AFR19'!B6631","v":0},{"$f":"'AFR19'!B6632","v":0},{"$f":"'AFR19'!B6633","v":0},null,{"$f":"'AFR19'!B6634","v":0},{"$f":"'AFR19'!B6635","v":0}]
["ARRA - McKinney - Vento Homeless Education",4862,{"$f":"'AFR19'!B6636","v":1102},{"$f":"'AFR19'!B6637","v":0},null,{"$f":"'AFR19'!B6638","v":0},{"$f":"'AFR19'!B6639","v":0}]
["ARRA - Child Nutrition Equipment Assistance",4863,{"$f":"'AFR19'!B6640","v":0},{"$f":"'AFR19'!B6641","v":0}]
["Impact Aid Formula Grants",4864,{"$f":"'AFR19'!B6642","v":0},{"$f":"'AFR19'!B6643","v":0},{"$f":"'AFR19'!B6644","v":0},{"$f":"'AFR19'!B6645","v":0},{"$f":"'AFR19'!B6646","v":0},{"$f":"'AFR19'!B6647","v":0},null,{"$f":"'AFR19'!B6648","v":0},{"$f":"'AFR19'!B6649","v":0}]
["Impact Aid Competitive Grants",4865,{"$f":"'AFR19'!B6650","v":0},{"$f":"'AFR19'!B6651","v":0},{"$f":"'AFR19'!B6652","v":0},{"$f":"'AFR19'!B6653","v":0},{"$f":"'AFR19'!B6654","v":0},{"$f":"'AFR19'!B6655","v":0},null,{"$f":"'AFR19'!B6656","v":0},{"$f":"'AFR19'!B6657","v":0}]
["Qualified Zone Academy Bond Tax Credits",4866,{"$f":"'AFR19'!B6658","v":0},{"$f":"'AFR19'!B6659","v":59777},{"$f":"'AFR19'!B6660","v":1465419},{"$f":"'AFR19'!B6661","v":0},{"$f":"'AFR19'!B6662","v":0},{"$f":"'AFR19'!B6663","v":0},null,{"$f":"'AFR19'!B6664","v":0},{"$f":"'AFR19'!B6665","v":0}]
["Qualified School Construction Bond Credits",4867,{"$f":"'AFR19'!B6666","v":0},{"$f":"'AFR19'!B6667","v":2205198},{"$f":"'AFR19'!B6668","v":11352673},{"$f":"'AFR19'!B6669","v":0},{"$f":"'AFR19'!B6670","v":0},{"$f":"'AFR19'!B6671","v":1167810},null,{"$f":"'AFR19'!B6672","v":0},{"$f":"'AFR19'!B6674","v":0}]
["Build America Bond Tax Credits",4868,{"$f":"'AFR19'!B6675","v":0},{"$f":"'AFR19'!B6676","v":0},{"$f":"'AFR19'!B6677","v":1983309},{"$f":"'AFR19'!B6678","v":0},{"$f":"'AFR19'!B6679","v":0},{"$f":"'AFR19'!B6680","v":0},null,{"$f":"'AFR19'!B6681","v":0},{"$f":"'AFR19'!B6682","v":0}]
["Build America Bond Interest Reimbursement",4869,{"$f":"'AFR19'!B6683","v":308704},{"$f":"'AFR19'!B6684","v":0},{"$f":"'AFR19'!B6685","v":33317580},{"$f":"'AFR19'!B6686","v":0},{"$f":"'AFR19'!B6687","v":0},{"$f":"'AFR19'!B6688","v":355401},null,{"$f":"'AFR19'!B6689","v":0},{"$f":"'AFR19'!B6690","v":0}]
["ARRA - General State Aid - Other Govt Services Stabilization",4870,{"$f":"'AFR19'!B6691","v":0},{"$f":"'AFR19'!B6692","v":0},{"$f":"'AFR19'!B6693","v":0},{"$f":"'AFR19'!B6694","v":0},{"$f":"'AFR19'!B6695","v":0},{"$f":"'AFR19'!B6696","v":0},null,{"$f":"'AFR19'!B6697","v":0},{"$f":"'AFR19'!B6698","v":0}]
["Other ARRA Funds - II",4871,{"$f":"'AFR19'!B6699","v":0},{"$f":"'AFR19'!B6700","v":0},{"$f":"'AFR19'!B6701","v":0},{"$f":"'AFR19'!B6702","v":0},{"$f":"'AFR19'!B6703","v":0},{"$f":"'AFR19'!B6704","v":0},null,{"$f":"'AFR19'!B6705","v":0},{"$f":"'AFR19'!B6706","v":0}]
["Other ARRA Funds - III",4872,{"$f":"'AFR19'!B6707","v":0},{"$f":"'AFR19'!B6708","v":0},{"$f":"'AFR19'!B6709","v":0},{"$f":"'AFR19'!B6710","v":0},{"$f":"'AFR19'!B6711","v":0},{"$f":"'AFR19'!B6712","v":0},null,{"$f":"'AFR19'!B6713","v":0},{"$f":"'AFR19'!B6714","v":0}]
["Other ARRA Funds - IV",4873,{"$f":"'AFR19'!B6715","v":0},{"$f":"'AFR19'!B6716","v":0},{"$f":"'AFR19'!B6717","v":0},{"$f":"'AFR19'!B6718","v":0},{"$f":"'AFR19'!B6719","v":0},{"$f":"'AFR19'!B6720","v":0},null,{"$f":"'AFR19'!B6721","v":0},{"$f":"'AFR19'!B6722","v":0}]
["Other ARRA Funds - V",4874,{"$f":"'AFR19'!B6723","v":0},{"$f":"'AFR19'!B6724","v":0},{"$f":"'AFR19'!B6725","v":0},{"$f":"'AFR19'!B6726","v":0},{"$f":"'AFR19'!B6727","v":0},{"$f":"'AFR19'!B6728","v":0},null,{"$f":"'AFR19'!B6729","v":0},{"$f":"'AFR19'!B6730","v":0}]
["ARRA - Early Childhood",4875,{"$f":"'AFR19'!B6731","v":0},{"$f":"'AFR19'!B6732","v":0},{"$f":"'AFR19'!B6733","v":0},{"$f":"'AFR19'!B6734","v":0},{"$f":"'AFR19'!B6735","v":0},{"$f":"'AFR19'!B6736","v":0},null,{"$f":"'AFR19'!B6737","v":0},{"$f":"'AFR19'!B6738","v":0}]
["Other ARRA Funds VII",4876,{"$f":"'AFR19'!B6739","v":0},{"$f":"'AFR19'!B6740","v":0},{"$f":"'AFR19'!B6741","v":0},{"$f":"'AFR19'!B6742","v":0},{"$f":"'AFR19'!B6743","v":0},{"$f":"'AFR19'!B6744","v":0},null,{"$f":"'AFR19'!B6745","v":0},{"$f":"'AFR19'!B6746","v":0}]
["Other ARRA Funds VIII",4877,{"$f":"'AFR19'!B6747","v":0},{"$f":"'AFR19'!B6748","v":0},{"$f":"'AFR19'!B6749","v":0},{"$f":"'AFR19'!B6750","v":0},{"$f":"'AFR19'!B6751","v":0},{"$f":"'AFR19'!B6752","v":0},null,{"$f":"'AFR19'!B6753","v":0},{"$f":"'AFR19'!B6754","v":0}]
["Other ARRA Funds IX",4878,{"$f":"'AFR19'!B6755","v":0},{"$f":"'AFR19'!B6756","v":0},{"$f":"'AFR19'!B6757","v":0},{"$f":"'AFR19'!B6758","v":0},{"$f":"'AFR19'!B6759","v":0},{"$f":"'AFR19'!B6760","v":0},null,{"$f":"'AFR19'!B6761","v":0},{"$f":"'AFR19'!B6762","v":0}]
["Other ARRA Funds X",4879,{"$f":"'AFR19'!B6763","v":0},{"$f":"'AFR19'!B6764","v":0},{"$f":"'AFR19'!B6765","v":0},{"$f":"'AFR19'!B6766","v":0},{"$f":"'AFR19'!B6767","v":0},{"$f":"'AFR19'!B6768","v":0},null,{"$f":"'AFR19'!B6769","v":0},{"$f":"'AFR19'!B6770","v":0}]
["Other ARRA Funds XI",4880,{"$f":"'AFR19'!B6771","v":13},{"$f":"'AFR19'!B6772","v":0},{"$f":"'AFR19'!B6773","v":0},{"$f":"'AFR19'!B6774","v":0},{"$f":"'AFR19'!B6775","v":0},{"$f":"'AFR19'!B6776","v":0},null,{"$f":"'AFR19'!B6777","v":0},{"$f":"'AFR19'!B6778","v":0}]
["Total Stimulus Programs",null,{"$f":"SUM(C223:C251)","v":512548},2264975,48118981,0,0,1523211,null,{"$f":"SUM(J223:J251)","v":0},{"$f":"SUM(K223:K251)","v":0}]
["Race To The Top",4901,{"$f":"'AFR19'!B7707","v":0}]
["Race To The Top - Preschool Expansion Grant",4902,{"$f":"'AFR19'!B7711","v":12805243},{"$f":"'AFR19'!B7712","v":0},null,{"$f":"'AFR19'!B7714","v":26232},{"$f":"'AFR19'!B7715","v":38951}]
["Title III - Immigrant Education Program (IEP)",4905,{"$f":"'AFR19'!B5258","v":1547885},null,null,{"$f":"'AFR19'!B5651","v":0},{"$f":"'AFR19'!B5801","v":9588}]
["Title III - English Language Acquisition",4909,{"$f":"'AFR19'!B4361","v":24595061},null,null,{"$f":"'AFR19'!B4362","v":18316},{"$f":"'AFR19'!B4363","v":25807}]
["McKinney Education for Homeless Children",4920,{"$f":"'AFR19'!B5261","v":997644},{"$f":"'AFR19'!B5442","v":0},null,{"$f":"'AFR19'!B5654","v":4116},{"$f":"'AFR19'!B5804","v":0}]
["Title II - Eisenhower Professional Development Formula",4930,{"$f":"'AFR19'!B5263","v":465614},{"$f":"'AFR19'!B5444","v":0},null,{"$f":"'AFR19'!B5656","v":0},{"$f":"'AFR19'!B5806","v":0}]
["Title II - Teacher Quality",4932,{"$f":"'AFR19'!B4364","v":70376958},{"$f":"'AFR19'!B4365","v":0},null,{"$f":"'AFR19'!B4366","v":0},{"$f":"'AFR19'!B4367","v":19877}]
["Federal Charter Schools",4960,{"$f":"'AFR19'!B4135","v":237596},{"$f":"'AFR19'!B4136","v":0},null,{"$f":"'AFR19'!B4137","v":0},{"$f":"'AFR19'!B4138","v":0}]
["State Assessment Grants",4981,{"$f":"'AFR19'!B7755","v":5019},{"$f":"'AFR19'!B7756","v":0},null,{"$f":"'AFR19'!B7757","v":0},{"$f":"'AFR19'!B7758","v":0}]
["Grant for State Assessments and Related Activities",4982,{"$f":"'AFR19'!B7759","v":106287},{"$f":"'AFR19'!B7760","v":49316},null,{"$f":"'AFR19'!B7761","v":0},{"$f":"'AFR19'!B7762","v":0}]
["Medicaid Matching Funds - Administrative Outreach",4991,{"$f":"'AFR19'!B4304","v":38035506.5},{"$f":"'AFR19'!B4305","v":4612},null,{"$f":"'AFR19'!B4306","v":21011},{"$f":"'AFR19'!B4307","v":0}]
["Medicaid Matching Funds - Fee-for-Service Program",4992,{"$f":"'AFR19'!B4308","v":110434315.08},{"$f":"'AFR19'!B4392","v":2458},null,{"$f":"'AFR19'!B4393","v":134620},{"$f":"'AFR19'!B4394","v":5}]
["Other Restricted Revenue from Federal Sources (Describe & Itemize)",4998,{"$f":"'AFR19'!B4798","v":29121171},{"$f":"'AFR19'!B4799","v":226631},null,{"$f":"'AFR19'!B4801","v":62836},{"$f":"'AFR19'!B4810","v":35644},{"$f":"'AFR19'!B4811","v":0},null,null,{"$f":"'AFR19'!B4814","v":0}]
["Total Restricted Grants-In-Aid Received from the Federal Govt Thru the State",null,{"$f":"SUM(C188,C198,C204,C209,C217,C221,C222,C252,C253:C265)","v":1990575809.8999999},{"$f":"SUM(D188,D198,D204,D209,D217,D221,D222,D252,D254:D265)","v":2889857},{"$f":"SUM(E188,E198,E204,E209,E217,E221,E222,E252,E254:E265)","v":48118981},{"$f":"SUM(F188,F198,F204,F209,F217,F221,F222,F252,F254:F265)","v":1528565},{"$f":"SUM(G188,G198,G204,G209,G217,G221,G222,G252,G254:G265)","v":2229233},{"$f":"SUM(H188,H198,H204,H209,H217,H221,H222,H252,H254:H265)","v":1523211},null,{"$f":"SUM(J188,J198,J204,J209,J217,J221,J222,J252,J254:J265)","v":0},{"$f":"SUM(K188,K198,K204,K209,K217,K221,K222,K252,K254:K265)","v":0}]
["Total Receipts/Revenues from Federal Sources","4000",{"$f":"SUM(C175,C181,C266)","v":2080721390.7199998},8884666.4000000004,48301633,2028565,2500225,1523211,0,0,0]
["Total Direct Receipts/Revenues",null,{"$f":"SUM(C109,C114,C170,C267)","v":23327505965.510002},2421227000.2000003,2163864424.4200001,1323384681.01,649569492.86000001,282285658.18000001,116633339.30000001,390441853.19,61199064.060000002]

{"sheet":"Expenditures 15-22","index":5,"n_rows":368,"n_cols":12,"rows_kept":368,"cut":false,"hidden":false,"merged":[[344,0,344,1],[342,0,342,1],[311,0,311,1],[150,0,150,1],[294,0,294,1],[151,0,151,1],[212,0,212,1],[314,0,314,1],[316,0,316,1],[116,0,116,1],[153,0,153,1],[2,0,2,1],[297,0,297,1],[312,0,312,1]]}
[null,null,"(100)","(200)","(300)","(400)","(500)","(600)","(700)","(800)","(900)"]
["Description","Funct #","Salaries","Employee Benefits","Purchased Services","Supplies & Materials","Capital Outlay","Other Objects","Non-Capitalized Equipment","Termination Benefits","Total","Budget"]
["10 - EDUCATIONAL FUND (ED)"]
["INSTRUCTION (ED)"]
["Regular Programs",1100,{"$f":"'AFR19'!B651","v":6904643475.1399994},{"$f":"'AFR19'!B709","v":1836642410.3899999},{"$f":"'AFR19'!B767","v":126237636.56},{"$f":"'AFR19'!B825","v":323813501.13999999},{"$f":"'AFR19'!B883","v":36765747.909999996},{"$f":"'AFR19'!B941","v":10299315.949999999},{"$f":"'AFR19'!B6790","v":48325153},{"$f":"'AFR19'!B6791","v":15859832},{"$f":"SUM(C5:J5)","v":9302587072.0899982}]
["Tuition Payment to Charter School","1115",null,null,{"$f":"'AFR19'!B7708","v":748312161},null,null,null,null,null,{"$f":"SUM(C6:J6)","v":748312161}]
["Pre-K Programs","1125",{"$f":"'AFR19'!B6673","v":196488239.13999999},{"$f":"'AFR19'!B7192","v":56956014},{"$f":"'AFR19'!B7193","v":2497592.23},{"$f":"'AFR19'!B7194","v":13887991.67},{"$f":"'AFR19'!B7195","v":1434362.65},{"$f":"'AFR19'!B7196","v":119391},{"$f":"'AFR19'!B6792","v":5128265},{"$f":"'AFR19'!B6793","v":151350},276663205.68999994]
["Special Education Programs (Functions 1200-1220)",1200,{"$f":"'AFR19'!B3312","v":1993522732.4400001},{"$f":"'AFR19'!B3314","v":466035301},{"$f":"'AFR19'!B3316","v":87214094.640000001},{"$f":"'AFR19'!B3318","v":21082583.859999999},{"$f":"'AFR19'!B3320","v":2833676.99},{"$f":"'AFR19'!B3322","v":61121760.549999997},{"$f":"'AFR19'!B6795","v":2556083},{"$f":"'AFR19'!B6796","v":4828989},2639195221.48]
["Special Education Programs Pre-K","1225",{"$f":"'AFR19'!B7197","v":87000878},{"$f":"'AFR19'!B7198","v":21061745},{"$f":"'AFR19'!B7199","v":606121},{"$f":"'AFR19'!B7200","v":1286035},{"$f":"'AFR19'!B7201","v":71110},{"$f":"'AFR19'!B7202","v":69000},{"$f":"'AFR19'!B6797","v":98175},{"$f":"'AFR19'!B6798","v":112570},110305634]
["Remedial and Supplemental Programs K-12",1250,{"$f":"'AFR19'!B3001","v":170157360.87},{"$f":"'AFR19'!B3002","v":38893693.490000002},{"$f":"'AFR19'!B3003","v":24806270.780000001},{"$f":"'AFR19'!B3004","v":48353647.259999998},{"$f":"'AFR19'!B3005","v":5037989},{"$f":"'AFR19'!B3006","v":384409.04},{"$f":"'AFR19'!B6800","v":3363609},{"$f":"'AFR19'!B6801","v":23604},291020583.44000006]
["Remedial and Support Programs Pre-K","1275",{"$f":"'AFR19'!B7203","v":10547376},{"$f":"'AFR19'!B7204","v":2512772},{"$f":"'AFR19'!B7205","v":530196},{"$f":"'AFR19'!B7206","v":810292},{"$f":"'AFR19'!B7207","v":107128},{"$f":"'AFR19'!B7208","v":1747},{"$f":"'AFR19'!B6802","v":9975},{"$f":"'AFR19'!B6803","v":2446},14521932]
["Adult/Continuing Education Programs",1300,{"$f":"'AFR19'!B662","v":9969762},{"$f":"'AFR19'!B720","v":1000698},{"$f":"'AFR19'!B778","v":1715126},{"$f":"'AFR19'!B836","v":443439},{"$f":"'AFR19'!B894","v":13350},{"$f":"'AFR19'!B952","v":41617},{"$f":"'AFR19'!B6805","v":11361},{"$f":"'AFR19'!B6806","v":4733},13200086]
["CTE Programs",1400,{"$f":"'AFR19'!B663","v":177641448},{"$f":"'AFR19'!B721","v":35271981},{"$f":"'AFR19'!B779","v":7596291},{"$f":"'AFR19'!B837","v":16136475},{"$f":"'AFR19'!B895","v":5452465},{"$f":"'AFR19'!B953","v":1728240},{"$f":"'AFR19'!B6807","v":5068779},{"$f":"'AFR19'!B6808","v":161671},249057350]
["Interscholastic Programs",1500,{"$f":"'AFR19'!B664","v":302948507},{"$f":"'AFR19'!B722","v":20147943.100000001},{"$f":"'AFR19'!B780","v":48487354},{"$f":"'AFR19'!B838","v":32720619.530000001},{"$f":"'AFR19'!B896","v":4593332},{"$f":"'AFR19'!B954","v":9706880.3300000001},{"$f":"'AFR19'!B6809","v":2051426},{"$f":"'AFR19'!B6810","v":22748},420678809.95999998]
["Summer School Programs",1600,{"$f":"'AFR19'!B665","v":50807804},{"$f":"'AFR19'!B723","v":1860828},{"$f":"'AFR19'!B781","v":2361938},{"$f":"'AFR19'!B839","v":2385932},{"$f":"'AFR19'!B897","v":83032},{"$f":"'AFR19'!B955","v":572292},{"$f":"'AFR19'!B6811","v":31327},{"$f":"'AFR19'!B6812","v":16140},58119293]
["Gifted Programs","1650",{"$f":"'AFR19'!B652","v":53820331},{"$f":"'AFR19'!B710","v":9739224},{"$f":"'AFR19'!B768","v":563433},{"$f":"'AFR19'!B826","v":394562},{"$f":"'AFR19'!B884","v":3997},{"$f":"'AFR19'!B942","v":57511},{"$f":"'AFR19'!B6813","v":8603},{"$f":"'AFR19'!B6814","v":23720},64611381]
["Driver's Education Programs","1700",{"$f":"'AFR19'!B7209","v":38514998},{"$f":"'AFR19'!B7210","v":6002789},{"$f":"'AFR19'!B7211","v":2114204},{"$f":"'AFR19'!B7212","v":1363573},{"$f":"'AFR19'!B7213","v":947678},{"$f":"'AFR19'!B7214","v":84583},{"$f":"'AFR19'!B6815","v":18597},{"$f":"'AFR19'!B6816","v":8025},49054447]
["Bilingual Programs",1800,{"$f":"'AFR19'!B658","v":379622922.05000001},{"$f":"'AFR19'!B716","v":79937707.25},{"$f":"'AFR19'!B774","v":2593720.41},{"$f":"'AFR19'!B832","v":7884786.79},{"$f":"'AFR19'!B890","v":29973.5},{"$f":"'AFR19'!B948","v":52570.29},{"$f":"'AFR19'!B6818","v":72001},{"$f":"'AFR19'!B6819","v":369844},470563525.29000008]
["Truant Alternative & Optional Programs",1900,{"$f":"'AFR19'!B3313","v":19282411},{"$f":"'AFR19'!B3315","v":4144518},{"$f":"'AFR19'!B3317","v":1963688},{"$f":"'AFR19'!B3319","v":439938},{"$f":"'AFR19'!B3321","v":9618},{"$f":"'AFR19'!B3323","v":2487215},{"$f":"'AFR19'!B6820","v":34163},{"$f":"'AFR19'!B6821","v":43736},28405287]
["Rentals","1910",null,null,null,null,null,{"$f":"'AFR19'!B6822","v":690857},null,null,690857]
["Regular K-12 Programs - Private Tuition","1911",null,null,null,null,null,{"$f":"'AFR19'!B6824","v":3431058},null,null,3431058]
["Special Education Programs K-12 - Private Tuition","1912",null,null,null,null,null,{"$f":"'AFR19'!B6826","v":314685654},null,null,314685654]
["Special Education Programs Pre-K - Tuition","1913",null,null,null,null,null,{"$f":"'AFR19'!B6828","v":264566},null,null,264566]
["Remedial/Supplemental Programs K-12 - Private Tuition","1914",null,null,null,null,null,{"$f":"'AFR19'!B6830","v":894541},null,null,894541]
["Remedial/Supplemental Programs Pre-K - Private Tuition","1915",null,null,null,null,null,{"$f":"'AFR19'!B6832","v":0},null,null,0]
["Adult/Continuing Education Programs - Private Tuition","1916",null,null,null,null,null,{"$f":"'AFR19'!B6834","v":0},null,null,0]
["CTE Programs - Private Tuition","1917",null,null,null,null,null,{"$f":"'AFR19'!B6836","v":1533615},null,null,1533615]
["Interscholastic Programs - Private Tuition","1918",null,null,null,null,null,{"$f":"'AFR19'!B6838","v":0},null,null,0]
["Summer School Programs - Private Tuition","1919",null,null,null,null,null,{"$f":"'AFR19'!B6840","v":1127695},null,null,1127695]
["Gifted Programs - Private Tuition","1920",null,null,null,null,null,{"$f":"'AFR19'!B6842","v":62952},null,null,62952]
["Bilingual Programs - Private Tuition","1921",null,null,null,null,null,{"$f":"'AFR19'!B6844","v":15991},null,null,15991]
["Truants Alternative/Optional Ed Programs - Private Tuition","1922",null,null,null,null,null,{"$f":"'AFR19'!B6846","v":1241233},null,null,1241233]
["Total Instruction","1000",{"$f":"SUM(C5:C32)","v":10394968244.639999},{"$f":"SUM(D5:D32)","v":2580207624.2299995},1057599826.6199999,471003376.25000006,57383460.049999997,410674694.16000003,66777517,21629408,{"$f":"SUM(K5:K32)","v":15060244150.949999}]
["SUPPORT SERVICES (ED)"]
["SUPPORT SERVICES - PUPILS"]
["Attendance & Social Work Services",2110,{"$f":"'AFR19'!B667","v":287792083},{"$f":"'AFR19'!B725","v":58332954},{"$f":"'AFR19'!B783","v":12054133.630000001},{"$f":"'AFR19'!B841","v":5417245.1299999999},{"$f":"'AFR19'!B899","v":78248},{"$f":"'AFR19'!B957","v":80602},{"$f":"'AFR19'!B6850","v":316986},{"$f":"'AFR19'!B6851","v":372097},{"$f":"SUM(C36:J36)","v":364444348.75999999}]
["Guidance Services",2120,{"$f":"'AFR19'!B668","v":325634559},{"$f":"'AFR19'!B726","v":66445208},{"$f":"'AFR19'!B784","v":14352968},{"$f":"'AFR19'!B842","v":3767611},{"$f":"'AFR19'!B900","v":106774},{"$f":"'AFR19'!B958","v":657151},{"$f":"'AFR19'!B6852","v":179187},{"$f":"'AFR19'!B6853","v":765836},411909294]
["Health Services",2130,{"$f":"'AFR19'!B669","v":160219085},{"$f":"'AFR19'!B727","v":31788529},{"$f":"'AFR19'!B785","v":34533340},{"$f":"'AFR19'!B843","v":3711846.0700000003},{"$f":"'AFR19'!B901","v":675815},{"$f":"'AFR19'!B959","v":338909},{"$f":"'AFR19'!B6854","v":429691},{"$f":"'AFR19'!B6855","v":234610},231931825.06999999]
["Psychological Services",2140,{"$f":"'AFR19'!B670","v":131492657},{"$f":"'AFR19'!B728","v":24134157},{"$f":"'AFR19'!B786","v":7801056},{"$f":"'AFR19'!B844","v":1298095},{"$f":"'AFR19'!B902","v":38663},{"$f":"'AFR19'!B960","v":45413},{"$f":"'AFR19'!B6856","v":2660},{"$f":"'AFR19'!B6857","v":165676},164978377]
["Speech Pathology & Audiology Services",2150,{"$f":"'AFR19'!B671","v":208237973},{"$f":"'AFR19'!B729","v":38987728},{"$f":"'AFR19'!B787","v":26016873},{"$f":"'AFR19'!B845","v":1019770},{"$f":"'AFR19'!B903","v":99655},{"$f":"'AFR19'!B961","v":25626},{"$f":"'AFR19'!B6858","v":116880},{"$f":"'AFR19'!B6859","v":223126},274727631]
["Other Support Services - Pupils (Describe & Itemize)",2190,{"$f":"'AFR19'!B672","v":77067140},{"$f":"'AFR19'!B730","v":13324352},{"$f":"'AFR19'!B788","v":13572293.65},{"$f":"'AFR19'!B846","v":5347549.51},{"$f":"'AFR19'!B904","v":751772},{"$f":"'AFR19'!B962","v":350124},{"$f":"'AFR19'!B6860","v":119353},{"$f":"'AFR19'!B6861","v":108709},110641293.16000001]
["Total Support Services - Pupils","2100",{"$f":"SUM(C36:C41)","v":1190443497},{"$f":"SUM(D36:D41)","v":233012928},108330664.28,20562116.710000001,1750927,1497825,1164757,1870054,1558632768.99]
["SUPPORT SERVICES - INSTRUCTIONAL STAFF"]
["Improvement of Instruction Services",2210,{"$f":"'AFR19'!B674","v":308340430},{"$f":"'AFR19'!B732","v":63420357.050000004},{"$f":"'AFR19'!B790","v":121572776.38},{"$f":"'AFR19'!B848","v":57477969.310000002},{"$f":"'AFR19'!B906","v":10467444},{"$f":"'AFR19'!B964","v":2416283.25},{"$f":"'AFR19'!B6864","v":7815207},{"$f":"'AFR19'!B6865","v":677554},{"$f":"SUM(C44:J44)","v":572188020.99000001}]
["Educational Media Services",2220,{"$f":"'AFR19'!B675","v":223684046.12},{"$f":"'AFR19'!B733","v":44343837},{"$f":"'AFR19'!B791","v":39248415.920000002},{"$f":"'AFR19'!B849","v":42685177.119999997},{"$f":"'AFR19'!B907","v":29192751.199999999},{"$f":"'AFR19'!B965","v":804954},{"$f":"'AFR19'!B6866","v":21069866},{"$f":"'AFR19'!B6867","v":213767},{"$f":"SUM(C45:J45)","v":401242814.36000001}]
["Assessment & Testing",2230,{"$f":"'AFR19'!B676","v":16120166},{"$f":"'AFR19'!B734","v":2409186},{"$f":"'AFR19'!B792","v":25306618.390000001},{"$f":"'AFR19'!B850","v":6080524.6299999999},{"$f":"'AFR19'!B908","v":71480},{"$f":"'AFR19'!B966","v":136390},{"$f":"'AFR19'!B6868","v":73640},{"$f":"'AFR19'!B6869","v":13924},{"$f":"SUM(C46:J46)","v":50211929.020000003}]
["Total Support Services - Instructional Staff","2200",{"$f":"SUM(C44:C46)","v":548144642.12},{"$f":"SUM(D44:D46)","v":110173380.05000001},186127810.69,106243671.06,39731675.200000003,3357627.25,28958713,905245,1023642764.37]
["SUPPORT SERVICES - GENERAL ADMINISTRATION"]
["Board of Education Services",2310,{"$f":"'AFR19'!B678","v":31224406},{"$f":"'AFR19'!B736","v":30962015},{"$f":"'AFR19'!B794","v":117281082.63},{"$f":"'AFR19'!B852","v":6603856.3899999997},{"$f":"'AFR19'!B910","v":442797},{"$f":"'AFR19'!B968","v":25915030},{"$f":"'AFR19'!B6872","v":217227},{"$f":"'AFR19'!B6873","v":668831},{"$f":"SUM(C49:J49)","v":213315245.01999998}]
["Executive Administration Services",2320,{"$f":"'AFR19'!B679","v":182329887.63},{"$f":"'AFR19'!B737","v":36469854.049999997},{"$f":"'AFR19'!B795","v":12964824.23},{"$f":"'AFR19'!B853","v":4253199.96},{"$f":"'AFR19'!B911","v":549035},{"$f":"'AFR19'!B969","v":3337464.14},{"$f":"'AFR19'!B6874","v":247959},{"$f":"'AFR19'!B6875","v":253049},{"$f":"SUM(C50:J50)","v":240405273.00999999}]
["Special Area Administration Services",2330,{"$f":"'AFR19'!B2664","v":76287489},{"$f":"'AFR19'!B2665","v":16744178},{"$f":"'AFR19'!B2666","v":4536099},{"$f":"'AFR19'!B2667","v":1246095},{"$f":"'AFR19'!B2668","v":92699},{"$f":"'AFR19'!B2669","v":2636066},{"$f":"'AFR19'!B6876","v":360480},{"$f":"'AFR19'!B6877","v":88196},{"$f":"SUM(C51:J51)","v":101991302}]
["Tort Immunity Services","2360 - 2370",{"$f":"'AFR19'!B6878","v":1832316},{"$f":"'AFR19'!B6879","v":2377795},{"$f":"'AFR19'!B6880","v":17969864.100000001},{"$f":"'AFR19'!B6881","v":206393},{"$f":"'AFR19'!B6882","v":21811},{"$f":"'AFR19'!B6883","v":973737},{"$f":"'AFR19'!B6884","v":0},{"$f":"'AFR19'!B6885","v":0},{"$f":"SUM(C52:J52)","v":23381916.100000001}]
["Total Support Services - General Administration","2300",{"$f":"SUM(C49:C52)","v":291674098.63},{"$f":"SUM(D49:D52)","v":86553842.049999997},152751869.96000001,12309544.35,1106342,32862297.140000001,825666,1010076,579093736.13]
["SUPPORT SERVICES - SCHOOL ADMINISTRATION"]
["Office of the Principal Services",2410,{"$f":"'AFR19'!B681","v":900084890.86000001},{"$f":"'AFR19'!B739","v":213190613.57000002},{"$f":"'AFR19'!B797","v":21453533.329999998},{"$f":"'AFR19'!B855","v":19532787.810000002},{"$f":"'AFR19'!B913","v":1014151},{"$f":"'AFR19'!B971","v":2389219},{"$f":"'AFR19'!B6890","v":3105520},{"$f":"'AFR19'!B6891","v":2183744},{"$f":"SUM(C55:J55)","v":1162954459.5699999}]
["Other Support Services - School Admin (Describe & Itemize)",2490,{"$f":"'AFR19'!B682","v":49609445},{"$f":"'AFR19'!B740","v":10887278},{"$f":"'AFR19'!B798","v":386397},{"$f":"'AFR19'!B856","v":173868},{"$f":"'AFR19'!B914","v":96824},{"$f":"'AFR19'!B972","v":29626},{"$f":"'AFR19'!B6892","v":1458},{"$f":"'AFR19'!B6893","v":6624},{"$f":"SUM(C56:J56)","v":61191520}]
["Total Support Services - School Administration","2400",{"$f":"SUM(C55:C56)","v":949694335.86000001},{"$f":"SUM(D55:D56)","v":224077891.57000002},21839930.329999998,19706655.810000002,1110975,2418845,3106978,2190368,1224145979.5699999]
["SUPPORT SERVICES - BUSINESS"]
["Direction of Business Support Services",2510,{"$f":"'AFR19'!B684","v":51486713},{"$f":"'AFR19'!B742","v":12498623},{"$f":"'AFR19'!B800","v":5630668.9699999997},{"$f":"'AFR19'!B858","v":1485088},{"$f":"'AFR19'!B916","v":639981},{"$f":"'AFR19'!B974","v":927377.96},{"$f":"'AFR19'!B6896","v":56358},{"$f":"'AFR19'!B6897","v":76148},{"$f":"SUM(C59:J59)","v":72800957.929999992}]
["Fiscal Services",2520,{"$f":"'AFR19'!B685","v":114752210.97},{"$f":"'AFR19'!B743","v":22508486},{"$f":"'AFR19'!B801","v":33043584.169999998},{"$f":"'AFR19'!B859","v":4883239.21},{"$f":"'AFR19'!B917","v":2604912},{"$f":"'AFR19'!B975","v":4072120.01},{"$f":"'AFR19'!B6898","v":173892},{"$f":"'AFR19'!B6899","v":400837},182439281.35999998]
["Operation & Maintenance of Plant Services",2540,{"$f":"'AFR19'!B686","v":89771235.900000006},{"$f":"'AFR19'!B744","v":18348069},{"$f":"'AFR19'!B802","v":80660320.960000008},{"$f":"'AFR19'!B860","v":32915954.900000002},{"$f":"'AFR19'!B918","v":8789901.0199999996},{"$f":"'AFR19'!B976","v":421604},{"$f":"'AFR19'!B6900","v":2292535},{"$f":"'AFR19'!B6901","v":206509},233406129.78000003]
["Pupil Transportation Services",2550,{"$f":"'AFR19'!B687","v":19443764},{"$f":"'AFR19'!B745","v":6326498},{"$f":"'AFR19'!B803","v":110112662},{"$f":"'AFR19'!B861","v":389071},{"$f":"'AFR19'!B919","v":269660.3},{"$f":"'AFR19'!B977","v":387},{"$f":"'AFR19'!B6902","v":200521},{"$f":"'AFR19'!B6903","v":265189},137007752.30000001]
["Food Services",2560,{"$f":"'AFR19'!B688","v":221766058.09},{"$f":"'AFR19'!B746","v":54318184.259999998},{"$f":"'AFR19'!B804","v":204482374.50999999},{"$f":"'AFR19'!B862","v":287176412.22000003},{"$f":"'AFR19'!B920","v":6052964.04},{"$f":"'AFR19'!B978","v":1471177.59},{"$f":"'AFR19'!B6904","v":5687756},{"$f":"'AFR19'!B6905","v":982249},781937175.71000004]
["Internal Services",2570,{"$f":"'AFR19'!B689","v":11000508},{"$f":"'AFR19'!B747","v":2140311},{"$f":"'AFR19'!B805","v":10049511},{"$f":"'AFR19'!B863","v":5101917},{"$f":"'AFR19'!B921","v":1994164},{"$f":"'AFR19'!B979","v":132088},{"$f":"'AFR19'!B7653","v":174794},{"$f":"'AFR19'!B6906","v":65136},30658429]
["Total Support Services - Business","2500",{"$f":"SUM(C59:C64)","v":508220489.96000004},{"$f":"SUM(D59:D64)","v":116140171.25999999},443979121.61000001,331951682.33000004,20351582.359999999,7024754.5599999996,8585856,1996068,1438249726.0799999]
["SUPPORT SERVICES - CENTRAL"]
["Direction of Central Support Services",2610,{"$f":"'AFR19'!B692","v":10817918},{"$f":"'AFR19'!B750","v":2196625},{"$f":"'AFR19'!B808","v":2926974},{"$f":"'AFR19'!B866","v":198803},{"$f":"'AFR19'!B924","v":92012},{"$f":"'AFR19'!B982","v":185077},{"$f":"'AFR19'!B6909","v":61258},{"$f":"'AFR19'!B6910","v":72819},{"$f":"SUM(C67:J67)","v":16551486}]
["Planning, Research, Development, & Evaluation Services",2620,{"$f":"'AFR19'!B693","v":17528878},{"$f":"'AFR19'!B751","v":3150533},{"$f":"'AFR19'!B809","v":7157480},{"$f":"'AFR19'!B867","v":905454},{"$f":"'AFR19'!B925","v":635804},{"$f":"'AFR19'!B983","v":27010},{"$f":"'AFR19'!B6911","v":30981},{"$f":"'AFR19'!B6912","v":56551},{"$f":"SUM(C68:J68)","v":29492691}]
["Information Services",2630,{"$f":"'AFR19'!B694","v":25159711},{"$f":"'AFR19'!B752","v":4699419},{"$f":"'AFR19'!B810","v":17557269},{"$f":"'AFR19'!B868","v":6726805.9000000004},{"$f":"'AFR19'!B926","v":5264102},{"$f":"'AFR19'!B984","v":348902},{"$f":"'AFR19'!B6913","v":2490299},{"$f":"'AFR19'!B6914","v":22533},{"$f":"SUM(C69:J69)","v":62269040.899999999}]
["Staff Services",2640,{"$f":"'AFR19'!B695","v":66707893},{"$f":"'AFR19'!B753","v":27052773},{"$f":"'AFR19'!B811","v":17272241},{"$f":"'AFR19'!B869","v":2258125},{"$f":"'AFR19'!B927","v":148379},{"$f":"'AFR19'!B985","v":520569},{"$f":"'AFR19'!B6915","v":56067},{"$f":"'AFR19'!B6916","v":2344401},{"$f":"SUM(C70:J70)","v":116360448}]
["Data Processing Services",2660,{"$f":"'AFR19'!B697","v":109394952},{"$f":"'AFR19'!B755","v":18519078},{"$f":"'AFR19'!B813","v":93847432},{"$f":"'AFR19'!B871","v":55756413},{"$f":"'AFR19'!B929","v":47941679},{"$f":"'AFR19'!B987","v":1201356},{"$f":"'AFR19'!B6917","v":35133947},{"$f":"'AFR19'!B6918","v":128196},{"$f":"SUM(C71:J71)","v":361923053}]
["Total Support Services - Central","2600",{"$f":"SUM(C67:C71)","v":229609352},{"$f":"SUM(D67:D71)","v":55618428},138761396,65845600.899999999,54081976,2282914,37772552,2624500,586596718.89999998]
["Other Support Services (Describe & Itemize)","2900",{"$f":"'AFR19'!B700","v":12762947},{"$f":"'AFR19'!B758","v":7634056},{"$f":"'AFR19'!B816","v":14344209},{"$f":"'AFR19'!B874","v":6603408.3900000006},{"$f":"'AFR19'!B932","v":1408827},{"$f":"'AFR19'!B990","v":698934},{"$f":"'AFR19'!B6921","v":1902422},{"$f":"'AFR19'!B6922","v":415284},{"$f":"SUM(C73:J73)","v":45770087.390000001}]
["Total Support Services",2000,{"$f":"SUM(C42,C47,C53,C57,C65,C72,C73)","v":3730549362.5700002},833210696.93000007,1066135001.8700001,563222679.55000007,119542304.56,50143196.950000003,82316944,11011595,6456131781.4300003]
["COMMUNITY SERVICES (ED)","3000",{"$f":"'AFR19'!B702","v":82067312.530000001},{"$f":"'AFR19'!B760","v":14472707.210000001},{"$f":"'AFR19'!B818","v":52365468.93},{"$f":"'AFR19'!B876","v":14094092.73},{"$f":"'AFR19'!B934","v":1335802.3700000001},{"$f":"'AFR19'!B992","v":1568138},{"$f":"'AFR19'!B6925","v":1261607},{"$f":"'AFR19'!B6926","v":84369},{"$f":"SUM(C75:J75)","v":167249497.77000001}]
["PAYMENTS TO OTHER DISTRICTS & GOVT UNITS (ED)"]
["PAYMENTS TO OTHER GOVT UNITS (IN-STATE)"]
["Payments for Regular Programs",4110,null,null,{"$f":"'AFR19'!B2895","v":83691035},null,null,{"$f":"'AFR19'!B2901","v":9890773},null,null,{"$f":"SUM(E78,H78)","v":93581808}]
["Payments for Special Education Programs",4120,null,null,{"$f":"'AFR19'!B2896","v":125068360.22999999},null,null,{"$f":"'AFR19'!B2902","v":202324719},null,null,327393079.23000002]
["Payments for Adult/Continuing Education Programs",4130,null,null,{"$f":"'AFR19'!B2897","v":498498},null,null,{"$f":"'AFR19'!B2903","v":339083},null,null,837581]
["Payments for CTE Programs",4140,null,null,{"$f":"'AFR19'!B2898","v":1662872},null,null,{"$f":"'AFR19'!B2904","v":11066685},null,null,12729557]
["Payments for Community College Programs",4170,null,null,{"$f":"'AFR19'!B2899","v":1061910},null,null,{"$f":"'AFR19'!B2905","v":1083431},null,null,2145341]
["Other Payments to In-State Govt. Units (Describe & Itemize)",4190,null,null,{"$f":"'AFR19'!B2900","v":10454901},null,null,{"$f":"'AFR19'!B2906","v":4529469},null,null,14984370]
["Total Payments to Dist & Other Govt Units                                    (In-State)",4100,null,null,{"$f":"SUM(E78:E83)","v":222437576.22999999},null,null,{"$f":"SUM(H78:H83)","v":229234160},null,null,{"$f":"'AFR19'!B2034","v":451671736.22999996}]
["Payments for Regular Programs - Tuition",4210,null,null,null,null,null,{"$f":"'AFR19'!B6927","v":8165325},null,null,{"$f":"SUM(E85,H85)","v":8165325}]
["Payments for Special Education Programs - Tuition",4220,null,null,null,null,null,{"$f":"'AFR19'!B6929","v":266839447.44},null,null,{"$f":"SUM(E86,H86)","v":266839447.44}]
["Payments for Adult/Continuing Education Programs - Tuition",4230,null,null,null,null,null,{"$f":"'AFR19'!B6931","v":589193},null,null,589193]
["Payments for CTE Programs - Tuition",4240,null,null,null,null,null,{"$f":"'AFR19'!B6933","v":14532728},null,null,14532728]
["Payments for Community College Programs - Tuition",4270,null,null,null,null,null,{"$f":"'AFR19'!B6935","v":900934},null,null,900934]
["Payments for Other Programs - Tuition",4280,null,null,null,null,null,{"$f":"'AFR19'!B6937","v":1452569},null,null,1452569]
["Other Payments to In-State Govt Units",4290,null,null,null,null,null,{"$f":"'AFR19'!B6939","v":2061645},null,null,2061645]
["Total Payments to Other District & Govt Units -Tuition (In State)",4200,null,null,null,null,null,{"$f":"SUM(H85:H91)","v":294541841.44},null,null,{"$f":"SUM(K85:K91)","v":294541841.44}]
["Payments for Regular Programs - Transfers",4310,null,null,null,null,null,{"$f":"'AFR19'!B6942","v":754344},null,null,{"$f":"SUM(E93,H93)","v":754344}]
["Payments for Special Education Programs - Transfers",4320,null,null,null,null,null,{"$f":"'AFR19'!B6944","v":1984366.11},null,null,1984366.11]
["Payments for Adult/Continuing Ed Programs - Transfers",4330,null,null,null,null,null,{"$f":"'AFR19'!B6946","v":0},null,null,0]
["Payments for CTE Programs - Transfers",4340,null,null,null,null,null,{"$f":"'AFR19'!B6948","v":523796},null,null,523796]
["Payments for Community College Program - Transfers",4370,null,null,null,null,null,{"$f":"'AFR19'!B6950","v":39781},null,null,39781]
["Payments for Other Programs - Transfers",4380,null,null,null,null,null,{"$f":"'AFR19'!B6952","v":58330},null,null,58330]
["Other Payments to In-State Govt Units - Transfers",4390,null,null,{"$f":"'AFR19'!B6954","v":613967},null,null,{"$f":"'AFR19'!B6955","v":1397209},null,null,2011176]
["Total Payments to Other District & Govt Units -                                     Transfers (In-State)",4300,null,null,{"$f":"SUM(E99)","v":613967},null,null,{"$f":"SUM(H93:H99)","v":4757826.1100000003},null,null,{"$f":"SUM(K93:K99)","v":5371793.1100000003}]
["Payments to Other Dist & Govt Units (Out-of-State)","4400",null,null,{"$f":"'AFR19'!B2893","v":784667},null,null,{"$f":"'AFR19'!B6960","v":268983},null,null,{"$f":"SUM(E101,H101)","v":1053650}]
["Total Payments to Other District & Govt Units",4000,null,null,{"$f":"SUM(E84,E100:E101)","v":223836210.22999999},null,null,{"$f":"SUM(H84,H92,H100:H101)","v":528802810.55000001},null,null,{"$f":"SUM(K84,K92,K100:K101)","v":752639020.77999997}]
["DEBT SERVICES (ED)"]
["DEBT SERVICES - INTEREST ON SHORT-TERM DEBT"]
["Tax Anticipation Warrants",5110,null,null,null,null,null,{"$f":"'AFR19'!B994","v":504030},null,null,{"$f":"SUM(H105)","v":504030}]
["Tax Anticipation Notes",5120,null,null,null,null,null,{"$f":"'AFR19'!B995","v":93979},null,null,{"$f":"SUM(H106)","v":93979}]
["Corporate Personal Prop. Repl. Tax Anticipation Notes",5130,null,null,null,null,null,{"$f":"'AFR19'!B2737","v":0},null,null,{"$f":"SUM(H107)","v":0}]
["State Aid Anticipation Certificates","5140",null,null,null,null,null,{"$f":"'AFR19'!B2738","v":6659083},null,null,{"$f":"SUM(H108)","v":6659083}]
["Other Interest on Short-Term Debt",5150,null,null,null,null,null,{"$f":"'AFR19'!B997","v":288364},null,null,{"$f":"SUM(H109)","v":288364}]
["Total Interest on Short-Term Debt","5100",null,null,null,null,null,{"$f":"SUM(H105:H109)","v":7545456},null,null,{"$f":"SUM(K105:K109)","v":7545456}]
["Debt Services - Interest on Long-Term Debt","5200",null,null,null,null,null,{"$f":"'AFR19'!B6962","v":1779883},null,null,{"$f":"SUM(H111)","v":1779883}]
["Total Debt Services","5000",null,null,null,null,null,{"$f":"SUM(H110:H111)","v":9325339},null,null,{"$f":"SUM(K110:K111)","v":9325339}]
["PROVISIONS FOR CONTINGENCIES (ED)","6000"]
["Total Direct Disbursements/Expenditures",null,{"$f":"SUM(C33,C74,C75,C102,C112,C113)","v":14207584919.74},{"$f":"SUM(D33,D74,D75,D102,D112,D113)","v":3427891028.3699999},{"$f":"SUM(E33,E74,E75,E102,E112,E113)","v":2399936507.6500001},1048320148.5300002,178261566.98000002,1000514178.6600001,150356068,32725372,{"$f":"SUM(K33,K74,K75,K102,K112,K113)","v":22445589789.929996}]
["Excess (Deficiency) of Receipts/Revenues Over Disbursements/Expenditures",null,null,null,null,null,null,null,null,null,{"$f":"SUM('Revenues 9-14'!C268-'Expenditures 15-22'!K114)","v":881916175.58000565}]
[]
["20 - OPERATIONS & MAINTENANCE FUND (O&M)"]
["SUPPORT SERVICES (O&M)"]
["SUPPORT SERVICES - PUPILS"]
["Other Support Services - Pupils (Describe & Itemize)",2190,{"$f":"'AFR19'!B4020","v":136155},{"$f":"'AFR19'!B4021","v":20267},{"$f":"'AFR19'!B4022","v":67281},{"$f":"'AFR19'!B4023","v":6909},{"$f":"'AFR19'!B4024","v":15000},{"$f":"'AFR19'!B4025","v":0},{"$f":"'AFR19'!B6968","v":0},{"$f":"'AFR19'!B6969","v":0},{"$f":"SUM(C120:J120)","v":245612}]
["SUPPORT SERVICES - BUSINESS"]
["Direction of Business Support Services",2510,{"$f":"'AFR19'!B1165","v":2753479},{"$f":"'AFR19'!B1173","v":412604},{"$f":"'AFR19'!B1181","v":1690219},{"$f":"'AFR19'!B1189","v":49789},{"$f":"'AFR19'!B1197","v":379223},{"$f":"'AFR19'!B1206","v":41961},{"$f":"'AFR19'!B6970","v":2377},{"$f":"'AFR19'!B6971","v":11751},{"$f":"SUM(C122:J122)","v":5341403}]
["Facilities Acquisition & Construction Services",2530,{"$f":"'AFR19'!B1166","v":1174921},{"$f":"'AFR19'!B1174","v":132274},{"$f":"'AFR19'!B1182","v":18050173},{"$f":"'AFR19'!B1190","v":603073},{"$f":"'AFR19'!B1198","v":141117626},{"$f":"'AFR19'!B1207","v":410984},{"$f":"'AFR19'!B6972","v":2144389},{"$f":"'AFR19'!B6973","v":4553},{"$f":"SUM(C123:J123)","v":163637993}]
["Operation & Maintenance of Plant Services",2540,{"$f":"'AFR19'!B1167","v":607070485.37},{"$f":"'AFR19'!B1175","v":121271938.31},{"$f":"'AFR19'!B1183","v":719134356.55999994},{"$f":"'AFR19'!B1191","v":492765168.10000002},{"$f":"'AFR19'!B1199","v":194590677},{"$f":"'AFR19'!B1208","v":5626340.0599999996},{"$f":"'AFR19'!B6974","v":10100173},{"$f":"'AFR19'!B6975","v":806581},{"$f":"SUM(C124:J124)","v":2151365719.4000001}]
["Pupil Transportation Services",2550,{"$f":"'AFR19'!B3428","v":117374},{"$f":"'AFR19'!B3429","v":35318},{"$f":"'AFR19'!B3430","v":49273},{"$f":"'AFR19'!B3431","v":104788},{"$f":"'AFR19'!B3432","v":1248},{"$f":"'AFR19'!B3433","v":212},{"$f":"'AFR19'!B6976","v":0},{"$f":"'AFR19'!B6977","v":0},{"$f":"SUM(C125:J125)","v":308213}]
["Food Services",2560,null,null,null,null,{"$f":"'AFR19'!B1200","v":461742},null,{"$f":"'AFR19'!B6978","v":88983},null,{"$f":"SUM(C126:J126)","v":550725}]
["Total Support Services - Business","2500",{"$f":"SUM(C122:C126)","v":611116259.37},{"$f":"SUM(D122:D126)","v":121852134.31},738924021.55999994,493522818.10000002,336550516,6079497.0599999996,12335922,822885,2321204053.4000001]
["Other Support Services (Describe & Itemize)","2900",{"$f":"'AFR19'!B1170","v":998442},{"$f":"'AFR19'!B1178","v":277959},{"$f":"'AFR19'!B1186","v":3517824},{"$f":"'AFR19'!B1194","v":52501},{"$f":"'AFR19'!B1203","v":32331},{"$f":"'AFR19'!B1211","v":8881},{"$f":"'AFR19'!B6981","v":53621},{"$f":"'AFR19'!B6982","v":0},{"$f":"SUM(C128:J128)","v":4941559}]
["Total Support Services","2000",{"$f":"SUM(C120,C127:C128)","v":612250856.37},{"$f":"SUM(D120,D127:D128)","v":122150360.31},742509126.55999994,493582228.10000002,336597847,6088378.0599999996,12389543,822885,2326391224.4000001]
["COMMUNITY SERVICES (O&M)","3000",{"$f":"'AFR19'!B2743","v":273530},{"$f":"'AFR19'!B2744","v":2},{"$f":"'AFR19'!B2745","v":22484},{"$f":"'AFR19'!B2746","v":19301},{"$f":"'AFR19'!B2747","v":51117},{"$f":"'AFR19'!B2748","v":0},{"$f":"'AFR19'!B6985","v":0},{"$f":"'AFR19'!B6986","v":0},{"$f":"SUM(C130:J130)","v":366434}]
["PAYMENTS TO OTHER DIST & GOVT UNITS (O&M)"]
["PAYMENTS TO OTHER GOVT UNITS (IN-STATE)"]
["Payments for Regular Programs","4110",null,null,{"$f":"'AFR19'!B7720","v":510000},null,null,{"$f":"'AFR19'!B7721","v":17645},null,null,{"$f":"SUM(E133,H133)","v":527645}]
["Payments for Special Education Programs",4120,null,null,{"$f":"'AFR19'!B4145","v":1457659},null,null,{"$f":"'AFR19'!B2925","v":785086},null,null,{"$f":"SUM(E134,H134)","v":2242745}]
["Payments for CTE Programs",4140,null,null,{"$f":"'AFR19'!B4146","v":349840},null,null,{"$f":"'AFR19'!B2926","v":561085},null,null,{"$f":"SUM(E135,H135)","v":910925}]
["Other Payments to In-State Govt. Units                                    (Describe & Itemize)",4190,null,null,{"$f":"'AFR19'!B4147","v":275333},null,null,{"$f":"'AFR19'!B2927","v":1171411},null,null,{"$f":"SUM(E136,H136)","v":1446744}]
["Total Payments to Other Govt. Units (In-State)",4100,null,null,{"$f":"SUM(E133:E136)","v":2592832},null,null,{"$f":"SUM(H133:H136)","v":2535227},null,null,{"$f":"SUM(K133:K136)","v":5128059}]
["Payments to Other Govt. Units (Out of State)","4400",null,null,null,null,null,{"$f":"'AFR19'!B2038","v":0},null,null,{"$f":"SUM(E138,H138)","v":0}]
["Total Payments to Other Dist & Govt Units",4000,null,null,{"$f":"E137","v":2592832},null,null,{"$f":"SUM(H137:H138)","v":2535227},null,null,{"$f":"SUM(K137:K138)","v":5128059}]
["DEBT SERVICES (O&M)","5000"]
["DEBT SERVICES - INTEREST ON SHORT-TERM DEBT"]
["Tax Anticipation Warrants",5110,null,null,null,null,null,{"$f":"'AFR19'!B1214","v":0},null,null,{"$f":"H142","v":0}]
["Tax Anticipation Notes",5120,null,null,null,null,null,{"$f":"'AFR19'!B1215","v":0},null,null,{"$f":"H143","v":0}]
["Corporate Personal Prop. Repl. Tax Anticipation Notes","5130",null,null,null,null,null,{"$f":"'AFR19'!B2753","v":0},null,null,{"$f":"H144","v":0}]
["State Aid Anticipation Certificates","5140",null,null,null,null,null,{"$f":"'AFR19'!B2754","v":0},null,null,{"$f":"H145","v":0}]
["Other Interest on Short-Term Debt (Describe & Itemize)","5150",null,null,null,null,null,{"$f":"'AFR19'!B1216","v":6602},null,null,{"$f":"H146","v":6602}]
["Total Debt Service - Interest on Short-Term Debt","5100",null,null,null,null,null,{"$f":"SUM(H142:H146)","v":6602},null,null,{"$f":"SUM(K142:K146)","v":6602}]
["DEBT SERVICE - INTERST ON LONG-TERM DEBT","5200",null,null,null,null,null,{"$f":"'AFR19'!B6995","v":465208},null,null,{"$f":"'AFR19'!B6996","v":465208}]
["Total Debt Services","5000",null,null,null,null,null,{"$f":"SUM(H147:H148)","v":471810},null,null,{"$f":"SUM(K147:K148)","v":471810}]
["PROVISIONS FOR CONTINGENCIES (O&M)","6000"]
["Total Direct Disbursements/Expenditures ",null,{"$f":"SUM(C129,C130,C139,C149,C150)","v":612524386.37},122150362.31,745124442.55999994,493601529.10000002,336648964,9095415.0599999987,12389543,822885,2332357527.4000001]
["Excess (Deficiency) of Receipts/Revenues\\Over Disbursements/ Expenditures",null,null,null,null,null,null,null,null,null,{"$f":"SUM('Revenues 9-14'!D268-'Expenditures 15-22'!K151)","v":88869472.800000191}]
[]
["30 - DEBT SERVICES (DS)"]
["PAYMENTS TO OTHER DIST & GOVT UNITS (DS)","4000"]
["Payments to Other Dist & Govt Units (In State)"]
["Payments for Regular Programs",4110,null,null,null,null,null,{"$f":"'AFR19'!B7723","v":99410},null,null,{"$f":"H157","v":99410}]
["Payments for Special Education Programs",4120,null,null,null,null,null,{"$f":"'AFR19'!B7725","v":0},null,null,{"$f":"H158","v":0}]
["Other Payments to In-State Gov't. Units (Describe & Itemize)",4190,null,null,null,null,null,{"$f":"'AFR19'!B7727","v":6186},null,null,{"$f":"H159","v":6186}]
["Total Payments to Other Dist & Govt Units (In-State)","4000",null,null,null,null,null,{"$f":"SUM(H157:H159)","v":105596},null,null,{"$f":"SUM(K157:K159)","v":105596}]
["DEBT SERVICES (DS)","5000"]
["DEBT SERVICES - INTEREST ON SHORT-TERM DEBT"]
["Tax Anticipation Warrants",5110,null,null,null,null,null,{"$f":"'AFR19'!B1256","v":14405},null,null,{"$f":"SUM(H163)","v":14405}]
["Tax Anticipation Notes",5120,null,null,null,null,null,{"$f":"'AFR19'!B1257","v":0},null,null,{"$f":"SUM(H164)","v":0}]
["Corporate Personal Prop. Repl. Tax Anticipation Notes","5130",null,null,null,null,null,{"$f":"'AFR19'!B2758","v":0},null,null,{"$f":"SUM(H165)","v":0}]
["State Aid Anticipation Certificates","5140",null,null,null,null,null,{"$f":"'AFR19'!B2759","v":1906569},null,null,{"$f":"SUM(H166)","v":1906569}]
["Other Interest on Short-Term Debt (Describe & Itemize)","5150",null,null,null,null,null,{"$f":"'AFR19'!B1259","v":541258},null,null,{"$f":"SUM(H167)","v":541258}]
["Total Debt Services - Interest On Short-Term Debt","5100",null,null,null,null,null,{"$f":"SUM(H163:H167)","v":2462232},null,null,{"$f":"SUM(K163:K167)","v":2462232}]
["DEBT SERVICES - INTEREST ON LONG-TERM DEBT","5200",null,null,null,null,null,{"$f":"'AFR19'!B1258","v":1043044470.7},null,null,{"$f":"H169","v":1043044470.7}]
["DEBT SERVICES - PAYMENTS OF PRINCIPAL ON LONG-TERM DEBT (Lease/Purchase Principal Retired) 11","5300",null,null,null,null,null,{"$f":"'AFR19'!B1261","v":1592162767},null,null,{"$f":"H170","v":1592162767}]
["DEBT SERVICES - OTHER (Describe & Itemize)","5400",null,null,{"$f":"'AFR19'!B1253","v":5486523},null,null,{"$f":"'AFR19'!B1262","v":32761132},null,null,{"$f":"SUM(E171,H171)","v":38247655}]
["Total Debt Services","5000",null,null,{"$f":"E171","v":5486523},null,null,{"$f":"SUM(H168:H171)","v":2670430601.6999998},null,null,{"$f":"SUM(K168:K171)","v":2675917124.6999998}]
["PROVISION FOR CONTINGENCIES (DS)","6000"]
["Total Disbursements/ Expenditures",null,null,null,{"$f":"SUM(E172)","v":5486523},null,null,{"$f":"SUM(H155,H160,H172:H173)","v":2670536197.6999998},null,null,{"$f":"SUM(K155,K160,K172:K173)","v":2676022720.6999998}]
["Excess (Deficiency) of Receipts/Revenues Over Disbursements/Expenditures",null,null,null,null,null,null,null,null,null,{"$f":"'AFR19'!B1279","v":-512158296.27999997}]
[]
["40 - TRANSPORTATION FUND (TR)"]
["SUPPORT SERVICES (TR)"]
["SUPPORT SERVICES - PUPILS"]
["Other Support Services - Pupils (Describe & Itemize)","2100",{"$f":"'AFR19'!B4027","v":2299594},{"$f":"'AFR19'!B4028","v":232570},{"$f":"'AFR19'!B4029","v":2280875},{"$f":"'AFR19'!B4030","v":525411},{"$f":"'AFR19'!B4031","v":371449},{"$f":"'AFR19'!B4032","v":6382},{"$f":"'AFR19'!B7003","v":33702},{"$f":"'AFR19'!B7004","v":0},{"$f":"SUM(C180:J180)","v":5749983}]
["SUPPORT SERVICES - BUSINESS"]
["Pupil Transportation Services",2550,{"$f":"'AFR19'!B1281","v":257607265.81999999},{"$f":"'AFR19'!B1287","v":42825501.960000001},{"$f":"'AFR19'!B1293","v":771207248.57000005},{"$f":"'AFR19'!B1300","v":68570493.870000005},{"$f":"'AFR19'!B1306","v":67351636},{"$f":"'AFR19'!B1312","v":3149657.04},{"$f":"'AFR19'!B7005","v":1390095},{"$f":"'AFR19'!B7006","v":90028},{"$f":"SUM(C182:J182)","v":1212191926.26}]
["Other Support Services (Describe & Itemize)",2900,{"$f":"'AFR19'!B1284","v":1258187},{"$f":"'AFR19'!B1290","v":318260},{"$f":"'AFR19'!B1296","v":732609},{"$f":"'AFR19'!B1303","v":80866},{"$f":"'AFR19'!B1309","v":0},{"$f":"'AFR19'!B1315","v":5770},{"$f":"'AFR19'!B7007","v":0},{"$f":"'AFR19'!B7008","v":0},{"$f":"SUM(C183:J183)","v":2395692}]
["Total Support Services","2000",{"$f":"SUM(C180,C182:C183)","v":261165046.81999999},{"$f":"SUM(D180,D182:D183)","v":43376331.960000001},774220732.57000005,69176770.870000005,67723085,3161809.04,1423797,90028,{"$f":"SUM(K180,K182:K183)","v":1220337601.26}]
["COMMUNITY SERVICES (TR)",3000,{"$f":"'AFR19'!B2766","v":41749},{"$f":"'AFR19'!B2767","v":740},{"$f":"'AFR19'!B2768","v":160623},{"$f":"'AFR19'!B2771","v":3128},{"$f":"'AFR19'!B2772","v":0},{"$f":"'AFR19'!B2773","v":0},{"$f":"'AFR19'!B7011","v":0},{"$f":"'AFR19'!B7012","v":0},{"$f":"SUM(C185:J185)","v":206240}]
["PAYMENTS TO OTHER DIST & GOVT UNITS (TR)"]
["PAYMENTS TO OTHER DIST & GOVT UNITS  (IN-STATE)"]
["Payments for Regular Programs",4110,null,null,{"$f":"'AFR19'!B2935","v":4775024},null,null,{"$f":"'AFR19'!B2941","v":116116},null,null,{"$f":"SUM(E188,H188)","v":4891140}]
["Payments for Special Education Programs",4120,null,null,{"$f":"'AFR19'!B2936","v":7929650},null,null,{"$f":"'AFR19'!B2942","v":855652},null,null,8785302]
["Payments for Adult/Continuing Education Programs",4130,null,null,{"$f":"'AFR19'!B2937","v":0},null,null,{"$f":"'AFR19'!B2943","v":0},null,null,0]
["Payments for CTE Programs",4140,null,null,{"$f":"'AFR19'!B2938","v":28394},null,null,{"$f":"'AFR19'!B2944","v":28269},null,null,56663]
["Payments for Community College Programs",4170,null,null,{"$f":"'AFR19'!B2939","v":0},null,null,{"$f":"'AFR19'!B2945","v":0},null,null,0]
["Other Payments to In-State Govt. Units                                (Describe & Itemize)",4190,null,null,{"$f":"'AFR19'!B2940","v":187626},null,null,{"$f":"'AFR19'!B2946","v":703255},null,null,890881]
["Total Payments to Other Govt. Units (In-State) ","4100",null,null,{"$f":"SUM(E188:E193)","v":12920694},null,null,{"$f":"SUM(H188:H193)","v":1703292},null,null,{"$f":"SUM(K188:K193)","v":14623986}]
["PAYMENTS TO OTHER GOVT UNITS (OUT-OF-STATE)","4400",null,null,{"$f":"'AFR19'!B2770","v":0},null,null,{"$f":"'AFR19'!B2775","v":283},null,null,{"$f":"SUM(E195,H195)","v":283}]
["Total Payments to Other Dist & Govt Units","4000",null,null,{"$f":"SUM(E194:E195)","v":12920694},null,null,{"$f":"SUM(H194:H195)","v":1703575},null,null,{"$f":"SUM(K194:K195)","v":14624269}]
["DEBT SERVICES (TR)"]
["DEBT SERVICE - INTEREST ON SHORT-TERM DEBT"]
["Tax Anticipation Warrants",5110,null,null,null,null,null,{"$f":"'AFR19'!B1317","v":1876},null,null,{"$f":"SUM(H199)","v":1876}]
["Tax Anticipation Notes",5120,null,null,null,null,null,{"$f":"'AFR19'!B1318","v":0},null,null,{"$f":"SUM(H200)","v":0}]
["Corporate Personal Prop. Repl. Tax Anticipation Notes","5130",null,null,null,null,null,{"$f":"'AFR19'!B2777","v":0},null,null,{"$f":"SUM(H201)","v":0}]
["State Aid Anticipation Certificates","5140",null,null,null,null,null,{"$f":"'AFR19'!B2778","v":0},null,null,{"$f":"SUM(H202)","v":0}]
["Other (Describe & Itemize)","5150",null,null,null,null,null,{"$f":"'AFR19'!B1319","v":176985},null,null,{"$f":"SUM(H203)","v":176985}]
["Total Debt Services - Interest On Short-Term Debt","5100",null,null,null,null,null,{"$f":"SUM(H199:H203)","v":178861},null,null,{"$f":"SUM(K199:K203)","v":178861}]
["DEBT SERVICES - INTEREST ON LONG-TERM DEBT","5200",null,null,null,null,null,{"$f":"'AFR19'!B7013","v":1239466},null,null,{"$f":"SUM(H205)","v":1239466}]
["DEBT SERVICE - PAYMENTS OF PRINCIPAL ON LONG-TERM DEBT (Lease/Purchase Principal Retired) 11","5300",null,null,null,null,null,{"$f":"'AFR19'!B4156","v":14777034},null,null,{"$f":"SUM(H206)","v":14777034}]
["DEBT SERVICES - OTHER (Describe & Itemize)","5400",null,null,null,null,null,{"$f":"'AFR19'!B7015","v":675167},null,null,{"$f":"SUM(H207)","v":675167}]
["Total Debt Services",null,null,null,null,null,null,{"$f":"SUM(H204:H207)","v":16870528},null,null,{"$f":"SUM(K204:K207)","v":16870528}]
["PROVISION FOR CONTINGENCIES (TR)","6000"]
["Total Disbursements/ Expenditures ",null,{"$f":"SUM(C184,C185,C196,C208,C209)","v":261206795.81999999},43377071.960000001,787302049.57000005,69179898.870000005,67723085,21735912.039999999,1423797,90028,1252038638.26]
["Excess (Deficiency) of Receipts/Revenues Over Disbursements/Expenditures",null,null,null,null,null,null,null,null,null,{"$f":"SUM('Revenues 9-14'!F268-'Expenditures 15-22'!K210)","v":71346042.75}]
[]
["50 - MUNICIPAL RETIREMENT/SS FUND (MR/SS)"]
["INSTRUCTION (MR/SS)"]
["Regular Programs",1100,null,{"$f":"'AFR19'!B3333","v":107099774.84},null,null,null,null,null,null,{"$f":"D215","v":107099774.84}]
["Pre-K Programs","1125",null,{"$f":"'AFR19'!B7019","v":5490910.0300000003},null,null,null,null,null,null,{"$f":"D216","v":5490910.0300000003}]
["Special Education Programs (Functions 1200-1220)",1200,null,{"$f":"'AFR19'!B3334","v":93495399.290000007},null,null,null,null,null,null,93495399.290000007]
["Special Education Programs - Pre-K","1225",null,{"$f":"'AFR19'!B7021","v":3676885},null,null,null,null,null,null,3676885]
["Remedial and Supplemental Programs - K-12",1250,null,{"$f":"'AFR19'!B3010","v":7164784.2000000002},null,null,null,null,null,null,7164784.2000000002]
["Remedial and Supplemental Programs - Pre-K","1275",null,{"$f":"'AFR19'!B7023","v":481136},null,null,null,null,null,null,481136]
["Adult/Continuing Education Programs",1300,null,{"$f":"'AFR19'!B1352","v":709696},null,null,null,null,null,null,709696]
["CTE Programs",1400,null,{"$f":"'AFR19'!B1353","v":3072399},null,null,null,null,null,null,3072399]
["Interscholastic Programs",1500,null,{"$f":"'AFR19'!B1354","v":12256809.300000001},null,null,null,null,null,null,12256809.300000001]
["Summer School Programs",1600,null,{"$f":"'AFR19'!B1355","v":1878772},null,null,null,null,null,null,1878772]
["Gifted Programs",1650,null,{"$f":"'AFR19'!B1342","v":724191},null,null,null,null,null,null,724191]
["Driver's Education Programs","1700",null,{"$f":"'AFR19'!B7025","v":548282},null,null,null,null,null,null,548282]
["Bilingual Programs",1800,null,{"$f":"'AFR19'!B1348","v":8228119.2400000002},null,null,null,null,null,null,8228119.2400000002]
["Truants' Alternative & Optional Programs",1900,null,{"$f":"'AFR19'!B3335","v":676963},null,null,null,null,null,null,676963]
["Total Instruction","1000",null,{"$f":"SUM(D215:D228)","v":245504120.90000004},null,null,null,null,null,null,{"$f":"SUM(K215:K228)","v":245504120.90000004}]
["SUPPORT SERVICES (MR/SS)","2000"]
["SUPPORT SERVICES - PUPILS"]
["Attendance & Social Work Services",2110,null,{"$f":"'AFR19'!B1357","v":8400268},null,null,null,null,null,null,{"$f":"D232","v":8400268}]
["Guidance Services",2120,null,{"$f":"'AFR19'!B1358","v":6879574},null,null,null,null,null,null,6879574]
["Health Services",2130,null,{"$f":"'AFR19'!B1359","v":17467211},null,null,null,null,null,null,17467211]
["Psychological Services",2140,null,{"$f":"'AFR19'!B1360","v":1955428},null,null,null,null,null,null,1955428]
["Speech Pathology & Audiology Services",2150,null,{"$f":"'AFR19'!B1361","v":2869223},null,null,null,null,null,null,2869223]
["Other Support Services - Pupils (Describe & Itemize)",2190,null,{"$f":"'AFR19'!B1362","v":6796918},null,null,null,null,null,null,6796918]
["Total Support Services - Pupils","2100",null,{"$f":"SUM(D232:D237)","v":44368622},null,null,null,null,null,null,{"$f":"SUM(K232:K237)","v":44368622}]
["SUPPORT SERVICES - INSTRUCTIONAL STAFF"]
["Improvement of Instruction Services",2210,null,{"$f":"'AFR19'!B1364","v":8106994.2599999998},null,null,null,null,null,null,{"$f":"D240","v":8106994.2599999998}]
["Educational Media Services",2220,null,{"$f":"'AFR19'!B1365","v":16875500.390000001},null,null,null,null,null,null,{"$f":"D241","v":16875500.390000001}]
["Assessment & Testing",2230,null,{"$f":"'AFR19'!B1366","v":657445},null,null,null,null,null,null,{"$f":"D242","v":657445}]
["Total Support Services - Instructional Staff",2200,null,{"$f":"SUM(D240:D242)","v":25639939.649999999},null,null,null,null,null,null,{"$f":"SUM(K240:K242)","v":25639939.649999999}]
["SUPPORT SERVICES - GENERAL ADMINISTRATION"]
["Board of Education Services",2310,null,{"$f":"'AFR19'!B1368","v":5886901},null,null,null,null,null,null,{"$f":"D245","v":5886901}]
["Executive Administration Services",2320,null,{"$f":"'AFR19'!B1369","v":9568386.9499999993},null,null,null,null,null,null,{"$f":"D246","v":9568386.9499999993}]
["Service Area Administrative Services",2330,null,{"$f":"'AFR19'!B2671","v":3386876},null,null,null,null,null,null,3386876]
["Claims Paid from Self Insurance Fund","2361",null,{"$f":"'AFR19'!B7027","v":61555},null,null,null,null,null,null,61555]
["Workers' Compensation or Workers' Occupation Disease Acts Payments","2362",null,{"$f":"'AFR19'!B7029","v":6034},null,null,null,null,null,null,6034]
["Unemployment Insurance Payments","2363",null,{"$f":"'AFR19'!B7031","v":0},null,null,null,null,null,null,0]
["Insurance Payments (Regular or Self-Insurance)","2364",null,{"$f":"'AFR19'!B7033","v":0},null,null,null,null,null,null,0]
["Risk Management and Claims Services Payments","2365",null,{"$f":"'AFR19'!B7035","v":580867},null,null,null,null,null,null,580867]
["Judgment and Settlements","2366",null,{"$f":"'AFR19'!B7037","v":71000},null,null,null,null,null,null,71000]
["Educational, Inspectional, Supervisory Services Related to Loss Prevention or Reduction","2367",null,{"$f":"'AFR19'!B7039","v":4483809},null,null,null,null,null,null,4483809]
["Reciprocal Insurance Payments","2368",null,{"$f":"'AFR19'!B7041","v":0},null,null,null,null,null,null,0]
["Legal Services","2369",null,{"$f":"'AFR19'!B7043","v":180934},null,null,null,null,null,null,180934]
["Total Support Services - General Administration",2300,null,{"$f":"SUM(D245:D256)","v":24226362.949999999},null,null,null,null,null,null,{"$f":"SUM(K245:K256)","v":24226362.949999999}]
["SUPPORT SERVICES - SCHOOL ADMINISTRATION"]
["Office of the Principal Services",2410,null,{"$f":"'AFR19'!B1371","v":44253054.689999998},null,null,null,null,null,null,{"$f":"D259","v":44253054.689999998}]
["Other Support Services - School Administration                                      (Describe & Itemize)",2490,null,{"$f":"'AFR19'!B1372","v":2151594},null,null,null,null,null,null,{"$f":"D260","v":2151594}]
["Total Support Services - School Administration","2400",null,{"$f":"SUM(D259:D260)","v":46404648.689999998},null,null,null,null,null,null,{"$f":"SUM(K259:K260)","v":46404648.689999998}]
["SUPPORT SERVICES - BUSINESS"]
["Direction of Business Support Services",2510,null,{"$f":"'AFR19'!B1374","v":4097401},null,null,null,null,null,null,{"$f":"D263","v":4097401}]
["Fiscal Services",2520,null,{"$f":"'AFR19'!B1375","v":16867659.789999999},null,null,null,null,null,null,16867659.789999999]
["Facilities Acquisition & Construction Services",2530,null,{"$f":"'AFR19'!B1376","v":244106},null,null,null,null,null,null,244106]
["Operation & Maintenance of Plant Services",2540,null,{"$f":"'AFR19'!B1377","v":110501421.71000001},null,null,null,null,null,null,110501421.71000001]
["Pupil Transportation Services",2550,null,{"$f":"'AFR19'!B1378","v":42297371.469999999},null,null,null,null,null,null,42297371.469999999]
["Food Services",2560,null,{"$f":"'AFR19'!B1379","v":21924642.449999999},null,null,null,null,null,null,21924642.449999999]
["Internal Services",2570,null,{"$f":"'AFR19'!B1380","v":1607942},null,null,null,null,null,null,1607942]
["Total Support Services - Business","2500",null,{"$f":"SUM(D263:D269)","v":197540544.41999999},null,null,null,null,null,null,{"$f":"SUM(K263:K269)","v":197540544.41999999}]
["SUPPORT SERVICES - CENTRAL"]
["Direction of Central Support Services",2610,null,{"$f":"'AFR19'!B1383","v":501894},null,null,null,null,null,null,{"$f":"D272","v":501894}]
["Planning, Research, Development, & Evaluation Services",2620,null,{"$f":"'AFR19'!B1384","v":1202154},null,null,null,null,null,null,{"$f":"D273","v":1202154}]
["Information Services",2630,null,{"$f":"'AFR19'!B1385","v":4018947},null,null,null,null,null,null,{"$f":"D274","v":4018947}]
["Staff Services",2640,null,{"$f":"'AFR19'!B1386","v":5524543},null,null,null,null,null,null,{"$f":"D275","v":5524543}]
["Data Processing Services",2660,null,{"$f":"'AFR19'!B1388","v":15653662},null,null,null,null,null,null,{"$f":"D276","v":15653662}]
["Total Support Services - Central","2600",null,{"$f":"SUM(D272:D276)","v":26901200},null,null,null,null,null,null,{"$f":"SUM(K272:K276)","v":26901200}]
["OTHER SUPPORT SERVICES  (Describe & Itemize)","2900",null,{"$f":"'AFR19'!B1391","v":1250599},null,null,null,null,null,null,{"$f":"D278","v":1250599}]
["Total Support Services",2000,null,{"$f":"SUM(D238,D243,D257,D261,D270,D277,D278)","v":366331916.71000004},null,null,null,null,null,null,{"$f":"SUM(K238,K243,K257,K261,K270,K277,K278)","v":366331916.71000004}]
[" ",3000,null,{"$f":"'AFR19'!B1393","v":6389057.5999999996},null,null,null,null,null,null,{"$f":"D280","v":6389057.5999999996}]
["PAYMENTS TO OTHER DIST & GOVT UNITS (MR/SS)"]
["Payments for Regular Programs","4110",null,{"$f":"'AFR19'!B7729","v":234451},null,null,null,null,null,null,{"$f":"D282","v":234451}]
["Payments for Special Education Programs",4120,null,{"$f":"'AFR19'!B3667","v":1598643},null,null,null,null,null,null,{"$f":"D283","v":1598643}]
["Payments for CTE Programs",4140,null,{"$f":"'AFR19'!B4111","v":0},null,null,null,null,null,null,{"$f":"D284","v":0}]
["Total Payments to Other Dist & Govt Units","4000",null,{"$f":"SUM(D282:D284)","v":1833094},null,null,null,null,null,null,{"$f":"SUM(K282:K284)","v":1833094}]
["DEBT SERVICES (MR/SS)"]
["DEBT SERVICE - INTEREST ON SHORT-TERM DEBT"]
["Tax Anticipation Warrants",5110,null,null,null,null,null,{"$f":"'AFR19'!B1395","v":0},null,null,{"$f":"H288","v":0}]
["Tax Anticipation Notes",5120,null,null,null,null,null,{"$f":"'AFR19'!B1396","v":0},null,null,{"$f":"H289","v":0}]
["Corporate Personal Prop. Repl. Tax Anticipation Notes","5130",null,null,null,null,null,{"$f":"'AFR19'!B2789","v":0},null,null,{"$f":"H290","v":0}]
["State Aid Anticipation Certificates","5140",null,null,null,null,null,{"$f":"'AFR19'!B2790","v":0},null,null,{"$f":"H291","v":0}]
["Other (Describe & Itemize)","5150",null,null,null,null,null,{"$f":"'AFR19'!B1397","v":7},null,null,{"$f":"H292","v":7}]
["Total Debt Services - Interest","5000",null,null,null,null,null,{"$f":"SUM(H288:H292)","v":7},null,null,{"$f":"SUM(K288:K292)","v":7}]
["PROVISION FOR CONTINGENCIES (MR/SS)","6000"]
["Total Disbursements/Expenditures",null,null,{"$f":"SUM(D229,D279,D280,D285,D293,D294)","v":620058189.21000016},null,null,null,{"$f":"SUM(H229,H279,H280,H285,H293,H294)","v":7},null,null,{"$f":"SUM(K229,K279,K280,K285,K293,K294)","v":620058196.21000016}]
["Excess (Deficiency) of Receipts/Revenues Over Disbursements/Expenditures",null,null,null,null,null,null,null,null,null,{"$f":"'Revenues 9-14'!G268-'Expenditures 15-22'!K295","v":29511296.649999857}]
[]
["60 - CAPITAL PROJECTS (CP)"]
["   SUPPORT SERVICES (CP)"]
["SUPPORT SERVICES - BUSINESS"]
["Facilities Acquisition and Construction Services",2530,{"$f":"'AFR19'!B1465","v":1950915},{"$f":"'AFR19'!B1471","v":4053694},{"$f":"'AFR19'!B1477","v":134531689.23000002},{"$f":"'AFR19'!B1483","v":5245587.75},{"$f":"'AFR19'!B1489","v":1819086126.8199999},{"$f":"'AFR19'!B1495","v":36383095},{"$f":"'AFR19'!B7045","v":8128134},{"$f":"'AFR19'!B7046","v":17799},{"$f":"SUM(C301:J301)","v":2009397040.8}]
["Other Support Services (Describe & Itemize)","2900",{"$f":"'AFR19'!B1468","v":0},{"$f":"'AFR19'!B1474","v":0},{"$f":"'AFR19'!B1480","v":2919487},{"$f":"'AFR19'!B1486","v":298842},{"$f":"'AFR19'!B1492","v":2195504},{"$f":"'AFR19'!B1498","v":700382},{"$f":"'AFR19'!B7047","v":10750},{"$f":"'AFR19'!B7048","v":0},{"$f":"SUM(C302:J302)","v":6124965}]
["Total Support Services","2000",{"$f":"SUM(C301:C302)","v":1950915},{"$f":"SUM(D301:D302)","v":4053694},137451176.23000002,5544429.75,1821281630.8199999,37083477,8138884,17799,2015522005.8]
["PAYMENTS TO OTHER DIST & GOVT UNITS (CP)"]
["PAYMENTS TO OTHER GOVT UNITS (In-State)"]
["Payments for Regular Programs","4110",null,null,{"$f":"'AFR19'!B7051","v":0},null,null,{"$f":"'AFR19'!B7052","v":0},null,null,{"$f":"SUM(E306,H306)","v":0}]
["Payments for Special Education Programs",4120,null,null,{"$f":"'AFR19'!B7054","v":0},null,null,{"$f":"'AFR19'!B7055","v":0},null,null,{"$f":"SUM(E307,H307)","v":0}]
["Payments for CTE Programs",4140,null,null,{"$f":"'AFR19'!B7056","v":0},null,null,{"$f":"'AFR19'!B7057","v":0},null,null,{"$f":"SUM(E308,H308)","v":0}]
["Other Payments to In-State Govt. Units (Describe & Itemize)",4190,null,null,{"$f":"'AFR19'!B7058","v":300},null,null,{"$f":"'AFR19'!B7059","v":633562},null,null,{"$f":"SUM(E309,H309)","v":633862}]
["Total Payments to Other Dist & Govt Units","4000",null,null,{"$f":"SUM(E306:E309)","v":300},null,null,{"$f":"SUM(H306:H309)","v":633562},null,null,{"$f":"SUM(K306:K309)","v":633862}]
["PROVISION FOR CONTINGENCIES (S&C/CI)","6000"]
["Total Disbursements/ Expenditures ",null,{"$f":"SUM(C303,C310,C311)","v":1950915},{"$f":"SUM(D303,D310,D311)","v":4053694},137451476.23000002,5544429.75,1821281630.8199999,37717039,8138884,17799,2016155867.8]
["Excess (Deficiency) of Receipts/Revenues Over Disbursements/Expenditures",null,null,null,null,null,null,null,null,null,{"$f":"'Revenues 9-14'!H268-'Expenditures 15-22'!K312","v":-1733870209.6199999}]
[]
["70 - WORKING CASH (WC)"]
[]
["80 - TORT FUND (TF)"]
["SUPPORT SERVICES - GENERAL ADMINISTRATION"]
["Claims Paid from Self Insurance Fund","2361",{"$f":"'AFR19'!B7064","v":294994},{"$f":"'AFR19'!B7065","v":144434},{"$f":"'AFR19'!B7066","v":2613742},{"$f":"'AFR19'!B7067","v":51177},{"$f":"'AFR19'!B7068","v":58014},{"$f":"'AFR19'!B7069","v":0},{"$f":"'AFR19'!B7070","v":0},{"$f":"'AFR19'!B7071","v":0},{"$f":"SUM(C319:J319)","v":3162361}]
["Workers' Compensation or Workers' Occupation Disease Acts Payments","2362",{"$f":"'AFR19'!B7073","v":227082},{"$f":"'AFR19'!B7074","v":2029309},{"$f":"'AFR19'!B7075","v":60833004},{"$f":"'AFR19'!B7076","v":2625},{"$f":"'AFR19'!B7077","v":0},{"$f":"'AFR19'!B7078","v":1341435},{"$f":"'AFR19'!B7079","v":0},{"$f":"'AFR19'!B7080","v":0},{"$f":"SUM(C320:J320)","v":64433455}]
["Unemployment Insurance Payments","2363",{"$f":"'AFR19'!B7082","v":650},{"$f":"'AFR19'!B7083","v":283186},{"$f":"'AFR19'!B7084","v":3652302},{"$f":"'AFR19'!B7085","v":0},{"$f":"'AFR19'!B7086","v":0},{"$f":"'AFR19'!B7087","v":26642},{"$f":"'AFR19'!B7088","v":0},{"$f":"'AFR19'!B7089","v":3145},3965925]
["Insurance Payments (Regular or Self-Insurance)","2364",{"$f":"'AFR19'!B7091","v":118535},{"$f":"'AFR19'!B7092","v":64480},{"$f":"'AFR19'!B7093","v":51578119},{"$f":"'AFR19'!B7094","v":67612},{"$f":"'AFR19'!B7095","v":52972},{"$f":"'AFR19'!B7096","v":312139},{"$f":"'AFR19'!B7097","v":0},{"$f":"'AFR19'!B7098","v":0},52193857]
["Risk Management and Claims Services Payments","2365",{"$f":"'AFR19'!B7100","v":17032362},{"$f":"'AFR19'!B7101","v":1239960},{"$f":"'AFR19'!B7102","v":13623237},{"$f":"'AFR19'!B7103","v":343906},{"$f":"'AFR19'!B7104","v":1354131},{"$f":"'AFR19'!B7105","v":124138},{"$f":"'AFR19'!B7106","v":44716},{"$f":"'AFR19'!B7107","v":2848},33765298]
["Judgment and Settlements","2366",{"$f":"'AFR19'!B7109","v":295244},{"$f":"'AFR19'!B7110","v":13135},{"$f":"'AFR19'!B7111","v":1180231},{"$f":"'AFR19'!B7112","v":0},{"$f":"'AFR19'!B7113","v":0},{"$f":"'AFR19'!B7114","v":1244377},{"$f":"'AFR19'!B7115","v":0},{"$f":"'AFR19'!B7116","v":0},2732987]
["Educational, Inspectional, Supervisory Services Related to Loss Prevention or Reduction","2367",{"$f":"'AFR19'!B7118","v":127985312},{"$f":"'AFR19'!B7119","v":24128927},{"$f":"'AFR19'!B7120","v":30848584},{"$f":"'AFR19'!B7121","v":882883},{"$f":"'AFR19'!B7122","v":2324805},{"$f":"'AFR19'!B7123","v":585219},{"$f":"'AFR19'!B7124","v":174084},{"$f":"'AFR19'!B7125","v":697985},187627799]
["Reciprocal Insurance Payments","2368",{"$f":"'AFR19'!B7127","v":0},{"$f":"'AFR19'!B7128","v":0},{"$f":"'AFR19'!B7129","v":19194},{"$f":"'AFR19'!B7130","v":0},{"$f":"'AFR19'!B7131","v":0},{"$f":"'AFR19'!B7132","v":0},{"$f":"'AFR19'!B7133","v":0},{"$f":"'AFR19'!B7134","v":0},19194]
["Legal Services","2369",{"$f":"'AFR19'!B7136","v":640938},{"$f":"'AFR19'!B7137","v":104206},{"$f":"'AFR19'!B7138","v":11865645},{"$f":"'AFR19'!B7139","v":19178},{"$f":"'AFR19'!B7140","v":8545},{"$f":"'AFR19'!B7141","v":115677},{"$f":"'AFR19'!B7142","v":0},{"$f":"'AFR19'!B7143","v":0},12754189]
["Property Insurance (Buildings & Grounds)","2371",{"$f":"'AFR19'!B7634","v":0},{"$f":"'AFR19'!B7635","v":101479},{"$f":"'AFR19'!B7636","v":17680376},{"$f":"'AFR19'!B7637","v":0},{"$f":"'AFR19'!B7638","v":8140},{"$f":"'AFR19'!B7639","v":0},{"$f":"'AFR19'!B7640","v":0},{"$f":"'AFR19'!B7641","v":0},17789995]
["Vehicle Insurance (Transportation)","2372",{"$f":"'AFR19'!B7643","v":0},{"$f":"'AFR19'!B7644","v":0},{"$f":"'AFR19'!B7645","v":1157443},{"$f":"'AFR19'!B7646","v":0},{"$f":"'AFR19'!B7647","v":0},{"$f":"'AFR19'!B7648","v":0},{"$f":"'AFR19'!B7649","v":0},{"$f":"'AFR19'!B7650","v":0},1157443]
["Total Support Services - General Administration","2000",{"$f":"SUM(C319:C329)","v":146595117},{"$f":"SUM(D319:D329)","v":28109116},195051877,1367381,3806607,3749627,218800,703978,379602503]
["Payments to Other Dist & Govt Units (TF)","4000"]
["Payments for Regular Programs","4110",null,null,null,null,null,{"$f":"'AFR19'!B7731","v":488969},null,null,{"$f":"H332","v":488969}]
["Payments for Special Education Programs","4120",null,null,null,null,null,{"$f":"'AFR19'!B7733","v":317631},null,null,{"$f":"H333","v":317631}]
["Total Payments to Other Dist & Govt Units","4000",null,null,null,null,null,{"$f":"SUM(H332:H333)","v":806600},null,null,{"$f":"SUM(K332:K333)","v":806600}]
["DEBT SERVICES (TF)","5000"]
["DEBT SERVICES - INTEREST ON SHORT-TERM DEBT"]
["Tax Anticipation Warrants","5110",null,null,null,null,null,{"$f":"'AFR19'!B7154","v":0},null,null,{"$f":"H337","v":0}]
["Corporate Personal Prop. Repl. Tax Anticipation Notes","5130",null,null,null,null,null,{"$f":"'AFR19'!B7156","v":0},null,null,{"$f":"H338","v":0}]
["Other Interest or Short-Term Debt",5150,null,null,null,null,null,{"$f":"'AFR19'!B7158","v":0},null,null,{"$f":"H339","v":0}]
["Total Debt Services - Interest on Short-Term Debt","5000",null,null,null,null,null,{"$f":"SUM(H337:H339)","v":0},null,null,{"$f":"SUM(K337:K339)","v":0}]
["PROVISIONS FOR CONTINGENCIES (TF)","6000"]
["Total Disbursements/Expenditures",null,{"$f":"SUM(C330,C340:C341)","v":146595117},{"$f":"SUM(D330,D340:D341)","v":28109116},195051877,1367381,3806607,{"$f":"SUM(H330,H334,H340:H341)","v":4556227},218800,703978,{"$f":"SUM(K330,K334,K340:K341)","v":380409103}]
["Excess (Deficiency) of Receipts/Revenues Over Disbursements/Expenditures",null,null,null,null,null,null,null,null,null,{"$f":"SUM('Revenues 9-14'!J268-'Expenditures 15-22'!K342)","v":10032750.189999998}]
[]
["90 - FIRE PREVENTION & SAFETY FUND (FP&S)"]
["SUPPORT SERVICES (FP&S)"]
["SUPPORT SERVICES - BUSINESS"]
["Facilities Acquisition & Construction Services",2530,{"$f":"'AFR19'!B3563","v":265599},{"$f":"'AFR19'!B3570","v":30149},{"$f":"'AFR19'!B3577","v":8520392},{"$f":"'AFR19'!B3584","v":102231},{"$f":"'AFR19'!B3591","v":117034836},{"$f":"'AFR19'!B3598","v":2330},{"$f":"'AFR19'!B7172","v":1000186},{"$f":"'AFR19'!B7173","v":0},{"$f":"SUM(C348:J348)","v":126955723}]
["Operation & Maintenance of Plant Services",2540,{"$f":"'AFR19'!B3564","v":1201913},{"$f":"'AFR19'!B3571","v":143954},{"$f":"'AFR19'!B3578","v":9530582.5099999998},{"$f":"'AFR19'!B3585","v":205880.31},{"$f":"'AFR19'!B3592","v":38254340},{"$f":"'AFR19'!B3599","v":219578},{"$f":"'AFR19'!B7174","v":4366},{"$f":"'AFR19'!B7175","v":0},{"$f":"SUM(C349:J349)","v":49560613.82}]
["Total Support Services - Business","2500",{"$f":"SUM(C348:C349)","v":1467512},{"$f":"SUM(D348:D349)","v":174103},18050974.509999998,308111.31,155289176,221908,1004552,0,176516336.81999999]
["Other Support Services (Describe & Itemize)","2900",{"$f":"'AFR19'!B3566","v":32581},{"$f":"'AFR19'!B3573","v":0},{"$f":"'AFR19'!B3580","v":33544},{"$f":"'AFR19'!B3587","v":0},{"$f":"'AFR19'!B3594","v":0},{"$f":"'AFR19'!B3601","v":390824},{"$f":"'AFR19'!B7178","v":13050},{"$f":"'AFR19'!B7179","v":0},{"$f":"SUM(C351:J351)","v":469999}]
["Total Support Services","2000",{"$f":"SUM(C350:C351)","v":1500093},{"$f":"SUM(D350:D351)","v":174103},18084518.509999998,308111.31,155289176,612732,1017602,0,176986335.81999999]
["PAYMENTS TO OTHER DIST & GOVT UNITS (FP&S)"]
["Payments for Regular Programs","4110",null,null,null,null,null,{"$f":"'AFR19'!B7737","v":0},null,null,{"$f":"H354","v":0}]
["Payments for Special Education Programs",4120,null,null,null,null,null,{"$f":"'AFR19'!B7739","v":0},null,null,{"$f":"H355","v":0}]
["Other Payments to In-State Govt. Units (Describe & Itemize)","4190",null,null,null,null,null,{"$f":"'AFR19'!B3619","v":13759},null,null,{"$f":"H356","v":13759}]
["Total Payments to Other Dist & Govt Units","4000",null,null,null,null,null,{"$f":"SUM(H354:H356)","v":13759},null,null,{"$f":"SUM(K354:K356)","v":13759}]
["DEBT SERVICES (FP&S)"]
["DEBT SERVICES- INTEREST ON SHORT-TERM DEBT"]
["Tax Anticipation Warrants",5110,null,null,null,null,null,{"$f":"'AFR19'!B3603","v":0},null,null,{"$f":"H360","v":0}]
["Other Interest on Short-Term Debt (Describe & Itemize)","5150",null,null,null,null,null,{"$f":"'AFR19'!B7184","v":0},null,null,{"$f":"H361","v":0}]
["Total Debt Service - Interest on Short-Term Debt","5100",null,null,null,null,null,{"$f":"SUM(H360:H361)","v":0},null,null,{"$f":"SUM(K360:K361)","v":0}]
["DEBT SERVICES - INTEREST ON LONG-TERM DEBT","5200",null,null,null,null,null,{"$f":"'AFR19'!B7186","v":116910},null,null,{"$f":"H363","v":116910}]
["Debt Service - Payments of Principal on Long-Term Debt (Lease/Purchase Principal Retired)","5300",null,null,null,null,null,{"$f":"'AFR19'!B7691","v":196110},null,null,{"$f":"H364","v":196110}]
["Total Debt Service","5000",null,null,null,null,null,{"$f":"SUM(H362:H364)","v":313020},null,null,{"$f":"SUM(K362:K364)","v":313020}]
["PROVISION FOR CONTINGENCIES (FP&S)","6000"]
["Total Disbursements/Expenditures",null,{"$f":"SUM(C352,C357,C365,C366)","v":1500093},{"$f":"SUM(D352,D357,D365,D366)","v":174103},18084518.509999998,308111.31,155289176,939511,1017602,0,177313114.81999999]
["Excess (Deficiency) of Receipts/Revenues Over Disbursements/Expenditures",null,null,null,null,null,null,null,null,null,{"$f":"SUM('Revenues 9-14'!K268-'Expenditures 15-22'!K367)","v":-116114050.75999999}]

{"sheet":"ARRA Sched 23","index":6,"n_rows":56,"n_cols":14,"rows_kept":56,"cut":false,"hidden":true,"merged":[[0,3,0,11],[0,12,0,13],[0,0,1,1],[49,1,54,11]]}
[null,null,"----RECEIPTS----","-------------------------------------------------------------------------------------------DISBURSEMENTS------------------------------------------------------------------------------------",null,null,null,null,null,null,null,null,"-----------STAFFING------------"]
[null,null,null,"(100)","(200)","(300)","(400)","(500)","(600)","(700)","(800)","(900)"]
["ARRA Revenue Source Code","Acct #","ARRA Receipts","Salaries","Employee Benefits","Purchased Services","Supplies & Materials","Capital Outlay","Other","Non-Capitalized Equipment","Termination Benefits","Total Expenditures","# of Staff Impacted by Salary & Benefits"," FTE Staff Impacted by Salary & Benefits"]
["Beginning Balance July 1, 2015",null,{"$f":"'AFR19'!B7215","v":0}]
["ARRA -General State Aid 13",4850,{"$f":"'AFR19'!B7216","v":0},{"$f":"'AFR19'!B7246","v":0},{"$f":"'AFR19'!B7275","v":0},{"$f":"'AFR19'!B7304","v":0},{"$f":"'AFR19'!B7333","v":0},{"$f":"'AFR19'!B7362","v":0},{"$f":"'AFR19'!B7391","v":0},{"$f":"'AFR19'!B7420","v":0},null,{"$f":"'AFR19'!B7449","v":0},7471,7500]
["ARRA - Title I Low Income",4851,{"$f":"'AFR19'!B7217","v":0},{"$f":"'AFR19'!B7247","v":0},{"$f":"'AFR19'!B7276","v":0},{"$f":"'AFR19'!B7305","v":0},{"$f":"'AFR19'!B7334","v":0},{"$f":"'AFR19'!B7363","v":0},{"$f":"'AFR19'!B7392","v":0},{"$f":"'AFR19'!B7421","v":0},null,{"$f":"'AFR19'!B7450","v":0},7472,7501]
["ARRA - Title I Neglected - Private",4852,{"$f":"'AFR19'!B7218","v":0},{"$f":"'AFR19'!B7248","v":0},{"$f":"'AFR19'!B7277","v":0},{"$f":"'AFR19'!B7306","v":0},{"$f":"'AFR19'!B7335","v":0},42916,{"$f":"'AFR19'!B7393","v":0},{"$f":"'AFR19'!B7422","v":0},null,{"$f":"'AFR19'!B7451","v":0},7473,7502]
["ARRA - Title I Delinquent - Private",4853,{"$f":"'AFR19'!B7219","v":0},{"$f":"'AFR19'!B7249","v":0},{"$f":"'AFR19'!B7278","v":0},{"$f":"'AFR19'!B7307","v":0},{"$f":"'AFR19'!B7336","v":0},{"$f":"'AFR19'!B7365","v":0},{"$f":"'AFR19'!B7394","v":0},{"$f":"'AFR19'!B7423","v":0},null,{"$f":"'AFR19'!B7452","v":0},7474,7503]
["ARRA - Title I School Improvement (Part A)",4854,{"$f":"'AFR19'!B7220","v":0},{"$f":"'AFR19'!B7250","v":0},{"$f":"'AFR19'!B7279","v":0},{"$f":"'AFR19'!B7308","v":0},{"$f":"'AFR19'!B7337","v":0},{"$f":"'AFR19'!B7366","v":0},{"$f":"'AFR19'!B7395","v":0},{"$f":"'AFR19'!B7424","v":0},null,{"$f":"'AFR19'!B7453","v":0},7475,7504]
["ARRA - Title I School Improvement (Part G)",4855,{"$f":"'AFR19'!B7221","v":0},{"$f":"'AFR19'!B7251","v":0},{"$f":"'AFR19'!B7280","v":0},{"$f":"'AFR19'!B7309","v":0},{"$f":"'AFR19'!B7338","v":0},{"$f":"'AFR19'!B7367","v":0},{"$f":"'AFR19'!B7396","v":0},{"$f":"'AFR19'!B7425","v":0},null,{"$f":"'AFR19'!B7454","v":0},7476,7505]
["ARRA - IDEA Part B Preschool",4856,{"$f":"'AFR19'!B7222","v":0},{"$f":"'AFR19'!B7252","v":0},{"$f":"'AFR19'!B7281","v":0},{"$f":"'AFR19'!B7310","v":0},{"$f":"'AFR19'!B7339","v":0},{"$f":"'AFR19'!B7368","v":0},{"$f":"'AFR19'!B7397","v":0},{"$f":"'AFR19'!B7426","v":0},null,{"$f":"'AFR19'!B7455","v":0},7477,7506]
["ARRA - IDEA Part B Flow Through",4857,{"$f":"'AFR19'!B7223","v":0},{"$f":"'AFR19'!B7253","v":0},{"$f":"'AFR19'!B7282","v":0},{"$f":"'AFR19'!B7311","v":0},{"$f":"'AFR19'!B7340","v":0},{"$f":"'AFR19'!B7369","v":0},{"$f":"'AFR19'!B7398","v":0},{"$f":"'AFR19'!B7427","v":0},null,{"$f":"'AFR19'!B7456","v":0},7478,7507]
["ARRA - Title II D Technology Formula",4860,{"$f":"'AFR19'!B7224","v":0},{"$f":"'AFR19'!B7254","v":0},{"$f":"'AFR19'!B7283","v":0},{"$f":"'AFR19'!B7312","v":0},{"$f":"'AFR19'!B7341","v":0},{"$f":"'AFR19'!B7370","v":0},{"$f":"'AFR19'!B7399","v":0},{"$f":"'AFR19'!B7428","v":0},null,{"$f":"'AFR19'!B7457","v":0},7479,7508]
["ARRA - Title II D Technology Competitive",4861,{"$f":"'AFR19'!B7225","v":0},{"$f":"'AFR19'!B7255","v":0},{"$f":"'AFR19'!B7284","v":0},{"$f":"'AFR19'!B7313","v":0},{"$f":"'AFR19'!B7342","v":0},{"$f":"'AFR19'!B7371","v":0},{"$f":"'AFR19'!B7400","v":0},{"$f":"'AFR19'!B7429","v":0},null,{"$f":"'AFR19'!B7458","v":0},7480,7509]
["ARRA - McKenney - Vento Homeless Education",4862,{"$f":"'AFR19'!B7226","v":0},{"$f":"'AFR19'!B7256","v":0},{"$f":"'AFR19'!B7285","v":0},{"$f":"'AFR19'!B7314","v":0},{"$f":"'AFR19'!B7343","v":0},{"$f":"'AFR19'!B7372","v":0},{"$f":"'AFR19'!B7401","v":0},{"$f":"'AFR19'!B7430","v":0},null,{"$f":"'AFR19'!B7459","v":0},7481,7510]
["ARRA - Child Nutrition Equipment Assistance",4863,{"$f":"'AFR19'!B7227","v":0},{"$f":"'AFR19'!B7257","v":0},{"$f":"'AFR19'!B7286","v":0},{"$f":"'AFR19'!B7315","v":0},{"$f":"'AFR19'!B7344","v":0},{"$f":"'AFR19'!B7373","v":0},{"$f":"'AFR19'!B7402","v":0},{"$f":"'AFR19'!B7431","v":0},null,{"$f":"'AFR19'!B7460","v":0},7482,7511]
["Impact Aid Construction Formula ",4864,{"$f":"'AFR19'!B7228","v":0},{"$f":"'AFR19'!B7258","v":0},{"$f":"'AFR19'!B7287","v":0},{"$f":"'AFR19'!B7316","v":0},{"$f":"'AFR19'!B7345","v":0},{"$f":"'AFR19'!B7374","v":0},{"$f":"'AFR19'!B7403","v":0},{"$f":"'AFR19'!B7432","v":0},null,{"$f":"'AFR19'!B7461","v":0},7483,7512]
["Impact Aid Construction Competitive",4865,{"$f":"'AFR19'!B7229","v":0},{"$f":"'AFR19'!B7259","v":0},{"$f":"'AFR19'!B7288","v":0},{"$f":"'AFR19'!B7317","v":0},{"$f":"'AFR19'!B7346","v":0},{"$f":"'AFR19'!B7375","v":0},{"$f":"'AFR19'!B7404","v":0},{"$f":"'AFR19'!B7433","v":0},null,{"$f":"'AFR19'!B7462","v":0},7484,7513]
["No Address",4866,{"$f":"'AFR19'!B7230","v":0},{"$f":"'AFR19'!B7260","v":0},{"$f":"'AFR19'!B7289","v":0},{"$f":"'AFR19'!B7318","v":0},{"$f":"'AFR19'!B7347","v":0},{"$f":"'AFR19'!B7376","v":0},{"$f":"'AFR19'!B7405","v":0},{"$f":"'AFR19'!B7434","v":0},null,{"$f":"'AFR19'!B7463","v":0},7485,7514]
["QSCB Tax Credits",4867,{"$f":"'AFR19'!B7231","v":0},{"$f":"'AFR19'!B7261","v":0},{"$f":"'AFR19'!B7290","v":0},{"$f":"'AFR19'!B7319","v":0},{"$f":"'AFR19'!B7348","v":0},{"$f":"'AFR19'!B7377","v":0},{"$f":"'AFR19'!B7406","v":0},{"$f":"'AFR19'!B7435","v":0},null,{"$f":"'AFR19'!B7464","v":0},7486,7515]
["Build America Bonds Tax Credits",4868,{"$f":"'AFR19'!B7232","v":0},{"$f":"'AFR19'!B7262","v":0},{"$f":"'AFR19'!B7291","v":0},{"$f":"'AFR19'!B7320","v":0},{"$f":"'AFR19'!B7349","v":0},{"$f":"'AFR19'!B7378","v":0},{"$f":"'AFR19'!B7407","v":0},{"$f":"'AFR19'!B7436","v":0},null,{"$f":"'AFR19'!B7465","v":0},7487,7516]
["Build America Bonds Interest Reimbursement",4869,{"$f":"'AFR19'!B7233","v":0},{"$f":"'AFR19'!B7263","v":0},{"$f":"'AFR19'!B7292","v":0},{"$f":"'AFR19'!B7321","v":0},{"$f":"'AFR19'!B7350","v":0},{"$f":"'AFR19'!B7379","v":0},{"$f":"'AFR19'!B7408","v":0},{"$f":"'AFR19'!B7437","v":0},null,{"$f":"'AFR19'!B7466","v":0},7488,7517]
["ARRA - General State Aid-Other Govt Services Stabilization",4870,{"$f":"'AFR19'!B7234","v":0},{"$f":"'AFR19'!B7264","v":0},{"$f":"'AFR19'!B7293","v":0},{"$f":"'AFR19'!B7322","v":0},{"$f":"'AFR19'!B7351","v":0},{"$f":"'AFR19'!B7380","v":0},{"$f":"'AFR19'!B7409","v":0},{"$f":"'AFR19'!B7438","v":0},null,{"$f":"'AFR19'!B7467","v":0},7489,7518]
["ARRA Other II",4871,{"$f":"'AFR19'!B7235","v":0},{"$f":"'AFR19'!B7265","v":0},{"$f":"'AFR19'!B7294","v":0},{"$f":"'AFR19'!B7323","v":0},{"$f":"'AFR19'!B7352","v":0},{"$f":"'AFR19'!B7381","v":0},{"$f":"'AFR19'!B7410","v":0},{"$f":"'AFR19'!B7439","v":0},null,{"$f":"'AFR19'!B7468","v":0},7490,7519]
["ARRA Other III",4872,{"$f":"'AFR19'!B7236","v":0},{"$f":"'AFR19'!B7266","v":0},{"$f":"'AFR19'!B7295","v":0},{"$f":"'AFR19'!B7324","v":0},{"$f":"'AFR19'!B7353","v":0},{"$f":"'AFR19'!B7382","v":0},{"$f":"'AFR19'!B7411","v":0},{"$f":"'AFR19'!B7440","v":0},null,{"$f":"'AFR19'!B7469","v":0},7491,7520]
["ARRA Other IV",4873,{"$f":"'AFR19'!B7237","v":0},{"$f":"'AFR19'!B7267","v":0},{"$f":"'AFR19'!B7296","v":0},{"$f":"'AFR19'!B7325","v":0},{"$f":"'AFR19'!B7354","v":0},{"$f":"'AFR19'!B7383","v":0},{"$f":"'AFR19'!B7412","v":0},{"$f":"'AFR19'!B7441","v":0},null,{"$f":"'AFR19'!B7470","v":0},7492,7521]
["ARRA Other V",4874,{"$f":"'AFR19'!B7238","v":0},{"$f":"'AFR19'!B7268","v":0},{"$f":"'AFR19'!B7297","v":0},{"$f":"'AFR19'!B7326","v":0},{"$f":"'AFR19'!B7355","v":0},{"$f":"'AFR19'!B7384","v":0},{"$f":"'AFR19'!B7413","v":0},{"$f":"'AFR19'!B7442","v":0},null,{"$f":"'AFR19'!B7471","v":0},7493,7522]
["ARRA - Early Childhood",4875,{"$f":"'AFR19'!B7239","v":0},{"$f":"'AFR19'!B7269","v":0},{"$f":"'AFR19'!B7298","v":0},{"$f":"'AFR19'!B7327","v":0},{"$f":"'AFR19'!B7356","v":0},{"$f":"'AFR19'!B7385","v":0},{"$f":"'AFR19'!B7414","v":0},{"$f":"'AFR19'!B7443","v":0},null,{"$f":"'AFR19'!B7472","v":0},7494,7523]
["ARRA Other VII",4876,{"$f":"'AFR19'!B7240","v":0},{"$f":"'AFR19'!B7270","v":0},{"$f":"'AFR19'!B7299","v":0},{"$f":"'AFR19'!B7328","v":0},{"$f":"'AFR19'!B7357","v":0},{"$f":"'AFR19'!B7386","v":0},{"$f":"'AFR19'!B7415","v":0},{"$f":"'AFR19'!B7444","v":0},null,{"$f":"'AFR19'!B7473","v":0},7495,7524]
["ARRA Other VIII",4877,{"$f":"'AFR19'!B7241","v":0},{"$f":"'AFR19'!B7271","v":0},{"$f":"'AFR19'!B7300","v":0},{"$f":"'AFR19'!B7329","v":0},{"$f":"'AFR19'!B7358","v":0},{"$f":"'AFR19'!B7387","v":0},{"$f":"'AFR19'!B7416","v":0},{"$f":"'AFR19'!B7445","v":0},null,{"$f":"'AFR19'!B7474","v":0},7496,7525]
["ARRA Other IX",4878,{"$f":"'AFR19'!B7242","v":0},{"$f":"'AFR19'!B7272","v":0},{"$f":"'AFR19'!B7301","v":0},{"$f":"'AFR19'!B7330","v":0},{"$f":"'AFR19'!B7359","v":0},{"$f":"'AFR19'!B7388","v":0},{"$f":"'AFR19'!B7417","v":0},{"$f":"'AFR19'!B7446","v":0},null,{"$f":"'AFR19'!B7475","v":0},7497,7526]
["ARRA Other X",4879,{"$f":"'AFR19'!B7243","v":0},{"$f":"'AFR19'!B7273","v":0},{"$f":"'AFR19'!B7302","v":0},{"$f":"'AFR19'!B7331","v":0},{"$f":"'AFR19'!B7360","v":0},{"$f":"'AFR19'!B7389","v":0},{"$f":"'AFR19'!B7418","v":0},{"$f":"'AFR19'!B7447","v":0},null,{"$f":"'AFR19'!B7476","v":0},7498,7527]
["ARRA Other XI",4880,{"$f":"'AFR19'!B7586","v":0},{"$f":"'AFR19'!B7587","v":0},{"$f":"'AFR19'!B7588","v":0},{"$f":"'AFR19'!B7589","v":0},{"$f":"'AFR19'!B7590","v":0},{"$f":"'AFR19'!B7591","v":0},{"$f":"'AFR19'!B7592","v":0},{"$f":"'AFR19'!B7593","v":0},null,{"$f":"'AFR19'!B7594","v":0},7588,7589]
["Total ARRA Programs",null,{"$f":"SUM(C5:C33)","v":0},{"$f":"SUM(D5:D33)","v":0},0,0,0,42916,0,0,null,{"$f":"SUM(L5:L33)","v":0},7499,7528]
["Ending Balance June 30, 2016",null,{"$f":"C4+C34-L34","v":0}]
[]
[1,"Were any funds from the State Fiscal Stabilization Fund Program (SFSF) General State-Aid (Account 4850, line 5)"]
[null,"used for the following non-allowable purposes:"]
[null,null,"Payments of maintenance costs;"]
[null,null,"Stadiums or other facilities used for athletic contests, exhibitions or other events for which admission is charged to the general public;"]
[null,null,"Purchase or upgrade of vehicles;"]
[null,null,"Improvements of stand-alone facilities whose purpose is not the education of children such as central office administrative buildings; "]
[null,null,"Financial assistance to students to attend private elementary or secondary schools unless the funds are used to provide special "]
[null,null,"    education and related services to children with disabilities as authorized by the IDEA Act;"]
[null,null,"School modernization, renovation, or repair that is inconsistent with State Law."]
[]
[2,"If any above boxes are checked provide the total amount"]
[null,"of questioned costs and provide an explanation below:",null,null,null,null,7574]
[]
[]
[]
[]
[]
[]
[]
["       "]

{"sheet":"Tax Sched 23","index":7,"n_rows":22,"n_cols":7,"rows_kept":22,"cut":false,"hidden":false,"merged":[]}
["SCHEDULE OF AD VALOREM TAX RECEIPTS"]
["Description","Taxes Received                             7-1-18 Thru 6-30-19 (from 2017 Levy & Prior Levies)  *","Taxes Received (from the 2018 Levy)","Taxes Received                             (from 2017 & Prior Levies)          (Column B - C)","Total Estimated Taxes (from the 2018 Levy)                            ","Estimated Taxes Due                             (from the 2018 Levy)                    (Column E - C)"]
[]
["Educational",{"$f":"'AFR19'!B1690","v":12075522537.49},{"$f":"'AFR19'!B1722","v":6546681970.0600004},{"$f":"B4-C4","v":5528840567.4299994},{"$f":"'AFR19'!B1754","v":12443916350.201147},{"$f":"E4-C4","v":5897234380.1411467}]
["Operations & Maintenance",{"$f":"'AFR19'!B1691","v":1556929392.21},{"$f":"'AFR19'!B1723","v":671036369.02999997},{"$f":"B5-C5","v":885893023.18000007},{"$f":"'AFR19'!B1755","v":1629443907.5705507},{"$f":"E5-C5","v":958407538.54055071}]
["Debt Services  **",{"$f":"'AFR19'!B1692","v":1517031910.21},{"$f":"'AFR19'!B1724","v":649937066.1500001},867094844.05999994,{"$f":"'AFR19'!B1756","v":1565789108.3814824},915852042.23148227]
["Transportation",{"$f":"'AFR19'!B1693","v":576639616.95999992},{"$f":"'AFR19'!B1725","v":235571677.54000002},341067939.4199999,{"$f":"'AFR19'!B1757","v":603058632.28966856},367486954.74966854]
["Municipal Retirement/Social Security",{"$f":"'AFR19'!B1694","v":271565231.52999997},{"$f":"'AFR19'!B1726","v":100926104.28000002},170639127.24999994,{"$f":"'AFR19'!B1758","v":268557489.49407506},167631385.21407503]
["Capital Improvements",{"$f":"'AFR19'!B1697","v":11120377},{"$f":"'AFR19'!B1729","v":9398147.5199999996},1722229.4800000004,{"$f":"'AFR19'!B1761","v":10323055},924907.48000000045]
["Working Cash",{"$f":"'AFR19'!B1695","v":67082029.219999999},{"$f":"'AFR19'!B1727","v":21921888.870000001},45160140.349999994,{"$f":"'AFR19'!B1759","v":69681582.725951001},47759693.855950996]
["Tort Immunity",{"$f":"'AFR19'!B1698","v":375494790.57999998},{"$f":"'AFR19'!B1730","v":144155255.99000001},231339534.58999997,{"$f":"'AFR19'!B1762","v":382846099.72687465},238690843.73687464]
["Fire Prevention & Safety",{"$f":"'AFR19'!B1699","v":54360956.079999998},{"$f":"'AFR19'!B1731","v":16526398.809999999},37834557.269999996,{"$f":"'AFR19'!B1763","v":56480907.725951001},39954508.915950999]
["Leasing Levy",{"$f":"'AFR19'!B3671","v":34116254},{"$f":"'AFR19'!B3673","v":6645034.6100000003},27471219.390000001,{"$f":"'AFR19'!B3675","v":34641935.423951},27996900.813951001]
["Special Education",{"$f":"'AFR19'!B1700","v":493657578.75},{"$f":"'AFR19'!B1732","v":231834517.01999998},261823061.73000002,{"$f":"'AFR19'!B1764","v":514177114.34655648},282342597.3265565,"Field number 1741 did not pull in correctly, but formula worked and this is correct"]
["Area Vocational Construction",{"$f":"'AFR19'!B1702","v":0},{"$f":"'AFR19'!B1734","v":0},0,{"$f":"'AFR19'!B1766","v":10063},10063]
["Social Security/Medicare Only",{"$f":"'AFR19'!B3392","v":294927920.81999999},{"$f":"'AFR19'!B3394","v":118643554.88000001},176284365.94,{"$f":"'AFR19'!B3396","v":314046524.39446878},195402969.51446879]
["Summer School",{"$f":"'AFR19'!B4048","v":0},{"$f":"'AFR19'!B4052","v":0},0,{"$f":"'AFR19'!B4056","v":0},0]
["Other (Describe & Itemize)",{"$f":"'AFR19'!B4049","v":444998936},{"$f":"'AFR19'!B4053","v":404754333},40244603,{"$f":"'AFR19'!B4057","v":427450349.41000003},22696016.410000026]
["No Address",{"$f":"'AFR19'!B1705","v":17773447530.849998},{"$f":"'AFR19'!B1737","v":9158032317.7600002},8615415213.0899982,{"$f":"'AFR19'!B1769","v":18320423119.690678},9162390801.9306774,"Field number 1746 did not pull in correctly, but formula worked and this is correct"]
[]
["*   The formulas in column B are unprotected to be overidden when reporting on a ACCRUAL basis."]
["**  All tax receipts for debt service payments on bonds must be recorded on line 6 (Debt Services)."]

{"sheet":"Short-Term Long-Term Debt 24","index":8,"n_rows":58,"n_cols":10,"rows_kept":58,"cut":false,"hidden":false,"merged":[[51,1,51,3],[0,0,0,1],[2,2,2,5],[4,2,4,5],[15,2,15,5],[15,0,15,1],[1,0,1,1],[3,0,3,1],[4,0,4,1],[14,0,14,1],[2,0,2,1],[51,5,51,6],[52,5,52,6],[53,5,53,6],[16,0,16,1],[17,0,17,1],[18,0,18,1],[21,2,21,5],[23,2,23,5],[19,0,19,1],[20,0,20,1],[21,0,21,1],[22,0,22,1],[28,0,28,1],[23,0,23,1],[24,0,24,1],[25,0,25,1],[26,0,26,1]]}
["SCHEDULE OF SHORT-TERM DEBT"]
["Description",null,"Outstanding        Beginning 7/01/18","Issued 7/01/18 Through 6/30/19","Retired 7/01/18 Through 6/30/19","Outstanding          Ending 6/30/19"]
["CORPORATE PERSONAL PROPERTY REPLACEMENT TAX ANTICIPATION NOTES (CPPRT)"]
["Total CPPRT Notes",null,{"$f":"'AFR19'!B2673","v":0},{"$f":"'AFR19'!B2675","v":0},{"$f":"'AFR19'!B2677","v":0},{"$f":"'AFR19'!B2679","v":0}]
["TAX ANTICIPATION WARRANTS (TAW)"]
["Educational Fund",null,{"$f":"'AFR19'!B1771","v":10200350},{"$f":"'AFR19'!B1785","v":53325000},{"$f":"'AFR19'!B1799","v":61700350},{"$f":"C6+D6-E6","v":1825000}]
["Operations & Maintenance Fund",null,{"$f":"'AFR19'!B1772","v":0},{"$f":"'AFR19'!B1786","v":0},{"$f":"'AFR19'!B1800","v":0},{"$f":"C7+D7-E7","v":0}]
["Debt Services - Construction",null,{"$f":"'AFR19'!B1775","v":0},{"$f":"'AFR19'!B1789","v":0},{"$f":"'AFR19'!B1803","v":0},{"$f":"C8+D8-E8","v":0}]
["Debt Services - Working Cash",null,{"$f":"'AFR19'!B1776","v":0},{"$f":"'AFR19'!B1790","v":0},{"$f":"'AFR19'!B1804","v":0},0]
["Debt Services - Refunding Bonds",null,{"$f":"'AFR19'!B1777","v":0},{"$f":"'AFR19'!B1791","v":0},{"$f":"'AFR19'!B1805","v":0},0]
["Transportation Fund",null,{"$f":"'AFR19'!B1774","v":1000000},{"$f":"'AFR19'!B1788","v":0},{"$f":"'AFR19'!B1802","v":1000000},0]
["Municipal Retirement/Social Security Fund",null,{"$f":"'AFR19'!B1773","v":0},{"$f":"'AFR19'!B1787","v":0},{"$f":"'AFR19'!B1801","v":0},0]
["Fire Prevention & Safety Fund",null,{"$f":"'AFR19'!B3628","v":0},{"$f":"'AFR19'!B3630","v":0},{"$f":"'AFR19'!B3632","v":0},0]
["Other - (Describe & Itemize)",null,{"$f":"'AFR19'!B1778","v":0},{"$f":"'AFR19'!B1792","v":0},{"$f":"'AFR19'!B1806","v":0},0]
["Total TAWs",null,{"$f":"SUM(C6:C14)","v":11200350},{"$f":"SUM(D6:D14)","v":53325000},{"$f":"SUM(E6:E14)","v":62700350},{"$f":"C15+D15-E15","v":1825000}]
["TAX ANTICIPATION NOTES (TAN)"]
["Educational Fund",null,{"$f":"'AFR19'!B1780","v":606350050},{"$f":"'AFR19'!B1794","v":1398855060},{"$f":"'AFR19'!B1808","v":1550905050},{"$f":"C17+D17-E17","v":454300060}]
["Operations & Maintenance Fund",null,{"$f":"'AFR19'!B1781","v":80000},{"$f":"'AFR19'!B1795","v":100000},{"$f":"'AFR19'!B1809","v":80000},100000]
["Fire Prevention & Safety Fund",null,{"$f":"'AFR19'!B3629","v":0},{"$f":"'AFR19'!B3631","v":0},{"$f":"'AFR19'!B3633","v":0},0]
["Other - (Describe & Itemize)",null,{"$f":"'AFR19'!B1782","v":0},{"$f":"'AFR19'!B1796","v":0},{"$f":"'AFR19'!B1810","v":0},0]
["Total TANs",null,{"$f":"SUM(C17:C20)","v":606430050},{"$f":"SUM(D17:D20)","v":1398955060},{"$f":"SUM(E17:E20)","v":1550985050},454400060]
["TEACHERS'/EMPLOYEES' ORDERS (T/EO)"]
["Total T/EOs (Educational, Operations & Maintenance, & Transportation Funds)",null,{"$f":"'AFR19'!B1784","v":0},{"$f":"'AFR19'!B1798","v":0},{"$f":"'AFR19'!B1812","v":0},0]
["GENERAL STATE-AID ANTICIPATION CERTIFICATES (GSAAC)"]
["Total GSAACs (All Funds)",null,{"$f":"'AFR19'!B2674","v":0},{"$f":"'AFR19'!B2676","v":0},{"$f":"'AFR19'!B2678","v":0},0]
["OTHER SHORT-TERM BORROWING"]
["Total Other Short-Term Borrowing (Describe & Itemize)",null,{"$f":"'AFR19'!B6022","v":8342254},{"$f":"'AFR19'!B6023","v":4590643},{"$f":"'AFR19'!B6024","v":7267344},5665553]
[]
["SCHEDULE OF LONG-TERM DEBT"]
["Identification or Name of Issue","Date of Issue (mm/dd/yy)","Amount of Original Issue","Type of Issue *","Bonds Outstanding 7/1/18","Bonds Issued 7/01/18 thru 6/30/19","All Differences With page 8, line 25","Bonds Retired 7/1/18 thru 6/30/19","Bonds Outstanding 6/30/19","Amount to be Provided for Retirement of Bonds"]
[null,null,null,null,null,null,null,null,{"$f":"SUM(E31:G31)-H31","v":0}]
[null,null,null,null,null,null,null,null,{"$f":"SUM(E32:G32)-H32","v":0}]
[null,null,null,null,null,null,null,null,0]
[null,null,null,null,null,null,null,null,0]
[null,null,null,null,null,null,null,null,0]
[null,null,null,null,null,null,null,null,0]
[null,null,null,null,null,null,null,null,0]
[null,null,null,null,null,null,null,null,0,""]
[null,null,null,null,null,null,null,null,0]
[null,null,null,null,null,null,null,null,0]
[null,null,null,null,null,null,null,null,0]
[null,null,null,null,null,null,null,null,0]
[null,null,null,null,null,null,null,null,0]
[null,null,null,null,null,null,null,null,0]
[null,null,null,null,null,null,null,null,0]
[null,null,null,null,null,null,null,null,0]
[null," ",null,null,null,null,null,null,0]
[null,null,null,null,null,null,null,null,0]
[null,null,{"$f":"'AFR19'!B7763","v":19510827151},null,{"$f":"'AFR19'!B1885","v":21572357161.900002},{"$f":"'AFR19'!B1886","v":2692013966},{"$f":"'AFR19'!B4123","v":-379577762},{"$f":"'AFR19'!B4119","v":2147359252},21737434113.900002,{"$f":"'AFR19'!B4118","v":20159129693.900002}]
[]
["*   Each type of bond issue must be identified separately with the amount:"]
["1.  Working Cash Fund Bonds","4.  Fire Prevent, Safety, Environmental and Energy Bonds",null,null,"7.  Other "]
["2.  Funding Bonds","5.  Tort Judgment Bonds",null,null,"  8.  Other "]
["3.  Refunding Bonds","6.  Building Bonds",null,null,"9.  Other "]
[]
["**  This total must agree with Page 24, Line 8, 6/30/17 Annual Financial Report for all Local Education Agencies according to 23 Illinois Administrative Code - Part 100"]
["     If more than one type of an individual bond issue, indicate percent of original issue that relates to each type."]
["***  This total must equal the amount on Page 6, Line 22.  "]

{"sheet":"Rest Tax Levies-Tort Im 25","index":9,"n_rows":48,"n_cols":11,"rows_kept":48,"cut":false,"hidden":false,"merged":[[40,0,40,5],[17,0,17,4],[14,0,14,4],[15,0,15,4],[13,0,13,4],[18,0,18,4],[19,0,19,4],[21,0,21,4],[30,7,32,10],[10,0,10,4],[12,0,12,4],[0,0,0,6],[1,0,1,4],[2,0,2,4],[3,0,3,4],[4,0,4,4],[9,0,9,4]]}
["SCHEDULE OF RESTRICTED LOCAL TAX LEVIES AND SELECTED REVENUE SOURCES"]
["Description",null,null,null,null,"Account No","Tort Immunity a","Special Education","Area Vocational Construction","School Facility Occupation               Taxes b","Driver Education"]
["Cash Basis Fund Balance as of July 1, 2018",null,null,null,null,null,{"$f":"'AFR19'!B1894","v":792378},{"$f":"'AFR19'!B1917","v":1663776},{"$f":"'AFR19'!B1930","v":0},{"$f":"'AFR19'!B7654","v":61220525},{"$f":"'AFR19'!B7655","v":4953186}]
["RECEIPTS:"]
["Ad Valorem Taxes Received by District",null,null,null,null,"10, 20, 40 or 50-1100",null,{"$f":"'AFR19'!B1918","v":453613933},{"$f":"'AFR19'!B1931","v":0}]
["Earnings on Investments",null,null,null,null,"10, 20, 40, 50 or 60-1500",{"$f":"'AFR19'!B1896","v":6420},{"$f":"'AFR19'!B1919","v":6573442},{"$f":"'AFR19'!B1932","v":0},{"$f":"'AFR19'!B7656","v":607024.47},{"$f":"'AFR19'!B7657","v":140271}]
["Drivers' Education Fees",null,null,null,null,"10-1970",null,null,null,null,{"$f":"'AFR19'!B7658","v":7647179}]
["School Facility Occupation Tax Proceeds",null,null,null,null,"30 or 60-1983",null,null,null,{"$f":"'AFR19'!B7659","v":111588421.7}]
["Driver Education",null,null,null,null,"10 or 20-3370",null,null,null,null,{"$f":"'AFR19'!B7660","v":14389894}]
["Other Receipts (Describe & Itemize on tab \"Itemization 32\")",null,null,null,null,"--",null,{"$f":"'AFR19'!B1920","v":2422177},{"$f":"'AFR19'!B1934","v":0},{"$f":"'AFR19'!B7661","v":3373025},{"$f":"'AFR19'!B7662","v":370087}]
["Sale of Bonds",null,null,null,null,"10, 20, 40 or 60-7200",null,{"$f":"'AFR19'!B2053","v":0},{"$f":"'AFR19'!B1933","v":0},{"$f":"'AFR19'!B7663","v":20143387}]
["Total Receipts",null,null,null,null,null,{"$f":"SUM(G5:G11)","v":6420},{"$f":"SUM(H5:H11)","v":462609552},{"$f":"SUM(I5:I11)","v":0},{"$f":"SUM(J5:J11)","v":135711858.17000002},{"$f":"SUM(K5:K11)","v":22547431}]
["DISBURSEMENTS:"]
["Instruction",null,null,null,null,"10 or 50-1000",null,{"$f":"'AFR19'!B7666","v":448686861},null,null,{"$f":"'AFR19'!B7667","v":21467961}]
["Facilities Acquisition & Construction Services",null,null,null,null,"20 or 60-2530",null,{"$f":"'AFR19'!B1925","v":542236},{"$f":"'AFR19'!B1938","v":0},{"$f":"'AFR19'!B7668","v":62063969.879999995},{"$f":"'AFR19'!B7669","v":205626}]
["Tort Immunity Services",null,null,null,null,"10, 20, 40-2360-2370",{"$f":"'AFR19'!B1901","v":166181}]
["DEBT SERVICE"]
["Debt Services - Interest on Long-Term Debt",null,null,null,null,"30-5200",null,null,null,{"$f":"'AFR19'!B7670","v":25157069}]
["Debt Services - Payments of Principal on Long-Term Debt                                             (Lease/Purchase Principal Retired)",null,null,null,null,"30-5300",null,null,null,{"$f":"'AFR19'!B7671","v":51169199}]
["Debt Services Other  (Describe & Itemize on tab \"Itemization 32\")",null,null,null,null,"30-5400",null,null,null,{"$f":"'AFR19'!B7672","v":139281}]
["Total Debt Services",null,null,null,null,null,null,null,null,{"$f":"SUM(J18:J20)","v":76465549}]
["Other Disbursements (Describe & Itemize on tab \"Itemization 32\")",null,null,null,null,"--",null,{"$f":"'AFR19'!B1926","v":14722058},{"$f":"'AFR19'!B1939","v":0},{"$f":"'AFR19'!B7719","v":1083459},{"$f":"'AFR19'!B7675","v":447498}]
["Total Disbursements",null,null,null,null,null,{"$f":"SUM(G14:G22)","v":166181},{"$f":"SUM(H14:H22)","v":463951155},{"$f":"SUM(I14:I22)","v":0},{"$f":"SUM(J15,J21,J22)","v":139612977.88},{"$f":"SUM(K14:K22)","v":22121085}]
["Ending Cash Basis Fund Balance as of June 30, 2019",null,null,null,null,null,{"$f":"SUM(G3+G12)-G23","v":632617},{"$f":"(H3+H12)-H23","v":322173},{"$f":"(I3+I12)-I23","v":0},{"$f":"(J3+J12)-J23","v":57319405.290000021},{"$f":"(K3+K12)-K23","v":5379532}]
["Reserved Fund Balance",null,null,null,null,714,{"$f":"'AFR19'!B7680","v":177686},{"$f":"'AFR19'!B7681","v":54806},{"$f":"'AFR19'!B7682","v":0},{"$f":"'AFR19'!B7683","v":37699212},{"$f":"'AFR19'!B7684","v":231810}]
["Unreserved Fund Balance",null,null,null,null,730,{"$f":"G24-G25","v":454931},{"$f":"H24-H25","v":267367},{"$f":"I24-I25","v":0},{"$f":"J24-J25","v":19620193.290000021},{"$f":"K24-K25","v":5147722}]
[]
["SCHEDULE OF TORT IMMUNITY EXPENDITURES a"]
[]
["Yes",null,"No",null,"Has the entity established an insurance reserve pursuant to 745 ILCS 10/9-103?"]
[null,null,null,null,"If yes, list in the aggregate the following:","Total Claims Payments:",{"$f":"'AFR19'!B4244","v":447453}]
[null,null,null,null,null,"Total Reserve Remaining:",{"$f":"'AFR19'!B4245","v":0}]
["  Using the following categories, list all other Tort Immunity expenditures not "]
["  included in line 30 above.  Include the total dollar amount for each category."]
["Expenditures:"]
["Workers' Compensation Act and/or Workers' Occupational Disease Act",null,null,null,null,null,{"$f":"'AFR19'!B4246","v":1685682}]
["Unemployment Insurance Act",null,null,null,null,null,{"$f":"'AFR19'!B4247","v":107634}]
["Insurance (Regular or Self-Insurance)",null,null,null,null,null,{"$f":"'AFR19'!B4248","v":1453213}]
["Risk Management and Claims Service",null,null,null,null,null,{"$f":"'AFR19'!B4249","v":529760}]
["Judgments/Settlements",null,null,null,null,null,{"$f":"'AFR19'!B4250","v":0}]
["Educational, Inspectional, Supervisory Services Related to Loss Prevention and/or Reduction",null,null,null,null,null,{"$f":"'AFR19'!B4251","v":20510}]
["Reciprocal Insurance Payments (Insurance Code 72, 76, and 81)",null,null,null,null,null,{"$f":"'AFR19'!B4252","v":0}]
["Legal Services",null,null,null,null,null,{"$f":"'AFR19'!B4253","v":165223}]
["Principal and Interest on Tort Bonds",null,null,null,null,null,{"$f":"'AFR19'!B4254","v":0}]
[]
["a   ","Schedules for Tort Immunity are to be completed only if expenditures have been reported in any fund other than the Tort Immunity Fund (80) during FY10 as a result of existing (restricted) fund balances"]
[null,"in those other funds that are being spent down.  Cell G6 above should include interest earnings only from these restricted tort immunity monies and only if reported in a fund other than Tort Immunity Fund (80)."]
["b  ","55 ILCS 5/5-1006.7"]

{"sheet":"Cap Outlay Deprec 26","index":10,"n_rows":24,"n_cols":12,"rows_kept":24,"cut":false,"hidden":false,"merged":[[0,9,0,11]]}
["Schedule of Capital Outlay and Depreciation",null,null,"* Statistical Information (This schedule must be completed)"]
["Description of Assets","Acct #","Beginning Cost             7/01/18","Additions:  July 1, 2018 through June 30, 2019","Deletions 7/01/18 through 6/30/2019","Ending Cost        6/30/19","Life In Years"," Beginning  Accumulated       Depreciation               7/01/18","Additions: Depreciation Allowable 7/01/2018 through 06/30/2019       ","Deletions:  Depreciation Deletions 7/01/2018 through 6/30/2019","Accumulated Depreciation               6-30-19","Ending Balance Undepreciated           6-30-19"]
["Works of Art & Historical Treasures",210,{"$f":"'AFR19'!B6360","v":83258},{"$f":"'AFR19'!B6361","v":0},{"$f":"'AFR19'!B7536","v":0},{"$f":"C3+D3-E3","v":83258},null,{"$f":"'AFR19'!B7538","v":3570},{"$f":"'AFR19'!B7539","v":1190},{"$f":"'AFR19'!B7540","v":0},{"$f":"H3+I3-J3","v":4760},{"$f":"F3-K3","v":78498}]
["Land",220]
["Non-Depreciable Land",221,{"$f":"'AFR19'!B1954","v":1282099670},{"$f":"'AFR19'!B1960","v":32971017},{"$f":"'AFR19'!B1966","v":11535483},{"$f":"C5+D5-E5","v":1303535204},null,null,null,null,null,{"$f":"F5-K5","v":1303535204}]
["Depreciable Land",222,{"$f":"'AFR19'!B7543","v":32273917},{"$f":"'AFR19'!B7544","v":1513001},{"$f":"'AFR19'!B7545","v":34355},{"$f":"C6+D6-E6","v":33752563},50,{"$f":"'AFR19'!B7547","v":9359926},{"$f":"'AFR19'!B7548","v":357193},{"$f":"'AFR19'!B7549","v":2634},{"$f":"H6+I6-J6","v":9714485},{"$f":"F6-K6","v":24038078}]
["Buildings",230]
["Permanent Buildings",231,{"$f":"'AFR19'!B1955","v":41781790880.309998},{"$f":"'AFR19'!B1961","v":1417249960.5},{"$f":"'AFR19'!B1967","v":82388548},{"$f":"C8+D8-E8","v":43116652292.809998},50,{"$f":"'AFR19'!B1979","v":16507756232.429998},{"$f":"'AFR19'!B1985","v":985564920.50999999},{"$f":"'AFR19'!B1991","v":64096496},{"$f":"H8+I8-J8","v":17429224656.939999},{"$f":"F8-K8","v":25687427635.869999}]
["Temporary Buildings",232,{"$f":"'AFR19'!B7552","v":153958605},{"$f":"'AFR19'!B7553","v":8940241},{"$f":"'AFR19'!B7554","v":0},{"$f":"C9+D9-E9","v":162898846},25,{"$f":"'AFR19'!B7556","v":57615290},{"$f":"'AFR19'!B7557","v":4523936.9000000004},{"$f":"'AFR19'!B7558","v":0},{"$f":"H9+I9-J9","v":62139226.899999999},{"$f":"F9-K9","v":100759619.09999999}]
["Improvements Other than Buildings (Infrastructure)",240,{"$f":"'AFR19'!B1956","v":2312165134.6700001},{"$f":"'AFR19'!B1962","v":168587565},{"$f":"'AFR19'!B1968","v":23381969},{"$f":"C10+D10-E10","v":2457370730.6700001},20,{"$f":"'AFR19'!B1980","v":1102719488.1700001},{"$f":"'AFR19'!B1986","v":104570087.77000001},{"$f":"'AFR19'!B1992","v":20977459},{"$f":"H10+I10-J10","v":1186312116.9400001},{"$f":"F10-K10","v":1271058613.73}]
["Capitalized Equipment",250]
["10 Yr Schedule",251,{"$f":"'AFR19'!B1957","v":3332685477.0500002},{"$f":"'AFR19'!B1963","v":211725169.59},{"$f":"'AFR19'!B1969","v":103939376.38},{"$f":"C12+D12-E12","v":3440471270.2600002},10,{"$f":"'AFR19'!B1981","v":2596575179.23},{"$f":"'AFR19'!B1987","v":196579976.01000002},{"$f":"'AFR19'!B1993","v":101315694.40000001},{"$f":"H12+I12-J12","v":2691839460.8400002},{"$f":"F12-K12","v":748631809.42000008}]
["5 Yr Schedule",252,{"$f":"'AFR19'!B1958","v":967358920},{"$f":"'AFR19'!B1964","v":79837210.890000001},{"$f":"'AFR19'!B1970","v":54407123},{"$f":"C13+D13-E13","v":992789007.88999999},"    5 **",{"$f":"'AFR19'!B1982","v":743088153},{"$f":"'AFR19'!B1988","v":71613714.829999998},{"$f":"'AFR19'!B1994","v":54619557},{"$f":"H13+I13-J13","v":760082310.83000004},{"$f":"F13-K13","v":232706697.05999994}]
["3 Yr Schedule",253,{"$f":"'AFR19'!B7561","v":50041411},{"$f":"'AFR19'!B7562","v":4375276},{"$f":"'AFR19'!B7563","v":8824692},{"$f":"C14+D14-E14","v":45591995},3,{"$f":"'AFR19'!B7565","v":42219066},{"$f":"'AFR19'!B7566","v":4376433},{"$f":"'AFR19'!B7567","v":8492276},{"$f":"H14+I14-J14","v":38103223},{"$f":"F14-K14","v":7488772}]
["Construction in Progress",260,{"$f":"'AFR19'!B3397","v":1069368995},{"$f":"'AFR19'!B3398","v":1474828457.3499999},{"$f":"'AFR19'!B3399","v":827209918},{"$f":"C15+D15-E15","v":1716987534.3499999},"--",null,null,null,null,{"$f":"F15-K15","v":1716987534.3499999}]
["Total Capital Assets",200,{"$f":"SUM(C3:C15)","v":50981826268.029999},{"$f":"SUM(D3:D15)","v":3400027898.3299999},{"$f":"SUM(E3:E15)","v":1111721464.3800001},{"$f":"SUM(F3:F15)","v":53270132701.979996},null,{"$f":"SUM(H3:H15)","v":21059336904.829998},{"$f":"SUM(I3:I15)","v":1367587452.02},{"$f":"SUM(J3:J15)","v":249504116.40000001},{"$f":"H16+I16-J16","v":22177420240.449997},{"$f":"F16-K16","v":31092712461.529999}]
["Non-Capitalized Equipment",700,null,null,null,{"$f":"'AFR19'!B7570","v":173544694},10,null,{"$f":"'AFR19'!B7571","v":17354469.400000006}]
["Total Capital & Non-Capital Assets",null,{"$f":"SUM(C16:C17)","v":50981826268.029999},{"$f":"SUM(D16:D17)","v":3400027898.3299999},{"$f":"SUM(E16:E17)","v":1111721464.3800001},{"$f":"SUM(F16:F17)","v":53443677395.979996},null,{"$f":"SUM(H16:H17)","v":21059336904.829998},{"$f":"SUM(I16:I17)","v":1384941921.4200001},{"$f":"SUM(J16:J17)","v":249504116.40000001},{"$f":"SUM(K16:K17)","v":22177420240.449997},{"$f":"SUM(L16:L17)","v":31092712461.529999}]
[]
["*","Valuation of Transpsortation Equipment must be shown at historical cost.  Valuation of other equipment, buildings, and land improvement"]
[null,"should be shown on a Historical Cost Basis or an acceptable approximation of cost.  Columns C & H must agree with Columns F & K, "]
[null,"2016-2017 Annual Financial Report."]
["**","Some items costing $500 or more may be depreciated over a life of approximately three years.  For additional information"]
[null,"regarding those items, refer to current instructions for completing pupil transportation reimbursements forms."]

{"sheet":"PCTC-OEPP 27-28","index":11,"n_rows":181,"n_cols":7,"rows_kept":181,"cut":false,"hidden":false,"merged":[[0,0,0,5],[1,0,1,5],[4,0,4,5],[5,0,5,5],[80,0,80,5]]}
["ESTIMATED OPERATING EXPENSE PER PUPIL (OEPP)/PER CAPITA TUITION CHARGE (PCTC) COMPUTATIONS (2016-17)"]
["This schedule is completed for school districts only."]
[]
["Fund","Sheet, Row",null,"ACCOUNT NO - TITLE",null,"Amount"]
[]
["OPERATING EXPENSE PER PUPIL"]
["EXPENDITURES:"]
["ED","Expenditures 15-22, L114",null,"Total Expenditures","$",{"$f":"'Expenditures 15-22'!K114","v":22445589789.929996}]
["O&M","Expenditures 15-22, L151",null,"Total Expenditures",null,{"$f":"'Expenditures 15-22'!K151","v":2332357527.4000001}]
["DS","Expenditures 15-22, L174",null,"Total Expenditures",null,{"$f":"'Expenditures 15-22'!K174","v":2676022720.6999998}]
["TR","Expenditures 15-22, L210",null,"Total Expenditures",null,{"$f":"'Expenditures 15-22'!K210","v":1252038638.26}]
["MR/SS","Expenditures 15-22, L295",null,"Total Expenditures",null,{"$f":"'Expenditures 15-22'!K295","v":620058196.21000016}]
["TORT","Expenditures 15-22, L342",null,"Total Expenditures",null,{"$f":"'Expenditures 15-22'!K342","v":380409103}]
[null,null,null,"Total Expenditures","$",{"$f":"SUM(F8:F13)","v":29706475975.499996}]
[]
["LESS RECEIPTS/REVENUES OR DISBURSEMENTS/EXPENDITURES NOT APPLICABLE TO THE REGULAR K-12 PROGRAM:"]
[]
["TR","Revenues 9-14, L43, Col F",{"$f":"'Revenues 9-14'!B43","v":1412},{"$f":"'Revenues 9-14'!A43","v":"Regular - Transp Fees from Other Districts (In State)"},"$",{"$f":"'Revenues 9-14'!F43","v":15713989}]
["TR","Revenues 9-14, L47, Col F",{"$f":"'Revenues 9-14'!B47","v":1421},{"$f":"'Revenues 9-14'!A47","v":"Summer Sch - Transp. Fees from Pupils or Parents (In State)"},null,{"$f":"'Revenues 9-14'!F47","v":271078}]
["TR","Revenues 9-14, L48, Col F",{"$f":"'Revenues 9-14'!B48","v":1422},{"$f":"'Revenues 9-14'!A48","v":"Summer Sch - Transp. Fees from Other Districts (In State)"},null,{"$f":"'Revenues 9-14'!F48","v":0}]
["TR","Revenues 9-14, L49, Col F",{"$f":"'Revenues 9-14'!B49","v":1423},{"$f":"'Revenues 9-14'!A49","v":"Summer Sch - Transp. Fees from Other Sources (In State)"},null,{"$f":"'Revenues 9-14'!F49","v":0}]
["TR","Revenues 9-14, L50 Col F",{"$f":"'Revenues 9-14'!B50","v":1424},{"$f":"'Revenues 9-14'!A50","v":"Summer Sch - Transp. Fees from Other Sources (Out of State)"},null,{"$f":"'Revenues 9-14'!F50","v":0}]
["TR","Revenues 9-14, L52, Col F",{"$f":"'Revenues 9-14'!B52","v":1432},{"$f":"'Revenues 9-14'!A52","v":"CTE - Transp Fees from Other Districts (In State)"},null,{"$f":"'Revenues 9-14'!F52","v":17358}]
["TR","Revenues 9-14, L56, Col F",{"$f":"'Revenues 9-14'!B56","v":1442},{"$f":"'Revenues 9-14'!A56","v":"Special Ed - Transp Fees from Other Districts (In State)"},null,{"$f":"'Revenues 9-14'!F56","v":5026824}]
["TR","Revenues 9-14, L59, Col F",{"$f":"'Revenues 9-14'!B59","v":1451},{"$f":"'Revenues 9-14'!A59","v":"Adult - Transp Fees from Pupils or Parents (In State)"},null,{"$f":"'Revenues 9-14'!F59","v":1851}]
["TR","Revenues 9-14, L60, Col F ",{"$f":"'Revenues 9-14'!B60","v":1452},{"$f":"'Revenues 9-14'!A60","v":"Adult - Transp Fees from Other Districts (In State)"},null,{"$f":"'Revenues 9-14'!F60","v":0}]
["TR","Revenues 9-14, L61, Col F",{"$f":"'Revenues 9-14'!B61","v":1453},{"$f":"'Revenues 9-14'!A61","v":"Adult - Transp Fees from Other Sources (In State)"},null,{"$f":"'Revenues 9-14'!F61","v":26081}]
["TR","Revenues 9-14, L62, Col F",{"$f":"'Revenues 9-14'!B62","v":1454},{"$f":"'Revenues 9-14'!A62","v":"Adult - Transp Fees from Other Sources (Out of State)"},null,{"$f":"'Revenues 9-14'!F62","v":564}]
["O&M","Revenues 9-14, L149, Col D & F",{"$f":"'Revenues 9-14'!B149","v":3410},{"$f":"'Revenues 9-14'!A149","v":"Adult Ed (from ICCB)"},null,{"$f":"SUM('Revenues 9-14'!D149,'Revenues 9-14'!F149)","v":0}]
["O&M-TR","Revenues 9-14, L150, Col D & F",{"$f":"'Revenues 9-14'!B150","v":3499},{"$f":"'Revenues 9-14'!A150","v":"Adult Ed - Other (Describe & Itemize)"},null,{"$f":"SUM('Revenues 9-14'!D150,'Revenues 9-14'!F150)","v":0}]
["O&M-TR","Revenues 9-14, L211, Col D,F",{"$f":"'Revenues 9-14'!B211","v":4600},{"$f":"'Revenues 9-14'!A211","v":"Fed - Spec Education - Preschool Flow-Through"},null,{"$f":"SUM('Revenues 9-14'!D211,'Revenues 9-14'!F211)","v":1394}]
["O&M-TR","Revenues 9-14, L212, Col D,F",{"$f":"'Revenues 9-14'!B212","v":4605},{"$f":"'Revenues 9-14'!A212","v":"Fed - Spec Education - Preschool Discretionary"},null,{"$f":"SUM('Revenues 9-14'!D212,'Revenues 9-14'!F212)","v":0}]
["O&M","Revenues 9-14, L222, Col D",{"$f":"'Revenues 9-14'!B222","v":4810},{"$f":"'Revenues 9-14'!A222","v":"Federal - Adult Education"},null,{"$f":"'Revenues 9-14'!D222","v":0}]
["ED","Expenditures 15-22, L7, Col K - (G+I)",{"$f":"'Expenditures 15-22'!B7","v":"1125"},{"$f":"'Expenditures 15-22'!A7","v":"Pre-K Programs"},null,{"$f":"'Expenditures 15-22'!K7-SUM('Expenditures 15-22'!G7,'Expenditures 15-22'!I7)","v":270100578.03999996}]
["ED","Expenditures 15-22, L9, Col K - (G+I)",{"$f":"'Expenditures 15-22'!B9","v":"1225"},{"$f":"'Expenditures 15-22'!A9","v":"Special Education Programs Pre-K"},null,{"$f":"'Expenditures 15-22'!K9-SUM('Expenditures 15-22'!G9,'Expenditures 15-22'!I9)","v":110136349}]
["ED","Expenditures 15-22, L11, Col K - (G+I)",{"$f":"'Expenditures 15-22'!B11","v":"1275"},{"$f":"'Expenditures 15-22'!A11","v":"Remedial and Support Programs Pre-K"},null,{"$f":"'Expenditures 15-22'!K11-SUM('Expenditures 15-22'!G11,'Expenditures 15-22'!I11)","v":14404829}]
["ED","Expenditures 15-22, L12, Col K - (G+I)",{"$f":"'Expenditures 15-22'!B12","v":1300},{"$f":"'Expenditures 15-22'!A12","v":"Adult/Continuing Education Programs"},null,{"$f":"'Expenditures 15-22'!K12-SUM('Expenditures 15-22'!G12,'Expenditures 15-22'!I12)","v":13175375}]
["ED","Expenditures 15-22, L15, Col K - (G+I)",{"$f":"'Expenditures 15-22'!B15","v":1600},{"$f":"'Expenditures 15-22'!A15","v":"Summer School Programs"},null,{"$f":"'Expenditures 15-22'!K15-SUM('Expenditures 15-22'!G15,'Expenditures 15-22'!I15)","v":58004934}]
["ED","Expenditures 15-22, L20, Col K",{"$f":"'Expenditures 15-22'!B20","v":"1910"},{"$f":"'Expenditures 15-22'!A20","v":"Rentals"},null,{"$f":"'Expenditures 15-22'!K20","v":690857}]
["ED","Expenditures 15-22, L21, Col K",{"$f":"'Expenditures 15-22'!B21","v":"1911"},{"$f":"'Expenditures 15-22'!A21","v":"Regular K-12 Programs - Private Tuition"},null,{"$f":"'Expenditures 15-22'!K21","v":3431058}]
["ED","Expenditures 15-22, L22, Col K",{"$f":"'Expenditures 15-22'!B22","v":"1912"},{"$f":"'Expenditures 15-22'!A22","v":"Special Education Programs K-12 - Private Tuition"},null,{"$f":"'Expenditures 15-22'!K22","v":314685654}]
["ED","Expenditures 15-22, L23, Col K",{"$f":"'Expenditures 15-22'!B23","v":"1913"},{"$f":"'Expenditures 15-22'!A23","v":"Special Education Programs Pre-K - Tuition"},null,{"$f":"'Expenditures 15-22'!K23","v":264566}]
["ED","Expenditures 15-22, L24, Col K",{"$f":"'Expenditures 15-22'!B24","v":"1914"},{"$f":"'Expenditures 15-22'!A24","v":"Remedial/Supplemental Programs K-12 - Private Tuition"},null,{"$f":"'Expenditures 15-22'!K24","v":894541}]
["ED","Expenditures 15-22, L25, Col K",{"$f":"'Expenditures 15-22'!B25","v":"1915"},{"$f":"'Expenditures 15-22'!A25","v":"Remedial/Supplemental Programs Pre-K - Private Tuition"},null,{"$f":"'Expenditures 15-22'!K25","v":0}]
["ED","Expenditures 15-22, L26, Col K",{"$f":"'Expenditures 15-22'!B26","v":"1916"},{"$f":"'Expenditures 15-22'!A26","v":"Adult/Continuing Education Programs - Private Tuition"},null,{"$f":"'Expenditures 15-22'!K26","v":0}]
["ED","Expenditures 15-22, L27, Col K",{"$f":"'Expenditures 15-22'!B27","v":"1917"},{"$f":"'Expenditures 15-22'!A27","v":"CTE Programs - Private Tuition"},null,{"$f":"'Expenditures 15-22'!K27","v":1533615}]
["ED","Expenditures 15-22, L28, Col K",{"$f":"'Expenditures 15-22'!B28","v":"1918"},{"$f":"'Expenditures 15-22'!A28","v":"Interscholastic Programs - Private Tuition"},null,{"$f":"'Expenditures 15-22'!K28","v":0}]
["ED","Expenditures 15-22, L29, Col K",{"$f":"'Expenditures 15-22'!B29","v":"1919"},{"$f":"'Expenditures 15-22'!A29","v":"Summer School Programs - Private Tuition"},null,{"$f":"'Expenditures 15-22'!K29","v":1127695}]
["ED","Expenditures 15-22, L30, Col K",{"$f":"'Expenditures 15-22'!B30","v":"1920"},{"$f":"'Expenditures 15-22'!A30","v":"Gifted Programs - Private Tuition"},null,{"$f":"'Expenditures 15-22'!K30","v":62952}]
["ED","Expenditures 15-22, L31, Col K",{"$f":"'Expenditures 15-22'!B31","v":"1921"},{"$f":"'Expenditures 15-22'!A31","v":"Bilingual Programs - Private Tuition"},null,{"$f":"'Expenditures 15-22'!K31","v":15991}]
["ED","Expenditures 15-22, L32, Col K",{"$f":"'Expenditures 15-22'!B32","v":"1922"},{"$f":"'Expenditures 15-22'!A32","v":"Truants Alternative/Optional Ed Programs - Private Tuition"},null,{"$f":"'Expenditures 15-22'!K32","v":1241233}]
["ED","Expenditures 15-22, L75, Col K - (G+I)",{"$f":"'Expenditures 15-22'!B75","v":"3000"},"Community Services",null,{"$f":"'Expenditures 15-22'!K75-('Expenditures 15-22'!G75+'Expenditures 15-22'!I75)","v":164652088.40000001}]
["ED","Expenditures 15-22, L102, Col K",{"$f":"'Expenditures 15-22'!B102","v":4000},{"$f":"'Expenditures 15-22'!A102","v":"Total Payments to Other District & Govt Units"},null,{"$f":"'Expenditures 15-22'!K102","v":752639020.77999997}]
["ED","Expenditures 15-22, L114, Col G","-","Capital Outlay",null,{"$f":"'Expenditures 15-22'!G114","v":178261566.98000002}]
["ED","Expenditures 15-22, L114, Col I","-","Non-Capitalized Equipment",null,{"$f":"'Expenditures 15-22'!I114","v":150356068}]
["O&M","Expenditures 15-22, L130, Col K - (G+I)",{"$f":"'Expenditures 15-22'!B130","v":"3000"},"Community Services",null,{"$f":"'Expenditures 15-22'!K130-('Expenditures 15-22'!G130+'Expenditures 15-22'!I130)","v":315317}]
["O&M","Expenditures 15-22, L139, Col K",{"$f":"'Expenditures 15-22'!B139","v":4000},"Payments to Other Govt Units (In State)",null,{"$f":"'Expenditures 15-22'!K139","v":5128059}]
["O&M","Expenditures 15-22, L151, Col G","-","Capital Outlay",null,{"$f":"'Expenditures 15-22'!G151","v":336648964}]
["O&M","Expenditures 15-22, L151, Col I","-","Non-Capitalized Equipment",null,{"$f":"'Expenditures 15-22'!I151","v":12389543}]
["DS","Expenditures 15-22, L160, Col K",{"$f":"'Expenditures 15-22'!B155","v":"4000"},"Payments to Other Govt Units (In State)",null,{"$f":"'Expenditures 15-22'!K155","v":0}]
["DS","Expenditures 15-22, L170, Col K",{"$f":"'Expenditures 15-22'!B170","v":"5300"},"Debt Service - Payments of Principal on Long-Term Debt",null,{"$f":"'Expenditures 15-22'!K170","v":1592162767}]
["TR","Expenditures 15-22, L185, Col K - (G+I)",{"$f":"'Expenditures 15-22'!B185","v":3000},"Community Services",null,{"$f":"'Expenditures 15-22'!K185-('Expenditures 15-22'!G185+'Expenditures 15-22'!I185)","v":206240}]
["TR","Expenditures 15-22, L196, Col K",{"$f":"'Expenditures 15-22'!B196","v":"4000"},"Payments to Other Govt Units (In State)",null,{"$f":"'Expenditures 15-22'!K196","v":14624269}]
["TR","Expenditures 15-22, L206, Col K",{"$f":"'Expenditures 15-22'!B206","v":"5300"},"Debt Service - Payments of Principal on Long-Term Debt",null,{"$f":"'Expenditures 15-22'!K206","v":14777034}]
["TR","Expenditures 15-22, L210, Col G","-","Capital Outlay",null,{"$f":"'Expenditures 15-22'!G210","v":67723085}]
["TR","Expenditures 15-22, L210, Col I","-","Non-Capitalized Equipment",null,{"$f":"'Expenditures 15-22'!I210","v":1423797}]
["MR/SS","Expenditures 15-22, L216, Col K",{"$f":"'Expenditures 15-22'!B216","v":"1125"},{"$f":"'Expenditures 15-22'!A216","v":"Pre-K Programs"},null,{"$f":"'Expenditures 15-22'!K216","v":5490910.0300000003}]
["MR/SS","Expenditures 15-22, L218, Col K",{"$f":"'Expenditures 15-22'!B218","v":"1225"},{"$f":"'Expenditures 15-22'!A218","v":"Special Education Programs - Pre-K"},null,{"$f":"'Expenditures 15-22'!K218","v":3676885}]
["MR/SS","Expenditures 15-22, L220, Col K",{"$f":"'Expenditures 15-22'!B220","v":"1275"},{"$f":"'Expenditures 15-22'!A220","v":"Remedial and Supplemental Programs - Pre-K"},null,{"$f":"'Expenditures 15-22'!K220","v":481136}]
["MR/SS","Expenditures 15-22, L221, Col K",{"$f":"'Expenditures 15-22'!B221","v":1300},{"$f":"'Expenditures 15-22'!A221","v":"Adult/Continuing Education Programs"},null,{"$f":"'Expenditures 15-22'!K221","v":709696}]
["MR/SS","Expenditures 15-22, L224, Col K",{"$f":"'Expenditures 15-22'!B224","v":1600},{"$f":"'Expenditures 15-22'!A224","v":"Summer School Programs"},null,{"$f":"'Expenditures 15-22'!K224","v":1878772}]
["MR/SS","Expenditures 15-22, L280, Col K",{"$f":"'Expenditures 15-22'!B280","v":3000},"Community Services",null,{"$f":"'Expenditures 15-22'!K280","v":6389057.5999999996}]
["MR/SS","Expenditures 15-22, L285, Col K",{"$f":"'Expenditures 15-22'!B285","v":"4000"},"Total Payments to Other Govt Units",null,{"$f":"'Expenditures 15-22'!K285","v":1833094}]
["Tort","Expenditures 15-22, L344, Col K",4000,"Total Payments to Other Govt Units",null,{"$f":"'Expenditures 15-22'!K334","v":806600}]
[]
[null,null,null,"Total Deductions for OEPP Computation (Sum of Lines 18 - 74) ","$",{"$f":"SUM(F18:F74)","v":4123403335.8299999}]
[null,null,null,"Total Operating Expenses Regular K-12 (Line 14 minus Line 76)",null,{"$f":"(F14-F76)","v":25583072639.669998}]
[null,null,null,"9 Month ADA from District Average Daily Attendance -Student Information System (SIS) in IWAS -preliminary ADA 2019-2020",null,{"$f":"'AFR19'!B6020","v":1771116.100000002}]
[null,null,null,"Estimated OEPP  (Line 77 divided by Line 78)","$",{"$f":"IF(F78>0,F77/F78,\"Complete Line 78\")","v":14444.60509374285}]
[]
["PER CAPITA TUITION CHARGE"]
[]
[" LESS OFFSETTING RECEIPTS/REVENUES:"]
["TR","Revenues 9-14, L42, Col F",{"$f":"'Revenues 9-14'!B42","v":1411},{"$f":"'Revenues 9-14'!A42","v":"Regular -Transp Fees from Pupils or Parents (In State)"},"$",{"$f":"'Revenues 9-14'!F42","v":7064759}]
["TR","Revenues 9-14, L44, Col F",{"$f":"'Revenues 9-14'!B44","v":1413},{"$f":"'Revenues 9-14'!A44","v":"Regular - Transp Fees from Other Sources (In State)"},null,{"$f":"'Revenues 9-14'!F44","v":1514448}]
["TR","Revenues 9-14, L45, Col F",{"$f":"'Revenues 9-14'!B45","v":1415},{"$f":"'Revenues 9-14'!A45","v":"Regular - Transp Fees from Co-curricular Activities (In State)"},null,{"$f":"'Revenues 9-14'!F45","v":5432092}]
["TR","Revenues 9-14, L46, Col F",1416,{"$f":"'Revenues 9-14'!A46","v":"Regular Transp Fees from Other Sources (Out of State)"},null,{"$f":"'Revenues 9-14'!F46","v":39257}]
["TR","Revenues 9-14, L51, Col F",{"$f":"'Revenues 9-14'!B51","v":1431},{"$f":"'Revenues 9-14'!A51","v":"CTE - Transp Fees from Pupils or Parents (In State)"},null,{"$f":"'Revenues 9-14'!F51","v":76413}]
["TR","Revenues 9-14, L53, Col F",{"$f":"'Revenues 9-14'!B53","v":1433},{"$f":"'Revenues 9-14'!A53","v":"CTE - Transp Fees from Other Sources (In State)"},null,{"$f":"'Revenues 9-14'!F53","v":100}]
["TR","Revenues 9-14, L54, Col F",{"$f":"'Revenues 9-14'!B54","v":1434},{"$f":"'Revenues 9-14'!A54","v":"CTE - Transp Fees from Other Sources (Out of State)"},null,{"$f":"'Revenues 9-14'!F54","v":0}]
["TR","Revenues 9-14, L55, Col F",{"$f":"'Revenues 9-14'!B55","v":1441},{"$f":"'Revenues 9-14'!A55","v":"Special Ed - Transp Fees from Pupils or Parents (In State)"},null,{"$f":"'Revenues 9-14'!F55","v":27846}]
["TR","Revenues 9-14, L57, Col F",{"$f":"'Revenues 9-14'!B57","v":1443},{"$f":"'Revenues 9-14'!A57","v":"Special Ed - Transp Fees from Other Sources (In State)"},null,{"$f":"'Revenues 9-14'!F57","v":159020}]
["TR","Revenues 9-14, L58, Col F",{"$f":"'Revenues 9-14'!B58","v":1444},{"$f":"'Revenues 9-14'!A58","v":"Special Ed - Transp Fees from Other Sources (Out of State)"},null,{"$f":"'Revenues 9-14'!F58","v":0}]
["ED","Revenues 9-14, L75, Col C",1600,{"$f":"'Revenues 9-14'!A75","v":"Total Food Service"},null,{"$f":"'Revenues 9-14'!C75","v":203990529.26999998}]
["ED-O&M","Revenues 9-14, L82, Col C,D",1700,{"$f":"'Revenues 9-14'!A82","v":"Total District/School Activity Income"},null,{"$f":"SUM('Revenues 9-14'!C82:D82)","v":122402014.58}]
["ED","Revenues 9-14, L84, Col C",{"$f":"'Revenues 9-14'!B84","v":1811},{"$f":"'Revenues 9-14'!A84","v":"Rentals - Regular Textbooks"},null,{"$f":"'Revenues 9-14'!C84","v":101696669}]
["ED","Revenues 9-14, L87, Col C",{"$f":"'Revenues 9-14'!B87","v":1819},{"$f":"'Revenues 9-14'!A87","v":"Rentals - Other (Describe & Itemize)"},null,{"$f":"'Revenues 9-14'!C87","v":2327450}]
["ED","Revenues 9-14, L88, Col C",{"$f":"'Revenues 9-14'!B88","v":1821},{"$f":"'Revenues 9-14'!A88","v":"Sales - Regular Textbooks"},null,{"$f":"'Revenues 9-14'!C88","v":1924657}]
["ED","Revenues 9-14, L91, Col C",{"$f":"'Revenues 9-14'!B91","v":1829},{"$f":"'Revenues 9-14'!A91","v":"Sales - Other (Describe & Itemize)"},null,{"$f":"'Revenues 9-14'!C91","v":888402}]
["ED","Revenues 9-14, L92, Col C",{"$f":"'Revenues 9-14'!B92","v":1890},{"$f":"'Revenues 9-14'!A92","v":"Other (Describe & Itemize)"},null,{"$f":"'Revenues 9-14'!C92","v":2465653}]
["ED-O&M","Revenues 9-14, L95, Col C,D",{"$f":"'Revenues 9-14'!B95","v":1910},{"$f":"'Revenues 9-14'!A95","v":"Rentals"},null,{"$f":"SUM('Revenues 9-14'!C95:D95)","v":43356415}]
["ED-O&M-TR","Revenues 9-14, L98, Col C,D,F",{"$f":"'Revenues 9-14'!B98","v":1940},{"$f":"'Revenues 9-14'!A98","v":"Services Provided Other Districts"},null,{"$f":"SUM('Revenues 9-14'!C98:D98,'Revenues 9-14'!F98)","v":13732682}]
["ED-O&M-DS-TR-MR/SS","Revenues 9-14, L104, Col C,D,E,F,G",{"$f":"'Revenues 9-14'!B104","v":1991},{"$f":"'Revenues 9-14'!A104","v":"Payment from Other Districts"},null,{"$f":"SUM('Revenues 9-14'!C104:G104)","v":8605270}]
["ED","Revenues 9-14, L106, Col C",{"$f":"'Revenues 9-14'!B106","v":1993},{"$f":"'Revenues 9-14'!A106","v":"Other Local Fees"},null,{"$f":"('Revenues 9-14'!C106)","v":65193454}]
["ED-O&M-TR","Revenues 9-14, L132, Col C,D,F",3100,{"$f":"'Revenues 9-14'!A132","v":"Total Special Education"},null,{"$f":"SUM('Revenues 9-14'!C132:D132,'Revenues 9-14'!F132)","v":223863052}]
["ED-O&M-MR/SS","Revenues 9-14, L141, Col C,D,G",3200,{"$f":"'Revenues 9-14'!A141","v":"Total Career and Technical Education"},null,{"$f":"SUM('Revenues 9-14'!C141:D141,'Revenues 9-14'!G141)","v":22508051}]
["ED-MR/SS","Revenues 9-14, L145, Col C,G",3300,{"$f":"'Revenues 9-14'!A145","v":"Total Bilingual Ed"},null,{"$f":"SUM('Revenues 9-14'!C145,'Revenues 9-14'!G145)","v":361289}]
["ED","Revenues 9-14, L146, Col C",{"$f":"'Revenues 9-14'!B146","v":3360},{"$f":"'Revenues 9-14'!A146","v":"State Free Lunch & Breakfast"},null,{"$f":"'Revenues 9-14'!C146","v":10388192.76}]
["ED-O&M-MR/SS","Revenues 9-14, L147, Col C,D,G",{"$f":"'Revenues 9-14'!B147","v":3365},{"$f":"'Revenues 9-14'!A147","v":"School Breakfast Initiative"},null,{"$f":"SUM('Revenues 9-14'!C147:D147,'Revenues 9-14'!G147)","v":72316}]
["ED-O&M","Revenues 9-14, L148,Col C,D",{"$f":"'Revenues 9-14'!B148","v":3370},{"$f":"'Revenues 9-14'!A148","v":"Driver Education"},null,{"$f":"SUM('Revenues 9-14'!C148:D148)","v":16895540}]
["ED-O&M-TR-MR/SS","Revenues 9-14, L155, Col C,D,F,G",3500,{"$f":"'Revenues 9-14'!A155","v":"Total Transportation"},null,{"$f":"SUM('Revenues 9-14'!C155:D155,'Revenues 9-14'!F155:G155)","v":704531216.01999998}]
["ED","Revenues 9-14, L156, Col C",{"$f":"'Revenues 9-14'!B156","v":3610},{"$f":"'Revenues 9-14'!A156","v":"Learning Improvement - Change Grants"},null,{"$f":"'Revenues 9-14'!C156","v":37313}]
["ED-O&M-TR-MR/SS","Revenues 9-14, L157, Col C,D,F,G",{"$f":"'Revenues 9-14'!B157","v":3660},{"$f":"'Revenues 9-14'!A157","v":"Scientific Literacy"},null,{"$f":"SUM('Revenues 9-14'!C157:D157,'Revenues 9-14'!F157:G157)","v":6661}]
["ED-TR-MR/SS","Revenues 9-14, L158, Col C,F,G",{"$f":"'Revenues 9-14'!B158","v":3695},{"$f":"'Revenues 9-14'!A158","v":"Truant Alternative/Optional Education"},null,{"$f":"SUM('Revenues 9-14'!C158,'Revenues 9-14'!F158:G158)","v":8198534}]
["ED-TR-MR/SS","Revenues 9-14, L160, Col C,F,G",{"$f":"'Revenues 9-14'!B160","v":3766},{"$f":"'Revenues 9-14'!A160","v":"Chicago General Education Block Grant"},null,{"$f":"SUM('Revenues 9-14'!C160,'Revenues 9-14'!F160:G160)","v":0}]
["ED-TR-MR/SS","Revenues 9-14, L161, Col C,F,G",{"$f":"'Revenues 9-14'!B161","v":3767},{"$f":"'Revenues 9-14'!A161","v":"Chicago Educational Services Block Grant"},null,{"$f":"SUM('Revenues 9-14'!C161,'Revenues 9-14'!F161:G161)","v":0}]
["ED-O&M-TR-MR/SS","Revenues 9-14, L162, Col C,D,E,F,G",{"$f":"'Revenues 9-14'!B162","v":3775},{"$f":"'Revenues 9-14'!A162","v":"School Safety & Educational Improvement Block Grant"},null,{"$f":"SUM('Revenues 9-14'!C162:G162)","v":14502}]
["ED-O&M-TR-MR/SS","Revenues 9-14, L163, Col C,D,E,F,G",{"$f":"'Revenues 9-14'!B163","v":3780},{"$f":"'Revenues 9-14'!A163","v":"Technology - Learning Technology Centers"},null,{"$f":"SUM('Revenues 9-14'!C163:G163)","v":18504}]
["ED-TR","Revenues 9-14, L164, Col C,F",{"$f":"'Revenues 9-14'!B164","v":3815},{"$f":"'Revenues 9-14'!A164","v":"State Charter Schools"},null,{"$f":"SUM('Revenues 9-14'!C164,'Revenues 9-14'!F164)","v":5055}]
["O&M","Revenues 9-14, L167, Col D",{"$f":"'Revenues 9-14'!B167","v":3925},{"$f":"'Revenues 9-14'!A167","v":"School Infrastructure - Maintenance"},null,{"$f":"'Revenues 9-14'!D167","v":5000}]
["ED-O&M-DS-TR-MR/SS-Tort","Revenues 9-14, L168, Col C-G,J",{"$f":"'Revenues 9-14'!B168","v":3999},"Other Restricted Revenue from State Sources",null,{"$f":"SUM('Revenues 9-14'!C168:G168,'Revenues 9-14'!J168)","v":41703653}]
["ED","Revenues 9-14, L177, Col C",{"$f":"'Revenues 9-14'!B177","v":4045},{"$f":"'Revenues 9-14'!A177 & \" (Subtract)\"","v":"Head Start (Subtract)"},null,{"$f":"SUM(-'Revenues 9-14'!C177)","v":-47094105}]
["ED-O&M-TR-MR/SS","Revenues 9-14, L181, Col C,D,F,G","-",{"$f":"('Revenues 9-14'!A181)","v":"Total Restricted Grants-In-Aid Received Directly from Federal Govt"},null,{"$f":"SUM('Revenues 9-14'!C181:D181,'Revenues 9-14'!F181:G181)","v":66048622.399999999}]
["ED-O&M-TR-MR/SS","Revenues 9-14, L188, Col C,D,F,G","-",{"$f":"'Revenues 9-14'!A188","v":"Total Title VI"},null,{"$f":"SUM('Revenues 9-14'!C188:D188,'Revenues 9-14'!F188:G188)","v":3144140}]
["ED-MR/SS","Revenues 9-14, L198, Col C,G","-",{"$f":"'Revenues 9-14'!A198","v":"Total Food Service"},null,{"$f":"SUM('Revenues 9-14'!C198,'Revenues 9-14'!G198)","v":600899642.79999995}]
["ED-O&M-TR-MR/SS","Revenues 9-14, L204, Col C,D,F,G","-",{"$f":"'Revenues 9-14'!A204","v":"Total Title I"},null,{"$f":"SUM('Revenues 9-14'!C204:D204,'Revenues 9-14'!F204:G204)","v":637207731}]
["ED-O&M-TR-MR/SS","Revenues 9-14, L209, Col C,D,F,G","-",{"$f":"'Revenues 9-14'!A209","v":"Total Title IV"},null,{"$f":"SUM('Revenues 9-14'!C209:D209,'Revenues 9-14'!F209:G209)","v":33917222}]
["ED-O&M-TR-MR/SS","Revenues 9-14, L213, Col C,D,F,G",{"$f":"'Revenues 9-14'!B213","v":4620},{"$f":"'Revenues 9-14'!A213","v":"Fed - Spec Education - IDEA - Flow Through"},null,{"$f":"SUM('Revenues 9-14'!C213:D213,'Revenues 9-14'!F213:G213)","v":354692067.19}]
["ED-O&M-TR-MR/SS","Revenues 9-14, L214, Col C,D,F,G",{"$f":"'Revenues 9-14'!B214","v":4625},{"$f":"'Revenues 9-14'!A214","v":"Fed - Spec Education - IDEA - Room & Board"},null,{"$f":"SUM('Revenues 9-14'!C214:D214,'Revenues 9-14'!F214:G214)","v":47306903.329999998}]
["ED-O&M-TR-MR/SS","Revenues 9-14, L215, Col C,D,F,G",{"$f":"'Revenues 9-14'!B215","v":4630},{"$f":"'Revenues 9-14'!A215","v":"Fed - Spec Education - IDEA - Discretionary"},null,{"$f":"SUM('Revenues 9-14'!C215:D215,'Revenues 9-14'!F215:G215)","v":78881},6297]
["ED-O&M-TR-MR/SS","Revenues 9-14, L216, Col C,D,F,G",{"$f":"'Revenues 9-14'!B216","v":4699},{"$f":"'Revenues 9-14'!A216","v":"Fed - Spec Education - IDEA - Other (Describe & Itemize)"},null,{"$f":"SUM('Revenues 9-14'!C216:D216,'Revenues 9-14'!F216:G216)","v":180732}]
["ED-O&M-MR/SS","Revenues 9-14, L221, Col C,D,G",4700,{"$f":"'Revenues 9-14'!A221","v":"Total CTE - Perkins"},null,{"$f":"SUM('Revenues 9-14'!C221:D221,'Revenues 9-14'!G221)","v":14621497},6303]
["ED-O&M-TR-MR/SS-Tort","Revenue-L231, Col C,D,F,G","4851",{"$f":"'Revenues 9-14'!A224","v":"ARRA - Title I - Low Income"},null,{"$f":"SUM('Revenues 9-14'!C224:D224,'Revenues 9-14'!F224:G224)","v":0}]
["ED-O&M-TR-MR/SS-Tort","Revenue-L232, Col C,D,E,F,G,J","4852",{"$f":"'Revenues 9-14'!A225","v":"ARRA - Title I - Neglected, Private"},null,{"$f":"SUM('Revenues 9-14'!C225:G225,'Revenues 9-14'!J225)","v":0}]
["ED-O&M-TR-MR/SS-Tort","Revenue L233, Col C,D,E,F,G,J","4853",{"$f":"'Revenues 9-14'!A226","v":"ARRA - Title I - Delinquent, Private"},null,{"$f":"SUM('Revenues 9-14'!C226:G226,'Revenues 9-14'!J226)","v":0}]
["ED-O&M-TR-MR/SS-Tort","Revenue L234, Col C,D,E,F,G,J","4854",{"$f":"'Revenues 9-14'!A227","v":"ARRA A- Title I - School Improvement (Part A)"},null,{"$f":"SUM('Revenues 9-14'!C227:G227,'Revenues 9-14'!J227)","v":177737}]
["ED-O&M-TR-MR/SS-Tort","Revenue L235, Col C,D,E,F,G,J","4855",{"$f":"'Revenues 9-14'!A228","v":"ARRA - Title I - School Improvement (Part G)"},null,{"$f":"SUM('Revenues 9-14'!C228:G228,'Revenues 9-14'!J228)","v":0}]
[]
["ED-O&M-TR-MR/SS-Tort","Revenue L237, Col C,D,E,F,G,J","4857",{"$f":"'Revenues 9-14'!A230","v":"ARRA - IDEA - Part B - Flow-Through"},null,{"$f":"SUM('Revenues 9-14'!C230:G230,'Revenues 9-14'!J230)","v":24992}]
["ED-O&M-TR-MR/SS-Tort","Revenue L238, Col C,D,E,F,G,J","4860",{"$f":"'Revenues 9-14'!A231","v":"ARRA - Title IID - Technology-Formula"},null,{"$f":"SUM('Revenues 9-14'!C231:G231,'Revenues 9-14'!J231)","v":0}]
["ED-O&M-TR-MR/SS-Tort","Revenue L239, Col C,D,E,F,G,J","4861",{"$f":"'Revenues 9-14'!A232","v":"ARRA - Title IID - Technology-Competitive"},null,{"$f":"SUM('Revenues 9-14'!C232:G232,'Revenues 9-14'!J232)","v":0}]
["ED-O&M-TR-MR/SS","Revenue L240, Col C, D,F,G","4862",{"$f":"'Revenues 9-14'!A233","v":"ARRA - McKinney - Vento Homeless Education"},null,{"$f":"SUM('Revenues 9-14'!C233:D233,'Revenues 9-14'!F233:G233)","v":1102}]
["ED-O&M-TR-MR/SS-Tort","Revenue L244, Col C,D,E,F,G,J","4866",{"$f":"'Revenues 9-14'!A237","v":"Qualified Zone Academy Bond Tax Credits"},null,{"$f":"SUM('Revenues 9-14'!C237:G237,'Revenues 9-14'!J237)","v":1525196}]
["ED-O&M-TR-MR/SS-Tort","Revenue L245, Col C,D,E,F,G,J","4867",{"$f":"'Revenues 9-14'!A238","v":"Qualified School Construction Bond Credits"},null,{"$f":"SUM('Revenues 9-14'!C238:G238,'Revenues 9-14'!J238)","v":13557871}]
["ED-O&M-TR-MR/SS-Tort","Revenue L246, Col C,D,E,F,G,J","4868",{"$f":"'Revenues 9-14'!A239","v":"Build America Bond Tax Credits"},null,{"$f":"SUM('Revenues 9-14'!C239:G239,'Revenues 9-14'!J239)","v":1983309}]
["ED-O&M-TR-MR/SS-Tort","Revenue L247, Col C,D,E,F,G,J","4869",{"$f":"'Revenues 9-14'!A240","v":"Build America Bond Interest Reimbursement"},null,{"$f":"SUM('Revenues 9-14'!C240:G240,'Revenues 9-14'!J240)","v":33626284}]
["ED-O&M-TR-MR/SS-Tort","Revenue L249, Col C,D,E,F,G,J","4871",{"$f":"'Revenues 9-14'!A242","v":"Other ARRA Funds - II"},null,{"$f":"SUM('Revenues 9-14'!C242:G242,'Revenues 9-14'!J242)","v":0}]
["ED-O&M-TR-MR/SS-Tort","Revenue L250, Col C,D,E,F,G,J","4872",{"$f":"'Revenues 9-14'!A243","v":"Other ARRA Funds - III"},null,{"$f":"SUM('Revenues 9-14'!C243:G243,'Revenues 9-14'!J243)","v":0}]
["ED-O&M-TR-MR/SS-Tort","Revenue L251, Col C,D,E,F,G,J","4873",{"$f":"'Revenues 9-14'!A244","v":"Other ARRA Funds - IV"},null,{"$f":"SUM('Revenues 9-14'!C244:G244,'Revenues 9-14'!J244)","v":0}]
["ED-O&M-TR-MR/SS-Tort","Revenue L252, Col C,D,E,F,G,J","4874",{"$f":"'Revenues 9-14'!A245","v":"Other ARRA Funds - V"},null,{"$f":"SUM('Revenues 9-14'!C245:G245,'Revenues 9-14'!J245)","v":0}]
["ED-O&M-TR-MR/SS-Tort","Revenue L253, Col C,D,E,F,G,J","4875",{"$f":"'Revenues 9-14'!A246","v":"ARRA - Early Childhood"}]
["ED-O&M-TR-MR/SS-Tort","Revenue L254, Col C,D,E,F,G,J","4876",{"$f":"'Revenues 9-14'!A247","v":"Other ARRA Funds VII"},null,{"$f":"SUM('Revenues 9-14'!C247:G247,'Revenues 9-14'!J247)","v":0}]
["ED-O&M-TR-MR/SS-Tort","Revenue L255, Col C,D,E,F,G,J","4877",{"$f":"'Revenues 9-14'!A248","v":"Other ARRA Funds VIII"},null,{"$f":"SUM('Revenues 9-14'!C248:G248,'Revenues 9-14'!J248)","v":0}]
["ED-O&M-TR-MR/SS-Tort","Revenue L256, Col C,D,E,F,G,J","4878",{"$f":"'Revenues 9-14'!A249","v":"Other ARRA Funds IX"},null,{"$f":"SUM('Revenues 9-14'!C249:G249,'Revenues 9-14'!J249)","v":0}]
["ED-O&M-TR-MR/SS-Tort","Revenue L257, Col C,D,E,F,G,J","4879",{"$f":"'Revenues 9-14'!A250","v":"Other ARRA Funds X"},null,{"$f":"SUM('Revenues 9-14'!C250:G250,'Revenues 9-14'!J250)","v":0}]
["ED-O&M-TR-MR/SS-Tort","Revenue L258, Col C,D,E,F,G,J","4880",{"$f":"'Revenues 9-14'!A251","v":"Other ARRA Funds XI"},null,{"$f":"SUM('Revenues 9-14'!C251:G251,'Revenues 9-14'!J251)","v":13}]
["ED-O&M-TR-MR/SS-Tort","Revenue Adjustments (C224-J251)","4800","Total ARRA Program Adjustments",null,{"$f":"SUM(F133:F156)","v":50896504}]
["ED","Revenues 9-14, L253, Col C","4901","Race to the Top",null,{"$f":"'Revenues 9-14'!C253","v":0}]
["ED-O&M-TR-MR/SS","Revenues 9-14, L254, Col C,D,F,G","4902","Race to the Top-Preschool Expansion Grant",null,{"$f":"SUM('Revenues 9-14'!C254:D254,'Revenues 9-14'!F254:G254)","v":12870426}]
["ED-O&M-TR-MR/SS-Tort","Revenues 9-14, L255, Col C,F,G","4905",{"$f":"'Revenues 9-14'!A255","v":"Title III - Immigrant Education Program (IEP)"},null,{"$f":"SUM('Revenues 9-14'!C255,'Revenues 9-14'!F255,'Revenues 9-14'!G255)","v":1557473}]
["ED-TR-MR/SS","Revenues 9-14, L256, Col C,F,G",{"$f":"'Revenues 9-14'!B256","v":4909},{"$f":"'Revenues 9-14'!A256","v":"Title III - English Language Acquisition"},null,{"$f":"SUM('Revenues 9-14'!C256,'Revenues 9-14'!F256:G256)","v":24639184}]
["ED-O&M-TR-MR/SS","Revenues 9-14, L257, Col C,D,F,G",{"$f":"'Revenues 9-14'!B257","v":4920},{"$f":"'Revenues 9-14'!A257","v":"McKinney Education for Homeless Children"},null,{"$f":"SUM('Revenues 9-14'!C257:D257,'Revenues 9-14'!F257:G257)","v":1001760}]
["ED-O&M-TR-MR/SS","Revenues 9-14, L258, Col C,D,F,G",{"$f":"'Revenues 9-14'!B258","v":4930},{"$f":"'Revenues 9-14'!A258","v":"Title II - Eisenhower Professional Development Formula"},null,{"$f":"SUM('Revenues 9-14'!C258:D258,'Revenues 9-14'!F258:G258)","v":465614}]
["ED-O&M-TR-MR/SS","Revenues 9-14, L259, Col C,D,F,G",{"$f":"'Revenues 9-14'!B259","v":4932},{"$f":"'Revenues 9-14'!A259","v":"Title II - Teacher Quality"},null,{"$f":"SUM('Revenues 9-14'!C259:D259,'Revenues 9-14'!F259:G259)","v":70396835}]
["ED-O&M-TR-MR/SS","Revenues 9-14, L260, Col C,D,F,G",{"$f":"'Revenues 9-14'!B260","v":4960},{"$f":"'Revenues 9-14'!A260","v":"Federal Charter Schools"},null,{"$f":"SUM('Revenues 9-14'!C260:D260,'Revenues 9-14'!F260:G260)","v":237596}]
["ED-O&M-TR-MR/SS","Revenues 9-14, L261, Col C,D,F,G",{"$f":"'[1]Revenues 9-14'!B261","v":4981},{"$f":"'[1]Revenues 9-14'!A261","v":"State Assessment Grants"},null,{"$f":"'Revenues 9-14'!C261:G261","v":0}]
["ED-O&M-TR-MR/SS","Revenues 9-14, L262, Col C,D,F,G",{"$f":"'[1]Revenues 9-14'!B262","v":4982},{"$f":"'[1]Revenues 9-14'!A262","v":"Grant for State Assessments and Related Activities"},null,{"$f":"'Revenues 9-14'!C262:G262","v":0}]
["ED-O&M-TR-MR/SS","Revenues 9-14, L263, Col C,D,F,G",{"$f":"'Revenues 9-14'!B263","v":4991},{"$f":"'Revenues 9-14'!A263","v":"Medicaid Matching Funds - Administrative Outreach"},null,{"$f":"SUM('Revenues 9-14'!C263:D263,'Revenues 9-14'!F263:G263)","v":38061129.5},6320]
["ED-O&M-TR-MR/SS","Revenues 9-14, L264, Col C,D,F,G",{"$f":"'Revenues 9-14'!B264","v":4992},{"$f":"'Revenues 9-14'!A264","v":"Medicaid Matching Funds - Fee-for-Service Program"},null,{"$f":"SUM('Revenues 9-14'!C264:D264,'Revenues 9-14'!F264:G264)","v":110571398.08}]
["ED-O&M-TR-MR/SS","Revenues 9-14, L265, Col C,D,F,G",{"$f":"'Revenues 9-14'!B265","v":4998},{"$f":"'Revenues 9-14'!A265","v":"Other Restricted Revenue from Federal Sources (Describe & Itemize)"},null,{"$f":"SUM('Revenues 9-14'!C265:D265,'Revenues 9-14'!F265:G265)","v":29446282}]
["ED-TR-MR/SS","Revenues (Part of EBF Payment)",3100,"Special Education Contributions from EBF Funds **",null,{"$f":"'AFR19'!B7764","v":814021082.97000003}]
["ED-MR/SS","Revenues (Part of EBF Payment)",3300,"English Learning (Bilingual) Contributions from EBF Funds ***",null,{"$f":"'AFR19'!B7765","v":104699608.98}]
[]
[null,null,null,"Total Deductions for PCTC Computation (Line 84 through Line 172)",null,{"$f":"SUM(F84:F172)","v":4630270740.8799992}]
[null,null,null,"Net Operating Expense for Tuition Computation (Line 77 minus Line 174)",null,{"$f":"SUM(F77-F174)","v":20952801898.790001}]
[null,null,null,"Total Depreciation Allowance (frm page 26, Line 18, Col I)",null,{"$f":"'Cap Outlay Deprec 26'!I18","v":1384941921.4200001}]
[null,null,null,"Total Allowance for PCTC Computation (Line 175 plus 176)",null,{"$f":"F175+F176","v":22337743820.209999}]
[null,null,null,{"$f":"D78","v":"9 Month ADA from District Average Daily Attendance -Student Information System (SIS) in IWAS -preliminary ADA 2019-2020"},null,{"$f":"'PCTC-OEPP 27-28'!F78","v":1771116.100000002}]
[null,null,null,"Total Estimated PCTC (Line 177 divided by Line 178) ",null,{"$f":"F177/F178","v":12612.241411057115}]
[null,null,null,null,null,null,6326]
[null,null,null,null,null," "]

{"sheet":"AFR19","index":15,"n_rows":7765,"n_cols":14,"rows_kept":7765,"cut":false,"hidden":true,"merged":[]}
[null,null,"ORIGINAL ADDRESS","DIFFERENCE","WARNING"]
["i","99-999-9999-99",{"$f":"COVER!A13","v":"99-999-9999-99"}]
["i","2018-19 State Totals - SD Only",{"$f":"COVER!A17","v":"2018-19 State Totals - SD Only"}]
["i"]
["i","X"]
["i"]
["i","X",null,null,null,null,null,null,null,null,null,null,"txtFieldNum","2019"]
[1,0,null,{"$f":"B8-C8","v":0},{"$f":"IF((D8 = 0),\"OK\",IF((D8<-5),\"CHECK ME!\",IF((D8>5),\"Check Me!\",\"OK\")))","v":"OK"},null,null,null,null,null,null,null,103,893674]
[2,0,null,0,"OK",null,null,null,null,null,null,null,1032,9302587072.0900002]
[3,0,null,0,"OK",null,null,null,null,null,null,null,1033,64611381]
[4,4730386878,{"$f":"'Assets-Liab 5-6'!C6","v":4730386878},0,"OK",null,null,null,null,null,null,null,1039,470563525.29000002]
[5,0,null,0,"OK",null,null,null,null,null,null,null,1043,13200086]
[6,0,null,0,"OK",null,null,null,null,null,null,null,1044,249057350]
[7,0,null,0,"OK",null,null,null,null,null,null,null,1045,420678809.95999998]
[8,0,null,0,"OK",null,null,null,null,null,null,null,1046,58119293]
[9,0,null,0,"OK",null,null,null,null,null,null,null,1047,15060244150.949999]
[10,0,null,0,"OK",null,null,null,null,null,null,null,1048,364444348.75999999]
[11,11601686,{"$f":"'Assets-Liab 5-6'!C10","v":11601686},0,"OK",null,null,null,null,null,null,null,1049,411909294]
[12,2144597017,{"$f":"'Assets-Liab 5-6'!C5","v":2144597017},0,"OK",null,null,null,null,null,null,null,105,262659001]
[13,0,null,0,"OK",null,null,null,null,null,null,null,1050,231931825.06999999]
[14,0,null,0,"OK",null,null,null,null,null,null,null,1051,164978377]
[15,7860108,{"$f":"'Assets-Liab 5-6'!C12","v":7860108},0,"OK",null,null,null,null,null,null,null,1052,274727631]
[16,14336826497,{"$f":"'Assets-Liab 5-6'!C13","v":14336826497},0,"OK",null,null,null,null,null,null,null,1053,110641293.16]
[17,0,null,0,"OK",null,null,null,null,null,null,null,1054,1558632768.99]
[18,0,null,0,"OK",null,null,null,null,null,null,null,1055,572188020.99000001]
[19,0,null,0,"OK",null,null,null,null,null,null,null,1056,401242814.36000001]
[20,0,null,0,"OK",null,null,null,null,null,null,null,1057,50211929.020000003]
[21,0,null,0,"OK",null,null,null,null,null,null,null,1058,1023642764.37]
[22,0,null,0,"OK",null,null,null,null,null,null,null,1059,213315245.02000001]
[23,0,null,0,"OK",null,null,null,null,null,null,null,1060,240405273.00999999]
[24,0,null,0,"OK",null,null,null,null,null,null,null,1061,579093736.13]
[25,125255861,{"$f":"'Assets-Liab 5-6'!C31","v":125255861},0,"OK",null,null,null,null,null,null,null,1062,1162954459.5700002]
[26,0,null,0,"OK",null,null,null,null,null,null,null,1063,61191520]
[27,4458840163,{"$f":"'Assets-Liab 5-6'!C32","v":4458840163},0,"OK",null,null,null,null,null,null,null,1064,1224145979.5700002]
[28,0,null,0,"OK",null,null,null,null,null,null,null,1065,72800957.930000007]
[29,0,null,0,"OK",null,null,null,null,null,null,null,1066,182439281.35999998]
[30,6164815461,{"$f":"'Assets-Liab 5-6'!C34","v":6164815461},0,"OK",null,null,null,null,null,null,null,1067,233406129.78]
[31,7874115804.04,{"$f":"'Assets-Liab 5-6'!C39","v":7874115804.04},0,"OK",null,null,null,null,null,null,null,1068,137007752.30000001]
[32,14336826497.040001,{"$f":"'Assets-Liab 5-6'!C41","v":14336826497.040001},0,"OK",null,null,null,null,null,null,null,1069,781937175.71000004]
[33,0,null,0,"OK",null,null,null,null,null,null,null,1070,30658429]
[34,0,null,0,"OK",null,null,null,null,null,null,null,1072,1438249726.0799999]
[35,0,null,0,"OK",null,null,null,null,null,null,null,1073,16551486]
[36,510303177,{"$f":"'Assets-Liab 5-6'!D6","v":510303177},0,"OK",null,null,null,null,null,null,null,1074,29492691]
[37,0,null,0,"OK",null,null,null,null,null,null,null,1075,62269040.899999999]
[38,0,null,0,"OK",null,null,null,null,null,null,null,1076,116360448]
[39,0,null,0,"OK",null,null,null,null,null,null,null,1078,361923053]
[40,0,null,0,"OK",null,null,null,null,null,null,null,108,321223348]
[41,0,null,0,"OK",null,null,null,null,null,null,null,1080,586596718.89999998]
[42,0,null,0,"OK",null,null,null,null,null,null,null,1081,45770087.390000001]
[43,146411,{"$f":"'Assets-Liab 5-6'!D10","v":146411},0,"OK",null,null,null,null,null,null,null,1082,6456131781.4300003]
[44,353955928,{"$f":"'Assets-Liab 5-6'!D5","v":353955928},0,"OK",null,null,null,null,null,null,null,1083,167249497.76999998]
[45,0,null,0,"OK",null,null,null,null,null,null,null,1084,752639020.77999997]
[46,0,null,0,"OK",null,null,null,null,null,null,null,1085,504030]
[47,286148,{"$f":"'Assets-Liab 5-6'!D12","v":286148},0,"OK",null,null,null,null,null,null,null,1086,93979]
[48,2031268272,{"$f":"'Assets-Liab 5-6'!D13","v":2031268272},0,"OK",null,null,null,null,null,null,null,1088,288364]
[49,0,null,0,"OK",null,null,null,null,null,null,null,109,723554211]
[50,0,null,0,"OK",null,null,null,null,null,null,null,1090,7545456]
[51,0,null,0,"OK",null,null,null,null,null,null,null,1091,22445589789.93]
[52,0,null,0,"OK",null,null,null,null,null,null,null,1092,881916175.57999992]
[53,0,null,0,"OK",null,null,null,null,null,null,null,11,11601686]
[54,0,null,0,"OK",null,null,null,null,null,null,null,110,1243320780]
[55,0,null,0,"OK",null,null,null,null,null,null,null,112,171511446]
[56,1025851,{"$f":"'Assets-Liab 5-6'!D31","v":1025851},0,"OK",null,null,null,null,null,null,null,1158,2753479]
[57,0,null,0,"OK",null,null,null,null,null,null,null,1159,1174921]
[58,558592347,{"$f":"'Assets-Liab 5-6'!D32","v":558592347},0,"OK",null,null,null,null,null,null,null,116,114270042]
[59,0,null,0,"OK",null,null,null,null,null,null,null,1160,607070485.37]
[60,0,null,0,"OK",null,null,null,null,null,null,null,1162,611116259.37]
[61,652998745,{"$f":"'Assets-Liab 5-6'!D34","v":652998745},0,"OK",null,null,null,null,null,null,null,1163,998442]
[62,1163660705,{"$f":"'Assets-Liab 5-6'!D39","v":1163660705},0,"OK",null,null,null,null,null,null,null,1164,612250856.37]
[63,2031268272,{"$f":"'Assets-Liab 5-6'!D41","v":2031268272},0,"OK",null,null,null,null,null,null,null,1165,612524386.37]
[64,0,null,0,"OK",null,null,null,null,null,null,null,1166,412604]
[65,448723134,{"$f":"'Assets-Liab 5-6'!E6","v":448723134},{"$f":"B72-C72","v":0},{"$f":"IF((D72 = 0),\"OK\",IF((D72<-5),\"CHECK ME!\",IF((D72>5),\"Check Me!\",\"OK\")))","v":"OK"},null,null,null,null,null,null,null,1167,132274]
[66,0,null,0,"OK",null,null,null,null,null,null,null,1168,121271938.31]
[67,0,null,0,"OK",null,null,null,null,null,null,null,1170,121852134.31]
[68,189814038,{"$f":"'Assets-Liab 5-6'!E5","v":189814038},0,"OK",null,null,null,null,null,null,null,1171,277959]
[69,12381853,{"$f":"'Assets-Liab 5-6'!E12","v":12381853},0,"OK",null,null,null,null,null,null,null,1172,122150360.31]
[70,2092822689,{"$f":"'Assets-Liab 5-6'!E13","v":2092822689},0,"OK",null,null,null,null,null,null,null,1173,122150362.31]
[71,0,null,0,"OK",null,null,null,null,null,null,null,1174,1690219]
[72,0,null,0,"OK",null,null,null,null,null,null,null,1175,18050173]
[73,455747781,{"$f":"'Assets-Liab 5-6'!E32","v":455747781},0,"OK",null,null,null,null,null,null,null,1176,719134356.55999994]
[74,0,null,0,"OK",null,null,null,null,null,null,null,1178,738924021.55999994]
[75,0,null,0,"OK",null,null,null,null,null,null,null,1179,3517824]
[76,0,null,0,"OK",null,null,null,null,null,null,null,118,48004]
[77,0,null,0,"OK",null,null,null,null,null,null,null,1180,742509126.55999994]
[78,467427422,{"$f":"'Assets-Liab 5-6'!E34","v":467427422},0,"OK",null,null,null,null,null,null,null,1181,745124442.55999994]
[79,586540518,{"$f":"'Assets-Liab 5-6'!E39","v":586540518},0,"OK",null,null,null,null,null,null,null,1182,49789]
[80,2092822689,{"$f":"'Assets-Liab 5-6'!E41","v":2092822689},0,"OK",null,null,null,null,null,null,null,1183,603073]
[81,0,null,0,"OK",null,null,null,null,null,null,null,1184,492765168.10000002]
[82,0,null,0,"OK",null,null,null,null,null,null,null,1186,493522818.10000002]
[83,0,null,0,"OK",null,null,null,null,null,null,null,1187,52501]
[84,178845751,{"$f":"'Assets-Liab 5-6'!F6","v":178845751},0,"OK",null,null,null,null,null,null,null,1188,493582228.10000002]
[85,0,null,0,"OK",null,null,null,null,null,null,null,1189,493601529.10000002]
[86,0,null,0,"OK",null,null,null,null,null,null,null,119,695092908]
[87,0,null,0,"OK",null,null,null,null,null,null,null,1190,379223]
[88,0,null,0,"OK",null,null,null,null,null,null,null,1191,141117626]
[89,0,null,0,"OK",null,null,null,null,null,null,null,1192,194590677]
[90,0,null,0,"OK",null,null,null,null,null,null,null,1193,461742]
[91,0,{"$f":"'Assets-Liab 5-6'!F10","v":0},0,"OK",null,null,null,null,null,null,null,1195,336550516]
[92,210862565,{"$f":"'Assets-Liab 5-6'!F5","v":210862565},0,"OK",null,null,null,null,null,null,null,1196,32331]
[93,0,null,0,"OK",null,null,null,null,null,null,null,1197,336597847]
[94,0,null,0,"OK",null,null,null,null,null,null,null,1198,336648964]
[95,57200,{"$f":"'Assets-Liab 5-6'!F12","v":57200},0,"OK",null,null,null,null,null,null,null,1199,41961]
[96,1243320780,{"$f":"'Assets-Liab 5-6'!F13","v":1243320780},0,"OK",null,null,null,null,null,null,null,12,2144597017]
[97,0,null,0,"OK",null,null,null,null,null,null,null,1200,410984]
[98,0,null,0,"OK",null,null,null,null,null,null,null,1201,5626340.0599999996]
[99,0,null,0,"OK",null,null,null,null,null,null,null,1203,6079497.0599999996]
[100,0,null,0,"OK",null,null,null,null,null,null,null,1204,8881]
[101,0,null,0,"OK",null,null,null,null,null,null,null,1205,6088378.0599999996]
[102,0,null,0,"OK",null,null,null,null,null,null,null,1206,2535227]
[103,893674,{"$f":"'Assets-Liab 5-6'!F31","v":893674},0,"OK",null,null,null,null,null,null,null,1209,6602]
[104,0,null,0,"OK",null,null,null,null,null,null,null,1211,471810]
[105,262659001,{"$f":"'Assets-Liab 5-6'!F32","v":262659001},0,"OK",null,null,null,null,null,null,null,1212,9095415.0600000005]
[106,0,null,0,"OK",null,null,null,null,null,null,null,1213,5341403]
[107,0,null,0,"OK",null,null,null,null,null,null,null,1214,163637993]
[108,321223348,{"$f":"'Assets-Liab 5-6'!F34","v":321223348},0,"OK",null,null,null,null,null,null,null,1215,2151365719.3999996]
[109,723554211,{"$f":"'Assets-Liab 5-6'!F39","v":723554211},0,"OK",null,null,null,null,null,null,null,1216,550725]
[110,1243320780,{"$f":"'Assets-Liab 5-6'!F41","v":1243320780},0,"OK",null,null,null,null,null,null,null,1218,2321204053.3999996]
[111,0,0,0,"OK",null,null,null,null,null,null,null,1219,4941559]
[112,171511446,{"$f":"'Assets-Liab 5-6'!G6","v":171511446},0,"OK",null,null,null,null,null,null,null,1220,2326391224.3999996]
[113,0,null,0,"OK",null,null,null,null,null,null,null,1221,5128059]
[114,0,0,0,"OK",null,null,null,null,null,null,null,1224,6602]
[115,0,0,0,"OK",null,null,null,null,null,null,null,1226,471810]
[116,114270042,{"$f":"'Assets-Liab 5-6'!G5","v":114270042},0,"OK",null,null,null,null,null,null,null,1227,2332357527.3999996]
[117,0,0,0,"OK",null,null,null,null,null,null,null,1228,88869472.799999997]
[118,48004,{"$f":"'Assets-Liab 5-6'!G12","v":48004},0,"OK",null,null,null,null,null,null,null,123,5294526]
[119,695092908,{"$f":"'Assets-Liab 5-6'!G13","v":695092908},0,"OK",null,null,null,null,null,null,null,124,177333434]
[120,0,null,0,"OK",null,null,null,null,null,null,null,1246,5486523]
[121,0,null,0,"OK",null,null,null,null,null,null,null,1247,5486523]
[122,0,null,0,"OK",null,null,null,null,null,null,null,1248,5486523]
[123,5294526,{"$f":"'Assets-Liab 5-6'!G31","v":5294526},0,"OK",null,null,null,null,null,null,null,1249,14405]
[124,177333434,{"$f":"'Assets-Liab 5-6'!G32","v":177333434},0,"OK",null,null,null,null,null,null,null,1251,1043044470.7]
[125,0,null,0,"OK",null,null,null,null,null,null,null,1252,541258]
[126,0,null,0,"OK",null,null,null,null,null,null,null,1253,2462232]
[127,197424260,{"$f":"'Assets-Liab 5-6'!G34","v":197424260},0,"OK",null,null,null,null,null,null,null,1254,1592162767]
[128,331680656,{"$f":"'Assets-Liab 5-6'!G39","v":331680656},0,"OK",null,null,null,null,null,null,null,1255,32761132]
[129,695092908,{"$f":"'Assets-Liab 5-6'!G41","v":695092908},{"$f":"B136-C136","v":0},{"$f":"IF((D136 = 0),\"OK\",IF((D136<-5),\"CHECK ME!\",IF((D136>5),\"Check Me!\",\"OK\")))","v":"OK"},null,null,null,null,null,null,null,1256,2670430601.6999998]
[130,0,null,0,"OK",null,null,null,null,null,null,null,1257,2670536197.6999998]
[131,0,null,0,"OK",null,null,null,null,null,null,null,1262,105596]
[132,0,null,0,"OK",null,null,null,null,null,null,null,1263,14405]
[133,0,null,0,"OK",null,null,null,null,null,null,null,1265,1043044470.7]
[134,0,null,0,"OK",null,null,null,null,null,null,null,1266,541258]
[135,0,null,0,"OK",null,null,null,null,null,null,null,1267,2462232]
[136,0,null,0,"OK",null,null,null,null,null,null,null,1268,1592162767]
[137,0,{"$f":"'Assets-Liab 5-6'!H10","v":0},0,"OK",null,null,null,null,null,null,null,1269,38247655]
[138,412799483,{"$f":"'Assets-Liab 5-6'!H5","v":412799483},0,"OK",null,null,null,null,null,null,null,127,197424260]
[139,0,null,0,"OK",null,null,null,null,null,null,null,1270,2675917124.6999998]
[140,0,null,0,"OK",null,null,null,null,null,null,null,1271,2676022720.6999998]
[141,120438,{"$f":"'Assets-Liab 5-6'!H12","v":120438},0,"OK",null,null,null,null,null,null,null,1272,-512158296.27999997]
[142,2708297427,{"$f":"'Assets-Liab 5-6'!H13","v":2708297427},0,"OK",null,null,null,null,null,null,null,1274,257607265.81999999]
[143,0,null,0,"OK",null,null,null,null,null,null,null,1277,1258187]
[144,0,null,0,"OK",null,null,null,null,null,null,null,1278,261165046.81999999]
[145,9450,{"$f":"'Assets-Liab 5-6'!H31","v":9450},0,"OK",null,null,null,null,null,null,null,1279,261206795.81999999]
[146,0,null,0,"OK",null,null,null,null,null,null,null,128,331680656]
[147,5696137,{"$f":"'Assets-Liab 5-6'!H32","v":5696137},0,"OK",null,null,null,null,null,null,null,1280,42825501.960000001]
[148,0,null,0,"OK",null,null,null,null,null,null,null,1283,318260]
[149,0,null,0,"OK",null,null,null,null,null,null,null,1284,43376331.960000001]
[150,280896779,{"$f":"'Assets-Liab 5-6'!H34","v":280896779},0,"OK",null,null,null,null,null,null,null,1285,43377071.960000001]
[151,1350568217,{"$f":"'Assets-Liab 5-6'!H39","v":1350568217},0,"OK",null,null,null,null,null,null,null,1286,771207248.57000005]
[152,2708297395,{"$f":"'Assets-Liab 5-6'!H41","v":2708297395},0,"OK",null,null,null,null,null,null,null,1289,732609]
[153,0,null,0,"OK",null,null,null,null,null,null,null,129,695092908]
[154,0,null,0,"OK",null,null,null,null,null,null,null,1290,774220732.57000005]
[155,0,null,0,"OK",null,null,null,null,null,null,null,1291,12920694]
[156,0,null,0,"OK",null,null,null,null,null,null,null,1292,787302049.57000005]
[157,0,null,0,"OK",null,null,null,null,null,null,null,1293,68570493.870000005]
[158,0,null,0,"OK",null,null,null,null,null,null,null,1296,80866]
[159,0,null,0,"OK",null,null,null,null,null,null,null,1297,69176770.870000005]
[160,0,null,0,"OK",null,null,null,null,null,null,null,1298,69179898.870000005]
[161,0,null,0,"OK",null,null,null,null,null,null,null,1299,67351636]
[162,0,null,0,"OK",null,null,null,null,null,null,null,1303,67723085]
[163,0,null,0,"OK",null,null,null,null,null,null,null,1304,67723085]
[164,0,null,0,"OK",null,null,null,null,null,null,null,1305,3149657.04]
[165,0,null,0,"OK",null,null,null,null,null,null,null,1308,5770]
[166,0,null,0,"OK",null,null,null,null,null,null,null,1309,3161809.04]
[167,0,null,0,"OK",null,null,null,null,null,null,null,1310,1876]
[168,0,null,0,"OK",null,null,null,null,null,null,null,1312,176985]
[169,0,null,0,"OK",null,null,null,null,null,null,null,1314,16870528]
[170,0,null,0,"OK",null,null,null,null,null,null,null,1315,21735912.039999999]
[171,0,null,0,"OK",null,null,null,null,null,null,null,1316,1212191926.26]
[172,0,null,0,"OK",null,null,null,null,null,null,null,1319,2395692]
[173,0,null,0,"OK",null,null,null,null,null,null,null,1320,1220337601.26]
[174,0,null,0,"OK",null,null,null,null,null,null,null,1321,14624269]
[175,0,null,0,"OK",null,null,null,null,null,null,null,1322,1876]
[176,0,null,0,"OK",null,null,null,null,null,null,null,1324,176985]
[177,0,null,0,"OK",null,null,null,null,null,null,null,1326,16870528]
[178,0,null,0,"OK",null,null,null,null,null,null,null,1327,1252038638.26]
[179,0,null,0,"OK",null,null,null,null,null,null,null,1328,71346042.75]
[180,0,null,0,"OK",null,null,null,null,null,null,null,1335,724191]
[181,0,null,0,"OK",null,null,null,null,null,null,null,1341,8228119.2400000002]
[182,0,null,0,"OK",null,null,null,null,null,null,null,1345,709696]
[183,0,null,0,"OK",null,null,null,null,null,null,null,1346,3072399]
[184,0,null,0,"OK",null,null,null,null,null,null,null,1347,12256809.300000001]
[185,0,null,0,"OK",null,null,null,null,null,null,null,1348,1878772]
[186,0,null,0,"OK",null,null,null,null,null,null,null,1349,245504120.89999998]
[187,0,null,0,"OK",null,null,null,null,null,null,null,1350,8400268]
[188,0,null,0,"OK",null,null,null,null,null,null,null,1351,6879574]
[189,0,null,0,"OK",null,null,null,null,null,null,null,1352,17467211]
[190,0,null,0,"OK",null,null,null,null,null,null,null,1353,1955428]
[191,0,null,0,"OK",null,null,null,null,null,null,null,1354,2869223]
[192,0,null,0,"OK",null,null,null,null,null,null,null,1355,6796918]
[193,0,null,{"$f":"B200-C200","v":0},{"$f":"IF((D200 = 0),\"OK\",IF((D200<-5),\"CHECK ME!\",IF((D200>5),\"Check Me!\",\"OK\")))","v":"OK"},null,null,null,null,null,null,null,1356,44368622]
[194,0,null,0,"OK",null,null,null,null,null,null,null,1357,8106994.2599999998]
[195,0,null,0,"OK",null,null,null,null,null,null,null,1358,16875500.390000001]
[196,0,null,0,"OK",null,null,null,null,null,null,null,1359,657445]
[197,0,null,0,"OK",null,null,null,null,null,null,null,1360,25639939.650000002]
[198,0,null,0,"OK",null,null,null,null,null,null,null,1361,5886901]
[199,0,null,0,"OK",null,null,null,null,null,null,null,1362,9568386.9499999993]
[200,0,null,0,"OK",null,null,null,null,null,null,null,1363,24226362.949999999]
[201,0,null,0,"OK",null,null,null,null,null,null,null,1364,44253054.689999998]
[202,0,null,0,"OK",null,null,null,null,null,null,null,1365,2151594]
[203,0,null,0,"OK",null,null,null,null,null,null,null,1366,46404648.689999998]
[204,0,null,0,"OK",null,null,null,null,null,null,null,1367,4097401]
[205,0,null,0,"OK",null,null,null,null,null,null,null,1368,16867659.789999999]
[206,0,null,0,"OK",null,null,null,null,null,null,null,1369,244106]
[207,0,null,0,"OK",null,null,null,null,null,null,null,1370,110501421.71000001]
[208,0,null,0,"OK",null,null,null,null,null,null,null,1371,42297371.469999999]
[209,0,null,0,"OK",null,null,null,null,null,null,null,1372,21924642.449999999]
[210,0,null,0,"OK",null,null,null,null,null,null,null,1373,1607942]
[211,0,null,0,"OK",null,null,null,null,null,null,null,1375,197540544.41999999]
[212,1352330415,{"$f":"'Assets-Liab 5-6'!M16","v":1352330415},0,"OK",null,null,null,null,null,null,null,1376,501894]
[213,35556439359.309998,{"$f":"'Assets-Liab 5-6'!M17","v":35556439359.309998},0,"OK",null,null,null,null,null,null,null,1377,1202154]
[214,2021651769.6700001,{"$f":"'Assets-Liab 5-6'!M18","v":2021651769.6700001},0,"OK",null,null,null,null,null,null,null,1378,4018947]
[215,3674257106.6700001,{"$f":"'Assets-Liab 5-6'!M19","v":3674257106.6700001},0,"OK",null,null,null,null,null,null,null,1379,5524543]
[216,0,null,0,"OK",null,null,null,null,null,null,null,138,412799483]
[217,0,null,0,"OK",null,null,null,null,null,null,null,1381,15653662]
[218,44325649664.650002,{"$f":"'Assets-Liab 5-6'!M23","v":44325649664.649994},0,"OK",null,null,null,null,null,null,null,1383,26901200]
[219,44325649664.650002,{"$f":"'Assets-Liab 5-6'!M40","v":44325649664.650002},0,"OK",null,null,null,null,null,null,null,1384,1250599]
[220,44325649664.650002,{"$f":"'Assets-Liab 5-6'!M41","v":44325649664.650002},0,"OK",null,null,null,null,null,null,null,1385,366331916.70999998]
[221,1578305756,{"$f":"'Assets-Liab 5-6'!N21","v":1578305756},0,"OK",null,null,null,null,null,null,null,1386,6389057.5999999996]
[222,20159129693.900002,{"$f":"'Assets-Liab 5-6'!N22","v":20159129693.900002},0,"OK",null,null,null,null,null,null,null,1387,620058189.21000004]
[223,21737435449.900002,{"$f":"'Assets-Liab 5-6'!N23","v":21737435449.900002},0,"OK",null,null,null,null,null,null,null,1390,7]
[224,21737434113.900002,{"$f":"'Assets-Liab 5-6'!N36","v":21737434113.900002},0,"OK",null,null,null,null,null,null,null,1391,7]
[225,0,null,0,"OK",null,null,null,null,null,null,null,1393,7]
[226,21737434113.900002,{"$f":"'Assets-Liab 5-6'!N37","v":21737434113.900002},0,"OK",null,null,null,null,null,null,null,1399,724191]
[227,21737434113.900002,{"$f":"'Assets-Liab 5-6'!N41","v":21737434113.900002},0,"OK",null,null,null,null,null,null,null,1405,8228119.2400000002]
[228,0,null,0,"OK",null,null,null,null,null,null,null,1409,709696]
[229,0,null,0,"OK",null,null,null,null,null,null,null,141,120438]
[230,0,null,0,"OK",null,null,null,null,null,null,null,1410,3072399]
[231,0,null,0,"OK",null,null,null,null,null,null,null,1411,12256809.300000001]
[232,0,null,0,"OK",null,null,null,null,null,null,null,1412,1878772]
[233,0,null,0,"OK",null,null,null,null,null,null,null,1413,245504120.89999998]
[234,0,null,0,"OK",null,null,null,null,null,null,null,1414,8400268]
[235,0,null,0,"OK",null,null,null,null,null,null,null,1415,6879574]
[236,0,null,0,"OK",null,null,null,null,null,null,null,1416,17467211]
[237,0,null,0,"OK",null,null,null,null,null,null,null,1417,1955428]
[238,0,null,0,"OK",null,null,null,null,null,null,null,1418,2869223]
[239,0,null,0,"OK",null,null,null,null,null,null,null,1419,6796918]
[240,0,null,0,"OK",null,null,null,null,null,null,null,142,2708297427]
[241,0,null,0,"OK",null,null,null,null,null,null,null,1420,44368622]
[242,0,null,0,"OK",null,null,null,null,null,null,null,1421,8106994.2599999998]
[243,0,null,0,"OK",null,null,null,null,null,null,null,1422,16875500.390000001]
[244,0,null,0,"OK",null,null,null,null,null,null,null,1423,657445]
[245,0,null,0,"OK",null,null,null,null,null,null,null,1424,25639939.650000002]
[246,0,null,0,"OK",null,null,null,null,null,null,null,1425,5886901]
[247,0,null,0,"OK",null,null,null,null,null,null,null,1426,9568386.9499999993]
[248,0,null,0,"OK",null,null,null,null,null,null,null,1427,24226362.949999999]
[249,0,null,0,"OK",null,null,null,null,null,null,null,1428,44253054.689999998]
[250,0,null,0,"OK",null,null,null,null,null,null,null,1429,2151594]
[251,0,null,0,"OK",null,null,null,null,null,null,null,1430,46404648.689999998]
[252,0,null,0,"OK",null,null,null,null,null,null,null,1431,4097401]
[253,0,null,0,"OK",null,null,null,null,null,null,null,1432,16867659.789999999]
[254,0,null,0,"OK",null,null,null,null,null,null,null,1433,244106]
[255,0,null,0,"OK",null,null,null,null,null,null,null,1434,110501421.71000001]
[256,0,null,0,"OK",null,null,null,null,null,null,null,1435,42297371.469999999]
[257,0,null,{"$f":"B264-C264","v":0},{"$f":"IF((D264 = 0),\"OK\",IF((D264<-5),\"CHECK ME!\",IF((D264>5),\"Check Me!\",\"OK\")))","v":"OK"},null,null,null,null,null,null,null,1436,21924642.449999999]
[258,0,null,0,"OK",null,null,null,null,null,null,null,1437,1607942]
[259,7501035,{"$f":"'Acct Summary 7-8'!C24","v":7501035},0,"OK",null,null,null,null,null,null,null,1439,197540544.41999999]
[260,2293697,{"$f":"'Acct Summary 7-8'!C26","v":2293697},0,"OK",null,null,null,null,null,null,null,1440,501894]
[261,0,null,0,"OK",null,null,null,null,null,null,null,1441,1202154]
[262,11031585,{"$f":"'Acct Summary 7-8'!C33","v":11031585},0,"OK",null,null,null,null,null,null,null,1442,4018947]
[263,32500,{"$f":"'Acct Summary 7-8'!C34","v":32500},0,"OK",null,null,null,null,null,null,null,1443,5524543]
[264,0,{"$f":"'Acct Summary 7-8'!C35","v":0},0,"OK",null,null,null,null,null,null,null,1445,15653662]
[265,0,null,0,"OK",null,null,null,null,null,null,null,1447,26901200]
[266,0,null,0,"OK",null,null,null,null,null,null,null,1448,1250599]
[267,0,null,0,"OK",null,null,null,null,null,null,null,1449,366331916.70999998]
[268,0,null,0,"OK",null,null,null,null,null,null,null,145,9450]
[269,0,null,0,"OK",null,null,null,null,null,null,null,1450,6389057.5999999996]
[270,0,null,0,"OK",null,null,null,null,null,null,null,1453,7]
[271,0,null,0,"OK",null,null,null,null,null,null,null,1454,7]
[272,0,null,0,"OK",null,null,null,null,null,null,null,1456,620058196.21000004]
[273,0,null,0,"OK",null,null,null,null,null,null,null,1457,29511296.650000002]
[274,0,null,0,"OK",null,null,null,null,null,null,null,1458,1950915]
[275,0,null,0,"OK",null,null,null,null,null,null,null,1462,1950915]
[276,0,null,0,"OK",null,null,null,null,null,null,null,1463,1950915]
[277,0,null,0,"OK",null,null,null,null,null,null,null,1464,4053694]
[278,0,null,0,"OK",null,null,null,null,null,null,null,1468,4053694]
[279,0,null,0,"OK",null,null,null,null,null,null,null,1469,4053694]
[280,0,null,0,"OK",null,null,null,null,null,null,null,147,5696137]
[281,0,null,0,"OK",null,null,null,null,null,null,null,1470,134531689.23000002]
[282,0,null,0,"OK",null,null,null,null,null,null,null,1473,2919487]
[283,0,null,0,"OK",null,null,null,null,null,null,null,1474,137451176.23000002]
[284,0,null,0,"OK",null,null,null,null,null,null,null,1475,137451476.23000002]
[285,0,null,0,"OK",null,null,null,null,null,null,null,1476,5245587.75]
[286,0,null,0,"OK",null,null,null,null,null,null,null,1479,298842]
[287,0,null,0,"OK",null,null,null,null,null,null,null,1480,5544429.75]
[288,0,null,0,"OK",null,null,null,null,null,null,null,1481,5544429.75]
[289,0,null,0,"OK",null,null,null,null,null,null,null,1482,1819086126.8199999]
[290,0,null,0,"OK",null,null,null,null,null,null,null,1485,2195504]
[291,0,null,0,"OK",null,null,null,null,null,null,null,1486,1821281630.8199999]
[292,0,null,0,"OK",null,null,null,null,null,null,null,1487,1821281630.8199999]
[293,0,null,0,"OK",null,null,null,null,null,null,null,1488,36383095]
[294,0,null,0,"OK",null,null,null,null,null,null,null,1491,700382]
[295,0,null,0,"OK",null,null,null,null,null,null,null,1492,37083477]
[296,0,null,0,"OK",null,null,null,null,null,null,null,1493,37717039]
[297,0,null,0,"OK",null,null,null,null,null,null,null,1494,2009397040.8]
[298,0,null,0,"OK",null,null,null,null,null,null,null,1497,6124965]
[299,0,null,0,"OK",null,null,null,null,null,null,null,1498,2015522005.8]
[300,0,null,0,"OK",null,null,null,null,null,null,null,1499,2016155867.8]
[301,0,null,0,"OK",null,null,null,null,null,null,null,15,7860108]
[302,0,null,0,"OK",null,null,null,null,null,null,null,150,280896779]
[303,0,null,0,"OK",null,null,null,null,null,null,null,1500,-1733870209.6199999]
[304,0,null,0,"OK",null,null,null,null,null,null,null,151,1350568217]
[305,0,null,0,"OK",null,null,null,null,null,null,null,152,2708297395]
[306,0,null,0,"OK",null,null,null,null,null,null,null,1556,7507102781]
[307,0,null,0,"OK",null,null,null,null,null,null,null,1569,8172011035.5799999]
[308,0,null,0,"OK",null,null,null,null,null,null,null,1570,1362190051]
[309,0,null,0,"OK",null,null,null,null,null,null,null,1583,1378269525.8]
[310,0,null,0,"OK",null,null,null,null,null,null,null,1584,1653172007]
[311,0,null,0,"OK",null,null,null,null,null,null,null,1597,1625395265.7199998]
[312,0,null,0,"OK",null,null,null,null,null,null,null,1598,859943832]
[313,0,null,0,"OK",null,null,null,null,null,null,null,16,14336826497]
[314,0,null,0,"OK",null,null,null,null,null,null,null,1611,922097431.74999988]
[315,0,null,0,"OK",null,null,null,null,null,null,null,1612,467499740]
[316,0,null,0,"OK",null,null,null,null,null,null,null,1625,497668647.65000004]
[317,0,null,0,"OK",null,null,null,null,null,null,null,1626,2453580822]
[318,0,null,0,"OK",null,null,null,null,null,null,null,1639,2427400648.3800001]
[319,0,null,0,"OK",null,null,null,null,null,null,null,1683,12075522537.49]
[320,0,null,0,"OK",null,null,null,null,null,null,null,1684,1556929392.21]
[321,0,null,{"$f":"B328-C328","v":0},{"$f":"IF((D328 = 0),\"OK\",IF((D328<-5),\"CHECK ME!\",IF((D328>5),\"Check Me!\",\"OK\")))","v":"OK"},null,null,null,null,null,null,null,1685,1517031910.21]
[322,0,null,0,"OK",null,null,null,null,null,null,null,1686,576639616.95999992]
[323,0,null,0,"OK",null,null,null,null,null,null,null,1687,271565231.52999997]
[324,0,null,0,"OK",null,null,null,null,null,null,null,1688,67082029.219999999]
[325,0,null,0,"OK",null,null,null,null,null,null,null,1690,11120377]
[326,0,null,0,"OK",null,null,null,null,null,null,null,1691,375494790.57999998]
[327,0,null,0,"OK",null,null,null,null,null,null,null,1692,54360956.079999998]
[328,0,null,0,"OK",null,null,null,null,null,null,null,1693,493657578.75]
[329,0,null,0,"OK",null,null,null,null,null,null,null,1698,17773447530.849998]
[330,0,null,0,"OK",null,null,null,null,null,null,null,1699,5528840567.4299994]
[331,0,null,0,"OK",null,null,null,null,null,null,null,1700,885893023.17999995]
[332,0,null,0,"OK",null,null,null,null,null,null,null,1701,867094844.06000006]
[333,0,null,0,"OK",null,null,null,null,null,null,null,1702,341067939.42000008]
[334,0,null,0,"OK",null,null,null,null,null,null,null,1703,170639127.25]
[335,0,null,0,"OK",null,null,null,null,null,null,null,1704,45160140.350000009]
[336,0,null,0,"OK",null,null,null,null,null,null,null,1706,1722229.48]
[337,0,null,0,"OK",null,null,null,null,null,null,null,1707,231339534.59]
[338,0,null,0,"OK",null,null,null,null,null,null,null,1708,37834557.270000003]
[339,0,null,0,"OK",null,null,null,null,null,null,null,1709,261823061.73000002]
[340,0,null,0,"OK",null,null,null,null,null,null,null,1714,8615415213.0900002]
[341,0,null,0,"OK",null,null,null,null,null,null,null,1715,6546681970.0600004]
[342,0,null,0,"OK",null,null,null,null,null,null,null,1716,671036369.02999997]
[343,0,null,0,"OK",null,null,null,null,null,null,null,1717,649937066.1500001]
[344,0,null,0,"OK",null,null,null,null,null,null,null,1718,235571677.54000002]
[345,0,null,0,"OK",null,null,null,null,null,null,null,1719,100926104.28000002]
[346,0,null,0,"OK",null,null,null,null,null,null,null,1720,21921888.870000001]
[347,0,null,0,"OK",null,null,null,null,null,null,null,1722,9398147.5199999996]
[348,0,null,0,"OK",null,null,null,null,null,null,null,1723,144155255.99000001]
[349,0,null,0,"OK",null,null,null,null,null,null,null,1724,16526398.809999999]
[350,0,null,0,"OK",null,null,null,null,null,null,null,1725,231834517.01999998]
[351,0,null,0,"OK",null,null,null,null,null,null,null,1730,9158032317.7600002]
[352,0,null,0,"OK",null,null,null,null,null,null,null,1731,5897234380.1411476]
[353,0,null,0,"OK",null,null,null,null,null,null,null,1732,958407538.54055047]
[354,0,null,0,"OK",null,null,null,null,null,null,null,1733,915852042.23148251]
[355,0,null,0,"OK",null,null,null,null,null,null,null,1734,367486954.7496686]
[356,0,null,0,"OK",null,null,null,null,null,null,null,1735,167631385.21407509]
[357,0,null,0,"OK",null,null,null,null,null,null,null,1736,47759693.855951011]
[358,0,null,0,"OK",null,null,null,null,null,null,null,1738,924907.48]
[359,0,null,0,"OK",null,null,null,null,null,null,null,1739,238690843.7368747]
[360,0,null,0,"OK",null,null,null,null,null,null,null,1740,39954508.915951006]
[361,0,null,0,"OK",null,null,null,null,null,null,null,1741,-1864483675.6734436]
[362,0,null,0,"OK",null,null,null,null,null,null,null,1743,10063]
[363,0,null,0,"OK",null,null,null,null,null,null,null,1746,7011112950.9306774]
[364,0,null,0,"OK",null,null,null,null,null,null,null,1747,12443916350.201147]
[365,0,null,0,"OK",null,null,null,null,null,null,null,1748,1629443907.5705507]
[366,0,null,0,"OK",null,null,null,null,null,null,null,1749,1565789108.3814824]
[367,0,null,0,"OK",null,null,null,null,null,null,null,1750,603058632.28966856]
[368,0,null,0,"OK",null,null,null,null,null,null,null,1751,268557489.49407506]
[369,0,null,0,"OK",null,null,null,null,null,null,null,1752,69681582.725951001]
[370,0,null,0,"OK",null,null,null,null,null,null,null,1754,10323055]
[371,11364184,{"$f":"'Acct Summary 7-8'!D26","v":11364184},0,"OK",null,null,null,null,null,null,null,1755,382846099.72687465]
[372,0,"                                                           ",null,"OK",null,null,null,null,null,null,null,1756,56480907.725951001]
[373,0,null,0,"OK",null,null,null,null,null,null,null,1757,514177114.34655648]
[374,0,null,0,"OK",null,null,null,null,null,null,null,1759,10063]
[375,0,null,0,"OK",null,null,null,null,null,null,null,1762,18320423119.690678]
[376,0,null,0,"OK",null,null,null,null,null,null,null,1764,10200350]
[377,0,null,0,"OK",null,null,null,null,null,null,null,1767,1000000]
[378,0,null,0,"OK",null,null,null,null,null,null,null,1772,11200350]
[379,0,null,0,"OK",null,null,null,null,null,null,null,1773,606350050]
[380,0,null,0,"OK",null,null,null,null,null,null,null,1774,80000]
[381,0,null,0,"OK",null,null,null,null,null,null,null,1776,606430050]
[382,0,null,0,"OK",null,null,null,null,null,null,null,1778,53325000]
[383,0,null,0,"OK",null,null,null,null,null,null,null,1786,53325000]
[384,0,null,0,"OK",null,null,null,null,null,null,null,1787,1398855060]
[385,0,null,{"$f":"B392-C392","v":0},{"$f":"IF((D392 = 0),\"OK\",IF((D392<-5),\"CHECK ME!\",IF((D392>5),\"Check Me!\",\"OK\")))","v":"OK"},null,null,null,null,null,null,null,1788,100000]
[386,0,null,0,"OK",null,null,null,null,null,null,null,1790,1398955060]
[387,0,null,0,"OK",null,null,null,null,null,null,null,1792,61700350]
[388,0,null,0,"OK",null,null,null,null,null,null,null,1795,1000000]
[389,0,null,0,"OK",null,null,null,null,null,null,null,1800,62700350]
[390,0,null,0,"OK",null,null,null,null,null,null,null,1801,1550905050]
[391,0,null,0,"OK",null,null,null,null,null,null,null,1802,80000]
[392,0,null,0,"OK",null,null,null,null,null,null,null,1804,1550985050]
[393,0,null,0,"OK",null,null,null,null,null,null,null,1806,1825000]
[394,0,null,0,"OK",null,null,null,null,null,null,null,1814,1825000]
[395,0,null,0,"OK",null,null,null,null,null,null,null,1815,454300060]
[396,0,null,0,"OK",null,null,null,null,null,null,null,1816,100000]
[397,0,null,0,"OK",null,null,null,null,null,null,null,1818,454400060]
[398,0,null,0,"OK",null,null,null,null,null,null,null,1878,21572357161.900002]
[399,0,null,0,"OK",null,null,null,null,null,null,null,1879,2692013966]
[400,0,null,0,"OK",null,null,null,null,null,null,null,1887,792378]
[401,0,null,0,"OK",null,null,null,null,null,null,null,1889,6420]
[402,0,null,0,"OK",null,null,null,null,null,null,null,1892,6420]
[403,0,null,0,"OK",null,null,null,null,null,null,null,1894,166181]
[404,0,null,0,"OK",null,null,null,null,null,null,null,1896,166181]
[405,0,null,0,"OK",null,null,null,null,null,null,null,1897,632617]
[406,0,null,0,"OK",null,null,null,null,null,null,null,1910,1663776]
[407,0,null,0,"OK",null,null,null,null,null,null,null,1911,453613933]
[408,0,null,0,"OK",null,null,null,null,null,null,null,1912,6573442]
[409,0,null,0,"OK",null,null,null,null,null,null,null,1913,2422177]
[410,0,null,0,"OK",null,null,null,null,null,null,null,1916,462609552]
[411,0,null,0,"OK",null,null,null,null,null,null,null,1918,542236]
[412,0,null,0,"OK",null,null,null,null,null,null,null,1919,14722058]
[413,0,null,0,"OK",null,null,null,null,null,null,null,1921,463951155]
[414,0,null,0,"OK",null,null,null,null,null,null,null,1922,322173]
[415,0,null,0,"OK",null,null,null,null,null,null,null,1947,1282099670]
[416,0,null,0,"OK",null,null,null,null,null,null,null,1948,41781790880.309998]
[417,0,null,0,"OK",null,null,null,null,null,null,null,1949,2312165134.6700001]
[418,0,null,0,"OK",null,null,null,null,null,null,null,1950,3332685477.0500002]
[419,0,null,0,"OK",null,null,null,null,null,null,null,1951,967358920]
[420,0,null,0,"OK",null,null,null,null,null,null,null,1952,50981826268.029999]
[421,0,null,0,"OK",null,null,null,null,null,null,null,1953,32971017]
[422,0,null,0,"OK",null,null,null,null,null,null,null,1954,1417249960.5]
[423,0,null,0,"OK",null,null,null,null,null,null,null,1955,168587565]
[424,0,null,0,"OK",null,null,null,null,null,null,null,1956,211725169.59]
[425,0,null,0,"OK",null,null,null,null,null,null,null,1957,79837210.890000001]
[426,0,null,0,"OK",null,null,null,null,null,null,null,1958,3400027898.3299999]
[427,0,null,0,"OK",null,null,null,null,null,null,null,1959,11535483]
[428,0,null,0,"OK",null,null,null,null,null,null,null,1960,82388548]
[429,0,null,0,"OK",null,null,null,null,null,null,null,1961,23381969]
[430,0,null,0,"OK",null,null,null,null,null,null,null,1962,103939376.38]
[431,0,null,0,"OK",null,null,null,null,null,null,null,1963,54407123]
[432,0,null,0,"OK",null,null,null,null,null,null,null,1964,1111721464.3800001]
[433,0,null,0,"OK",null,null,null,null,null,null,null,1965,1303535204]
[434,0,null,0,"OK",null,null,null,null,null,null,null,1966,43116652292.809998]
[435,0,null,0,"OK",null,null,null,null,null,null,null,1967,2457370730.6700001]
[436,0,null,0,"OK",null,null,null,null,null,null,null,1968,3440471270.2600002]
[437,0,null,0,"OK",null,null,null,null,null,null,null,1969,992789007.88999999]
[438,0,null,0,"OK",null,null,null,null,null,null,null,1970,53270132701.980003]
[439,58419339,{"$f":"'Acct Summary 7-8'!E34","v":58419339},0,"OK",null,null,null,null,null,null,null,1972,16507756232.429998]
[440,717426,{"$f":"'Acct Summary 7-8'!E35","v":717426},0,"OK",null,null,null,null,null,null,null,1973,1102719488.1700001]
[441,0,null,0,"OK",null,null,null,null,null,null,null,1974,2596575179.23]
[442,0,null,0,"OK",null,null,null,null,null,null,null,1975,743088153]
[443,0,null,0,"OK",null,null,null,null,null,null,null,1976,21059336904.830002]
[444,0,null,0,"OK",null,null,null,null,null,null,null,1978,985564920.50999999]
[445,0,null,0,"OK",null,null,null,null,null,null,null,1979,104570087.77000001]
[446,0,null,0,"OK",null,null,null,null,null,null,null,1980,196579976.01000002]
[447,0,null,0,"OK",null,null,null,null,null,null,null,1981,71613714.829999998]
[448,0,null,0,"OK",null,null,null,null,null,null,null,1982,1367587452.02]
[449,0,null,{"$f":"B456-C456","v":0},{"$f":"IF((D456 = 0),\"OK\",IF((D456<-5),\"CHECK ME!\",IF((D456>5),\"Check Me!\",\"OK\")))","v":"OK"},null,null,null,null,null,null,null,1984,64096496]
[450,0,null,0,"OK",null,null,null,null,null,null,null,1985,20977459]
[451,0,null,0,"OK",null,null,null,null,null,null,null,1986,101315694.40000001]
[452,0,null,0,"OK",null,null,null,null,null,null,null,1987,54619557]
[453,0,null,0,"OK",null,null,null,null,null,null,null,1988,249504116.40000001]
[454,0,null,0,"OK",null,null,null,null,null,null,null,1990,17429224656.939999]
[455,0,null,0,"OK",null,null,null,null,null,null,null,1991,1186312116.9400001]
[456,0,null,0,"OK",null,null,null,null,null,null,null,1992,2691839460.8400002]
[457,0,null,0,"OK",null,null,null,null,null,null,null,1993,760082310.83000004]
[458,0,null,0,"OK",null,null,null,null,null,null,null,1994,22177420240.450001]
[459,0,null,0,"OK",null,null,null,null,null,null,null,1995,1303535204]
[460,0,null,0,"OK",null,null,null,null,null,null,null,1996,25687427635.869999]
[461,0,null,0,"OK",null,null,null,null,null,null,null,1997,1271058613.73]
[462,0,null,0,"OK",null,null,null,null,null,null,null,1998,748631809.42000008]
[463,0,null,0,"OK",null,null,null,null,null,null,null,1999,232706697.05999997]
[464,0,null,0,"OK",null,null,null,null,null,null,null,2000,31092712461.529999]
[465,0,null,0,"OK",null,null,null,null,null,null,null,2020,229234160]
[466,0,null,0,"OK",null,null,null,null,null,null,null,2027,451671736.22999996]
[467,0,null,0,"OK",null,null,null,null,null,null,null,2028,294541841.44]
[468,0,null,0,"OK",null,null,null,null,null,null,null,2030,2535227]
[469,0,null,0,"OK",null,null,null,null,null,null,null,2032,5128059]
[470,0,null,0,"OK",null,null,null,null,null,null,null,2041,633862]
[471,0,null,0,"OK",null,null,null,null,null,null,null,2044,360451797]
[472,0,null,0,"OK",null,null,null,null,null,null,null,2045,20678943]
[473,0,null,0,"OK",null,null,null,null,null,null,null,212,1352330415]
[474,0,null,0,"OK",null,null,null,null,null,null,null,213,35556439359.309998]
[475,0,null,0,"OK",null,null,null,null,null,null,null,214,2021651769.6700001]
[476,0,null,0,"OK",null,null,null,null,null,null,null,215,3674257106.6700001]
[477,0,null,0,"OK",null,null,null,null,null,null,null,218,44325649664.650002]
[478,0,null,0,"OK",null,null,null,null,null,null,null,219,44325649664.650002]
[479,0,null,0,"OK",null,null,null,null,null,null,null,220,44325649664.650002]
[480,0,null,0,"OK",null,null,null,null,null,null,null,221,1578305756]
[481,0,null,0,"OK",null,null,null,null,null,null,null,222,20159129693.900002]
[482,0,null,0,"OK",null,null,null,null,null,null,null,223,21737435449.900002]
[483,0,null,0,"OK",null,null,null,null,null,null,null,224,21737434113.900002]
[484,0,null,0,"OK",null,null,null,null,null,null,null,226,21737434113.900002]
[485,0,null,0,"OK",null,null,null,null,null,null,null,227,21737434113.900002]
[486,0,null,0,"OK",null,null,null,null,null,null,null,2374,297895232]
[487,0,null,0,"OK",null,null,null,null,null,null,null,2376,214608822]
[488,0,null,0,"OK",null,null,null,null,null,null,null,2414,198543221]
[489,0,null,0,"OK",null,null,null,null,null,null,null,2416,165987992]
[490,0,null,0,"OK",null,null,null,null,null,null,null,2443,1038854749]
[491,0,null,0,"OK",null,null,null,null,null,null,null,2474,1076832399]
[492,0,null,0,"OK",null,null,null,null,null,null,null,2490,14754899831.200001]
[493,0,null,0,"OK",null,null,null,null,null,null,null,2492,6481608320.5900002]
[494,0,null,0,"OK",null,null,null,null,null,null,null,2493,2080721390.72]
[495,0,null,0,"OK",null,null,null,null,null,null,null,2494,23327505965.509998]
[496,0,null,0,"OK",null,null,null,null,null,null,null,2495,15060244150.949999]
[497,0,null,0,"OK",null,null,null,null,null,null,null,2496,6456131781.4300003]
[498,0,null,0,"OK",null,null,null,null,null,null,null,2497,167249497.76999998]
[499,0,null,0,"OK",null,null,null,null,null,null,null,2498,752639020.77999997]
[500,0,null,0,"OK",null,null,null,null,null,null,null,2499,9325339]
[501,0,null,0,"OK",null,null,null,null,null,null,null,25,125255861]
[502,0,null,0,"OK",null,null,null,null,null,null,null,2500,22445589789.93]
[503,0,null,0,"OK",null,null,null,null,null,null,null,2501,881916175.57999992]
[504,0,null,0,"OK",null,null,null,null,null,null,null,2502,15690188]
[505,0,null,0,"OK",null,null,null,null,null,null,null,2503,1789002744.8]
[506,0,null,0,"OK",null,null,null,null,null,null,null,2505,622829102]
[507,0,null,0,"OK",null,null,null,null,null,null,null,2506,8884666.4000000004]
[508,0,null,0,"OK",null,null,null,null,null,null,null,2507,2421227000.1999998]
[509,0,null,0,"OK",null,null,null,null,null,null,null,2508,2326391224.3999996]
[510,0,null,0,"OK",null,null,null,null,null,null,null,2509,366434]
[511,0,null,0,"OK",null,null,null,null,null,null,null,2510,5128059]
[512,0,null,0,"OK",null,null,null,null,null,null,null,2511,471810]
[513,0,null,{"$f":"B520-C520","v":0},{"$f":"IF((D520 = 0),\"OK\",IF((D520<-5),\"CHECK ME!\",IF((D520>5),\"Check Me!\",\"OK\")))","v":"OK"},null,null,null,null,null,null,null,2512,2332357527.3999996]
[514,0,null,0,"OK",null,null,null,null,null,null,null,2513,88869472.799999997]
[515,0,null,0,"OK",null,null,null,null,null,null,null,2514,1340324]
[516,0,null,0,"OK",null,null,null,null,null,null,null,2530,646739883.99000001]
[517,0,null,0,"OK",null,null,null,null,null,null,null,2532,674475072.01999998]
[518,0,null,0,"OK",null,null,null,null,null,null,null,2533,2028565]
[519,0,null,0,"OK",null,null,null,null,null,null,null,2534,1323384681.01]
[520,0,null,0,"OK",null,null,null,null,null,null,null,2535,1220337601.26]
[521,0,null,0,"OK",null,null,null,null,null,null,null,2536,206240]
[522,0,null,0,"OK",null,null,null,null,null,null,null,2537,14624269]
[523,0,null,0,"OK",null,null,null,null,null,null,null,2538,16870528]
[524,0,null,0,"OK",null,null,null,null,null,null,null,2539,1252038638.26]
[525,0,null,0,"OK",null,null,null,null,null,null,null,2540,71346042.75]
[526,0,null,0,"OK",null,null,null,null,null,null,null,2541,514559]
[527,0,null,0,"OK",null,null,null,null,null,null,null,2542,635332547.86000001]
[528,0,null,0,"OK",null,null,null,null,null,null,null,2543,11736720]
[529,0,null,0,"OK",null,null,null,null,null,null,null,2544,2500225]
[530,0,null,0,"OK",null,null,null,null,null,null,null,2545,649569492.86000001]
[531,0,null,0,"OK",null,null,null,null,null,null,null,2546,245504120.89999998]
[532,0,null,0,"OK",null,null,null,null,null,null,null,2547,366331916.70999998]
[533,0,null,0,"OK",null,null,null,null,null,null,null,2548,6389057.5999999996]
[534,0,null,0,"OK",null,null,null,null,null,null,null,2550,7]
[535,0,null,0,"OK",null,null,null,null,null,null,null,2551,620058196.21000004]
[536,0,null,0,"OK",null,null,null,null,null,null,null,2552,29511296.650000002]
[537,0,null,0,"OK",null,null,null,null,null,null,null,2553,466719]
[538,0,null,0,"OK",null,null,null,null,null,null,null,2569,1801161409.4199998]
[539,0,null,0,"OK",null,null,null,null,null,null,null,2570,314401382]
[540,0,null,0,"OK",null,null,null,null,null,null,null,2571,2163864424.4200001]
[541,0,null,0,"OK",null,null,null,null,null,null,null,2572,105596]
[542,0,null,0,"OK",null,null,null,null,null,null,null,2573,2675917124.6999998]
[543,0,null,0,"OK",null,null,null,null,null,null,null,2574,2676022720.6999998]
[544,0,null,0,"OK",null,null,null,null,null,null,null,2575,-512158296.27999997]
[545,0,null,0,"OK",null,null,null,null,null,null,null,2576,2061481]
[546,0,null,0,"OK",null,null,null,null,null,null,null,259,7501035]
[547,0,null,0,"OK",null,null,null,null,null,null,null,2594,223665035.18000001]
[548,0,null,0,"OK",null,null,null,null,null,null,null,2595,57097412]
[549,0,null,0,"OK",null,null,null,null,null,null,null,2596,1523211]
[550,0,null,0,"OK",null,null,null,null,null,null,null,2597,282285658.18000001]
[551,0,null,0,"OK",null,null,null,null,null,null,null,2598,2015522005.8]
[552,0,null,0,"OK",null,null,null,null,null,null,null,2599,633862]
[553,0,null,0,"OK",null,null,null,null,null,null,null,260,2293697]
[554,0,null,0,"OK",null,null,null,null,null,null,null,2600,2016155867.8]
[555,0,null,0,"OK",null,null,null,null,null,null,null,2601,-1733870209.6199999]
[556,0,null,0,"OK",null,null,null,null,null,null,null,2602,371298]
[557,1085640613,{"$f":"'Acct Summary 7-8'!H33","v":1085640613},0,"OK",null,null,null,null,null,null,null,262,11031585]
[558,47200028,{"$f":"'Acct Summary 7-8'!H34","v":47200028},0,"OK",null,null,null,null,null,null,null,263,32500]
[559,3800,{"$f":"'Acct Summary 7-8'!H35","v":3800},0,"OK",null,null,null,null,null,null,null,2657,76287489]
[560,0,null,0,"OK",null,null,null,null,null,null,null,2658,16744178]
[561,0,null,0,"OK",null,null,null,null,null,null,null,2659,4536099]
[562,0,null,0,"OK",null,null,null,null,null,null,null,2660,1246095]
[563,0,null,0,"OK",null,null,null,null,null,null,null,2661,92699]
[564,0,null,0,"OK",null,null,null,null,null,null,null,2662,2636066]
[565,0,null,0,"OK",null,null,null,null,null,null,null,2663,101991302]
[566,0,null,0,"OK",null,null,null,null,null,null,null,2664,3386876]
[567,0,null,0,"OK",null,null,null,null,null,null,null,2665,3386876]
[568,0,null,0,"OK",null,null,null,null,null,null,null,2696,1765232]
[569,0,null,0,"OK",null,null,null,null,null,null,null,2697,3126148]
[570,0,null,0,"OK",null,null,null,null,null,null,null,2699,4952699]
[571,0,null,0,"OK",null,null,null,null,null,null,null,27,4458840163]
[572,0,null,0,"OK",null,null,null,null,null,null,null,2701,71759]
[573,0,null,0,"OK",null,null,null,null,null,null,null,2705,19616]
[574,0,null,0,"OK",null,null,null,null,null,null,null,2708,16441361]
[575,0,null,0,"OK",null,null,null,null,null,null,null,2711,36743]
[576,0,null,0,"OK",null,null,null,null,null,null,null,2728,222437576.23000002]
[577,0,null,{"$f":"B584-C584","v":0},{"$f":"IF((D584 = 0),\"OK\",IF((D584<-5),\"CHECK ME!\",IF((D584>5),\"Check Me!\",\"OK\")))","v":"OK"},null,null,null,null,null,null,null,2729,223836210.23000002]
[578,0,null,0,"OK",null,null,null,null,null,null,null,2731,6659083]
[579,0,null,0,"OK",null,null,null,null,null,null,null,2733,10776640]
[580,0,null,0,"OK",null,null,null,null,null,null,null,2735,6659083]
[581,0,null,0,"OK",null,null,null,null,null,null,null,2736,273530]
[582,0,null,0,"OK",null,null,null,null,null,null,null,2737,2]
[583,0,null,0,"OK",null,null,null,null,null,null,null,2738,22484]
[584,0,null,0,"OK",null,null,null,null,null,null,null,2739,19301]
[585,0,null,0,"OK",null,null,null,null,null,null,null,2740,51117]
[586,0,null,0,"OK",null,null,null,null,null,null,null,2744,366434]
[587,0,null,0,"OK",null,null,null,null,null,null,null,2745,11478151]
[588,0,null,0,"OK",null,null,null,null,null,null,null,2752,1906569]
[589,0,null,0,"OK",null,null,null,null,null,null,null,2756,1911909]
[590,334555301,{"$f":"'Acct Summary 7-8'!I33","v":334555301},0,"OK",null,null,null,null,null,null,null,2758,1906569]
[591,10007002,{"$f":"'Acct Summary 7-8'!I34","v":10007002},0,"OK",null,null,null,null,null,null,null,2759,41749]
[592,0,{"$f":"'Acct Summary 7-8'!I35","v":0},0,"OK",null,null,null,null,null,null,null,2760,740]
[593,0,null,0,"OK",null,null,null,null,null,null,null,2761,160623]
[594,0,null,0,"OK",null,null,null,null,null,null,null,2762,12920694]
[595,0,null,0,"OK",null,null,null,null,null,null,null,2764,3128]
[596,0,null,0,"OK",null,null,null,null,null,null,null,2767,1703292]
[597,0,null,0,"OK",null,null,null,null,null,null,null,2768,283]
[598,0,null,0,"OK",null,null,null,null,null,null,null,2769,1703575]
[599,0,null,0,"OK",null,null,null,null,null,null,null,2775,206240]
[600,0,null,0,"OK",null,null,null,null,null,null,null,2776,14623986]
[601,0,null,0,"OK",null,null,null,null,null,null,null,2778,283]
[602,0,null,0,"OK",null,null,null,null,null,null,null,2779,171779]
[603,0,null,0,"OK",null,null,null,null,null,null,null,2787,1181515]
[604,0,null,0,"OK",null,null,null,null,null,null,null,2793,124455]
[605,0,null,0,"OK",null,null,null,null,null,null,null,2794,2389800]
[606,0,null,0,"OK",null,null,null,null,null,null,null,2795,490109]
[607,0,null,0,"OK",null,null,null,null,null,null,null,2797,103756]
[608,0,null,0,"OK",null,null,null,null,null,null,null,2799,819641]
[609,0,null,0,"OK",null,null,null,null,null,null,null,2801,30160853]
[610,0,null,0,"OK",null,null,null,null,null,null,null,2803,1720705428]
[611,0,null,0,"OK",null,null,null,null,null,null,null,2819,15267628]
[612,0,null,0,"OK",null,null,null,null,null,null,null,2824,479799929]
[613,0,null,0,"OK",null,null,null,null,null,null,null,2826,86859]
[614,0,null,0,"OK",null,null,null,null,null,null,null,2827,2338818129]
[615,0,null,0,"OK",null,null,null,null,null,null,null,2831,33400916]
[616,0,null,0,"OK",null,null,null,null,null,null,null,2833,492841]
[617,0,null,0,"OK",null,null,null,null,null,null,null,2834,243146922.28999999]
[618,0,null,0,"OK",null,null,null,null,null,null,null,2847,18347941]
[619,0,null,0,"OK",null,null,null,null,null,null,null,2849,19343427]
[620,0,null,0,"OK",null,null,null,null,null,null,null,2850,86738134]
[621,0,null,0,"OK",null,null,null,null,null,null,null,2851,2232736568]
[622,0,null,0,"OK",null,null,null,null,null,null,null,2852,2338818129]
[623,0,null,0,"OK",null,null,null,null,null,null,null,2853,198420370.28999999]
[624,0,null,0,"OK",null,null,null,null,null,null,null,2855,198420370.28999999]
[625,0,null,0,"OK",null,null,null,null,null,null,null,2856,243146922.28999999]
[626,0,null,0,"OK",null,null,null,null,null,null,null,2886,784667]
[627,0,null,0,"OK",null,null,null,null,null,null,null,2888,83691035]
[628,0,null,0,"OK",null,null,null,null,null,null,null,2889,125068360.22999999]
[629,0,null,0,"OK",null,null,null,null,null,null,null,2890,498498]
[630,0,null,0,"OK",null,null,null,null,null,null,null,2891,1662872]
[631,0,null,0,"OK",null,null,null,null,null,null,null,2892,1061910]
[632,0,null,0,"OK",null,null,null,null,null,null,null,2893,10454901]
[633,0,null,0,"OK",null,null,null,null,null,null,null,2894,9890773]
[634,0,null,0,"OK",null,null,null,null,null,null,null,2895,202324719]
[635,0,null,0,"OK",null,null,null,null,null,null,null,2896,339083]
[636,0,null,0,"OK",null,null,null,null,null,null,null,2897,11066685]
[637,0,null,0,"OK",null,null,null,null,null,null,null,2898,1083431]
[638,0,null,0,"OK",null,null,null,null,null,null,null,2899,4529469]
[639,0,null,0,"OK",null,null,null,null,null,null,null,2912,93581808]
[640,0,null,0,"OK",null,null,null,null,null,null,null,2913,327393079.22999996]
[641,0,null,{"$f":"B648-C648","v":0},{"$f":"IF((D648 = 0),\"OK\",IF((D648<-5),\"CHECK ME!\",IF((D648>5),\"Check Me!\",\"OK\")))","v":"OK"},null,null,null,null,null,null,null,2914,837581]
[642,0,null,0,"OK",null,null,null,null,null,null,null,2915,12729557]
[643,0,null,0,"OK",null,null,null,null,null,null,null,2916,2145341]
[644,6904643475.1399994,{"$f":"'Expenditures 15-22'!C5","v":6904643475.1399994},0,"OK",null,null,null,null,null,null,null,2917,14984370]
[645,53820331,{"$f":"'Expenditures 15-22'!C16","v":53820331},0,"OK",null,null,null,null,null,null,null,2918,785086]
[646,0,null,0,"OK",null,null,null,null,null,null,null,2919,561085]
[647,0,null,0,"OK",null,null,null,null,null,null,null,2920,1171411]
[648,0,null,0,"OK",null,null,null,null,null,null,null,2925,2242745]
[649,0,null,0,"OK",null,null,null,null,null,null,null,2926,910925]
[650,0,null,0,"OK",null,null,null,null,null,null,null,2927,1446744]
[651,379622922.05000001,{"$f":"'Expenditures 15-22'!C18","v":379622922.05000001},0,"OK",null,null,null,null,null,null,null,2928,4775024]
[652,0,null,0,"OK",null,null,null,null,null,null,null,2929,7929650]
[653,0,null,0,"OK",null,null,null,null,null,null,null,2931,28394]
[654,0,null,0,"OK",null,null,null,null,null,null,null,2933,187626]
[655,9969762,{"$f":"'Expenditures 15-22'!C12","v":9969762},0,"OK",null,null,null,null,null,null,null,2934,116116]
[656,177641448,{"$f":"'Expenditures 15-22'!C13","v":177641448},0,"OK",null,null,null,null,null,null,null,2935,855652]
[657,302948507,{"$f":"'Expenditures 15-22'!C14","v":302948507},0,"OK",null,null,null,null,null,null,null,2937,28269]
[658,50807804,{"$f":"'Expenditures 15-22'!C15","v":50807804},0,"OK",null,null,null,null,null,null,null,2939,703255]
[659,10394968244.640001,{"$f":"'Expenditures 15-22'!C33","v":10394968244.639999},0,"OK",null,null,null,null,null,null,null,2946,4891140]
[660,287792083,{"$f":"'Expenditures 15-22'!C36","v":287792083},0,"OK",null,null,null,null,null,null,null,2947,8785302]
[661,325634559,{"$f":"'Expenditures 15-22'!C37","v":325634559},0,"OK",null,null,null,null,null,null,null,2949,56663]
[662,160219085,{"$f":"'Expenditures 15-22'!C38","v":160219085},0,"OK",null,null,null,null,null,null,null,2951,890881]
[663,131492657,{"$f":"'Expenditures 15-22'!C39","v":131492657},0,"OK",null,null,null,null,null,null,null,2994,170157360.87]
[664,208237973,{"$f":"'Expenditures 15-22'!C40","v":208237973},0,"OK",null,null,null,null,null,null,null,2995,38893693.490000002]
[665,77067140,{"$f":"'Expenditures 15-22'!C41","v":77067140},0,"OK",null,null,null,null,null,null,null,2996,24806270.780000001]
[666,1190443497,{"$f":"'Expenditures 15-22'!C42","v":1190443497},0,"OK",null,null,null,null,null,null,null,2997,48353647.259999998]
[667,308340430,{"$f":"'Expenditures 15-22'!C44","v":308340430},0,"OK",null,null,null,null,null,null,null,2998,5037989]
[668,223684046.12,{"$f":"'Expenditures 15-22'!C45","v":223684046.12},0,"OK",null,null,null,null,null,null,null,2999,384409.04]
[669,16120166,{"$f":"'Expenditures 15-22'!C46","v":16120166},0,"OK",null,null,null,null,null,null,null,30,6164815461]
[670,548144642.12,{"$f":"'Expenditures 15-22'!C47","v":548144642.12},0,"OK",null,null,null,null,null,null,null,3001,291020583.44]
[671,31224406,{"$f":"'Expenditures 15-22'!C49","v":31224406},0,"OK",null,null,null,null,null,null,null,3003,7164784.2000000002]
[672,182329887.63,{"$f":"'Expenditures 15-22'!C50","v":182329887.63},0,"OK",null,null,null,null,null,null,null,3004,7164784.2000000002]
[673,291674098.63,{"$f":"'Expenditures 15-22'!C53","v":291674098.63},0,"OK",null,null,null,null,null,null,null,3010,43024405]
[674,900084890.86000001,{"$f":"'Expenditures 15-22'!C55","v":900084890.86000001},0,"OK",null,null,null,null,null,null,null,3011,1702147]
[675,49609445,{"$f":"'Expenditures 15-22'!C56","v":49609445},0,"OK",null,null,null,null,null,null,null,3017,5395804]
[676,949694335.86000001,{"$f":"'Expenditures 15-22'!C57","v":949694335.86000001},0,"OK",null,null,null,null,null,null,null,3021,1076642900]
[677,51486713,{"$f":"'Expenditures 15-22'!C59","v":51486713},0,"OK",null,null,null,null,null,null,null,3022,5560187]
[678,114752210.97,{"$f":"'Expenditures 15-22'!C60","v":114752210.97},0,"OK",null,null,null,null,null,null,null,31,7874115804.04]
[679,89771235.900000006,{"$f":"'Expenditures 15-22'!C61","v":89771235.900000006},0,"OK",null,null,null,null,null,null,null,3100,1459218]
[680,19443764,{"$f":"'Expenditures 15-22'!C62","v":19443764},0,"OK",null,null,null,null,null,null,null,3109,1459218]
[681,221766058.09,{"$f":"'Expenditures 15-22'!C63","v":221766058.09},0,"OK",null,null,null,null,null,null,null,3164,116633339.3]
[682,11000508,{"$f":"'Expenditures 15-22'!C64","v":11000508},0,"OK",null,null,null,null,null,null,null,3165,116633339.3]
[683,0,null,0,"OK",null,null,null,null,null,null,null,3166,116633339.3]
[684,508220489.95999998,{"$f":"'Expenditures 15-22'!C65","v":508220489.96000004},0,"OK",null,null,null,null,null,null,null,3167,45270963]
[685,10817918,{"$f":"'Expenditures 15-22'!C67","v":10817918},0,"OK",null,null,null,null,null,null,null,3168,132758505]
[686,17528878,{"$f":"'Expenditures 15-22'!C68","v":17528878},0,"OK",null,null,null,null,null,null,null,3169,53222162]
[687,25159711,{"$f":"'Expenditures 15-22'!C69","v":25159711},0,"OK",null,null,null,null,null,null,null,3170,365456614]
[688,66707893,{"$f":"'Expenditures 15-22'!C70","v":66707893},0,"OK",null,null,null,null,null,null,null,3171,-232698109]
[689,0,null,0,"OK",null,null,null,null,null,null,null,3172,649218066.57999992]
[690,109394952,{"$f":"'Expenditures 15-22'!C71","v":109394952},0,"OK",null,null,null,null,null,null,null,3173,18141105]
[691,0,null,0,"OK",null,null,null,null,null,null,null,3174,351199338]
[692,229609352,{"$f":"'Expenditures 15-22'!C72","v":229609352},0,"OK",null,null,null,null,null,null,null,3175,67726860]
[693,12762947,{"$f":"'Expenditures 15-22'!C73","v":12762947},0,"OK",null,null,null,null,null,null,null,3176,425329660]
[694,3730549362.5700002,{"$f":"'Expenditures 15-22'!C74","v":3730549362.5700002},0,"OK",null,null,null,null,null,null,null,3177,-74130322]
[695,82067312.530000001,{"$f":"'Expenditures 15-22'!C75","v":82067312.530000001},0,"OK",null,null,null,null,null,null,null,3178,14739150.799999997]
[696,14207584919.74,{"$f":"'Expenditures 15-22'!C114","v":14207584919.74},0,"OK",null,null,null,null,null,null,null,3190,13179821]
[697,0,null,0,"OK",null,null,null,null,null,null,null,3191,33392121]
[698,0,null,0,"OK",null,null,null,null,null,null,null,3192,2548836]
[699,0,null,0,"OK",null,null,null,null,null,null,null,3193,43099123]
[700,0,null,0,"OK",null,null,null,null,null,null,null,3194,-9707002]
[701,0,null,0,"OK",null,null,null,null,null,null,null,3195,61639040.75]
[702,1836642410.3899999,{"$f":"'Expenditures 15-22'!D5","v":1836642410.3899999},0,"OK",null,null,null,null,null,null,null,3197,210616]
[703,9739224,{"$f":"'Expenditures 15-22'!D16","v":9739224},0,"OK",null,null,null,null,null,null,null,3198,11374]
[704,0,null,0,"OK",null,null,null,null,null,null,null,3199,19724]
[705,0,null,{"$f":"B712-C712","v":0},{"$f":"IF((D712 = 0),\"OK\",IF((D712<-5),\"CHECK ME!\",IF((D712>5),\"Check Me!\",\"OK\")))","v":"OK"},null,null,null,null,null,null,null,32,14336826497.040001]
[706,0,null,0,"OK",null,null,null,null,null,null,null,3200,190892]
[707,0,null,0,"OK",null,null,null,null,null,null,null,3201,29702188.650000002]
[708,0,null,0,"OK",null,null,null,null,null,null,null,3212,63546461]
[709,79937707.25,{"$f":"'Expenditures 15-22'!D18","v":79937707.25},0,"OK",null,null,null,null,null,null,null,3213,1326190221]
[710,0,null,0,"OK",null,null,null,null,null,null,null,3214,841958238]
[711,0,null,0,"OK",null,null,null,null,null,null,null,3215,843870147]
[712,0,null,0,"OK",null,null,null,null,null,null,null,3216,482320074]
[713,1000698,{"$f":"'Expenditures 15-22'!D12","v":1000698},0,"OK",null,null,null,null,null,null,null,3217,-29838222.279999997]
[714,35271981,{"$f":"'Expenditures 15-22'!D13","v":35271981},0,"OK",null,null,null,null,null,null,null,3234,44582043]
[715,20147943.100000001,{"$f":"'Expenditures 15-22'!D14","v":20147943.100000001},0,"OK",null,null,null,null,null,null,null,3235,1758996248]
[716,1860828,{"$f":"'Expenditures 15-22'!D15","v":1860828},0,"OK",null,null,null,null,null,null,null,3236,45519466]
[717,2580207624.23,{"$f":"'Expenditures 15-22'!D33","v":2580207624.2299995},0,"OK",null,null,null,null,null,null,null,3237,51677510]
[718,58332954,{"$f":"'Expenditures 15-22'!D36","v":58332954},0,"OK",null,null,null,null,null,null,null,3238,1707318738]
[719,66445208,{"$f":"'Expenditures 15-22'!D37","v":66445208},0,"OK",null,null,null,null,null,null,null,3239,-26551471.620000005]
[720,31788529,{"$f":"'Expenditures 15-22'!D38","v":31788529},0,"OK",null,null,null,null,null,null,null,3255,841232]
[721,24134157,{"$f":"'Expenditures 15-22'!D39","v":24134157},0,"OK",null,null,null,null,null,null,null,3256,345440278]
[722,38987728,{"$f":"'Expenditures 15-22'!D40","v":38987728},0,"OK",null,null,null,null,null,null,null,3257,399608967]
[723,13324352,{"$f":"'Expenditures 15-22'!D41","v":13324352},0,"OK",null,null,null,null,null,null,null,3258,-54168689]
[724,233012928,{"$f":"'Expenditures 15-22'!D42","v":233012928},0,"OK",null,null,null,null,null,null,null,3259,62464650.299999997]
[725,63420357.050000004,{"$f":"'Expenditures 15-22'!D44","v":63420357.050000004},0,"OK",null,null,null,null,null,null,null,3260,2257079613]
[726,44343837,{"$f":"'Expenditures 15-22'!D45","v":44343837},0,"OK",null,null,null,null,null,null,null,3261,-69561]
[727,2409186,{"$f":"'Expenditures 15-22'!D46","v":2409186},0,"OK",null,null,null,null,null,null,null,3262,2319474702.2999997]
[728,110173380.05,{"$f":"'Expenditures 15-22'!D47","v":110173380.05000001},0,"OK",null,null,null,null,null,null,null,3305,1993522732.4400001]
[729,30962015,{"$f":"'Expenditures 15-22'!D49","v":30962015},0,"OK",null,null,null,null,null,null,null,3306,19282411]
[730,36469854.049999997,{"$f":"'Expenditures 15-22'!D50","v":36469854.049999997},0,"OK",null,null,null,null,null,null,null,3307,466035301]
[731,86553842.050000012,{"$f":"'Expenditures 15-22'!D53","v":86553842.049999997},0,"OK",null,null,null,null,null,null,null,3308,4144518]
[732,213190613.57000002,{"$f":"'Expenditures 15-22'!D55","v":213190613.57000002},0,"OK",null,null,null,null,null,null,null,3309,87214094.640000001]
[733,10887278,{"$f":"'Expenditures 15-22'!D56","v":10887278},0,"OK",null,null,null,null,null,null,null,3310,1963688]
[734,224077891.57000002,{"$f":"'Expenditures 15-22'!D57","v":224077891.57000002},0,"OK",null,null,null,null,null,null,null,3311,21082583.859999999]
[735,12498623,{"$f":"'Expenditures 15-22'!D59","v":12498623},0,"OK",null,null,null,null,null,null,null,3312,439938]
[736,22508486,{"$f":"'Expenditures 15-22'!D60","v":22508486},0,"OK",null,null,null,null,null,null,null,3313,2833676.99]
[737,18348069,{"$f":"'Expenditures 15-22'!D61","v":18348069},0,"OK",null,null,null,null,null,null,null,3314,9618]
[738,6326498,{"$f":"'Expenditures 15-22'!D62","v":6326498},0,"OK",null,null,null,null,null,null,null,3315,61121760.549999997]
[739,54318184.259999998,{"$f":"'Expenditures 15-22'!D63","v":54318184.259999998},0,"OK",null,null,null,null,null,null,null,3316,2487215]
[740,2140311,{"$f":"'Expenditures 15-22'!D64","v":2140311},0,"OK",null,null,null,null,null,null,null,3319,2639195221.48]
[741,0,null,0,"OK",null,null,null,null,null,null,null,3320,28405287]
[742,116140171.26000001,{"$f":"'Expenditures 15-22'!D65","v":116140171.25999999},0,"OK",null,null,null,null,null,null,null,3326,107099774.84]
[743,2196625,{"$f":"'Expenditures 15-22'!D67","v":2196625},0,"OK",null,null,null,null,null,null,null,3327,93495399.290000007]
[744,3150533,{"$f":"'Expenditures 15-22'!D68","v":3150533},0,"OK",null,null,null,null,null,null,null,3328,676963]
[745,4699419,{"$f":"'Expenditures 15-22'!D69","v":4699419},0,"OK",null,null,null,null,null,null,null,3329,107099774.84]
[746,27052773,{"$f":"'Expenditures 15-22'!D70","v":27052773},0,"OK",null,null,null,null,null,null,null,3330,93495399.290000007]
[747,0,null,0,"OK",null,null,null,null,null,null,null,3331,676963]
[748,18519078,{"$f":"'Expenditures 15-22'!D71","v":18519078},0,"OK",null,null,null,null,null,null,null,3344,10276423]
[749,0,null,0,"OK",null,null,null,null,null,null,null,3345,510487]
[750,55618428,{"$f":"'Expenditures 15-22'!D72","v":55618428},0,"OK",null,null,null,null,null,null,null,3347,141160]
[751,7634056,{"$f":"'Expenditures 15-22'!D73","v":7634056},0,"OK",null,null,null,null,null,null,null,3350,6734270927]
[752,833210696.93000007,{"$f":"'Expenditures 15-22'!D74","v":833210696.93000007},0,"OK",null,null,null,null,null,null,null,3353,1142668771]
[753,14472707.210000001,{"$f":"'Expenditures 15-22'!D75","v":14472707.210000001},0,"OK",null,null,null,null,null,null,null,3356,1362854592]
[754,3427891028.3699999,{"$f":"'Expenditures 15-22'!D114","v":3427891028.3699999},0,"OK",null,null,null,null,null,null,null,3358,715022560]
[755,0,null,0,"OK",null,null,null,null,null,null,null,3361,407516554]
[756,0,null,0,"OK",null,null,null,null,null,null,null,3364,2258155283]
[757,0,null,0,"OK",null,null,null,null,null,null,null,3366,1750161689]
[758,0,null,0,"OK",null,null,null,null,null,null,null,3374,208677212.28999999]
[759,0,null,0,"OK",null,null,null,null,null,null,null,3385,294927920.81999999]
[760,126237636.56,{"$f":"'Expenditures 15-22'!E5","v":126237636.56},0,"OK",null,null,null,null,null,null,null,3386,176284365.94]
[761,563433,{"$f":"'Expenditures 15-22'!E16","v":563433},0,"OK",null,null,null,null,null,null,null,3387,118643554.88000001]
[762,0,null,0,"OK",null,null,null,null,null,null,null,3388,195402969.51446882]
[763,0,null,0,"OK",null,null,null,null,null,null,null,3389,314046524.39446878]
[764,0,null,0,"OK",null,null,null,null,null,null,null,3390,1069368995]
[765,0,null,0,"OK",null,null,null,null,null,null,null,3391,1474828457.3499999]
[766,0,null,0,"OK",null,null,null,null,null,null,null,3392,827209918]
[767,2593720.41,{"$f":"'Expenditures 15-22'!E18","v":2593720.41},0,"OK",null,null,null,null,null,null,null,3393,1716987534.3499999]
[768,0,null,0,"OK",null,null,null,null,null,null,null,3398,1716987534.3499999]
[769,0,null,{"$f":"B776-C776","v":0},{"$f":"IF((D776 = 0),\"OK\",IF((D776<-5),\"CHECK ME!\",IF((D776>5),\"Check Me!\",\"OK\")))","v":"OK"},null,null,null,null,null,null,null,3421,117374]
[770,0,null,0,"OK",null,null,null,null,null,null,null,3422,35318]
[771,1715126,{"$f":"'Expenditures 15-22'!E12","v":1715126},0,"OK",null,null,null,null,null,null,null,3423,49273]
[772,7596291,{"$f":"'Expenditures 15-22'!E13","v":7596291},0,"OK",null,null,null,null,null,null,null,3424,104788]
[773,48487354,{"$f":"'Expenditures 15-22'!E14","v":48487354},0,"OK",null,null,null,null,null,null,null,3425,1248]
[774,2361938,{"$f":"'Expenditures 15-22'!E15","v":2361938},0,"OK",null,null,null,null,null,null,null,3426,212]
[775,1057599826.62,{"$f":"'Expenditures 15-22'!E33","v":1057599826.6199999},0,"OK",null,null,null,null,null,null,null,3427,308213]
[776,12054133.630000001,{"$f":"'Expenditures 15-22'!E36","v":12054133.630000001},0,"OK",null,null,null,null,null,null,null,3429,1758976]
[777,14352968,{"$f":"'Expenditures 15-22'!E37","v":14352968},0,"OK",null,null,null,null,null,null,null,3431,36000]
[778,34533340,{"$f":"'Expenditures 15-22'!E38","v":34533340},0,"OK",null,null,null,null,null,null,null,3432,5098843]
[779,7801056,{"$f":"'Expenditures 15-22'!E39","v":7801056},0,"OK",null,null,null,null,null,null,null,3458,12010485]
[780,26016873,{"$f":"'Expenditures 15-22'!E40","v":26016873},0,"OK",null,null,null,null,null,null,null,3469,2001715]
[781,13572293.65,{"$f":"'Expenditures 15-22'!E41","v":13572293.65},0,"OK",null,null,null,null,null,null,null,3470,1415948]
[782,108330664.28,{"$f":"'Expenditures 15-22'!E42","v":108330664.28},0,"OK",null,null,null,null,null,null,null,3471,2968883]
[783,121572776.38,{"$f":"'Expenditures 15-22'!E44","v":121572776.38},0,"OK",null,null,null,null,null,null,null,3473,5908737]
[784,39248415.920000002,{"$f":"'Expenditures 15-22'!E45","v":39248415.920000002},0,"OK",null,null,null,null,null,null,null,3485,250766051]
[785,25306618.390000001,{"$f":"'Expenditures 15-22'!E46","v":25306618.390000001},0,"OK",null,null,null,null,null,null,null,3487,13250611]
[786,186127810.69,{"$f":"'Expenditures 15-22'!E47","v":186127810.69},0,"OK",null,null,null,null,null,null,null,3489,97027237]
[787,117281082.63,{"$f":"'Expenditures 15-22'!E49","v":117281082.63},0,"OK",null,null,null,null,null,null,null,3490,36]
[788,12964824.23,{"$f":"'Expenditures 15-22'!E50","v":12964824.23},0,"OK",null,null,null,null,null,null,null,3491,361180681]
[789,152751869.95999998,{"$f":"'Expenditures 15-22'!E53","v":152751869.96000001},0,"OK",null,null,null,null,null,null,null,3500,200]
[790,21453533.329999998,{"$f":"'Expenditures 15-22'!E55","v":21453533.329999998},0,"OK",null,null,null,null,null,null,null,3501,13950236]
[791,386397,{"$f":"'Expenditures 15-22'!E56","v":386397},0,"OK",null,null,null,null,null,null,null,3504,37379871]
[792,21839930.329999998,{"$f":"'Expenditures 15-22'!E57","v":21839930.329999998},0,"OK",null,null,null,null,null,null,null,3505,74187771]
[793,5630668.9699999997,{"$f":"'Expenditures 15-22'!E59","v":5630668.9699999997},0,"OK",null,null,null,null,null,null,null,3506,249613039]
[794,33043584.169999998,{"$f":"'Expenditures 15-22'!E60","v":33043584.169999998},0,"OK",null,null,null,null,null,null,null,3507,361180681]
[795,80660320.960000008,{"$f":"'Expenditures 15-22'!E61","v":80660320.960000008},0,"OK",null,null,null,null,null,null,null,3508,60520473.059999995]
[796,110112662,{"$f":"'Expenditures 15-22'!E62","v":110112662},0,"OK",null,null,null,null,null,null,null,3509,678591]
[797,204482374.50999999,{"$f":"'Expenditures 15-22'!E63","v":204482374.50999999},0,"OK",null,null,null,null,null,null,null,3510,61199064.059999995]
[798,10049511,{"$f":"'Expenditures 15-22'!E64","v":10049511},0,"OK",null,null,null,null,null,null,null,3511,176986335.81999999]
[799,0,null,0,"OK",null,null,null,null,null,null,null,3512,13759]
[800,443979121.61000001,{"$f":"'Expenditures 15-22'!E65","v":443979121.61000001},0,"OK",null,null,null,null,null,null,null,3513,313020]
[801,2926974,{"$f":"'Expenditures 15-22'!E67","v":2926974},0,"OK",null,null,null,null,null,null,null,3514,177313114.81999999]
[802,7157480,{"$f":"'Expenditures 15-22'!E68","v":7157480},0,"OK",null,null,null,null,null,null,null,3515,-116114050.75999999]
[803,17557269,{"$f":"'Expenditures 15-22'!E69","v":17557269},0,"OK",null,null,null,null,null,null,null,3516,55484]
[804,17272241,{"$f":"'Expenditures 15-22'!E70","v":17272241},0,"OK",null,null,null,null,null,null,null,3517,433]
[805,0,null,0,"OK",null,null,null,null,null,null,null,3518,118751902]
[806,93847432,{"$f":"'Expenditures 15-22'!E71","v":93847432},0,"OK",null,null,null,null,null,null,null,3519,5943882]
[807,0,null,0,"OK",null,null,null,null,null,null,null,3522,68]
[808,138761396,{"$f":"'Expenditures 15-22'!E72","v":138761396},0,"OK",null,null,null,null,null,null,null,3523,125880614]
[809,14344209,{"$f":"'Expenditures 15-22'!E73","v":14344209},0,"OK",null,null,null,null,null,null,null,3524,1403076]
[810,1066135001.87,{"$f":"'Expenditures 15-22'!E74","v":1066135001.8700001},0,"OK",null,null,null,null,null,null,null,3525,4478360]
[811,52365468.93,{"$f":"'Expenditures 15-22'!E75","v":52365468.93},0,"OK",null,null,null,null,null,null,null,3526,121402254]
[812,2399936507.6499996,{"$f":"'Expenditures 15-22'!E114","v":2399936507.6500001},0,"OK",null,null,null,null,null,null,null,3527,5288203.24]
[813,0,null,0,"OK",null,null,null,null,null,null,null,3528,319204097]
[814,0,null,0,"OK",null,null,null,null,null,null,null,3529,-691490]
[815,0,null,0,"OK",null,null,null,null,null,null,null,3530,323800810.24000001]
[816,0,null,0,"OK",null,null,null,null,null,null,null,3556,265599]
[817,0,null,0,"OK",null,null,null,null,null,null,null,3557,1201913]
[818,323813501.13999999,{"$f":"'Expenditures 15-22'!F5","v":323813501.13999999},0,"OK",null,null,null,null,null,null,null,3558,1467512]
[819,394562,{"$f":"'Expenditures 15-22'!F16","v":394562},0,"OK",null,null,null,null,null,null,null,3559,32581]
[820,0,null,0,"OK",null,null,null,null,null,null,null,3560,1500093]
[821,0,null,0,"OK",null,null,null,null,null,null,null,3561,1500093]
[822,0,null,0,"OK",null,null,null,null,null,null,null,3563,30149]
[823,0,null,0,"OK",null,null,null,null,null,null,null,3564,143954]
[824,0,null,0,"OK",null,null,null,null,null,null,null,3565,174103]
[825,7884786.79,{"$f":"'Expenditures 15-22'!F18","v":7884786.79},0,"OK",null,null,null,null,null,null,null,3567,174103]
[826,0,null,0,"OK",null,null,null,null,null,null,null,3568,174103]
[827,0,null,0,"OK",null,null,null,null,null,null,null,3570,8520392]
[828,0,null,0,"OK",null,null,null,null,null,null,null,3571,9530582.5099999998]
[829,443439,{"$f":"'Expenditures 15-22'!F12","v":443439},0,"OK",null,null,null,null,null,null,null,3572,18050974.510000002]
[830,16136475,{"$f":"'Expenditures 15-22'!F13","v":16136475},0,"OK",null,null,null,null,null,null,null,3573,33544]
[831,32720619.530000001,{"$f":"'Expenditures 15-22'!F14","v":32720619.530000001},0,"OK",null,null,null,null,null,null,null,3574,18084518.510000002]
[832,2385932,{"$f":"'Expenditures 15-22'!F15","v":2385932},0,"OK",null,null,null,null,null,null,null,3575,18084518.510000002]
[833,471003376.25,{"$f":"'Expenditures 15-22'!F33","v":471003376.25000006},{"$f":"B840-C840","v":0},{"$f":"IF((D840 = 0),\"OK\",IF((D840<-5),\"CHECK ME!\",IF((D840>5),\"Check Me!\",\"OK\")))","v":"OK"},null,null,null,null,null,null,null,3577,102231]
[834,5417245.1299999999,{"$f":"'Expenditures 15-22'!F36","v":5417245.1299999999},0,"OK",null,null,null,null,null,null,null,3578,205880.31]
[835,3767611,{"$f":"'Expenditures 15-22'!F37","v":3767611},0,"OK",null,null,null,null,null,null,null,3579,308111.31]
[836,3711846.0700000003,{"$f":"'Expenditures 15-22'!F38","v":3711846.0700000003},0,"OK",null,null,null,null,null,null,null,3581,308111.31]
[837,1298095,{"$f":"'Expenditures 15-22'!F39","v":1298095},0,"OK",null,null,null,null,null,null,null,3582,308111.31]
[838,1019770,{"$f":"'Expenditures 15-22'!F40","v":1019770},0,"OK",null,null,null,null,null,null,null,3584,117034836]
[839,5347549.51,{"$f":"'Expenditures 15-22'!F41","v":5347549.51},0,"OK",null,null,null,null,null,null,null,3585,38254340]
[840,20562116.710000001,{"$f":"'Expenditures 15-22'!F42","v":20562116.710000001},0,"OK",null,null,null,null,null,null,null,3586,155289176]
[841,57477969.310000002,{"$f":"'Expenditures 15-22'!F44","v":57477969.310000002},0,"OK",null,null,null,null,null,null,null,3588,155289176]
[842,42685177.119999997,{"$f":"'Expenditures 15-22'!F45","v":42685177.119999997},0,"OK",null,null,null,null,null,null,null,3589,155289176]
[843,6080524.6299999999,{"$f":"'Expenditures 15-22'!F46","v":6080524.6299999999},0,"OK",null,null,null,null,null,null,null,3591,2330]
[844,106243671.06,{"$f":"'Expenditures 15-22'!F47","v":106243671.06},0,"OK",null,null,null,null,null,null,null,3592,219578]
[845,6603856.3899999997,{"$f":"'Expenditures 15-22'!F49","v":6603856.3899999997},0,"OK",null,null,null,null,null,null,null,3593,221908]
[846,4253199.96,{"$f":"'Expenditures 15-22'!F50","v":4253199.96},0,"OK",null,null,null,null,null,null,null,3594,390824]
[847,12309544.35,{"$f":"'Expenditures 15-22'!F53","v":12309544.35},0,"OK",null,null,null,null,null,null,null,3595,612732]
[848,19532787.810000002,{"$f":"'Expenditures 15-22'!F55","v":19532787.810000002},0,"OK",null,null,null,null,null,null,null,3599,939511]
[849,173868,{"$f":"'Expenditures 15-22'!F56","v":173868},0,"OK",null,null,null,null,null,null,null,36,510303177]
[850,19706655.810000002,{"$f":"'Expenditures 15-22'!F57","v":19706655.810000002},0,"OK",null,null,null,null,null,null,null,3607,126955723]
[851,1485088,{"$f":"'Expenditures 15-22'!F59","v":1485088},0,"OK",null,null,null,null,null,null,null,3608,49560613.82]
[852,4883239.21,{"$f":"'Expenditures 15-22'!F60","v":4883239.21},0,"OK",null,null,null,null,null,null,null,3609,176516336.81999999]
[853,32915954.900000002,{"$f":"'Expenditures 15-22'!F61","v":32915954.900000002},0,"OK",null,null,null,null,null,null,null,3610,469999]
[854,389071,{"$f":"'Expenditures 15-22'!F62","v":389071},0,"OK",null,null,null,null,null,null,null,3611,176986335.81999999]
[855,287176412.22000003,{"$f":"'Expenditures 15-22'!F63","v":287176412.22000003},0,"OK",null,null,null,null,null,null,null,3612,13759]
[856,5101917,{"$f":"'Expenditures 15-22'!F64","v":5101917},0,"OK",null,null,null,null,null,null,null,3613,13759]
[857,0,null,0,"OK",null,null,null,null,null,null,null,3617,177313114.81999999]
[858,331951682.32999998,{"$f":"'Expenditures 15-22'!F65","v":331951682.33000004},0,"OK",null,null,null,null,null,null,null,3620,-116114050.75999999]
[859,198803,{"$f":"'Expenditures 15-22'!F67","v":198803},0,"OK",null,null,null,null,null,null,null,3637,2867664]
[860,905454,{"$f":"'Expenditures 15-22'!F68","v":905454},0,"OK",null,null,null,null,null,null,null,3638,207620]
[861,6726805.9000000004,{"$f":"'Expenditures 15-22'!F69","v":6726805.9000000004},0,"OK",null,null,null,null,null,null,null,3641,2867664]
[862,2258125,{"$f":"'Expenditures 15-22'!F70","v":2258125},0,"OK",null,null,null,null,null,null,null,3642,207620]
[863,0,null,0,"OK",null,null,null,null,null,null,null,3656,633862]
[864,55756413,{"$f":"'Expenditures 15-22'!F71","v":55756413},0,"OK",null,null,null,null,null,null,null,3660,1598643]
[865,0,null,0,"OK",null,null,null,null,null,null,null,3661,1833094]
[866,65845600.899999999,{"$f":"'Expenditures 15-22'!F72","v":65845600.899999999},0,"OK",null,null,null,null,null,null,null,3662,1598643]
[867,6603408.3900000006,{"$f":"'Expenditures 15-22'!F73","v":6603408.3900000006},0,"OK",null,null,null,null,null,null,null,3663,1833094]
[868,563222679.54999995,{"$f":"'Expenditures 15-22'!F74","v":563222679.55000007},0,"OK",null,null,null,null,null,null,null,3664,34116254]
[869,14094092.73,{"$f":"'Expenditures 15-22'!F75","v":14094092.73},0,"OK",null,null,null,null,null,null,null,3665,27471219.390000001]
[870,1048320148.53,{"$f":"'Expenditures 15-22'!F114","v":1048320148.5300002},0,"OK",null,null,null,null,null,null,null,3666,6645034.6100000003]
[871,0,null,0,"OK",null,null,null,null,null,null,null,3667,27996900.813951001]
[872,0,null,0,"OK",null,null,null,null,null,null,null,3668,34641935.423951]
[873,0,null,0,"OK",null,null,null,null,null,null,null,3669,247528357.06]
[874,0,null,0,"OK",null,null,null,null,null,null,null,371,11364184]
[875,0,null,0,"OK",null,null,null,null,null,null,null,4,4730386878]
[876,36765747.909999996,{"$f":"'Expenditures 15-22'!G5","v":36765747.909999996},0,"OK",null,null,null,null,null,null,null,4013,136155]
[877,3997,{"$f":"'Expenditures 15-22'!G16","v":3997},0,"OK",null,null,null,null,null,null,null,4014,20267]
[878,0,null,0,"OK",null,null,null,null,null,null,null,4015,67281]
[879,0,null,0,"OK",null,null,null,null,null,null,null,4016,6909]
[880,0,null,0,"OK",null,null,null,null,null,null,null,4017,15000]
[881,0,null,0,"OK",null,null,null,null,null,null,null,4019,245612]
[882,0,null,0,"OK",null,null,null,null,null,null,null,4020,2299594]
[883,29973.5,{"$f":"'Expenditures 15-22'!G18","v":29973.5},0,"OK",null,null,null,null,null,null,null,4021,232570]
[884,0,null,0,"OK",null,null,null,null,null,null,null,4022,2280875]
[885,0,null,0,"OK",null,null,null,null,null,null,null,4023,525411]
[886,0,null,0,"OK",null,null,null,null,null,null,null,4024,371449]
[887,13350,{"$f":"'Expenditures 15-22'!G12","v":13350},0,"OK",null,null,null,null,null,null,null,4025,6382]
[888,5452465,{"$f":"'Expenditures 15-22'!G13","v":5452465},0,"OK",null,null,null,null,null,null,null,4026,5749983]
[889,4593332,{"$f":"'Expenditures 15-22'!G14","v":4593332},0,"OK",null,null,null,null,null,null,null,4042,444998936]
[890,83032,{"$f":"'Expenditures 15-22'!G15","v":83032},0,"OK",null,null,null,null,null,null,null,4044,40244603]
[891,57383460.049999997,{"$f":"'Expenditures 15-22'!G33","v":57383460.049999997},0,"OK",null,null,null,null,null,null,null,4046,404754333]
[892,78248,{"$f":"'Expenditures 15-22'!G36","v":78248},0,"OK",null,null,null,null,null,null,null,4048,22696016.41]
[893,106774,{"$f":"'Expenditures 15-22'!G37","v":106774},0,"OK",null,null,null,null,null,null,null,4050,427450349.41000003]
[894,675815,{"$f":"'Expenditures 15-22'!G38","v":675815},0,"OK",null,null,null,null,null,null,null,4052,5909326256.7989998]
[895,38663,{"$f":"'Expenditures 15-22'!G39","v":38663},0,"OK",null,null,null,null,null,null,null,4053,7090148]
[896,99655,{"$f":"'Expenditures 15-22'!G40","v":99655},0,"OK",null,null,null,null,null,null,null,4055,2379]
[897,751772,{"$f":"'Expenditures 15-22'!G41","v":751772},{"$f":"B904-C904","v":0},{"$f":"IF((D904 = 0),\"OK\",IF((D904<-5),\"CHECK ME!\",IF((D904>5),\"Check Me!\",\"OK\")))","v":"OK"},null,null,null,null,null,null,null,4057,688465]
[898,1750927,{"$f":"'Expenditures 15-22'!G42","v":1750927},0,"OK",null,null,null,null,null,null,null,4061,29236832222.309002]
[899,10467444,{"$f":"'Expenditures 15-22'!G44","v":10467444},0,"OK",null,null,null,null,null,null,null,4062,2428317148.1999998]
[900,29192751.199999999,{"$f":"'Expenditures 15-22'!G45","v":29192751.199999999},0,"OK",null,null,null,null,null,null,null,4063,2163864424.4200001]
[901,71480,{"$f":"'Expenditures 15-22'!G46","v":71480},0,"OK",null,null,null,null,null,null,null,4064,1323387060.01]
[902,39731675.200000003,{"$f":"'Expenditures 15-22'!G47","v":39731675.200000003},0,"OK",null,null,null,null,null,null,null,4065,649569492.86000001]
[903,442797,{"$f":"'Expenditures 15-22'!G49","v":442797},0,"OK",null,null,null,null,null,null,null,4066,282974123.18000001]
[904,549035,{"$f":"'Expenditures 15-22'!G50","v":549035},0,"OK",null,null,null,null,null,null,null,4067,116633339.3]
[905,1106342,{"$f":"'Expenditures 15-22'!G53","v":1106342},0,"OK",null,null,null,null,null,null,null,4069,61199064.059999995]
[906,1014151,{"$f":"'Expenditures 15-22'!G55","v":1014151},0,"OK",null,null,null,null,null,null,null,4070,5909326256.7989998]
[907,96824,{"$f":"'Expenditures 15-22'!G56","v":96824},0,"OK",null,null,null,null,null,null,null,4071,7090148]
[908,1110975,{"$f":"'Expenditures 15-22'!G57","v":1110975},0,"OK",null,null,null,null,null,null,null,4072,2379]
[909,639981,{"$f":"'Expenditures 15-22'!G59","v":639981},0,"OK",null,null,null,null,null,null,null,4073,688465]
[910,2604912,{"$f":"'Expenditures 15-22'!G60","v":2604912},0,"OK",null,null,null,null,null,null,null,4075,28354916046.729]
[911,8789901.0199999996,{"$f":"'Expenditures 15-22'!G61","v":8789901.0199999996},0,"OK",null,null,null,null,null,null,null,4076,2339447675.3999996]
[912,269660.3,{"$f":"'Expenditures 15-22'!G62","v":269660.3},0,"OK",null,null,null,null,null,null,null,4077,2676022720.6999998]
[913,6052964.04,{"$f":"'Expenditures 15-22'!G63","v":6052964.04},0,"OK",null,null,null,null,null,null,null,4078,1252041017.26]
[914,1994164,{"$f":"'Expenditures 15-22'!G64","v":1994164},0,"OK",null,null,null,null,null,null,null,4079,620058196.21000004]
[915,0,null,0,"OK",null,null,null,null,null,null,null,4080,2016844332.8]
[916,20351582.359999999,{"$f":"'Expenditures 15-22'!G65","v":20351582.359999999},0,"OK",null,null,null,null,null,null,null,4083,177313114.81999999]
[917,92012,{"$f":"'Expenditures 15-22'!G67","v":92012},0,"OK",null,null,null,null,null,null,null,4095,178861]
[918,635804,{"$f":"'Expenditures 15-22'!G68","v":635804},0,"OK",null,null,null,null,null,null,null,4096,178861]
[919,5264102,{"$f":"'Expenditures 15-22'!G69","v":5264102},0,"OK",null,null,null,null,null,null,null,4110,21737434113.900002]
[920,148379,{"$f":"'Expenditures 15-22'!G70","v":148379},0,"OK",null,null,null,null,null,null,null,4111,20159129693.900002]
[921,0,null,0,"OK",null,null,null,null,null,null,null,4112,2147359252]
[922,47941679,{"$f":"'Expenditures 15-22'!G71","v":47941679},0,"OK",null,null,null,null,null,null,null,4116,-379577762]
[923,0,null,0,"OK",null,null,null,null,null,null,null,4128,237596]
[924,54081976,{"$f":"'Expenditures 15-22'!G72","v":54081976},0,"OK",null,null,null,null,null,null,null,4138,1457659]
[925,1408827,{"$f":"'Expenditures 15-22'!G73","v":1408827},0,"OK",null,null,null,null,null,null,null,4139,349840]
[926,119542304.56,{"$f":"'Expenditures 15-22'!G74","v":119542304.56},0,"OK",null,null,null,null,null,null,null,4140,275333]
[927,1335802.3700000001,{"$f":"'Expenditures 15-22'!G75","v":1335802.3700000001},0,"OK",null,null,null,null,null,null,null,4141,2592832]
[928,178261566.97999999,{"$f":"'Expenditures 15-22'!G114","v":178261566.98000002},0,"OK",null,null,null,null,null,null,null,4142,2592832]
[929,0,null,0,"OK",null,null,null,null,null,null,null,4149,14777034]
[930,0,null,0,"OK",null,null,null,null,null,null,null,4150,14777034]
[931,0,null,0,"OK",null,null,null,null,null,null,null,4166,1226411]
[932,0,null,0,"OK",null,null,null,null,null,null,null,4204,2102863.287]
[933,0,null,0,"OK",null,null,null,null,null,null,null,4205,384972.61519999983]
[934,10299315.949999999,{"$f":"'Expenditures 15-22'!H5","v":10299315.949999999},0,"OK",null,null,null,null,null,null,null,4206,171522.9492]
[935,57511,{"$f":"'Expenditures 15-22'!H16","v":57511},0,"OK",null,null,null,null,null,null,null,4207,2659384]
[936,0,null,0,"OK",null,null,null,null,null,null,null,4208,12791852695.430002]
[937,0,null,0,"OK",null,null,null,null,null,null,null,4209,5665553]
[938,0,null,0,"OK",null,null,null,null,null,null,null,4237,447453]
[939,0,null,0,"OK",null,null,null,null,null,null,null,4239,1685682]
[940,0,null,0,"OK",null,null,null,null,null,null,null,4240,107634]
[941,52570.29,{"$f":"'Expenditures 15-22'!H18","v":52570.29},0,"OK",null,null,null,null,null,null,null,4241,1453213]
[942,0,null,0,"OK",null,null,null,null,null,null,null,4242,529760]
[943,0,null,0,"OK",null,null,null,null,null,null,null,4244,20510]
[944,0,null,0,"OK",null,null,null,null,null,null,null,4246,165223]
[945,41617,{"$f":"'Expenditures 15-22'!H12","v":41617},0,"OK",null,null,null,null,null,null,null,4248,64749]
[946,1728240,{"$f":"'Expenditures 15-22'!H13","v":1728240},0,"OK",null,null,null,null,null,null,null,4251,150750]
[947,9706880.3300000001,{"$f":"'Expenditures 15-22'!H14","v":9706880.3300000001},0,"OK",null,null,null,null,null,null,null,4255,4685]
[948,572292,{"$f":"'Expenditures 15-22'!H15","v":572292},0,"OK",null,null,null,null,null,null,null,4256,5055]
[949,410674694.16000003,{"$f":"'Expenditures 15-22'!H33","v":410674694.16000003},0,"OK",null,null,null,null,null,null,null,4260,750]
[950,80602,{"$f":"'Expenditures 15-22'!H36","v":80602},0,"OK",null,null,null,null,null,null,null,4266,370611]
[951,657151,{"$f":"'Expenditures 15-22'!H37","v":657151},0,"OK",null,null,null,null,null,null,null,4267,3036676]
[952,338909,{"$f":"'Expenditures 15-22'!H38","v":338909},0,"OK",null,null,null,null,null,null,null,4268,5000]
[953,45413,{"$f":"'Expenditures 15-22'!H39","v":45413},0,"OK",null,null,null,null,null,null,null,4270,19011864]
[954,25626,{"$f":"'Expenditures 15-22'!H40","v":25626},0,"OK",null,null,null,null,null,null,null,4271,24580103]
[955,350124,{"$f":"'Expenditures 15-22'!H41","v":350124},0,"OK",null,null,null,null,null,null,null,4273,18720]
[956,1497825,{"$f":"'Expenditures 15-22'!H42","v":1497825},0,"OK",null,null,null,null,null,null,null,4274,237]
[957,2416283.25,{"$f":"'Expenditures 15-22'!H44","v":2416283.25},0,"OK",null,null,null,null,null,null,null,4275,616592]
[958,804954,{"$f":"'Expenditures 15-22'!H45","v":804954},0,"OK",null,null,null,null,null,null,null,4279,180732]
[959,136390,{"$f":"'Expenditures 15-22'!H46","v":136390},0,"OK",null,null,null,null,null,null,null,4283,8540138]
[960,3357627.25,{"$f":"'Expenditures 15-22'!H47","v":3357627.25},0,"OK",null,null,null,null,null,null,null,4290,72316]
[961,25915030,{"$f":"'Expenditures 15-22'!H49","v":25915030},{"$f":"B968-C968","v":0},{"$f":"IF((D968 = 0),\"OK\",IF((D968<-5),\"CHECK ME!\",IF((D968>5),\"Check Me!\",\"OK\")))","v":"OK"},null,null,null,null,null,null,null,4296,523000]
[962,3337464.14,{"$f":"'Expenditures 15-22'!H50","v":3337464.14},0,"OK",null,null,null,null,null,null,null,4297,38035506.5]
[963,32862297.140000001,{"$f":"'Expenditures 15-22'!H53","v":32862297.140000001},0,"OK",null,null,null,null,null,null,null,4298,4612]
[964,2389219,{"$f":"'Expenditures 15-22'!H55","v":2389219},0,"OK",null,null,null,null,null,null,null,4299,21011]
[965,29626,{"$f":"'Expenditures 15-22'!H56","v":29626},0,"OK",null,null,null,null,null,null,null,43,146411]
[966,2418845,{"$f":"'Expenditures 15-22'!H57","v":2418845},0,"OK",null,null,null,null,null,null,null,4301,110434315.08]
[967,927377.96,{"$f":"'Expenditures 15-22'!H59","v":927377.96},0,"OK",null,null,null,null,null,null,null,4308,182652]
[968,4072120.01,{"$f":"'Expenditures 15-22'!H60","v":4072120.01},0,"OK",null,null,null,null,null,null,null,4311,182652]
[969,421604,{"$f":"'Expenditures 15-22'!H61","v":421604},0,"OK",null,null,null,null,null,null,null,4318,2853539]
[970,387,{"$f":"'Expenditures 15-22'!H62","v":387},0,"OK",null,null,null,null,null,null,null,4330,178447]
[971,1471177.59,{"$f":"'Expenditures 15-22'!H63","v":1471177.59},0,"OK",null,null,null,null,null,null,null,4334,3103140]
[972,132088,{"$f":"'Expenditures 15-22'!H64","v":132088},0,"OK",null,null,null,null,null,null,null,4336,41000]
[973,0,null,0,"OK",null,null,null,null,null,null,null,4346,18308735]
[974,7024754.5599999996,{"$f":"'Expenditures 15-22'!H65","v":7024754.5599999996},0,"OK",null,null,null,null,null,null,null,4348,259820]
[975,185077,{"$f":"'Expenditures 15-22'!H67","v":185077},0,"OK",null,null,null,null,null,null,null,4349,63020]
[976,27010,{"$f":"'Expenditures 15-22'!H68","v":27010},0,"OK",null,null,null,null,null,null,null,4350,33571092]
[977,348902,{"$f":"'Expenditures 15-22'!H69","v":348902},0,"OK",null,null,null,null,null,null,null,4352,272560]
[978,520569,{"$f":"'Expenditures 15-22'!H70","v":520569},0,"OK",null,null,null,null,null,null,null,4353,73570]
[979,0,null,0,"OK",null,null,null,null,null,null,null,4354,24595061]
[980,1201356,{"$f":"'Expenditures 15-22'!H71","v":1201356},0,"OK",null,null,null,null,null,null,null,4355,18316]
[981,0,0,0,"OK",null,null,null,null,null,null,null,4356,25807]
[982,2282914,{"$f":"'Expenditures 15-22'!H72","v":2282914},0,"OK",null,null,null,null,null,null,null,4357,70376958]
[983,698934,{"$f":"'Expenditures 15-22'!H73","v":698934},0,"OK",null,null,null,null,null,null,null,4360,19877]
[984,50143196.950000003,{"$f":"'Expenditures 15-22'!H74","v":50143196.950000003},0,"OK",null,null,null,null,null,null,null,4373,48301633]
[985,1568138,{"$f":"'Expenditures 15-22'!H75","v":1568138},0,"OK",null,null,null,null,null,null,null,4376,43332.429000000004]
[986,528802810.55000001,{"$f":"'Expenditures 15-22'!H102","v":528802810.55000001},0,"OK",null,null,null,null,null,null,null,4380,1523211]
[987,504030,{"$f":"'Expenditures 15-22'!H105","v":504030},0,"OK",null,null,null,null,null,null,null,4382,48301633]
[988,93979,{"$f":"'Expenditures 15-22'!H106","v":93979},0,"OK",null,null,null,null,null,null,null,4385,2458]
[989,0,null,0,"OK",null,null,null,null,null,null,null,4386,134620]
[990,288364,{"$f":"'Expenditures 15-22'!H109","v":288364},0,"OK",null,null,null,null,null,null,null,4387,5]
[991,0,null,0,"OK",null,null,null,null,null,null,null,439,58419339]
[992,7545456,{"$f":"'Expenditures 15-22'!H110","v":7545456},0,"OK",null,null,null,null,null,null,null,44,353955928]
[993,1000514178.66,{"$f":"'Expenditures 15-22'!H114","v":1000514178.6600001},0,"OK",null,null,null,null,null,null,null,440,717426]
[994,0,null,0,"OK",null,null,null,null,null,null,null,47,286148]
[995,0,null,0,"OK",null,null,null,null,null,null,null,4700,4917066]
[996,0,null,0,"OK",null,null,null,null,null,null,null,4731,33328189]
[997,0,null,0,"OK",null,null,null,null,null,null,null,4732,1532900]
[998,0,null,0,"OK",null,null,null,null,null,null,null,4733,6560200]
[999,0,null,0,"OK",null,null,null,null,null,null,null,4734,244764]
[1000,0,null,0,"OK",null,null,null,null,null,null,null,4735,8393]
[1001,0,null,0,"OK",null,null,null,null,null,null,null,4736,13970295]
[1002,0,null,0,"OK",null,null,null,null,null,null,null,4740,2197110]
[1003,0,null,0,"OK",null,null,null,null,null,null,null,4744,16480832]
[1004,0,null,0,"OK",null,null,null,null,null,null,null,4745,5583.4]
[1005,0,null,0,"OK",null,null,null,null,null,null,null,4752,270992]
[1006,0,null,0,"OK",null,null,null,null,null,null,null,4791,29121171]
[1007,0,null,0,"OK",null,null,null,null,null,null,null,4792,226631]
[1008,0,null,0,"OK",null,null,null,null,null,null,null,4794,62836]
[1009,0,null,0,"OK",null,null,null,null,null,null,null,48,2031268272]
[1010,0,null,0,"OK",null,null,null,null,null,null,null,4803,35644]
[1011,0,null,0,"OK",null,null,null,null,null,null,null,4813,5023846]
[1012,0,null,0,"OK",null,null,null,null,null,null,null,4814,647000]
[1013,0,null,0,"OK",null,null,null,null,null,null,null,4817,33000]
[1014,0,null,0,"OK",null,null,null,null,null,null,null,4821,1847135]
[1015,0,null,0,"OK",null,null,null,null,null,null,null,4822,194695]
[1016,0,null,0,"OK",null,null,null,null,null,null,null,4826,124505]
[1017,0,null,0,"OK",null,null,null,null,null,null,null,4854,1500]
[1018,0,null,0,"OK",null,null,null,null,null,null,null,4855,13002]
[1019,0,null,0,"OK",null,null,null,null,null,null,null,4883,535085.82000000007]
[1020,0,null,0,"OK",null,null,null,null,null,null,null,4934,495789400414]
[1021,0,null,0,"OK",null,null,null,null,null,null,null,4935,48455657475.153008]
[1022,0,null,0,"OK",null,null,null,null,null,null,null,4936,21737434113.900002]
[1023,0,null,0,"OK",null,null,null,null,null,null,null,4951,14192473]
[1024,0,null,0,"OK",null,null,null,null,null,null,null,4952,148475419]
[1025,0,null,{"$f":"B1032-C1032","v":0},{"$f":"IF((D1032 = 0),\"OK\",IF((D1032<-5),\"CHECK ME!\",IF((D1032>5),\"Check Me!\",\"OK\")))","v":"OK"},null,null,null,null,null,null,null,4953,971571]
[1026,0,null,0,"OK",null,null,null,null,null,null,null,4961,117798509]
[1027,0,null,0,"OK",null,null,null,null,null,null,null,4962,5562446]
[1028,0,null,0,"OK",null,null,null,null,null,null,null,4963,40378508]
[1029,0,null,0,"OK",null,null,null,null,null,null,null,4965,27652032]
[1030,0,null,0,"OK",null,null,null,null,null,null,null,4966,1636186]
[1031,0,null,0,"OK",null,null,null,null,null,null,null,5000,12531819350.49]
[1032,9302587072.0900002,{"$f":"'Expenditures 15-22'!K5","v":9302587072.0899982},0,"OK",null,null,null,null,null,null,null,5002,494294442.75]
[1033,64611381,{"$f":"'Expenditures 15-22'!K16","v":64611381},0,"OK",null,null,null,null,null,null,null,5004,172573]
[1034,0,null,0,"OK",null,null,null,null,null,null,null,5005,13053938398.24]
[1035,0,null,0,"OK",null,null,null,null,null,null,null,5006,1296094.98]
[1036,0,null,0,"OK",null,null,null,null,null,null,null,5007,547369]
[1037,0,null,0,"OK",null,null,null,null,null,null,null,5008,493272836.45999998]
[1038,0,null,0,"OK",null,null,null,null,null,null,null,5009,10258939]
[1039,470563525.29000002,{"$f":"'Expenditures 15-22'!K18","v":470563525.29000008},0,"OK",null,null,null,null,null,null,null,5010,505375239.44]
[1040,0,null,0,"OK",null,null,null,null,null,null,null,5011,17387807.25]
[1041,0,null,0,"OK",null,null,null,null,null,null,null,5012,4125458.77]
[1042,0,null,0,"OK",null,null,null,null,null,null,null,5013,3181105]
[1043,13200086,{"$f":"'Expenditures 15-22'!K12","v":13200086},0,"OK",null,null,null,null,null,null,null,5014,15675352]
[1044,249057350,{"$f":"'Expenditures 15-22'!K13","v":249057350},0,"OK",null,null,null,null,null,null,null,5015,406380]
[1045,420678809.95999998,{"$f":"'Expenditures 15-22'!K14","v":420678809.95999998},0,"OK",null,null,null,null,null,null,null,5016,641917]
[1046,58119293,{"$f":"'Expenditures 15-22'!K15","v":58119293},0,"OK",null,null,null,null,null,null,null,5017,109331]
[1047,15060244150.949999,{"$f":"'Expenditures 15-22'!K33","v":15060244150.949999},0,"OK",null,null,null,null,null,null,null,5018,184573]
[1048,364444348.75999999,{"$f":"'Expenditures 15-22'!K36","v":364444348.75999999},0,"OK",null,null,null,null,null,null,null,5019,28310]
[1049,411909294,{"$f":"'Expenditures 15-22'!K37","v":411909294},0,"OK",null,null,null,null,null,null,null,5020,3814207]
[1050,231931825.06999999,{"$f":"'Expenditures 15-22'!K38","v":231931825.06999999},0,"OK",null,null,null,null,null,null,null,5021,23435605]
[1051,164978377,{"$f":"'Expenditures 15-22'!K39","v":164978377},0,"OK",null,null,null,null,null,null,null,5022,979455]
[1052,274727631,{"$f":"'Expenditures 15-22'!K40","v":274727631},0,"OK",null,null,null,null,null,null,null,5023,3367476]
[1053,110641293.16,{"$f":"'Expenditures 15-22'!K41","v":110641293.16000001},0,"OK",null,null,null,null,null,null,null,5025,525310]
[1054,1558632768.99,{"$f":"'Expenditures 15-22'!K42","v":1558632768.99},0,"OK",null,null,null,null,null,null,null,5026,74757861.019999996]
[1055,572188020.99000001,{"$f":"'Expenditures 15-22'!K44","v":572188020.99000001},0,"OK",null,null,null,null,null,null,null,5027,184201922.53]
[1056,401242814.36000001,{"$f":"'Expenditures 15-22'!K45","v":401242814.36000001},0,"OK",null,null,null,null,null,null,null,5028,3828546]
[1057,50211929.020000003,{"$f":"'Expenditures 15-22'!K46","v":50211929.020000003},0,"OK",null,null,null,null,null,null,null,5029,188030468.53]
[1058,1023642764.37,{"$f":"'Expenditures 15-22'!K47","v":1023642764.37},0,"OK",null,null,null,null,null,null,null,5030,3005808]
[1059,213315245.02000001,{"$f":"'Expenditures 15-22'!K49","v":213315245.01999998},0,"OK",null,null,null,null,null,null,null,5031,35821123]
[1060,240405273.00999999,{"$f":"'Expenditures 15-22'!K50","v":240405273.00999999},0,"OK",null,null,null,null,null,null,null,5032,8009149]
[1061,579093736.13,{"$f":"'Expenditures 15-22'!K53","v":579093736.13},0,"OK",null,null,null,null,null,null,null,5033,4574024.45]
[1062,1162954459.5700002,{"$f":"'Expenditures 15-22'!K55","v":1162954459.5699999},0,"OK",null,null,null,null,null,null,null,5034,16173369]
[1063,61191520,{"$f":"'Expenditures 15-22'!K56","v":61191520},0,"OK",null,null,null,null,null,null,null,5035,203990529.27000001]
[1064,1224145979.5700002,{"$f":"'Expenditures 15-22'!K57","v":1224145979.5699999},0,"OK",null,null,null,null,null,null,null,5036,22158977.66]
[1065,72800957.930000007,{"$f":"'Expenditures 15-22'!K59","v":72800957.929999992},0,"OK",null,null,null,null,null,null,null,5037,3443734]
[1066,182439281.35999998,{"$f":"'Expenditures 15-22'!K60","v":182439281.35999998},0,"OK",null,null,null,null,null,null,null,5038,69869995]
[1067,233406129.78,{"$f":"'Expenditures 15-22'!K61","v":233406129.78000003},0,"OK",null,null,null,null,null,null,null,5039,5274796]
[1068,137007752.30000001,{"$f":"'Expenditures 15-22'!K62","v":137007752.30000001},0,"OK",null,null,null,null,null,null,null,5040,18703708.920000002]
[1069,781937175.71000004,{"$f":"'Expenditures 15-22'!K63","v":781937175.71000004},0,"OK",null,null,null,null,null,null,null,5041,119451211.58]
[1070,30658429,{"$f":"'Expenditures 15-22'!K64","v":30658429},0,"OK",null,null,null,null,null,null,null,5042,101696669]
[1071,0,null,0,"OK",null,null,null,null,null,null,null,5043,828478]
[1072,1438249726.0799999,{"$f":"'Expenditures 15-22'!K65","v":1438249726.0799999},0,"OK",null,null,null,null,null,null,null,5044,626895]
[1073,16551486,{"$f":"'Expenditures 15-22'!K67","v":16551486},0,"OK",null,null,null,null,null,null,null,5045,2327450]
[1074,29492691,{"$f":"'Expenditures 15-22'!K68","v":29492691},0,"OK",null,null,null,null,null,null,null,5046,1924657]
[1075,62269040.899999999,{"$f":"'Expenditures 15-22'!K69","v":62269040.899999999},0,"OK",null,null,null,null,null,null,null,5047,109731]
[1076,116360448,{"$f":"'Expenditures 15-22'!K70","v":116360448},0,"OK",null,null,null,null,null,null,null,5048,30740]
[1077,0,null,0,"OK",null,null,null,null,null,null,null,5049,888402]
[1078,361923053,{"$f":"'Expenditures 15-22'!K71","v":361923053},0,"OK",null,null,null,null,null,null,null,5050,2465653]
[1079,0,null,0,"OK",null,null,null,null,null,null,null,5051,110898675]
[1080,586596718.89999998,{"$f":"'Expenditures 15-22'!K72","v":586596718.89999998},0,"OK",null,null,null,null,null,null,null,5052,12159872]
[1081,45770087.390000001,{"$f":"'Expenditures 15-22'!K73","v":45770087.390000001},0,"OK",null,null,null,null,null,null,null,5053,22907366.890000001]
[1082,6456131781.4300003,{"$f":"'Expenditures 15-22'!K74","v":6456131781.4300003},0,"OK",null,null,null,null,null,null,null,5054,12048806]
[1083,167249497.76999998,{"$f":"'Expenditures 15-22'!K75","v":167249497.77000001},0,"OK",null,null,null,null,null,null,null,5055,30773615]
[1084,752639020.77999997,{"$f":"'Expenditures 15-22'!K102","v":752639020.77999997},0,"OK",null,null,null,null,null,null,null,5056,1971788]
[1085,504030,{"$f":"'Expenditures 15-22'!K105","v":504030},0,"OK",null,null,null,null,null,null,null,5057,65193454]
[1086,93979,{"$f":"'Expenditures 15-22'!K106","v":93979},0,"OK",null,null,null,null,null,null,null,5058,197387643.22999999]
[1087,0,null,0,"OK",null,null,null,null,null,null,null,5059,498457448.12]
[1088,288364,{"$f":"'Expenditures 15-22'!K109","v":288364},0,"OK",null,null,null,null,null,null,null,5060,14754899831.200001]
[1089,0,null,{"$f":"B1096-C1096","v":0},{"$f":"IF((D1096 = 0),\"OK\",IF((D1096<-5),\"CHECK ME!\",IF((D1096>5),\"Check Me!\",\"OK\")))","v":"OK"},null,null,null,null,null,null,null,5061,8365945]
[1090,7545456,{"$f":"'Expenditures 15-22'!K110","v":7545456},0,"OK",null,null,null,null,null,null,null,5062,1883563]
[1091,22445589789.93,{"$f":"'Expenditures 15-22'!K114","v":22445589789.929996},0,"OK",null,null,null,null,null,null,null,5063,26915]
[1092,881916175.57999992,{"$f":"'Expenditures 15-22'!K115","v":881916175.58000565},-5.7220458984375E-6,"OK",null,null,null,null,null,null,null,5064,10276423]
[1093,0,null,0,"OK",null,null,null,null,null,null,null,5065,5650443892.8299999]
[1094,0,null,0,"OK",null,null,null,null,null,null,null,5066,1598566]
[1095,0,null,0,"OK",null,null,null,null,null,null,null,5071,5658913439.8299999]
[1096,0,null,0,"OK",null,null,null,null,null,null,null,5072,149431399]
[1097,0,null,0,"OK",null,null,null,null,null,null,null,5073,384315]
[1098,0,null,0,"OK",null,null,null,null,null,null,null,5074,843142]
[1099,0,null,0,"OK",null,null,null,null,null,null,null,5076,69171748]
[1100,0,null,0,"OK",null,null,null,null,null,null,null,5078,3646982]
[1101,0,null,0,"OK",null,null,null,null,null,null,null,5081,18346]
[1102,0,null,0,"OK",null,null,null,null,null,null,null,5086,223560681]
[1103,0,null,0,"OK",null,null,null,null,null,null,null,5087,766900]
[1104,0,null,0,"OK",null,null,null,null,null,null,null,5091,15668230]
[1105,0,null,0,"OK",null,null,null,null,null,null,null,5092,69354]
[1106,0,null,0,"OK",null,null,null,null,null,null,null,5100,22504209]
[1107,0,null,0,"OK",null,null,null,null,null,null,null,5102,361289]
[1108,0,null,0,"OK",null,null,null,null,null,null,null,5104,361289]
[1109,0,null,0,"OK",null,null,null,null,null,null,null,5106,10388192.76]
[1110,0,null,0,"OK",null,null,null,null,null,null,null,5107,16895540]
[1111,0,null,0,"OK",null,null,null,null,null,null,null,5110,2825385]
[1112,0,null,0,"OK",null,null,null,null,null,null,null,5114,402586]
[1113,0,null,0,"OK",null,null,null,null,null,null,null,5116,78349724]
[1114,0,null,0,"OK",null,null,null,null,null,null,null,5117,78752310]
[1115,0,null,0,"OK",null,null,null,null,null,null,null,5120,37313]
[1116,0,null,0,"OK",null,null,null,null,null,null,null,5126,6661]
[1117,0,null,0,"OK",null,null,null,null,null,null,null,5133,8195240]
[1118,0,null,0,"OK",null,null,null,null,null,null,null,5135,425590996]
[1119,0,null,0,"OK",null,null,null,null,null,null,null,5153,822694880.75999999]
[1120,0,null,0,"OK",null,null,null,null,null,null,null,5162,6481608320.5900002]
[1121,0,null,0,"OK",null,null,null,null,null,null,null,5163,23838448]
[1122,0,null,0,"OK",null,null,null,null,null,null,null,5164,24373533.82]
[1123,0,null,0,"OK",null,null,null,null,null,null,null,5169,47094105]
[1124,0,null,0,"OK",null,null,null,null,null,null,null,5171,65772047]
[1125,0,null,0,"OK",null,null,null,null,null,null,null,5172,71154]
[1126,0,null,0,"OK",null,null,null,null,null,null,null,5178,425249861.80000001]
[1127,0,null,0,"OK",null,null,null,null,null,null,null,5179,49050770]
[1128,0,null,0,"OK",null,null,null,null,null,null,null,5180,87823162]
[1129,0,null,0,"OK",null,null,null,null,null,null,null,5181,4528479]
[1130,0,null,0,"OK",null,null,null,null,null,null,null,5182,10251545]
[1131,0,null,0,"OK",null,null,null,null,null,null,null,5185,600862257.79999995]
[1132,0,null,0,"OK",null,null,null,null,null,null,null,5186,609244956]
[1133,0,null,0,"OK",null,null,null,null,null,null,null,5187,1179624]
[1134,0,null,0,"OK",null,null,null,null,null,null,null,5194,412709]
[1135,0,null,0,"OK",null,null,null,null,null,null,null,5195,14645765]
[1136,0,null,0,"OK",null,null,null,null,null,null,null,5199,635417392]
[1137,0,null,0,"OK",null,null,null,null,null,null,null,5213,9230343]
[1138,0,null,0,"OK",null,null,null,null,null,null,null,5214,2473159]
[1139,0,null,0,"OK",null,null,null,null,null,null,null,5217,353268987.19]
[1140,0,null,0,"OK",null,null,null,null,null,null,null,5218,47300838.329999998]
[1141,0,null,0,"OK",null,null,null,null,null,null,null,5219,78881]
[1142,0,null,0,"OK",null,null,null,null,null,null,null,5225,412532940.51999998]
[1143,0,null,0,"OK",null,null,null,null,null,null,null,5240,6081218]
[1144,0,null,0,"OK",null,null,null,null,null,null,null,5243,14621356]
[1145,0,null,0,"OK",null,null,null,null,null,null,null,5249,1226784]
[1146,0,null,0,"OK",null,null,null,null,null,null,null,5251,1547885]
[1147,0,null,0,"OK",null,null,null,null,null,null,null,5254,997644]
[1148,0,null,0,"OK",null,null,null,null,null,null,null,5256,465614]
[1149,0,null,0,"OK",null,null,null,null,null,null,null,5259,1990575809.8999999]
[1150,0,null,0,"OK",null,null,null,null,null,null,null,5265,2080721390.72]
[1151,0,null,0,"OK",null,null,null,null,null,null,null,5266,23327505965.509998]
[1152,0,null,0,"OK",null,null,null,null,null,null,null,5267,1556317301.21]
[1153,0,null,{"$f":"B1160-C1160","v":0},{"$f":"IF((D1160 = 0),\"OK\",IF((D1160<-5),\"CHECK ME!\",IF((D1160>5),\"Check Me!\",\"OK\")))","v":"OK"},null,null,null,null,null,null,null,5269,6497152]
[1154,0,null,0,"OK",null,null,null,null,null,null,null,5270,98212]
[1155,0,null,0,"OK",null,null,null,null,null,null,null,5272,2623666]
[1156,0,null,0,"OK",null,null,null,null,null,null,null,5273,1565536331.21]
[1157,0,null,0,"OK",null,null,null,null,null,null,null,5274,213309.45]
[1158,2753479,{"$f":"'Expenditures 15-22'!C122","v":2753479},0,"OK",null,null,null,null,null,null,null,5275,44643]
[1159,1174921,{"$f":"'Expenditures 15-22'!C123","v":1174921},0,"OK",null,null,null,null,null,null,null,5276,98454852]
[1160,607070485.37,{"$f":"'Expenditures 15-22'!C124","v":607070485.37},0,"OK",null,null,null,null,null,null,null,5277,1368360]
[1161,0,null,0,"OK",null,null,null,null,null,null,null,5278,100081164.45]
[1162,611116259.37,{"$f":"'Expenditures 15-22'!C127","v":611116259.37},0,"OK",null,null,null,null,null,null,null,5279,25219471.140000001]
[1163,998442,{"$f":"'Expenditures 15-22'!C128","v":998442},0,"OK",null,null,null,null,null,null,null,5280,330146]
[1164,612250856.37,{"$f":"'Expenditures 15-22'!C129","v":612250856.37},0,"OK",null,null,null,null,null,null,null,5281,25549617.140000001]
[1165,612524386.37,{"$f":"'Expenditures 15-22'!C151","v":612524386.37},0,"OK",null,null,null,null,null,null,null,5282,2800]
[1166,412604,{"$f":"'Expenditures 15-22'!D122","v":412604},0,"OK",null,null,null,null,null,null,null,5283,298995]
[1167,132274,{"$f":"'Expenditures 15-22'!D123","v":132274},0,"OK",null,null,null,null,null,null,null,5284,2190810]
[1168,121271938.31,{"$f":"'Expenditures 15-22'!D124","v":121271938.31},0,"OK",null,null,null,null,null,null,null,5285,6633]
[1169,0,null,0,"OK",null,null,null,null,null,null,null,5286,451565]
[1170,121852134.31,{"$f":"'Expenditures 15-22'!D127","v":121852134.31},0,"OK",null,null,null,null,null,null,null,5287,2950803]
[1171,277959,{"$f":"'Expenditures 15-22'!D128","v":277959},0,"OK",null,null,null,null,null,null,null,5288,31196543]
[1172,122150360.31,{"$f":"'Expenditures 15-22'!D129","v":122150360.31},0,"OK",null,null,null,null,null,null,null,5289,5391511]
[1173,122150362.31,{"$f":"'Expenditures 15-22'!D151","v":122150362.31},0,"OK",null,null,null,null,null,null,null,5290,1061878]
[1174,1690219,{"$f":"'Expenditures 15-22'!E122","v":1690219},0,"OK",null,null,null,null,null,null,null,5291,4050055]
[1175,18050173,{"$f":"'Expenditures 15-22'!E123","v":18050173},0,"OK",null,null,null,null,null,null,null,5292,902150]
[1176,719134356.55999994,{"$f":"'Expenditures 15-22'!E124","v":719134356.55999994},0,"OK",null,null,null,null,null,null,null,5293,29718396]
[1177,0,null,0,"OK",null,null,null,null,null,null,null,5294,94884829]
[1178,738924021.55999994,{"$f":"'Expenditures 15-22'!E127","v":738924021.55999994},0,"OK",null,null,null,null,null,null,null,5295,1789002744.8]
[1179,3517824,{"$f":"'Expenditures 15-22'!E128","v":3517824},0,"OK",null,null,null,null,null,null,null,5296,121265]
[1180,742509126.55999994,{"$f":"'Expenditures 15-22'!E129","v":742509126.55999994},0,"OK",null,null,null,null,null,null,null,5298,389222]
[1181,745124442.55999994,{"$f":"'Expenditures 15-22'!E151","v":745124442.55999994},0,"OK",null,null,null,null,null,null,null,5299,510487]
[1182,49789,{"$f":"'Expenditures 15-22'!F122","v":49789},0,"OK",null,null,null,null,null,null,null,5300,619402609]
[1183,603073,{"$f":"'Expenditures 15-22'!F123","v":603073},0,"OK",null,null,null,null,null,null,null,5306,620244304]
[1184,492765168.10000002,{"$f":"'Expenditures 15-22'!F124","v":492765168.10000002},0,"OK",null,null,null,null,null,null,null,5330,65000]
[1185,0,null,0,"OK",null,null,null,null,null,null,null,5332,10000]
[1186,493522818.10000002,{"$f":"'Expenditures 15-22'!F127","v":493522818.10000002},0,"OK",null,null,null,null,null,null,null,5333,75000]
[1187,52501,{"$f":"'Expenditures 15-22'!F128","v":52501},0,"OK",null,null,null,null,null,null,null,5340,588285]
[1188,493582228.10000002,{"$f":"'Expenditures 15-22'!F129","v":493582228.10000002},0,"OK",null,null,null,null,null,null,null,5351,2584798]
[1189,493601529.10000002,{"$f":"'Expenditures 15-22'!F151","v":493601529.10000002},0,"OK",null,null,null,null,null,null,null,5360,622829102]
[1190,379223,{"$f":"'Expenditures 15-22'!G122","v":379223},0,"OK",null,null,null,null,null,null,null,5361,5989226]
[1191,141117626,{"$f":"'Expenditures 15-22'!G123","v":141117626},0,"OK",null,null,null,null,null,null,null,5362,5989226]
[1192,194590677,{"$f":"'Expenditures 15-22'!G124","v":194590677},0,"OK",null,null,null,null,null,null,null,5364,5583.4]
[1193,461742,{"$f":"'Expenditures 15-22'!G126","v":461742},0,"OK",null,null,null,null,null,null,null,5401,341865]
[1194,0,null,0,"OK",null,null,null,null,null,null,null,5409,341865]
[1195,336550516,{"$f":"'Expenditures 15-22'!G127","v":336550516},0,"OK",null,null,null,null,null,null,null,5440,2889857]
[1196,32331,{"$f":"'Expenditures 15-22'!G128","v":32331},0,"OK",null,null,null,null,null,null,null,5446,8884666.4000000004]
[1197,336597847,{"$f":"'Expenditures 15-22'!G129","v":336597847},0,"OK",null,null,null,null,null,null,null,5447,2421227000.1999998]
[1198,336648964,{"$f":"'Expenditures 15-22'!G151","v":336648964},0,"OK",null,null,null,null,null,null,null,5448,1534413665.21]
[1199,41961,{"$f":"'Expenditures 15-22'!H122","v":41961},0,"OK",null,null,null,null,null,null,null,5451,3444039]
[1200,410984,{"$f":"'Expenditures 15-22'!H123","v":410984},0,"OK",null,null,null,null,null,null,null,5452,1537857704.21]
[1201,5626340.0599999996,{"$f":"'Expenditures 15-22'!H124","v":5626340.0599999996},0,"OK",null,null,null,null,null,null,null,5453,263171.83999999997]
[1202,0,null,0,"OK",null,null,null,null,null,null,null,5454,70657]
[1203,6079497.0599999996,{"$f":"'Expenditures 15-22'!H127","v":6079497.0599999996},0,"OK",null,null,null,null,null,null,null,5455,36627716]
[1204,8881,{"$f":"'Expenditures 15-22'!H128","v":8881},0,"OK",null,null,null,null,null,null,null,5456,581544]
[1205,6088378.0599999996,{"$f":"'Expenditures 15-22'!H129","v":6088378.0599999996},0,"OK",null,null,null,null,null,null,null,5457,37543088.840000004]
[1206,2535227,{"$f":"'Expenditures 15-22'!H139","v":2535227},0,"OK",null,null,null,null,null,null,null,5458,18293645.369999997]
[1207,0,{"$f":"'Expenditures 15-22'!H142","v":0},0,"OK",null,null,null,null,null,null,null,5459,22723065]
[1208,0,{"$f":"'Expenditures 15-22'!H143","v":0},0,"OK",null,null,null,null,null,null,null,5460,41016710.369999997]
[1209,6602,{"$f":"'Expenditures 15-22'!H146","v":6602},0,"OK",null,null,null,null,null,null,null,5461,1820000]
[1210,0,null,0,"OK",null,null,null,null,null,null,null,5462,902331]
[1211,471810,{"$f":"'Expenditures 15-22'!H149","v":471810},0,"OK",null,null,null,null,null,null,null,5463,872981]
[1212,9095415.0600000005,{"$f":"'Expenditures 15-22'!H151","v":9095415.0599999987},0,"OK",null,null,null,null,null,null,null,5464,125318073]
[1213,5341403,{"$f":"'Expenditures 15-22'!K122","v":5341403},0,"OK",null,null,null,null,null,null,null,5465,184743906]
[1214,163637993,{"$f":"'Expenditures 15-22'!K123","v":163637993},0,"OK",null,null,null,null,null,null,null,5466,1801161409.4199998]
[1215,2151365719.3999996,{"$f":"'Expenditures 15-22'!K124","v":2151365719.4000001},0,"OK",null,null,null,null,null,null,null,5467,307841182]
[1216,550725,{"$f":"'Expenditures 15-22'!K126","v":550725},0,"OK",null,null,null,null,null,null,null,5473,307841182]
[1217,0,null,{"$f":"B1224-C1224","v":0},{"$f":"IF((D1224 = 0),\"OK\",IF((D1224<-5),\"CHECK ME!\",IF((D1224>5),\"Check Me!\",\"OK\")))","v":"OK"},null,null,null,null,null,null,null,5476,6560200]
[1218,2321204053.3999996,{"$f":"'Expenditures 15-22'!K127","v":2321204053.4000001},0,"OK",null,null,null,null,null,null,null,5483,314401382]
[1219,4941559,{"$f":"'Expenditures 15-22'!K128","v":4941559},0,"OK",null,null,null,null,null,null,null,5491,2163864424.4200001]
[1220,2326391224.3999996,{"$f":"'Expenditures 15-22'!K129","v":2326391224.4000001},0,"OK",null,null,null,null,null,null,null,5492,576586162.95999992]
[1221,5128059,{"$f":"'Expenditures 15-22'!K139","v":5128059},0,"OK",null,null,null,null,null,null,null,5495,2084860]
[1222,0,{"$f":"'Expenditures 15-22'!K142","v":0},0,"OK",null,null,null,null,null,null,null,5496,578671022.95999992]
[1223,0,{"$f":"'Expenditures 15-22'!K143","v":0},0,"OK",null,null,null,null,null,null,null,5497,85945.96]
[1224,6602,{"$f":"'Expenditures 15-22'!K146","v":6602},0,"OK",null,null,null,null,null,null,null,5498,16015]
[1225,0,null,0,"OK",null,null,null,null,null,null,null,5499,8510339]
[1226,471810,{"$f":"'Expenditures 15-22'!K149","v":471810},0,"OK",null,null,null,null,null,null,null,5500,33632]
[1227,2332357527.3999996,{"$f":"'Expenditures 15-22'!K151","v":2332357527.4000001},0,"OK",null,null,null,null,null,null,null,5501,8645931.9600000009]
[1228,88869472.799999997,{"$f":"'Expenditures 15-22'!K152","v":88869472.800000191},-1.9371509552001953E-7,"OK",null,null,null,null,null,null,null,5502,7064759]
[1229,0,null,0,"OK",null,null,null,null,null,null,null,5503,15713989]
[1230,0,null,0,"OK",null,null,null,null,null,null,null,5504,1514448]
[1231,0,null,0,"OK",null,null,null,null,null,null,null,5505,5432092]
[1232,0,null,0,"OK",null,null,null,null,null,null,null,5506,271078]
[1233,0,null,0,"OK",null,null,null,null,null,null,null,5509,76413]
[1234,0,null,0,"OK",null,null,null,null,null,null,null,5510,17358]
[1235,0,null,0,"OK",null,null,null,null,null,null,null,5511,100]
[1236,0,null,0,"OK",null,null,null,null,null,null,null,5512,27846]
[1237,0,null,0,"OK",null,null,null,null,null,null,null,5513,5026824]
[1238,0,null,0,"OK",null,null,null,null,null,null,null,5514,159020]
[1239,0,null,0,"OK",null,null,null,null,null,null,null,5515,1851]
[1240,0,null,0,"OK",null,null,null,null,null,null,null,5517,26081]
[1241,0,null,0,"OK",null,null,null,null,null,null,null,5518,35371680]
[1242,0,null,0,"OK",null,null,null,null,null,null,null,5519,14710130.07]
[1243,0,null,0,"OK",null,null,null,null,null,null,null,5520,265030]
[1244,0,null,0,"OK",null,null,null,null,null,null,null,5521,14975160.07]
[1245,0,null,0,"OK",null,null,null,null,null,null,null,5522,183839]
[1246,5486523,{"$f":"'Expenditures 15-22'!E171","v":5486523},0,"OK",null,null,null,null,null,null,null,5523,621998]
[1247,5486523,{"$f":"'Expenditures 15-22'!E172","v":5486523},0,"OK",null,null,null,null,null,null,null,5524,1660102]
[1248,5486523,{"$f":"'Expenditures 15-22'!E174","v":5486523},0,"OK",null,null,null,null,null,null,null,5525,4646280]
[1249,14405,{"$f":"'Expenditures 15-22'!H163","v":14405},0,"OK",null,null,null,null,null,null,null,5526,9076089]
[1250,0,{"$f":"'Expenditures 15-22'!H164","v":0},0,"OK",null,null,null,null,null,null,null,5527,646739883.99000001]
[1251,1043044470.7,{"$f":"'Expenditures 15-22'!H169","v":1043044470.7},0,"OK",null,null,null,null,null,null,null,5528,61292]
[1252,541258,{"$f":"'Expenditures 15-22'!H167","v":541258},0,"OK",null,null,null,null,null,null,null,5529,79868]
[1253,2462232,{"$f":"'Expenditures 15-22'!H168","v":2462232},0,"OK",null,null,null,null,null,null,null,5531,141160]
[1254,1592162767,{"$f":"'Expenditures 15-22'!H170","v":1592162767},0,"OK",null,null,null,null,null,null,null,5532,42663969]
[1255,32761132,{"$f":"'Expenditures 15-22'!H171","v":32761132},0,"OK",null,null,null,null,null,null,null,5538,42663969]
[1256,2670430601.6999998,{"$f":"'Expenditures 15-22'!H172","v":2670430601.6999998},0,"OK",null,null,null,null,null,null,null,5539,14331]
[1257,2670536197.6999998,{"$f":"'Expenditures 15-22'!H174","v":2670536197.6999998},0,"OK",null,null,null,null,null,null,null,5541,61611]
[1258,0,null,0,"OK",null,null,null,null,null,null,null,5543,221476]
[1259,0,null,0,"OK",null,null,null,null,null,null,null,5545,4953]
[1260,0,null,0,"OK",null,null,null,null,null,null,null,5553,302371]
[1261,0,null,0,"OK",null,null,null,null,null,null,null,5554,279684858.91999996]
[1262,105596,{"$f":"'Expenditures 15-22'!K160","v":105596},0,"OK",null,null,null,null,null,null,null,5556,345491362.10000002]
[1263,14405,{"$f":"'Expenditures 15-22'!K163","v":14405},0,"OK",null,null,null,null,null,null,null,5557,625180906.01999998]
[1264,0,{"$f":"'Expenditures 15-22'!K164","v":0},0,"OK",null,null,null,null,null,null,null,5564,320]
[1265,1043044470.7,{"$f":"'Expenditures 15-22'!K169","v":1043044470.7},0,"OK",null,null,null,null,null,null,null,5566,6082742]
[1266,541258,{"$f":"'Expenditures 15-22'!K167","v":541258},0,"OK",null,null,null,null,null,null,null,557,1085640613]
[1267,2462232,{"$f":"'Expenditures 15-22'!K168","v":2462232},0,"OK",null,null,null,null,null,null,null,558,47200028]
[1268,1592162767,{"$f":"'Expenditures 15-22'!K170","v":1592162767},0,"OK",null,null,null,null,null,null,null,5583,631811103.01999998]
[1269,38247655,{"$f":"'Expenditures 15-22'!K171","v":38247655},0,"OK",null,null,null,null,null,null,null,559,3800]
[1270,2675917124.6999998,{"$f":"'Expenditures 15-22'!K172","v":2675917124.6999998},0,"OK",null,null,null,null,null,null,null,5592,674475072.01999998]
[1271,2676022720.6999998,{"$f":"'Expenditures 15-22'!K174","v":2676022720.6999998},0,"OK",null,null,null,null,null,null,null,5593,500000]
[1272,-512158296.27999997,{"$f":"'Expenditures 15-22'!K175","v":-512158296.27999997},0,"OK",null,null,null,null,null,null,null,5594,500000]
[1273,0,null,0,"OK",null,null,null,null,null,null,null,5598,41000]
[1274,257607265.81999999,{"$f":"'Expenditures 15-22'!C182","v":257607265.81999999},0,"OK",null,null,null,null,null,null,null,56,1025851]
[1275,0,null,0,"OK",null,null,null,null,null,null,null,5603,831877]
[1276,0,null,0,"OK",null,null,null,null,null,null,null,5612,12740]
[1277,1258187,{"$f":"'Expenditures 15-22'!C183","v":1258187},0,"OK",null,null,null,null,null,null,null,5616,850597]
[1278,261165046.81999999,{"$f":"'Expenditures 15-22'!C184","v":261165046.81999999},0,"OK",null,null,null,null,null,null,null,5630,1394]
[1279,261206795.81999999,{"$f":"'Expenditures 15-22'!C210","v":261206795.81999999},0,"OK",null,null,null,null,null,null,null,5634,89818]
[1280,42825501.960000001,{"$f":"'Expenditures 15-22'!D182","v":42825501.960000001},0,"OK",null,null,null,null,null,null,null,5635,6065]
[1281,0,null,{"$f":"B1288-C1288","v":0},{"$f":"IF((D1288 = 0),\"OK\",IF((D1288<-5),\"CHECK ME!\",IF((D1288>5),\"Check Me!\",\"OK\")))","v":"OK"},null,null,null,null,null,null,null,5642,97277]
[1282,0,null,0,"OK",null,null,null,null,null,null,null,5647,4116]
[1283,318260,{"$f":"'Expenditures 15-22'!D183","v":318260},0,"OK",null,null,null,null,null,null,null,5652,1528565]
[1284,43376331.960000001,{"$f":"'Expenditures 15-22'!D184","v":43376331.960000001},0,"OK",null,null,null,null,null,null,null,5658,2028565]
[1285,43377071.960000001,{"$f":"'Expenditures 15-22'!D210","v":43377071.960000001},0,"OK",null,null,null,null,null,null,null,5659,1323384681.01]
[1286,771207248.57000005,{"$f":"'Expenditures 15-22'!E182","v":771207248.57000005},0,"OK",null,null,null,null,null,null,null,5660,266985769.53]
[1287,0,null,0,"OK",null,null,null,null,null,null,null,5661,1199757]
[1288,0,null,0,"OK",null,null,null,null,null,null,null,5662,301792612.81999999]
[1289,732609,{"$f":"'Expenditures 15-22'!E183","v":732609},0,"OK",null,null,null,null,null,null,null,5663,1465901]
[1290,774220732.57000005,{"$f":"'Expenditures 15-22'!E184","v":774220732.57000005},0,"OK",null,null,null,null,null,null,null,5664,571444040.3499999]
[1291,12920694,{"$f":"'Expenditures 15-22'!E196","v":12920694},0,"OK",null,null,null,null,null,null,null,5665,116243.11]
[1292,787302049.57000005,{"$f":"'Expenditures 15-22'!E210","v":787302049.57000005},0,"OK",null,null,null,null,null,null,null,5666,28681]
[1293,68570493.870000005,{"$f":"'Expenditures 15-22'!F182","v":68570493.870000005},0,"OK",null,null,null,null,null,null,null,5667,52453106.850000001]
[1294,0,null,0,"OK",null,null,null,null,null,null,null,5668,117348]
[1295,0,null,0,"OK",null,null,null,null,null,null,null,5669,52715378.960000001]
[1296,80866,{"$f":"'Expenditures 15-22'!F183","v":80866},0,"OK",null,null,null,null,null,null,null,5670,9283025.5499999989]
[1297,69176770.870000005,{"$f":"'Expenditures 15-22'!F184","v":69176770.870000005},0,"OK",null,null,null,null,null,null,null,5671,206999]
[1298,69179898.870000005,{"$f":"'Expenditures 15-22'!F210","v":69179898.870000005},0,"OK",null,null,null,null,null,null,null,5672,9490024.5499999989]
[1299,67351636,{"$f":"'Expenditures 15-22'!G182","v":67351636},0,"OK",null,null,null,null,null,null,null,5673,16949]
[1300,0,null,0,"OK",null,null,null,null,null,null,null,5674,172385]
[1301,0,null,0,"OK",null,null,null,null,null,null,null,5675,958901]
[1302,0,{"$f":"'Expenditures 15-22'!G183","v":0},0,"OK",null,null,null,null,null,null,null,5676,1683104]
[1303,67723085,{"$f":"'Expenditures 15-22'!G184","v":67723085},0,"OK",null,null,null,null,null,null,null,5681,10326713]
[1304,67723085,{"$f":"'Expenditures 15-22'!G210","v":67723085},0,"OK",null,null,null,null,null,null,null,5687,10359713]
[1305,3149657.04,{"$f":"'Expenditures 15-22'!H182","v":3149657.04},0,"OK",null,null,null,null,null,null,null,5691,3842]
[1306,0,null,0,"OK",null,null,null,null,null,null,null,5702,2974]
[1307,0,null,0,"OK",null,null,null,null,null,null,null,5704,838798]
[1308,5770,{"$f":"'Expenditures 15-22'!H183","v":5770},0,"OK",null,null,null,null,null,null,null,5709,1377007]
[1309,3161809.04,{"$f":"'Expenditures 15-22'!H184","v":3161809.04},0,"OK",null,null,null,null,null,null,null,5717,11736720]
[1310,1876,{"$f":"'Expenditures 15-22'!H199","v":1876},0,"OK",null,null,null,null,null,null,null,5723,270992]
[1311,0,{"$f":"'Expenditures 15-22'!H200","v":0},0,"OK",null,null,null,null,null,null,null,5729,935775]
[1312,176985,{"$f":"'Expenditures 15-22'!H203","v":176985},0,"OK",null,null,null,null,null,null,null,5730,140]
[1313,0,null,0,"OK",null,null,null,null,null,null,null,5737,3590]
[1314,16870528,{"$f":"'Expenditures 15-22'!H208","v":16870528},0,"OK",null,null,null,null,null,null,null,5738,10550]
[1315,21735912.039999999,{"$f":"'Expenditures 15-22'!H210","v":21735912.039999999},0,"OK",null,null,null,null,null,null,null,5742,939742]
[1316,1212191926.26,{"$f":"'Expenditures 15-22'!K182","v":1212191926.26},0,"OK",null,null,null,null,null,null,null,5756,57126]
[1317,0,null,0,"OK",null,null,null,null,null,null,null,5760,991397]
[1318,0,null,0,"OK",null,null,null,null,null,null,null,5768,1048523]
[1319,2395692,{"$f":"'Expenditures 15-22'!K183","v":2395692},0,"OK",null,null,null,null,null,null,null,5783,141]
[1320,1220337601.26,{"$f":"'Expenditures 15-22'!K184","v":1220337601.26},0,"OK",null,null,null,null,null,null,null,5786,141]
[1321,14624269,{"$f":"'Expenditures 15-22'!K196","v":14624269},0,"OK",null,null,null,null,null,null,null,5794,9588]
[1322,1876,{"$f":"'Expenditures 15-22'!K199","v":1876},0,"OK",null,null,null,null,null,null,null,58,558592347]
[1323,0,{"$f":"'Expenditures 15-22'!K200","v":0},0,"OK",null,null,null,null,null,null,null,5802,2229233]
[1324,176985,{"$f":"'Expenditures 15-22'!K203","v":176985},0,"OK",null,null,null,null,null,null,null,5808,2500225]
[1325,0,null,0,"OK",null,null,null,null,null,null,null,5809,649569492.86000001]
[1326,16870528,{"$f":"'Expenditures 15-22'!K208","v":16870528},0,"OK",null,null,null,null,null,null,null,5810,11120377]
[1327,1252038638.26,{"$f":"'Expenditures 15-22'!K210","v":1252038638.26},0,"OK",null,null,null,null,null,null,null,5811,7000]
[1328,71346042.75,{"$f":"'Expenditures 15-22'!K211","v":71346042.75},0,"OK",null,null,null,null,null,null,null,5812,11127377]
[1329,0,null,0,"OK",null,null,null,null,null,null,null,5815,6187848]
[1330,0,null,0,"OK",null,null,null,null,null,null,null,5816,4890221]
[1331,0,null,0,"OK",null,null,null,null,null,null,null,5817,11078069]
[1332,0,null,0,"OK",null,null,null,null,null,null,null,5818,29508700.18]
[1333,0,null,0,"OK",null,null,null,null,null,null,null,5819,15764954]
[1334,0,null,0,"OK",null,null,null,null,null,null,null,5820,45273654.18]
[1335,724191,{"$f":"'Expenditures 15-22'!D225","v":724191},0,"OK",null,null,null,null,null,null,null,5821,9046649]
[1336,0,null,0,"OK",null,null,null,null,null,null,null,5822,1011556]
[1337,0,null,0,"OK",null,null,null,null,null,null,null,5823,748624]
[1338,0,null,0,"OK",null,null,null,null,null,null,null,5824,43967504]
[1339,0,null,0,"OK",null,null,null,null,null,null,null,5825,156185935]
[1340,0,null,0,"OK",null,null,null,null,null,null,null,5826,39073428]
[1341,8228119.2400000002,{"$f":"'Expenditures 15-22'!D227","v":8228119.2400000002},0,"OK",null,null,null,null,null,null,null,5832,39197933]
[1342,0,null,0,"OK",null,null,null,null,null,null,null,5838,17899479]
[1343,0,null,0,"OK",null,null,null,null,null,null,null,5845,57097412]
[1344,0,null,0,"OK",null,null,null,null,null,null,null,5853,1523211]
[1345,709696,{"$f":"'Expenditures 15-22'!D221","v":709696},{"$f":"B1352-C1352","v":0},{"$f":"IF((D1352 = 0),\"OK\",IF((D1352<-5),\"CHECK ME!\",IF((D1352>5),\"Check Me!\",\"OK\")))","v":"OK"},null,null,null,null,null,null,null,5854,282285658.18000001]
[1346,3072399,{"$f":"'Expenditures 15-22'!D222","v":3072399},0,"OK",null,null,null,null,null,null,null,5855,67098363.219999999]
[1347,12256809.300000001,{"$f":"'Expenditures 15-22'!D223","v":12256809.300000001},0,"OK",null,null,null,null,null,null,null,5856,206137]
[1348,1878772,{"$f":"'Expenditures 15-22'!D224","v":1878772},0,"OK",null,null,null,null,null,null,null,5857,67304500.219999999]
[1349,245504120.89999998,{"$f":"'Expenditures 15-22'!D229","v":245504120.90000004},0,"OK",null,null,null,null,null,null,null,5858,15292.75]
[1350,8400268,{"$f":"'Expenditures 15-22'!D232","v":8400268},0,"OK",null,null,null,null,null,null,null,5859,3308]
[1351,6879574,{"$f":"'Expenditures 15-22'!D233","v":6879574},0,"OK",null,null,null,null,null,null,null,5860,2698561]
[1352,17467211,{"$f":"'Expenditures 15-22'!D234","v":17467211},0,"OK",null,null,null,null,null,null,null,5861,5188]
[1353,1955428,{"$f":"'Expenditures 15-22'!D235","v":1955428},0,"OK",null,null,null,null,null,null,null,5862,2722349.75]
[1354,2869223,{"$f":"'Expenditures 15-22'!D236","v":2869223},0,"OK",null,null,null,null,null,null,null,5863,45135616.330000006]
[1355,6796918,{"$f":"'Expenditures 15-22'!D237","v":6796918},0,"OK",null,null,null,null,null,null,null,5864,1302368]
[1356,44368622,{"$f":"'Expenditures 15-22'!D238","v":44368622},0,"OK",null,null,null,null,null,null,null,5865,46437984.330000006]
[1357,8106994.2599999998,{"$f":"'Expenditures 15-22'!D240","v":8106994.2599999998},0,"OK",null,null,null,null,null,null,null,5866,60000]
[1358,16875500.390000001,{"$f":"'Expenditures 15-22'!D241","v":16875500.390000001},0,"OK",null,null,null,null,null,null,null,5868,2630]
[1359,657445,{"$f":"'Expenditures 15-22'!D242","v":657445},0,"OK",null,null,null,null,null,null,null,5869,168505]
[1360,25639939.650000002,{"$f":"'Expenditures 15-22'!D243","v":25639939.649999999},0,"OK",null,null,null,null,null,null,null,5885,116633339.3]
[1361,5886901,{"$f":"'Expenditures 15-22'!D245","v":5886901},0,"OK",null,null,null,null,null,null,null,590,334555301]
[1362,9568386.9499999993,{"$f":"'Expenditures 15-22'!D246","v":9568386.9499999993},0,"OK",null,null,null,null,null,null,null,591,10007002]
[1363,24226362.949999999,{"$f":"'Expenditures 15-22'!D257","v":24226362.949999999},0,"OK",null,null,null,null,null,null,null,5924,54460270.079999998]
[1364,44253054.689999998,{"$f":"'Expenditures 15-22'!D259","v":44253054.689999998},0,"OK",null,null,null,null,null,null,null,5925,451041]
[1365,2151594,{"$f":"'Expenditures 15-22'!D260","v":2151594},0,"OK",null,null,null,null,null,null,null,5926,54911311.079999998]
[1366,46404648.689999998,{"$f":"'Expenditures 15-22'!D261","v":46404648.689999998},0,"OK",null,null,null,null,null,null,null,5927,17548.75]
[1367,4097401,{"$f":"'Expenditures 15-22'!D263","v":4097401},0,"OK",null,null,null,null,null,null,null,5928,2620]
[1368,16867659.789999999,{"$f":"'Expenditures 15-22'!D264","v":16867659.789999999},0,"OK",null,null,null,null,null,null,null,5929,27]
[1369,244106,{"$f":"'Expenditures 15-22'!D265","v":244106},0,"OK",null,null,null,null,null,null,null,5930,39673]
[1370,110501421.71000001,{"$f":"'Expenditures 15-22'!D266","v":110501421.71000001},0,"OK",null,null,null,null,null,null,null,5931,59868.75]
[1371,42297371.469999999,{"$f":"'Expenditures 15-22'!D267","v":42297371.469999999},0,"OK",null,null,null,null,null,null,null,5932,4742369.2300000004]
[1372,21924642.449999999,{"$f":"'Expenditures 15-22'!D268","v":21924642.449999999},0,"OK",null,null,null,null,null,null,null,5933,186888]
[1373,1607942,{"$f":"'Expenditures 15-22'!D269","v":1607942},0,"OK",null,null,null,null,null,null,null,5934,4929257.2300000004]
[1374,0,null,0,"OK",null,null,null,null,null,null,null,5936,5250]
[1375,197540544.41999999,{"$f":"'Expenditures 15-22'!D270","v":197540544.41999999},0,"OK",null,null,null,null,null,null,null,5937,569735]
[1376,501894,{"$f":"'Expenditures 15-22'!D272","v":501894},0,"OK",null,null,null,null,null,null,null,5938,620036]
[1377,1202154,{"$f":"'Expenditures 15-22'!D273","v":1202154},0,"OK",null,null,null,null,null,null,null,5939,678591]
[1378,4018947,{"$f":"'Expenditures 15-22'!D274","v":4018947},0,"OK",null,null,null,null,null,null,null,5945,678591]
[1379,5524543,{"$f":"'Expenditures 15-22'!D275","v":5524543},0,"OK",null,null,null,null,null,null,null,5953,678591]
[1380,0,null,0,"OK",null,null,null,null,null,null,null,5962,61199064.059999995]
[1381,15653662,{"$f":"'Expenditures 15-22'!D276","v":15653662},0,"OK",null,null,null,null,null,null,null,5963,635332547.86000001]
[1382,0,null,0,"OK",null,null,null,null,null,null,null,5964,223665035.18000001]
[1383,26901200,{"$f":"'Expenditures 15-22'!D277","v":26901200},0,"OK",null,null,null,null,null,null,null,5965,116633339.3]
[1384,1250599,{"$f":"'Expenditures 15-22'!D278","v":1250599},0,"OK",null,null,null,null,null,null,null,5967,60520473.059999995]
[1385,366331916.70999998,{"$f":"'Expenditures 15-22'!D279","v":366331916.71000004},0,"OK",null,null,null,null,null,null,null,5970,136407055.81999999]
[1386,6389057.5999999996,{"$f":"'Expenditures 15-22'!D280","v":6389057.5999999996},0,"OK",null,null,null,null,null,null,null,5971,1833094]
[1387,620058189.21000004,{"$f":"'Expenditures 15-22'!D295","v":620058189.21000016},0,"OK",null,null,null,null,null,null,null,5974,53298196.430000007]
[1388,0,{"$f":"'Expenditures 15-22'!H288","v":0},0,"OK",null,null,null,null,null,null,null,6013,1771116.100000002]
[1389,0,{"$f":"'Expenditures 15-22'!H289","v":0},0,"OK",null,null,null,null,null,null,null,6015,8342254]
[1390,7,{"$f":"'Expenditures 15-22'!H292","v":7},0,"OK",null,null,null,null,null,null,null,6016,4590643]
[1391,7,{"$f":"'Expenditures 15-22'!H293","v":7},0,"OK",null,null,null,null,null,null,null,6017,7267344]
[1392,0,null,0,"OK",null,null,null,null,null,null,null,6018,5665553]
[1393,7,{"$f":"'Expenditures 15-22'!H295","v":7},0,"OK",null,null,null,null,null,null,null,6020,89651518]
[1394,0,null,0,"OK",null,null,null,null,null,null,null,6021,12382552]
[1395,0,null,0,"OK",null,null,null,null,null,null,null,6022,1125459]
[1396,0,null,0,"OK",null,null,null,null,null,null,null,6023,3112044]
[1397,0,null,0,"OK",null,null,null,null,null,null,null,6024,451640]
[1398,0,null,0,"OK",null,null,null,null,null,null,null,6025,289737]
[1399,724191,{"$f":"'Expenditures 15-22'!K225","v":724191},0,"OK",null,null,null,null,null,null,null,6026,69167592]
[1400,0,null,0,"OK",null,null,null,null,null,null,null,6027,469761]
[1401,0,null,0,"OK",null,null,null,null,null,null,null,6028,5086]
[1402,0,null,0,"OK",null,null,null,null,null,null,null,6029,556764876]
[1403,0,null,0,"OK",null,null,null,null,null,null,null,6030,5898929]
[1404,0,null,0,"OK",null,null,null,null,null,null,null,6031,68436969]
[1405,8228119.2400000002,{"$f":"'Expenditures 15-22'!K227","v":8228119.2400000002},0,"OK",null,null,null,null,null,null,null,6032,128628711]
[1406,0,null,0,"OK",null,null,null,null,null,null,null,6033,634477]
[1407,0,null,0,"OK",null,null,null,null,null,null,null,6034,19167752]
[1408,0,null,0,"OK",null,null,null,null,null,null,null,6035,20732575]
[1409,709696,{"$f":"'Expenditures 15-22'!K221","v":709696},{"$f":"B1416-C1416","v":0},{"$f":"IF((D1416 = 0),\"OK\",IF((D1416<-5),\"CHECK ME!\",IF((D1416>5),\"Check Me!\",\"OK\")))","v":"OK"},null,null,null,null,null,null,null,6036,1]
[1410,3072399,{"$f":"'Expenditures 15-22'!K222","v":3072399},0,"OK",null,null,null,null,null,null,null,6038,39473714]
[1411,12256809.300000001,{"$f":"'Expenditures 15-22'!K223","v":12256809.300000001},0,"OK",null,null,null,null,null,null,null,6039,4076284]
[1412,1878772,{"$f":"'Expenditures 15-22'!K224","v":1878772},0,"OK",null,null,null,null,null,null,null,6040,1402834]
[1413,245504120.89999998,{"$f":"'Expenditures 15-22'!K229","v":245504120.90000004},0,"OK",null,null,null,null,null,null,null,6041,5544178]
[1414,8400268,{"$f":"'Expenditures 15-22'!K232","v":8400268},0,"OK",null,null,null,null,null,null,null,6042,649572]
[1415,6879574,{"$f":"'Expenditures 15-22'!K233","v":6879574},0,"OK",null,null,null,null,null,null,null,6043,5699479]
[1416,17467211,{"$f":"'Expenditures 15-22'!K234","v":17467211},0,"OK",null,null,null,null,null,null,null,6044,3601857]
[1417,1955428,{"$f":"'Expenditures 15-22'!K235","v":1955428},0,"OK",null,null,null,null,null,null,null,6045,150516]
[1418,2869223,{"$f":"'Expenditures 15-22'!K236","v":2869223},0,"OK",null,null,null,null,null,null,null,6046,131660]
[1419,6796918,{"$f":"'Expenditures 15-22'!K237","v":6796918},0,"OK",null,null,null,null,null,null,null,6047,575953]
[1420,44368622,{"$f":"'Expenditures 15-22'!K238","v":44368622},0,"OK",null,null,null,null,null,null,null,6049,223]
[1421,8106994.2599999998,{"$f":"'Expenditures 15-22'!K240","v":8106994.2599999998},0,"OK",null,null,null,null,null,null,null,6052,22219773]
[1422,16875500.390000001,{"$f":"'Expenditures 15-22'!K241","v":16875500.390000001},0,"OK",null,null,null,null,null,null,null,6053,1550072]
[1423,657445,{"$f":"'Expenditures 15-22'!K242","v":657445},0,"OK",null,null,null,null,null,null,null,6054,8083810]
[1424,25639939.650000002,{"$f":"'Expenditures 15-22'!K243","v":25639939.649999999},0,"OK",null,null,null,null,null,null,null,6055,1247771]
[1425,5886901,{"$f":"'Expenditures 15-22'!K245","v":5886901},0,"OK",null,null,null,null,null,null,null,6056,10950]
[1426,9568386.9499999993,{"$f":"'Expenditures 15-22'!K246","v":9568386.9499999993},0,"OK",null,null,null,null,null,null,null,6057,54770]
[1427,24226362.949999999,{"$f":"'Expenditures 15-22'!K257","v":24226362.949999999},0,"OK",null,null,null,null,null,null,null,6059,2574673]
[1428,44253054.689999998,{"$f":"'Expenditures 15-22'!K259","v":44253054.689999998},0,"OK",null,null,null,null,null,null,null,6062,444]
[1429,2151594,{"$f":"'Expenditures 15-22'!K260","v":2151594},0,"OK",null,null,null,null,null,null,null,6063,350994914]
[1430,46404648.689999998,{"$f":"'Expenditures 15-22'!K261","v":46404648.689999998},0,"OK",null,null,null,null,null,null,null,6064,40602505]
[1431,4097401,{"$f":"'Expenditures 15-22'!K263","v":4097401},0,"OK",null,null,null,null,null,null,null,6065,23889268]
[1432,16867659.789999999,{"$f":"'Expenditures 15-22'!K264","v":16867659.789999999},0,"OK",null,null,null,null,null,null,null,6066,6423924]
[1433,244106,{"$f":"'Expenditures 15-22'!K265","v":244106},0,"OK",null,null,null,null,null,null,null,6067,22292948]
[1434,110501421.71000001,{"$f":"'Expenditures 15-22'!K266","v":110501421.71000001},0,"OK",null,null,null,null,null,null,null,6068,6642032]
[1435,42297371.469999999,{"$f":"'Expenditures 15-22'!K267","v":42297371.469999999},0,"OK",null,null,null,null,null,null,null,6069,18657171]
[1436,21924642.449999999,{"$f":"'Expenditures 15-22'!K268","v":21924642.449999999},0,"OK",null,null,null,null,null,null,null,6070,56740877]
[1437,1607942,{"$f":"'Expenditures 15-22'!K269","v":1607942},0,"OK",null,null,null,null,null,null,null,6071,8808355]
[1438,0,null,0,"OK",null,null,null,null,null,null,null,6072,3953970]
[1439,197540544.41999999,{"$f":"'Expenditures 15-22'!K270","v":197540544.41999999},0,"OK",null,null,null,null,null,null,null,6073,1259887]
[1440,501894,{"$f":"'Expenditures 15-22'!K272","v":501894},0,"OK",null,null,null,null,null,null,null,6074,370375]
[1441,1202154,{"$f":"'Expenditures 15-22'!K273","v":1202154},0,"OK",null,null,null,null,null,null,null,6075,181347]
[1442,4018947,{"$f":"'Expenditures 15-22'!K274","v":4018947},0,"OK",null,null,null,null,null,null,null,6076,136177]
[1443,5524543,{"$f":"'Expenditures 15-22'!K275","v":5524543},0,"OK",null,null,null,null,null,null,null,6077,14609150]
[1444,0,null,0,"OK",null,null,null,null,null,null,null,6079,1470732]
[1445,15653662,{"$f":"'Expenditures 15-22'!K276","v":15653662},0,"OK",null,null,null,null,null,null,null,6081,796661865]
[1446,0,null,0,"OK",null,null,null,null,null,null,null,6082,64068737]
[1447,26901200,{"$f":"'Expenditures 15-22'!K277","v":26901200},0,"OK",null,null,null,null,null,null,null,6083,4885342]
[1448,1250599,{"$f":"'Expenditures 15-22'!K278","v":1250599},0,"OK",null,null,null,null,null,null,null,6084,32454417]
[1449,366331916.70999998,{"$f":"'Expenditures 15-22'!K279","v":366331916.71000004},0,"OK",null,null,null,null,null,null,null,6085,2663617]
[1450,6389057.5999999996,{"$f":"'Expenditures 15-22'!K280","v":6389057.5999999996},0,"OK",null,null,null,null,null,null,null,6086,198506332]
[1451,0,{"$f":"'Expenditures 15-22'!K288","v":0},0,"OK",null,null,null,null,null,null,null,6087,940364]
[1452,0,{"$f":"'Expenditures 15-22'!K289","v":0},0,"OK",null,null,null,null,null,null,null,6088,5913999]
[1453,7,{"$f":"'Expenditures 15-22'!K292","v":7},0,"OK",null,null,null,null,null,null,null,6089,12244005]
[1454,7,{"$f":"'Expenditures 15-22'!K293","v":7},0,"OK",null,null,null,null,null,null,null,6090,13737070]
[1455,0,null,0,"OK",null,null,null,null,null,null,null,6091,430458]
[1456,620058196.21000004,{"$f":"'Expenditures 15-22'!K295","v":620058196.21000016},0,"OK",null,null,null,null,null,null,null,6093,577667]
[1457,29511296.650000002,{"$f":"'Expenditures 15-22'!K296","v":29511296.649999857},1.4528632164001465E-7,"OK",null,null,null,null,null,null,null,6094,192477]
[1458,1950915,{"$f":"'Expenditures 15-22'!C301","v":1950915},0,"OK",null,null,null,null,null,null,null,6095,10214577]
[1459,0,null,0,"OK",null,null,null,null,null,null,null,6096,12202]
[1460,0,null,0,"OK",null,null,null,null,null,null,null,6097,27162]
[1461,0,{"$f":"'Expenditures 15-22'!C302","v":0},0,"OK",null,null,null,null,null,null,null,6098,2356472]
[1462,1950915,{"$f":"'Expenditures 15-22'!C303","v":1950915},0,"OK",null,null,null,null,null,null,null,6099,4769873]
[1463,1950915,{"$f":"'Expenditures 15-22'!C312","v":1950915},0,"OK",null,null,null,null,null,null,null,61,652998745]
[1464,4053694,{"$f":"'Expenditures 15-22'!D301","v":4053694},0,"OK",null,null,null,null,null,null,null,6100,15340]
[1465,0,null,0,"OK",null,null,null,null,null,null,null,6102,187403]
[1466,0,null,0,"OK",null,null,null,null,null,null,null,6104,6104232]
[1467,0,{"$f":"'Expenditures 15-22'!D302","v":0},0,"OK",null,null,null,null,null,null,null,6108,668620884]
[1468,4053694,{"$f":"'Expenditures 15-22'!D303","v":4053694},0,"OK",null,null,null,null,null,null,null,6109,3716857]
[1469,4053694,{"$f":"'Expenditures 15-22'!D312","v":4053694},0,"OK",null,null,null,null,null,null,null,6111,1972232]
[1470,134531689.23000002,{"$f":"'Expenditures 15-22'!E301","v":134531689.23000002},0,"OK",null,null,null,null,null,null,null,6112,5161997]
[1471,0,null,0,"OK",null,null,null,null,null,null,null,6113,15870]
[1472,0,null,0,"OK",null,null,null,null,null,null,null,6115,742492]
[1473,2919487,{"$f":"'Expenditures 15-22'!E302","v":2919487},{"$f":"B1480-C1480","v":0},{"$f":"IF((D1480 = 0),\"OK\",IF((D1480<-5),\"CHECK ME!\",IF((D1480>5),\"Check Me!\",\"OK\")))","v":"OK"},null,null,null,null,null,null,null,6116,20603]
[1474,137451176.23000002,{"$f":"'Expenditures 15-22'!E303","v":137451176.23000002},0,"OK",null,null,null,null,null,null,null,6118,42920]
[1475,137451476.23000002,{"$f":"'Expenditures 15-22'!E312","v":137451476.23000002},0,"OK",null,null,null,null,null,null,null,6119,60843]
[1476,5245587.75,{"$f":"'Expenditures 15-22'!F301","v":5245587.75},0,"OK",null,null,null,null,null,null,null,6120,57235109]
[1477,0,null,0,"OK",null,null,null,null,null,null,null,6121,52373270]
[1478,0,null,0,"OK",null,null,null,null,null,null,null,6124,4659]
[1479,298842,{"$f":"'Expenditures 15-22'!F302","v":298842},0,"OK",null,null,null,null,null,null,null,6126,27083860]
[1480,5544429.75,{"$f":"'Expenditures 15-22'!F303","v":5544429.75},0,"OK",null,null,null,null,null,null,null,6130,122191214]
[1481,5544429.75,{"$f":"'Expenditures 15-22'!F312","v":5544429.75},0,"OK",null,null,null,null,null,null,null,6153,82859569]
[1482,1819086126.8199999,{"$f":"'Expenditures 15-22'!G301","v":1819086126.8199999},0,"OK",null,null,null,null,null,null,null,6154,145944131]
[1483,0,null,0,"OK",null,null,null,null,null,null,null,6155,350994914]
[1484,0,null,0,"OK",null,null,null,null,null,null,null,6156,198857946]
[1485,2195504,{"$f":"'Expenditures 15-22'!G302","v":2195504},0,"OK",null,null,null,null,null,null,null,6157,55760562]
[1486,1821281630.8199999,{"$f":"'Expenditures 15-22'!G303","v":1821281630.8199999},0,"OK",null,null,null,null,null,null,null,6158,93181011]
[1487,1821281630.8199999,{"$f":"'Expenditures 15-22'!G312","v":1821281630.8199999},0,"OK",null,null,null,null,null,null,null,6159,385320201.19]
[1488,36383095,{"$f":"'Expenditures 15-22'!H301","v":36383095},0,"OK",null,null,null,null,null,null,null,6160,5121652]
[1489,0,null,0,"OK",null,null,null,null,null,null,null,6162,390441853.19]
[1490,0,null,0,"OK",null,null,null,null,null,null,null,6163,9680603]
[1491,700382,{"$f":"'Expenditures 15-22'!H302","v":700382},0,"OK",null,null,null,null,null,null,null,6164,400122456.19]
[1492,37083477,{"$f":"'Expenditures 15-22'!H303","v":37083477},0,"OK",null,null,null,null,null,null,null,6166,380409103]
[1493,37717039,{"$f":"'Expenditures 15-22'!H312","v":37717039},0,"OK",null,null,null,null,null,null,null,6167,9680603]
[1494,2009397040.8,{"$f":"'Expenditures 15-22'!K301","v":2009397040.8},0,"OK",null,null,null,null,null,null,null,6168,390089706]
[1495,0,null,0,"OK",null,null,null,null,null,null,null,6169,10032750.189999999]
[1496,0,null,0,"OK",null,null,null,null,null,null,null,6172,664520]
[1497,6124965,{"$f":"'Expenditures 15-22'!K302","v":6124965},0,"OK",null,null,null,null,null,null,null,6173,82110]
[1498,2015522005.8,{"$f":"'Expenditures 15-22'!K303","v":2015522005.8},0,"OK",null,null,null,null,null,null,null,6175,55121]
[1499,2016155867.8,{"$f":"'Expenditures 15-22'!K312","v":2016155867.8},0,"OK",null,null,null,null,null,null,null,6176,27981]
[1500,-1733870209.6199999,{"$f":"'Expenditures 15-22'!K313","v":-1733870209.6199999},0,"OK",null,null,null,null,null,null,null,6177,2345618]
[1501,0,null,0,"OK",null,null,null,null,null,null,null,6178,810864]
[1502,0,null,0,"OK",null,null,null,null,null,null,null,6179,9921016]
[1503,0,null,0,"OK",null,null,null,null,null,null,null,6180,2339864]
[1504,0,null,0,"OK",null,null,null,null,null,null,null,6181,2179147]
[1505,0,null,0,"OK",null,null,null,null,null,null,null,6182,949288]
[1506,0,null,0,"OK",null,null,null,null,null,null,null,6183,335857]
[1507,0,null,0,"OK",null,null,null,null,null,null,null,6184,560764]
[1508,0,null,0,"OK",null,null,null,null,null,null,null,6185,983347]
[1509,0,null,0,"OK",null,null,null,null,null,null,null,6186,1437670]
[1510,0,null,0,"OK",null,null,null,null,null,null,null,6187,4838]
[1511,0,null,0,"OK",null,null,null,null,null,null,null,6188,494211]
[1512,0,null,0,"OK",null,null,null,null,null,null,null,6189,280000]
[1513,0,null,0,"OK",null,null,null,null,null,null,null,6190,20400000]
[1514,0,null,0,"OK",null,null,null,null,null,null,null,6191,1029916]
[1515,0,null,0,"OK",null,null,null,null,null,null,null,6192,14411]
[1516,0,null,0,"OK",null,null,null,null,null,null,null,6197,8350]
[1517,0,null,0,"OK",null,null,null,null,null,null,null,6198,18478227]
[1518,0,null,0,"OK",null,null,null,null,null,null,null,6199,4868422]
[1519,0,null,0,"OK",null,null,null,null,null,null,null,62,1163660705]
[1520,0,null,0,"OK",null,null,null,null,null,null,null,6200,5679286]
[1521,0,null,0,"OK",null,null,null,null,null,null,null,6201,-3333668]
[1522,0,null,0,"OK",null,null,null,null,null,null,null,6202,6699082.1899999995]
[1523,0,null,0,"OK",null,null,null,null,null,null,null,6203,222119291]
[1524,0,null,0,"OK",null,null,null,null,null,null,null,6204,-14673]
[1525,0,null,0,"OK",null,null,null,null,null,null,null,6205,228803700.19000003]
[1526,0,null,0,"OK",null,null,null,null,null,null,null,6224,50793945]
[1527,0,null,0,"OK",null,null,null,null,null,null,null,6225,4418122]
[1528,0,null,0,"OK",null,null,null,null,null,null,null,6226,44525880]
[1529,0,null,0,"OK",null,null,null,null,null,null,null,6227,15083785]
[1530,0,null,0,"OK",null,null,null,null,null,null,null,6228,411872758]
[1531,0,null,0,"OK",null,null,null,null,null,null,null,6229,442300]
[1532,0,null,0,"OK",null,null,null,null,null,null,null,6231,1040855]
[1533,0,null,0,"OK",null,null,null,null,null,null,null,6234,14000000]
[1534,0,null,0,"OK",null,null,null,null,null,null,null,6236,265586]
[1535,0,null,0,"OK",null,null,null,null,null,null,null,6237,375678196.57999998]
[1536,0,null,0,"OK",null,null,null,null,null,null,null,6239,290592]
[1537,0,null,{"$f":"B1544-C1544","v":0},{"$f":"IF((D1544 = 0),\"OK\",IF((D1544<-5),\"CHECK ME!\",IF((D1544>5),\"Check Me!\",\"OK\")))","v":"OK"},null,null,null,null,null,null,null,6240,375968788.57999998]
[1538,0,null,0,"OK",null,null,null,null,null,null,null,6241,117237.5]
[1539,0,null,0,"OK",null,null,null,null,null,null,null,6242,25095]
[1540,0,null,0,"OK",null,null,null,null,null,null,null,6243,2019464]
[1541,0,null,0,"OK",null,null,null,null,null,null,null,6244,22344]
[1542,0,null,0,"OK",null,null,null,null,null,null,null,6245,2184140.5]
[1543,0,null,0,"OK",null,null,null,null,null,null,null,6246,498250]
[1544,0,null,0,"OK",null,null,null,null,null,null,null,6249,101760]
[1545,0,null,0,"OK",null,null,null,null,null,null,null,6250,295564]
[1546,0,null,0,"OK",null,null,null,null,null,null,null,6251,39257]
[1547,0,null,0,"OK",null,null,null,null,null,null,null,6254,564]
[1548,0,null,0,"OK",null,null,null,null,null,null,null,6255,3884726.11]
[1549,0,null,0,"OK",null,null,null,null,null,null,null,6256,121963]
[1550,0,null,0,"OK",null,null,null,null,null,null,null,6257,4006689.11]
[1551,0,null,0,"OK",null,null,null,null,null,null,null,6258,107771]
[1552,0,null,0,"OK",null,null,null,null,null,null,null,6259,1934487]
[1553,0,null,0,"OK",null,null,null,null,null,null,null,6260,2246231]
[1554,0,null,0,"OK",null,null,null,null,null,null,null,6261,533360]
[1555,0,null,0,"OK",null,null,null,null,null,null,null,6263,3384]
[1556,7507102781,{"$f":"'Acct Summary 7-8'!C79","v":7507102781},0,"OK",null,null,null,null,null,null,null,6264,7567494]
[1557,0,null,0,"OK",null,null,null,null,null,null,null,6268,1424232]
[1558,0,null,0,"OK",null,null,null,null,null,null,null,6269,138197191]
[1559,0,null,0,"OK",null,null,null,null,null,null,null,6270,10230092]
[1560,0,null,0,"OK",null,null,null,null,null,null,null,6271,6492504]
[1561,0,null,0,"OK",null,null,null,null,null,null,null,6272,195681]
[1562,0,null,0,"OK",null,null,null,null,null,null,null,6273,223746]
[1563,0,null,0,"OK",null,null,null,null,null,null,null,6274,9338240]
[1564,0,null,0,"OK",null,null,null,null,null,null,null,6275,105875]
[1565,0,null,0,"OK",null,null,null,null,null,null,null,6276,193940]
[1566,0,null,0,"OK",null,null,null,null,null,null,null,6277,45051]
[1567,0,null,0,"OK",null,null,null,null,null,null,null,6278,8587032]
[1568,0,null,0,"OK",null,null,null,null,null,null,null,6279,2379127]
[1569,8172011035.5799999,{"$f":"'Acct Summary 7-8'!C81","v":8172011035.5800056},0,"OK",null,null,null,null,null,null,null,6280,712732]
[1570,1362190051,{"$f":"'Acct Summary 7-8'!D79","v":1362190051},0,"OK",null,null,null,null,null,null,null,6284,230832]
[1571,0,null,0,"OK",null,null,null,null,null,null,null,6288,276887]
[1572,0,null,0,"OK",null,null,null,null,null,null,null,6289,1434640]
[1573,0,null,0,"OK",null,null,null,null,null,null,null,6290,3160583]
[1574,0,null,0,"OK",null,null,null,null,null,null,null,6291,385320201.19]
[1575,0,null,0,"OK",null,null,null,null,null,null,null,6292,5074945]
[1576,0,null,0,"OK",null,null,null,null,null,null,null,6295,17500]
[1577,0,null,0,"OK",null,null,null,null,null,null,null,6296,5092445]
[1578,0,null,0,"OK",null,null,null,null,null,null,null,6297,3660]
[1579,0,null,0,"OK",null,null,null,null,null,null,null,6298,4758389]
[1580,0,null,0,"OK",null,null,null,null,null,null,null,63,2031268272]
[1581,0,null,0,"OK",null,null,null,null,null,null,null,6300,182]
[1582,0,null,0,"OK",null,null,null,null,null,null,null,6301,9319]
[1583,1378269525.8,{"$f":"'Acct Summary 7-8'!D81","v":1378269525.8000002},0,"OK",null,null,null,null,null,null,null,6304,5606]
[1584,1653172007,{"$f":"'Acct Summary 7-8'!E79","v":1653172007},0,"OK",null,null,null,null,null,null,null,6319,523000]
[1585,0,null,0,"OK",null,null,null,null,null,null,null,6327,18504]
[1586,0,null,0,"OK",null,null,null,null,null,null,null,6334,29207]
[1587,0,null,0,"OK",null,null,null,null,null,null,null,6335,29207]
[1588,0,null,0,"OK",null,null,null,null,null,null,null,6336,5121652]
[1589,0,null,0,"OK",null,null,null,null,null,null,null,6340,498064]
[1590,0,null,0,"OK",null,null,null,null,null,null,null,6342,37385]
[1591,0,null,0,"OK",null,null,null,null,null,null,null,6348,37385]
[1592,0,null,0,"OK",null,null,null,null,null,null,null,6353,83258]
[1593,0,null,0,"OK",null,null,null,null,null,null,null,644,6904643475.1399994]
[1594,0,null,0,"OK",null,null,null,null,null,null,null,645,53820331]
[1595,0,null,0,"OK",null,null,null,null,null,null,null,65,448723134]
[1596,0,null,0,"OK",null,null,null,null,null,null,null,651,379622922.05000001]
[1597,1625395265.7199998,{"$f":"'Acct Summary 7-8'!E81","v":1625395265.7200003},0,"OK",null,null,null,null,null,null,null,655,9969762]
[1598,859943832,{"$f":"'Acct Summary 7-8'!F79","v":859943832},0,"OK",null,null,null,null,null,null,null,656,177641448]
[1599,0,null,0,"OK",null,null,null,null,null,null,null,657,302948507]
[1600,0,null,0,"OK",null,null,null,null,null,null,null,658,50807804]
[1601,0,null,{"$f":"B1608-C1608","v":0},{"$f":"IF((D1608 = 0),\"OK\",IF((D1608<-5),\"CHECK ME!\",IF((D1608>5),\"Check Me!\",\"OK\")))","v":"OK"},null,null,null,null,null,null,null,6581,177737]
[1602,0,null,0,"OK",null,null,null,null,null,null,null,659,10394968244.640001]
[1603,0,null,0,"OK",null,null,null,null,null,null,null,660,287792083]
[1604,0,null,0,"OK",null,null,null,null,null,null,null,6605,24992]
[1605,0,null,0,"OK",null,null,null,null,null,null,null,661,325634559]
[1606,0,null,0,"OK",null,null,null,null,null,null,null,662,160219085]
[1607,0,null,0,"OK",null,null,null,null,null,null,null,6629,1102]
[1608,0,null,0,"OK",null,null,null,null,null,null,null,663,131492657]
[1609,0,null,0,"OK",null,null,null,null,null,null,null,664,208237973]
[1610,0,null,0,"OK",null,null,null,null,null,null,null,665,77067140]
[1611,922097431.74999988,{"$f":"'Acct Summary 7-8'!F81","v":922097431.75},0,"OK",null,null,null,null,null,null,null,6652,59777]
[1612,467499740,{"$f":"'Acct Summary 7-8'!G79","v":467499740},0,"OK",null,null,null,null,null,null,null,6653,1465419]
[1613,0,null,0,"OK",null,null,null,null,null,null,null,666,1190443497]
[1614,0,null,0,"OK",null,null,null,null,null,null,null,6660,2205198]
[1615,0,null,0,"OK",null,null,null,null,null,null,null,6661,11352673]
[1616,0,null,0,"OK",null,null,null,null,null,null,null,6664,1167810]
[1617,0,null,0,"OK",null,null,null,null,null,null,null,6666,196488239.13999999]
[1618,0,null,0,"OK",null,null,null,null,null,null,null,667,308340430]
[1619,0,null,0,"OK",null,null,null,null,null,null,null,6670,1983309]
[1620,0,null,0,"OK",null,null,null,null,null,null,null,6676,308704]
[1621,0,null,0,"OK",null,null,null,null,null,null,null,6678,33317580]
[1622,0,null,0,"OK",null,null,null,null,null,null,null,668,223684046.12]
[1623,0,null,0,"OK",null,null,null,null,null,null,null,6681,355401]
[1624,0,null,0,"OK",null,null,null,null,null,null,null,669,16120166]
[1625,497668647.65000004,{"$f":"'Acct Summary 7-8'!G81","v":497668647.64999986},0,"OK",null,null,null,null,null,null,null,670,548144642.12]
[1626,2453580822,{"$f":"'Acct Summary 7-8'!H79","v":2453580822},0,"OK",null,null,null,null,null,null,null,671,31224406]
[1627,0,null,0,"OK",null,null,null,null,null,null,null,672,182329887.63]
[1628,0,null,0,"OK",null,null,null,null,null,null,null,673,291674098.63]
[1629,0,null,0,"OK",null,null,null,null,null,null,null,674,900084890.86000001]
[1630,0,null,0,"OK",null,null,null,null,null,null,null,675,49609445]
[1631,0,null,0,"OK",null,null,null,null,null,null,null,676,949694335.86000001]
[1632,0,null,0,"OK",null,null,null,null,null,null,null,6764,13]
[1633,0,null,0,"OK",null,null,null,null,null,null,null,677,51486713]
[1634,0,null,0,"OK",null,null,null,null,null,null,null,6772,512548]
[1635,0,null,0,"OK",null,null,null,null,null,null,null,6773,2264975]
[1636,0,null,0,"OK",null,null,null,null,null,null,null,6774,48118981]
[1637,0,null,0,"OK",null,null,null,null,null,null,null,6777,1523211]
[1638,0,null,0,"OK",null,null,null,null,null,null,null,678,114752210.97]
[1639,2427400648.3800001,{"$f":"'Acct Summary 7-8'!H81","v":2427400648.3800001},0,"OK",null,null,null,null,null,null,null,6783,48325153]
[1640,0,null,0,"OK",null,null,null,null,null,null,null,6784,15859832]
[1641,0,null,0,"OK",null,null,null,null,null,null,null,6785,5128265]
[1642,0,null,0,"OK",null,null,null,null,null,null,null,6786,151350]
[1643,0,null,0,"OK",null,null,null,null,null,null,null,6787,276663205.69]
[1644,0,null,0,"OK",null,null,null,null,null,null,null,6788,2556083]
[1645,0,null,0,"OK",null,null,null,null,null,null,null,6789,4828989]
[1646,0,null,0,"OK",null,null,null,null,null,null,null,679,89771235.900000006]
[1647,0,null,0,"OK",null,null,null,null,null,null,null,6790,98175]
[1648,0,null,0,"OK",null,null,null,null,null,null,null,6791,112570]
[1649,0,null,0,"OK",null,null,null,null,null,null,null,6792,110305634]
[1650,0,null,0,"OK",null,null,null,null,null,null,null,6793,3363609]
[1651,0,null,0,"OK",null,null,null,null,null,null,null,6794,23604]
[1652,0,null,0,"OK",null,null,null,null,null,null,null,6795,9975]
[1653,0,null,0,"OK",null,null,null,null,null,null,null,6796,2446]
[1654,0,null,0,"OK",null,null,null,null,null,null,null,6797,14521932]
[1655,0,null,0,"OK",null,null,null,null,null,null,null,6798,11361]
[1656,0,null,0,"OK",null,null,null,null,null,null,null,6799,4733]
[1657,0,null,0,"OK",null,null,null,null,null,null,null,68,189814038]
[1658,0,null,0,"OK",null,null,null,null,null,null,null,680,19443764]
[1659,0,null,0,"OK",null,null,null,null,null,null,null,6800,5068779]
[1660,0,null,0,"OK",null,null,null,null,null,null,null,6801,161671]
[1661,0,null,0,"OK",null,null,null,null,null,null,null,6802,2051426]
[1662,0,null,0,"OK",null,null,null,null,null,null,null,6803,22748]
[1663,0,null,0,"OK",null,null,null,null,null,null,null,6804,31327]
[1664,0,null,0,"OK",null,null,null,null,null,null,null,6805,16140]
[1665,0,null,{"$f":"B1672-C1672","v":0},{"$f":"IF((D1672 = 0),\"OK\",IF((D1672<-5),\"CHECK ME!\",IF((D1672>5),\"Check Me!\",\"OK\")))","v":"OK"},null,null,null,null,null,null,null,6806,8603]
[1666,0,null,0,"OK",null,null,null,null,null,null,null,6807,23720]
[1667,0,null,0,"OK",null,null,null,null,null,null,null,6808,18597]
[1668,0,null,0,"OK",null,null,null,null,null,null,null,6809,8025]
[1669,0,null,0,"OK",null,null,null,null,null,null,null,681,221766058.09]
[1670,0,null,0,"OK",null,null,null,null,null,null,null,6810,49054447]
[1671,0,null,0,"OK",null,null,null,null,null,null,null,6811,72001]
[1672,0,null,0,"OK",null,null,null,null,null,null,null,6812,369844]
[1673,0,null,0,"OK",null,null,null,null,null,null,null,6813,34163]
[1674,0,null,0,"OK",null,null,null,null,null,null,null,6814,43736]
[1675,0,null,0,"OK",null,null,null,null,null,null,null,6815,690857]
[1676,0,null,0,"OK",null,null,null,null,null,null,null,6816,690857]
[1677,0,null,0,"OK",null,null,null,null,null,null,null,6817,3431058]
[1678,0,null,0,"OK",null,null,null,null,null,null,null,6818,3431058]
[1679,0,null,0,"OK",null,null,null,null,null,null,null,6819,314685654]
[1680,0,null,0,"OK",null,null,null,null,null,null,null,682,11000508]
[1681,0,null,0,"OK",null,null,null,null,null,null,null,6820,314685654]
[1682,0,null,0,"OK",null,null,null,null,null,null,null,6821,264566]
[1683,12075522537.49,{"$f":"'Tax Sched 23'!B4","v":12075522537.49},0,"OK",null,null,null,null,null,null,null,6822,264566]
[1684,1556929392.21,{"$f":"'Tax Sched 23'!B5","v":1556929392.21},0,"OK",null,null,null,null,null,null,null,6823,894541]
[1685,1517031910.21,{"$f":"'Tax Sched 23'!B6","v":1517031910.21},0,"OK",null,null,null,null,null,null,null,6824,894541]
[1686,576639616.95999992,{"$f":"'Tax Sched 23'!B7","v":576639616.95999992},0,"OK",null,null,null,null,null,null,null,6829,1533615]
[1687,271565231.52999997,{"$f":"'Tax Sched 23'!B8","v":271565231.52999997},0,"OK",null,null,null,null,null,null,null,6830,1533615]
[1688,67082029.219999999,{"$f":"'Tax Sched 23'!B10","v":67082029.219999999},0,"OK",null,null,null,null,null,null,null,6833,1127695]
[1689,0,null,0,"OK",null,null,null,null,null,null,null,6834,1127695]
[1690,11120377,{"$f":"'Tax Sched 23'!B9","v":11120377},0,"OK",null,null,null,null,null,null,null,6835,62952]
[1691,375494790.57999998,{"$f":"'Tax Sched 23'!B11","v":375494790.57999998},0,"OK",null,null,null,null,null,null,null,6836,62952]
[1692,54360956.079999998,{"$f":"'Tax Sched 23'!B12","v":54360956.079999998},0,"OK",null,null,null,null,null,null,null,6837,15991]
[1693,493657578.75,{"$f":"'Tax Sched 23'!B14","v":493657578.75},0,"OK",null,null,null,null,null,null,null,6838,15991]
[1694,0,null,0,"OK",null,null,null,null,null,null,null,6839,1241233]
[1695,0,{"$f":"'Tax Sched 23'!B15","v":0},0,"OK",null,null,null,null,null,null,null,684,508220489.95999998]
[1696,0,null,0,"OK",null,null,null,null,null,null,null,6840,1241233]
[1697,0,null,0,"OK",null,null,null,null,null,null,null,6841,66777517]
[1698,17773447530.849998,{"$f":"'Tax Sched 23'!B19","v":17773447530.849998},null,"OK",null,null,null,null,null,null,null,6842,21629408]
[1699,5528840567.4299994,{"$f":"'Tax Sched 23'!D4","v":5528840567.4299994},{"$f":"B1706-C1706","v":0},"OK",null,null,null,null,null,null,null,6843,316986]
[1700,885893023.17999995,{"$f":"'Tax Sched 23'!D5","v":885893023.18000007},0,"OK",null,null,null,null,null,null,null,6844,372097]
[1701,867094844.06000006,{"$f":"'Tax Sched 23'!D6","v":867094844.05999994},0,"OK",null,null,null,null,null,null,null,6845,179187]
[1702,341067939.42000008,{"$f":"'Tax Sched 23'!D7","v":341067939.4199999},0,"OK",null,null,null,null,null,null,null,6846,765836]
[1703,170639127.25,{"$f":"'Tax Sched 23'!D8","v":170639127.24999994},0,"OK",null,null,null,null,null,null,null,6847,429691]
[1704,45160140.350000009,{"$f":"'Tax Sched 23'!D10","v":45160140.349999994},0,"OK",null,null,null,null,null,null,null,6848,234610]
[1705,0,null,0,"OK",null,null,null,null,null,null,null,6849,2660]
[1706,1722229.48,{"$f":"'Tax Sched 23'!D9","v":1722229.4800000004},0,"OK",null,null,null,null,null,null,null,685,10817918]
[1707,231339534.59,{"$f":"'Tax Sched 23'!D11","v":231339534.58999997},0,"OK",null,null,null,null,null,null,null,6850,165676]
[1708,37834557.270000003,{"$f":"'Tax Sched 23'!D12","v":37834557.269999996},0,"OK",null,null,null,null,null,null,null,6851,116880]
[1709,261823061.73000002,{"$f":"'Tax Sched 23'!D14","v":261823061.73000002},0,"OK",null,null,null,null,null,null,null,6852,223126]
[1710,0,null,0,"OK",null,null,null,null,null,null,null,6853,119353]
[1711,0,{"$f":"'Tax Sched 23'!D15","v":0},0,"OK",null,null,null,null,null,null,null,6854,108709]
[1712,0,null,0,"OK",null,null,null,null,null,null,null,6855,1164757]
[1713,0,null,0,"OK",null,null,null,null,null,null,null,6856,1870054]
[1714,8615415213.0900002,{"$f":"'Tax Sched 23'!D19","v":8615415213.0899982},0,"OK",null,null,null,null,null,null,null,6857,7815207]
[1715,6546681970.0600004,{"$f":"'Tax Sched 23'!C4","v":6546681970.0600004},0,"OK",null,null,null,null,null,null,null,6858,677554]
[1716,671036369.02999997,{"$f":"'Tax Sched 23'!C5","v":671036369.02999997},0,"OK",null,null,null,null,null,null,null,6859,21069866]
[1717,649937066.1500001,{"$f":"'Tax Sched 23'!C6","v":649937066.1500001},0,"OK",null,null,null,null,null,null,null,686,17528878]
[1718,235571677.54000002,{"$f":"'Tax Sched 23'!C7","v":235571677.54000002},0,"OK",null,null,null,null,null,null,null,6860,213767]
[1719,100926104.28000002,{"$f":"'Tax Sched 23'!C8","v":100926104.28000002},0,"OK",null,null,null,null,null,null,null,6861,73640]
[1720,21921888.870000001,{"$f":"'Tax Sched 23'!C10","v":21921888.870000001},0,"OK",null,null,null,null,null,null,null,6862,13924]
[1721,0,null,0,"OK",null,null,null,null,null,null,null,6863,28958713]
[1722,9398147.5199999996,{"$f":"'Tax Sched 23'!C9","v":9398147.5199999996},0,"OK",null,null,null,null,null,null,null,6864,905245]
[1723,144155255.99000001,{"$f":"'Tax Sched 23'!C11","v":144155255.99000001},0,"OK",null,null,null,null,null,null,null,6865,217227]
[1724,16526398.809999999,{"$f":"'Tax Sched 23'!C12","v":16526398.809999999},0,"OK",null,null,null,null,null,null,null,6866,668831]
[1725,231834517.01999998,{"$f":"'Tax Sched 23'!C14","v":231834517.01999998},0,"OK",null,null,null,null,null,null,null,6867,247959]
[1726,0,null,0,"OK",null,null,null,null,null,null,null,6868,253049]
[1727,0,{"$f":"'Tax Sched 23'!C15","v":0},0,"OK",null,null,null,null,null,null,null,6869,360480]
[1728,0,null,0,"OK",null,null,null,null,null,null,null,687,25159711]
[1729,0,null,0,{"$f":"IF((D1736 = 0),\"OK\",IF((D1736<-5),\"CHECK ME!\",IF((D1736>5),\"Check Me!\",\"OK\")))","v":"OK"},null,null,null,null,null,null,null,6870,88196]
[1730,9158032317.7600002,{"$f":"'Tax Sched 23'!C19","v":9158032317.7600002},0,"OK",null,null,null,null,null,null,null,6871,1832316]
[1731,5897234380.1411476,{"$f":"'Tax Sched 23'!F4","v":5897234380.1411467},0,"OK",null,null,null,null,null,null,null,6872,2377795]
[1732,958407538.54055047,{"$f":"'Tax Sched 23'!F5","v":958407538.54055071},0,"OK",null,null,null,null,null,null,null,6873,17969864.100000001]
[1733,915852042.23148251,{"$f":"'Tax Sched 23'!F6","v":915852042.23148227},0,"OK",null,null,null,null,null,null,null,6874,206393]
[1734,367486954.7496686,{"$f":"'Tax Sched 23'!F7","v":367486954.74966854},0,"OK",null,null,null,null,null,null,null,6875,21811]
[1735,167631385.21407509,{"$f":"'Tax Sched 23'!F8","v":167631385.21407503},0,"OK",null,null,null,null,null,null,null,6876,973737]
[1736,47759693.855951011,{"$f":"'Tax Sched 23'!F10","v":47759693.855950996},0,"OK",null,null,null,null,null,null,null,6879,23381916.100000001]
[1737,0,null,0,"OK",null,null,null,null,null,null,null,688,66707893]
[1738,924907.48,{"$f":"'Tax Sched 23'!F9","v":924907.48000000045},0,"OK",null,null,null,null,null,null,null,6881,825666]
[1739,238690843.7368747,{"$f":"'Tax Sched 23'!F11","v":238690843.73687464},0,"OK",null,null,null,null,null,null,null,6882,1010076]
[1740,39954508.915951006,{"$f":"'Tax Sched 23'!F12","v":39954508.915950999},0,"OK",null,null,null,null,null,null,null,6883,3105520]
[1741,-1864483675.6734436,{"$f":"'Tax Sched 23'!F14","v":282342597.3265565},-2146826273,"CHECK ME!","ok",null,null,null,null,null,null,6884,2183744]
[1742,0,null,0,"OK",null,null,null,null,null,null,null,6885,1458]
[1743,10063,{"$f":"'Tax Sched 23'!F15","v":10063},0,"OK",null,null,null,null,null,null,null,6886,6624]
[1744,0,null,0,"OK",null,null,null,null,null,null,null,6887,3106978]
[1745,0,null,0,"OK",null,null,null,null,null,null,null,6888,2190368]
[1746,7011112950.9306774,{"$f":"'Tax Sched 23'!F19","v":9162390801.9306774},-2151277851,{"$f":"IF((D1753 = 0),\"OK\",IF((D1753<-5),\"CHECK ME!\",IF((D1753>5),\"Check Me!\",\"OK\")))","v":"CHECK ME!"},"ok",null,null,null,null,null,null,6889,56358]
[1747,12443916350.201147,{"$f":"'Tax Sched 23'!E4","v":12443916350.201147},0,"OK",null,null,null,null,null,null,null,6890,76148]
[1748,1629443907.5705507,{"$f":"'Tax Sched 23'!E5","v":1629443907.5705507},0,"OK",null,null,null,null,null,null,null,6891,173892]
[1749,1565789108.3814824,{"$f":"'Tax Sched 23'!E6","v":1565789108.3814824},0,"OK",null,null,null,null,null,null,null,6892,400837]
[1750,603058632.28966856,{"$f":"'Tax Sched 23'!E7","v":603058632.28966856},0,"OK",null,null,null,null,null,null,null,6893,2292535]
[1751,268557489.49407506,{"$f":"'Tax Sched 23'!E8","v":268557489.49407506},0,"OK",null,null,null,null,null,null,null,6894,206509]
[1752,69681582.725951001,{"$f":"'Tax Sched 23'!E10","v":69681582.725951001},0,"OK",null,null,null,null,null,null,null,6895,200521]
[1753,0,null,0,"OK",null,null,null,null,null,null,null,6896,265189]
[1754,10323055,{"$f":"'Tax Sched 23'!E9","v":10323055},0,"OK",null,null,null,null,null,null,null,6897,5687756]
[1755,382846099.72687465,{"$f":"'Tax Sched 23'!E11","v":382846099.72687465},0,"OK",null,null,null,null,null,null,null,6898,982249]
[1756,56480907.725951001,{"$f":"'Tax Sched 23'!E12","v":56480907.725951001},0,"OK",null,null,null,null,null,null,null,6899,65136]
[1757,514177114.34655648,{"$f":"'Tax Sched 23'!E14","v":514177114.34655648},0,"OK",null,null,null,null,null,null,null,69,12381853]
[1758,0,null,0,"OK",null,null,null,null,null,null,null,690,109394952]
[1759,10063,{"$f":"'Tax Sched 23'!E15","v":10063},0,"OK",null,null,null,null,null,null,null,6900,8585856]
[1760,0,null,0,"OK",null,null,null,null,null,null,null,6901,1996068]
[1761,0,null,0,"OK",null,null,null,null,null,null,null,6902,61258]
[1762,18320423119.690678,{"$f":"'Tax Sched 23'!E19","v":18320423119.690678},0,"OK",null,null,null,null,null,null,null,6903,72819]
[1763,0,null,{"$f":"B1770-C1770","v":0},"OK",null,null,null,null,null,null,null,6904,30981]
[1764,10200350,{"$f":"'Short-Term Long-Term Debt 24'!C6","v":10200350},0,"OK",null,null,null,null,null,null,null,6905,56551]
[1765,0,{"$f":"'Short-Term Long-Term Debt 24'!C7","v":0},0,"OK",null,null,null,null,null,null,null,6906,2490299]
[1766,0,{"$f":"'Short-Term Long-Term Debt 24'!C12","v":0},0,"OK",null,null,null,null,null,null,null,6907,22533]
[1767,1000000,{"$f":"'Short-Term Long-Term Debt 24'!C11","v":1000000},0,"OK",null,null,null,null,null,null,null,6908,56067]
[1768,0,{"$f":"'Short-Term Long-Term Debt 24'!C8","v":0},0,"OK",null,null,null,null,null,null,null,6909,2344401]
[1769,0,{"$f":"'Short-Term Long-Term Debt 24'!C9","v":0},0,"OK",null,null,null,null,null,null,null,6910,35133947]
[1770,0,{"$f":"'Short-Term Long-Term Debt 24'!C10","v":0},0,"OK",null,null,null,null,null,null,null,6911,128196]
[1771,0,{"$f":"'Short-Term Long-Term Debt 24'!C14","v":0},0,"OK",null,null,null,null,null,null,null,6912,37772552]
[1772,11200350,{"$f":"'Short-Term Long-Term Debt 24'!C15","v":11200350},0,"OK",null,null,null,null,null,null,null,6913,2624500]
[1773,606350050,{"$f":"'Short-Term Long-Term Debt 24'!C17","v":606350050},0,"OK",null,null,null,null,null,null,null,6914,1902422]
[1774,80000,{"$f":"'Short-Term Long-Term Debt 24'!C18","v":80000},0,"OK",null,null,null,null,null,null,null,6915,415284]
[1775,0,{"$f":"'Short-Term Long-Term Debt 24'!C20","v":0},0,"OK",null,null,null,null,null,null,null,6916,82316944]
[1776,606430050,{"$f":"'Short-Term Long-Term Debt 24'!C21","v":606430050},0,"OK",null,null,null,null,null,null,null,6917,11011595]
[1777,0,{"$f":"'Short-Term Long-Term Debt 24'!C23","v":0},0,"OK",null,null,null,null,null,null,null,6918,1261607]
[1778,53325000,{"$f":"'Short-Term Long-Term Debt 24'!D6","v":53325000},0,"OK",null,null,null,null,null,null,null,6919,84369]
[1779,0,{"$f":"'Short-Term Long-Term Debt 24'!D7","v":0},0,"OK",null,null,null,null,null,null,null,692,229609352]
[1780,0,{"$f":"'Short-Term Long-Term Debt 24'!D12","v":0},0,"OK",null,null,null,null,null,null,null,6920,8165325]
[1781,0,{"$f":"'Short-Term Long-Term Debt 24'!D11","v":0},0,"OK",null,null,null,null,null,null,null,6921,8165325]
[1782,0,{"$f":"'Short-Term Long-Term Debt 24'!D8","v":0},0,"OK",null,null,null,null,null,null,null,6922,266839447.44]
[1783,0,{"$f":"'Short-Term Long-Term Debt 24'!D9","v":0},0,"OK",null,null,null,null,null,null,null,6923,266839447.44]
[1784,0,{"$f":"'Short-Term Long-Term Debt 24'!D10","v":0},0,"OK",null,null,null,null,null,null,null,6924,589193]
[1785,0,{"$f":"'Short-Term Long-Term Debt 24'!D14","v":0},0,"OK",null,null,null,null,null,null,null,6925,589193]
[1786,53325000,{"$f":"'Short-Term Long-Term Debt 24'!D15","v":53325000},0,"OK",null,null,null,null,null,null,null,6926,14532728]
[1787,1398855060,{"$f":"'Short-Term Long-Term Debt 24'!D17","v":1398855060},0,"OK",null,null,null,null,null,null,null,6927,14532728]
[1788,100000,{"$f":"'Short-Term Long-Term Debt 24'!D18","v":100000},0,"OK",null,null,null,null,null,null,null,6928,900934]
[1789,0,{"$f":"'Short-Term Long-Term Debt 24'!D20","v":0},0,"OK",null,null,null,null,null,null,null,6929,900934]
[1790,1398955060,{"$f":"'Short-Term Long-Term Debt 24'!D21","v":1398955060},0,"OK",null,null,null,null,null,null,null,693,12762947]
[1791,0,{"$f":"'Short-Term Long-Term Debt 24'!D23","v":0},0,"OK",null,null,null,null,null,null,null,6930,1452569]
[1792,61700350,{"$f":"'Short-Term Long-Term Debt 24'!E6","v":61700350},0,"OK",null,null,null,null,null,null,null,6931,1452569]
[1793,0,{"$f":"'Short-Term Long-Term Debt 24'!E7","v":0},0,{"$f":"IF((D1800 = 0),\"OK\",IF((D1800<-5),\"CHECK ME!\",IF((D1800>5),\"Check Me!\",\"OK\")))","v":"OK"},null,null,null,null,null,null,null,6932,2061645]
[1794,0,{"$f":"'Short-Term Long-Term Debt 24'!E12","v":0},0,"OK",null,null,null,null,null,null,null,6933,2061645]
[1795,1000000,{"$f":"'Short-Term Long-Term Debt 24'!E11","v":1000000},0,"OK",null,null,null,null,null,null,null,6934,294541841.44]
[1796,0,{"$f":"'Short-Term Long-Term Debt 24'!E8","v":0},0,"OK",null,null,null,null,null,null,null,6935,754344]
[1797,0,{"$f":"'Short-Term Long-Term Debt 24'!E9","v":0},0,"OK",null,null,null,null,null,null,null,6936,754344]
[1798,0,{"$f":"'Short-Term Long-Term Debt 24'!E10","v":0},0,"OK",null,null,null,null,null,null,null,6937,1984366.11]
[1799,0,{"$f":"'Short-Term Long-Term Debt 24'!E14","v":0},0,"OK",null,null,null,null,null,null,null,6938,1984366.11]
[1800,62700350,{"$f":"'Short-Term Long-Term Debt 24'!E15","v":62700350},0,"OK",null,null,null,null,null,null,null,694,3730549362.5700002]
[1801,1550905050,{"$f":"'Short-Term Long-Term Debt 24'!E17","v":1550905050},0,"OK",null,null,null,null,null,null,null,6941,523796]
[1802,80000,{"$f":"'Short-Term Long-Term Debt 24'!E18","v":80000},0,"OK",null,null,null,null,null,null,null,6942,523796]
[1803,0,{"$f":"'Short-Term Long-Term Debt 24'!E20","v":0},0,"OK",null,null,null,null,null,null,null,6943,39781]
[1804,1550985050,{"$f":"'Short-Term Long-Term Debt 24'!E21","v":1550985050},0,"OK",null,null,null,null,null,null,null,6944,39781]
[1805,0,{"$f":"'Short-Term Long-Term Debt 24'!E23","v":0},0,"OK",null,null,null,null,null,null,null,6945,58330]
[1806,1825000,{"$f":"'Short-Term Long-Term Debt 24'!F6","v":1825000},0,"OK",null,null,null,null,null,null,null,6946,58330]
[1807,0,{"$f":"'Short-Term Long-Term Debt 24'!F7","v":0},0,"OK",null,null,null,null,null,null,null,6947,613967]
[1808,0,{"$f":"'Short-Term Long-Term Debt 24'!F12","v":0},0,"OK",null,null,null,null,null,null,null,6948,1397209]
[1809,0,{"$f":"'Short-Term Long-Term Debt 24'!F11","v":0},0,"OK",null,null,null,null,null,null,null,6949,2011176]
[1810,0,{"$f":"'Short-Term Long-Term Debt 24'!F8","v":0},0,"OK",null,null,null,null,null,null,null,695,82067312.530000001]
[1811,0,{"$f":"'Short-Term Long-Term Debt 24'!F9","v":0},0,"OK",null,null,null,null,null,null,null,6950,613967]
[1812,0,{"$f":"'Short-Term Long-Term Debt 24'!F10","v":0},0,"OK",null,null,null,null,null,null,null,6951,4757826.1100000003]
[1813,0,{"$f":"'Short-Term Long-Term Debt 24'!F14","v":0},0,"OK",null,null,null,null,null,null,null,6952,5371793.1100000003]
[1814,1825000,{"$f":"'Short-Term Long-Term Debt 24'!F15","v":1825000},0,"OK",null,null,null,null,null,null,null,6953,268983]
[1815,454300060,{"$f":"'Short-Term Long-Term Debt 24'!F17","v":454300060},0,"OK",null,null,null,null,null,null,null,6954,1053650]
[1816,100000,{"$f":"'Short-Term Long-Term Debt 24'!F18","v":100000},0,"OK",null,null,null,null,null,null,null,6955,1779883]
[1817,0,{"$f":"'Short-Term Long-Term Debt 24'!F20","v":0},0,"OK",null,null,null,null,null,null,null,6956,1779883]
[1818,454400060,{"$f":"'Short-Term Long-Term Debt 24'!F21","v":454400060},0,"OK",null,null,null,null,null,null,null,6957,9325339]
[1819,0,{"$f":"'Short-Term Long-Term Debt 24'!F23","v":0},0,"OK",null,null,null,null,null,null,null,6958,9325339]
[1820,0,null,0,"OK",null,null,null,null,null,null,null,6959,150356068]
[1821,0,null,0,"OK",null,null,null,null,null,null,null,696,14207584919.74]
[1822,0,null,0,"OK",null,null,null,null,null,null,null,6960,32725372]
[1823,0,null,0,"OK",null,null,null,null,null,null,null,6963,2377]
[1824,0,null,0,"OK",null,null,null,null,null,null,null,6964,11751]
[1825,0,null,0,"OK",null,null,null,null,null,null,null,6965,2144389]
[1826,0,null,0,"OK",null,null,null,null,null,null,null,6966,4553]
[1827,0,null,{"$f":"B1834-C1834","v":0},"OK",null,null,null,null,null,null,null,6967,10100173]
[1828,0,null,0,"OK",null,null,null,null,null,null,null,6968,806581]
[1829,0,null,0,"OK",null,null,null,null,null,null,null,6971,88983]
[1830,0,null,0,"OK",null,null,null,null,null,null,null,6972,12335922]
[1831,0,null,0,"OK",null,null,null,null,null,null,null,6973,822885]
[1832,0,null,0,"OK",null,null,null,null,null,null,null,6974,53621]
[1833,0,null,0,"OK",null,null,null,null,null,null,null,6976,12389543]
[1834,0,null,0,"OK",null,null,null,null,null,null,null,6977,822885]
[1835,0,null,0,"OK",null,null,null,null,null,null,null,6981,379602503]
[1836,0,null,0,"OK",null,null,null,null,null,null,null,6983,9375241]
[1837,0,null,0,"OK",null,null,null,null,null,null,null,6984,6534822]
[1838,0,null,0,"OK",null,null,null,null,null,null,null,6985,132003]
[1839,0,null,0,"OK",null,null,null,null,null,null,null,6986,6602]
[1840,0,null,0,"OK",null,null,null,null,null,null,null,6987,6602]
[1841,0,null,0,"OK",null,null,null,null,null,null,null,6988,465208]
[1842,0,null,0,"OK",null,null,null,null,null,null,null,6989,465208]
[1843,0,null,0,"OK",null,null,null,null,null,null,null,6990,12389543]
[1844,0,null,0,"OK",null,null,null,null,null,null,null,6991,822885]
[1845,0,null,0,"OK",null,null,null,null,null,null,null,6992,105596]
[1846,0,null,0,"OK",null,null,null,null,null,null,null,6994,390441853.19]
[1847,0,null,0,"OK",null,null,null,null,null,null,null,6996,33702]
[1848,0,null,0,"OK",null,null,null,null,null,null,null,6998,1390095]
[1849,0,null,0,"OK",null,null,null,null,null,null,null,6999,90028]
[1850,0,null,0,"OK",null,null,null,null,null,null,null,70,2092822689]
[1851,0,null,0,"OK",null,null,null,null,null,null,null,7002,1423797]
[1852,0,null,0,"OK",null,null,null,null,null,null,null,7003,90028]
[1853,0,null,0,"OK",null,null,null,null,null,null,null,7006,1239466]
[1854,0,null,0,"OK",null,null,null,null,null,null,null,7007,1239466]
[1855,0,null,0,"OK",null,null,null,null,null,null,null,7008,675167]
[1856,0,null,0,"OK",null,null,null,null,null,null,null,7009,675167]
[1857,0,null,0,{"$f":"IF((D1864 = 0),\"OK\",IF((D1864<-5),\"CHECK ME!\",IF((D1864>5),\"Check Me!\",\"OK\")))","v":"OK"},null,null,null,null,null,null,null,7010,1423797]
[1858,0,null,0,"OK",null,null,null,null,null,null,null,7011,90028]
[1859,0,null,0,"OK",null,null,null,null,null,null,null,7012,5490910.0300000003]
[1860,0,null,0,"OK",null,null,null,null,null,null,null,7013,5490910.0300000003]
[1861,0,null,0,"OK",null,null,null,null,null,null,null,7014,3676885]
[1862,0,null,0,"OK",null,null,null,null,null,null,null,7015,3676885]
[1863,0,null,0,"OK",null,null,null,null,null,null,null,7016,481136]
[1864,0,null,0,"OK",null,null,null,null,null,null,null,7017,481136]
[1865,0,null,0,"OK",null,null,null,null,null,null,null,7018,548282]
[1866,0,null,0,"OK",null,null,null,null,null,null,null,7019,548282]
[1867,0,null,0,"OK",null,null,null,null,null,null,null,702,1836642410.3899999]
[1868,0,null,0,"OK",null,null,null,null,null,null,null,7020,61555]
[1869,0,null,0,"OK",null,null,null,null,null,null,null,7021,61555]
[1870,0,null,0,"OK",null,null,null,null,null,null,null,7022,6034]
[1871,0,null,0,"OK",null,null,null,null,null,null,null,7023,6034]
[1872,0,null,0,"OK",null,null,null,null,null,null,null,7028,580867]
[1873,0,null,0,"OK",null,null,null,null,null,null,null,7029,580867]
[1874,0,null,0,"OK",null,null,null,null,null,null,null,703,9739224]
[1875,0,null,0,"OK",null,null,null,null,null,null,null,7030,71000]
[1876,0,null,0,"OK",null,null,null,null,null,null,null,7031,71000]
[1877,0,null,0,"OK",null,null,null,null,null,null,null,7032,4483809]
[1878,21572357161.900002,{"$f":"'Short-Term Long-Term Debt 24'!E49","v":21572357161.900002},0,"OK",null,null,null,null,null,null,null,7033,4483809]
[1879,2692013966,{"$f":"'Short-Term Long-Term Debt 24'!F49","v":2692013966},0,"OK",null,null,null,null,null,null,null,7036,180934]
[1880,0,null,0,"OK",null,null,null,null,null,null,null,7037,180934]
[1881,0,null,0,"OK",null,null,null,null,null,null,null,7038,8128134]
[1882,0,null,0,"OK",null,null,null,null,null,null,null,7039,17799]
[1883,0,null,0,"OK",null,null,null,null,null,null,null,7040,10750]
[1884,0,null,0,"OK",null,null,null,null,null,null,null,7042,8138884]
[1885,0,null,0,"OK",null,null,null,null,null,null,null,7043,17799]
[1886,0,null,0,"OK",null,null,null,null,null,null,null,7051,300]
[1887,792378,{"$f":"'Rest Tax Levies-Tort Im 25'!G3","v":792378},0,"OK",null,null,null,null,null,null,null,7052,633562]
[1888,0,null,0,"OK",null,null,null,null,null,null,null,7053,300]
[1889,6420,{"$f":"'Rest Tax Levies-Tort Im 25'!G6","v":6420},0,"OK",null,null,null,null,null,null,null,7054,633562]
[1890,0,{"$f":"'Rest Tax Levies-Tort Im 25'!G8","v":0},0,"OK",null,null,null,null,null,null,null,7055,8138884]
[1891,0,{"$f":"'Rest Tax Levies-Tort Im 25'!G9","v":0},{"$f":"B1898-C1898","v":0},"OK",null,null,null,null,null,null,null,7056,17799]
[1892,6420,{"$f":"'Rest Tax Levies-Tort Im 25'!G12","v":6420},0,"OK",null,null,null,null,null,null,null,7057,294994]
[1893,0,{"$f":"'Rest Tax Levies-Tort Im 25'!G11","v":0},0,"OK",null,null,null,null,null,null,null,7058,144434]
[1894,166181,{"$f":"'Rest Tax Levies-Tort Im 25'!G16","v":166181},0,"OK",null,null,null,null,null,null,null,7059,2613742]
[1895,0,null,0,"OK",null,null,null,null,null,null,null,7060,51177]
[1896,166181,{"$f":"'Rest Tax Levies-Tort Im 25'!G23","v":166181},0,"OK",null,null,null,null,null,null,null,7061,58014]
[1897,632617,{"$f":"'Rest Tax Levies-Tort Im 25'!G24","v":632617},0,"OK",null,null,null,null,null,null,null,7065,3162361]
[1898,0,null,0,"OK",null,null,null,null,null,null,null,7066,227082]
[1899,0,null,0,"OK",null,null,null,null,null,null,null,7067,2029309]
[1900,0,null,0,"OK",null,null,null,null,null,null,null,7068,60833004]
[1901,0,null,0,"OK",null,null,null,null,null,null,null,7069,2625]
[1902,0,null,0,"OK",null,null,null,null,null,null,null,7071,1341435]
[1903,0,null,0,"OK",null,null,null,null,null,null,null,7074,64433455]
[1904,0,null,0,"OK",null,null,null,null,null,null,null,7075,650]
[1905,0,null,0,"OK",null,null,null,null,null,null,null,7076,283186]
[1906,0,null,0,"OK",null,null,null,null,null,null,null,7077,3652302]
[1907,0,null,0,"OK",null,null,null,null,null,null,null,7080,26642]
[1908,0,null,0,"OK",null,null,null,null,null,null,null,7082,3145]
[1909,0,null,0,"OK",null,null,null,null,null,null,null,7083,3965925]
[1910,1663776,{"$f":"'Rest Tax Levies-Tort Im 25'!H3","v":1663776},0,"OK",null,null,null,null,null,null,null,7084,118535]
[1911,453613933,{"$f":"'Rest Tax Levies-Tort Im 25'!H5","v":453613933},0,"OK",null,null,null,null,null,null,null,7085,64480]
[1912,6573442,{"$f":"'Rest Tax Levies-Tort Im 25'!H6","v":6573442},0,"OK",null,null,null,null,null,null,null,7086,51578119]
[1913,2422177,{"$f":"'Rest Tax Levies-Tort Im 25'!H10","v":2422177},0,"OK",null,null,null,null,null,null,null,7087,67612]
[1914,0,null,0,"OK",null,null,null,null,null,null,null,7088,52972]
[1915,0,{"$f":"'Rest Tax Levies-Tort Im 25'!H9","v":0},0,"OK",null,null,null,null,null,null,null,7089,312139]
[1916,462609552,{"$f":"'Rest Tax Levies-Tort Im 25'!H12","v":462609552},0,"OK",null,null,null,null,null,null,null,709,79937707.25]
[1917,0,null,0,"OK",null,null,null,null,null,null,null,7092,52193857]
[1918,542236,{"$f":"'Rest Tax Levies-Tort Im 25'!H15","v":542236},0,"OK",null,null,null,null,null,null,null,7093,17032362]
[1919,14722058,{"$f":"'Rest Tax Levies-Tort Im 25'!H22","v":14722058},0,"OK",null,null,null,null,null,null,null,7094,1239960]
[1920,0,null,0,"OK",null,null,null,null,null,null,null,7095,13623237]
[1921,463951155,{"$f":"'Rest Tax Levies-Tort Im 25'!H23","v":463951155},0,{"$f":"IF((D1928 = 0),\"OK\",IF((D1928<-5),\"CHECK ME!\",IF((D1928>5),\"Check Me!\",\"OK\")))","v":"OK"},null,null,null,null,null,null,null,7096,343906]
[1922,322173,{"$f":"'Rest Tax Levies-Tort Im 25'!H24","v":322173},0,"OK",null,null,null,null,null,null,null,7097,1354131]
[1923,0,{"$f":"'Rest Tax Levies-Tort Im 25'!I3","v":0},0,"OK",null,null,null,null,null,null,null,7098,124138]
[1924,0,{"$f":"'Rest Tax Levies-Tort Im 25'!I5","v":0},0,"OK",null,null,null,null,null,null,null,7099,44716]
[1925,0,{"$f":"'Rest Tax Levies-Tort Im 25'!I6","v":0},0,"OK",null,null,null,null,null,null,null,7100,2848]
[1926,0,{"$f":"'Rest Tax Levies-Tort Im 25'!I11","v":0},0,"OK",null,null,null,null,null,null,null,7101,33765298]
[1927,0,{"$f":"'Rest Tax Levies-Tort Im 25'!I10","v":0},0,"OK",null,null,null,null,null,null,null,7102,295244]
[1928,0,null,0,"OK",null,null,null,null,null,null,null,7103,13135]
[1929,0,{"$f":"'Rest Tax Levies-Tort Im 25'!I12","v":0},0,"OK",null,null,null,null,null,null,null,7104,1180231]
[1930,0,null,0,"OK",null,null,null,null,null,null,null,7107,1244377]
[1931,0,{"$f":"'Rest Tax Levies-Tort Im 25'!I15","v":0},0,"OK",null,null,null,null,null,null,null,7110,2732987]
[1932,0,{"$f":"'Rest Tax Levies-Tort Im 25'!I22","v":0},0,"OK",null,null,null,null,null,null,null,7111,127985312]
[1933,0,null,0,"OK",null,null,null,null,null,null,null,7112,24128927]
[1934,0,{"$f":"'Rest Tax Levies-Tort Im 25'!I23","v":0},0,"OK",null,null,null,null,null,null,null,7113,30848584]
[1935,0,{"$f":"'Rest Tax Levies-Tort Im 25'!I24","v":0},0,"OK",null,null,null,null,null,null,null,7114,882883]
[1936,0,null,0,"OK",null,null,null,null,null,null,null,7115,2324805]
[1937,0,null,0,"OK",null,null,null,null,null,null,null,7116,585219]
[1938,0,null,0,"OK",null,null,null,null,null,null,null,7117,174084]
[1939,0,null,0,"OK",null,null,null,null,null,null,null,7118,697985]
[1940,0,null,0,"OK",null,null,null,null,null,null,null,7119,187627799]
[1941,0,null,0,"OK",null,null,null,null,null,null,null,7122,19194]
[1942,0,null,0,"OK",null,null,null,null,null,null,null,7128,19194]
[1943,0,null,0,"OK",null,null,null,null,null,null,null,7129,640938]
[1944,0,null,0,"OK",null,null,null,null,null,null,null,713,1000698]
[1945,0,null,0,"OK",null,null,null,null,null,null,null,7130,104206]
[1946,0,null,0,"OK",null,null,null,null,null,null,null,7131,11865645]
[1947,1282099670,{"$f":"'Cap Outlay Deprec 26'!C5","v":1282099670},0,"OK",null,null,null,null,null,null,null,7132,19178]
[1948,41781790880.309998,{"$f":"'Cap Outlay Deprec 26'!C8","v":41781790880.309998},0,"OK",null,null,null,null,null,null,null,7133,8545]
[1949,2312165134.6700001,{"$f":"'Cap Outlay Deprec 26'!C10","v":2312165134.6700001},0,"OK",null,null,null,null,null,null,null,7134,115677]
[1950,3332685477.0500002,{"$f":"'Cap Outlay Deprec 26'!C12","v":3332685477.0500002},0,"OK",null,null,null,null,null,null,null,7137,12754189]
[1951,967358920,{"$f":"'Cap Outlay Deprec 26'!C13","v":967358920},0,"OK",null,null,null,null,null,null,null,7138,146595117]
[1952,50981826268.029999,{"$f":"'Cap Outlay Deprec 26'!C16","v":50981826268.029999},0,"OK",null,null,null,null,null,null,null,7139,28109116]
[1953,32971017,{"$f":"'Cap Outlay Deprec 26'!D5","v":32971017},0,"OK",null,null,null,null,null,null,null,714,35271981]
[1954,1417249960.5,{"$f":"'Cap Outlay Deprec 26'!D8","v":1417249960.5},0,"OK",null,null,null,null,null,null,null,7140,195051877]
[1955,168587565,{"$f":"'Cap Outlay Deprec 26'!D10","v":168587565},{"$f":"B1962-C1962","v":0},"OK",null,null,null,null,null,null,null,7141,1367381]
[1956,211725169.59,{"$f":"'Cap Outlay Deprec 26'!D12","v":211725169.59},0,"OK",null,null,null,null,null,null,null,7142,3806607]
[1957,79837210.890000001,{"$f":"'Cap Outlay Deprec 26'!D13","v":79837210.890000001},0,"OK",null,null,null,null,null,null,null,7143,3749627]
[1958,3400027898.3299999,{"$f":"'Cap Outlay Deprec 26'!D16","v":3400027898.3299999},0,"OK",null,null,null,null,null,null,null,7144,218800]
[1959,11535483,{"$f":"'Cap Outlay Deprec 26'!E5","v":11535483},0,"OK",null,null,null,null,null,null,null,7145,703978]
[1960,82388548,{"$f":"'Cap Outlay Deprec 26'!E8","v":82388548},0,"OK",null,null,null,null,null,null,null,7146,379602503]
[1961,23381969,{"$f":"'Cap Outlay Deprec 26'!E10","v":23381969},0,"OK",null,null,null,null,null,null,null,715,20147943.100000001]
[1962,103939376.38,{"$f":"'Cap Outlay Deprec 26'!E12","v":103939376.38},0,"OK",null,null,null,null,null,null,null,7155,146595117]
[1963,54407123,{"$f":"'Cap Outlay Deprec 26'!E13","v":54407123},0,"OK",null,null,null,null,null,null,null,7156,28109116]
[1964,1111721464.3800001,{"$f":"'Cap Outlay Deprec 26'!E16","v":1111721464.3800001},0,"OK",null,null,null,null,null,null,null,7157,195051877]
[1965,1303535204,{"$f":"'Cap Outlay Deprec 26'!F5","v":1303535204},0,"OK",null,null,null,null,null,null,null,7158,1367381]
[1966,43116652292.809998,{"$f":"'Cap Outlay Deprec 26'!F8","v":43116652292.809998},0,"OK",null,null,null,null,null,null,null,7159,3806607]
[1967,2457370730.6700001,{"$f":"'Cap Outlay Deprec 26'!F10","v":2457370730.6700001},0,"OK",null,null,null,null,null,null,null,716,1860828]
[1968,3440471270.2600002,{"$f":"'Cap Outlay Deprec 26'!F12","v":3440471270.2600002},0,"OK",null,null,null,null,null,null,null,7160,4556227]
[1969,992789007.88999999,{"$f":"'Cap Outlay Deprec 26'!F13","v":992789007.88999999},0,"OK",null,null,null,null,null,null,null,7161,218800]
[1970,53270132701.980003,{"$f":"'Cap Outlay Deprec 26'!F16","v":53270132701.979996},0,"OK",null,null,null,null,null,null,null,7162,703978]
[1971,0,null,0,"OK",null,null,null,null,null,null,null,7163,380409103]
[1972,16507756232.429998,{"$f":"'Cap Outlay Deprec 26'!H8","v":16507756232.429998},0,"OK",null,null,null,null,null,null,null,7164,10032750.189999999]
[1973,1102719488.1700001,{"$f":"'Cap Outlay Deprec 26'!H10","v":1102719488.1700001},0,"OK",null,null,null,null,null,null,null,7165,1000186]
[1974,2596575179.23,{"$f":"'Cap Outlay Deprec 26'!H12","v":2596575179.23},0,"OK",null,null,null,null,null,null,null,7167,4366]
[1975,743088153,{"$f":"'Cap Outlay Deprec 26'!H13","v":743088153},0,"OK",null,null,null,null,null,null,null,7169,1004552]
[1976,21059336904.830002,{"$f":"'Cap Outlay Deprec 26'!H16","v":21059336904.829998},0,"OK",null,null,null,null,null,null,null,717,2580207624.23]
[1977,0,null,0,"OK",null,null,null,null,null,null,null,7171,13050]
[1978,985564920.50999999,{"$f":"'Cap Outlay Deprec 26'!I8","v":985564920.50999999},0,"OK",null,null,null,null,null,null,null,7173,1017602]
[1979,104570087.77000001,{"$f":"'Cap Outlay Deprec 26'!I10","v":104570087.77000001},0,"OK",null,null,null,null,null,null,null,7179,116910]
[1980,196579976.01000002,{"$f":"'Cap Outlay Deprec 26'!I12","v":196579976.01000002},0,"OK",null,null,null,null,null,null,null,718,58332954]
[1981,71613714.829999998,{"$f":"'Cap Outlay Deprec 26'!I13","v":71613714.829999998},0,"OK",null,null,null,null,null,null,null,7180,116910]
[1982,1367587452.02,{"$f":"'Cap Outlay Deprec 26'!I16","v":1367587452.02},0,"OK",null,null,null,null,null,null,null,7181,313020]
[1983,0,null,0,"OK",null,null,null,null,null,null,null,7182,313020]
[1984,64096496,{"$f":"'Cap Outlay Deprec 26'!J8","v":64096496},0,"OK",null,null,null,null,null,null,null,7183,1017602]
[1985,20977459,{"$f":"'Cap Outlay Deprec 26'!J10","v":20977459},0,{"$f":"IF((D1992 = 0),\"OK\",IF((D1992<-5),\"CHECK ME!\",IF((D1992>5),\"Check Me!\",\"OK\")))","v":"OK"},null,null,null,null,null,null,null,7185,56956014]
[1986,101315694.40000001,{"$f":"'Cap Outlay Deprec 26'!J12","v":101315694.40000001},0,"OK",null,null,null,null,null,null,null,7186,2497592.23]
[1987,54619557,{"$f":"'Cap Outlay Deprec 26'!J13","v":54619557},0,"OK",null,null,null,null,null,null,null,7187,13887991.67]
[1988,249504116.40000001,{"$f":"'Cap Outlay Deprec 26'!J16","v":249504116.40000001},0,"OK",null,null,null,null,null,null,null,7188,1434362.65]
[1989,0,null,0,"OK",null,null,null,null,null,null,null,7189,119391]
[1990,17429224656.939999,{"$f":"'Cap Outlay Deprec 26'!K8","v":17429224656.939999},0,"OK",null,null,null,null,null,null,null,719,66445208]
[1991,1186312116.9400001,{"$f":"'Cap Outlay Deprec 26'!K10","v":1186312116.9400001},0,"OK",null,null,null,null,null,null,null,7190,87000878]
[1992,2691839460.8400002,{"$f":"'Cap Outlay Deprec 26'!K12","v":2691839460.8400002},0,"OK",null,null,null,null,null,null,null,7191,21061745]
[1993,760082310.83000004,{"$f":"'Cap Outlay Deprec 26'!K13","v":760082310.83000004},0,"OK",null,null,null,null,null,null,null,7192,606121]
[1994,22177420240.450001,{"$f":"'Cap Outlay Deprec 26'!K16","v":22177420240.449997},0,"OK",null,null,null,null,null,null,null,7193,1286035]
[1995,1303535204,{"$f":"'Cap Outlay Deprec 26'!L5","v":1303535204},0,"OK",null,null,null,null,null,null,null,7194,71110]
[1996,25687427635.869999,{"$f":"'Cap Outlay Deprec 26'!L8","v":25687427635.869999},0,"OK",null,null,null,null,null,null,null,7195,69000]
[1997,1271058613.73,{"$f":"'Cap Outlay Deprec 26'!L10","v":1271058613.73},0,"OK",null,null,null,null,null,null,null,7196,10547376]
[1998,748631809.42000008,{"$f":"'Cap Outlay Deprec 26'!L12","v":748631809.42000008},0,"OK",null,null,null,null,null,null,null,7197,2512772]
[1999,232706697.05999997,{"$f":"'Cap Outlay Deprec 26'!L13","v":232706697.05999994},0,"OK",null,null,null,null,null,null,null,7198,530196]
[2000,31092712461.529999,{"$f":"'Cap Outlay Deprec 26'!L16","v":31092712461.529999},0,"OK",null,null,null,null,null,null,null,7199,810292]
[2001,0,null,0,"OK",null,null,null,null,null,null,null,720,31788529]
[2002,0,null,0,"OK",null,null,null,null,null,null,null,7200,107128]
[2003,0,null,0,"OK",null,null,null,null,null,null,null,7201,1747]
[2004,0,null,0,"OK",null,null,null,null,null,null,null,7202,38514998]
[2005,0,null,0,"OK",null,null,null,null,null,null,null,7203,6002789]
[2006,0,null,0,"OK",null,null,null,null,null,null,null,7204,2114204]
[2007,0,null,0,"OK",null,null,null,null,null,null,null,7205,1363573]
[2008,0,null,0,"OK",null,null,null,null,null,null,null,7206,947678]
[2009,0,null,0,"OK",null,null,null,null,null,null,null,7207,84583]
[2010,0,null,0,"OK",null,null,null,null,null,null,null,721,24134157]
[2011,0,null,0,"OK",null,null,null,null,null,null,null,722,38987728]
[2012,0,null,0,"OK",null,null,null,null,null,null,null,723,13324352]
[2013,0,null,0,"OK",null,null,null,null,null,null,null,724,233012928]
[2014,0,null,0,"OK",null,null,null,null,null,null,null,725,63420357.050000004]
[2015,0,null,0,"OK",null,null,null,null,null,null,null,726,44343837]
[2016,0,null,0,"OK",null,null,null,null,null,null,null,727,2409186]
[2017,0,null,0,"OK",null,null,null,null,null,null,null,728,110173380.05]
[2018,0,null,0,"OK",null,null,null,null,null,null,null,729,30962015]
[2019,0,null,{"$f":"B2026-C2026","v":0},"OK",null,null,null,null,null,null,null,73,455747781]
[2020,229234160,{"$f":"'Expenditures 15-22'!H84","v":229234160},0,"OK",null,null,null,null,null,null,null,730,36469854.049999997]
[2021,0,null,0,"OK",null,null,null,null,null,null,null,731,86553842.050000012]
[2022,0,null,0,"OK",null,null,null,null,null,null,null,732,213190613.57000002]
[2023,0,null,0,"OK",null,null,null,null,null,null,null,733,10887278]
[2024,0,null,0,"OK",null,null,null,null,null,null,null,734,224077891.57000002]
[2025,0,null,0,"OK",null,null,null,null,null,null,null,735,12498623]
[2026,0,null,0,"OK",null,null,null,null,null,null,null,736,22508486]
[2027,451671736.22999996,{"$f":"'Expenditures 15-22'!K84","v":451671736.22999996},0,"OK",null,null,null,null,null,null,null,737,18348069]
[2028,294541841.44,{"$f":"'Expenditures 15-22'!K92","v":294541841.44},0,"OK",null,null,null,null,null,null,null,738,6326498]
[2029,0,null,0,"OK",null,null,null,null,null,null,null,739,54318184.259999998]
[2030,2535227,{"$f":"'Expenditures 15-22'!H137","v":2535227},0,"OK",null,null,null,null,null,null,null,740,2140311]
[2031,0,{"$f":"'Expenditures 15-22'!H138","v":0},0,"OK",null,null,null,null,null,null,null,742,116140171.26000001]
[2032,5128059,{"$f":"'Expenditures 15-22'!K137","v":5128059},0,"OK",null,null,null,null,null,null,null,743,2196625]
[2033,0,{"$f":"'Expenditures 15-22'!K138","v":0},0,"OK",null,null,null,null,null,null,null,744,3150533]
[2034,0,null,0,"OK",null,null,null,null,null,null,null,745,4699419]
[2035,0,null,0,"OK",null,null,null,null,null,null,null,746,27052773]
[2036,0,null,0,"OK",null,null,null,null,null,null,null,748,18519078]
[2037,0,null,0,"OK",null,null,null,null,null,null,null,750,55618428]
[2038,0,null,0,"OK",null,null,null,null,null,null,null,751,7634056]
[2039,0,null,0,"OK",null,null,null,null,null,null,null,752,833210696.93000007]
[2040,0,null,0,"OK",null,null,null,null,null,null,null,753,14472707.210000001]
[2041,633862,{"$f":"'Expenditures 15-22'!K310","v":633862},0,"OK",null,null,null,null,null,null,null,7530,83258]
[2042,0,null,0,"OK",null,null,null,null,null,null,null,7531,3570]
[2043,0,null,0,"OK",null,null,null,null,null,null,null,7532,1190]
[2044,360451797,{"$f":"'Acct Summary 7-8'!I47","v":360451797},0,"OK",null,null,null,null,null,null,null,7534,4760]
[2045,20678943,{"$f":"'Acct Summary 7-8'!I48","v":20678943},0,"OK",null,null,null,null,null,null,null,7535,78498]
[2046,0,{"$f":"'Rest Tax Levies-Tort Im 25'!H11","v":0},0,"OK",null,null,null,null,null,null,null,7536,32273917]
[2047,0,null,0,"OK",null,null,null,null,null,null,null,7537,1513001]
[2048,0,null,0,"OK",null,null,null,null,null,null,null,7538,34355]
[2049,0,null,0,{"$f":"IF((D2056 = 0),\"OK\",IF((D2056<-5),\"CHECK ME!\",IF((D2056>5),\"Check Me!\",\"OK\")))","v":"OK"},null,null,null,null,null,null,null,7539,33752563]
[2050,0,null,0,"OK",null,null,null,null,null,null,null,754,3427891028.3699999]
[2051,0,null,0,"OK",null,null,null,null,null,null,null,7540,9359926]
[2052,0,null,0,"OK",null,null,null,null,null,null,null,7541,357193]
[2053,0,null,0,"OK",null,null,null,null,null,null,null,7542,2634]
[2054,0,null,0,"OK",null,null,null,null,null,null,null,7543,9714485]
[2055,0,null,0,"OK",null,null,null,null,null,null,null,7544,24038078]
[2056,0,null,0,"OK",null,null,null,null,null,null,null,7545,153958605]
[2057,0,null,0,"OK",null,null,null,null,null,null,null,7546,8940241]
[2058,0,null,0,"OK",null,null,null,null,null,null,null,7548,162898846]
[2059,0,null,0,"OK",null,null,null,null,null,null,null,7549,57615290]
[2060,0,null,0,"OK",null,null,null,null,null,null,null,7550,4523936.9000000004]
[2061,0,null,0,"OK",null,null,null,null,null,null,null,7552,62139226.899999999]
[2062,0,null,0,"OK",null,null,null,null,null,null,null,7553,100759619.09999999]
[2063,0,null,0,"OK",null,null,null,null,null,null,null,7554,50041411]
[2064,0,null,0,"OK",null,null,null,null,null,null,null,7555,4375276]
[2065,0,null,0,"OK",null,null,null,null,null,null,null,7556,8824692]
[2066,0,null,0,"OK",null,null,null,null,null,null,null,7557,45591995]
[2067,0,null,0,"OK",null,null,null,null,null,null,null,7558,42219066]
[2068,0,null,0,"OK",null,null,null,null,null,null,null,7559,4376433]
[2069,0,null,0,"OK",null,null,null,null,null,null,null,7560,8492276]
[2070,0,null,0,"OK",null,null,null,null,null,null,null,7561,38103223]
[2071,0,null,0,"OK",null,null,null,null,null,null,null,7562,7488772]
[2072,0,null,0,"OK",null,null,null,null,null,null,null,7563,173544694]
[2073,0,null,0,"OK",null,null,null,null,null,null,null,7564,17354469.400000006]
[2074,0,null,0,"OK",null,null,null,null,null,null,null,7570,1384941921.4199996]
[2075,0,null,0,"OK",null,null,null,null,null,null,null,7575,30852]
[2076,0,null,0,"OK",null,null,null,null,null,null,null,7576,1640763]
[2077,0,null,0,"OK",null,null,null,null,null,null,null,7590,519015]
[2078,0,null,0,"OK",null,null,null,null,null,null,null,7593,8411284]
[2079,0,null,0,"OK",null,null,null,null,null,null,null,7594,1933794]
[2080,0,null,0,"OK",null,null,null,null,null,null,null,7595,111933]
[2081,0,null,0,"OK",null,null,null,null,null,null,null,7596,20275333]
[2082,0,null,0,"OK",null,null,null,null,null,null,null,7597,4472277]
[2083,0,null,{"$f":"B2090-C2090","v":0},"OK",null,null,null,null,null,null,null,7598,630282]
[2084,0,null,0,"OK",null,null,null,null,null,null,null,7599,108546]
[2085,0,null,0,"OK",null,null,null,null,null,null,null,760,126237636.56]
[2086,0,null,0,"OK",null,null,null,null,null,null,null,7602,425347]
[2087,0,null,0,"OK",null,null,null,null,null,null,null,7603,464224]
[2088,0,null,0,"OK",null,null,null,null,null,null,null,7604,18067]
[2089,0,null,0,"OK",null,null,null,null,null,null,null,7605,885616]
[2090,0,null,0,"OK",null,null,null,null,null,null,null,7606,653295]
[2091,0,null,0,"OK",null,null,null,null,null,null,null,7607,17118]
[2092,0,null,0,"OK",null,null,null,null,null,null,null,7608,820000]
[2093,0,null,0,"OK",null,null,null,null,null,null,null,7609,70000]
[2094,0,null,0,"OK",null,null,null,null,null,null,null,761,563433]
[2095,0,null,0,"OK",null,null,null,null,null,null,null,7610,2801120]
[2096,0,null,0,"OK",null,null,null,null,null,null,null,7611,3770586]
[2097,0,null,0,"OK",null,null,null,null,null,null,null,7612,11789305]
[2098,0,null,0,"OK",null,null,null,null,null,null,null,7613,22853852]
[2099,0,null,0,"OK",null,null,null,null,null,null,null,7614,887375]
[2100,0,null,0,"OK",null,null,null,null,null,null,null,7615,371800]
[2101,0,null,0,"OK",null,null,null,null,null,null,null,7616,463920]
[2102,0,null,0,"OK",null,null,null,null,null,null,null,7617,2369829]
[2103,0,null,0,"OK",null,null,null,null,null,null,null,7618,3042976]
[2104,0,null,0,"OK",null,null,null,null,null,null,null,7619,7448836]
[2105,0,null,0,"OK",null,null,null,null,null,null,null,7622,32407815]
[2106,0,null,0,"OK",null,null,null,null,null,null,null,7623,3392915]
[2107,0,null,0,"OK",null,null,null,null,null,null,null,7624,87653246]
[2108,0,null,0,"OK",null,null,null,null,null,null,null,7625,267738782]
[2109,0,null,0,"OK",null,null,null,null,null,null,null,7626,4448512]
[2110,0,null,0,"OK",null,null,null,null,null,null,null,7628,101479]
[2111,0,null,0,"OK",null,null,null,null,null,null,null,7629,17680376]
[2112,0,null,0,"OK",null,null,null,null,null,null,null,7631,8140]
[2113,0,null,0,{"$f":"IF((D2120 = 0),\"OK\",IF((D2120<-5),\"CHECK ME!\",IF((D2120>5),\"Check Me!\",\"OK\")))","v":"OK"},null,null,null,null,null,null,null,7635,17789995]
[2114,0,null,0,"OK",null,null,null,null,null,null,null,7638,1157443]
[2115,0,null,0,"OK",null,null,null,null,null,null,null,7644,1157443]
[2116,0,null,0,"OK",null,null,null,null,null,null,null,7645,892508]
[2117,0,null,0,"OK",null,null,null,null,null,null,null,7646,174794]
[2118,0,null,0,"OK",null,null,null,null,null,null,null,7647,61220525]
[2119,0,null,0,"OK",null,null,null,null,null,null,null,7648,4953186]
[2120,0,null,0,"OK",null,null,null,null,null,null,null,7649,607024.47]
[2121,0,null,0,"OK",null,null,null,null,null,null,null,7650,140271]
[2122,0,null,0,"OK",null,null,null,null,null,null,null,7651,7647179]
[2123,0,null,0,"OK",null,null,null,null,null,null,null,7652,111588421.7]
[2124,0,null,0,"OK",null,null,null,null,null,null,null,7653,14389894]
[2125,0,null,0,"OK",null,null,null,null,null,null,null,7654,3373025]
[2126,0,null,0,"OK",null,null,null,null,null,null,null,7655,370087]
[2127,0,null,0,"OK",null,null,null,null,null,null,null,7656,20143387]
[2128,0,null,0,"OK",null,null,null,null,null,null,null,7657,135711858.17000002]
[2129,0,null,0,"OK",null,null,null,null,null,null,null,7658,22547431]
[2130,0,null,0,"OK",null,null,null,null,null,null,null,7659,448686861]
[2131,0,null,0,"OK",null,null,null,null,null,null,null,7660,21467961]
[2132,0,null,0,"OK",null,null,null,null,null,null,null,7661,62063969.879999995]
[2133,0,null,0,"OK",null,null,null,null,null,null,null,7662,205626]
[2134,0,null,0,"OK",null,null,null,null,null,null,null,7663,25157069]
[2135,0,null,0,"OK",null,null,null,null,null,null,null,7664,51169199]
[2136,0,null,0,"OK",null,null,null,null,null,null,null,7665,139281]
[2137,0,null,0,"OK",null,null,null,null,null,null,null,7666,76465549]
[2138,0,null,0,"OK",null,null,null,null,null,null,null,7667,42269835]
[2139,0,null,0,"OK",null,null,null,null,null,null,null,7668,447498]
[2140,0,null,0,"OK",null,null,null,null,null,null,null,7669,139612977.88]
[2141,0,null,0,"OK",null,null,null,null,null,null,null,767,2593720.41]
[2142,0,null,0,"OK",null,null,null,null,null,null,null,7670,82634273]
[2143,0,null,0,"OK",null,null,null,null,null,null,null,7671,57319405.289999999]
[2144,0,null,0,"OK",null,null,null,null,null,null,null,7672,5379532]
[2145,0,null,0,"OK",null,null,null,null,null,null,null,7673,177686]
[2146,0,null,0,"OK",null,null,null,null,null,null,null,7674,54806]
[2147,0,null,{"$f":"B2154-C2154","v":0},"OK",null,null,null,null,null,null,null,7676,37699212]
[2148,0,null,0,"OK",null,null,null,null,null,null,null,7677,231810]
[2149,0,null,0,"OK",null,null,null,null,null,null,null,7678,454931]
[2150,0,null,0,"OK",null,null,null,null,null,null,null,7679,267367]
[2151,0,null,0,"OK",null,null,null,null,null,null,null,7681,19620193.289999999]
[2152,0,null,0,"OK",null,null,null,null,null,null,null,7682,5147722]
[2153,0,null,0,"OK",null,null,null,null,null,null,null,7684,196110]
[2154,0,null,0,"OK",null,null,null,null,null,null,null,7685,196110]
[2155,0,null,0,"OK",null,null,null,null,null,null,null,7686,48118981]
[2156,0,null,0,"OK",null,null,null,null,null,null,null,7687,48227005]
[2157,0,null,0,"OK",null,null,null,null,null,null,null,7688,158953848]
[2158,0,null,0,"OK",null,null,null,null,null,null,null,7689,4082213]
[2159,0,null,0,"OK",null,null,null,null,null,null,null,7690,10639900]
[2160,0,null,0,"OK",null,null,null,null,null,null,null,7691,155000]
[2161,0,null,0,"OK",null,null,null,null,null,null,null,7692,128248065]
[2162,0,null,0,"OK",null,null,null,null,null,null,null,7693,1515886]
[2163,0,null,0,"OK",null,null,null,null,null,null,null,7694,1128845]
[2164,0,null,0,"OK",null,null,null,null,null,null,null,7697,46360541.000000015]
[2165,0,null,0,"OK",null,null,null,null,null,null,null,7698,88693882.829999998]
[2166,0,null,0,"OK",null,null,null,null,null,null,null,7699,135054423.83000001]
[2167,0,null,0,"OK",null,null,null,null,null,null,null,7701,748312161]
[2168,0,null,0,"OK",null,null,null,null,null,null,null,7702,748312161]
[2169,0,null,0,"OK",null,null,null,null,null,null,null,7704,12805243]
[2170,0,null,0,"OK",null,null,null,null,null,null,null,7707,26232]
[2171,0,null,0,"OK",null,null,null,null,null,null,null,7708,38951]
[2172,0,null,0,"OK",null,null,null,null,null,null,null,771,1715126]
[2173,0,null,0,"OK",null,null,null,null,null,null,null,7712,1083459]
[2174,0,null,0,"OK",null,null,null,null,null,null,null,7713,510000]
[2175,0,null,0,"OK",null,null,null,null,null,null,null,7714,17645]
[2176,0,null,0,"OK",null,null,null,null,null,null,null,7715,527645]
[2177,0,null,0,{"$f":"IF((D2184 = 0),\"OK\",IF((D2184<-5),\"CHECK ME!\",IF((D2184>5),\"Check Me!\",\"OK\")))","v":"OK"},null,null,null,null,null,null,null,7716,99410]
[2178,0,null,0,"OK",null,null,null,null,null,null,null,7717,99410]
[2179,0,null,0,"OK",null,null,null,null,null,null,null,772,7596291]
[2180,0,null,0,"OK",null,null,null,null,null,null,null,7720,6186]
[2181,0,null,0,"OK",null,null,null,null,null,null,null,7721,6186]
[2182,0,null,0,"OK",null,null,null,null,null,null,null,7722,234451]
[2183,0,null,0,"OK",null,null,null,null,null,null,null,7723,234451]
[2184,0,null,0,"OK",null,null,null,null,null,null,null,7724,488969]
[2185,0,null,0,"OK",null,null,null,null,null,null,null,7725,488969]
[2186,0,null,0,"OK",null,null,null,null,null,null,null,7726,317631]
[2187,0,null,0,"OK",null,null,null,null,null,null,null,7727,317631]
[2188,0,null,0,"OK",null,null,null,null,null,null,null,7728,806600]
[2189,0,null,0,"OK",null,null,null,null,null,null,null,7729,806600]
[2190,0,null,0,"OK",null,null,null,null,null,null,null,773,48487354]
[2191,0,null,0,"OK",null,null,null,null,null,null,null,7735,806600]
[2192,0,null,0,"OK",null,null,null,null,null,null,null,7736,1026619868.1400999]
[2193,0,null,0,"OK",null,null,null,null,null,null,null,7737,112515368.2]
[2194,0,null,0,"OK",null,null,null,null,null,null,null,7738,-4054096280.7099996]
[2195,0,null,0,"OK",null,null,null,null,null,null,null,7739,22121085]
[2196,0,null,0,"OK",null,null,null,null,null,null,null,774,2361938]
[2197,0,null,0,"OK",null,null,null,null,null,null,null,7748,5019]
[2198,0,null,0,"OK",null,null,null,null,null,null,null,775,1057599826.62]
[2199,0,null,0,"OK",null,null,null,null,null,null,null,7752,106287]
[2200,0,null,0,"OK",null,null,null,null,null,null,null,7753,49316]
[2201,0,null,0,"OK",null,null,null,null,null,null,null,7756,19510827151]
[2202,0,null,0,"OK",null,null,null,null,null,null,null,7757,814021082.97000003]
[2203,0,null,0,"OK",null,null,null,null,null,null,null,7758,104699608.98]
[2204,0,null,0,"OK",null,null,null,null,null,null,null,776,12054133.630000001]
[2205,0,null,0,"OK",null,null,null,null,null,null,null,7764,1833094]
[2206,0,null,0,"OK",null,null,null,null,null,null,null,777,14352968]
[2207,0,null,0,"OK",null,null,null,null,null,null,null,778,34533340]
[2208,0,null,0,"OK",null,null,null,null,null,null,null,779,7801056]
[2209,0,null,0,"OK",null,null,null,null,null,null,null,78,467427422]
[2210,0,null,0,"OK",null,null,null,null,null,null,null,780,26016873]
[2211,0,null,{"$f":"B2218-C2218","v":0},"OK",null,null,null,null,null,null,null,781,13572293.65]
[2212,0,null,0,"OK",null,null,null,null,null,null,null,782,108330664.28]
[2213,0,null,0,"OK",null,null,null,null,null,null,null,783,121572776.38]
[2214,0,null,0,"OK",null,null,null,null,null,null,null,784,39248415.920000002]
[2215,0,null,0,"OK",null,null,null,null,null,null,null,785,25306618.390000001]
[2216,0,null,0,"OK",null,null,null,null,null,null,null,786,186127810.69]
[2217,0,null,0,"OK",null,null,null,null,null,null,null,787,117281082.63]
[2218,0,null,0,"OK",null,null,null,null,null,null,null,788,12964824.23]
[2219,0,null,0,"OK",null,null,null,null,null,null,null,789,152751869.95999998]
[2220,0,null,0,"OK",null,null,null,null,null,null,null,79,586540518]
[2221,0,null,0,"OK",null,null,null,null,null,null,null,790,21453533.329999998]
[2222,0,null,0,"OK",null,null,null,null,null,null,null,791,386397]
[2223,0,null,0,"OK",null,null,null,null,null,null,null,792,21839930.329999998]
[2224,0,null,0,"OK",null,null,null,null,null,null,null,793,5630668.9699999997]
[2225,0,null,0,"OK",null,null,null,null,null,null,null,794,33043584.169999998]
[2226,0,null,0,"OK",null,null,null,null,null,null,null,795,80660320.960000008]
[2227,0,null,0,"OK",null,null,null,null,null,null,null,796,110112662]
[2228,0,null,0,"OK",null,null,null,null,null,null,null,797,204482374.50999999]
[2229,0,null,0,"OK",null,null,null,null,null,null,null,798,10049511]
[2230,0,null,0,"OK",null,null,null,null,null,null,null,80,2092822689]
[2231,0,null,0,"OK",null,null,null,null,null,null,null,800,443979121.61000001]
[2232,0,null,0,"OK",null,null,null,null,null,null,null,801,2926974]
[2233,0,null,0,"OK",null,null,null,null,null,null,null,802,7157480]
[2234,0,null,0,"OK",null,null,null,null,null,null,null,803,17557269]
[2235,0,null,0,"OK",null,null,null,null,null,null,null,804,17272241]
[2236,0,null,0,"OK",null,null,null,null,null,null,null,806,93847432]
[2237,0,null,0,"OK",null,null,null,null,null,null,null,808,138761396]
[2238,0,null,0,"OK",null,null,null,null,null,null,null,809,14344209]
[2239,0,null,0,"OK",null,null,null,null,null,null,null,810,1066135001.87]
[2240,0,null,0,"OK",null,null,null,null,null,null,null,811,52365468.93]
[2241,0,null,0,{"$f":"IF((D2248 = 0),\"OK\",IF((D2248<-5),\"CHECK ME!\",IF((D2248>5),\"Check Me!\",\"OK\")))","v":"OK"},null,null,null,null,null,null,null,812,2399936507.6499996]
[2242,0,null,0,"OK",null,null,null,null,null,null,null,818,323813501.13999999]
[2243,0,null,0,"OK",null,null,null,null,null,null,null,819,394562]
[2244,0,null,0,"OK",null,null,null,null,null,null,null,825,7884786.79]
[2245,0,null,0,"OK",null,null,null,null,null,null,null,829,443439]
[2246,0,null,0,"OK",null,null,null,null,null,null,null,830,16136475]
[2247,0,null,0,"OK",null,null,null,null,null,null,null,831,32720619.530000001]
[2248,0,null,0,"OK",null,null,null,null,null,null,null,832,2385932]
[2249,0,null,0,"OK",null,null,null,null,null,null,null,833,471003376.25]
[2250,0,null,0,"OK",null,null,null,null,null,null,null,834,5417245.1299999999]
[2251,0,null,0,"OK",null,null,null,null,null,null,null,835,3767611]
[2252,0,null,0,"OK",null,null,null,null,null,null,null,836,3711846.0700000003]
[2253,0,null,0,"OK",null,null,null,null,null,null,null,837,1298095]
[2254,0,null,0,"OK",null,null,null,null,null,null,null,838,1019770]
[2255,0,null,0,"OK",null,null,null,null,null,null,null,839,5347549.51]
[2256,0,null,0,"OK",null,null,null,null,null,null,null,84,178845751]
[2257,0,null,0,"OK",null,null,null,null,null,null,null,840,20562116.710000001]
[2258,0,null,0,"OK",null,null,null,null,null,null,null,841,57477969.310000002]
[2259,0,null,0,"OK",null,null,null,null,null,null,null,842,42685177.119999997]
[2260,0,null,0,"OK",null,null,null,null,null,null,null,843,6080524.6299999999]
[2261,0,null,0,"OK",null,null,null,null,null,null,null,844,106243671.06]
[2262,0,null,0,"OK",null,null,null,null,null,null,null,845,6603856.3899999997]
[2263,0,null,0,"OK",null,null,null,null,null,null,null,846,4253199.96]
[2264,0,null,0,"OK",null,null,null,null,null,null,null,847,12309544.35]
[2265,0,null,0,"OK",null,null,null,null,null,null,null,848,19532787.810000002]
[2266,0,null,0,"OK",null,null,null,null,null,null,null,849,173868]
[2267,0,null,0,"OK",null,null,null,null,null,null,null,850,19706655.810000002]
[2268,0,null,0,"OK",null,null,null,null,null,null,null,851,1485088]
[2269,0,null,0,"OK",null,null,null,null,null,null,null,852,4883239.21]
[2270,0,null,0,"OK",null,null,null,null,null,null,null,853,32915954.900000002]
[2271,0,null,0,"OK",null,null,null,null,null,null,null,854,389071]
[2272,0,null,0,"OK",null,null,null,null,null,null,null,855,287176412.22000003]
[2273,0,null,0,"OK",null,null,null,null,null,null,null,856,5101917]
[2274,0,null,0,"OK",null,null,null,null,null,null,null,858,331951682.32999998]
[2275,0,null,{"$f":"B2282-C2282","v":0},"OK",null,null,null,null,null,null,null,859,198803]
[2276,0,null,0,"OK",null,null,null,null,null,null,null,860,905454]
[2277,0,null,0,"OK",null,null,null,null,null,null,null,861,6726805.9000000004]
[2278,0,null,0,"OK",null,null,null,null,null,null,null,862,2258125]
[2279,0,null,0,"OK",null,null,null,null,null,null,null,864,55756413]
[2280,0,null,0,"OK",null,null,null,null,null,null,null,866,65845600.899999999]
[2281,0,null,0,"OK",null,null,null,null,null,null,null,867,6603408.3900000006]
[2282,0,null,0,"OK",null,null,null,null,null,null,null,868,563222679.54999995]
[2283,0,null,0,"OK",null,null,null,null,null,null,null,869,14094092.73]
[2284,0,null,0,"OK",null,null,null,null,null,null,null,870,1048320148.53]
[2285,0,null,0,"OK",null,null,null,null,null,null,null,876,36765747.909999996]
[2286,0,null,0,"OK",null,null,null,null,null,null,null,877,3997]
[2287,0,null,0,"OK",null,null,null,null,null,null,null,883,29973.5]
[2288,0,null,0,"OK",null,null,null,null,null,null,null,887,13350]
[2289,0,null,0,"OK",null,null,null,null,null,null,null,888,5452465]
[2290,0,null,0,"OK",null,null,null,null,null,null,null,889,4593332]
[2291,0,null,0,"OK",null,null,null,null,null,null,null,890,83032]
[2292,0,null,0,"OK",null,null,null,null,null,null,null,891,57383460.049999997]
[2293,0,null,0,"OK",null,null,null,null,null,null,null,892,78248]
[2294,0,null,0,"OK",null,null,null,null,null,null,null,893,106774]
[2295,0,null,0,"OK",null,null,null,null,null,null,null,894,675815]
[2296,0,null,0,"OK",null,null,null,null,null,null,null,895,38663]
[2297,0,null,0,"OK",null,null,null,null,null,null,null,896,99655]
[2298,0,null,0,"OK",null,null,null,null,null,null,null,897,751772]
[2299,0,null,0,"OK",null,null,null,null,null,null,null,898,1750927]
[2300,0,null,0,"OK",null,null,null,null,null,null,null,899,10467444]
[2301,0,null,0,"OK",null,null,null,null,null,null,null,900,29192751.199999999]
[2302,0,null,0,"OK",null,null,null,null,null,null,null,901,71480]
[2303,0,null,0,"OK",null,null,null,null,null,null,null,902,39731675.200000003]
[2304,0,null,0,"OK",null,null,null,null,null,null,null,903,442797]
[2305,0,null,0,{"$f":"IF((D2312 = 0),\"OK\",IF((D2312<-5),\"CHECK ME!\",IF((D2312>5),\"Check Me!\",\"OK\")))","v":"OK"},null,null,null,null,null,null,null,904,549035]
[2306,0,null,0,"OK",null,null,null,null,null,null,null,905,1106342]
[2307,0,null,0,"OK",null,null,null,null,null,null,null,906,1014151]
[2308,0,null,0,"OK",null,null,null,null,null,null,null,907,96824]
[2309,0,null,0,"OK",null,null,null,null,null,null,null,908,1110975]
[2310,0,null,0,"OK",null,null,null,null,null,null,null,909,639981]
[2311,0,null,0,"OK",null,null,null,null,null,null,null,910,2604912]
[2312,0,null,0,"OK",null,null,null,null,null,null,null,911,8789901.0199999996]
[2313,0,null,0,"OK",null,null,null,null,null,null,null,912,269660.3]
[2314,0,null,0,"OK",null,null,null,null,null,null,null,913,6052964.04]
[2315,0,null,0,"OK",null,null,null,null,null,null,null,914,1994164]
[2316,0,null,0,"OK",null,null,null,null,null,null,null,916,20351582.359999999]
[2317,0,null,0,"OK",null,null,null,null,null,null,null,917,92012]
[2318,0,null,0,"OK",null,null,null,null,null,null,null,918,635804]
[2319,0,null,0,"OK",null,null,null,null,null,null,null,919,5264102]
[2320,0,null,0,"OK",null,null,null,null,null,null,null,92,210862565]
[2321,0,null,0,"OK",null,null,null,null,null,null,null,920,148379]
[2322,0,null,0,"OK",null,null,null,null,null,null,null,922,47941679]
[2323,0,null,0,"OK",null,null,null,null,null,null,null,924,54081976]
[2324,0,null,0,"OK",null,null,null,null,null,null,null,925,1408827]
[2325,0,null,0,"OK",null,null,null,null,null,null,null,926,119542304.56]
[2326,0,null,0,"OK",null,null,null,null,null,null,null,927,1335802.3700000001]
[2327,0,null,0,"OK",null,null,null,null,null,null,null,928,178261566.97999999]
[2328,0,null,0,"OK",null,null,null,null,null,null,null,934,10299315.949999999]
[2329,0,null,0,"OK",null,null,null,null,null,null,null,935,57511]
[2330,0,null,0,"OK",null,null,null,null,null,null,null,941,52570.29]
[2331,0,null,0,"OK",null,null,null,null,null,null,null,945,41617]
[2332,0,null,0,"OK",null,null,null,null,null,null,null,946,1728240]
[2333,0,null,0,"OK",null,null,null,null,null,null,null,947,9706880.3300000001]
[2334,0,null,0,"OK",null,null,null,null,null,null,null,948,572292]
[2335,0,null,0,"OK",null,null,null,null,null,null,null,949,410674694.16000003]
[2336,0,null,0,"OK",null,null,null,null,null,null,null,95,57200]
[2337,0,null,0,"OK",null,null,null,null,null,null,null,950,80602]
[2338,0,null,0,"OK",null,null,null,null,null,null,null,951,657151]
[2339,0,null,{"$f":"B2346-C2346","v":0},"OK",null,null,null,null,null,null,null,952,338909]
[2340,0,null,0,"OK",null,null,null,null,null,null,null,953,45413]
[2341,0,null,0,"OK",null,null,null,null,null,null,null,954,25626]
[2342,0,null,0,"OK",null,null,null,null,null,null,null,955,350124]
[2343,0,null,0,"OK",null,null,null,null,null,null,null,956,1497825]
[2344,0,null,0,"OK",null,null,null,null,null,null,null,957,2416283.25]
[2345,0,null,0,"OK",null,null,null,null,null,null,null,958,804954]
[2346,0,null,0,"OK",null,null,null,null,null,null,null,959,136390]
[2347,0,null,0,"OK",null,null,null,null,null,null,null,96,1243320780]
[2348,0,null,0,"OK",null,null,null,null,null,null,null,960,3357627.25]
[2349,0,null,0,"OK",null,null,null,null,null,null,null,961,25915030]
[2350,0,null,0,"OK",null,null,null,null,null,null,null,962,3337464.14]
[2351,0,null,0,"OK",null,null,null,null,null,null,null,963,32862297.140000001]
[2352,0,null,0,"OK",null,null,null,null,null,null,null,964,2389219]
[2353,0,null,0,"OK",null,null,null,null,null,null,null,965,29626]
[2354,0,null,0,"OK",null,null,null,null,null,null,null,966,2418845]
[2355,0,null,0,"OK",null,null,null,null,null,null,null,967,927377.96]
[2356,0,null,0,"OK",null,null,null,null,null,null,null,968,4072120.01]
[2357,0,null,0,"OK",null,null,null,null,null,null,null,969,421604]
[2358,0,null,0,"OK",null,null,null,null,null,null,null,970,387]
[2359,0,null,0,"OK",null,null,null,null,null,null,null,971,1471177.59]
[2360,0,null,0,"OK",null,null,null,null,null,null,null,972,132088]
[2361,0,null,0,"OK",null,null,null,null,null,null,null,974,7024754.5599999996]
[2362,0,null,0,"OK",null,null,null,null,null,null,null,975,185077]
[2363,0,null,0,"OK",null,null,null,null,null,null,null,976,27010]
[2364,0,null,0,"OK",null,null,null,null,null,null,null,977,348902]
[2365,0,null,0,"OK",null,null,null,null,null,null,null,978,520569]
[2366,0,null,0,"OK",null,null,null,null,null,null,null,980,1201356]
[2367,0,null,0,"OK",null,null,null,null,null,null,null,982,2282914]
[2368,0,null,0,"OK",null,null,null,null,null,null,null,983,698934]
[2369,0,null,0,{"$f":"IF((D2376 = 0),\"OK\",IF((D2376<-5),\"CHECK ME!\",IF((D2376>5),\"Check Me!\",\"OK\")))","v":"OK"},null,null,null,null,null,null,null,984,50143196.950000003]
[2370,0,null,0,"OK",null,null,null,null,null,null,null,985,1568138]
[2371,0,null,0,"OK",null,null,null,null,null,null,null,986,528802810.55000001]
[2372,0,null,0,"OK",null,null,null,null,null,null,null,987,504030]
[2373,0,null,0,"OK",null,null,null,null,null,null,null,988,93979]
[2374,297895232,{"$f":"'Assets-Liab 5-6'!C38","v":297895232},0,"OK",null,null,null,null,null,null,null,990,288364]
[2375,0,null,0,"OK",null,null,null,null,null,null,null,992,7545456]
[2376,214608822,{"$f":"'Assets-Liab 5-6'!D38","v":214608822},0,"OK",null,null,null,null,null,null,null,993,1000514178.66]
[2377,0,null,0,"OK"]
[2378,0,null,0,"OK"]
[2379,0,null,0,"OK"]
[2380,0,null,0,"OK"]
[2381,0,null,0,"OK"]
[2382,0,null,0,"OK"]
[2383,0,null,0,"OK"]
[2384,0,null,0,"OK"]
[2385,0,null,0,"OK"]
[2386,0,null,0,"OK"]
[2387,0,null,0,"OK"]
[2388,0,null,0,"OK"]
[2389,0,null,0,"OK"]
[2390,0,null,0,"OK"]
[2391,0,null,0,"OK"]
[2392,0,null,0,"OK"]
[2393,0,null,0,"OK"]
[2394,0,null,0,"OK"]
[2395,0,null,0,"OK"]
[2396,0,null,0,"OK"]
[2397,0,null,0,"OK"]
[2398,0,null,0,"OK"]
[2399,0,null,0,"OK"]
[2400,0,null,0,"OK"]
[2401,0,null,0,"OK"]
[2402,0,null,0,"OK"]
[2403,0,null,{"$f":"B2410-C2410","v":0},"OK"]
[2404,0,null,0,"OK"]
[2405,0,null,0,"OK"]
[2406,0,null,0,"OK"]
[2407,0,null,0,"OK"]
[2408,0,null,0,"OK"]
[2409,0,null,0,"OK"]
[2410,0,null,0,"OK"]
[2411,0,null,0,"OK"]
[2412,0,null,0,"OK"]
[2413,0,null,0,"OK"]
[2414,198543221,{"$f":"'Assets-Liab 5-6'!F38","v":198543221},0,"OK"]
[2415,0,null,0,"OK"]
[2416,165987992,{"$f":"'Assets-Liab 5-6'!G38","v":165987992},0,"OK"]
[2417,0,null,0,"OK"]
[2418,0,null,0,"OK"]
[2419,0,null,0,"OK"]
[2420,0,null,0,"OK"]
[2421,0,null,0,"OK"]
[2422,0,null,0,"OK"]
[2423,0,null,0,"OK"]
[2424,0,null,0,"OK"]
[2425,0,null,0,"OK"]
[2426,0,null,0,"OK"]
[2427,0,null,0,"OK"]
[2428,0,null,0,"OK"]
[2429,0,null,0,"OK"]
[2430,0,null,0,"OK"]
[2431,0,null,0,"OK"]
[2432,0,null,0,"OK"]
[2433,0,null,0,{"$f":"IF((D2440 = 0),\"OK\",IF((D2440<-5),\"CHECK ME!\",IF((D2440>5),\"Check Me!\",\"OK\")))","v":"OK"}]
[2434,0,null,0,"OK"]
[2435,0,null,0,"OK"]
[2436,0,null,0,"OK"]
[2437,0,null,0,"OK"]
[2438,0,null,0,"OK"]
[2439,0,null,0,"OK"]
[2440,0,null,0,"OK"]
[2441,0,null,0,"OK"]
[2442,0,null,0,"OK"]
[2443,1038854749,{"$f":"'Assets-Liab 5-6'!E38","v":1038854749},0,"OK"]
[2444,0,null,0,"OK"]
[2445,0,null,0,"OK"]
[2446,0,null,0,"OK"]
[2447,0,null,0,"OK"]
[2448,0,null,0,"OK"]
[2449,0,null,0,"OK"]
[2450,0,null,0,"OK"]
[2451,0,null,0,"OK"]
[2452,0,null,0,"OK"]
[2453,0,null,0,"OK"]
[2454,0,null,0,"OK"]
[2455,0,null,0,"OK"]
[2456,0,null,0,"OK"]
[2457,0,null,0,"OK"]
[2458,0,null,0,"OK"]
[2459,0,null,0,"OK"]
[2460,0,null,0,"OK"]
[2461,0,null,0,"OK"]
[2462,0,null,0,"OK"]
[2463,0,null,0,"OK"]
[2464,0,null,0,"OK"]
[2465,0,null,0,"OK"]
[2466,0,null,0,"OK"]
[2467,0,null,{"$f":"B2474-C2474","v":0},"OK"]
[2468,0,null,0,"OK"]
[2469,0,null,0,"OK"]
[2470,0,null,0,"OK"]
[2471,0,null,0,"OK"]
[2472,0,null,0,"OK"]
[2473,0,null,0,"OK"]
[2474,1076832399,{"$f":"'Assets-Liab 5-6'!H38","v":1076832399},0,"OK"]
[2475,0,null,0,"OK"]
[2476,0,null,0,"OK"]
[2477,0,null,0,"OK"]
[2478,0,null,0,"OK"]
[2479,0,null,0,"OK"]
[2480,0,null,0,"OK"]
[2481,0,null,0,"OK"]
[2482,0,null,0,"OK"]
[2483,0,null,0,"OK"]
[2484,0,null,0,"OK"]
[2485,0,null,0,"OK"]
[2486,0,null,0,"OK"]
[2487,0,null,0,"OK"]
[2488,0,null,0,"OK"]
[2489,0,null,0,"OK"]
[2490,14754899831.200001,{"$f":"'Acct Summary 7-8'!C4","v":14754899831.200003},0,"OK"]
[2491,0,null,0,"OK"]
[2492,6481608320.5900002,{"$f":"'Acct Summary 7-8'!C6","v":6481608320.5900002},0,"OK"]
[2493,2080721390.72,{"$f":"'Acct Summary 7-8'!C7","v":2080721390.7199998},0,"OK"]
[2494,23327505965.509998,{"$f":"'Acct Summary 7-8'!C8","v":23327505965.510002},0,"OK"]
[2495,15060244150.949999,{"$f":"'Acct Summary 7-8'!C12","v":15060244150.949999},0,"OK"]
[2496,6456131781.4300003,{"$f":"'Acct Summary 7-8'!C13","v":6456131781.4300003},0,"OK"]
[2497,167249497.76999998,{"$f":"'Acct Summary 7-8'!C14","v":167249497.77000001},0,{"$f":"IF((D2504 = 0),\"OK\",IF((D2504<-5),\"CHECK ME!\",IF((D2504>5),\"Check Me!\",\"OK\")))","v":"OK"}]
[2498,752639020.77999997,{"$f":"'Acct Summary 7-8'!C15","v":752639020.77999997},0,"OK"]
[2499,9325339,{"$f":"'Acct Summary 7-8'!C16","v":9325339},0,"OK"]
[2500,22445589789.93,{"$f":"'Acct Summary 7-8'!C17","v":22445589789.929996},0,"OK"]
[2501,881916175.57999992,{"$f":"'Acct Summary 7-8'!C20","v":881916175.58000565},-5.7220458984375E-6,"OK"]
[2502,15690188,{"$f":"'Acct Summary 7-8'!C80","v":15690188},0,"OK"]
[2503,1789002744.8,{"$f":"'Acct Summary 7-8'!D4","v":1789002744.8000002},0,"OK"]
[2504,0,null,0,"OK"]
[2505,622829102,{"$f":"'Acct Summary 7-8'!D6","v":622829102},0,"OK"]
[2506,8884666.4000000004,{"$f":"'Acct Summary 7-8'!D7","v":8884666.4000000004},0,"OK"]
[2507,2421227000.1999998,{"$f":"'Acct Summary 7-8'!D8","v":2421227000.2000003},0,"OK"]
[2508,2326391224.3999996,{"$f":"'Acct Summary 7-8'!D13","v":2326391224.4000001},0,"OK"]
[2509,366434,{"$f":"'Acct Summary 7-8'!D14","v":366434},0,"OK"]
[2510,5128059,{"$f":"'Acct Summary 7-8'!D15","v":5128059},0,"OK"]
[2511,471810,{"$f":"'Acct Summary 7-8'!D16","v":471810},0,"OK"]
[2512,2332357527.3999996,{"$f":"'Acct Summary 7-8'!D17","v":2332357527.4000001},0,"OK"]
[2513,88869472.799999997,{"$f":"'Acct Summary 7-8'!D20","v":88869472.800000191},-1.9371509552001953E-7,"OK"]
[2514,1340324,{"$f":"'Acct Summary 7-8'!D80","v":1340324},0,"OK"]
[2515,0,null,0,"OK"]
[2516,0,null,0,"OK"]
[2517,0,null,0,"OK"]
[2518,0,null,0,"OK"]
[2519,0,null,0,"OK"]
[2520,0,null,0,"OK"]
[2521,0,null,0,"OK"]
[2522,0,null,0,"OK"]
[2523,0,null,0,"OK"]
[2524,0,null,0,"OK"]
[2525,0,null,0,"OK"]
[2526,0,null,0,"OK"]
[2527,0,null,0,"OK"]
[2528,0,null,0,"OK"]
[2529,0,null,0,"OK"]
[2530,646739883.99000001,{"$f":"'Acct Summary 7-8'!F4","v":646739883.99000001},0,"OK"]
[2531,0,null,{"$f":"B2538-C2538","v":0},"OK"]
[2532,674475072.01999998,{"$f":"'Acct Summary 7-8'!F6","v":674475072.01999998},0,"OK"]
[2533,2028565,{"$f":"'Acct Summary 7-8'!F7","v":2028565},0,"OK"]
[2534,1323384681.01,{"$f":"'Acct Summary 7-8'!F8","v":1323384681.01},0,"OK"]
[2535,1220337601.26,{"$f":"'Acct Summary 7-8'!F13","v":1220337601.26},0,"OK"]
[2536,206240,{"$f":"'Acct Summary 7-8'!F14","v":206240},0,"OK"]
[2537,14624269,{"$f":"'Acct Summary 7-8'!F15","v":14624269},0,"OK"]
[2538,16870528,{"$f":"'Acct Summary 7-8'!F16","v":16870528},0,"OK"]
[2539,1252038638.26,{"$f":"'Acct Summary 7-8'!F17","v":1252038638.26},0,"OK"]
[2540,71346042.75,{"$f":"'Acct Summary 7-8'!F20","v":71346042.75},0,"OK"]
[2541,514559,{"$f":"'Acct Summary 7-8'!F80","v":514559},0,"OK"]
[2542,635332547.86000001,{"$f":"'Acct Summary 7-8'!G4","v":635332547.86000001},0,"OK"]
[2543,11736720,{"$f":"'Acct Summary 7-8'!G6","v":11736720},0,"OK"]
[2544,2500225,{"$f":"'Acct Summary 7-8'!G7","v":2500225},0,"OK"]
[2545,649569492.86000001,{"$f":"'Acct Summary 7-8'!G8","v":649569492.86000001},0,"OK"]
[2546,245504120.89999998,{"$f":"'Acct Summary 7-8'!G12","v":245504120.90000004},0,"OK"]
[2547,366331916.70999998,{"$f":"'Acct Summary 7-8'!G13","v":366331916.71000004},0,"OK"]
[2548,6389057.5999999996,{"$f":"'Acct Summary 7-8'!G14","v":6389057.5999999996},0,"OK"]
[2549,0,null,0,"OK"]
[2550,7,{"$f":"'Acct Summary 7-8'!G16","v":7},0,"OK"]
[2551,620058196.21000004,{"$f":"'Acct Summary 7-8'!G17","v":620058196.21000016},0,"OK"]
[2552,29511296.650000002,{"$f":"'Acct Summary 7-8'!G20","v":29511296.649999857},1.4528632164001465E-7,"OK"]
[2553,466719,{"$f":"'Acct Summary 7-8'!G80","v":466719},0,"OK"]
[2554,0,null,0,"OK"]
[2555,0,null,0,"OK"]
[2556,0,null,0,"OK"]
[2557,0,null,0,"OK"]
[2558,0,null,0,"OK"]
[2559,0,null,0,"OK"]
[2560,0,null,0,"OK"]
[2561,0,null,0,{"$f":"IF((D2568 = 0),\"OK\",IF((D2568<-5),\"CHECK ME!\",IF((D2568>5),\"Check Me!\",\"OK\")))","v":"OK"}]
[2562,0,null,0,"OK"]
[2563,0,null,0,"OK"]
[2564,0,null,0,"OK"]
[2565,0,null,0,"OK"]
[2566,0,null,0,"OK"]
[2567,0,null,0,"OK"]
[2568,0,null,0,"OK"]
[2569,1801161409.4199998,{"$f":"'Acct Summary 7-8'!E4","v":1801161409.4199998},0,"OK"]
[2570,314401382,{"$f":"'Acct Summary 7-8'!E6","v":314401382},0,"OK"]
[2571,2163864424.4200001,{"$f":"'Acct Summary 7-8'!E8","v":2163864424.4200001},0,"OK"]
[2572,105596,{"$f":"'Acct Summary 7-8'!E15","v":105596},0,"OK"]
[2573,2675917124.6999998,{"$f":"'Acct Summary 7-8'!E16","v":2675917124.6999998},0,"OK"]
[2574,2676022720.6999998,{"$f":"'Acct Summary 7-8'!E17","v":2676022720.6999998},0,"OK"]
[2575,-512158296.27999997,{"$f":"'Acct Summary 7-8'!E20","v":-512158296.27999973},0,"OK"]
[2576,2061481,{"$f":"'Acct Summary 7-8'!E80","v":2061481},0,"OK"]
[2577,0,null,0,"OK"]
[2578,0,null,0,"OK"]
[2579,0,null,0,"OK"]
[2580,0,null,0,"OK"]
[2581,0,null,0,"OK"]
[2582,0,null,0,"OK"]
[2583,0,null,0,"OK"]
[2584,0,null,0,"OK"]
[2585,0,null,0,"OK"]
[2586,0,null,0,"OK"]
[2587,0,null,0,"OK"]
[2588,0,null,0,"OK"]
[2589,0,null,0,"OK"]
[2590,0,null,0,"OK"]
[2591,0,null,0,"OK"]
[2592,0,null,0,"OK"]
[2593,0,null,0,"OK"]
[2594,223665035.18000001,{"$f":"'Acct Summary 7-8'!H4","v":223665035.18000001},0,"OK"]
[2595,57097412,{"$f":"'Acct Summary 7-8'!H6","v":57097412},{"$f":"B2602-C2602","v":0},"OK"]
[2596,1523211,{"$f":"'Acct Summary 7-8'!H7","v":1523211},0,"OK"]
[2597,282285658.18000001,{"$f":"'Acct Summary 7-8'!H8","v":282285658.18000001},0,"OK"]
[2598,2015522005.8,{"$f":"'Acct Summary 7-8'!H13","v":2015522005.8},0,"OK"]
[2599,633862,{"$f":"'Acct Summary 7-8'!H15","v":633862},0,"OK"]
[2600,2016155867.8,{"$f":"'Acct Summary 7-8'!H17","v":2016155867.8},0,"OK"]
[2601,-1733870209.6199999,{"$f":"'Acct Summary 7-8'!H20","v":-1733870209.6199999},0,"OK"]
[2602,371298,{"$f":"'Acct Summary 7-8'!H80","v":371298},0,"OK"]
[2603,0,null,0,"OK"]
[2604,0,null,0,"OK"]
[2605,0,null,0,"OK"]
[2606,0,null,0,"OK"]
[2607,0,null,0,"OK"]
[2608,0,null,0,"OK"]
[2609,0,null,0,"OK"]
[2610,0,null,0,"OK"]
[2611,0,null,0,"OK"]
[2612,0,null,0,"OK"]
[2613,0,null,0,"OK"]
[2614,0,null,0,"OK"]
[2615,0,null,0,"OK"]
[2616,0,null,0,"OK"]
[2617,0,null,0,"OK"]
[2618,0,null,0,"OK"]
[2619,0,null,0,"OK"]
[2620,0,null,0,"OK"]
[2621,0,null,0,"OK"]
[2622,0,null,0,"OK"]
[2623,0,null,0,"OK"]
[2624,0,null,0,"OK"]
[2625,0,null,0,{"$f":"IF((D2632 = 0),\"OK\",IF((D2632<-5),\"CHECK ME!\",IF((D2632>5),\"Check Me!\",\"OK\")))","v":"OK"}]
[2626,0,null,0,"OK"]
[2627,0,null,0,"OK"]
[2628,0,null,0,"OK"]
[2629,0,null,0,"OK"]
[2630,0,null,0,"OK"]
[2631,0,null,0,"OK"]
[2632,0,null,0,"OK"]
[2633,0,null,0,"OK"]
[2634,0,null,0,"OK"]
[2635,0,null,0,"OK"]
[2636,0,null,0,"OK"]
[2637,0,null,0,"OK"]
[2638,0,null,0,"OK"]
[2639,0,null,0,"OK"]
[2640,0,null,0,"OK"]
[2641,0,null,0,"OK"]
[2642,0,null,0,"OK"]
[2643,0,null,0,"OK"]
[2644,0,null,0,"OK"]
[2645,0,null,0,"OK"]
[2646,0,null,0,"OK"]
[2647,0,null,0,"OK"]
[2648,0,null,0,"OK"]
[2649,0,null,0,"OK"]
[2650,0,null,0,"OK"]
[2651,0,null,0,"OK"]
[2652,0,null,0,"OK"]
[2653,0,null,0,"OK"]
[2654,0,null,0,"OK"]
[2655,0,null,0,"OK"]
[2656,0,null,0,"OK"]
[2657,76287489,{"$f":"'Expenditures 15-22'!C51","v":76287489},0,"OK"]
[2658,16744178,{"$f":"'Expenditures 15-22'!D51","v":16744178},0,"OK"]
[2659,4536099,{"$f":"'Expenditures 15-22'!E51","v":4536099},{"$f":"B2666-C2666","v":0},"OK"]
[2660,1246095,{"$f":"'Expenditures 15-22'!F51","v":1246095},0,"OK"]
[2661,92699,{"$f":"'Expenditures 15-22'!G51","v":92699},0,"OK"]
[2662,2636066,{"$f":"'Expenditures 15-22'!H51","v":2636066},0,"OK"]
[2663,101991302,{"$f":"'Expenditures 15-22'!K51","v":101991302},0,"OK"]
[2664,3386876,{"$f":"'Expenditures 15-22'!D247","v":3386876},0,"OK"]
[2665,3386876,{"$f":"'Expenditures 15-22'!K247","v":3386876},0,"OK"]
[2666,0,{"$f":"'Short-Term Long-Term Debt 24'!C4","v":0},0,"OK"]
[2667,0,{"$f":"'Short-Term Long-Term Debt 24'!C25","v":0},0,"OK"]
[2668,0,{"$f":"'Short-Term Long-Term Debt 24'!D4","v":0},0,"OK"]
[2669,0,{"$f":"'Short-Term Long-Term Debt 24'!D25","v":0},0,"OK"]
[2670,0,{"$f":"'Short-Term Long-Term Debt 24'!E4","v":0},0,"OK"]
[2671,0,{"$f":"'Short-Term Long-Term Debt 24'!E25","v":0},0,"OK"]
[2672,0,{"$f":"'Short-Term Long-Term Debt 24'!F4","v":0},0,"OK"]
[2673,0,{"$f":"'Short-Term Long-Term Debt 24'!F25","v":0},0,"OK"]
[2674,0,null,0,"OK"]
[2675,0,null,0,"OK"]
[2676,0,null,0,"OK"]
[2677,0,null,0,"OK"]
[2678,0,null,0,"OK"]
[2679,0,null,0,"OK"]
[2680,0,null,0,"OK"]
[2681,0,null,0,"OK"]
[2682,0,null,0,"OK"]
[2683,0,null,0,"OK"]
[2684,0,null,0,"OK"]
[2685,0,null,0,"OK"]
[2686,0,null,0,"OK"]
[2687,0,null,0,"OK"]
[2688,0,null,0,"OK"]
[2689,0,null,0,{"$f":"IF((D2696 = 0),\"OK\",IF((D2696<-5),\"CHECK ME!\",IF((D2696>5),\"Check Me!\",\"OK\")))","v":"OK"}]
[2690,0,null,0,"OK"]
[2691,0,null,0,"OK"]
[2692,0,null,0,"OK"]
[2693,0,null,0,"OK"]
[2694,0,null,0,"OK"]
[2695,0,null,0,"OK"]
[2696,1765232,{"$f":"'Acct Summary 7-8'!C28","v":1765232},0,"OK"]
[2697,3126148,{"$f":"'Acct Summary 7-8'!D28","v":3126148},0,"OK"]
[2698,0,null,0,"OK"]
[2699,4952699,{"$f":"'Acct Summary 7-8'!E28","v":4952699},0,"OK"]
[2700,0,null,0,"OK"]
[2701,71759,{"$f":"'Acct Summary 7-8'!F26","v":71759},0,"OK"]
[2702,0,{"$f":"'Acct Summary 7-8'!F28","v":0},0,"OK"]
[2703,0,null,0,"OK"]
[2704,0,null,0,"OK"]
[2705,19616,{"$f":"'Acct Summary 7-8'!G28","v":19616},0,"OK"]
[2706,0,null,0,"OK"]
[2707,0,null,0,"OK"]
[2708,16441361,{"$f":"'Acct Summary 7-8'!H28","v":16441361},0,"OK"]
[2709,0,null,0,"OK"]
[2710,0,null,0,"OK"]
[2711,36743,{"$f":"'Acct Summary 7-8'!I28","v":36743},0,"OK"]
[2712,0,null,0,"OK"]
[2713,0,null,0,"OK"]
[2714,0,null,0,"OK"]
[2715,0,null,0,"OK"]
[2716,0,null,0,"OK"]
[2717,0,null,0,"OK"]
[2718,0,null,0,"OK"]
[2719,0,null,0,"OK"]
[2720,0,null,0,"OK"]
[2721,0,null,0,"OK"]
[2722,0,null,0,"OK"]
[2723,0,null,{"$f":"B2730-C2730","v":0},"OK"]
[2724,0,null,0,"OK"]
[2725,0,null,0,"OK"]
[2726,0,null,0,"OK"]
[2727,0,null,0,"OK"]
[2728,222437576.23000002,{"$f":"'Expenditures 15-22'!E84","v":222437576.22999999},0,"OK"]
[2729,223836210.23000002,{"$f":"'Expenditures 15-22'!E102","v":223836210.22999999},0,"OK"]
[2730,0,{"$f":"'Expenditures 15-22'!H107","v":0},0,"OK"]
[2731,6659083,{"$f":"'Expenditures 15-22'!H108","v":6659083},0,"OK"]
[2732,0,null,0,"OK"]
[2733,10776640,{"$f":"'Acct Summary 7-8'!C50","v":10776640},0,"OK"]
[2734,0,{"$f":"'Expenditures 15-22'!K107","v":0},0,"OK"]
[2735,6659083,{"$f":"'Expenditures 15-22'!K108","v":6659083},0,"OK"]
[2736,273530,{"$f":"'Expenditures 15-22'!C130","v":273530},0,"OK"]
[2737,2,{"$f":"'Expenditures 15-22'!D130","v":2},0,"OK"]
[2738,22484,{"$f":"'Expenditures 15-22'!E130","v":22484},0,"OK"]
[2739,19301,{"$f":"'Expenditures 15-22'!F130","v":19301},0,"OK"]
[2740,51117,{"$f":"'Expenditures 15-22'!G130","v":51117},0,"OK"]
[2741,0,{"$f":"'Expenditures 15-22'!H130","v":0},0,"OK"]
[2742,0,null,0,"OK"]
[2743,0,null,0,"OK"]
[2744,366434,{"$f":"'Expenditures 15-22'!K130","v":366434},0,"OK"]
[2745,11478151,{"$f":"'Acct Summary 7-8'!D50","v":11478151},0,"OK"]
[2746,0,{"$f":"'Expenditures 15-22'!H144","v":0},0,"OK"]
[2747,0,{"$f":"'Expenditures 15-22'!H145","v":0},0,"OK"]
[2748,0,null,0,"OK"]
[2749,0,{"$f":"'Expenditures 15-22'!K144","v":0},0,"OK"]
[2750,0,{"$f":"'Expenditures 15-22'!K145","v":0},0,"OK"]
[2751,0,{"$f":"'Expenditures 15-22'!H165","v":0},0,"OK"]
[2752,1906569,{"$f":"'Expenditures 15-22'!H166","v":1906569},0,"OK"]
[2753,0,null,0,{"$f":"IF((D2760 = 0),\"OK\",IF((D2760<-5),\"CHECK ME!\",IF((D2760>5),\"Check Me!\",\"OK\")))","v":"OK"}]
[2754,0,null,0,"OK"]
[2755,0,null,0,"OK"]
[2756,1911909,{"$f":"'Acct Summary 7-8'!E50","v":1911909},0,"OK"]
[2757,0,{"$f":"'Expenditures 15-22'!K165","v":0},0,"OK"]
[2758,1906569,{"$f":"'Expenditures 15-22'!K166","v":1906569},0,"OK"]
[2759,41749,{"$f":"'Expenditures 15-22'!C185","v":41749},0,"OK"]
[2760,740,{"$f":"'Expenditures 15-22'!D185","v":740},0,"OK"]
[2761,160623,{"$f":"'Expenditures 15-22'!E185","v":160623},0,"OK"]
[2762,12920694,{"$f":"'Expenditures 15-22'!E194","v":12920694},0,"OK"]
[2763,0,{"$f":"'Expenditures 15-22'!E195","v":0},0,"OK"]
[2764,3128,{"$f":"'Expenditures 15-22'!F185","v":3128},0,"OK"]
[2765,0,{"$f":"'Expenditures 15-22'!G185","v":0},0,"OK"]
[2766,0,{"$f":"'Expenditures 15-22'!H185","v":0},0,"OK"]
[2767,1703292,{"$f":"'Expenditures 15-22'!H194","v":1703292},0,"OK"]
[2768,283,{"$f":"'Expenditures 15-22'!H195","v":283},0,"OK"]
[2769,1703575,{"$f":"'Expenditures 15-22'!H196","v":1703575},0,"OK"]
[2770,0,{"$f":"'Expenditures 15-22'!H201","v":0},0,"OK"]
[2771,0,{"$f":"'Expenditures 15-22'!H202","v":0},0,"OK"]
[2772,0,null,0,"OK"]
[2773,0,null,0,"OK"]
[2774,0,null,0,"OK"]
[2775,206240,{"$f":"'Expenditures 15-22'!K185","v":206240},0,"OK"]
[2776,14623986,{"$f":"'Expenditures 15-22'!K194","v":14623986},0,"OK"]
[2777,0,null,0,"OK"]
[2778,283,{"$f":"'Expenditures 15-22'!K195","v":283},0,"OK"]
[2779,171779,{"$f":"'Acct Summary 7-8'!F50","v":171779},0,"OK"]
[2780,0,{"$f":"'Expenditures 15-22'!K201","v":0},0,"OK"]
[2781,0,{"$f":"'Expenditures 15-22'!K202","v":0},0,"OK"]
[2782,0,{"$f":"'Expenditures 15-22'!H290","v":0},0,"OK"]
[2783,0,{"$f":"'Expenditures 15-22'!H291","v":0},0,"OK"]
[2784,0,{"$f":"'Expenditures 15-22'!K290","v":0},0,"OK"]
[2785,0,{"$f":"'Expenditures 15-22'!K291","v":0},0,"OK"]
[2786,0,null,0,"OK"]
[2787,1181515,{"$f":"'Acct Summary 7-8'!H50","v":1181515},{"$f":"B2794-C2794","v":0},"OK"]
[2788,0,null,0,"OK"]
[2789,0,null,0,"OK"]
[2790,0,null,0,"OK"]
[2791,0,null,0,"OK"]
[2792,0,null,0,"OK"]
[2793,124455]
[2794,2389800]
[2795,490109]
[2796,0]
[2797,103756]
[2798,0]
[2799,819641]
[2800,0]
[2801,30160853]
[2802,0]
[2803,1720705428,{"$f":"'Assets-Liab 5-6'!M20","v":1720705428},0,"OK"]
[2804,0,null,0,"OK"]
[2805,0,null,0,"OK"]
[2806,0,null,0,"OK"]
[2807,0,null,0,"OK"]
[2808,0,null,0,"OK"]
[2809,0,null,0,"OK"]
[2810,0,null,0,"OK"]
[2811,0,null,0,"OK"]
[2812,0,null,0,"OK"]
[2813,0,null,0,"OK"]
[2814,0,null,0,"OK"]
[2815,0,null,0,"OK"]
[2816,0,null,0,"OK"]
[2817,0,null,0,{"$f":"IF((D2824 = 0),\"OK\",IF((D2824<-5),\"CHECK ME!\",IF((D2824>5),\"Check Me!\",\"OK\")))","v":"OK"}]
[2818,0,null,0,"OK"]
[2819,15267628,{"$f":"'Assets-Liab 5-6'!I6","v":15267628},0,"OK"]
[2820,0,null,0,"OK"]
[2821,0,null,0,"OK"]
[2822,0,null,0,"OK"]
[2823,0,null,0,"OK"]
[2824,479799929,{"$f":"'Assets-Liab 5-6'!I5","v":479799929},0,"OK"]
[2825,0,null,0,"OK"]
[2826,86859,{"$f":"'Assets-Liab 5-6'!I12","v":86859},0,"OK"]
[2827,2338818129,{"$f":"'Assets-Liab 5-6'!I13","v":2338818129},0,"OK"]
[2828,0,null,0,"OK"]
[2829,0,null,0,"OK"]
[2830,0,{"$f":"'Assets-Liab 5-6'!L10","v":0},0,"OK"]
[2831,33400916,{"$f":"'Assets-Liab 5-6'!L5","v":33400916},0,"OK"]
[2832,0,null,0,"OK"]
[2833,492841,{"$f":"'Assets-Liab 5-6'!L12","v":492841},0,"OK"]
[2834,243146922.28999999,{"$f":"'Assets-Liab 5-6'!L13","v":243146922.28999999},0,"OK"]
[2835,0,null,0,"OK"]
[2836,0,null,0,"OK"]
[2837,0,null,0,"OK"]
[2838,0,null,0,"OK"]
[2839,0,null,0,"OK"]
[2840,0,null,0,"OK"]
[2841,0,null,0,"OK"]
[2842,0,null,0,"OK"]
[2843,0,null,0,"OK"]
[2844,0,null,0,"OK"]
[2845,0,null,0,"OK"]
[2846,0,null,0,"OK"]
[2847,18347941,{"$f":"'Assets-Liab 5-6'!I32","v":18347941},0,"OK"]
[2848,0,null,0,"OK"]
[2849,19343427,{"$f":"'Assets-Liab 5-6'!I34","v":19343427},0,"OK"]
[2850,86738134,{"$f":"'Assets-Liab 5-6'!I38","v":86738134},0,"OK"]
[2851,2232736568,{"$f":"'Assets-Liab 5-6'!I39","v":2232736568},{"$f":"B2858-C2858","v":0},"OK"]
[2852,2338818129,{"$f":"'Assets-Liab 5-6'!I41","v":2338818129},0,"OK"]
[2853,198420370.28999999,{"$f":"'Assets-Liab 5-6'!L33","v":198420370.28999999},0,"OK"]
[2854,0,null,0,"OK"]
[2855,198420370.28999999,{"$f":"'Assets-Liab 5-6'!L34","v":198420370.28999999},0,"OK"]
[2856,243146922.28999999,{"$f":"'Assets-Liab 5-6'!L41","v":243146922.28999999},0,"OK"]
[2857,0,null,0,"OK"]
[2858,0,null,0,"OK"]
[2859,0,null,0,"OK"]
[2860,0,null,0,"OK"]
[2861,0,null,0,"OK"]
[2862,0,null,0,"OK"]
[2863,0,null,0,"OK"]
[2864,0,null,0,"OK"]
[2865,0,null,0,"OK"]
[2866,0,null,0,"OK"]
[2867,0,null,0,"OK"]
[2868,0,null,0,"OK"]
[2869,0,null,0,"OK"]
[2870,0,null,0,"OK"]
[2871,0,null,0,"OK"]
[2872,0,null,0,"OK"]
[2873,0,null,0,"OK"]
[2874,0,null,0,"OK"]
[2875,0,null,0,"OK"]
[2876,0,null,0,"OK"]
[2877,0,null,0,"OK"]
[2878,0,null,0,"OK"]
[2879,0,null,0,"OK"]
[2880,0,null,0,"OK"]
[2881,0,null,0,{"$f":"IF((D2888 = 0),\"OK\",IF((D2888<-5),\"CHECK ME!\",IF((D2888>5),\"Check Me!\",\"OK\")))","v":"OK"}]
[2882,0,null,0,"OK"]
[2883,0,null,0,"OK"]
[2884,0,null,0,"OK"]
[2885,0,null,0,"OK"]
[2886,784667,{"$f":"'Expenditures 15-22'!E101","v":784667},0,"OK"]
[2887,0,null,0,"OK"]
[2888,83691035,{"$f":"'Expenditures 15-22'!E78","v":83691035},0,"OK"]
[2889,125068360.22999999,{"$f":"'Expenditures 15-22'!E79","v":125068360.22999999},0,"OK"]
[2890,498498,{"$f":"'Expenditures 15-22'!E80","v":498498},0,"OK"]
[2891,1662872,{"$f":"'Expenditures 15-22'!E81","v":1662872},0,"OK"]
[2892,1061910,{"$f":"'Expenditures 15-22'!E82","v":1061910},0,"OK"]
[2893,10454901,{"$f":"'Expenditures 15-22'!E83","v":10454901},0,"OK"]
[2894,9890773,{"$f":"'Expenditures 15-22'!H78","v":9890773},0,"OK"]
[2895,202324719,{"$f":"'Expenditures 15-22'!H79","v":202324719},0,"OK"]
[2896,339083,{"$f":"'Expenditures 15-22'!H80","v":339083},0,"OK"]
[2897,11066685,{"$f":"'Expenditures 15-22'!H81","v":11066685},0,"OK"]
[2898,1083431,{"$f":"'Expenditures 15-22'!H82","v":1083431},0,"OK"]
[2899,4529469,{"$f":"'Expenditures 15-22'!H83","v":4529469},0,"OK"]
[2900,0,null,0,"OK"]
[2901,0,null,0,"OK"]
[2902,0,null,0,"OK"]
[2903,0,null,0,"OK"]
[2904,0,null,0,"OK"]
[2905,0,null,0,"OK"]
[2906,0,null,0,"OK"]
[2907,0,null,0,"OK"]
[2908,0,null,0,"OK"]
[2909,0,null,0,"OK"]
[2910,0,null,0,"OK"]
[2911,0,null,0,"OK"]
[2912,93581808,{"$f":"'Expenditures 15-22'!K78","v":93581808},0,"OK"]
[2913,327393079.22999996,{"$f":"'Expenditures 15-22'!K79","v":327393079.23000002},0,"OK"]
[2914,837581,{"$f":"'Expenditures 15-22'!K80","v":837581},0,"OK"]
[2915,12729557,{"$f":"'Expenditures 15-22'!K81","v":12729557},{"$f":"B2922-C2922","v":0},"OK"]
[2916,2145341,{"$f":"'Expenditures 15-22'!K82","v":2145341},0,"OK"]
[2917,14984370,{"$f":"'Expenditures 15-22'!K83","v":14984370},0,"OK"]
[2918,785086,{"$f":"'Expenditures 15-22'!H134","v":785086},0,"OK"]
[2919,561085,{"$f":"'Expenditures 15-22'!H135","v":561085},0,"OK"]
[2920,1171411,{"$f":"'Expenditures 15-22'!H136","v":1171411},0,"OK"]
[2921,0,null,0,"OK"]
[2922,0,null,0,"OK"]
[2923,0,null,0,"OK"]
[2924,0,null,0,"OK"]
[2925,2242745,{"$f":"'Expenditures 15-22'!K134","v":2242745},0,"OK"]
[2926,910925,{"$f":"'Expenditures 15-22'!K135","v":910925},0,"OK"]
[2927,1446744,{"$f":"'Expenditures 15-22'!K136","v":1446744},0,"OK"]
[2928,4775024,{"$f":"'Expenditures 15-22'!E188","v":4775024},0,"OK"]
[2929,7929650,{"$f":"'Expenditures 15-22'!E189","v":7929650},0,"OK"]
[2930,0,{"$f":"'Expenditures 15-22'!E190","v":0},0,"OK"]
[2931,28394,{"$f":"'Expenditures 15-22'!E191","v":28394},0,"OK"]
[2932,0,{"$f":"'Expenditures 15-22'!E192","v":0},0,"OK"]
[2933,187626,{"$f":"'Expenditures 15-22'!E193","v":187626},0,"OK"]
[2934,116116,{"$f":"'Expenditures 15-22'!H188","v":116116},0,"OK"]
[2935,855652,{"$f":"'Expenditures 15-22'!H189","v":855652},0,"OK"]
[2936,0,{"$f":"'Expenditures 15-22'!H190","v":0},0,"OK"]
[2937,28269,{"$f":"'Expenditures 15-22'!H191","v":28269},0,"OK"]
[2938,0,{"$f":"'Expenditures 15-22'!H192","v":0},0,"OK"]
[2939,703255,{"$f":"'Expenditures 15-22'!H193","v":703255},0,"OK"]
[2940,0,null,0,"OK"]
[2941,0,null,0,"OK"]
[2942,0,null,0,"OK"]
[2943,0,null,0,"OK"]
[2944,0,null,0,"OK"]
[2945,0,null,0,{"$f":"IF((D2952 = 0),\"OK\",IF((D2952<-5),\"CHECK ME!\",IF((D2952>5),\"Check Me!\",\"OK\")))","v":"OK"}]
[2946,4891140,{"$f":"'Expenditures 15-22'!K188","v":4891140},0,"OK"]
[2947,8785302,{"$f":"'Expenditures 15-22'!K189","v":8785302},0,"OK"]
[2948,0,{"$f":"'Expenditures 15-22'!K190","v":0},0,"OK"]
[2949,56663,{"$f":"'Expenditures 15-22'!K191","v":56663},0,"OK"]
[2950,0,{"$f":"'Expenditures 15-22'!K192","v":0},0,"OK"]
[2951,890881,{"$f":"'Expenditures 15-22'!K193","v":890881},0,"OK"]
[2952,0,null,0,"OK"]
[2953,0,null,0,"OK"]
[2954,0,null,0,"OK"]
[2955,0,null,0,"OK"]
[2956,0,null,0,"OK"]
[2957,0,null,0,"OK"]
[2958,0,null,0,"OK"]
[2959,0,null,0,"OK"]
[2960,0,null,0,"OK"]
[2961,0,null,0,"OK"]
[2962,0,null,0,"OK"]
[2963,0,null,0,"OK"]
[2964,0,null,0,"OK"]
[2965,0,null,0,"OK"]
[2966,0,null,0,"OK"]
[2967,0,null,0,"OK"]
[2968,0,null,0,"OK"]
[2969,0,null,0,"OK"]
[2970,0,null,0,"OK"]
[2971,0,null,0,"OK"]
[2972,0,null,0,"OK"]
[2973,0,null,0,"OK"]
[2974,0,null,0,"OK"]
[2975,0,null,0,"OK"]
[2976,0,null,0,"OK"]
[2977,0,null,0,"OK"]
[2978,0,null,0,"OK"]
[2979,0,null,{"$f":"B2986-C2986","v":0},"OK"]
[2980,0,null,0,"OK"]
[2981,0,null,0,"OK"]
[2982,0,null,0,"OK"]
[2983,0,null,0,"OK"]
[2984,0,null,0,"OK"]
[2985,0,null,0,"OK"]
[2986,0,null,0,"OK"]
[2987,0,null,0,"OK"]
[2988,0,null,0,"OK"]
[2989,0,null,0,"OK"]
[2990,0,null,0,"OK"]
[2991,0,null,0,"OK"]
[2992,0,null,0,"OK"]
[2993,0,null,0,"OK"]
[2994,170157360.87,{"$f":"'Expenditures 15-22'!C10","v":170157360.87},0,"OK"]
[2995,38893693.490000002,{"$f":"'Expenditures 15-22'!D10","v":38893693.490000002},0,"OK"]
[2996,24806270.780000001,{"$f":"'Expenditures 15-22'!E10","v":24806270.780000001},0,"OK"]
[2997,48353647.259999998,{"$f":"'Expenditures 15-22'!F10","v":48353647.259999998},0,"OK"]
[2998,5037989,{"$f":"'Expenditures 15-22'!G10","v":5037989},0,"OK"]
[2999,384409.04,{"$f":"'Expenditures 15-22'!H10","v":384409.04},0,"OK"]
[3000,0,null,0,"OK"]
[3001,291020583.44,{"$f":"'Expenditures 15-22'!K10","v":291020583.44000006},0,"OK"]
[3002,0,null,0,"OK"]
[3003,7164784.2000000002,{"$f":"'Expenditures 15-22'!D219","v":7164784.2000000002},0,"OK"]
[3004,7164784.2000000002,{"$f":"'Expenditures 15-22'!K219","v":7164784.2000000002},0,"OK"]
[3005,0,null,0,"OK"]
[3006,0,null,0,"OK"]
[3007,0,null,0,"OK"]
[3008,0,null,0,"OK"]
[3009,0,null,0,{"$f":"IF((D3016 = 0),\"OK\",IF((D3016<-5),\"CHECK ME!\",IF((D3016>5),\"Check Me!\",\"OK\")))","v":"OK"}]
[3010,43024405,{"$f":"'Assets-Liab 5-6'!L38","v":43024405},0,"OK"]
[3011,1702147,{"$f":"'Assets-Liab 5-6'!L39","v":1702147},0,"OK"]
[3012,0,null,0,"OK"]
[3013,0,null,0,"OK"]
[3014,0,null,0,"OK"]
[3015,0,null,0,"OK"]
[3016,0,null,0,"OK"]
[3017,5395804,{"$f":"'Acct Summary 7-8'!D33","v":5395804},0,"OK"]
[3018,0,{"$f":"'Acct Summary 7-8'!D34","v":0},0,"OK"]
[3019,0,{"$f":"'Acct Summary 7-8'!D35","v":0},0,"OK"]
[3020,0,null,0,"OK"]
[3021,1076642900,{"$f":"'Acct Summary 7-8'!E33","v":1076642900},0,"OK"]
[3022,5560187,{"$f":"'Acct Summary 7-8'!F33","v":5560187},0,"OK"]
[3023,0,{"$f":"'Acct Summary 7-8'!F34","v":0},0,"OK"]
[3024,0,{"$f":"'Acct Summary 7-8'!F35","v":0},0,"OK"]
[3025,0,null,0,"OK"]
[3026,0,null,0,"OK"]
[3027,0,null,0,"OK"]
[3028,0,null,0,"OK"]
[3029,0,null,0,"OK"]
[3030,0,null,0,"OK"]
[3031,0,null,0,"OK"]
[3032,0,null,0,"OK"]
[3033,0,null,0,"OK"]
[3034,0,null,0,"OK"]
[3035,0,null,0,"OK"]
[3036,0,null,0,"OK"]
[3037,0,null,0,"OK"]
[3038,0,null,0,"OK"]
[3039,0,null,0,"OK"]
[3040,0,null,0,"OK"]
[3041,0,null,0,"OK"]
[3042,0,null,0,"OK"]
[3043,0,null,{"$f":"B3050-C3050","v":0},"OK"]
[3044,0,null,0,"OK"]
[3045,0,null,0,"OK"]
[3046,0,null,0,"OK"]
[3047,0,null,0,"OK"]
[3048,0,null,0,"OK"]
[3049,0,null,0,"OK"]
[3050,0,null,0,"OK"]
[3051,0,null,0,"OK"]
[3052,0,null,0,"OK"]
[3053,0,null,0,"OK"]
[3054,0,null,0,"OK"]
[3055,0,null,0,"OK"]
[3056,0,null,0,"OK"]
[3057,0,null,0,"OK"]
[3058,0,null,0,"OK"]
[3059,0,null,0,"OK"]
[3060,0,null,0,"OK"]
[3061,0,null,0,"OK"]
[3062,0,null,0,"OK"]
[3063,0,null,0,"OK"]
[3064,0,null,0,"OK"]
[3065,0,null,0,"OK"]
[3066,0,null,0,"OK"]
[3067,0,null,0,"OK"]
[3068,0,null,0,"OK"]
[3069,0,null,0,"OK"]
[3070,0,null,0,"OK"]
[3071,0,null,0,"OK"]
[3072,0,null,0,"OK"]
[3073,0,null,0,{"$f":"IF((D3080 = 0),\"OK\",IF((D3080<-5),\"CHECK ME!\",IF((D3080>5),\"Check Me!\",\"OK\")))","v":"OK"}]
[3074,0,null,0,"OK"]
[3075,0,null,0,"OK"]
[3076,0,null,0,"OK"]
[3077,0,null,0,"OK"]
[3078,0,null,0,"OK"]
[3079,0,null,0,"OK"]
[3080,0,null,0,"OK"]
[3081,0,null,0,"OK"]
[3082,0,null,0,"OK"]
[3083,0,null,0,"OK"]
[3084,0,null,0,"OK"]
[3085,0,null,0,"OK"]
[3086,0,null,0,"OK"]
[3087,0,null,0,"OK"]
[3088,0,null,0,"OK"]
[3089,0,null,0,"OK"]
[3090,0,null,0,"OK"]
[3091,0,null,0,"OK"]
[3092,0,null,0,"OK"]
[3093,0,null,0,"OK"]
[3094,0,null,0,"OK"]
[3095,0,null,0,"OK"]
[3096,0,null,0,"OK"]
[3097,0,null,0,"OK"]
[3098,0,null,0,"OK"]
[3099,0,null,0,"OK"]
[3100,1459218,{"$f":"'Acct Summary 7-8'!D29","v":1459218},0,"OK"]
[3101,0,null,null,"OK"]
[3102,0,null,0,"OK"]
[3103,0,null,0,"OK"]
[3104,0,null,0,"OK"]
[3105,0,null,0,"OK"]
[3106,0,null,0,"OK"]
[3107,0,null,{"$f":"B3114-C3114","v":0},"OK"]
[3108,0,null,0,"OK"]
[3109,1459218,{"$f":"'Acct Summary 7-8'!H51","v":1459218},0,"OK"]
[3110,0,null,0,"OK"]
[3111,0,null,0,"OK"]
[3112,0,null,0,"OK"]
[3113,0,null,0,"OK"]
[3114,0,null,0,"OK"]
[3115,0,null,0,"OK"]
[3116,0,null,0,"OK"]
[3117,0,null,0,"OK"]
[3118,0,null,0,"OK"]
[3119,0,null,0,"OK"]
[3120,0,null,0,"OK"]
[3121,0,null,0,"OK"]
[3122,0,null,0,"OK"]
[3123,0,null,0,"OK"]
[3124,0,null,0,"OK"]
[3125,0,null,0,"OK"]
[3126,0,null,0,"OK"]
[3127,0,null,0,"OK"]
[3128,0,null,0,"OK"]
[3129,0,null,0,"OK"]
[3130,0,null,0,"OK"]
[3131,0,null,0,"OK"]
[3132,0,null,0,"OK"]
[3133,0,null,0,"OK"]
[3134,0,null,0,"OK"]
[3135,0,null,0,"OK"]
[3136,0,null,0,"OK"]
[3137,0,null,0,{"$f":"IF((D3144 = 0),\"OK\",IF((D3144<-5),\"CHECK ME!\",IF((D3144>5),\"Check Me!\",\"OK\")))","v":"OK"}]
[3138,0,null,0,"OK"]
[3139,0,null,0,"OK"]
[3140,0,null,0,"OK"]
[3141,0,null,0,"OK"]
[3142,0,null,0,"OK"]
[3143,0,null,0,"OK"]
[3144,0,null,0,"OK"]
[3145,0,null,0,"OK"]
[3146,0,null,0,"OK"]
[3147,0,null,0,"OK"]
[3148,0,null,0,"OK"]
[3149,0,null,0,"OK"]
[3150,0,null,0,"OK"]
[3151,0,null,0,"OK"]
[3152,0,null,0,"OK"]
[3153,0,null,0,"OK"]
[3154,0,null,0,"OK"]
[3155,0,null,0,"OK"]
[3156,0,null,0,"OK"]
[3157,0,null,0,"OK"]
[3158,0,null,0,"OK"]
[3159,0,null,0,"OK"]
[3160,0,null,0,"OK"]
[3161,0,null,0,"OK"]
[3162,0,null,0,"OK"]
[3163,0,null,0,"OK"]
[3164,116633339.3,{"$f":"'Acct Summary 7-8'!I4","v":116633339.30000001},0,"OK"]
[3165,116633339.3,{"$f":"'Acct Summary 7-8'!I8","v":116633339.30000001},0,"OK"]
[3166,116633339.3,{"$f":"'Acct Summary 7-8'!I20","v":116633339.30000001},0,"OK"]
[3167,45270963,{"$f":"'Acct Summary 7-8'!C43","v":45270963},0,"OK"]
[3168,132758505,{"$f":"'Acct Summary 7-8'!C44","v":132758505},0,"OK"]
[3169,53222162,{"$f":"'Acct Summary 7-8'!C75","v":53222162},0,"OK"]
[3170,365456614,{"$f":"'Acct Summary 7-8'!C76","v":365456614},0,"OK"]
[3171,-232698109,{"$f":"'Acct Summary 7-8'!C77","v":-232698109},{"$f":"B3178-C3178","v":0},"OK"]
[3172,649218066.57999992,{"$f":"'Acct Summary 7-8'!C78","v":649218066.58000565},-5.7220458984375E-6,"OK"]
[3173,18141105,{"$f":"'Acct Summary 7-8'!D43","v":18141105},0,"OK"]
[3174,351199338,{"$f":"'Acct Summary 7-8'!D44","v":351199338},0,"OK"]
[3175,67726860,{"$f":"'Acct Summary 7-8'!D75","v":67726860},0,"OK"]
[3176,425329660,{"$f":"'Acct Summary 7-8'!D76","v":425329660},0,"OK"]
[3177,-74130322,{"$f":"'Acct Summary 7-8'!D77","v":-74130322},0,"OK"]
[3178,14739150.799999997,{"$f":"'Acct Summary 7-8'!D78","v":14739150.800000191},-1.9371509552001953E-7,"OK"]
[3179,0,null,0,"OK"]
[3180,0,null,0,"OK"]
[3181,0,null,0,"OK"]
[3182,0,null,0,"OK"]
[3183,0,null,0,"OK"]
[3184,0,null,0,"OK"]
[3185,0,null,0,"OK"]
[3186,0,null,0,"OK"]
[3187,0,null,0,"OK"]
[3188,0,null,0,"OK"]
[3189,0,null,0,"OK"]
[3190,13179821,{"$f":"'Acct Summary 7-8'!F43","v":13179821},0,"OK"]
[3191,33392121,{"$f":"'Acct Summary 7-8'!F44","v":33392121},0,"OK"]
[3192,2548836,{"$f":"'Acct Summary 7-8'!F75","v":2548836},0,"OK"]
[3193,43099123,{"$f":"'Acct Summary 7-8'!F76","v":43099123},0,"OK"]
[3194,-9707002,{"$f":"'Acct Summary 7-8'!F77","v":-9707002},0,"OK"]
[3195,61639040.75,{"$f":"'Acct Summary 7-8'!F78","v":61639040.75},0,"OK"]
[3196,0,{"$f":"'Acct Summary 7-8'!G43","v":0},0,"OK"]
[3197,210616,{"$f":"'Acct Summary 7-8'!G44","v":210616},0,"OK"]
[3198,11374,{"$f":"'Acct Summary 7-8'!G50","v":11374},0,"OK"]
[3199,19724,{"$f":"'Acct Summary 7-8'!G76","v":19724},0,"OK"]
[3200,190892,{"$f":"'Acct Summary 7-8'!G77","v":190892},0,"OK"]
[3201,29702188.650000002,{"$f":"'Acct Summary 7-8'!G78","v":29702188.649999857},1.4528632164001465E-7,{"$f":"IF((D3208 = 0),\"OK\",IF((D3208<-5),\"CHECK ME!\",IF((D3208>5),\"Check Me!\",\"OK\")))","v":"OK"}]
[3202,0,null,0,"OK"]
[3203,0,null,0,"OK"]
[3204,0,null,0,"OK"]
[3205,0,null,0,"OK"]
[3206,0,null,0,"OK"]
[3207,0,null,0,"OK"]
[3208,0,null,0,"OK"]
[3209,0,null,0,"OK"]
[3210,0,null,0,"OK"]
[3211,0,null,0,"OK"]
[3212,63546461,{"$f":"'Acct Summary 7-8'!E43","v":63546461},0,"OK"]
[3213,1326190221,{"$f":"'Acct Summary 7-8'!E44","v":1326190221},0,"OK"]
[3214,841958238,{"$f":"'Acct Summary 7-8'!E75","v":841958238},0,"OK"]
[3215,843870147,{"$f":"'Acct Summary 7-8'!E76","v":843870147},0,"OK"]
[3216,482320074,{"$f":"'Acct Summary 7-8'!E77","v":482320074},0,"OK"]
[3217,-29838222.279999997,{"$f":"'Acct Summary 7-8'!E78","v":-29838222.279999733},-2.644956111907959E-7,"OK"]
[3218,0,null,null,"OK"]
[3219,0,null,null,"OK"]
[3220,0,null,null,"OK"]
[3221,0,null,null,"OK"]
[3222,0,null,null,"OK"]
[3223,0,null,null,"OK"]
[3224,0,null,0,"OK"]
[3225,0,null,0,"OK"]
[3226,0,null,0,"OK"]
[3227,0,null,0,"OK"]
[3228,0,null,0,"OK"]
[3229,0,null,0,"OK"]
[3230,0,null,0,"OK"]
[3231,0,null,0,"OK"]
[3232,0,null,0,"OK"]
[3233,0,null,0,"OK"]
[3234,44582043,{"$f":"'Acct Summary 7-8'!H43","v":44582043},0,"OK"]
[3235,1758996248,{"$f":"'Acct Summary 7-8'!H44","v":1758996248},{"$f":"B3242-C3242","v":0},"OK"]
[3236,45519466,{"$f":"'Acct Summary 7-8'!H75","v":45519466},0,"OK"]
[3237,51677510,{"$f":"'Acct Summary 7-8'!H76","v":51677510},0,"OK"]
[3238,1707318738,{"$f":"'Acct Summary 7-8'!H77","v":1707318738},0,"OK"]
[3239,-26551471.620000005,{"$f":"'Acct Summary 7-8'!H78","v":-26551471.619999886},-1.1920928955078125E-7,"OK"]
[3240,0,null,0,"OK"]
[3241,0,null,0,"OK"]
[3242,0,null,0,"OK"]
[3243,0,null,0,"OK"]
[3244,0,null,0,"OK"]
[3245,0,null,0,"OK"]
[3246,0,null,0,"OK"]
[3247,0,null,0,"OK"]
[3248,0,null,0,"OK"]
[3249,0,null,0,"OK"]
[3250,0,null,0,"OK"]
[3251,0,null,0,"OK"]
[3252,0,null,0,"OK"]
[3253,0,null,0,"OK"]
[3254,0,null,0,"OK"]
[3255,841232,{"$f":"'Acct Summary 7-8'!I43","v":841232},0,"OK"]
[3256,345440278,{"$f":"'Acct Summary 7-8'!I44","v":345440278},0,"OK"]
[3257,399608967,{"$f":"'Acct Summary 7-8'!I76","v":399608967},0,"OK"]
[3258,-54168689,{"$f":"'Acct Summary 7-8'!I77","v":-54168689},0,"OK"]
[3259,62464650.299999997,{"$f":"'Acct Summary 7-8'!I78","v":62464650.300000012},0,"OK"]
[3260,2257079613,{"$f":"'Acct Summary 7-8'!I79","v":2257079613},0,"OK"]
[3261,-69561,{"$f":"'Acct Summary 7-8'!I80","v":-69561},0,"OK"]
[3262,2319474702.2999997,{"$f":"'Acct Summary 7-8'!I81","v":2319474702.3000002},0,"OK"]
[3263,0,null,0,"OK"]
[3264,0,null,0,"OK"]
[3265,0,null,0,{"$f":"IF((D3272 = 0),\"OK\",IF((D3272<-5),\"CHECK ME!\",IF((D3272>5),\"Check Me!\",\"OK\")))","v":"OK"}]
[3266,0,null,0,"OK"]
[3267,0,null,0,"OK"]
[3268,0,null,0,"OK"]
[3269,0,null,0,"OK"]
[3270,0,null,0,"OK"]
[3271,0,null,0,"OK"]
[3272,0,null,0,"OK"]
[3273,0,null,0,"OK"]
[3274,0,null,0,"OK"]
[3275,0,null,0,"OK"]
[3276,0,null,0,"OK"]
[3277,0,null,0,"OK"]
[3278,0,null,0,"OK"]
[3279,0,null,0,"OK"]
[3280,0,null,0,"OK"]
[3281,0,null,0,"OK"]
[3282,0,null,0,"OK"]
[3283,0,null,0,"OK"]
[3284,0,null,0,"OK"]
[3285,0,null,0,"OK"]
[3286,0,null,0,"OK"]
[3287,0,null,0,"OK"]
[3288,0,null,0,"OK"]
[3289,0,null,0,"OK"]
[3290,0,null,0,"OK"]
[3291,0,null,0,"OK"]
[3292,0,null,0,"OK"]
[3293,0,null,0,"OK"]
[3294,0,null,0,"OK"]
[3295,0,null,0,"OK"]
[3296,0,null,0,"OK"]
[3297,0,null,0,"OK"]
[3298,0,null,0,"OK"]
[3299,0,null,{"$f":"B3306-C3306","v":0},"OK"]
[3300,0,null,0,"OK"]
[3301,0,null,0,"OK"]
[3302,0,null,0,"OK"]
[3303,0,null,0,"OK"]
[3304,0,null,0,"OK"]
[3305,1993522732.4400001,{"$f":"'Expenditures 15-22'!C8","v":1993522732.4400001},0,"OK"]
[3306,19282411,{"$f":"'Expenditures 15-22'!C19","v":19282411},0,"OK"]
[3307,466035301,{"$f":"'Expenditures 15-22'!D8","v":466035301},0,"OK"]
[3308,4144518,{"$f":"'Expenditures 15-22'!D19","v":4144518},0,"OK"]
[3309,87214094.640000001,{"$f":"'Expenditures 15-22'!E8","v":87214094.640000001},0,"OK"]
[3310,1963688,{"$f":"'Expenditures 15-22'!E19","v":1963688},0,"OK"]
[3311,21082583.859999999,{"$f":"'Expenditures 15-22'!F8","v":21082583.859999999},0,"OK"]
[3312,439938,{"$f":"'Expenditures 15-22'!F19","v":439938},0,"OK"]
[3313,2833676.99,{"$f":"'Expenditures 15-22'!G8","v":2833676.99},0,"OK"]
[3314,9618,{"$f":"'Expenditures 15-22'!G19","v":9618},0,"OK"]
[3315,61121760.549999997,{"$f":"'Expenditures 15-22'!H8","v":61121760.549999997},0,"OK"]
[3316,2487215,{"$f":"'Expenditures 15-22'!H19","v":2487215},0,"OK"]
[3317,0,null,0,"OK"]
[3318,0,null,0,"OK"]
[3319,2639195221.48,{"$f":"'Expenditures 15-22'!K8","v":2639195221.48},0,"OK"]
[3320,28405287,{"$f":"'Expenditures 15-22'!K19","v":28405287},0,"OK"]
[3321,0,null,0,"OK"]
[3322,0,null,0,"OK"]
[3323,0,null,0,"OK"]
[3324,0,null,0,"OK"]
[3325,0,null,0,"OK"]
[3326,107099774.84,{"$f":"'Expenditures 15-22'!D215","v":107099774.84},0,"OK"]
[3327,93495399.290000007,{"$f":"'Expenditures 15-22'!D217","v":93495399.290000007},0,"OK"]
[3328,676963,{"$f":"'Expenditures 15-22'!D228","v":676963},0,"OK"]
[3329,107099774.84,{"$f":"'Expenditures 15-22'!K215","v":107099774.84},0,{"$f":"IF((D3336 = 0),\"OK\",IF((D3336<-5),\"CHECK ME!\",IF((D3336>5),\"Check Me!\",\"OK\")))","v":"OK"}]
[3330,93495399.290000007,{"$f":"'Expenditures 15-22'!K217","v":93495399.290000007},0,"OK"]
[3331,676963,{"$f":"'Expenditures 15-22'!K228","v":676963},0,"OK"]
[3332,0,null,0,"OK"]
[3333,0,null,0,"OK"]
[3334,0,null,0,"OK"]
[3335,0,null,0,"OK"]
[3336,0,null,0,"OK"]
[3337,0,null,0,"OK"]
[3338,0,null,0,"OK"]
[3339,0,null,0,"OK"]
[3340,0,null,0,"OK"]
[3341,0,null,0,"OK"]
[3342,0,null,0,"OK"]
[3343,0,null,0,"OK"]
[3344,10276423,{"$f":"'Acct Summary 7-8'!C5","v":10276423},0,"OK"]
[3345,510487,{"$f":"'Acct Summary 7-8'!D5","v":510487},0,"OK"]
[3346,0,null,0,"OK"]
[3347,141160,{"$f":"'Acct Summary 7-8'!F5","v":141160},0,"OK"]
[3348,0,{"$f":"'Acct Summary 7-8'!G5","v":0},0,"OK"]
[3349,0,null,0,"OK"]
[3350,6734270927,{"$f":"'Assets-Liab 5-6'!C4","v":6734270927},0,"OK"]
[3351,0,null,0,"OK"]
[3352,0,null,0,"OK"]
[3353,1142668771,{"$f":"'Assets-Liab 5-6'!D4","v":1142668771},0,"OK"]
[3354,0,null,0,"OK"]
[3355,0,null,0,"OK"]
[3356,1362854592,{"$f":"'Assets-Liab 5-6'!E4","v":1362854592},0,"OK"]
[3357,0,null,0,"OK"]
[3358,715022560,{"$f":"'Assets-Liab 5-6'!F4","v":715022560},0,"OK"]
[3359,0,null,0,"OK"]
[3360,0,null,0,"OK"]
[3361,407516554,{"$f":"'Assets-Liab 5-6'!G4","v":407516554},0,"OK"]
[3362,0,null,0,"OK"]
[3363,0,null,{"$f":"B3370-C3370","v":0},"OK"]
[3364,2258155283,{"$f":"'Assets-Liab 5-6'!H4","v":2258155283},0,"OK"]
[3365,0,null,0,"OK"]
[3366,1750161689,{"$f":"'Assets-Liab 5-6'!I4","v":1750161689},0,"OK"]
[3367,0,null,0,"OK"]
[3368,0,null,0,"OK"]
[3369,0,null,0,"OK"]
[3370,0,null,0,"OK"]
[3371,0,null,0,"OK"]
[3372,0,null,0,"OK"]
[3373,0,null,0,"OK"]
[3374,208677212.28999999,{"$f":"'Assets-Liab 5-6'!L4","v":208677212.28999999},0,"OK"]
[3375,0,null,0,"OK"]
[3376,0,null,0,"OK"]
[3377,0,null,0,"OK"]
[3378,0,null,0,"OK"]
[3379,0,null,0,"OK"]
[3380,0,null,0,"OK"]
[3381,0,null,0,"OK"]
[3382,0,null,0,"OK"]
[3383,0,null,0,"OK"]
[3384,0,null,0,"OK"]
[3385,294927920.81999999,{"$f":"'Tax Sched 23'!B16","v":294927920.81999999},0,"OK"]
[3386,176284365.94,{"$f":"'Tax Sched 23'!D16","v":176284365.94},0,"OK"]
[3387,118643554.88000001,{"$f":"'Tax Sched 23'!C16","v":118643554.88000001},0,"OK"]
[3388,195402969.51446882,{"$f":"'Tax Sched 23'!F16","v":195402969.51446879},0,"OK"]
[3389,314046524.39446878,{"$f":"'Tax Sched 23'!E16","v":314046524.39446878},0,"OK"]
[3390,1069368995,{"$f":"'Cap Outlay Deprec 26'!C15","v":1069368995},0,"OK"]
[3391,1474828457.3499999,{"$f":"'Cap Outlay Deprec 26'!D15","v":1474828457.3499999},0,"OK"]
[3392,827209918,{"$f":"'Cap Outlay Deprec 26'!E15","v":827209918},0,"OK"]
[3393,1716987534.3499999,{"$f":"'Cap Outlay Deprec 26'!F15","v":1716987534.3499999},0,{"$f":"IF((D3400 = 0),\"OK\",IF((D3400<-5),\"CHECK ME!\",IF((D3400>5),\"Check Me!\",\"OK\")))","v":"OK"}]
[3394,0,null,0,"OK"]
[3395,0,null,0,"OK"]
[3396,0,null,0,"OK"]
[3397,0,null,0,"OK"]
[3398,1716987534.3499999,{"$f":"'Cap Outlay Deprec 26'!L15","v":1716987534.3499999},0,"OK"]
[3399,0,null,0,"OK"]
[3400,0,null,0,"OK"]
[3401,0,null,0,"OK"]
[3402,0,null,0,"OK"]
[3403,0,null,0,"OK"]
[3404,0,null,0,"OK"]
[3405,0,null,0,"OK"]
[3406,0,null,0,"OK"]
[3407,0,null,0,"OK"]
[3408,0,null,0,"OK"]
[3409,0,null,0,"OK"]
[3410,0,null,0,"OK"]
[3411,0,null,0,"OK"]
[3412,0,null,0,"OK"]
[3413,0,null,0,"OK"]
[3414,0,null,0,"OK"]
[3415,0,null,0,"OK"]
[3416,0,null,0,"OK"]
[3417,0,null,0,"OK"]
[3418,0,null,0,"OK"]
[3419,0,null,0,"OK"]
[3420,0,null,0,"OK"]
[3421,117374,{"$f":"'Expenditures 15-22'!C125","v":117374},0,"OK"]
[3422,35318,{"$f":"'Expenditures 15-22'!D125","v":35318},0,"OK"]
[3423,49273,{"$f":"'Expenditures 15-22'!E125","v":49273},0,"OK"]
[3424,104788,{"$f":"'Expenditures 15-22'!F125","v":104788},0,"OK"]
[3425,1248,{"$f":"'Expenditures 15-22'!G125","v":1248},0,"OK"]
[3426,212,{"$f":"'Expenditures 15-22'!H125","v":212},0,"OK"]
[3427,308213,{"$f":"'Expenditures 15-22'!K125","v":308213},{"$f":"B3434-C3434","v":0},"OK"]
[3428,0,null,0,"OK"]
[3429,1758976,{"$f":"'Acct Summary 7-8'!E26","v":1758976},0,"OK"]
[3430,0,null,0,"OK"]
[3431,36000,{"$f":"'Acct Summary 7-8'!G26","v":36000},0,"OK"]
[3432,5098843,{"$f":"'Acct Summary 7-8'!H26","v":5098843},0,"OK"]
[3433,0,null,0,"OK"]
[3434,0,null,0,"OK"]
[3435,0,null,0,"OK"]
[3436,0,null,0,"OK"]
[3437,0,null,0,"OK"]
[3438,0,null,0,"OK"]
[3439,0,null,0,"OK"]
[3440,0,null,0,"OK"]
[3441,0,null,0,"OK"]
[3442,0,null,0,"OK"]
[3443,0,null,0,"OK"]
[3444,0,null,0,"OK"]
[3445,0,null,0,"OK"]
[3446,0,null,0,"OK"]
[3447,0,null,0,"OK"]
[3448,0,null,0,"OK"]
[3449,0,null,0,"OK"]
[3450,0,null,0,"OK"]
[3451,0,null,0,"OK"]
[3452,0,null,0,"OK"]
[3453,0,null,0,"OK"]
[3454,0,null,0,"OK"]
[3455,0,null,0,"OK"]
[3456,0,null,0,"OK"]
[3457,0,null,0,{"$f":"IF((D3464 = 0),\"OK\",IF((D3464<-5),\"CHECK ME!\",IF((D3464>5),\"Check Me!\",\"OK\")))","v":"OK"}]
[3458,12010485,{"$f":"'Assets-Liab 5-6'!H6","v":12010485},0,"OK"]
[3459,0,null,0,"OK"]
[3460,0,null,0,"OK"]
[3461,0,null,0,"OK"]
[3462,0,null,0,"OK"]
[3463,0,null,0,"OK"]
[3464,0,null,0,"OK"]
[3465,0,null,0,"OK"]
[3466,0,null,0,"OK"]
[3467,0,null,0,"OK"]
[3468,0,null,0,"OK"]
[3469,2001715,{"$f":"'Acct Summary 7-8'!C36","v":2001715},0,"OK"]
[3470,1415948,{"$f":"'Acct Summary 7-8'!D36","v":1415948},0,"OK"]
[3471,2968883,{"$f":"'Acct Summary 7-8'!F36","v":2968883},0,"OK"]
[3472,0,{"$f":"'Acct Summary 7-8'!G36","v":0},0,"OK"]
[3473,5908737,{"$f":"'Acct Summary 7-8'!H36","v":5908737},0,"OK"]
[3474,0,null,0,"OK"]
[3475,0,null,0,"OK"]
[3476,0,null,0,"OK"]
[3477,0,null,0,"OK"]
[3478,0,null,0,"OK"]
[3479,0,null,0,"OK"]
[3480,0,null,0,"OK"]
[3481,0,null,0,"OK"]
[3482,0,null,0,"OK"]
[3483,0,null,0,"OK"]
[3484,0,null,0,"OK"]
[3485,250766051,{"$f":"'Assets-Liab 5-6'!K4","v":250766051},0,"OK"]
[3486,0,null,0,"OK"]
[3487,13250611,{"$f":"'Assets-Liab 5-6'!K6","v":13250611},0,"OK"]
[3488,0,{"$f":"'Assets-Liab 5-6'!K10","v":0},0,"OK"]
[3489,97027237,{"$f":"'Assets-Liab 5-6'!K5","v":97027237},0,"OK"]
[3490,36,{"$f":"'Assets-Liab 5-6'!K12","v":36},0,"OK"]
[3491,361180681,{"$f":"'Assets-Liab 5-6'!K13","v":361180681},{"$f":"B3498-C3498","v":0},"OK"]
[3492,0,null,0,"OK"]
[3493,0,null,0,"OK"]
[3494,0,null,0,"OK"]
[3495,0,null,0,"OK"]
[3496,0,null,0,"OK"]
[3497,0,null,0,"OK"]
[3498,0,null,0,"OK"]
[3499,0,null,0,"OK"]
[3500,200,{"$f":"'Assets-Liab 5-6'!K31","v":200},0,"OK"]
[3501,13950236,{"$f":"'Assets-Liab 5-6'!K32","v":13950236},0,"OK"]
[3502,0,null,0,"OK"]
[3503,0,null,0,"OK"]
[3504,37379871,{"$f":"'Assets-Liab 5-6'!K34","v":37379871},0,"OK"]
[3505,74187771,{"$f":"'Assets-Liab 5-6'!K38","v":74187771},0,"OK"]
[3506,249613039,{"$f":"'Assets-Liab 5-6'!K39","v":249613039},0,"OK"]
[3507,361180681,{"$f":"'Assets-Liab 5-6'!K41","v":361180681},0,"OK"]
[3508,60520473.059999995,{"$f":"'Acct Summary 7-8'!K4","v":60520473.060000002},0,"OK"]
[3509,678591,{"$f":"'Acct Summary 7-8'!K6","v":678591},0,"OK"]
[3510,61199064.059999995,{"$f":"'Acct Summary 7-8'!K8","v":61199064.060000002},0,"OK"]
[3511,176986335.81999999,{"$f":"'Acct Summary 7-8'!K13","v":176986335.81999999},0,"OK"]
[3512,13759,{"$f":"'Acct Summary 7-8'!K15","v":13759},0,"OK"]
[3513,313020,{"$f":"'Acct Summary 7-8'!K16","v":313020},0,"OK"]
[3514,177313114.81999999,{"$f":"'Acct Summary 7-8'!K17","v":177313114.81999999},0,"OK"]
[3515,-116114050.75999999,{"$f":"'Acct Summary 7-8'!K20","v":-116114050.75999999},0,"OK"]
[3516,55484,{"$f":"'Acct Summary 7-8'!K26","v":55484},0,"OK"]
[3517,433,{"$f":"'Acct Summary 7-8'!K28","v":433},0,"OK"]
[3518,118751902,{"$f":"'Acct Summary 7-8'!K33","v":118751902},0,"OK"]
[3519,5943882,{"$f":"'Acct Summary 7-8'!K34","v":5943882},0,"OK"]
[3520,0,{"$f":"'Acct Summary 7-8'!K35","v":0},0,"OK"]
[3521,0,{"$f":"'Acct Summary 7-8'!K36","v":0},0,{"$f":"IF((D3528 = 0),\"OK\",IF((D3528<-5),\"CHECK ME!\",IF((D3528>5),\"Check Me!\",\"OK\")))","v":"OK"}]
[3522,68,{"$f":"'Acct Summary 7-8'!K43","v":68},0,"OK"]
[3523,125880614,{"$f":"'Acct Summary 7-8'!K44","v":125880614},0,"OK"]
[3524,1403076,{"$f":"'Acct Summary 7-8'!K75","v":1403076},0,"OK"]
[3525,4478360,{"$f":"'Acct Summary 7-8'!K76","v":4478360},0,"OK"]
[3526,121402254,{"$f":"'Acct Summary 7-8'!K77","v":121402254},0,"OK"]
[3527,5288203.24,{"$f":"'Acct Summary 7-8'!K78","v":5288203.2400000095},-9.3132257461547852E-9,"OK"]
[3528,319204097,{"$f":"'Acct Summary 7-8'!K79","v":319204097},0,"OK"]
[3529,-691490,{"$f":"'Acct Summary 7-8'!K80","v":-691490},0,"OK"]
[3530,323800810.24000001,{"$f":"'Acct Summary 7-8'!K81","v":323800810.24000001},0,"OK"]
[3531,0,null,0,"OK"]
[3532,0,null,0,"OK"]
[3533,0,null,0,"OK"]
[3534,0,null,0,"OK"]
[3535,0,null,0,"OK"]
[3536,0,null,0,"OK"]
[3537,0,null,0,"OK"]
[3538,0,null,0,"OK"]
[3539,0,null,0,"OK"]
[3540,0,null,0,"OK"]
[3541,0,null,0,"OK"]
[3542,0,null,0,"OK"]
[3543,0,null,0,"OK"]
[3544,0,null,0,"OK"]
[3545,0,null,0,"OK"]
[3546,0,null,0,"OK"]
[3547,0,null,0,"OK"]
[3548,0,null,0,"OK"]
[3549,0,null,0,"OK"]
[3550,0,null,0,"OK"]
[3551,0,null,0,"OK"]
[3552,0,null,0,"OK"]
[3553,0,null,0,"OK"]
[3554,0,null,0,"OK"]
[3555,0,null,{"$f":"B3562-C3562","v":0},"OK"]
[3556,265599,{"$f":"'Expenditures 15-22'!C348","v":265599},0,"OK"]
[3557,1201913,{"$f":"'Expenditures 15-22'!C349","v":1201913},0,"OK"]
[3558,1467512,{"$f":"'Expenditures 15-22'!C350","v":1467512},0,"OK"]
[3559,32581,{"$f":"'Expenditures 15-22'!C351","v":32581},0,"OK"]
[3560,1500093,{"$f":"'Expenditures 15-22'!C352","v":1500093},0,"OK"]
[3561,1500093,{"$f":"'Expenditures 15-22'!C367","v":1500093},0,"OK"]
[3562,0,null,0,"OK"]
[3563,30149,{"$f":"'Expenditures 15-22'!D348","v":30149},0,"OK"]
[3564,143954,{"$f":"'Expenditures 15-22'!D349","v":143954},0,"OK"]
[3565,174103,{"$f":"'Expenditures 15-22'!D350","v":174103},0,"OK"]
[3566,0,{"$f":"'Expenditures 15-22'!D351","v":0},0,"OK"]
[3567,174103,{"$f":"'Expenditures 15-22'!D352","v":174103},0,"OK"]
[3568,174103,{"$f":"'Expenditures 15-22'!D367","v":174103},0,"OK"]
[3569,0,null,0,"OK"]
[3570,8520392,{"$f":"'Expenditures 15-22'!E348","v":8520392},0,"OK"]
[3571,9530582.5099999998,{"$f":"'Expenditures 15-22'!E349","v":9530582.5099999998},0,"OK"]
[3572,18050974.510000002,{"$f":"'Expenditures 15-22'!E350","v":18050974.509999998},0,"OK"]
[3573,33544,{"$f":"'Expenditures 15-22'!E351","v":33544},0,"OK"]
[3574,18084518.510000002,{"$f":"'Expenditures 15-22'!E352","v":18084518.509999998},0,"OK"]
[3575,18084518.510000002,{"$f":"'Expenditures 15-22'!E367","v":18084518.509999998},0,"OK"]
[3576,0,null,0,"OK"]
[3577,102231,{"$f":"'Expenditures 15-22'!F348","v":102231},0,"OK"]
[3578,205880.31,{"$f":"'Expenditures 15-22'!F349","v":205880.31},0,"OK"]
[3579,308111.31,{"$f":"'Expenditures 15-22'!F350","v":308111.31},0,"OK"]
[3580,0,{"$f":"'Expenditures 15-22'!F351","v":0},0,"OK"]
[3581,308111.31,{"$f":"'Expenditures 15-22'!F352","v":308111.31},0,"OK"]
[3582,308111.31,{"$f":"'Expenditures 15-22'!F367","v":308111.31},0,"OK"]
[3583,0,null,0,"OK"]
[3584,117034836,{"$f":"'Expenditures 15-22'!G348","v":117034836},0,"OK"]
[3585,38254340,{"$f":"'Expenditures 15-22'!G349","v":38254340},0,{"$f":"IF((D3592 = 0),\"OK\",IF((D3592<-5),\"CHECK ME!\",IF((D3592>5),\"Check Me!\",\"OK\")))","v":"OK"}]
[3586,155289176,{"$f":"'Expenditures 15-22'!G350","v":155289176},0,"OK"]
[3587,0,{"$f":"'Expenditures 15-22'!G351","v":0},0,"OK"]
[3588,155289176,{"$f":"'Expenditures 15-22'!G352","v":155289176},0,"OK"]
[3589,155289176,{"$f":"'Expenditures 15-22'!G367","v":155289176},0,"OK"]
[3590,0,null,0,"OK"]
[3591,2330,{"$f":"'Expenditures 15-22'!H348","v":2330},0,"OK"]
[3592,219578,{"$f":"'Expenditures 15-22'!H349","v":219578},0,"OK"]
[3593,221908,{"$f":"'Expenditures 15-22'!H350","v":221908},0,"OK"]
[3594,390824,{"$f":"'Expenditures 15-22'!H351","v":390824},0,"OK"]
[3595,612732,{"$f":"'Expenditures 15-22'!H352","v":612732},0,"OK"]
[3596,0,{"$f":"'Expenditures 15-22'!H360","v":0},0,"OK"]
[3597,0,{"$f":"'Expenditures 15-22'!H362","v":0},0,"OK"]
[3598,0,null,0,"OK"]
[3599,939511,{"$f":"'Expenditures 15-22'!H367","v":939511},0,"OK"]
[3600,0,null,0,"OK"]
[3601,0,null,0,"OK"]
[3602,0,null,0,"OK"]
[3603,0,null,0,"OK"]
[3604,0,null,0,"OK"]
[3605,0,null,0,"OK"]
[3606,0,null,0,"OK"]
[3607,126955723,{"$f":"'Expenditures 15-22'!K348","v":126955723},0,"OK"]
[3608,49560613.82,{"$f":"'Expenditures 15-22'!K349","v":49560613.82},0,"OK"]
[3609,176516336.81999999,{"$f":"'Expenditures 15-22'!K350","v":176516336.81999999},0,"OK"]
[3610,469999,{"$f":"'Expenditures 15-22'!K351","v":469999},0,"OK"]
[3611,176986335.81999999,{"$f":"'Expenditures 15-22'!K352","v":176986335.81999999},0,"OK"]
[3612,13759,{"$f":"'Expenditures 15-22'!K356","v":13759},0,"OK"]
[3613,13759,{"$f":"'Expenditures 15-22'!K357","v":13759},0,"OK"]
[3614,0,{"$f":"'Expenditures 15-22'!K360","v":0},0,"OK"]
[3615,0,{"$f":"'Expenditures 15-22'!K362","v":0},0,"OK"]
[3616,0,null,0,"OK"]
[3617,177313114.81999999,{"$f":"'Expenditures 15-22'!K367","v":177313114.81999999},0,"OK"]
[3618,0,null,0,"OK"]
[3619,0,null,{"$f":"B3626-C3626","v":0},"OK"]
[3620,-116114050.75999999,{"$f":"'Expenditures 15-22'!K368","v":-116114050.75999999},0,"OK"]
[3621,0,{"$f":"'Short-Term Long-Term Debt 24'!C13","v":0},0,"OK"]
[3622,0,{"$f":"'Short-Term Long-Term Debt 24'!C19","v":0},0,"OK"]
[3623,0,{"$f":"'Short-Term Long-Term Debt 24'!D13","v":0},0,"OK"]
[3624,0,{"$f":"'Short-Term Long-Term Debt 24'!D19","v":0},0,"OK"]
[3625,0,{"$f":"'Short-Term Long-Term Debt 24'!E13","v":0},0,"OK"]
[3626,0,{"$f":"'Short-Term Long-Term Debt 24'!E19","v":0},0,"OK"]
[3627,0,{"$f":"'Short-Term Long-Term Debt 24'!F13","v":0},0,"OK"]
[3628,0,{"$f":"'Short-Term Long-Term Debt 24'!F19","v":0},0,"OK"]
[3629,0,null,0,"OK"]
[3630,0,null,0,"OK"]
[3631,0,null,0,"OK"]
[3632,0,null,0,"OK"]
[3633,0,null,0,"OK"]
[3634,0,null,0,"OK"]
[3635,0,null,0,"OK"]
[3636,0,null,0,"OK"]
[3637,2867664,{"$f":"'Acct Summary 7-8'!D30","v":2867664},0,"OK"]
[3638,207620,{"$f":"'Acct Summary 7-8'!E31","v":207620},0,"OK"]
[3639,0,null,0,"OK"]
[3640,0,null,0,"OK"]
[3641,2867664,{"$f":"'Acct Summary 7-8'!K52","v":2867664},0,"OK"]
[3642,207620,{"$f":"'Acct Summary 7-8'!K53","v":207620},0,"OK"]
[3643,0,null,0,"OK"]
[3644,0,null,0,"OK"]
[3645,0,null,0,"OK"]
[3646,0,null,0,"OK"]
[3647,0,null,0,"OK"]
[3648,0,null,0,"OK"]
[3649,0,null,0,{"$f":"IF((D3656 = 0),\"OK\",IF((D3656<-5),\"CHECK ME!\",IF((D3656>5),\"Check Me!\",\"OK\")))","v":"OK"}]
[3650,0,null,0,"OK"]
[3651,0,null,0,"OK"]
[3652,0,null,0,"OK"]
[3653,0,null,0,"OK"]
[3654,0,null,0,"OK"]
[3655,0,null,0,"OK"]
[3656,633862,{"$f":"'Expenditures 15-22'!K309","v":633862},0,"OK"]
[3657,0,{"$f":"'Acct Summary 7-8'!K7","v":0},0,"OK"]
[3658,0,"                                                                                                                                                                                                                   ",null,"OK"]
[3659,0,null,0,"OK"]
[3660,1598643,{"$f":"'Expenditures 15-22'!D283","v":1598643},0,"OK"]
[3661,1833094,{"$f":"'Expenditures 15-22'!D285","v":1833094},0,"OK"]
[3662,1598643,{"$f":"'Expenditures 15-22'!K283","v":1598643},0,"OK"]
[3663,1833094,{"$f":"'Expenditures 15-22'!K285","v":1833094},0,"OK"]
[3664,34116254,{"$f":"'Tax Sched 23'!B13","v":34116254},0,"OK"]
[3665,27471219.390000001,{"$f":"'Tax Sched 23'!D13","v":27471219.390000001},0,"OK"]
[3666,6645034.6100000003,{"$f":"'Tax Sched 23'!C13","v":6645034.6100000003},0,"OK"]
[3667,27996900.813951001,{"$f":"'Tax Sched 23'!F13","v":27996900.813951001},0,"OK"]
[3668,34641935.423951,{"$f":"'Tax Sched 23'!E13","v":34641935.423951},0,"OK"]
[3669,247528357.06]
[3670,0,null,0,"OK"]
[3671,0,null,0,"OK"]
[3672,0,null,0,"OK"]
[3673,0,null,0,"OK"]
[3674,0,null,0,"OK"]
[3675,0,null,0,"OK"]
[3676,0,null,0,"OK"]
[3677,0,null,0,"OK"]
[3678,0,null,0,"OK"]
[3679,0,null,0,"OK"]
[3680,0,null,0,"OK"]
[3681,0,null,0,"OK"]
[3682,0,null,0,"OK"]
[3683,0,null,{"$f":"B3690-C3690","v":0},"OK"]
[3684,0,null,0,"OK"]
[3685,0,null,0,"OK"]
[3686,0,null,0,"OK"]
[3687,0,null,0,"OK"]
[3688,0,null,0,"OK"]
[3689,0,null,0,"OK"]
[3690,0,null,0,"OK"]
[3691,0,null,0,"OK"]
[3692,0,null,0,"OK"]
[3693,0,null,0,"OK"]
[3694,0,null,0,"OK"]
[3695,0,null,0,"OK"]
[3696,0,null,0,"OK"]
[3697,0,null,0,"OK"]
[3698,0,null,0,"OK"]
[3699,0,null,0,"OK"]
[3700,0,null,0,"OK"]
[3701,0,null,0,"OK"]
[3702,0,null,0,"OK"]
[3703,0,null,0,"OK"]
[3704,0,null,0,"OK"]
[3705,0,null,0,"OK"]
[3706,0,null,0,"OK"]
[3707,0,null,0,"OK"]
[3708,0,null,0,"OK"]
[3709,0,null,0,"OK"]
[3710,0,null,0,"OK"]
[3711,0,null,0,"OK"]
[3712,0,null,0,"OK"]
[3713,0,null,0,{"$f":"IF((D3720 = 0),\"OK\",IF((D3720<-5),\"CHECK ME!\",IF((D3720>5),\"Check Me!\",\"OK\")))","v":"OK"}]
[3714,0,null,0,"OK"]
[3715,0,null,0,"OK"]
[3716,0,null,0,"OK"]
[3717,0,null,0,"OK"]
[3718,0,null,0,"OK"]
[3719,0,null,0,"OK"]
[3720,0,null,0,"OK"]
[3721,0,null,0,"OK"]
[3722,0,null,0,"OK"]
[3723,0,null,0,"OK"]
[3724,0,null,0,"OK"]
[3725,0,null,0,"OK"]
[3726,0,null,0,"OK"]
[3727,0,null,0,"OK"]
[3728,0,null,0,"OK"]
[3729,0,null,0,"OK"]
[3730,0,null,0,"OK"]
[3731,0,null,0,"OK"]
[3732,0,null,0,"OK"]
[3733,0,null,0,"OK"]
[3734,0,null,0,"OK"]
[3735,0,null,0,"OK"]
[3736,0,null,0,"OK"]
[3737,0,null,0,"OK"]
[3738,0,null,0,"OK"]
[3739,0,null,0,"OK"]
[3740,0,null,0,"OK"]
[3741,0,null,0,"OK"]
[3742,0,null,0,"OK"]
[3743,0,null,0,"OK"]
[3744,0,null,0,"OK"]
[3745,0,null,0,"OK"]
[3746,0,null,0,"OK"]
[3747,0,null,{"$f":"B3754-C3754","v":0},"OK"]
[3748,0,null,0,"OK"]
[3749,0,null,0,"OK"]
[3750,0,null,0,"OK"]
[3751,0,null,0,"OK"]
[3752,0,null,0,"OK"]
[3753,0,null,0,"OK"]
[3754,0,null,0,"OK"]
[3755,0,null,0,"OK"]
[3756,0,null,0,"OK"]
[3757,0,null,0,"OK"]
[3758,0,null,0,"OK"]
[3759,0,null,0,"OK"]
[3760,0,null,0,"OK"]
[3761,0,null,0,"OK"]
[3762,0,null,0,"OK"]
[3763,0,null,0,"OK"]
[3764,0,null,0,"OK"]
[3765,0,null,0,"OK"]
[3766,0,null,0,"OK"]
[3767,0,null,0,"OK"]
[3768,0,null,0,"OK"]
[3769,0,null,0,"OK"]
[3770,0,null,0,"OK"]
[3771,0,null,0,"OK"]
[3772,0,null,0,"OK"]
[3773,0,null,0,"OK"]
[3774,0,null,0,"OK"]
[3775,0,null,0,"OK"]
[3776,0,null,0,"OK"]
[3777,0,null,0,{"$f":"IF((D3784 = 0),\"OK\",IF((D3784<-5),\"CHECK ME!\",IF((D3784>5),\"Check Me!\",\"OK\")))","v":"OK"}]
[3778,0,null,0,"OK"]
[3779,0,null,0,"OK"]
[3780,0,null,0,"OK"]
[3781,0,null,0,"OK"]
[3782,0,null,0,"OK"]
[3783,0,null,0,"OK"]
[3784,0,null,0,"OK"]
[3785,0,null,0,"OK"]
[3786,0,null,0,"OK"]
[3787,0,null,0,"OK"]
[3788,0,null,0,"OK"]
[3789,0,null,0,"OK"]
[3790,0,null,0,"OK"]
[3791,0,null,0,"OK"]
[3792,0,null,0,"OK"]
[3793,0,null,0,"OK"]
[3794,0,null,0,"OK"]
[3795,0,null,0,"OK"]
[3796,0,null,0,"OK"]
[3797,0,null,0,"OK"]
[3798,0,null,0,"OK"]
[3799,0,null,0,"OK"]
[3800,0,null,0,"OK"]
[3801,0,null,0,"OK"]
[3802,0,null,0,"OK"]
[3803,0,null,0,"OK"]
[3804,0,null,0,"OK"]
[3805,0,null,0,"OK"]
[3806,0,null,0,"OK"]
[3807,0,null,0,"OK"]
[3808,0,null,0,"OK"]
[3809,0,null,0,"OK"]
[3810,0,null,0,"OK"]
[3811,0,null,{"$f":"B3818-C3818","v":0},"OK"]
[3812,0,null,0,"OK"]
[3813,0,null,0,"OK"]
[3814,0,null,0,"OK"]
[3815,0,null,0,"OK"]
[3816,0,null,0,"OK"]
[3817,0,null,0,"OK"]
[3818,0,null,0,"OK"]
[3819,0,null,0,"OK"]
[3820,0,null,0,"OK"]
[3821,0,null,0,"OK"]
[3822,0,null,0,"OK"]
[3823,0,null,0,"OK"]
[3824,0,null,0,"OK"]
[3825,0,null,0,"OK"]
[3826,0,null,0,"OK"]
[3827,0,null,0,"OK"]
[3828,0,null,0,"OK"]
[3829,0,null,0,"OK"]
[3830,0,null,0,"OK"]
[3831,0,null,0,"OK"]
[3832,0,null,0,"OK"]
[3833,0,null,0,"OK"]
[3834,0,null,0,"OK"]
[3835,0,null,0,"OK"]
[3836,0,null,0,"OK"]
[3837,0,null,0,"OK"]
[3838,0,null,0,"OK"]
[3839,0,null,0,"OK"]
[3840,0,null,0,"OK"]
[3841,0,null,0,{"$f":"IF((D3848 = 0),\"OK\",IF((D3848<-5),\"CHECK ME!\",IF((D3848>5),\"Check Me!\",\"OK\")))","v":"OK"}]
[3842,0,null,0,"OK"]
[3843,0,null,0,"OK"]
[3844,0,null,0,"OK"]
[3845,0,null,0,"OK"]
[3846,0,null,0,"OK"]
[3847,0,null,0,"OK"]
[3848,0,null,0,"OK"]
[3849,0,null,0,"OK"]
[3850,0,null,0,"OK"]
[3851,0,null,0,"OK"]
[3852,0,null,0,"OK"]
[3853,0,null,0,"OK"]
[3854,0,null,0,"OK"]
[3855,0,null,0,"OK"]
[3856,0,null,0,"OK"]
[3857,0,null,0,"OK"]
[3858,0,null,0,"OK"]
[3859,0,null,0,"OK"]
[3860,0,null,0,"OK"]
[3861,0,null,0,"OK"]
[3862,0,null,0,"OK"]
[3863,0,null,0,"OK"]
[3864,0,null,0,"OK"]
[3865,0,null,0,"OK"]
[3866,0,null,0,"OK"]
[3867,0,null,0,"OK"]
[3868,0,null,0,"OK"]
[3869,0,null,0,"OK"]
[3870,0,null,0,"OK"]
[3871,0,null,0,"OK"]
[3872,0,null,0,"OK"]
[3873,0,null,0,"OK"]
[3874,0,null,0,"OK"]
[3875,0,null,{"$f":"B3882-C3882","v":0},"OK"]
[3876,0,null,0,"OK"]
[3877,0,null,0,"OK"]
[3878,0,null,0,"OK"]
[3879,0,null,0,"OK"]
[3880,0,null,0,"OK"]
[3881,0,null,0,"OK"]
[3882,0,null,0,"OK"]
[3883,0,null,0,"OK"]
[3884,0,null,0,"OK"]
[3885,0,null,0,"OK"]
[3886,0,null,0,"OK"]
[3887,0,null,0,"OK"]
[3888,0,null,0,"OK"]
[3889,0,null,0,"OK"]
[3890,0,null,0,"OK"]
[3891,0,null,0,"OK"]
[3892,0,null,0,"OK"]
[3893,0,null,0,"OK"]
[3894,0,null,0,"OK"]
[3895,0,null,0,"OK"]
[3896,0,null,0,"OK"]
[3897,0,null,0,"OK"]
[3898,0,null,0,"OK"]
[3899,0,null,0,"OK"]
[3900,0,null,0,"OK"]
[3901,0,null,0,"OK"]
[3902,0,null,0,"OK"]
[3903,0,null,0,"OK"]
[3904,0,null,0,"OK"]
[3905,0,null,0,{"$f":"IF((D3912 = 0),\"OK\",IF((D3912<-5),\"CHECK ME!\",IF((D3912>5),\"Check Me!\",\"OK\")))","v":"OK"}]
[3906,0,null,0,"OK"]
[3907,0,null,0,"OK"]
[3908,0,null,0,"OK"]
[3909,0,null,0,"OK"]
[3910,0,null,0,"OK"]
[3911,0,null,0,"OK"]
[3912,0,null,0,"OK"]
[3913,0,null,0,"OK"]
[3914,0,null,0,"OK"]
[3915,0,null,0,"OK"]
[3916,0,null,0,"OK"]
[3917,0,null,0,"OK"]
[3918,0,null,0,"OK"]
[3919,0,null,0,"OK"]
[3920,0,null,0,"OK"]
[3921,0,null,0,"OK"]
[3922,0,null,0,"OK"]
[3923,0,null,0,"OK"]
[3924,0,null,0,"OK"]
[3925,0,null,0,"OK"]
[3926,0,null,0,"OK"]
[3927,0,null,0,"OK"]
[3928,0,null,0,"OK"]
[3929,0,null,0,"OK"]
[3930,0,null,0,"OK"]
[3931,0,null,0,"OK"]
[3932,0,null,0,"OK"]
[3933,0,null,0,"OK"]
[3934,0,null,0,"OK"]
[3935,0,null,0,"OK"]
[3936,0,null,0,"OK"]
[3937,0,null,0,"OK"]
[3938,0,null,0,"OK"]
[3939,0,null,{"$f":"B3946-C3946","v":0},"OK"]
[3940,0,null,0,"OK"]
[3941,0,null,0,"OK"]
[3942,0,null,0,"OK"]
[3943,0,null,0,"OK"]
[3944,0,null,0,"OK"]
[3945,0,null,0,"OK"]
[3946,0,null,0,"OK"]
[3947,0,null,0,"OK"]
[3948,0,null,0,"OK"]
[3949,0,null,0,"OK"]
[3950,0,null,0,"OK"]
[3951,0,null,0,"OK"]
[3952,0,null,0,"OK"]
[3953,0,null,0,"OK"]
[3954,0,null,0,"OK"]
[3955,0,null,0,"OK"]
[3956,0,null,0,"OK"]
[3957,0,null,0,"OK"]
[3958,0,null,0,"OK"]
[3959,0,null,0,"OK"]
[3960,0,null,0,"OK"]
[3961,0,null,0,"OK"]
[3962,0,null,0,"OK"]
[3963,0,null,0,"OK"]
[3964,0,null,0,"OK"]
[3965,0,null,0,"OK"]
[3966,0,null,0,"OK"]
[3967,0,null,0,"OK"]
[3968,0,null,0,"OK"]
[3969,0,null,0,{"$f":"IF((D3976 = 0),\"OK\",IF((D3976<-5),\"CHECK ME!\",IF((D3976>5),\"Check Me!\",\"OK\")))","v":"OK"}]
[3970,0,null,0,"OK"]
[3971,0,null,0,"OK"]
[3972,0,null,0,"OK"]
[3973,0,null,0,"OK"]
[3974,0,null,0,"OK"]
[3975,0,null,0,"OK"]
[3976,0,null,0,"OK"]
[3977,0,null,0,"OK"]
[3978,0,null,0,"OK"]
[3979,0,null,0,"OK"]
[3980,0,null,0,"OK"]
[3981,0,null,0,"OK"]
[3982,0,null,0,"OK"]
[3983,0,null,0,"OK"]
[3984,0,null,0,"OK"]
[3985,0,null,0,"OK"]
[3986,0,null,0,"OK"]
[3987,0,null,0,"OK"]
[3988,0,null,0,"OK"]
[3989,0,null,0,"OK"]
[3990,0,null,0,"OK"]
[3991,0,null,0,"OK"]
[3992,0,null,0,"OK"]
[3993,0,null,0,"OK"]
[3994,0,null,0,"OK"]
[3995,0,null,0,"OK"]
[3996,0,null,0,"OK"]
[3997,0,null,0,"OK"]
[3998,0,null,0,"OK"]
[3999,0,null,0,"OK"]
[4000,0,null,0,"OK"]
[4001,0,null,0,"OK"]
[4002,0,null,0,"OK"]
[4003,0,null,{"$f":"B4010-C4010","v":0},"OK"]
[4004,0,null,0,"OK"]
[4005,0,null,0,"OK"]
[4006,0,null,0,"OK"]
[4007,0,null,0,"OK"]
[4008,0,null,0,"OK"]
[4009,0,null,0,"OK"]
[4010,0,null,0,"OK"]
[4011,0,null,0,"OK"]
[4012,0,null,0,"OK"]
[4013,136155,{"$f":"'Expenditures 15-22'!C120","v":136155},0,"OK"]
[4014,20267,{"$f":"'Expenditures 15-22'!D120","v":20267},0,"OK"]
[4015,67281,{"$f":"'Expenditures 15-22'!E120","v":67281},0,"OK"]
[4016,6909,{"$f":"'Expenditures 15-22'!F120","v":6909},0,"OK"]
[4017,15000,{"$f":"'Expenditures 15-22'!G120","v":15000},0,"OK"]
[4018,0,{"$f":"'Expenditures 15-22'!H120","v":0},0,"OK"]
[4019,245612,{"$f":"'Expenditures 15-22'!K120","v":245612},0,"OK"]
[4020,2299594,{"$f":"'Expenditures 15-22'!C180","v":2299594},0,"OK"]
[4021,232570,{"$f":"'Expenditures 15-22'!D180","v":232570},0,"OK"]
[4022,2280875,{"$f":"'Expenditures 15-22'!E180","v":2280875},0,"OK"]
[4023,525411,{"$f":"'Expenditures 15-22'!F180","v":525411},0,"OK"]
[4024,371449,{"$f":"'Expenditures 15-22'!G180","v":371449},0,"OK"]
[4025,6382,{"$f":"'Expenditures 15-22'!H180","v":6382},0,"OK"]
[4026,5749983,{"$f":"'Expenditures 15-22'!K180","v":5749983},0,"OK"]
[4027,0,null,0,"OK"]
[4028,0,null,0,"OK"]
[4029,0,null,0,"OK"]
[4030,0,null,0,"OK"]
[4031,0,null,0,"OK"]
[4032,0,null,0,"OK"]
[4033,0,null,0,{"$f":"IF((D4040 = 0),\"OK\",IF((D4040<-5),\"CHECK ME!\",IF((D4040>5),\"Check Me!\",\"OK\")))","v":"OK"}]
[4034,0,null,0,"OK"]
[4035,0,null,0,"OK"]
[4036,0,null,0,"OK"]
[4037,0,null,0,"OK"]
[4038,0,{"$f":"'Expenditures 15-22'!K307","v":0},0,"OK"]
[4039,0,{"$f":"'Expenditures 15-22'!K308","v":0},0,"OK"]
[4040,0,null,0,"OK"]
[4041,0,{"$f":"'Tax Sched 23'!B17","v":0},0,"OK"]
[4042,444998936,{"$f":"'Tax Sched 23'!B18","v":444998936},0,"OK"]
[4043,0,{"$f":"'Tax Sched 23'!D17","v":0},0,"OK"]
[4044,40244603,{"$f":"'Tax Sched 23'!D18","v":40244603},0,"OK"]
[4045,0,{"$f":"'Tax Sched 23'!C17","v":0},0,"OK"]
[4046,404754333,{"$f":"'Tax Sched 23'!C18","v":404754333},0,"OK"]
[4047,0,{"$f":"'Tax Sched 23'!F17","v":0},0,"OK"]
[4048,22696016.41,{"$f":"'Tax Sched 23'!F18","v":22696016.410000026},0,"OK"]
[4049,0,{"$f":"'Tax Sched 23'!E17","v":0},0,"OK"]
[4050,427450349.41000003,{"$f":"'Tax Sched 23'!E18","v":427450349.41000003},0,"OK"]
[4051,0,null,0,"OK"]
[4052,5909326256.7989998,{"$f":"'Acct Summary 7-8'!C9","v":5909326256.7989998},0,"OK"]
[4053,7090148,{"$f":"'Acct Summary 7-8'!D9","v":7090148},0,"OK"]
[4054,0,{"$f":"'Acct Summary 7-8'!E9","v":0},0,"OK"]
[4055,2379,{"$f":"'Acct Summary 7-8'!F9","v":2379},0,"OK"]
[4056,0,{"$f":"'Acct Summary 7-8'!G9","v":0},0,"OK"]
[4057,688465,{"$f":"'Acct Summary 7-8'!H9","v":688465},0,"OK"]
[4058,0,null,0,"OK"]
[4059,0,null,0,"OK"]
[4060,0,{"$f":"'Acct Summary 7-8'!K9","v":0},0,"OK"]
[4061,29236832222.309002,{"$f":"'Acct Summary 7-8'!C10","v":29236832222.309002},0,"OK"]
[4062,2428317148.1999998,{"$f":"'Acct Summary 7-8'!D10","v":2428317148.2000003},0,"OK"]
[4063,2163864424.4200001,{"$f":"'Acct Summary 7-8'!E10","v":2163864424.4200001},0,"OK"]
[4064,1323387060.01,{"$f":"'Acct Summary 7-8'!F10","v":1323387060.01},0,"OK"]
[4065,649569492.86000001,{"$f":"'Acct Summary 7-8'!G10","v":649569492.86000001},0,"OK"]
[4066,282974123.18000001,{"$f":"'Acct Summary 7-8'!H10","v":282974123.18000001},0,"OK"]
[4067,116633339.3,{"$f":"'Acct Summary 7-8'!I10","v":116633339.30000001},{"$f":"B4074-C4074","v":0},"OK"]
[4068,0,null,null,"OK"]
[4069,61199064.059999995,{"$f":"'Acct Summary 7-8'!K10","v":61199064.060000002},0,"OK"]
[4070,5909326256.7989998,{"$f":"'Acct Summary 7-8'!C18","v":5909326256.7989998},0,"OK"]
[4071,7090148,{"$f":"'Acct Summary 7-8'!D18","v":7090148},0,"OK"]
[4072,2379,{"$f":"'Acct Summary 7-8'!F18","v":2379},0,"OK"]
[4073,688465,{"$f":"'Acct Summary 7-8'!H18","v":688465},0,"OK"]
[4074,0,{"$f":"'Acct Summary 7-8'!K18","v":0},0,"OK"]
[4075,28354916046.729,{"$f":"'Acct Summary 7-8'!C19","v":28354916046.728996},0,"OK"]
[4076,2339447675.3999996,{"$f":"'Acct Summary 7-8'!D19","v":2339447675.4000001},0,"OK"]
[4077,2676022720.6999998,{"$f":"'Acct Summary 7-8'!E19","v":2676022720.6999998},0,"OK"]
[4078,1252041017.26,{"$f":"'Acct Summary 7-8'!F19","v":1252041017.26},0,"OK"]
[4079,620058196.21000004,{"$f":"'Acct Summary 7-8'!G19","v":620058196.21000016},0,"OK"]
[4080,2016844332.8,{"$f":"'Acct Summary 7-8'!H19","v":2016844332.8},0,"OK"]
[4081,0,null,0,"OK"]
[4082,0,null,null,"OK"]
[4083,177313114.81999999,{"$f":"'Acct Summary 7-8'!K19","v":177313114.81999999},0,"OK"]
[4084,0,null,0,"OK"]
[4085,0,null,0,"OK"]
[4086,0,null,0,"OK"]
[4087,0,null,0,"OK"]
[4088,0,null,0,"OK"]
[4089,0,null,0,"OK"]
[4090,0,null,0,"OK"]
[4091,0,null,0,"OK"]
[4092,0,null,0,"OK"]
[4093,0,null,0,"OK"]
[4094,0,null,0,"OK"]
[4095,178861,{"$f":"'Expenditures 15-22'!H204","v":178861},0,"OK"]
[4096,178861,{"$f":"'Expenditures 15-22'!K204","v":178861},0,"OK"]
[4097,0,null,0,{"$f":"IF((D4104 = 0),\"OK\",IF((D4104<-5),\"CHECK ME!\",IF((D4104>5),\"Check Me!\",\"OK\")))","v":"OK"}]
[4098,0,null,0,"OK"]
[4099,0,null,0,"OK"]
[4100,0,null,0,"OK"]
[4101,0,null,0,"OK"]
[4102,0,null,0,"OK"]
[4103,0,null,0,"OK"]
[4104,0,{"$f":"'Expenditures 15-22'!D284","v":0},0,"OK"]
[4105,0,{"$f":"'Expenditures 15-22'!K284","v":0},0,"OK"]
[4106,0,null,0,"OK"]
[4107,0,null,0,"OK"]
[4108,0,null,0,"OK"]
[4109,0,null,0,"OK"]
[4110,21737434113.900002,{"$f":"'Short-Term Long-Term Debt 24'!I49","v":21737434113.900002},0,"OK"]
[4111,20159129693.900002,{"$f":"'Short-Term Long-Term Debt 24'!J49","v":20159129693.900002},0,"OK"]
[4112,2147359252,{"$f":"'Short-Term Long-Term Debt 24'!H49","v":2147359252},0,"OK"]
[4113,0,null,0,"OK"]
[4114,0,{"$f":"'Acct Summary 7-8'!E18","v":0},0,"OK"]
[4115,0,{"$f":"'Acct Summary 7-8'!G18","v":0},0,"OK"]
[4116,-379577762,{"$f":"'Short-Term Long-Term Debt 24'!G49","v":-379577762},0,"OK"]
[4117,0,null,0,"OK"]
[4118,0,{"$f":"'Revenues 9-14'!D161","v":0},0,"OK"]
[4119,0,{"$f":"'Revenues 9-14'!F161","v":0},0,"OK"]
[4120,0,{"$f":"'Revenues 9-14'!G161","v":0},0,"OK"]
[4121,0,null,0,"OK"]
[4122,0,null,0,"OK"]
[4123,0,null,0,"OK"]
[4124,0,null,0,"OK"]
[4125,0,null,0,"OK"]
[4126,0,null,0,"OK"]
[4127,0,null,0,"OK"]
[4128,237596,{"$f":"'Revenues 9-14'!C260","v":237596},0,"OK"]
[4129,0,{"$f":"'Revenues 9-14'!D260","v":0},0,"OK"]
[4130,0,{"$f":"'Revenues 9-14'!F260","v":0},0,"OK"]
[4131,0,{"$f":"'Revenues 9-14'!G260","v":0},{"$f":"B4138-C4138","v":0},"OK"]
[4132,0,null,0,"OK"]
[4133,0,null,0,"OK"]
[4134,0,null,0,"OK"]
[4135,0,null,0,"OK"]
[4136,0,null,0,"OK"]
[4137,0,null,0,"OK"]
[4138,1457659,{"$f":"'Expenditures 15-22'!E134","v":1457659},0,"OK"]
[4139,349840,{"$f":"'Expenditures 15-22'!E135","v":349840},0,"OK"]
[4140,275333,{"$f":"'Expenditures 15-22'!E136","v":275333},0,"OK"]
[4141,2592832,{"$f":"'Expenditures 15-22'!E137","v":2592832},0,"OK"]
[4142,2592832,{"$f":"'Expenditures 15-22'!E139","v":2592832},0,"OK"]
[4143,0,null,0,"OK"]
[4144,0,null,0,"OK"]
[4145,0,null,0,"OK"]
[4146,0,null,0,"OK"]
[4147,0,null,0,"OK"]
[4148,0,null,0,"OK"]
[4149,14777034,{"$f":"'Expenditures 15-22'!H206","v":14777034},0,"OK"]
[4150,14777034,{"$f":"'Expenditures 15-22'!K206","v":14777034},0,"OK"]
[4151,0,null,0,"OK"]
[4152,0,null,0,"OK"]
[4153,0,null,0,"OK"]
[4154,0,{"$f":"'Revenues 9-14'!I168","v":0},0,"OK"]
[4155,0,{"$f":"'Revenues 9-14'!I170","v":0},0,"OK"]
[4156,0,{"$f":"'Acct Summary 7-8'!E36","v":0},0,"OK"]
[4157,0,null,0,"OK"]
[4158,0,null,0,"OK"]
[4159,0,null,0,"OK"]
[4160,0,null,0,"OK"]
[4161,0,null,0,{"$f":"IF((D4168 = 0),\"OK\",IF((D4168<-5),\"CHECK ME!\",IF((D4168>5),\"Check Me!\",\"OK\")))","v":"OK"}]
[4162,0,null,0,"OK"]
[4163,0,null,0,"OK"]
[4164,0,null,0,"OK"]
[4165,0,null,0,"OK"]
[4166,1226411,{"$f":"'Revenues 9-14'!C140","v":1226411},0,"OK"]
[4167,0,{"$f":"'Revenues 9-14'!D140","v":0},0,"OK"]
[4168,0,null,0,"OK"]
[4169,0,{"$f":"'Revenues 9-14'!G140","v":0},0,"OK"]
[4170,0,null,0,"OK"]
[4171,0,null,0,"OK"]
[4172,0,null,0,"OK"]
[4173,0,null,0,"OK"]
[4174,0,null,0,"OK"]
[4175,0,null,0,"OK"]
[4176,0,null,0,"OK"]
[4177,0,null,0,"OK"]
[4178,0,null,0,"OK"]
[4179,0,null,0,"OK"]
[4180,0,null,0,"OK"]
[4181,0,null,0,"OK"]
[4182,0,null,0,"OK"]
[4183,0,null,0,"OK"]
[4184,0,null,0,"OK"]
[4185,0,null,0,"OK"]
[4186,0,null,0,"OK"]
[4187,0,null,0,"OK"]
[4188,0,null,0,"OK"]
[4189,0,null,0,"OK"]
[4190,0,null,0,"OK"]
[4191,0,null,0,"OK"]
[4192,0,null,0,"OK"]
[4193,0,null,0,"OK"]
[4194,0,null,0,"OK"]
[4195,0,null,{"$f":"B4202-C4202","v":0},"OK"]
[4196,0,null,0,"OK"]
[4197,0,null,0,"OK"]
[4198,0,null,0,"OK"]
[4199,0,null,0,"OK"]
[4200,0,null,0,"OK"]
[4201,0,null,0,"OK"]
[4202,0,null,0,"OK"]
[4203,0,null,0,"OK"]
[4204,2102863.287]
[4205,384972.61519999983]
[4206,171522.9492]
[4207,2659384]
[4208,12791852695.430002]
[4209,5665553]
[4210,0]
[4211,0]
[4212,0]
[4213,0,null,0,"OK"]
[4214,0,null,0,"OK"]
[4215,0,null,0,"OK"]
[4216,0,null,0,"OK"]
[4217,0,null,0,"OK"]
[4218,0,null,0,"OK"]
[4219,0,null,0,"OK"]
[4220,0,null,0,"OK"]
[4221,0,null,0,"OK"]
[4222,0,null,0,"OK"]
[4223,0,null,0,"OK"]
[4224,0,null,0,"OK"]
[4225,0,null,0,{"$f":"IF((D4232 = 0),\"OK\",IF((D4232<-5),\"CHECK ME!\",IF((D4232>5),\"Check Me!\",\"OK\")))","v":"OK"}]
[4226,0,null,0,"OK"]
[4227,0,null,0,"OK"]
[4228,0,null,0,"OK"]
[4229,0,null,0,"OK"]
[4230,0,null,0,"OK"]
[4231,0,null,0,"OK"]
[4232,0,null,0,"OK"]
[4233,0,null,0,"OK"]
[4234,0,null,0,"OK"]
[4235,0,null,0,"OK"]
[4236,0,null,0,"OK"]
[4237,447453,{"$f":"'Rest Tax Levies-Tort Im 25'!G31","v":447453},0,"OK"]
[4238,0,{"$f":"'Rest Tax Levies-Tort Im 25'!G32","v":0},0,"OK"]
[4239,1685682,{"$f":"'Rest Tax Levies-Tort Im 25'!G36","v":1685682},0,"OK"]
[4240,107634,{"$f":"'Rest Tax Levies-Tort Im 25'!G37","v":107634},0,"OK"]
[4241,1453213,{"$f":"'Rest Tax Levies-Tort Im 25'!G38","v":1453213},0,"OK"]
[4242,529760,{"$f":"'Rest Tax Levies-Tort Im 25'!G39","v":529760},0,"OK"]
[4243,0,{"$f":"'Rest Tax Levies-Tort Im 25'!G40","v":0},0,"OK"]
[4244,20510,{"$f":"'Rest Tax Levies-Tort Im 25'!G41","v":20510},0,"OK"]
[4245,0,{"$f":"'Rest Tax Levies-Tort Im 25'!G42","v":0},0,"OK"]
[4246,165223,{"$f":"'Rest Tax Levies-Tort Im 25'!G43","v":165223},0,"OK"]
[4247,0,{"$f":"'Rest Tax Levies-Tort Im 25'!G44","v":0},0,"OK"]
[4248,64749,{"$f":"'Revenues 9-14'!C131","v":64749},0,"OK"]
[4249,0,{"$f":"'Revenues 9-14'!D131","v":0},0,"OK"]
[4250,0,{"$f":"'Revenues 9-14'!F131","v":0},0,"OK"]
[4251,150750,{"$f":"'Revenues 9-14'!C150","v":150750},0,"OK"]
[4252,0,{"$f":"'Revenues 9-14'!D150","v":0},0,"OK"]
[4253,0,{"$f":"'Revenues 9-14'!C154","v":0},0,"OK"]
[4254,0,{"$f":"'Revenues 9-14'!D154","v":0},0,"OK"]
[4255,4685,{"$f":"'Revenues 9-14'!F154","v":4685},0,"OK"]
[4256,5055,{"$f":"'Revenues 9-14'!C164","v":5055},0,"OK"]
[4257,0,{"$f":"'Revenues 9-14'!F164","v":0},0,"OK"]
[4258,0,null,0,"OK"]
[4259,0,null,{"$f":"B4266-C4266","v":0},"OK"]
[4260,750,{"$f":"'Revenues 9-14'!C165","v":750},0,"OK"]
[4261,0,{"$f":"'Revenues 9-14'!F165","v":0},0,"OK"]
[4262,0,null,0,"OK"]
[4263,0,null,0,"OK"]
[4264,0,null,0,"OK"]
[4265,0,null,0,"OK"]
[4266,370611,{"$f":"'Revenues 9-14'!D166","v":370611},0,"OK"]
[4267,3036676,{"$f":"'Revenues 9-14'!H166","v":3036676},0,"OK"]
[4268,5000,{"$f":"'Revenues 9-14'!D167","v":5000},0,"OK"]
[4269,0,{"$f":"'Revenues 9-14'!K167","v":0},0,"OK"]
[4270,19011864,{"$f":"'Revenues 9-14'!C197","v":19011864},0,"OK"]
[4271,24580103,{"$f":"'Revenues 9-14'!C203","v":24580103},0,"OK"]
[4272,0,{"$f":"'Revenues 9-14'!D203","v":0},0,"OK"]
[4273,18720,{"$f":"'Revenues 9-14'!F203","v":18720},0,"OK"]
[4274,237,{"$f":"'Revenues 9-14'!G203","v":237},0,"OK"]
[4275,616592,{"$f":"'Revenues 9-14'!C208","v":616592},0,"OK"]
[4276,0,{"$f":"'Revenues 9-14'!D208","v":0},0,"OK"]
[4277,0,{"$f":"'Revenues 9-14'!F208","v":0},0,"OK"]
[4278,0,{"$f":"'Revenues 9-14'!G208","v":0},0,"OK"]
[4279,180732,{"$f":"'Revenues 9-14'!C216","v":180732},0,"OK"]
[4280,0,{"$f":"'Revenues 9-14'!D216","v":0},0,"OK"]
[4281,0,{"$f":"'Revenues 9-14'!F216","v":0},0,"OK"]
[4282,0,{"$f":"'Revenues 9-14'!G216","v":0},0,"OK"]
[4283,8540138,{"$f":"'Revenues 9-14'!C220","v":8540138},0,"OK"]
[4284,0,{"$f":"'Revenues 9-14'!D220","v":0},0,"OK"]
[4285,0,{"$f":"'Revenues 9-14'!G220","v":0},0,"OK"]
[4286,0,null,0,"OK"]
[4287,0,null,0,"OK"]
[4288,0,null,0,"OK"]
[4289,0,null,0,{"$f":"IF((D4296 = 0),\"OK\",IF((D4296<-5),\"CHECK ME!\",IF((D4296>5),\"Check Me!\",\"OK\")))","v":"OK"}]
[4290,72316,{"$f":"'Revenues 9-14'!C147","v":72316},0,"OK"]
[4291,0,{"$f":"'Revenues 9-14'!D147","v":0},0,"OK"]
[4292,0,{"$f":"'Revenues 9-14'!G147","v":0},0,"OK"]
[4293,0,{"$f":"'Revenues 9-14'!F150","v":0},0,"OK"]
[4294,0,{"$f":"'Revenues 9-14'!G150","v":0},0,"OK"]
[4295,0,{"$f":"'Revenues 9-14'!G154","v":0},0,"OK"]
[4296,523000,{"$f":"'Revenues 9-14'!G155","v":523000},0,"OK"]
[4297,38035506.5,{"$f":"'Revenues 9-14'!C263","v":38035506.5},0,"OK"]
[4298,4612,{"$f":"'Revenues 9-14'!D263","v":4612},0,"OK"]
[4299,21011,{"$f":"'Revenues 9-14'!F263","v":21011},0,"OK"]
[4300,0,{"$f":"'Revenues 9-14'!G263","v":0},0,"OK"]
[4301,110434315.08,{"$f":"'Revenues 9-14'!C264","v":110434315.08},0,"OK"]
[4302,0,{"$f":"'Revenues 9-14'!I169","v":0},0,"OK"]
[4303,0,{"$f":"'Revenues 9-14'!E173","v":0},0,"OK"]
[4304,0,{"$f":"'Revenues 9-14'!H173","v":0},0,"OK"]
[4305,0,{"$f":"'Revenues 9-14'!I173","v":0},0,"OK"]
[4306,0,null,0,"OK"]
[4307,0,{"$f":"'Revenues 9-14'!K173","v":0},0,"OK"]
[4308,182652,{"$f":"'Revenues 9-14'!E174","v":182652},0,"OK"]
[4309,0,{"$f":"'Revenues 9-14'!I174","v":0},0,"OK"]
[4310,0,null,0,"OK"]
[4311,182652,{"$f":"'Revenues 9-14'!E175","v":182652},0,"OK"]
[4312,0,{"$f":"'Revenues 9-14'!I175","v":0},0,"OK"]
[4313,0,null,0,"OK"]
[4314,0,{"$f":"'Revenues 9-14'!C185","v":0},0,"OK"]
[4315,0,{"$f":"'Revenues 9-14'!D185","v":0},0,"OK"]
[4316,0,{"$f":"'Revenues 9-14'!F185","v":0},0,"OK"]
[4317,0,{"$f":"'Revenues 9-14'!G185","v":0},0,"OK"]
[4318,2853539,{"$f":"'Revenues 9-14'!C186","v":2853539},0,"OK"]
[4319,0,{"$f":"'Revenues 9-14'!D186","v":0},0,"OK"]
[4320,0,{"$f":"'Revenues 9-14'!F186","v":0},0,"OK"]
[4321,0,{"$f":"'Revenues 9-14'!G186","v":0},0,"OK"]
[4322,0,null,0,"OK"]
[4323,0,null,{"$f":"B4330-C4330","v":0},"OK"]
[4324,0,null,0,"OK"]
[4325,0,null,0,"OK"]
[4326,0,null,0,"OK"]
[4327,0,null,0,"OK"]
[4328,0,null,0,"OK"]
[4329,0,null,0,"OK"]
[4330,178447,{"$f":"'Revenues 9-14'!C187","v":178447},0,"OK"]
[4331,0,{"$f":"'Revenues 9-14'!D187","v":0},0,"OK"]
[4332,0,{"$f":"'Revenues 9-14'!F187","v":0},0,"OK"]
[4333,0,{"$f":"'Revenues 9-14'!G187","v":0},0,"OK"]
[4334,3103140,{"$f":"'Revenues 9-14'!C188","v":3103140},0,"OK"]
[4335,0,{"$f":"'Revenues 9-14'!D188","v":0},0,"OK"]
[4336,41000,{"$f":"'Revenues 9-14'!F188","v":41000},0,"OK"]
[4337,0,{"$f":"'Revenues 9-14'!G188","v":0},0,"OK"]
[4338,0,null,0,"OK"]
[4339,0,null,0,"OK"]
[4340,0,null,0,"OK"]
[4341,0,null,0,"OK"]
[4342,0,null,0,"OK"]
[4343,0,null,0,"OK"]
[4344,0,null,0,"OK"]
[4345,0,null,0,"OK"]
[4346,18308735,{"$f":"'Revenues 9-14'!C207","v":18308735},0,"OK"]
[4347,0,{"$f":"'Revenues 9-14'!D207","v":0},0,"OK"]
[4348,259820,{"$f":"'Revenues 9-14'!F207","v":259820},0,"OK"]
[4349,63020,{"$f":"'Revenues 9-14'!G207","v":63020},0,"OK"]
[4350,33571092,{"$f":"'Revenues 9-14'!C209","v":33571092},0,"OK"]
[4351,0,{"$f":"'Revenues 9-14'!D209","v":0},0,"OK"]
[4352,272560,{"$f":"'Revenues 9-14'!F209","v":272560},0,"OK"]
[4353,73570,{"$f":"'Revenues 9-14'!G209","v":73570},0,{"$f":"IF((D4360 = 0),\"OK\",IF((D4360<-5),\"CHECK ME!\",IF((D4360>5),\"Check Me!\",\"OK\")))","v":"OK"}]
[4354,24595061,{"$f":"'Revenues 9-14'!C256","v":24595061},0,"OK"]
[4355,18316,{"$f":"'Revenues 9-14'!F256","v":18316},0,"OK"]
[4356,25807,{"$f":"'Revenues 9-14'!G256","v":25807},0,"OK"]
[4357,70376958,{"$f":"'Revenues 9-14'!C259","v":70376958},0,"OK"]
[4358,0,{"$f":"'Revenues 9-14'!D259","v":0},0,"OK"]
[4359,0,{"$f":"'Revenues 9-14'!F259","v":0},0,"OK"]
[4360,19877,{"$f":"'Revenues 9-14'!G259","v":19877},0,"OK"]
[4361,0,null,0,"OK"]
[4362,0,null,0,"OK"]
[4363,0,null,0,"OK"]
[4364,0,null,0,"OK"]
[4365,0,null,0,"OK"]
[4366,0,null,0,"OK"]
[4367,0,null,0,"OK"]
[4368,0,null,0,"OK"]
[4369,0,null,0,"OK"]
[4370,0,null,0,"OK"]
[4371,0,null,0,"OK"]
[4372,0,null,0,"OK"]
[4373,48301633,{"$f":"'Revenues 9-14'!E267","v":48301633},0,"OK"]
[4374,0,{"$f":"'Revenues 9-14'!I267","v":0},0,"OK"]
[4375,0,null,0,"OK"]
[4376,43332.429000000004]
[4377,0,null,0,"OK"]
[4378,0,null,0,"OK"]
[4379,0,null,0,"OK"]
[4380,1523211,{"$f":"'Revenues 9-14'!H266","v":1523211},0,"OK"]
[4381,0,{"$f":"'Revenues 9-14'!K266","v":0},0,"OK"]
[4382,48301633,{"$f":"'Acct Summary 7-8'!E7","v":48301633},0,"OK"]
[4383,0,{"$f":"'Acct Summary 7-8'!I7","v":0},0,"OK"]
[4384,0,null,0,"OK"]
[4385,2458,{"$f":"'Revenues 9-14'!D264","v":2458},0,"OK"]
[4386,134620,{"$f":"'Revenues 9-14'!F264","v":134620},0,"OK"]
[4387,5,{"$f":"'Revenues 9-14'!G264","v":5},{"$f":"B4394-C4394","v":0},"OK"]
[4388,0,null,0,"OK"]
[4389,0,null,0,"OK"]
[4390,0,null,0,"OK"]
[4391,0,null,0,"OK"]
[4392,0,null,0,"OK"]
[4393,0,null,0,"OK"]
[4394,0,null,0,"OK"]
[4395,0,null,0,"OK"]
[4396,0,null,0,"OK"]
[4397,0,null,0,"OK"]
[4398,0,null,0,"OK"]
[4399,0,null,0,"OK"]
[4400,0,null,0,"OK"]
[4401,0,null,0,"OK"]
[4402,0,null,0,"OK"]
[4403,0,null,0,"OK"]
[4404,0,null,0,"OK"]
[4405,0,null,0,"OK"]
[4406,0,null,0,"OK"]
[4407,0,null,0,"OK"]
[4408,0,null,0,"OK"]
[4409,0,null,0,"OK"]
[4410,0,null,0,"OK"]
[4411,0,null,0,"OK"]
[4412,0,null,0,"OK"]
[4413,0,null,0,"OK"]
[4414,0,null,0,"OK"]
[4415,0,null,0,"OK"]
[4416,0,null,0,"OK"]
[4417,0,null,0,{"$f":"IF((D4424 = 0),\"OK\",IF((D4424<-5),\"CHECK ME!\",IF((D4424>5),\"Check Me!\",\"OK\")))","v":"OK"}]
[4418,0,null,0,"OK"]
[4419,0,null,0,"OK"]
[4420,0,null,0,"OK"]
[4421,0,null,0,"OK"]
[4422,0,null,0,"OK"]
[4423,0,null,0,"OK"]
[4424,0,null,0,"OK"]
[4425,0,null,0,"OK"]
[4426,0,null,0,"OK"]
[4427,0,null,0,"OK"]
[4428,0,null,0,"OK"]
[4429,0,null,0,"OK"]
[4430,0,null,0,"OK"]
[4431,0,null,0,"OK"]
[4432,0,null,0,"OK"]
[4433,0,null,0,"OK"]
[4434,0,null,0,"OK"]
[4435,0,null,0,"OK"]
[4436,0,null,0,"OK"]
[4437,0,null,0,"OK"]
[4438,0,null,0,"OK"]
[4439,0,null,0,"OK"]
[4440,0,null,0,"OK"]
[4441,0,null,0,"OK"]
[4442,0,null,0,"OK"]
[4443,0,null,0,"OK"]
[4444,0,null,0,"OK"]
[4445,0,null,0,"OK"]
[4446,0,null,0,"OK"]
[4447,0,null,0,"OK"]
[4448,0,null,0,"OK"]
[4449,0,null,0,"OK"]
[4450,0,null,0,"OK"]
[4451,0,null,{"$f":"B4458-C4458","v":0},"OK"]
[4452,0,null,0,"OK"]
[4453,0,null,0,"OK"]
[4454,0,null,0,"OK"]
[4455,0,null,0,"OK"]
[4456,0,null,0,"OK"]
[4457,0,null,0,"OK"]
[4458,0,null,0,"OK"]
[4459,0,null,0,"OK"]
[4460,0,null,0,"OK"]
[4461,0,null,0,"OK"]
[4462,0,null,0,"OK"]
[4463,0,null,0,"OK"]
[4464,0,null,0,"OK"]
[4465,0,null,0,"OK"]
[4466,0,null,0,"OK"]
[4467,0,null,0,"OK"]
[4468,0,null,0,"OK"]
[4469,0,null,0,"OK"]
[4470,0,null,0,"OK"]
[4471,0,null,0,"OK"]
[4472,0,null,0,"OK"]
[4473,0,null,0,"OK"]
[4474,0,null,0,"OK"]
[4475,0,null,0,"OK"]
[4476,0,null,0,"OK"]
[4477,0,null,0,"OK"]
[4478,0,null,0,"OK"]
[4479,0,null,0,"OK"]
[4480,0,null,0,"OK"]
[4481,0,null,0,{"$f":"IF((D4488 = 0),\"OK\",IF((D4488<-5),\"CHECK ME!\",IF((D4488>5),\"Check Me!\",\"OK\")))","v":"OK"}]
[4482,0,null,0,"OK"]
[4483,0,null,0,"OK"]
[4484,0,null,0,"OK"]
[4485,0,null,0,"OK"]
[4486,0,null,0,"OK"]
[4487,0,null,0,"OK"]
[4488,0,null,0,"OK"]
[4489,0,null,0,"OK"]
[4490,0,null,0,"OK"]
[4491,0,null,0,"OK"]
[4492,0,null,0,"OK"]
[4493,0,null,0,"OK"]
[4494,0,null,0,"OK"]
[4495,0,null,0,"OK"]
[4496,0,null,0,"OK"]
[4497,0,null,0,"OK"]
[4498,0,null,0,"OK"]
[4499,0,null,0,"OK"]
[4500,0,null,0,"OK"]
[4501,0,null,0,"OK"]
[4502,0,null,0,"OK"]
[4503,0,null,0,"OK"]
[4504,0,null,0,"OK"]
[4505,0,null,0,"OK"]
[4506,0,null,0,"OK"]
[4507,0,null,0,"OK"]
[4508,0,null,0,"OK"]
[4509,0,null,0,"OK"]
[4510,0,null,0,"OK"]
[4511,0,null,0,"OK"]
[4512,0,null,0,"OK"]
[4513,0,null,0,"OK"]
[4514,0,null,0,"OK"]
[4515,0,null,{"$f":"B4522-C4522","v":0},"OK"]
[4516,0,null,0,"OK"]
[4517,0,null,0,"OK"]
[4518,0,null,0,"OK"]
[4519,0,null,0,"OK"]
[4520,0,null,0,"OK"]
[4521,0,null,0,"OK"]
[4522,0,null,0,"OK"]
[4523,0,null,0,"OK"]
[4524,0,null,0,"OK"]
[4525,0,null,0,"OK"]
[4526,0,null,0,"OK"]
[4527,0,null,0,"OK"]
[4528,0,null,0,"OK"]
[4529,0,null,0,"OK"]
[4530,0,null,0,"OK"]
[4531,0,null,0,"OK"]
[4532,0,null,0,"OK"]
[4533,0,null,0,"OK"]
[4534,0,null,0,"OK"]
[4535,0,null,0,"OK"]
[4536,0,null,0,"OK"]
[4537,0,null,0,"OK"]
[4538,0,null,0,"OK"]
[4539,0,null,0,"OK"]
[4540,0,null,0,"OK"]
[4541,0,null,0,"OK"]
[4542,0,null,0,"OK"]
[4543,0,null,0,"OK"]
[4544,0,null,0,"OK"]
[4545,0,null,0,{"$f":"IF((D4552 = 0),\"OK\",IF((D4552<-5),\"CHECK ME!\",IF((D4552>5),\"Check Me!\",\"OK\")))","v":"OK"}]
[4546,0,null,0,"OK"]
[4547,0,null,0,"OK"]
[4548,0,null,0,"OK"]
[4549,0,null,0,"OK"]
[4550,0,null,0,"OK"]
[4551,0,null,0,"OK"]
[4552,0,null,0,"OK"]
[4553,0,null,0,"OK"]
[4554,0,null,0,"OK"]
[4555,0,null,0,"OK"]
[4556,0,null,0,"OK"]
[4557,0,null,0,"OK"]
[4558,0,null,0,"OK"]
[4559,0,null,0,"OK"]
[4560,0,null,0,"OK"]
[4561,0,null,0,"OK"]
[4562,0,null,0,"OK"]
[4563,0,null,0,"OK"]
[4564,0,null,0,"OK"]
[4565,0,null,0,"OK"]
[4566,0,null,0,"OK"]
[4567,0,null,0,"OK"]
[4568,0,null,0,"OK"]
[4569,0,null,0,"OK"]
[4570,0,null,0,"OK"]
[4571,0,null,0,"OK"]
[4572,0,null,0,"OK"]
[4573,0,null,0,"OK"]
[4574,0,null,0,"OK"]
[4575,0,null,0,"OK"]
[4576,0,null,0,"OK"]
[4577,0,null,0,"OK"]
[4578,0,null,0,"OK"]
[4579,0,null,{"$f":"B4586-C4586","v":0},"OK"]
[4580,0,null,0,"OK"]
[4581,0,null,0,"OK"]
[4582,0,null,0,"OK"]
[4583,0,null,0,"OK"]
[4584,0,null,0,"OK"]
[4585,0,null,0,"OK"]
[4586,0,null,0,"OK"]
[4587,0,null,0,"OK"]
[4588,0,null,0,"OK"]
[4589,0,null,0,"OK"]
[4590,0,null,0,"OK"]
[4591,0,null,0,"OK"]
[4592,0,null,0,"OK"]
[4593,0,null,0,"OK"]
[4594,0,null,0,"OK"]
[4595,0,null,0,"OK"]
[4596,0,null,0,"OK"]
[4597,0,null,0,"OK"]
[4598,0,null,0,"OK"]
[4599,0,null,0,"OK"]
[4600,0,null,0,"OK"]
[4601,0,null,0,"OK"]
[4602,0,null,0,"OK"]
[4603,0,null,0,"OK"]
[4604,0,null,0,"OK"]
[4605,0,null,0,"OK"]
[4606,0,null,0,"OK"]
[4607,0,null,0,"OK"]
[4608,0,null,0,"OK"]
[4609,0,null,0,{"$f":"IF((D4616 = 0),\"OK\",IF((D4616<-5),\"CHECK ME!\",IF((D4616>5),\"Check Me!\",\"OK\")))","v":"OK"}]
[4610,0,null,0,"OK"]
[4611,0,null,0,"OK"]
[4612,0,null,0,"OK"]
[4613,0,null,0,"OK"]
[4614,0,null,0,"OK"]
[4615,0,null,0,"OK"]
[4616,0,null,0,"OK"]
[4617,0,null,0,"OK"]
[4618,0,null,0,"OK"]
[4619,0,null,0,"OK"]
[4620,0,null,0,"OK"]
[4621,0,null,0,"OK"]
[4622,0,null,0,"OK"]
[4623,0,null,0,"OK"]
[4624,0,null,0,"OK"]
[4625,0,null,0,"OK"]
[4626,0,null,0,"OK"]
[4627,0,null,0,"OK"]
[4628,0,null,0,"OK"]
[4629,0,null,0,"OK"]
[4630,0,null,0,"OK"]
[4631,0,null,0,"OK"]
[4632,0,null,0,"OK"]
[4633,0,null,0,"OK"]
[4634,0,null,0,"OK"]
[4635,0,null,0,"OK"]
[4636,0,null,0,"OK"]
[4637,0,null,0,"OK"]
[4638,0,null,0,"OK"]
[4639,0,null,0,"OK"]
[4640,0,null,0,"OK"]
[4641,0,null,0,"OK"]
[4642,0,null,0,"OK"]
[4643,0,null,{"$f":"B4650-C4650","v":0},"OK"]
[4644,0,null,0,"OK"]
[4645,0,null,0,"OK"]
[4646,0,null,0,"OK"]
[4647,0,null,0,"OK"]
[4648,0,null,0,"OK"]
[4649,0,null,0,"OK"]
[4650,0,null,0,"OK"]
[4651,0,null,0,"OK"]
[4652,0,null,0,"OK"]
[4653,0,null,0,"OK"]
[4654,0,null,0,"OK"]
[4655,0,null,0,"OK"]
[4656,0,null,0,"OK"]
[4657,0,null,0,"OK"]
[4658,0,null,0,"OK"]
[4659,0,null,0,"OK"]
[4660,0,null,0,"OK"]
[4661,0,null,0,"OK"]
[4662,0,null,0,"OK"]
[4663,0,null,0,"OK"]
[4664,0,null,0,"OK"]
[4665,0,null,0,"OK"]
[4666,0,null,0,"OK"]
[4667,0,null,0,"OK"]
[4668,0,null,0,"OK"]
[4669,0,null,0,"OK"]
[4670,0,null,0,"OK"]
[4671,0,null,0,"OK"]
[4672,0,null,0,"OK"]
[4673,0,null,0,{"$f":"IF((D4680 = 0),\"OK\",IF((D4680<-5),\"CHECK ME!\",IF((D4680>5),\"Check Me!\",\"OK\")))","v":"OK"}]
[4674,0,null,0,"OK"]
[4675,0,null,0,"OK"]
[4676,0,null,0,"OK"]
[4677,0,null,0,"OK"]
[4678,0,null,0,"OK"]
[4679,0,null,0,"OK"]
[4680,0,null,0,"OK"]
[4681,0,null,0,"OK"]
[4682,0,null,0,"OK"]
[4683,0,null,0,"OK"]
[4684,0,null,0,"OK"]
[4685,0,null,0,"OK"]
[4686,0,null,0,"OK"]
[4687,0,null,0,"OK"]
[4688,0,null,0,"OK"]
[4689,0,null,0,"OK"]
[4690,0,null,0,"OK"]
[4691,0,null,0,"OK"]
[4692,0,null,0,"OK"]
[4693,0,null,0,"OK"]
[4694,0,null,0,"OK"]
[4695,0,null,0,"OK"]
[4696,0,null,0,"OK"]
[4697,0,null,0,"OK"]
[4698,0,null,0,"OK"]
[4699,0,null,0,"OK"]
[4700,4917066,{"$f":"'Revenues 9-14'!C104","v":4917066},0,"OK"]
[4701,0,null,0,"OK"]
[4702,0,null,0,"OK"]
[4703,0,null,0,"OK"]
[4704,0,null,0,"OK"]
[4705,0,null,0,"OK"]
[4706,0,null,0,"OK"]
[4707,0,null,{"$f":"B4714-C4714","v":0},"OK"]
[4708,0,null,0,"OK"]
[4709,0,null,0,"OK"]
[4710,0,{"$f":"'Revenues 9-14'!G136","v":0},0,"OK"]
[4711,0,null,0,"OK"]
[4712,0,null,0,"OK"]
[4713,0,null,0,"OK"]
[4714,0,null,0,"OK"]
[4715,0,null,0,"OK"]
[4716,0,null,0,"OK"]
[4717,0,null,0,"OK"]
[4718,0,null,0,"OK"]
[4719,0,null,0,"OK"]
[4720,0,null,0,"OK"]
[4721,0,null,0,"OK"]
[4722,0,null,0,"OK"]
[4723,0,null,0,"OK"]
[4724,0,null,0,"OK"]
[4725,0,null,0,"OK"]
[4726,0,null,0,"OK"]
[4727,0,null,0,"OK"]
[4728,0,null,0,"OK"]
[4729,0,null,0,"OK"]
[4730,0,null,0,"OK"]
[4731,33328189,{"$f":"'Revenues 9-14'!C168","v":33328189},0,"OK"]
[4732,1532900,{"$f":"'Revenues 9-14'!D168","v":1532900},0,"OK"]
[4733,6560200,{"$f":"'Revenues 9-14'!E168","v":6560200},0,"OK"]
[4734,244764,{"$f":"'Revenues 9-14'!F168","v":244764},0,"OK"]
[4735,8393,{"$f":"'Revenues 9-14'!G168","v":8393},0,"OK"]
[4736,13970295,{"$f":"'Revenues 9-14'!H168","v":13970295},0,"OK"]
[4737,0,null,0,{"$f":"IF((D4744 = 0),\"OK\",IF((D4744<-5),\"CHECK ME!\",IF((D4744>5),\"Check Me!\",\"OK\")))","v":"OK"}]
[4738,0,{"$f":"'Revenues 9-14'!K168","v":0},0,"OK"]
[4739,0,0,0,"OK"]
[4740,2197110,{"$f":"'Revenues 9-14'!C179","v":2197110},0,"OK"]
[4741,0,{"$f":"'Revenues 9-14'!D179","v":0},0,"OK"]
[4742,0,null,0,"OK"]
[4743,0,{"$f":"'Revenues 9-14'!F179","v":0},0,"OK"]
[4744,16480832,{"$f":"'Revenues 9-14'!C180","v":16480832},0,"OK"]
[4745,5583.4,{"$f":"'Revenues 9-14'!D180","v":5583.4},0,"OK"]
[4746,0,null,0,"OK"]
[4747,0,{"$f":"'Revenues 9-14'!F180","v":0},0,"OK"]
[4748,0,null,0,"OK"]
[4749,0,{"$f":"'Revenues 9-14'!G179","v":0},0,"OK"]
[4750,0,{"$f":"'Revenues 9-14'!H179","v":0},0,"OK"]
[4751,0,null,0,"OK"]
[4752,270992,{"$f":"'Revenues 9-14'!G180","v":270992},0,"OK"]
[4753,0,{"$f":"'Revenues 9-14'!H180","v":0},0,"OK"]
[4754,0,null,0,"OK"]
[4755,0,{"$f":"'Revenues 9-14'!K180","v":0},0,"OK"]
[4756,0,null,0,"OK"]
[4757,0,null,0,"OK"]
[4758,0,null,0,"OK"]
[4759,0,null,0,"OK"]
[4760,0,null,0,"OK"]
[4761,0,null,0,"OK"]
[4762,0,null,0,"OK"]
[4763,0,null,0,"OK"]
[4764,0,null,0,"OK"]
[4765,0,null,0,"OK"]
[4766,0,null,0,"OK"]
[4767,0,null,0,"OK"]
[4768,0,null,0,"OK"]
[4769,0,null,0,"OK"]
[4770,0,null,0,"OK"]
[4771,0,null,{"$f":"B4778-C4778","v":0},"OK"]
[4772,0,null,0,"OK"]
[4773,0,null,0,"OK"]
[4774,0,null,0,"OK"]
[4775,0,null,0,"OK"]
[4776,0,null,0,"OK"]
[4777,0,null,0,"OK"]
[4778,0,null,0,"OK"]
[4779,0,null,0,"OK"]
[4780,0,null,0,"OK"]
[4781,0,null,0,"OK"]
[4782,0,null,0,"OK"]
[4783,0,null,0,"OK"]
[4784,0,null,0,"OK"]
[4785,0,null,0,"OK"]
[4786,0,null,0,"OK"]
[4787,0,null,0,"OK"]
[4788,0,null,0,"OK"]
[4789,0,null,0,"OK"]
[4790,0,null,0,"OK"]
[4791,29121171,{"$f":"'Revenues 9-14'!C265","v":29121171},0,"OK"]
[4792,226631,{"$f":"'Revenues 9-14'!D265","v":226631},0,"OK"]
[4793,0,null,0,"OK"]
[4794,62836,{"$f":"'Revenues 9-14'!F265","v":62836},0,"OK"]
[4795,0,null,0,"OK"]
[4796,0,null,0,"OK"]
[4797,0,null,0,"OK"]
[4798,0,null,0,"OK"]
[4799,0,null,0,"OK"]
[4800,0,null,0,"OK"]
[4801,0,null,0,{"$f":"IF((D4808 = 0),\"OK\",IF((D4808<-5),\"CHECK ME!\",IF((D4808>5),\"Check Me!\",\"OK\")))","v":"OK"}]
[4802,0,null,0,"OK"]
[4803,35644,{"$f":"'Revenues 9-14'!G265","v":35644},0,"OK"]
[4804,0,{"$f":"'Revenues 9-14'!H265","v":0},0,"OK"]
[4805,0,null,0,"OK"]
[4806,0,null,0,"OK"]
[4807,0,{"$f":"'Revenues 9-14'!K265","v":0},0,"OK"]
[4808,0,null,0,"OK"]
[4809,0,null,0,"OK"]
[4810,0,null,0,"OK"]
[4811,0,null,0,"OK"]
[4812,0,null,0,"OK"]
[4813,5023846,{"$f":"'Revenues 9-14'!C118","v":5023846},0,"OK"]
[4814,647000,{"$f":"'Revenues 9-14'!D118","v":647000},0,"OK"]
[4815,0,{"$f":"'Revenues 9-14'!E118","v":0},0,"OK"]
[4816,0,{"$f":"'Revenues 9-14'!F118","v":0},0,"OK"]
[4817,33000,{"$f":"'Revenues 9-14'!G118","v":33000},0,"OK"]
[4818,0,{"$f":"'Revenues 9-14'!H118","v":0},0,"OK"]
[4819,0,null,0,"OK"]
[4820,0,{"$f":"'Revenues 9-14'!K118","v":0},0,"OK"]
[4821,1847135,{"$f":"'Revenues 9-14'!C121","v":1847135},0,"OK"]
[4822,194695,{"$f":"'Revenues 9-14'!D121","v":194695},0,"OK"]
[4823,0,{"$f":"'Revenues 9-14'!E121","v":0},0,"OK"]
[4824,0,{"$f":"'Revenues 9-14'!F121","v":0},0,"OK"]
[4825,0,{"$f":"'Revenues 9-14'!G121","v":0},0,"OK"]
[4826,124505,{"$f":"'Revenues 9-14'!H121","v":124505},0,"OK"]
[4827,0,null,0,"OK"]
[4828,0,{"$f":"'Revenues 9-14'!K121","v":0},0,"OK"]
[4829,0,null,0,"OK"]
[4830,0,null,0,"OK"]
[4831,0,null,0,"OK"]
[4832,0,null,0,"OK"]
[4833,0,null,0,"OK"]
[4834,0,null,0,"OK"]
[4835,0,null,{"$f":"B4842-C4842","v":0},"OK"]
[4836,0,null,0,"OK"]
[4837,0,null,0,"OK"]
[4838,0,null,0,"OK"]
[4839,0,null,0,"OK"]
[4840,0,null,0,"OK"]
[4841,0,null,0,"OK"]
[4842,0,null,0,"OK"]
[4843,0,null,0,"OK"]
[4844,0,null,0,"OK"]
[4845,0,null,0,"OK"]
[4846,0,null,0,"OK"]
[4847,0,null,0,"OK"]
[4848,0,null,0,"OK"]
[4849,0,null,0,"OK"]
[4850,0,null,0,"OK"]
[4851,0,null,0,"OK"]
[4852,0,null,0,"OK"]
[4853,0,null,0,"OK"]
[4854,1500,{"$f":"'Revenues 9-14'!C162","v":1500},0,"OK"]
[4855,13002,{"$f":"'Revenues 9-14'!D162","v":13002},0,"OK"]
[4856,0,{"$f":"'Revenues 9-14'!E162","v":0},0,"OK"]
[4857,0,{"$f":"'Revenues 9-14'!F162","v":0},0,"OK"]
[4858,0,{"$f":"'Revenues 9-14'!G162","v":0},0,"OK"]
[4859,0,{"$f":"'Revenues 9-14'!H162","v":0},0,"OK"]
[4860,0,null,0,"OK"]
[4861,0,{"$f":"'Revenues 9-14'!K162","v":0},0,"OK"]
[4862,0,null,0,"OK"]
[4863,0,null,0,"OK"]
[4864,0,null,0,"OK"]
[4865,0,null,0,{"$f":"IF((D4872 = 0),\"OK\",IF((D4872<-5),\"CHECK ME!\",IF((D4872>5),\"Check Me!\",\"OK\")))","v":"OK"}]
[4866,0,null,0,"OK"]
[4867,0,null,0,"OK"]
[4868,0,null,0,"OK"]
[4869,0,null,0,"OK"]
[4870,0,null,0,"OK"]
[4871,0,null,0,"OK"]
[4872,0,null,0,"OK"]
[4873,0,null,0,"OK"]
[4874,0,null,0,"OK"]
[4875,0,null,0,"OK"]
[4876,0,null,0,"OK"]
[4877,0,null,0,"OK"]
[4878,0,null,0,"OK"]
[4879,0,null,0,"OK"]
[4880,0,null,0,"OK"]
[4881,0,null,0,"OK"]
[4882,0,null,0,"OK"]
[4883,535085.82000000007,{"$f":"'Revenues 9-14'!C174","v":535085.82000000007},0,"OK"]
[4884,0,{"$f":"'Revenues 9-14'!D174","v":0},0,"OK"]
[4885,0,{"$f":"'Revenues 9-14'!F174","v":0},0,"OK"]
[4886,0,{"$f":"'Revenues 9-14'!G174","v":0},0,"OK"]
[4887,0,{"$f":"'Revenues 9-14'!H174","v":0},0,"OK"]
[4888,0,{"$f":"'Revenues 9-14'!K174","v":0},0,"OK"]
[4889,0,{"$f":"'Revenues 9-14'!H175","v":0},0,"OK"]
[4890,0,{"$f":"'Revenues 9-14'!K175","v":0},0,"OK"]
[4891,0,null,0,"OK"]
[4892,0,null,0,"OK"]
[4893,0,null,0,"OK"]
[4894,0,null,0,"OK"]
[4895,0,null,0,"OK"]
[4896,0,null,0,"OK"]
[4897,0,null,0,"OK"]
[4898,0,null,0,"OK"]
[4899,0,null,{"$f":"B4906-C4906","v":0},"OK"]
[4900,0,null,0,"OK"]
[4901,0,null,0,"OK"]
[4902,0,null,0,"OK"]
[4903,0,null,0,"OK"]
[4904,0,null,0,"OK"]
[4905,0,null,0,"OK"]
[4906,0,null,0,"OK"]
[4907,0,null,0,"OK"]
[4908,0,null,0,"OK"]
[4909,0,null,0,"OK"]
[4910,0,null,0,"OK"]
[4911,0,null,0,"OK"]
[4912,0,null,0,"OK"]
[4913,0,null,0,"OK"]
[4914,0,null,0,"OK"]
[4915,0,null,0,"OK"]
[4916,0,null,0,"OK"]
[4917,0,null,0,"OK"]
[4918,0,null,0,"OK"]
[4919,0,null,0,"OK"]
[4920,0,null,0,"OK"]
[4921,0,null,0,"OK"]
[4922,0,null,0,"OK"]
[4923,0,null,0,"OK"]
[4924,0,null,0,"OK"]
[4925,0,null,0,"OK"]
[4926,0,null,0,"OK"]
[4927,0,null,0,"OK"]
[4928,0,null,0,"OK"]
[4929,0,null,0,{"$f":"IF((D4936 = 0),\"OK\",IF((D4936<-5),\"CHECK ME!\",IF((D4936>5),\"Check Me!\",\"OK\")))","v":"OK"}]
[4930,0,null,0,"OK"]
[4931,0,null,0,"OK"]
[4932,0,null,0,"OK"]
[4933,0,null,0,"OK"]
[4934,495789400414]
[4935,48455657475.153008]
[4936,21737434113.900002]
[4937,0,null,0,"OK"]
[4938,0,null,0,"OK"]
[4939,0,{"$f":"'Revenues 9-14'!K169","v":0},0,"OK"]
[4940,0,null,0,"OK"]
[4941,0,null,0,"OK"]
[4942,0,null,0,"OK"]
[4943,0,null,0,"OK"]
[4944,0,null,0,"OK"]
[4945,0,null,0,"OK"]
[4946,0,null,0,"OK"]
[4947,0,null,0,"OK"]
[4948,0,null,0,"OK"]
[4949,0,null,0,"OK"]
[4950,0,{"$f":"'Acct Summary 7-8'!I6","v":0},0,"OK"]
[4951,14192473,{"$f":"'Acct Summary 7-8'!C27","v":14192473},0,"OK"]
[4952,148475419,{"$f":"'Acct Summary 7-8'!D27","v":148475419},0,"OK"]
[4953,971571,{"$f":"'Acct Summary 7-8'!F27","v":971571},0,"OK"]
[4954,0,null,0,"OK"]
[4955,0,null,0,"OK"]
[4956,0,null,0,"OK"]
[4957,0,null,0,"OK"]
[4958,0,null,0,"OK"]
[4959,0,null,0,"OK"]
[4960,0,null,0,"OK"]
[4961,117798509,{"$f":"'Acct Summary 7-8'!C49","v":117798509},0,"OK"]
[4962,5562446,{"$f":"'Acct Summary 7-8'!D49","v":5562446},0,"OK"]
[4963,40378508,{"$f":"'Acct Summary 7-8'!F49","v":40378508},{"$f":"B4970-C4970","v":0},"OK"]
[4964,0,null,0,"OK"]
[4965,27652032,{"$f":"'Revenues 9-14'!C6","v":27652032},0,"OK"]
[4966,1636186,{"$f":"'Revenues 9-14'!F104","v":1636186},0,"OK"]
[4967,0,null,0,"OK"]
[4968,0,null,0,"OK"]
[4969,0,null,0,"OK"]
[4970,0,null,0,"OK"]
[4971,0,null,0,"OK"]
[4972,0,null,0,"OK"]
[4973,0,null,0,"OK"]
[4974,0,null,0,"OK"]
[4975,0,null,0,"OK"]
[4976,0,null,0,"OK"]
[4977,0,null,0,"OK"]
[4978,0,null,0,"OK"]
[4979,0,null,0,"OK"]
[4980,0,null,0,"OK"]
[4981,0,null,0,"OK"]
[4982,0,null,0,"OK"]
[4983,0,null,0,"OK"]
[4984,0,null,0,"OK"]
[4985,0,null,0,"OK"]
[4986,0,null,0,"OK"]
[4987,0,null,0,"OK"]
[4988,0,null,0,"OK"]
[4989,0,null,0,"OK"]
[4990,0,null,0,"OK"]
[4991,0,null,0,"OK"]
[4992,0,null,0,"OK"]
[4993,0,null,0,{"$f":"IF((D5000 = 0),\"OK\",IF((D5000<-5),\"CHECK ME!\",IF((D5000>5),\"Check Me!\",\"OK\")))","v":"OK"}]
[4994,0,null,0,"OK"]
[4995,0,{"$f":"'Revenues 9-14'!C160","v":0},0,"OK"]
[4996,0,{"$f":"'Revenues 9-14'!D160","v":0},0,"OK"]
[4997,0,{"$f":"'Revenues 9-14'!F160","v":0},0,"OK"]
[4998,0,{"$f":"'Revenues 9-14'!G160","v":0},0,"OK"]
[4999,0,{"$f":"'Revenues 9-14'!C161","v":0},0,"OK"]
[5000,12531819350.49,{"$f":"'Revenues 9-14'!C5","v":12531819350.49},0,"OK"]
[5001,0,null,0,"OK"]
[5002,494294442.75,{"$f":"'Revenues 9-14'!C7","v":494294442.75},0,"OK"]
[5003,0,{"$f":"'Revenues 9-14'!C10","v":0},0,"OK"]
[5004,172573,{"$f":"'Revenues 9-14'!C11","v":172573},0,"OK"]
[5005,13053938398.24,{"$f":"'Revenues 9-14'!C12","v":13053938398.24},0,"OK"]
[5006,1296094.98,{"$f":"'Revenues 9-14'!C14","v":1296094.98},0,"OK"]
[5007,547369,{"$f":"'Revenues 9-14'!C15","v":547369},0,"OK"]
[5008,493272836.45999998,{"$f":"'Revenues 9-14'!C16","v":493272836.45999998},0,"OK"]
[5009,10258939,{"$f":"'Revenues 9-14'!C17","v":10258939},0,"OK"]
[5010,505375239.44,{"$f":"'Revenues 9-14'!C18","v":505375239.44},0,"OK"]
[5011,17387807.25,{"$f":"'Revenues 9-14'!C20","v":17387807.25},0,"OK"]
[5012,4125458.77,{"$f":"'Revenues 9-14'!C21","v":4125458.77},0,"OK"]
[5013,3181105,{"$f":"'Revenues 9-14'!C22","v":3181105},0,"OK"]
[5014,15675352,{"$f":"'Revenues 9-14'!C24","v":15675352},0,"OK"]
[5015,406380,{"$f":"'Revenues 9-14'!C25","v":406380},0,"OK"]
[5016,641917,{"$f":"'Revenues 9-14'!C26","v":641917},0,"OK"]
[5017,109331,{"$f":"'Revenues 9-14'!C28","v":109331},0,"OK"]
[5018,184573,{"$f":"'Revenues 9-14'!C29","v":184573},0,"OK"]
[5019,28310,{"$f":"'Revenues 9-14'!C30","v":28310},0,"OK"]
[5020,3814207,{"$f":"'Revenues 9-14'!C32","v":3814207},0,"OK"]
[5021,23435605,{"$f":"'Revenues 9-14'!C33","v":23435605},0,"OK"]
[5022,979455,{"$f":"'Revenues 9-14'!C34","v":979455},0,"OK"]
[5023,3367476,{"$f":"'Revenues 9-14'!C36","v":3367476},0,"OK"]
[5024,0,{"$f":"'Revenues 9-14'!C37","v":0},0,"OK"]
[5025,525310,{"$f":"'Revenues 9-14'!C38","v":525310},0,"OK"]
[5026,74757861.019999996,{"$f":"'Revenues 9-14'!C40","v":74757861.019999996},0,"OK"]
[5027,184201922.53,{"$f":"'Revenues 9-14'!C65","v":184201922.53},{"$f":"B5034-C5034","v":0},"OK"]
[5028,3828546,{"$f":"'Revenues 9-14'!C66","v":3828546},0,"OK"]
[5029,188030468.53,{"$f":"'Revenues 9-14'!C67","v":188030468.53},0,"OK"]
[5030,3005808,{"$f":"'Revenues 9-14'!C70","v":3005808},0,"OK"]
[5031,35821123,{"$f":"'Revenues 9-14'!C71","v":35821123},0,"OK"]
[5032,8009149,{"$f":"'Revenues 9-14'!C72","v":8009149},0,"OK"]
[5033,4574024.45,{"$f":"'Revenues 9-14'!C73","v":4574024.45},0,"OK"]
[5034,16173369,{"$f":"'Revenues 9-14'!C74","v":16173369},0,"OK"]
[5035,203990529.27000001,{"$f":"'Revenues 9-14'!C75","v":203990529.26999998},0,"OK"]
[5036,22158977.66,{"$f":"'Revenues 9-14'!C77","v":22158977.66},0,"OK"]
[5037,3443734,{"$f":"'Revenues 9-14'!C78","v":3443734},0,"OK"]
[5038,69869995,{"$f":"'Revenues 9-14'!C79","v":69869995},0,"OK"]
[5039,5274796,{"$f":"'Revenues 9-14'!C80","v":5274796},0,"OK"]
[5040,18703708.920000002,{"$f":"'Revenues 9-14'!C81","v":18703708.920000002},0,"OK"]
[5041,119451211.58,{"$f":"'Revenues 9-14'!C82","v":119451211.58},0,"OK"]
[5042,101696669,{"$f":"'Revenues 9-14'!C84","v":101696669},0,"OK"]
[5043,828478,{"$f":"'Revenues 9-14'!C85","v":828478},0,"OK"]
[5044,626895,{"$f":"'Revenues 9-14'!C86","v":626895},0,"OK"]
[5045,2327450,{"$f":"'Revenues 9-14'!C87","v":2327450},0,"OK"]
[5046,1924657,{"$f":"'Revenues 9-14'!C88","v":1924657},0,"OK"]
[5047,109731,{"$f":"'Revenues 9-14'!C89","v":109731},0,"OK"]
[5048,30740,{"$f":"'Revenues 9-14'!C90","v":30740},0,"OK"]
[5049,888402,{"$f":"'Revenues 9-14'!C91","v":888402},0,"OK"]
[5050,2465653,{"$f":"'Revenues 9-14'!C92","v":2465653},0,"OK"]
[5051,110898675,{"$f":"'Revenues 9-14'!C93","v":110898675},0,"OK"]
[5052,12159872,{"$f":"'Revenues 9-14'!C95","v":12159872},0,"OK"]
[5053,22907366.890000001,{"$f":"'Revenues 9-14'!C96","v":22907366.890000001},0,"OK"]
[5054,12048806,{"$f":"'Revenues 9-14'!C98","v":12048806},0,"OK"]
[5055,30773615,{"$f":"'Revenues 9-14'!C99","v":30773615},0,"OK"]
[5056,1971788,{"$f":"'Revenues 9-14'!C105","v":1971788},0,"OK"]
[5057,65193454,{"$f":"'Revenues 9-14'!C106","v":65193454},0,{"$f":"IF((D5064 = 0),\"OK\",IF((D5064<-5),\"CHECK ME!\",IF((D5064>5),\"Check Me!\",\"OK\")))","v":"OK"}]
[5058,197387643.22999999,{"$f":"'Revenues 9-14'!C107","v":197387643.22999999},0,"OK"]
[5059,498457448.12,{"$f":"'Revenues 9-14'!C108","v":498457448.12},0,"OK"]
[5060,14754899831.200001,{"$f":"'Revenues 9-14'!C109","v":14754899831.200003},0,"OK"]
[5061,8365945,{"$f":"'Revenues 9-14'!C111","v":8365945},0,"OK"]
[5062,1883563,{"$f":"'Revenues 9-14'!C112","v":1883563},0,"OK"]
[5063,26915,{"$f":"'Revenues 9-14'!C113","v":26915},0,"OK"]
[5064,10276423,{"$f":"'Revenues 9-14'!C114","v":10276423},0,"OK"]
[5065,5650443892.8299999,{"$f":"'Revenues 9-14'!C117","v":5650443892.8299999},0,"OK"]
[5066,1598566,{"$f":"'Revenues 9-14'!C119","v":1598566},0,"OK"]
[5067,0,null,0,"OK"]
[5068,0,null,0,"OK"]
[5069,0,null,0,"OK"]
[5070,0,null,0,"OK"]
[5071,5658913439.8299999,{"$f":"'Revenues 9-14'!C122","v":5658913439.8299999},0,"OK"]
[5072,149431399,{"$f":"'Revenues 9-14'!C125","v":149431399},0,"OK"]
[5073,384315,{"$f":"'Revenues 9-14'!C126","v":384315},0,"OK"]
[5074,843142,{"$f":"'Revenues 9-14'!C127","v":843142},0,"OK"]
[5075,0,null,0,"OK"]
[5076,69171748,{"$f":"'Revenues 9-14'!C128","v":69171748},0,"OK"]
[5077,0,null,0,"OK"]
[5078,3646982,{"$f":"'Revenues 9-14'!C129","v":3646982},0,"OK"]
[5079,0,null,0,"OK"]
[5080,0,null,0,"OK"]
[5081,18346,{"$f":"'Revenues 9-14'!C130","v":18346},0,"OK"]
[5082,0,null,0,"OK"]
[5083,0,null,0,"OK"]
[5084,0,null,0,"OK"]
[5085,0,null,0,"OK"]
[5086,223560681,{"$f":"'Revenues 9-14'!C132","v":223560681},0,"OK"]
[5087,766900,{"$f":"'Revenues 9-14'!C134","v":766900},0,"OK"]
[5088,0,null,0,"OK"]
[5089,0,null,0,"OK"]
[5090,0,null,0,"OK"]
[5091,15668230,{"$f":"'Revenues 9-14'!C135","v":15668230},{"$f":"B5098-C5098","v":0},"OK"]
[5092,69354,{"$f":"'Revenues 9-14'!C136","v":69354},0,"OK"]
[5093,0,null,0,"OK"]
[5094,0,null,0,"OK"]
[5095,0,null,0,"OK"]
[5096,0,null,0,"OK"]
[5097,0,null,0,"OK"]
[5098,0,null,0,"OK"]
[5099,0,null,0,"OK"]
[5100,22504209,{"$f":"'Revenues 9-14'!C141","v":22504209},0,"OK"]
[5101,0,null,0,"OK"]
[5102,361289,{"$f":"'Revenues 9-14'!C143","v":361289},0,"OK"]
[5103,0,{"$f":"'Revenues 9-14'!C144","v":0},0,"OK"]
[5104,361289,{"$f":"'Revenues 9-14'!C145","v":361289},0,"OK"]
[5105,0,null,0,"OK"]
[5106,10388192.76,{"$f":"'Revenues 9-14'!C146","v":10388192.76},0,"OK"]
[5107,16895540,{"$f":"'Revenues 9-14'!C148","v":16895540},0,"OK"]
[5108,0,null,0,"OK"]
[5109,0,null,0,"OK"]
[5110,2825385,{"$f":"'Revenues 9-14'!C149","v":2825385},0,"OK"]
[5111,0,null,0,"OK"]
[5112,0,null,0,"OK"]
[5113,0,null,0,"OK"]
[5114,402586,{"$f":"'Revenues 9-14'!C152","v":402586},0,"OK"]
[5115,0,null,0,"OK"]
[5116,78349724,{"$f":"'Revenues 9-14'!C153","v":78349724},0,"OK"]
[5117,78752310,{"$f":"'Revenues 9-14'!C155","v":78752310},0,"OK"]
[5118,0,null,0,"OK"]
[5119,0,null,0,"OK"]
[5120,37313,{"$f":"'Revenues 9-14'!C156","v":37313},0,"OK"]
[5121,0,null,0,{"$f":"IF((D5128 = 0),\"OK\",IF((D5128<-5),\"CHECK ME!\",IF((D5128>5),\"Check Me!\",\"OK\")))","v":"OK"}]
[5122,0,null,0,"OK"]
[5123,0,null,0,"OK"]
[5124,0,null,0,"OK"]
[5125,0,null,0,"OK"]
[5126,6661,{"$f":"'Revenues 9-14'!C157","v":6661},0,"OK"]
[5127,0,null,0,"OK"]
[5128,0,null,0,"OK"]
[5129,0,null,0,"OK"]
[5130,0,null,0,"OK"]
[5131,0,null,0,"OK"]
[5132,0,null,0,"OK"]
[5133,8195240,{"$f":"'Revenues 9-14'!C158","v":8195240},0,"OK"]
[5134,0,null,0,"OK"]
[5135,425590996,{"$f":"'Revenues 9-14'!C159","v":425590996},0,"OK"]
[5136,0,null,0,"OK"]
[5137,0,null,0,"OK"]
[5138,0,null,0,"OK"]
[5139,0,null,0,"OK"]
[5140,0,null,0,"OK"]
[5141,0,null,0,"OK"]
[5142,0,null,0,"OK"]
[5143,0,null,0,"OK"]
[5144,0,null,0,"OK"]
[5145,0,null,0,"OK"]
[5146,0,null,0,"OK"]
[5147,0,null,0,"OK"]
[5148,0,null,0,"OK"]
[5149,0,null,0,"OK"]
[5150,0,null,0,"OK"]
[5151,0,null,0,"OK"]
[5152,0,null,0,"OK"]
[5153,822694880.75999999,{"$f":"'Revenues 9-14'!C169","v":822694880.75999999},0,"OK"]
[5154,0,null,0,"OK"]
[5155,0,null,{"$f":"B5162-C5162","v":0},"OK"]
[5156,0,null,0,"OK"]
[5157,0,null,0,"OK"]
[5158,0,null,0,"OK"]
[5159,0,null,0,"OK"]
[5160,0,null,0,"OK"]
[5161,0,null,0,"OK"]
[5162,6481608320.5900002,{"$f":"'Revenues 9-14'!C170","v":6481608320.5900002},0,"OK"]
[5163,23838448,{"$f":"'Revenues 9-14'!C173","v":23838448},0,"OK"]
[5164,24373533.82,{"$f":"'Revenues 9-14'!C175","v":24373533.82},0,"OK"]
[5165,0,null,0,"OK"]
[5166,0,null,0,"OK"]
[5167,0,null,0,"OK"]
[5168,0,null,0,"OK"]
[5169,47094105,{"$f":"'Revenues 9-14'!C177","v":47094105},0,"OK"]
[5170,0,{"$f":"'Revenues 9-14'!C178","v":0},0,"OK"]
[5171,65772047,{"$f":"'Revenues 9-14'!C181","v":65772047},0,"OK"]
[5172,71154,{"$f":"'Revenues 9-14'!C184","v":71154},0,"OK"]
[5173,0,null,0,"OK"]
[5174,0,null,0,"OK"]
[5175,0,null,0,"OK"]
[5176,0,null,0,"OK"]
[5177,0,null,0,"OK"]
[5178,425249861.80000001,{"$f":"'Revenues 9-14'!C191","v":425249861.80000001},0,"OK"]
[5179,49050770,{"$f":"'Revenues 9-14'!C192","v":49050770},0,"OK"]
[5180,87823162,{"$f":"'Revenues 9-14'!C193","v":87823162},0,"OK"]
[5181,4528479,{"$f":"'Revenues 9-14'!C194","v":4528479},0,"OK"]
[5182,10251545,{"$f":"'Revenues 9-14'!C195","v":10251545},0,"OK"]
[5183,0,null,0,"OK"]
[5184,0,null,0,"OK"]
[5185,600862257.79999995,{"$f":"'Revenues 9-14'!C198","v":600862257.79999995},0,{"$f":"IF((D5192 = 0),\"OK\",IF((D5192<-5),\"CHECK ME!\",IF((D5192>5),\"Check Me!\",\"OK\")))","v":"OK"}]
[5186,609244956,{"$f":"'Revenues 9-14'!C200","v":609244956},0,"OK"]
[5187,1179624,{"$f":"'Revenues 9-14'!C201","v":1179624},0,"OK"]
[5188,0,null,0,"OK"]
[5189,0,null,0,"OK"]
[5190,0,null,0,"OK"]
[5191,0,null,0,"OK"]
[5192,0,null,0,"OK"]
[5193,0,null,0,"OK"]
[5194,412709,{"$f":"'Revenues 9-14'!C202","v":412709},0,"OK"]
[5195,14645765,{"$f":"'Revenues 9-14'!C206","v":14645765},0,"OK"]
[5196,0,null,0,"OK"]
[5197,0,null,0,"OK"]
[5198,0,null,0,"OK"]
[5199,635417392,{"$f":"'Revenues 9-14'!C204","v":635417392},0,"OK"]
[5200,0,null,0,"OK"]
[5201,0,null,0,"OK"]
[5202,0,null,0,"OK"]
[5203,0,null,0,"OK"]
[5204,0,null,0,"OK"]
[5205,0,null,0,"OK"]
[5206,0,null,0,"OK"]
[5207,0,null,0,"OK"]
[5208,0,null,0,"OK"]
[5209,0,null,0,"OK"]
[5210,0,null,0,"OK"]
[5211,0,null,0,"OK"]
[5212,0,null,0,"OK"]
[5213,9230343,{"$f":"'Revenues 9-14'!C211","v":9230343},0,"OK"]
[5214,2473159,{"$f":"'Revenues 9-14'!C212","v":2473159},0,"OK"]
[5215,0,null,0,"OK"]
[5216,0,null,0,"OK"]
[5217,353268987.19,{"$f":"'Revenues 9-14'!C213","v":353268987.19},0,"OK"]
[5218,47300838.329999998,{"$f":"'Revenues 9-14'!C214","v":47300838.329999998},0,"OK"]
[5219,78881,{"$f":"'Revenues 9-14'!C215","v":78881},{"$f":"B5226-C5226","v":0},"OK"]
[5220,0,null,0,"OK"]
[5221,0,null,0,"OK"]
[5222,0,null,0,"OK"]
[5223,0,null,0,"OK"]
[5224,0,null,0,"OK"]
[5225,412532940.51999998,{"$f":"'Revenues 9-14'!C217","v":412532940.51999998},0,"OK"]
[5226,0,null,0,"OK"]
[5227,0,null,0,"OK"]
[5228,0,null,0,"OK"]
[5229,0,null,0,"OK"]
[5230,0,null,0,"OK"]
[5231,0,null,0,"OK"]
[5232,0,null,0,"OK"]
[5233,0,null,0,"OK"]
[5234,0,null,0,"OK"]
[5235,0,null,0,"OK"]
[5236,0,null,0,"OK"]
[5237,0,null,0,"OK"]
[5238,0,null,0,"OK"]
[5239,0,null,0,"OK"]
[5240,6081218,{"$f":"'Revenues 9-14'!C219","v":6081218},0,"OK"]
[5241,0,null,0,"OK"]
[5242,0,null,0,"OK"]
[5243,14621356,{"$f":"'Revenues 9-14'!C221","v":14621356},0,"OK"]
[5244,0,null,0,"OK"]
[5245,0,null,0,"OK"]
[5246,0,null,0,"OK"]
[5247,0,null,0,"OK"]
[5248,0,null,0,"OK"]
[5249,1226784,{"$f":"'Revenues 9-14'!C222","v":1226784},0,{"$f":"IF((D5256 = 0),\"OK\",IF((D5256<-5),\"CHECK ME!\",IF((D5256>5),\"Check Me!\",\"OK\")))","v":"OK"}]
[5250,0,null,0,"OK"]
[5251,1547885,{"$f":"'Revenues 9-14'!C255","v":1547885},0,"OK"]
[5252,0,null,0,"OK"]
[5253,0,null,0,"OK"]
[5254,997644,{"$f":"'Revenues 9-14'!C257","v":997644},0,"OK"]
[5255,0,null,0,"OK"]
[5256,465614,{"$f":"'Revenues 9-14'!C258","v":465614},0,"OK"]
[5257,0,null,0,"OK"]
[5258,0,null,0,"OK"]
[5259,1990575809.8999999,{"$f":"'Revenues 9-14'!C266","v":1990575809.8999999},0,"OK"]
[5260,0,null,0,"OK"]
[5261,0,null,0,"OK"]
[5262,0,null,0,"OK"]
[5263,0,null,0,"OK"]
[5264,0,null,0,"OK"]
[5265,2080721390.72,{"$f":"'Revenues 9-14'!C267","v":2080721390.7199998},0,"OK"]
[5266,23327505965.509998,{"$f":"'Revenues 9-14'!C268","v":23327505965.510002},0,"OK"]
[5267,1556317301.21,{"$f":"'Revenues 9-14'!D5","v":1556317301.21},0,"OK"]
[5268,0,null,0,"OK"]
[5269,6497152,{"$f":"'Revenues 9-14'!D6","v":6497152},0,"OK"]
[5270,98212,{"$f":"'Revenues 9-14'!D7","v":98212},0,"OK"]
[5271,0,{"$f":"'Revenues 9-14'!D9","v":0},0,"OK"]
[5272,2623666,{"$f":"'Revenues 9-14'!D11","v":2623666},0,"OK"]
[5273,1565536331.21,{"$f":"'Revenues 9-14'!D12","v":1565536331.21},0,"OK"]
[5274,213309.45,{"$f":"'Revenues 9-14'!D14","v":213309.45},0,"OK"]
[5275,44643,{"$f":"'Revenues 9-14'!D15","v":44643},0,"OK"]
[5276,98454852,{"$f":"'Revenues 9-14'!D16","v":98454852},0,"OK"]
[5277,1368360,{"$f":"'Revenues 9-14'!D17","v":1368360},0,"OK"]
[5278,100081164.45,{"$f":"'Revenues 9-14'!D18","v":100081164.45},0,"OK"]
[5279,25219471.140000001,{"$f":"'Revenues 9-14'!D65","v":25219471.140000001},0,"OK"]
[5280,330146,{"$f":"'Revenues 9-14'!D66","v":330146},0,"OK"]
[5281,25549617.140000001,{"$f":"'Revenues 9-14'!D67","v":25549617.140000001},0,"OK"]
[5282,2800,{"$f":"'Revenues 9-14'!D77","v":2800},0,"OK"]
[5283,298995,{"$f":"'Revenues 9-14'!D78","v":298995},{"$f":"B5290-C5290","v":0},"OK"]
[5284,2190810,{"$f":"'Revenues 9-14'!D79","v":2190810},0,"OK"]
[5285,6633,{"$f":"'Revenues 9-14'!D80","v":6633},0,"OK"]
[5286,451565,{"$f":"'Revenues 9-14'!D81","v":451565},0,"OK"]
[5287,2950803,{"$f":"'Revenues 9-14'!D82","v":2950803},0,"OK"]
[5288,31196543,{"$f":"'Revenues 9-14'!D95","v":31196543},0,"OK"]
[5289,5391511,{"$f":"'Revenues 9-14'!D96","v":5391511},0,"OK"]
[5290,1061878,{"$f":"'Revenues 9-14'!D98","v":1061878},0,"OK"]
[5291,4050055,{"$f":"'Revenues 9-14'!D99","v":4050055},0,"OK"]
[5292,902150,{"$f":"'Revenues 9-14'!D104","v":902150},0,"OK"]
[5293,29718396,{"$f":"'Revenues 9-14'!D107","v":29718396},0,"OK"]
[5294,94884829,{"$f":"'Revenues 9-14'!D108","v":94884829},0,"OK"]
[5295,1789002744.8,{"$f":"'Revenues 9-14'!D109","v":1789002744.8000002},0,"OK"]
[5296,121265,{"$f":"'Revenues 9-14'!D111","v":121265},0,"OK"]
[5297,0,{"$f":"'Revenues 9-14'!D112","v":0},0,"OK"]
[5298,389222,{"$f":"'Revenues 9-14'!D113","v":389222},0,"OK"]
[5299,510487,{"$f":"'Revenues 9-14'!D114","v":510487},0,"OK"]
[5300,619402609,{"$f":"'Revenues 9-14'!D117","v":619402609},0,"OK"]
[5301,0,{"$f":"'Revenues 9-14'!D119","v":0},0,"OK"]
[5302,0,null,0,"OK"]
[5303,0,null,0,"OK"]
[5304,0,null,0,"OK"]
[5305,0,null,0,"OK"]
[5306,620244304,{"$f":"'Revenues 9-14'!D122","v":620244304},0,"OK"]
[5307,0,{"$f":"'Revenues 9-14'!D127","v":0},0,"OK"]
[5308,0,{"$f":"'Revenues 9-14'!D132","v":0},0,"OK"]
[5309,0,{"$f":"'Revenues 9-14'!D134","v":0},0,"OK"]
[5310,0,null,0,"OK"]
[5311,0,null,0,"OK"]
[5312,0,null,0,"OK"]
[5313,0,{"$f":"'Revenues 9-14'!D135","v":0},0,{"$f":"IF((D5320 = 0),\"OK\",IF((D5320<-5),\"CHECK ME!\",IF((D5320>5),\"Check Me!\",\"OK\")))","v":"OK"}]
[5314,0,{"$f":"'Revenues 9-14'!D136","v":0},0,"OK"]
[5315,0,null,0,"OK"]
[5316,0,null,0,"OK"]
[5317,0,null,0,"OK"]
[5318,0,null,0,"OK"]
[5319,0,null,0,"OK"]
[5320,0,null,0,"OK"]
[5321,0,null,0,"OK"]
[5322,0,{"$f":"'Revenues 9-14'!D141","v":0},0,"OK"]
[5323,0,{"$f":"'Revenues 9-14'!D148","v":0},0,"OK"]
[5324,0,null,0,"OK"]
[5325,0,null,0,"OK"]
[5326,0,{"$f":"'Revenues 9-14'!D149","v":0},0,"OK"]
[5327,0,null,0,"OK"]
[5328,0,null,0,"OK"]
[5329,0,null,0,"OK"]
[5330,65000,{"$f":"'Revenues 9-14'!D152","v":65000},0,"OK"]
[5331,0,null,0,"OK"]
[5332,10000,{"$f":"'Revenues 9-14'!D153","v":10000},0,"OK"]
[5333,75000,{"$f":"'Revenues 9-14'!D155","v":75000},0,"OK"]
[5334,0,{"$f":"'Revenues 9-14'!D157","v":0},0,"OK"]
[5335,0,null,0,"OK"]
[5336,0,null,0,"OK"]
[5337,0,null,0,"OK"]
[5338,0,null,0,"OK"]
[5339,0,null,0,"OK"]
[5340,588285,{"$f":"'Revenues 9-14'!D159","v":588285},0,"OK"]
[5341,0,null,0,"OK"]
[5342,0,null,0,"OK"]
[5343,0,null,0,"OK"]
[5344,0,null,0,"OK"]
[5345,0,null,0,"OK"]
[5346,0,null,0,"OK"]
[5347,0,null,{"$f":"B5354-C5354","v":0},"OK"]
[5348,0,null,0,"OK"]
[5349,0,null,0,"OK"]
[5350,0,null,0,"OK"]
[5351,2584798,{"$f":"'Revenues 9-14'!D169","v":2584798},0,"OK"]
[5352,0,null,0,"OK"]
[5353,0,null,0,"OK"]
[5354,0,null,0,"OK"]
[5355,0,null,0,"OK"]
[5356,0,null,0,"OK"]
[5357,0,null,0,"OK"]
[5358,0,null,0,"OK"]
[5359,0,null,0,"OK"]
[5360,622829102,{"$f":"'Revenues 9-14'!D170","v":622829102},0,"OK"]
[5361,5989226,{"$f":"'Revenues 9-14'!D173","v":5989226},0,"OK"]
[5362,5989226,{"$f":"'Revenues 9-14'!D175","v":5989226},0,"OK"]
[5363,0,{"$f":"'Revenues 9-14'!D178","v":0},0,"OK"]
[5364,5583.4,{"$f":"'Revenues 9-14'!D181","v":5583.4},0,"OK"]
[5365,0,{"$f":"'Revenues 9-14'!D184","v":0},0,"OK"]
[5366,0,null,0,"OK"]
[5367,0,null,0,"OK"]
[5368,0,null,0,"OK"]
[5369,0,null,0,"OK"]
[5370,0,{"$f":"'Revenues 9-14'!D200","v":0},0,"OK"]
[5371,0,{"$f":"'Revenues 9-14'!D201","v":0},0,"OK"]
[5372,0,null,0,"OK"]
[5373,0,null,0,"OK"]
[5374,0,null,0,"OK"]
[5375,0,null,0,"OK"]
[5376,0,null,0,"OK"]
[5377,0,null,0,{"$f":"IF((D5384 = 0),\"OK\",IF((D5384<-5),\"CHECK ME!\",IF((D5384>5),\"Check Me!\",\"OK\")))","v":"OK"}]
[5378,0,{"$f":"'Revenues 9-14'!D202","v":0},0,"OK"]
[5379,0,{"$f":"'Revenues 9-14'!D206","v":0},0,"OK"]
[5380,0,null,0,"OK"]
[5381,0,null,0,"OK"]
[5382,0,null,0,"OK"]
[5383,0,{"$f":"'Revenues 9-14'!D204","v":0},0,"OK"]
[5384,0,null,0,"OK"]
[5385,0,null,0,"OK"]
[5386,0,null,0,"OK"]
[5387,0,null,0,"OK"]
[5388,0,null,0,"OK"]
[5389,0,null,0,"OK"]
[5390,0,null,0,"OK"]
[5391,0,null,0,"OK"]
[5392,0,null,0,"OK"]
[5393,0,null,0,"OK"]
[5394,0,null,0,"OK"]
[5395,0,null,0,"OK"]
[5396,0,null,0,"OK"]
[5397,0,{"$f":"'Revenues 9-14'!D211","v":0},0,"OK"]
[5398,0,{"$f":"'Revenues 9-14'!D212","v":0},0,"OK"]
[5399,0,null,0,"OK"]
[5400,0,null,0,"OK"]
[5401,341865,{"$f":"'Revenues 9-14'!D213","v":341865},0,"OK"]
[5402,0,{"$f":"'Revenues 9-14'!D214","v":0},0,"OK"]
[5403,0,{"$f":"'Revenues 9-14'!D215","v":0},0,"OK"]
[5404,0,null,0,"OK"]
[5405,0,null,0,"OK"]
[5406,0,null,0,"OK"]
[5407,0,null,0,"OK"]
[5408,0,null,0,"OK"]
[5409,341865,{"$f":"'Revenues 9-14'!D217","v":341865},0,"OK"]
[5410,0,null,0,"OK"]
[5411,0,null,{"$f":"B5418-C5418","v":0},"OK"]
[5412,0,null,0,"OK"]
[5413,0,null,0,"OK"]
[5414,0,null,0,"OK"]
[5415,0,null,0,"OK"]
[5416,0,null,0,"OK"]
[5417,0,null,0,"OK"]
[5418,0,null,0,"OK"]
[5419,0,null,0,"OK"]
[5420,0,null,0,"OK"]
[5421,0,null,0,"OK"]
[5422,0,null,0,"OK"]
[5423,0,null,0,"OK"]
[5424,0,{"$f":"'Revenues 9-14'!D219","v":0},0,"OK"]
[5425,0,null,0,"OK"]
[5426,0,null,0,"OK"]
[5427,0,{"$f":"'Revenues 9-14'!D221","v":0},0,"OK"]
[5428,0,null,0,"OK"]
[5429,0,null,0,"OK"]
[5430,0,null,0,"OK"]
[5431,0,null,0,"OK"]
[5432,0,null,0,"OK"]
[5433,0,{"$f":"'Revenues 9-14'!D222","v":0},0,"OK"]
[5434,0,null,0,"OK"]
[5435,0,{"$f":"'Revenues 9-14'!D257","v":0},0,"OK"]
[5436,0,null,0,"OK"]
[5437,0,{"$f":"'Revenues 9-14'!D258","v":0},0,"OK"]
[5438,0,null,0,"OK"]
[5439,0,null,0,"OK"]
[5440,2889857,{"$f":"'Revenues 9-14'!D266","v":2889857},0,"OK"]
[5441,0,null,0,{"$f":"IF((D5448 = 0),\"OK\",IF((D5448<-5),\"CHECK ME!\",IF((D5448>5),\"Check Me!\",\"OK\")))","v":"OK"}]
[5442,0,null,0,"OK"]
[5443,0,null,0,"OK"]
[5444,0,null,0,"OK"]
[5445,0,null,0,"OK"]
[5446,8884666.4000000004,{"$f":"'Revenues 9-14'!D267","v":8884666.4000000004},0,"OK"]
[5447,2421227000.1999998,{"$f":"'Revenues 9-14'!D268","v":2421227000.2000003},0,"OK"]
[5448,1534413665.21,{"$f":"'Revenues 9-14'!E5","v":1534413665.21},0,"OK"]
[5449,0,null,0,"OK"]
[5450,0,{"$f":"'Revenues 9-14'!E9","v":0},0,"OK"]
[5451,3444039,{"$f":"'Revenues 9-14'!E11","v":3444039},0,"OK"]
[5452,1537857704.21,{"$f":"'Revenues 9-14'!E12","v":1537857704.21},0,"OK"]
[5453,263171.83999999997,{"$f":"'Revenues 9-14'!E14","v":263171.83999999997},0,"OK"]
[5454,70657,{"$f":"'Revenues 9-14'!E15","v":70657},0,"OK"]
[5455,36627716,{"$f":"'Revenues 9-14'!E16","v":36627716},0,"OK"]
[5456,581544,{"$f":"'Revenues 9-14'!E17","v":581544},0,"OK"]
[5457,37543088.840000004,{"$f":"'Revenues 9-14'!E18","v":37543088.840000004},0,"OK"]
[5458,18293645.369999997,{"$f":"'Revenues 9-14'!E65","v":18293645.369999997},0,"OK"]
[5459,22723065,{"$f":"'Revenues 9-14'!E66","v":22723065},0,"OK"]
[5460,41016710.369999997,{"$f":"'Revenues 9-14'!E67","v":41016710.369999997},0,"OK"]
[5461,1820000,{"$f":"'Revenues 9-14'!E96","v":1820000},0,"OK"]
[5462,902331,{"$f":"'Revenues 9-14'!E99","v":902331},0,"OK"]
[5463,872981,{"$f":"'Revenues 9-14'!E104","v":872981},0,"OK"]
[5464,125318073,{"$f":"'Revenues 9-14'!E107","v":125318073},0,"OK"]
[5465,184743906,{"$f":"'Revenues 9-14'!E108","v":184743906},0,"OK"]
[5466,1801161409.4199998,{"$f":"'Revenues 9-14'!E109","v":1801161409.4199998},0,"OK"]
[5467,307841182,{"$f":"'Revenues 9-14'!E117","v":307841182},0,"OK"]
[5468,0,{"$f":"'Revenues 9-14'!E119","v":0},0,"OK"]
[5469,0,null,0,"OK"]
[5470,0,null,0,"OK"]
[5471,0,null,0,"OK"]
[5472,0,null,0,"OK"]
[5473,307841182,{"$f":"'Revenues 9-14'!E122","v":307841182},0,"OK"]
[5474,0,null,0,"OK"]
[5475,0,null,{"$f":"B5482-C5482","v":0},"OK"]
[5476,6560200,{"$f":"'Revenues 9-14'!E169","v":6560200},0,"OK"]
[5477,0,null,0,"OK"]
[5478,0,null,0,"OK"]
[5479,0,null,0,"OK"]
[5480,0,null,0,"OK"]
[5481,0,null,0,"OK"]
[5482,0,null,0,"OK"]
[5483,314401382,{"$f":"'Revenues 9-14'!E170","v":314401382},0,"OK"]
[5484,0,null,0,"OK"]
[5485,0,null,0,"OK"]
[5486,0,null,0,"OK"]
[5487,0,null,0,"OK"]
[5488,0,null,0,"OK"]
[5489,0,null,0,"OK"]
[5490,0,null,0,"OK"]
[5491,2163864424.4200001,{"$f":"'Revenues 9-14'!E268","v":2163864424.4200001},0,"OK"]
[5492,576586162.95999992,{"$f":"'Revenues 9-14'!F5","v":576586162.95999992},0,"OK"]
[5493,0,null,0,"OK"]
[5494,0,{"$f":"'Revenues 9-14'!F7","v":0},0,"OK"]
[5495,2084860,{"$f":"'Revenues 9-14'!F11","v":2084860},0,"OK"]
[5496,578671022.95999992,{"$f":"'Revenues 9-14'!F12","v":578671022.95999992},0,"OK"]
[5497,85945.96,{"$f":"'Revenues 9-14'!F14","v":85945.96},0,"OK"]
[5498,16015,{"$f":"'Revenues 9-14'!F15","v":16015},0,"OK"]
[5499,8510339,{"$f":"'Revenues 9-14'!F16","v":8510339},0,"OK"]
[5500,33632,{"$f":"'Revenues 9-14'!F17","v":33632},0,"OK"]
[5501,8645931.9600000009,{"$f":"'Revenues 9-14'!F18","v":8645931.9600000009},0,"OK"]
[5502,7064759,{"$f":"'Revenues 9-14'!F42","v":7064759},0,"OK"]
[5503,15713989,{"$f":"'Revenues 9-14'!F43","v":15713989},0,"OK"]
[5504,1514448,{"$f":"'Revenues 9-14'!F44","v":1514448},0,"OK"]
[5505,5432092,{"$f":"'Revenues 9-14'!F45","v":5432092},0,{"$f":"IF((D5512 = 0),\"OK\",IF((D5512<-5),\"CHECK ME!\",IF((D5512>5),\"Check Me!\",\"OK\")))","v":"OK"}]
[5506,271078,{"$f":"'Revenues 9-14'!F47","v":271078},0,"OK"]
[5507,0,{"$f":"'Revenues 9-14'!F48","v":0},0,"OK"]
[5508,0,{"$f":"'Revenues 9-14'!F49","v":0},0,"OK"]
[5509,76413,{"$f":"'Revenues 9-14'!F51","v":76413},0,"OK"]
[5510,17358,{"$f":"'Revenues 9-14'!F52","v":17358},0,"OK"]
[5511,100,{"$f":"'Revenues 9-14'!F53","v":100},0,"OK"]
[5512,27846,{"$f":"'Revenues 9-14'!F55","v":27846},0,"OK"]
[5513,5026824,{"$f":"'Revenues 9-14'!F56","v":5026824},0,"OK"]
[5514,159020,{"$f":"'Revenues 9-14'!F57","v":159020},0,"OK"]
[5515,1851,{"$f":"'Revenues 9-14'!F59","v":1851},0,"OK"]
[5516,0,{"$f":"'Revenues 9-14'!F60","v":0},0,"OK"]
[5517,26081,{"$f":"'Revenues 9-14'!F61","v":26081},0,"OK"]
[5518,35371680,{"$f":"'Revenues 9-14'!F63","v":35371680},0,"OK"]
[5519,14710130.07,{"$f":"'Revenues 9-14'!F65","v":14710130.07},0,"OK"]
[5520,265030,{"$f":"'Revenues 9-14'!F66","v":265030},0,"OK"]
[5521,14975160.07,{"$f":"'Revenues 9-14'!F67","v":14975160.07},0,"OK"]
[5522,183839,{"$f":"'Revenues 9-14'!F96","v":183839},0,"OK"]
[5523,621998,{"$f":"'Revenues 9-14'!F98","v":621998},0,"OK"]
[5524,1660102,{"$f":"'Revenues 9-14'!F99","v":1660102},0,"OK"]
[5525,4646280,{"$f":"'Revenues 9-14'!F107","v":4646280},0,"OK"]
[5526,9076089,{"$f":"'Revenues 9-14'!F108","v":9076089},0,"OK"]
[5527,646739883.99000001,{"$f":"'Revenues 9-14'!F109","v":646739883.99000001},0,"OK"]
[5528,61292,{"$f":"'Revenues 9-14'!F111","v":61292},0,"OK"]
[5529,79868,{"$f":"'Revenues 9-14'!F112","v":79868},0,"OK"]
[5530,0,{"$f":"'Revenues 9-14'!F113","v":0},0,"OK"]
[5531,141160,{"$f":"'Revenues 9-14'!F114","v":141160},0,"OK"]
[5532,42663969,{"$f":"'Revenues 9-14'!F117","v":42663969},0,"OK"]
[5533,0,{"$f":"'Revenues 9-14'!F119","v":0},0,"OK"]
[5534,0,null,0,"OK"]
[5535,0,null,0,"OK"]
[5536,0,null,0,"OK"]
[5537,0,null,0,"OK"]
[5538,42663969,{"$f":"'Revenues 9-14'!F122","v":42663969},0,"OK"]
[5539,14331,{"$f":"'Revenues 9-14'!F125","v":14331},{"$f":"B5546-C5546","v":0},"OK"]
[5540,0,{"$f":"'Revenues 9-14'!F126","v":0},0,"OK"]
[5541,61611,{"$f":"'Revenues 9-14'!F127","v":61611},0,"OK"]
[5542,0,null,0,"OK"]
[5543,221476,{"$f":"'Revenues 9-14'!F128","v":221476},0,"OK"]
[5544,0,null,0,"OK"]
[5545,4953,{"$f":"'Revenues 9-14'!F129","v":4953},0,"OK"]
[5546,0,null,0,"OK"]
[5547,0,null,0,"OK"]
[5548,0,{"$f":"'Revenues 9-14'!F130","v":0},0,"OK"]
[5549,0,null,0,"OK"]
[5550,0,null,0,"OK"]
[5551,0,null,0,"OK"]
[5552,0,null,0,"OK"]
[5553,302371,{"$f":"'Revenues 9-14'!F132","v":302371},0,"OK"]
[5554,279684858.91999996,{"$f":"'Revenues 9-14'!F152","v":279684858.91999996},0,"OK"]
[5555,0,null,0,"OK"]
[5556,345491362.10000002,{"$f":"'Revenues 9-14'!F153","v":345491362.10000002},0,"OK"]
[5557,625180906.01999998,{"$f":"'Revenues 9-14'!F155","v":625180906.01999998},0,"OK"]
[5558,0,{"$f":"'Revenues 9-14'!F157","v":0},0,"OK"]
[5559,0,null,0,"OK"]
[5560,0,null,0,"OK"]
[5561,0,null,0,"OK"]
[5562,0,null,0,"OK"]
[5563,0,null,0,"OK"]
[5564,320,{"$f":"'Revenues 9-14'!F158","v":320},0,"OK"]
[5565,0,null,0,"OK"]
[5566,6082742,{"$f":"'Revenues 9-14'!F159","v":6082742},0,"OK"]
[5567,0,null,0,"OK"]
[5568,0,null,0,"OK"]
[5569,0,null,0,{"$f":"IF((D5576 = 0),\"OK\",IF((D5576<-5),\"CHECK ME!\",IF((D5576>5),\"Check Me!\",\"OK\")))","v":"OK"}]
[5570,0,null,0,"OK"]
[5571,0,null,0,"OK"]
[5572,0,null,0,"OK"]
[5573,0,null,0,"OK"]
[5574,0,null,0,"OK"]
[5575,0,null,0,"OK"]
[5576,0,null,0,"OK"]
[5577,0,null,0,"OK"]
[5578,0,null,0,"OK"]
[5579,0,null,0,"OK"]
[5580,0,null,0,"OK"]
[5581,0,null,0,"OK"]
[5582,0,null,0,"OK"]
[5583,631811103.01999998,{"$f":"'Revenues 9-14'!F169","v":631811103.01999998},0,"OK"]
[5584,0,null,0,"OK"]
[5585,0,null,0,"OK"]
[5586,0,null,0,"OK"]
[5587,0,null,0,"OK"]
[5588,0,null,0,"OK"]
[5589,0,null,0,"OK"]
[5590,0,null,0,"OK"]
[5591,0,null,0,"OK"]
[5592,674475072.01999998,{"$f":"'Revenues 9-14'!F170","v":674475072.01999998},0,"OK"]
[5593,500000,{"$f":"'Revenues 9-14'!F173","v":500000},0,"OK"]
[5594,500000,{"$f":"'Revenues 9-14'!F175","v":500000},0,"OK"]
[5595,0,null,0,"OK"]
[5596,0,null,0,"OK"]
[5597,0,{"$f":"'Revenues 9-14'!F181","v":0},0,"OK"]
[5598,41000,{"$f":"'Revenues 9-14'!F184","v":41000},0,"OK"]
[5599,0,null,0,"OK"]
[5600,0,null,0,"OK"]
[5601,0,null,0,"OK"]
[5602,0,null,0,"OK"]
[5603,831877,{"$f":"'Revenues 9-14'!F200","v":831877},{"$f":"B5610-C5610","v":0},"OK"]
[5604,0,{"$f":"'Revenues 9-14'!F201","v":0},0,"OK"]
[5605,0,null,0,"OK"]
[5606,0,null,0,"OK"]
[5607,0,null,0,"OK"]
[5608,0,null,0,"OK"]
[5609,0,null,0,"OK"]
[5610,0,null,0,"OK"]
[5611,0,{"$f":"'Revenues 9-14'!F202","v":0},0,"OK"]
[5612,12740,{"$f":"'Revenues 9-14'!F206","v":12740},0,"OK"]
[5613,0,null,0,"OK"]
[5614,0,null,0,"OK"]
[5615,0,null,0,"OK"]
[5616,850597,{"$f":"'Revenues 9-14'!F204","v":850597},0,"OK"]
[5617,0,null,0,"OK"]
[5618,0,null,0,"OK"]
[5619,0,null,0,"OK"]
[5620,0,null,0,"OK"]
[5621,0,null,0,"OK"]
[5622,0,null,0,"OK"]
[5623,0,null,0,"OK"]
[5624,0,null,0,"OK"]
[5625,0,null,0,"OK"]
[5626,0,null,0,"OK"]
[5627,0,null,0,"OK"]
[5628,0,null,0,"OK"]
[5629,0,null,0,"OK"]
[5630,1394,{"$f":"'Revenues 9-14'!F211","v":1394},0,"OK"]
[5631,0,{"$f":"'Revenues 9-14'!F212","v":0},0,"OK"]
[5632,0,null,0,"OK"]
[5633,0,null,0,{"$f":"IF((D5640 = 0),\"OK\",IF((D5640<-5),\"CHECK ME!\",IF((D5640>5),\"Check Me!\",\"OK\")))","v":"OK"}]
[5634,89818,{"$f":"'Revenues 9-14'!F213","v":89818},0,"OK"]
[5635,6065,{"$f":"'Revenues 9-14'!F214","v":6065},0,"OK"]
[5636,0,{"$f":"'Revenues 9-14'!F215","v":0},0,"OK"]
[5637,0,null,0,"OK"]
[5638,0,null,0,"OK"]
[5639,0,null,0,"OK"]
[5640,0,null,0,"OK"]
[5641,0,null,0,"OK"]
[5642,97277,{"$f":"'Revenues 9-14'!F217","v":97277},0,"OK"]
[5643,0,null,0,"OK"]
[5644,0,{"$f":"'Revenues 9-14'!F255","v":0},0,"OK"]
[5645,0,null,0,"OK"]
[5646,0,null,0,"OK"]
[5647,4116,{"$f":"'Revenues 9-14'!F257","v":4116},0,"OK"]
[5648,0,null,0,"OK"]
[5649,0,{"$f":"'Revenues 9-14'!F258","v":0},0,"OK"]
[5650,0,null,0,"OK"]
[5651,0,null,0,"OK"]
[5652,1528565,{"$f":"'Revenues 9-14'!F266","v":1528565},0,"OK"]
[5653,0,null,0,"OK"]
[5654,0,null,0,"OK"]
[5655,0,null,0,"OK"]
[5656,0,null,0,"OK"]
[5657,0,null,0,"OK"]
[5658,2028565,{"$f":"'Revenues 9-14'!F267","v":2028565},0,"OK"]
[5659,1323384681.01,{"$f":"'Revenues 9-14'!F268","v":1323384681.01},0,"OK"]
[5660,266985769.53,{"$f":"'Revenues 9-14'!G5","v":266985769.53},0,"OK"]
[5661,1199757,{"$f":"'Revenues 9-14'!G7","v":1199757},0,"OK"]
[5662,301792612.81999999,{"$f":"'Revenues 9-14'!G8","v":301792612.81999999},0,"OK"]
[5663,1465901,{"$f":"'Revenues 9-14'!G11","v":1465901},0,"OK"]
[5664,571444040.3499999,{"$f":"'Revenues 9-14'!G12","v":571444040.35000002},0,"OK"]
[5665,116243.11,{"$f":"'Revenues 9-14'!G14","v":116243.11},0,"OK"]
[5666,28681,{"$f":"'Revenues 9-14'!G15","v":28681},0,"OK"]
[5667,52453106.850000001,{"$f":"'Revenues 9-14'!G16","v":52453106.850000001},{"$f":"B5674-C5674","v":0},"OK"]
[5668,117348,{"$f":"'Revenues 9-14'!G17","v":117348},0,"OK"]
[5669,52715378.960000001,{"$f":"'Revenues 9-14'!G18","v":52715378.960000001},0,"OK"]
[5670,9283025.5499999989,{"$f":"'Revenues 9-14'!G65","v":9283025.5499999989},0,"OK"]
[5671,206999,{"$f":"'Revenues 9-14'!G66","v":206999},0,"OK"]
[5672,9490024.5499999989,{"$f":"'Revenues 9-14'!G67","v":9490024.5499999989},0,"OK"]
[5673,16949,{"$f":"'Revenues 9-14'!G96","v":16949},0,"OK"]
[5674,172385,{"$f":"'Revenues 9-14'!G99","v":172385},0,"OK"]
[5675,958901,{"$f":"'Revenues 9-14'!G107","v":958901},0,"OK"]
[5676,1683104,{"$f":"'Revenues 9-14'!G108","v":1683104},0,"OK"]
[5677,0,{"$f":"'Revenues 9-14'!G111","v":0},0,"OK"]
[5678,0,{"$f":"'Revenues 9-14'!G112","v":0},0,"OK"]
[5679,0,{"$f":"'Revenues 9-14'!G113","v":0},0,"OK"]
[5680,0,{"$f":"'Revenues 9-14'!G114","v":0},0,"OK"]
[5681,10326713,{"$f":"'Revenues 9-14'!G117","v":10326713},0,"OK"]
[5682,0,{"$f":"'Revenues 9-14'!G119","v":0},0,"OK"]
[5683,0,null,0,"OK"]
[5684,0,null,0,"OK"]
[5685,0,null,0,"OK"]
[5686,0,null,0,"OK"]
[5687,10359713,{"$f":"'Revenues 9-14'!G122","v":10359713},0,"OK"]
[5688,0,{"$f":"'Revenues 9-14'!G134","v":0},0,"OK"]
[5689,0,null,0,"OK"]
[5690,0,null,0,"OK"]
[5691,3842,{"$f":"'Revenues 9-14'!G141","v":3842},0,"OK"]
[5692,0,null,0,"OK"]
[5693,0,{"$f":"'Revenues 9-14'!G143","v":0},0,"OK"]
[5694,0,{"$f":"'Revenues 9-14'!G144","v":0},0,"OK"]
[5695,0,{"$f":"'Revenues 9-14'!G145","v":0},0,"OK"]
[5696,0,{"$f":"'Revenues 9-14'!G157","v":0},0,"OK"]
[5697,0,null,0,{"$f":"IF((D5704 = 0),\"OK\",IF((D5704<-5),\"CHECK ME!\",IF((D5704>5),\"Check Me!\",\"OK\")))","v":"OK"}]
[5698,0,null,0,"OK"]
[5699,0,null,0,"OK"]
[5700,0,null,0,"OK"]
[5701,0,null,0,"OK"]
[5702,2974,{"$f":"'Revenues 9-14'!G158","v":2974},0,"OK"]
[5703,0,null,0,"OK"]
[5704,838798,{"$f":"'Revenues 9-14'!G159","v":838798},0,"OK"]
[5705,0,null,0,"OK"]
[5706,0,null,0,"OK"]
[5707,0,null,0,"OK"]
[5708,0,null,0,"OK"]
[5709,1377007,{"$f":"'Revenues 9-14'!G169","v":1377007},0,"OK"]
[5710,0,null,0,"OK"]
[5711,0,null,0,"OK"]
[5712,0,null,0,"OK"]
[5713,0,null,0,"OK"]
[5714,0,null,0,"OK"]
[5715,0,null,0,"OK"]
[5716,0,null,0,"OK"]
[5717,11736720,{"$f":"'Revenues 9-14'!G170","v":11736720},0,"OK"]
[5718,0,{"$f":"'Revenues 9-14'!G173","v":0},0,"OK"]
[5719,0,{"$f":"'Revenues 9-14'!G175","v":0},0,"OK"]
[5720,0,null,0,"OK"]
[5721,0,null,0,"OK"]
[5722,0,null,0,"OK"]
[5723,270992,{"$f":"'Revenues 9-14'!G181","v":270992},0,"OK"]
[5724,0,{"$f":"'Revenues 9-14'!G184","v":0},0,"OK"]
[5725,0,null,0,"OK"]
[5726,0,null,0,"OK"]
[5727,0,null,0,"OK"]
[5728,0,null,0,"OK"]
[5729,935775,{"$f":"'Revenues 9-14'!G200","v":935775},0,"OK"]
[5730,140,{"$f":"'Revenues 9-14'!G201","v":140},0,"OK"]
[5731,0,null,{"$f":"B5738-C5738","v":0},"OK"]
[5732,0,null,0,"OK"]
[5733,0,null,0,"OK"]
[5734,0,null,0,"OK"]
[5735,0,null,0,"OK"]
[5736,0,null,0,"OK"]
[5737,3590,{"$f":"'Revenues 9-14'!G202","v":3590},0,"OK"]
[5738,10550,{"$f":"'Revenues 9-14'!G206","v":10550},0,"OK"]
[5739,0,null,0,"OK"]
[5740,0,null,0,"OK"]
[5741,0,null,0,"OK"]
[5742,939742,{"$f":"'Revenues 9-14'!G204","v":939742},0,"OK"]
[5743,0,null,0,"OK"]
[5744,0,null,0,"OK"]
[5745,0,null,0,"OK"]
[5746,0,null,0,"OK"]
[5747,0,null,0,"OK"]
[5748,0,null,0,"OK"]
[5749,0,null,0,"OK"]
[5750,0,null,0,"OK"]
[5751,0,null,0,"OK"]
[5752,0,null,0,"OK"]
[5753,0,null,0,"OK"]
[5754,0,null,0,"OK"]
[5755,0,null,0,"OK"]
[5756,57126,{"$f":"'Revenues 9-14'!G211","v":57126},0,"OK"]
[5757,0,{"$f":"'Revenues 9-14'!G212","v":0},0,"OK"]
[5758,0,null,0,"OK"]
[5759,0,null,0,"OK"]
[5760,991397,{"$f":"'Revenues 9-14'!G213","v":991397},0,"OK"]
[5761,0,{"$f":"'Revenues 9-14'!G214","v":0},0,{"$f":"IF((D5768 = 0),\"OK\",IF((D5768<-5),\"CHECK ME!\",IF((D5768>5),\"Check Me!\",\"OK\")))","v":"OK"}]
[5762,0,{"$f":"'Revenues 9-14'!G215","v":0},0,"OK"]
[5763,0,null,0,"OK"]
[5764,0,null,0,"OK"]
[5765,0,null,0,"OK"]
[5766,0,null,0,"OK"]
[5767,0,null,0,"OK"]
[5768,1048523,{"$f":"'Revenues 9-14'!G217","v":1048523},0,"OK"]
[5769,0,null,0,"OK"]
[5770,0,null,0,"OK"]
[5771,0,null,0,"OK"]
[5772,0,null,0,"OK"]
[5773,0,null,0,"OK"]
[5774,0,null,0,"OK"]
[5775,0,null,0,"OK"]
[5776,0,null,0,"OK"]
[5777,0,null,0,"OK"]
[5778,0,null,0,"OK"]
[5779,0,null,0,"OK"]
[5780,0,null,0,"OK"]
[5781,0,null,0,"OK"]
[5782,0,null,0,"OK"]
[5783,141,{"$f":"'Revenues 9-14'!G219","v":141},0,"OK"]
[5784,0,null,0,"OK"]
[5785,0,null,0,"OK"]
[5786,141,{"$f":"'Revenues 9-14'!G221","v":141},0,"OK"]
[5787,0,null,0,"OK"]
[5788,0,null,0,"OK"]
[5789,0,null,0,"OK"]
[5790,0,null,0,"OK"]
[5791,0,null,0,"OK"]
[5792,0,{"$f":"'Revenues 9-14'!G222","v":0},0,"OK"]
[5793,0,null,0,"OK"]
[5794,9588,{"$f":"'Revenues 9-14'!G255","v":9588},0,"OK"]
[5795,0,null,{"$f":"B5802-C5802","v":0},"OK"]
[5796,0,null,0,"OK"]
[5797,0,{"$f":"'Revenues 9-14'!G257","v":0},0,"OK"]
[5798,0,null,0,"OK"]
[5799,0,{"$f":"'Revenues 9-14'!G258","v":0},0,"OK"]
[5800,0,null,0,"OK"]
[5801,0,null,0,"OK"]
[5802,2229233,{"$f":"'Revenues 9-14'!G266","v":2229233},0,"OK"]
[5803,0,null,0,"OK"]
[5804,0,null,0,"OK"]
[5805,0,null,0,"OK"]
[5806,0,null,0,"OK"]
[5807,0,null,0,"OK"]
[5808,2500225,{"$f":"'Revenues 9-14'!G267","v":2500225},0,"OK"]
[5809,649569492.86000001,{"$f":"'Revenues 9-14'!G268","v":649569492.86000001},0,"OK"]
[5810,11120377,{"$f":"'Revenues 9-14'!H5","v":11120377},0,"OK"]
[5811,7000,{"$f":"'Revenues 9-14'!H11","v":7000},0,"OK"]
[5812,11127377,{"$f":"'Revenues 9-14'!H12","v":11127377},0,"OK"]
[5813,0,{"$f":"'Revenues 9-14'!H14","v":0},0,"OK"]
[5814,0,{"$f":"'Revenues 9-14'!H15","v":0},0,"OK"]
[5815,6187848,{"$f":"'Revenues 9-14'!H16","v":6187848},0,"OK"]
[5816,4890221,{"$f":"'Revenues 9-14'!H17","v":4890221},0,"OK"]
[5817,11078069,{"$f":"'Revenues 9-14'!H18","v":11078069},0,"OK"]
[5818,29508700.18,{"$f":"'Revenues 9-14'!H65","v":29508700.18},0,"OK"]
[5819,15764954,{"$f":"'Revenues 9-14'!H66","v":15764954},0,"OK"]
[5820,45273654.18,{"$f":"'Revenues 9-14'!H67","v":45273654.18},0,"OK"]
[5821,9046649,{"$f":"'Revenues 9-14'!H96","v":9046649},0,"OK"]
[5822,1011556,{"$f":"'Revenues 9-14'!H99","v":1011556},0,"OK"]
[5823,748624,{"$f":"'Revenues 9-14'!H104","v":748624},0,"OK"]
[5824,43967504,{"$f":"'Revenues 9-14'!H107","v":43967504},0,"OK"]
[5825,156185935,{"$f":"'Revenues 9-14'!H108","v":156185935},0,{"$f":"IF((D5832 = 0),\"OK\",IF((D5832<-5),\"CHECK ME!\",IF((D5832>5),\"Check Me!\",\"OK\")))","v":"OK"}]
[5826,39073428,{"$f":"'Revenues 9-14'!H117","v":39073428},0,"OK"]
[5827,0,{"$f":"'Revenues 9-14'!H119","v":0},0,"OK"]
[5828,0,null,0,"OK"]
[5829,0,null,0,"OK"]
[5830,0,null,0,"OK"]
[5831,0,null,0,"OK"]
[5832,39197933,{"$f":"'Revenues 9-14'!H122","v":39197933},0,"OK"]
[5833,0,null,0,"OK"]
[5834,0,null,0,"OK"]
[5835,0,null,0,"OK"]
[5836,0,null,0,"OK"]
[5837,0,null,0,"OK"]
[5838,17899479,{"$f":"'Revenues 9-14'!H169","v":17899479},0,"OK"]
[5839,0,null,0,"OK"]
[5840,0,null,0,"OK"]
[5841,0,null,0,"OK"]
[5842,0,null,0,"OK"]
[5843,0,null,0,"OK"]
[5844,0,null,0,"OK"]
[5845,57097412,{"$f":"'Revenues 9-14'!H170","v":57097412},0,"OK"]
[5846,0,{"$f":"'Revenues 9-14'!H178","v":0},0,"OK"]
[5847,0,{"$f":"'Revenues 9-14'!H181","v":0},0,"OK"]
[5848,0,null,0,"OK"]
[5849,0,null,0,"OK"]
[5850,0,null,0,"OK"]
[5851,0,null,0,"OK"]
[5852,0,null,0,"OK"]
[5853,1523211,{"$f":"'Revenues 9-14'!H267","v":1523211},0,"OK"]
[5854,282285658.18000001,{"$f":"'Revenues 9-14'!H268","v":282285658.18000001},0,"OK"]
[5855,67098363.219999999,{"$f":"'Revenues 9-14'!I5","v":67098363.219999999},0,"OK"]
[5856,206137,{"$f":"'Revenues 9-14'!I11","v":206137},0,"OK"]
[5857,67304500.219999999,{"$f":"'Revenues 9-14'!I12","v":67304500.219999999},0,"OK"]
[5858,15292.75,{"$f":"'Revenues 9-14'!I14","v":15292.75},0,"OK"]
[5859,3308,{"$f":"'Revenues 9-14'!I15","v":3308},{"$f":"B5866-C5866","v":0},"OK"]
[5860,2698561,{"$f":"'Revenues 9-14'!I16","v":2698561},0,"OK"]
[5861,5188,{"$f":"'Revenues 9-14'!I17","v":5188},0,"OK"]
[5862,2722349.75,{"$f":"'Revenues 9-14'!I18","v":2722349.75},0,"OK"]
[5863,45135616.330000006,{"$f":"'Revenues 9-14'!I65","v":45135616.330000006},0,"OK"]
[5864,1302368,{"$f":"'Revenues 9-14'!I66","v":1302368},0,"OK"]
[5865,46437984.330000006,{"$f":"'Revenues 9-14'!I67","v":46437984.330000006},0,"OK"]
[5866,60000,{"$f":"'Revenues 9-14'!I96","v":60000},0,"OK"]
[5867,0,null,0,"OK"]
[5868,2630,{"$f":"'Revenues 9-14'!I107","v":2630},0,"OK"]
[5869,168505,{"$f":"'Revenues 9-14'!I108","v":168505},0,"OK"]
[5870,0,null,0,"OK"]
[5871,0,null,0,"OK"]
[5872,0,null,0,"OK"]
[5873,0,null,0,"OK"]
[5874,0,null,0,"OK"]
[5875,0,null,0,"OK"]
[5876,0,null,0,"OK"]
[5877,0,null,0,"OK"]
[5878,0,null,0,"OK"]
[5879,0,null,0,"OK"]
[5880,0,null,0,"OK"]
[5881,0,null,0,"OK"]
[5882,0,null,0,"OK"]
[5883,0,null,0,"OK"]
[5884,0,null,0,"OK"]
[5885,116633339.3,{"$f":"'Revenues 9-14'!I268","v":116633339.30000001},0,"OK"]
[5886,0,null,0,"OK"]
[5887,0,null,0,"OK"]
[5888,0,null,0,"OK"]
[5889,0,null,0,{"$f":"IF((D5896 = 0),\"OK\",IF((D5896<-5),\"CHECK ME!\",IF((D5896>5),\"Check Me!\",\"OK\")))","v":"OK"}]
[5890,0,null,0,"OK"]
[5891,0,null,0,"OK"]
[5892,0,null,0,"OK"]
[5893,0,null,0,"OK"]
[5894,0,null,0,"OK"]
[5895,0,null,0,"OK"]
[5896,0,null,0,"OK"]
[5897,0,null,0,"OK"]
[5898,0,null,0,"OK"]
[5899,0,null,0,"OK"]
[5900,0,null,0,"OK"]
[5901,0,null,0,"OK"]
[5902,0,null,0,"OK"]
[5903,0,null,0,"OK"]
[5904,0,null,0,"OK"]
[5905,0,null,0,"OK"]
[5906,0,null,0,"OK"]
[5907,0,null,0,"OK"]
[5908,0,null,0,"OK"]
[5909,0,null,0,"OK"]
[5910,0,null,0,"OK"]
[5911,0,null,0,"OK"]
[5912,0,null,0,"OK"]
[5913,0,null,0,"OK"]
[5914,0,null,0,"OK"]
[5915,0,null,0,"OK"]
[5916,0,null,0,"OK"]
[5917,0,null,0,"OK"]
[5918,0,null,0,"OK"]
[5919,0,null,0,"OK"]
[5920,0,null,0,"OK"]
[5921,0,null,0,"OK"]
[5922,0,null,0,"OK"]
[5923,0,null,{"$f":"B5930-C5930","v":0},"OK"]
[5924,54460270.079999998,{"$f":"'Revenues 9-14'!K5","v":54460270.079999998},0,"OK"]
[5925,451041,{"$f":"'Revenues 9-14'!K11","v":451041},0,"OK"]
[5926,54911311.079999998,{"$f":"'Revenues 9-14'!K12","v":54911311.079999998},0,"OK"]
[5927,17548.75,{"$f":"'Revenues 9-14'!K14","v":17548.75},0,"OK"]
[5928,2620,{"$f":"'Revenues 9-14'!K15","v":2620},0,"OK"]
[5929,27,{"$f":"'Revenues 9-14'!K16","v":27},0,"OK"]
[5930,39673,{"$f":"'Revenues 9-14'!K17","v":39673},0,"OK"]
[5931,59868.75,{"$f":"'Revenues 9-14'!K18","v":59868.75},0,"OK"]
[5932,4742369.2300000004,{"$f":"'Revenues 9-14'!K65","v":4742369.2300000004},0,"OK"]
[5933,186888,{"$f":"'Revenues 9-14'!K66","v":186888},0,"OK"]
[5934,4929257.2300000004,{"$f":"'Revenues 9-14'!K67","v":4929257.2300000004},0,"OK"]
[5935,0,{"$f":"'Revenues 9-14'!K96","v":0},0,"OK"]
[5936,5250,{"$f":"'Revenues 9-14'!K99","v":5250},0,"OK"]
[5937,569735,{"$f":"'Revenues 9-14'!K107","v":569735},0,"OK"]
[5938,620036,{"$f":"'Revenues 9-14'!K108","v":620036},0,"OK"]
[5939,678591,{"$f":"'Revenues 9-14'!K117","v":678591},0,"OK"]
[5940,0,{"$f":"'Revenues 9-14'!K119","v":0},0,"OK"]
[5941,0,null,0,"OK"]
[5942,0,null,0,"OK"]
[5943,0,null,0,"OK"]
[5944,0,null,0,"OK"]
[5945,678591,{"$f":"'Revenues 9-14'!K122","v":678591},0,"OK"]
[5946,0,null,0,"OK"]
[5947,0,null,0,"OK"]
[5948,0,null,0,"OK"]
[5949,0,null,0,"OK"]
[5950,0,null,0,"OK"]
[5951,0,null,0,"OK"]
[5952,0,null,0,"OK"]
[5953,678591,{"$f":"'Revenues 9-14'!K170","v":678591},0,{"$f":"IF((D5960 = 0),\"OK\",IF((D5960<-5),\"CHECK ME!\",IF((D5960>5),\"Check Me!\",\"OK\")))","v":"OK"}]
[5954,0,null,0,"OK"]
[5955,0,{"$f":"'Revenues 9-14'!K181","v":0},0,"OK"]
[5956,0,null,0,"OK"]
[5957,0,null,0,"OK"]
[5958,0,null,0,"OK"]
[5959,0,null,0,"OK"]
[5960,0,null,0,"OK"]
[5961,0,{"$f":"'Revenues 9-14'!K267","v":0},0,"OK"]
[5962,61199064.059999995,{"$f":"'Revenues 9-14'!K268","v":61199064.060000002},0,"OK"]
[5963,635332547.86000001,{"$f":"'Revenues 9-14'!G109","v":635332547.86000001},0,"OK"]
[5964,223665035.18000001,{"$f":"'Revenues 9-14'!H109","v":223665035.18000001},0,"OK"]
[5965,116633339.3,{"$f":"'Revenues 9-14'!I109","v":116633339.30000001},0,"OK"]
[5966,0,null,0,"OK"]
[5967,60520473.059999995,{"$f":"'Revenues 9-14'!K109","v":60520473.060000002},0,"OK"]
[5968,0,null,0,"OK"]
[5969,0,null,0,"OK"]
[5970,136407055.81999999,{"$f":"'Revenues 9-14'!C69","v":136407055.81999999},0,"OK"]
[5971,1833094,{"$f":"'Acct Summary 7-8'!G15","v":1833094},0,"OK"]
[5972,0,null,0,"OK"]
[5973,0,null,0,"OK"]
[5974,53298196.430000007]
[5975,0,null,0,"OK"]
[5976,0,null,0,"OK"]
[5977,0,null,0,"OK"]
[5978,0,null,0,"OK"]
[5979,0,null,0,"OK"]
[5980,0,null,0,"OK"]
[5981,0,null,0,"OK"]
[5982,0,null,0,"OK"]
[5983,0,null,0,"OK"]
[5984,0,null,0,"OK"]
[5985,0,null,0,"OK"]
[5986,0,null,0,"OK"]
[5987,0,null,{"$f":"B5994-C5994","v":0},"OK"]
[5988,0,null,0,"OK"]
[5989,0,null,0,"OK"]
[5990,0,null,0,"OK"]
[5991,0,null,0,"OK"]
[5992,0,null,0,"OK"]
[5993,0,null,0,"OK"]
[5994,0,null,0,"OK"]
[5995,0,null,0,"OK"]
[5996,0,null,0,"OK"]
[5997,0,null,0,"OK"]
[5998,0,null,0,"OK"]
[5999,0,null,0,"OK"]
[6000,0,null,0,"OK"]
[6001,0,null,0,"OK"]
[6002,0,null,0,"OK"]
[6003,0,null,0,"OK"]
[6004,0,null,0,"OK"]
[6005,0,null,0,"OK"]
[6006,0,null,0,"OK"]
[6007,0,null,0,"OK"]
[6008,0,null,0,"OK"]
[6009,0,null,0,"OK"]
[6010,0,null,0,"OK"]
[6011,0,null,0,"OK"]
[6012,0,null,0,"OK"]
[6013,1771116.100000002,{"$f":"'PCTC-OEPP 27-28'!F78","v":1771116.100000002},{"$f":"B6020-C6020","v":0},"OK"]
[6014,0,null,0,"OK"]
[6015,8342254,{"$f":"'Short-Term Long-Term Debt 24'!C27","v":8342254},0,"OK"]
[6016,4590643,{"$f":"'Short-Term Long-Term Debt 24'!D27","v":4590643},0,"OK"]
[6017,7267344,{"$f":"'Short-Term Long-Term Debt 24'!E27","v":7267344},0,{"$f":"IF((D6024 = 0),\"OK\",IF((D6024<-5),\"CHECK ME!\",IF((D6024>5),\"Check Me!\",\"OK\")))","v":"OK"}]
[6018,5665553,{"$f":"'Short-Term Long-Term Debt 24'!F27","v":5665553},0,"OK"]
[6019,0,null,0,"OK"]
[6020,89651518,{"$f":"'Assets-Liab 5-6'!C7","v":89651518},0,"OK"]
[6021,12382552,{"$f":"'Assets-Liab 5-6'!D7","v":12382552},0,"OK"]
[6022,1125459,{"$f":"'Assets-Liab 5-6'!E7","v":1125459},0,"OK"]
[6023,3112044,{"$f":"'Assets-Liab 5-6'!F7","v":3112044},0,"OK"]
[6024,451640,{"$f":"'Assets-Liab 5-6'!G7","v":451640},0,"OK"]
[6025,289737,{"$f":"'Assets-Liab 5-6'!H7","v":289737},0,"OK"]
[6026,69167592,{"$f":"'Assets-Liab 5-6'!I7","v":69167592},0,"OK"]
[6027,469761,{"$f":"'Assets-Liab 5-6'!J7","v":469761},0,"OK"]
[6028,5086,{"$f":"'Assets-Liab 5-6'!K7","v":5086},0,"OK"]
[6029,556764876,{"$f":"'Assets-Liab 5-6'!C8","v":556764876},0,"OK"]
[6030,5898929,{"$f":"'Assets-Liab 5-6'!D8","v":5898929},0,"OK"]
[6031,68436969,{"$f":"'Assets-Liab 5-6'!E8","v":68436969},0,"OK"]
[6032,128628711,{"$f":"'Assets-Liab 5-6'!F8","v":128628711},0,"OK"]
[6033,634477,{"$f":"'Assets-Liab 5-6'!G8","v":634477},0,"OK"]
[6034,19167752,{"$f":"'Assets-Liab 5-6'!H8","v":19167752},0,"OK"]
[6035,20732575,{"$f":"'Assets-Liab 5-6'!I8","v":20732575},0,"OK"]
[6036,1,{"$f":"'Assets-Liab 5-6'!J8","v":1},0,"OK"]
[6037,0,{"$f":"'Assets-Liab 5-6'!K8","v":0},0,"OK"]
[6038,39473714,{"$f":"'Assets-Liab 5-6'!C9","v":39473714},0,"OK"]
[6039,4076284,{"$f":"'Assets-Liab 5-6'!D9","v":4076284},0,"OK"]
[6040,1402834,{"$f":"'Assets-Liab 5-6'!E9","v":1402834},0,"OK"]
[6041,5544178,{"$f":"'Assets-Liab 5-6'!F9","v":5544178},0,"OK"]
[6042,649572,{"$f":"'Assets-Liab 5-6'!G9","v":649572},0,"OK"]
[6043,5699479,{"$f":"'Assets-Liab 5-6'!H9","v":5699479},0,"OK"]
[6044,3601857,{"$f":"'Assets-Liab 5-6'!I9","v":3601857},0,"OK"]
[6045,150516,{"$f":"'Assets-Liab 5-6'!J9","v":150516},0,"OK"]
[6046,131660,{"$f":"'Assets-Liab 5-6'!K9","v":131660},0,"OK"]
[6047,575953,{"$f":"'Assets-Liab 5-6'!L9","v":575953},0,"OK"]
[6048,0,{"$f":"'Assets-Liab 5-6'!E10","v":0},0,"OK"]
[6049,223,{"$f":"'Assets-Liab 5-6'!G10","v":223},0,"OK"]
[6050,0,{"$f":"'Assets-Liab 5-6'!I10","v":0},0,"OK"]
[6051,0,{"$f":"'Assets-Liab 5-6'!J10","v":0},0,"OK"]
[6052,22219773,{"$f":"'Assets-Liab 5-6'!C11","v":22219773},0,"OK"]
[6053,1550072,{"$f":"'Assets-Liab 5-6'!D11","v":1550072},0,"OK"]
[6054,8083810,{"$f":"'Assets-Liab 5-6'!E11","v":8083810},0,"OK"]
[6055,1247771,{"$f":"'Assets-Liab 5-6'!F11","v":1247771},0,"OK"]
[6056,10950,{"$f":"'Assets-Liab 5-6'!G11","v":10950},0,"OK"]
[6057,54770,{"$f":"'Assets-Liab 5-6'!H11","v":54770},0,"OK"]
[6058,0,{"$f":"'Assets-Liab 5-6'!I11","v":0},0,"OK"]
[6059,2574673,{"$f":"'Assets-Liab 5-6'!J11","v":2574673},0,"OK"]
[6060,0,{"$f":"'Assets-Liab 5-6'!K11","v":0},0,"OK"]
[6061,0,{"$f":"'Assets-Liab 5-6'!L11","v":0},0,"OK"]
[6062,444,{"$f":"'Assets-Liab 5-6'!J12","v":444},0,"OK"]
[6063,350994914,{"$f":"'Assets-Liab 5-6'!J13","v":350994914},0,"OK"]
[6064,40602505,{"$f":"'Assets-Liab 5-6'!C25","v":40602505},0,"OK"]
[6065,23889268,{"$f":"'Assets-Liab 5-6'!D25","v":23889268},0,"OK"]
[6066,6423924,{"$f":"'Assets-Liab 5-6'!E25","v":6423924},0,"OK"]
[6067,22292948,{"$f":"'Assets-Liab 5-6'!F25","v":22292948},0,"OK"]
[6068,6642032,{"$f":"'Assets-Liab 5-6'!G25","v":6642032},0,"OK"]
[6069,18657171,{"$f":"'Assets-Liab 5-6'!H25","v":18657171},0,"OK"]
[6070,56740877,{"$f":"'Assets-Liab 5-6'!J25","v":56740877},0,"OK"]
[6071,8808355,{"$f":"'Assets-Liab 5-6'!K25","v":8808355},0,"OK"]
[6072,3953970,{"$f":"'Assets-Liab 5-6'!C26","v":3953970},0,"OK"]
[6073,1259887,{"$f":"'Assets-Liab 5-6'!D26","v":1259887},0,"OK"]
[6074,370375,{"$f":"'Assets-Liab 5-6'!E26","v":370375},0,"OK"]
[6075,181347,{"$f":"'Assets-Liab 5-6'!F26","v":181347},0,"OK"]
[6076,136177,{"$f":"'Assets-Liab 5-6'!G26","v":136177},0,"OK"]
[6077,14609150,{"$f":"'Assets-Liab 5-6'!H26","v":14609150},{"$f":"B6084-C6084","v":0},"OK"]
[6078,0,{"$f":"'Assets-Liab 5-6'!I26","v":0},0,"OK"]
[6079,1470732,{"$f":"'Assets-Liab 5-6'!J26","v":1470732},0,"OK"]
[6080,0,{"$f":"'Assets-Liab 5-6'!K26","v":0},0,"OK"]
[6081,796661865,{"$f":"'Assets-Liab 5-6'!C27","v":796661865},0,{"$f":"IF((D6088 = 0),\"OK\",IF((D6088<-5),\"CHECK ME!\",IF((D6088>5),\"Check Me!\",\"OK\")))","v":"OK"}]
[6082,64068737,{"$f":"'Assets-Liab 5-6'!D27","v":64068737},0,"OK"]
[6083,4885342,{"$f":"'Assets-Liab 5-6'!E27","v":4885342},0,"OK"]
[6084,32454417,{"$f":"'Assets-Liab 5-6'!F27","v":32454417},0,"OK"]
[6085,2663617,{"$f":"'Assets-Liab 5-6'!G27","v":2663617},0,"OK"]
[6086,198506332,{"$f":"'Assets-Liab 5-6'!H27","v":198506332},0,"OK"]
[6087,940364,{"$f":"'Assets-Liab 5-6'!I27","v":940364},0,"OK"]
[6088,5913999,{"$f":"'Assets-Liab 5-6'!J27","v":5913999},0,"OK"]
[6089,12244005,{"$f":"'Assets-Liab 5-6'!K27","v":12244005},0,"OK"]
[6090,13737070,{"$f":"'Assets-Liab 5-6'!C28","v":13737070},0,"OK"]
[6091,430458,{"$f":"'Assets-Liab 5-6'!D28","v":430458},0,"OK"]
[6092,0,{"$f":"'Assets-Liab 5-6'!E28","v":0},0,"OK"]
[6093,577667,{"$f":"'Assets-Liab 5-6'!F28","v":577667},0,"OK"]
[6094,192477,{"$f":"'Assets-Liab 5-6'!G28","v":192477},0,"OK"]
[6095,10214577,{"$f":"'Assets-Liab 5-6'!H28","v":10214577},0,"OK"]
[6096,12202,{"$f":"'Assets-Liab 5-6'!I28","v":12202},0,"OK"]
[6097,27162,{"$f":"'Assets-Liab 5-6'!J28","v":27162},0,"OK"]
[6098,2356472,{"$f":"'Assets-Liab 5-6'!K28","v":2356472},0,"OK"]
[6099,4769873,{"$f":"'Assets-Liab 5-6'!C29","v":4769873},0,"OK"]
[6100,15340,{"$f":"'Assets-Liab 5-6'!D29","v":15340},0,"OK"]
[6101,0,{"$f":"'Assets-Liab 5-6'!E29","v":0},0,"OK"]
[6102,187403,{"$f":"'Assets-Liab 5-6'!F29","v":187403},0,"OK"]
[6103,0,{"$f":"'Assets-Liab 5-6'!G29","v":0},0,"OK"]
[6104,6104232,{"$f":"'Assets-Liab 5-6'!H29","v":6104232},0,"OK"]
[6105,0,{"$f":"'Assets-Liab 5-6'!I29","v":0},0,"OK"]
[6106,0,{"$f":"'Assets-Liab 5-6'!J29","v":0},0,"OK"]
[6107,0,{"$f":"'Assets-Liab 5-6'!K29","v":0},0,"OK"]
[6108,668620884,{"$f":"'Assets-Liab 5-6'!C30","v":668620884},0,"OK"]
[6109,3716857,{"$f":"'Assets-Liab 5-6'!D30","v":3716857},0,"OK"]
[6110,0,{"$f":"'Assets-Liab 5-6'!E30","v":0},0,"OK"]
[6111,1972232,{"$f":"'Assets-Liab 5-6'!F30","v":1972232},0,"OK"]
[6112,5161997,{"$f":"'Assets-Liab 5-6'!G30","v":5161997},0,"OK"]
[6113,15870,{"$f":"'Assets-Liab 5-6'!H30","v":15870},0,"OK"]
[6114,0,{"$f":"'Assets-Liab 5-6'!I30","v":0},0,"OK"]
[6115,742492,{"$f":"'Assets-Liab 5-6'!J30","v":742492},0,"OK"]
[6116,20603,{"$f":"'Assets-Liab 5-6'!K30","v":20603},0,"OK"]
[6117,0,{"$f":"'Assets-Liab 5-6'!E31","v":0},0,"OK"]
[6118,42920,{"$f":"'Assets-Liab 5-6'!I31","v":42920},0,"OK"]
[6119,60843,{"$f":"'Assets-Liab 5-6'!J31","v":60843},0,"OK"]
[6120,57235109,{"$f":"'Assets-Liab 5-6'!J32","v":57235109},0,"OK"]
[6121,52373270,{"$f":"'Assets-Liab 5-6'!C33","v":52373270},0,"OK"]
[6122,0,{"$f":"'Assets-Liab 5-6'!D33","v":0},0,"OK"]
[6123,0,{"$f":"'Assets-Liab 5-6'!E33","v":0},0,"OK"]
[6124,4659,{"$f":"'Assets-Liab 5-6'!F33","v":4659},0,"OK"]
[6125,0,{"$f":"'Assets-Liab 5-6'!G33","v":0},0,"OK"]
[6126,27083860,{"$f":"'Assets-Liab 5-6'!H33","v":27083860},0,"OK"]
[6127,0,{"$f":"'Assets-Liab 5-6'!I33","v":0},0,"OK"]
[6128,0,{"$f":"'Assets-Liab 5-6'!J33","v":0},0,"OK"]
[6129,0,{"$f":"'Assets-Liab 5-6'!K33","v":0},0,"OK"]
[6130,122191214,{"$f":"'Assets-Liab 5-6'!J34","v":122191214},0,"OK"]
[6131,0,null,0,"OK"]
[6132,0,null,0,"OK"]
[6133,0,null,0,"OK"]
[6134,0,null,0,"OK"]
[6135,0,null,0,"OK"]
[6136,0,null,0,"OK"]
[6137,0,null,0,"OK"]
[6138,0,null,0,"OK"]
[6139,0,null,0,"OK"]
[6140,0,null,0,"OK"]
[6141,0,null,{"$f":"B6148-C6148","v":0},"OK"]
[6142,0,null,0,"OK"]
[6143,0,{"$f":"'Assets-Liab 5-6'!C37","v":0},0,"OK"]
[6144,0,{"$f":"'Assets-Liab 5-6'!D37","v":0},0,"OK"]
[6145,0,{"$f":"'Assets-Liab 5-6'!E37","v":0},0,{"$f":"IF((D6152 = 0),\"OK\",IF((D6152<-5),\"CHECK ME!\",IF((D6152>5),\"Check Me!\",\"OK\")))","v":"OK"}]
[6146,0,{"$f":"'Assets-Liab 5-6'!F37","v":0},0,"OK"]
[6147,0,{"$f":"'Assets-Liab 5-6'!G37","v":0},0,"OK"]
[6148,0,{"$f":"'Assets-Liab 5-6'!H37","v":0},0,"OK"]
[6149,0,null,0,"OK"]
[6150,0,{"$f":"'Assets-Liab 5-6'!J37","v":0},0,"OK"]
[6151,0,{"$f":"'Assets-Liab 5-6'!K37","v":0},0,"OK"]
[6152,0,null,0,"OK"]
[6153,82859569,{"$f":"'Assets-Liab 5-6'!J38","v":82859569},0,"OK"]
[6154,145944131,{"$f":"'Assets-Liab 5-6'!J39","v":145944131},0,"OK"]
[6155,350994914,{"$f":"'Assets-Liab 5-6'!J41","v":350994914},0,"OK"]
[6156,198857946,{"$f":"'Assets-Liab 5-6'!J4","v":198857946},0,"OK"]
[6157,55760562,{"$f":"'Assets-Liab 5-6'!J5","v":55760562},0,"OK"]
[6158,93181011,{"$f":"'Assets-Liab 5-6'!J6","v":93181011},0,"OK"]
[6159,385320201.19,{"$f":"'Acct Summary 7-8'!J4","v":385320201.19},0,"OK"]
[6160,5121652,{"$f":"'Acct Summary 7-8'!J6","v":5121652},0,"OK"]
[6161,0,{"$f":"'Acct Summary 7-8'!J7","v":0},0,"OK"]
[6162,390441853.19,{"$f":"'Acct Summary 7-8'!J8","v":390441853.19},0,"OK"]
[6163,9680603,{"$f":"'Acct Summary 7-8'!J9","v":9680603},0,"OK"]
[6164,400122456.19,{"$f":"'Acct Summary 7-8'!J10","v":400122456.19},0,"OK"]
[6165,0,{"$f":"'Acct Summary 7-8'!J16","v":0},0,"OK"]
[6166,380409103,{"$f":"'Acct Summary 7-8'!J17","v":380409103},0,"OK"]
[6167,9680603,{"$f":"'Acct Summary 7-8'!J18","v":9680603},0,"OK"]
[6168,390089706,{"$f":"'Acct Summary 7-8'!J19","v":390089706},0,"OK"]
[6169,10032750.189999999,{"$f":"'Acct Summary 7-8'!J20","v":10032750.189999998},0,"OK"]
[6170,0,{"$f":"'Acct Summary 7-8'!J26","v":0},0,"OK"]
[6171,0,{"$f":"'Acct Summary 7-8'!J28","v":0},0,"OK"]
[6172,664520,{"$f":"'Acct Summary 7-8'!J33","v":664520},0,"OK"]
[6173,82110,{"$f":"'Acct Summary 7-8'!J34","v":82110},0,"OK"]
[6174,0,{"$f":"'Acct Summary 7-8'!J35","v":0},0,"OK"]
[6175,55121,{"$f":"'Acct Summary 7-8'!J36","v":55121},0,"OK"]
[6176,27981,{"$f":"'Acct Summary 7-8'!J43","v":27981},0,"OK"]
[6177,2345618,{"$f":"'Acct Summary 7-8'!J44","v":2345618},0,"OK"]
[6178,810864,{"$f":"'Acct Summary 7-8'!J50","v":810864},0,"OK"]
[6179,9921016,{"$f":"'Acct Summary 7-8'!C54","v":9921016},0,"OK"]
[6180,2339864,{"$f":"'Acct Summary 7-8'!D54","v":2339864},0,"OK"]
[6181,2179147,{"$f":"'Acct Summary 7-8'!H54","v":2179147},0,"OK"]
[6182,949288,{"$f":"'Acct Summary 7-8'!C58","v":949288},0,"OK"]
[6183,335857,{"$f":"'Acct Summary 7-8'!D58","v":335857},0,"OK"]
[6184,560764,{"$f":"'Acct Summary 7-8'!H58","v":560764},0,"OK"]
[6185,983347,{"$f":"'Acct Summary 7-8'!C62","v":983347},0,"OK"]
[6186,1437670,{"$f":"'Acct Summary 7-8'!D62","v":1437670},0,"OK"]
[6187,4838,{"$f":"'Acct Summary 7-8'!C66","v":4838},0,"OK"]
[6188,494211,{"$f":"'Acct Summary 7-8'!D66","v":494211},0,"OK"]
[6189,280000,{"$f":"'Acct Summary 7-8'!C70","v":280000},0,"OK"]
[6190,20400000,{"$f":"'Acct Summary 7-8'!D70","v":20400000},0,"OK"]
[6191,1029916,{"$f":"'Acct Summary 7-8'!C74","v":1029916},0,"OK"]
[6192,14411,{"$f":"'Acct Summary 7-8'!D74","v":14411},0,"OK"]
[6193,0,{"$f":"'Acct Summary 7-8'!F74","v":0},0,"OK"]
[6194,0,{"$f":"'Acct Summary 7-8'!G74","v":0},0,"OK"]
[6195,0,{"$f":"'Acct Summary 7-8'!H74","v":0},0,"OK"]
[6196,0,{"$f":"'Acct Summary 7-8'!K74","v":0},0,"OK"]
[6197,8350,{"$f":"'Acct Summary 7-8'!G75","v":8350},0,"OK"]
[6198,18478227,{"$f":"'Acct Summary 7-8'!I75","v":18478227},0,"OK"]
[6199,4868422,{"$f":"'Acct Summary 7-8'!J75","v":4868422},0,"OK"]
[6200,5679286,{"$f":"'Acct Summary 7-8'!J76","v":5679286},0,"OK"]
[6201,-3333668,{"$f":"'Acct Summary 7-8'!J77","v":-3333668},0,"OK"]
[6202,6699082.1899999995,{"$f":"'Acct Summary 7-8'!J78","v":6699082.1899999976},0,"OK"]
[6203,222119291,{"$f":"'Acct Summary 7-8'!J79","v":222119291},0,"OK"]
[6204,-14673,{"$f":"'Acct Summary 7-8'!J80","v":-14673},0,"OK"]
[6205,228803700.19000003,{"$f":"'Acct Summary 7-8'!J81","v":228803700.19},{"$f":"B6212-C6212","v":0},"OK"]
[6206,0]
[6207,0]
[6208,0]
[6209,0]
[6210,0]
[6211,0]
[6212,0]
[6213,0]
[6214,0]
[6215,0]
[6216,0]
[6217,0]
[6218,0]
[6219,0]
[6220,0]
[6221,0]
[6222,0]
[6223,0]
[6224,50793945,{"$f":"'Acct Summary 7-8'!E37","v":50793945},0,{"$f":"IF((D6231 = 0),\"OK\",IF((D6231<-5),\"CHECK ME!\",IF((D6231>5),\"Check Me!\",\"OK\")))","v":"OK"}]
[6225,4418122,{"$f":"'Acct Summary 7-8'!E38","v":4418122},0,"OK"]
[6226,44525880,{"$f":"'Acct Summary 7-8'!E39","v":44525880},0,"OK"]
[6227,15083785,{"$f":"'Acct Summary 7-8'!E40","v":15083785},0,"OK"]
[6228,411872758,{"$f":"'Acct Summary 7-8'!H41","v":411872758},0,"OK"]
[6229,442300,{"$f":"'Acct Summary 7-8'!C42","v":442300},0,"OK"]
[6230,0,{"$f":"'Acct Summary 7-8'!D42","v":0},0,"OK"]
[6231,1040855,{"$f":"'Acct Summary 7-8'!E42","v":1040855},0,"OK"]
[6232,0,{"$f":"'Acct Summary 7-8'!F42","v":0},0,"OK"]
[6233,0,{"$f":"'Acct Summary 7-8'!G42","v":0},0,"OK"]
[6234,14000000,{"$f":"'Acct Summary 7-8'!H42","v":14000000},0,"OK"]
[6235,0,{"$f":"'Acct Summary 7-8'!K42","v":0},0,"OK"]
[6236,265586,{"$f":"'Assets-Liab 5-6'!M15","v":265586},0,"OK"]
[6237,375678196.57999998,{"$f":"'Revenues 9-14'!J5","v":375678196.57999998},0,"OK"]
[6238,0,{"$f":"'Revenues 9-14'!H7","v":0},0,"OK"]
[6239,290592,{"$f":"'Revenues 9-14'!J11","v":290592},0,"OK"]
[6240,375968788.57999998,{"$f":"'Revenues 9-14'!J12","v":375968788.57999998},0,"OK"]
[6241,117237.5,{"$f":"'Revenues 9-14'!J14","v":117237.5},0,"OK"]
[6242,25095,{"$f":"'Revenues 9-14'!J15","v":25095},0,"OK"]
[6243,2019464,{"$f":"'Revenues 9-14'!J16","v":2019464},0,"OK"]
[6244,22344,{"$f":"'Revenues 9-14'!J17","v":22344},0,"OK"]
[6245,2184140.5,{"$f":"'Revenues 9-14'!J18","v":2184140.5},0,"OK"]
[6246,498250,{"$f":"'Revenues 9-14'!C23","v":498250},0,"OK"]
[6247,0,{"$f":"'Revenues 9-14'!C27","v":0},0,"OK"]
[6248,0,{"$f":"'Revenues 9-14'!C31","v":0},0,"OK"]
[6249,101760,{"$f":"'Revenues 9-14'!C35","v":101760},0,"OK"]
[6250,295564,{"$f":"'Revenues 9-14'!C39","v":295564},0,"OK"]
[6251,39257,{"$f":"'Revenues 9-14'!F46","v":39257},0,"OK"]
[6252,0,{"$f":"'Revenues 9-14'!F50","v":0},0,"OK"]
[6253,0,{"$f":"'Revenues 9-14'!F54","v":0},0,"OK"]
[6254,564,{"$f":"'Revenues 9-14'!F62","v":564},0,"OK"]
[6255,3884726.11,{"$f":"'Revenues 9-14'!J65","v":3884726.11},0,"OK"]
[6256,121963,{"$f":"'Revenues 9-14'!J66","v":121963},0,"OK"]
[6257,4006689.11,{"$f":"'Revenues 9-14'!J67","v":4006689.11},0,"OK"]
[6258,107771,{"$f":"'Revenues 9-14'!J96","v":107771},0,"OK"]
[6259,1934487,{"$f":"'Revenues 9-14'!C97","v":1934487},0,"OK"]
[6260,2246231,{"$f":"'Revenues 9-14'!D97","v":2246231},0,"OK"]
[6261,533360,{"$f":"'Revenues 9-14'!E97","v":533360},0,"OK"]
[6262,0,{"$f":"'Revenues 9-14'!F97","v":0},0,"OK"]
[6263,3384,{"$f":"'Revenues 9-14'!G97","v":3384},0,"OK"]
[6264,7567494,{"$f":"'Revenues 9-14'!H97","v":7567494},0,"OK"]
[6265,0,{"$f":"'Revenues 9-14'!I97","v":0},0,"OK"]
[6266,0,{"$f":"'Revenues 9-14'!J97","v":0},0,"OK"]
[6267,0,{"$f":"'Revenues 9-14'!K97","v":0},0,"OK"]
[6268,1424232,{"$f":"'Revenues 9-14'!J99","v":1424232},0,"OK"]
[6269,138197191,{"$f":"'Revenues 9-14'!C100","v":138197191},{"$f":"B6276-C6276","v":0},"OK"]
[6270,10230092,{"$f":"'Revenues 9-14'!D100","v":10230092},0,"OK"]
[6271,6492504,{"$f":"'Revenues 9-14'!E100","v":6492504},0,"OK"]
[6272,195681,{"$f":"'Revenues 9-14'!F100","v":195681},0,"OK"]
[6273,223746,{"$f":"'Revenues 9-14'!G100","v":223746},0,{"$f":"IF((D6280 = 0),\"OK\",IF((D6280<-5),\"CHECK ME!\",IF((D6280>5),\"Check Me!\",\"OK\")))","v":"OK"}]
[6274,9338240,{"$f":"'Revenues 9-14'!H100","v":9338240},0,"OK"]
[6275,105875,{"$f":"'Revenues 9-14'!I100","v":105875},0,"OK"]
[6276,193940,{"$f":"'Revenues 9-14'!J100","v":193940},0,"OK"]
[6277,45051,{"$f":"'Revenues 9-14'!K100","v":45051},0,"OK"]
[6278,8587032,{"$f":"'Revenues 9-14'!C101","v":8587032},0,"OK"]
[6279,2379127,{"$f":"'Revenues 9-14'!C102","v":2379127},0,"OK"]
[6280,712732,{"$f":"'Revenues 9-14'!D102","v":712732},0,"OK"]
[6281,0,{"$f":"'Revenues 9-14'!E102","v":0},0,"OK"]
[6282,0,{"$f":"'Revenues 9-14'!F102","v":0},0,"OK"]
[6283,0,{"$f":"'Revenues 9-14'!G102","v":0},0,"OK"]
[6284,230832,{"$f":"'Revenues 9-14'!H102","v":230832},0,"OK"]
[6285,0,{"$f":"'Revenues 9-14'!I102","v":0},0,"OK"]
[6286,0,{"$f":"'Revenues 9-14'!J102","v":0},0,"OK"]
[6287,0,{"$f":"'Revenues 9-14'!K102","v":0},0,"OK"]
[6288,276887,{"$f":"'Revenues 9-14'!G104","v":276887},0,"OK"]
[6289,1434640,{"$f":"'Revenues 9-14'!J107","v":1434640},0,"OK"]
[6290,3160583,{"$f":"'Revenues 9-14'!J108","v":3160583},0,"OK"]
[6291,385320201.19,{"$f":"'Revenues 9-14'!J109","v":385320201.19},0,"OK"]
[6292,5074945,{"$f":"'Revenues 9-14'!J117","v":5074945},0,"OK"]
[6293,0,{"$f":"'Revenues 9-14'!J118","v":0},0,"OK"]
[6294,0,{"$f":"'Revenues 9-14'!J119","v":0},0,"OK"]
[6295,17500,{"$f":"'Revenues 9-14'!J121","v":17500},0,"OK"]
[6296,5092445,{"$f":"'Revenues 9-14'!J122","v":5092445},0,"OK"]
[6297,3660,{"$f":"'Revenues 9-14'!G135","v":3660},0,"OK"]
[6298,4758389,{"$f":"'Revenues 9-14'!C137","v":4758389},0,"OK"]
[6299,0,{"$f":"'Revenues 9-14'!D137","v":0},0,"OK"]
[6300,182,{"$f":"'Revenues 9-14'!G137","v":182},0,"OK"]
[6301,9319,{"$f":"'Revenues 9-14'!C138","v":9319},0,"OK"]
[6302,0,{"$f":"'Revenues 9-14'!D138","v":0},0,"OK"]
[6303,0,{"$f":"'Revenues 9-14'!G138","v":0},0,"OK"]
[6304,5606,{"$f":"'Revenues 9-14'!C139","v":5606},0,"OK"]
[6305,0,{"$f":"'Revenues 9-14'!D139","v":0},0,"OK"]
[6306,0,{"$f":"'Revenues 9-14'!G139","v":0},0,"OK"]
[6307,0,{"$f":"'Revenues 9-14'!E149","v":0},0,"OK"]
[6308,0,{"$f":"'Revenues 9-14'!F149","v":0},0,"OK"]
[6309,0,{"$f":"'Revenues 9-14'!G149","v":0},0,"OK"]
[6310,0,{"$f":"'Revenues 9-14'!H149","v":0},0,"OK"]
[6311,0,{"$f":"'Revenues 9-14'!I149","v":0},0,"OK"]
[6312,0,{"$f":"'Revenues 9-14'!J149","v":0},0,"OK"]
[6313,0,{"$f":"'Revenues 9-14'!K149","v":0},0,"OK"]
[6314,0,{"$f":"'Revenues 9-14'!E150","v":0},0,"OK"]
[6315,0,{"$f":"'Revenues 9-14'!H150","v":0},0,"OK"]
[6316,0,{"$f":"'Revenues 9-14'!I150","v":0},0,"OK"]
[6317,0,{"$f":"'Revenues 9-14'!J150","v":0},0,"OK"]
[6318,0,{"$f":"'Revenues 9-14'!K150","v":0},0,"OK"]
[6319,523000,{"$f":"'Revenues 9-14'!G152","v":523000},0,"OK"]
[6320,0,{"$f":"'Revenues 9-14'!G153","v":0},0,"OK"]
[6321,0,null,0,"OK"]
[6322,0,null,0,"OK"]
[6323,0,null,0,"OK"]
[6324,0,null,0,"OK"]
[6325,0,null,0,"OK"]
[6326,0,null,0,"OK"]
[6327,18504,{"$f":"'Revenues 9-14'!C163","v":18504},0,"OK"]
[6328,0,{"$f":"'Revenues 9-14'!D163","v":0},0,"OK"]
[6329,0,{"$f":"'Revenues 9-14'!E163","v":0},0,"OK"]
[6330,0,{"$f":"'Revenues 9-14'!F163","v":0},0,"OK"]
[6331,0,{"$f":"'Revenues 9-14'!G163","v":0},0,"OK"]
[6332,0,{"$f":"'Revenues 9-14'!H163","v":0},0,"OK"]
[6333,0,{"$f":"'Revenues 9-14'!K163","v":0},{"$f":"B6340-C6340","v":0},"OK"]
[6334,29207,{"$f":"'Revenues 9-14'!J168","v":29207},0,"OK"]
[6335,29207,{"$f":"'Revenues 9-14'!J169","v":29207},0,"OK"]
[6336,5121652,{"$f":"'Revenues 9-14'!J170","v":5121652},0,"OK"]
[6337,0,{"$f":"'Revenues 9-14'!J173","v":0},0,{"$f":"IF((D6344 = 0),\"OK\",IF((D6344<-5),\"CHECK ME!\",IF((D6344>5),\"Check Me!\",\"OK\")))","v":"OK"}]
[6338,0,{"$f":"'Revenues 9-14'!J174","v":0},0,"OK"]
[6339,0,{"$f":"'Revenues 9-14'!J175","v":0},0,"OK"]
[6340,498064,{"$f":"'Revenues 9-14'!C190","v":498064},0,"OK"]
[6341,0,{"$f":"'Revenues 9-14'!G190","v":0},0,"OK"]
[6342,37385,{"$f":"'Revenues 9-14'!G191","v":37385},0,"OK"]
[6343,0,{"$f":"'Revenues 9-14'!G192","v":0},0,"OK"]
[6344,0,{"$f":"'Revenues 9-14'!G193","v":0},0,"OK"]
[6345,0,{"$f":"'Revenues 9-14'!G194","v":0},0,"OK"]
[6346,0,{"$f":"'Revenues 9-14'!G195","v":0},0,"OK"]
[6347,0,{"$f":"'Revenues 9-14'!G197","v":0},0,"OK"]
[6348,37385,{"$f":"'Revenues 9-14'!G198","v":37385},0,"OK"]
[6349,0,null,0,"OK"]
[6350,0,null,0,"OK"]
[6351,0,null,0,"OK"]
[6352,0,null,0,"OK"]
[6353,83258,{"$f":"'Cap Outlay Deprec 26'!C3","v":83258},0,"OK"]
[6354,0,{"$f":"'Cap Outlay Deprec 26'!D3","v":0},0,"OK"]
[6355,0,null,0,"OK"]
[6356,0,null,0,"OK"]
[6357,0,null,0,"OK"]
[6358,0,null,0,"OK"]
[6359,0,null,0,"OK"]
[6360,0,null,0,"OK"]
[6361,0,null,0,"OK"]
[6362,0,null,0,"OK"]
[6363,0,null,0,"OK"]
[6364,0,null,0,"OK"]
[6365,0,null,0,"OK"]
[6366,0,null,0,"OK"]
[6367,0,null,0,"OK"]
[6368,0,null,0,"OK"]
[6369,0,null,0,"OK"]
[6370,0,null,0,"OK"]
[6371,0,null,0,"OK"]
[6372,0,null,0,"OK"]
[6373,0,null,0,"OK"]
[6374,0,null,0,"OK"]
[6375,0,null,0,"OK"]
[6376,0,null,0,"OK"]
[6377,0,null,0,"OK"]
[6378,0,null,0,"OK"]
[6379,0,null,0,"OK"]
[6380,0,null,0,"OK"]
[6381,0,null,0,"OK"]
[6382,0,null,0,"OK"]
[6383,0,null,0,"OK"]
[6384,0,null,0,"OK"]
[6385,0,null,0,"OK"]
[6386,0,null,0,"OK"]
[6387,0,null,0,"OK"]
[6388,0,null,0,"OK"]
[6389,0,null,0,"OK"]
[6390,0,null,0,"OK"]
[6391,0,null,0,"OK"]
[6392,0,null,0,"OK"]
[6393,0,null,0,"OK"]
[6394,0,null,0,"OK"]
[6395,0,null,0,"OK"]
[6396,0,null,0,"OK"]
[6397,0,null,{"$f":"B6404-C6404","v":0},"OK"]
[6398,0,null,0,"OK"]
[6399,0,null,0,"OK"]
[6400,0,null,0,"OK"]
[6401,0,null,0,{"$f":"IF((D6408 = 0),\"OK\",IF((D6408<-5),\"CHECK ME!\",IF((D6408>5),\"Check Me!\",\"OK\")))","v":"OK"}]
[6402,0,null,0,"OK"]
[6403,0,null,0,"OK"]
[6404,0,null,0,"OK"]
[6405,0,null,0,"OK"]
[6406,0,null,0,"OK"]
[6407,0,null,0,"OK"]
[6408,0,null,0,"OK"]
[6409,0,null,0,"OK"]
[6410,0,null,0,"OK"]
[6411,0,null,0,"OK"]
[6412,0,null,0,"OK"]
[6413,0,null,0,"OK"]
[6414,0,null,0,"OK"]
[6415,0,null,0,"OK"]
[6416,0,null,0,"OK"]
[6417,0,null,0,"OK"]
[6418,0,null,0,"OK"]
[6419,0,null,0,"OK"]
[6420,0,null,0,"OK"]
[6421,0,null,0,"OK"]
[6422,0,null,0,"OK"]
[6423,0,null,0,"OK"]
[6424,0,null,0,"OK"]
[6425,0,null,0,"OK"]
[6426,0,null,0,"OK"]
[6427,0,null,0,"OK"]
[6428,0,null,0,"OK"]
[6429,0,null,0,"OK"]
[6430,0,null,0,"OK"]
[6431,0,null,0,"OK"]
[6432,0,null,0,"OK"]
[6433,0,null,0,"OK"]
[6434,0,null,0,"OK"]
[6435,0,null,0,"OK"]
[6436,0,null,0,"OK"]
[6437,0,null,0,"OK"]
[6438,0,null,0,"OK"]
[6439,0,null,0,"OK"]
[6440,0,null,0,"OK"]
[6441,0,null,0,"OK"]
[6442,0,null,0,"OK"]
[6443,0,null,0,"OK"]
[6444,0,null,0,"OK"]
[6445,0,null,0,"OK"]
[6446,0,null,0,"OK"]
[6447,0,null,0,"OK"]
[6448,0,null,0,"OK"]
[6449,0,null,0,"OK"]
[6450,0,null,0,"OK"]
[6451,0,null,0,"OK"]
[6452,0,null,0,"OK"]
[6453,0,null,0,"OK"]
[6454,0,null,0,"OK"]
[6455,0,null,0,"OK"]
[6456,0,null,0,"OK"]
[6457,0,null,0,"OK"]
[6458,0,null,0,"OK"]
[6459,0,null,0,"OK"]
[6460,0,null,0,"OK"]
[6461,0,null,{"$f":"B6468-C6468","v":0},"OK"]
[6462,0,null,0,"OK"]
[6463,0,null,0,"OK"]
[6464,0,null,0,"OK"]
[6465,0,null,0,{"$f":"IF((D6472 = 0),\"OK\",IF((D6472<-5),\"CHECK ME!\",IF((D6472>5),\"Check Me!\",\"OK\")))","v":"OK"}]
[6466,0,null,0,"OK"]
[6467,0,null,0,"OK"]
[6468,0,null,0,"OK"]
[6469,0,null,0,"OK"]
[6470,0,null,0,"OK"]
[6471,0,null,0,"OK"]
[6472,0,null,0,"OK"]
[6473,0,null,0,"OK"]
[6474,0,null,0,"OK"]
[6475,0,null,0,"OK"]
[6476,0,null,0,"OK"]
[6477,0,null,0,"OK"]
[6478,0,null,0,"OK"]
[6479,0,null,0,"OK"]
[6480,0,null,0,"OK"]
[6481,0,null,0,"OK"]
[6482,0,null,0,"OK"]
[6483,0,null,0,"OK"]
[6484,0,null,0,"OK"]
[6485,0,null,0,"OK"]
[6486,0,null,0,"OK"]
[6487,0,null,0,"OK"]
[6488,0,null,0,"OK"]
[6489,0,null,0,"OK"]
[6490,0,null,0,"OK"]
[6491,0,null,0,"OK"]
[6492,0,null,0,"OK"]
[6493,0,null,0,"OK"]
[6494,0,null,0,"OK"]
[6495,0,null,0,"OK"]
[6496,0,null,0,"OK"]
[6497,0,null,0,"OK"]
[6498,0,null,0,"OK"]
[6499,0,null,0,"OK"]
[6500,0,null,0,"OK"]
[6501,0,null,0,"OK"]
[6502,0,null,0,"OK"]
[6503,0,null,0,"OK"]
[6504,0,null,0,"OK"]
[6505,0,null,0,"OK"]
[6506,0,null,0,"OK"]
[6507,0,null,0,"OK"]
[6508,0,null,0,"OK"]
[6509,0,null,0,"OK"]
[6510,0,null,0,"OK"]
[6511,0,null,0,"OK"]
[6512,0,null,0,"OK"]
[6513,0,null,0,"OK"]
[6514,0,null,0,"OK"]
[6515,0,null,0,"OK"]
[6516,0,null,0,"OK"]
[6517,0,null,0,"OK"]
[6518,0,null,0,"OK"]
[6519,0,null,0,"OK"]
[6520,0,null,0,"OK"]
[6521,0,null,0,"OK"]
[6522,0,null,0,"OK"]
[6523,0,null,0,"OK"]
[6524,0,null,0,"OK"]
[6525,0,null,{"$f":"B6532-C6532","v":0},"OK"]
[6526,0,null,0,"OK"]
[6527,0,null,0,"OK"]
[6528,0,null,0,"OK"]
[6529,0,null,0,{"$f":"IF((D6536 = 0),\"OK\",IF((D6536<-5),\"CHECK ME!\",IF((D6536>5),\"Check Me!\",\"OK\")))","v":"OK"}]
[6530,0,null,0,"OK"]
[6531,0,null,0,"OK"]
[6532,0,null,0,"OK"]
[6533,0,null,0,"OK"]
[6534,0,null,0,"OK"]
[6535,0,null,0,"OK"]
[6536,0,null,0,"OK"]
[6537,0,null,0,"OK"]
[6538,0,null,0,"OK"]
[6539,0,null,0,"OK"]
[6540,0,null,0,"OK"]
[6541,0,null,0,"OK"]
[6542,0,null,0,"OK"]
[6543,0,null,0,"OK"]
[6544,0,null,0,"OK"]
[6545,0,null,0,"OK"]
[6546,0,null,0,"OK"]
[6547,0,null,0,"OK"]
[6548,0,null,0,"OK"]
[6549,0,null,0,"OK"]
[6550,0,null,0,"OK"]
[6551,0,null,0,"OK"]
[6552,0,null,0,"OK"]
[6553,0,{"$f":"'Revenues 9-14'!C223","v":0},0,"OK"]
[6554,0,{"$f":"'Revenues 9-14'!D223","v":0},0,"OK"]
[6555,0,{"$f":"'Revenues 9-14'!E223","v":0},0,"OK"]
[6556,0,{"$f":"'Revenues 9-14'!F223","v":0},0,"OK"]
[6557,0,{"$f":"'Revenues 9-14'!G223","v":0},0,"OK"]
[6558,0,{"$f":"'Revenues 9-14'!H223","v":0},0,"OK"]
[6559,0,{"$f":"'Revenues 9-14'!J223","v":0},0,"OK"]
[6560,0,{"$f":"'Revenues 9-14'!K223","v":0},0,"OK"]
[6561,0,{"$f":"'Revenues 9-14'!C224","v":0},0,"OK"]
[6562,0,{"$f":"'Revenues 9-14'!D224","v":0},0,"OK"]
[6563,0,{"$f":"'Revenues 9-14'!F224","v":0},0,"OK"]
[6564,0,{"$f":"'Revenues 9-14'!G224","v":0},0,"OK"]
[6565,0,{"$f":"'Revenues 9-14'!C225","v":0},0,"OK"]
[6566,0,{"$f":"'Revenues 9-14'!D225","v":0},0,"OK"]
[6567,0,{"$f":"'Revenues 9-14'!E225","v":0},0,"OK"]
[6568,0,{"$f":"'Revenues 9-14'!F225","v":0},0,"OK"]
[6569,0,{"$f":"'Revenues 9-14'!G225","v":0},0,"OK"]
[6570,0,{"$f":"'Revenues 9-14'!H225","v":0},0,"OK"]
[6571,0,{"$f":"'Revenues 9-14'!J225","v":0},0,"OK"]
[6572,0,{"$f":"'Revenues 9-14'!K225","v":0},0,"OK"]
[6573,0,{"$f":"'Revenues 9-14'!C226","v":0},0,"OK"]
[6574,0,{"$f":"'Revenues 9-14'!D226","v":0},0,"OK"]
[6575,0,{"$f":"'Revenues 9-14'!E226","v":0},0,"OK"]
[6576,0,{"$f":"'Revenues 9-14'!F226","v":0},0,"OK"]
[6577,0,{"$f":"'Revenues 9-14'!G226","v":0},0,"OK"]
[6578,0,{"$f":"'Revenues 9-14'!H226","v":0},0,"OK"]
[6579,0,{"$f":"'Revenues 9-14'!J226","v":0},0,"OK"]
[6580,0,{"$f":"'Revenues 9-14'!K226","v":0},0,"OK"]
[6581,177737,{"$f":"'Revenues 9-14'!C227","v":177737},0,"OK"]
[6582,0,{"$f":"'Revenues 9-14'!D227","v":0},0,"OK"]
[6583,0,{"$f":"'Revenues 9-14'!E227","v":0},0,"OK"]
[6584,0,{"$f":"'Revenues 9-14'!F227","v":0},0,"OK"]
[6585,0,{"$f":"'Revenues 9-14'!G227","v":0},0,"OK"]
[6586,0,{"$f":"'Revenues 9-14'!H227","v":0},0,"OK"]
[6587,0,{"$f":"'Revenues 9-14'!J227","v":0},0,"OK"]
[6588,0,{"$f":"'Revenues 9-14'!K227","v":0},0,"OK"]
[6589,0,{"$f":"'Revenues 9-14'!C228","v":0},{"$f":"B6596-C6596","v":0},"OK"]
[6590,0,{"$f":"'Revenues 9-14'!D228","v":0},0,"OK"]
[6591,0,{"$f":"'Revenues 9-14'!E228","v":0},0,"OK"]
[6592,0,{"$f":"'Revenues 9-14'!F228","v":0},0,"OK"]
[6593,0,{"$f":"'Revenues 9-14'!G228","v":0},0,{"$f":"IF((D6600 = 0),\"OK\",IF((D6600<-5),\"CHECK ME!\",IF((D6600>5),\"Check Me!\",\"OK\")))","v":"OK"}]
[6594,0,{"$f":"'Revenues 9-14'!H228","v":0},0,"OK"]
[6595,0,{"$f":"'Revenues 9-14'!J228","v":0},0,"OK"]
[6596,0,{"$f":"'Revenues 9-14'!K228","v":0},0,"OK"]
[6597,0,{"$f":"'Revenues 9-14'!C229","v":0},0,"OK"]
[6598,0,{"$f":"'Revenues 9-14'!D229","v":0},0,"OK"]
[6599,0,{"$f":"'Revenues 9-14'!E229","v":0},0,"OK"]
[6600,0,{"$f":"'Revenues 9-14'!F229","v":0},0,"OK"]
[6601,0,{"$f":"'Revenues 9-14'!G229","v":0},0,"OK"]
[6602,0,{"$f":"'Revenues 9-14'!H229","v":0},0,"OK"]
[6603,0,{"$f":"'Revenues 9-14'!J229","v":0},0,"OK"]
[6604,0,{"$f":"'Revenues 9-14'!K229","v":0},0,"OK"]
[6605,24992,{"$f":"'Revenues 9-14'!C230","v":24992},0,"OK"]
[6606,0,{"$f":"'Revenues 9-14'!D230","v":0},0,"OK"]
[6607,0,{"$f":"'Revenues 9-14'!E230","v":0},0,"OK"]
[6608,0,{"$f":"'Revenues 9-14'!F230","v":0},0,"OK"]
[6609,0,{"$f":"'Revenues 9-14'!G230","v":0},0,"OK"]
[6610,0,{"$f":"'Revenues 9-14'!H230","v":0},0,"OK"]
[6611,0,{"$f":"'Revenues 9-14'!J230","v":0},0,"OK"]
[6612,0,{"$f":"'Revenues 9-14'!K230","v":0},0,"OK"]
[6613,0,{"$f":"'Revenues 9-14'!C231","v":0},0,"OK"]
[6614,0,{"$f":"'Revenues 9-14'!D231","v":0},0,"OK"]
[6615,0,{"$f":"'Revenues 9-14'!E231","v":0},0,"OK"]
[6616,0,{"$f":"'Revenues 9-14'!F231","v":0},0,"OK"]
[6617,0,{"$f":"'Revenues 9-14'!G231","v":0},0,"OK"]
[6618,0,{"$f":"'Revenues 9-14'!H231","v":0},0,"OK"]
[6619,0,{"$f":"'Revenues 9-14'!J231","v":0},0,"OK"]
[6620,0,{"$f":"'Revenues 9-14'!K231","v":0},0,"OK"]
[6621,0,{"$f":"'Revenues 9-14'!C232","v":0},0,"OK"]
[6622,0,{"$f":"'Revenues 9-14'!D232","v":0},0,"OK"]
[6623,0,{"$f":"'Revenues 9-14'!E232","v":0},0,"OK"]
[6624,0,{"$f":"'Revenues 9-14'!F232","v":0},0,"OK"]
[6625,0,{"$f":"'Revenues 9-14'!G232","v":0},0,"OK"]
[6626,0,{"$f":"'Revenues 9-14'!H232","v":0},0,"OK"]
[6627,0,{"$f":"'Revenues 9-14'!J232","v":0},0,"OK"]
[6628,0,{"$f":"'Revenues 9-14'!K232","v":0},0,"OK"]
[6629,1102,{"$f":"'Revenues 9-14'!C233","v":1102},0,"OK"]
[6630,0,{"$f":"'Revenues 9-14'!D233","v":0},0,"OK"]
[6631,0,{"$f":"'Revenues 9-14'!F233","v":0},0,"OK"]
[6632,0,{"$f":"'Revenues 9-14'!G233","v":0},0,"OK"]
[6633,0,{"$f":"'Revenues 9-14'!C234","v":0},0,"OK"]
[6634,0,{"$f":"'Revenues 9-14'!D234","v":0},0,"OK"]
[6635,0,{"$f":"'Revenues 9-14'!C235","v":0},0,"OK"]
[6636,0,{"$f":"'Revenues 9-14'!D235","v":0},0,"OK"]
[6637,0,{"$f":"'Revenues 9-14'!E235","v":0},0,"OK"]
[6638,0,{"$f":"'Revenues 9-14'!F235","v":0},0,"OK"]
[6639,0,{"$f":"'Revenues 9-14'!G235","v":0},0,"OK"]
[6640,0,{"$f":"'Revenues 9-14'!H235","v":0},0,"OK"]
[6641,0,{"$f":"'Revenues 9-14'!J235","v":0},0,"OK"]
[6642,0,{"$f":"'Revenues 9-14'!K235","v":0},0,"OK"]
[6643,0,{"$f":"'Revenues 9-14'!C236","v":0},0,"OK"]
[6644,0,{"$f":"'Revenues 9-14'!D236","v":0},0,"OK"]
[6645,0,{"$f":"'Revenues 9-14'!E236","v":0},0,"OK"]
[6646,0,{"$f":"'Revenues 9-14'!F236","v":0},0,"OK"]
[6647,0,{"$f":"'Revenues 9-14'!G236","v":0},0,"OK"]
[6648,0,{"$f":"'Revenues 9-14'!H236","v":0},0,"OK"]
[6649,0,{"$f":"'Revenues 9-14'!J236","v":0},0,"OK"]
[6650,0,{"$f":"'Revenues 9-14'!K236","v":0},0,"OK"]
[6651,0,{"$f":"'Revenues 9-14'!C237","v":0},0,"OK"]
[6652,59777,{"$f":"'Revenues 9-14'!D237","v":59777},0,"OK"]
[6653,1465419,{"$f":"'Revenues 9-14'!E237","v":1465419},{"$f":"B6660-C6660","v":0},"OK"]
[6654,0,{"$f":"'Revenues 9-14'!F237","v":0},0,"OK"]
[6655,0,{"$f":"'Revenues 9-14'!G237","v":0},0,"OK"]
[6656,0,{"$f":"'Revenues 9-14'!H237","v":0},0,"OK"]
[6657,0,{"$f":"'Revenues 9-14'!J237","v":0},0,{"$f":"IF((D6664 = 0),\"OK\",IF((D6664<-5),\"CHECK ME!\",IF((D6664>5),\"Check Me!\",\"OK\")))","v":"OK"}]
[6658,0,{"$f":"'Revenues 9-14'!K237","v":0},0,"OK"]
[6659,0,{"$f":"'Revenues 9-14'!C238","v":0},0,"OK"]
[6660,2205198,{"$f":"'Revenues 9-14'!D238","v":2205198},0,"OK"]
[6661,11352673,{"$f":"'Revenues 9-14'!E238","v":11352673},0,"OK"]
[6662,0,{"$f":"'Revenues 9-14'!F238","v":0},0,"OK"]
[6663,0,{"$f":"'Revenues 9-14'!G238","v":0},0,"OK"]
[6664,1167810,{"$f":"'Revenues 9-14'!H238","v":1167810},0,"OK"]
[6665,0,{"$f":"'Revenues 9-14'!J238","v":0},0,"OK"]
[6666,196488239.13999999,{"$f":"'Expenditures 15-22'!C7","v":196488239.13999999},0,"OK"]
[6667,0,{"$f":"'Revenues 9-14'!K238","v":0},0,"OK"]
[6668,0,{"$f":"'Revenues 9-14'!C239","v":0},0,"OK"]
[6669,0,{"$f":"'Revenues 9-14'!D239","v":0},0,"OK"]
[6670,1983309,{"$f":"'Revenues 9-14'!E239","v":1983309},0,"OK"]
[6671,0,{"$f":"'Revenues 9-14'!F239","v":0},0,"OK"]
[6672,0,{"$f":"'Revenues 9-14'!G239","v":0},0,"OK"]
[6673,0,{"$f":"'Revenues 9-14'!H239","v":0},0,"OK"]
[6674,0,{"$f":"'Revenues 9-14'!J239","v":0},0,"OK"]
[6675,0,{"$f":"'Revenues 9-14'!K239","v":0},0,"OK"]
[6676,308704,{"$f":"'Revenues 9-14'!C240","v":308704},0,"OK"]
[6677,0,{"$f":"'Revenues 9-14'!D240","v":0},0,"OK"]
[6678,33317580,{"$f":"'Revenues 9-14'!E240","v":33317580},0,"OK"]
[6679,0,{"$f":"'Revenues 9-14'!F240","v":0},0,"OK"]
[6680,0,{"$f":"'Revenues 9-14'!G240","v":0},0,"OK"]
[6681,355401,{"$f":"'Revenues 9-14'!H240","v":355401},0,"OK"]
[6682,0,{"$f":"'Revenues 9-14'!J240","v":0},0,"OK"]
[6683,0,{"$f":"'Revenues 9-14'!K240","v":0},0,"OK"]
[6684,0,{"$f":"'Revenues 9-14'!C241","v":0},0,"OK"]
[6685,0,{"$f":"'Revenues 9-14'!D241","v":0},0,"OK"]
[6686,0,{"$f":"'Revenues 9-14'!E241","v":0},0,"OK"]
[6687,0,{"$f":"'Revenues 9-14'!F241","v":0},0,"OK"]
[6688,0,{"$f":"'Revenues 9-14'!G241","v":0},0,"OK"]
[6689,0,{"$f":"'Revenues 9-14'!H241","v":0},0,"OK"]
[6690,0,{"$f":"'Revenues 9-14'!J241","v":0},0,"OK"]
[6691,0,{"$f":"'Revenues 9-14'!K241","v":0},0,"OK"]
[6692,0,{"$f":"'Revenues 9-14'!C242","v":0},0,"OK"]
[6693,0,{"$f":"'Revenues 9-14'!D242","v":0},0,"OK"]
[6694,0,{"$f":"'Revenues 9-14'!E242","v":0},0,"OK"]
[6695,0,{"$f":"'Revenues 9-14'!F242","v":0},0,"OK"]
[6696,0,{"$f":"'Revenues 9-14'!G242","v":0},0,"OK"]
[6697,0,{"$f":"'Revenues 9-14'!H242","v":0},0,"OK"]
[6698,0,{"$f":"'Revenues 9-14'!J242","v":0},0,"OK"]
[6699,0,{"$f":"'Revenues 9-14'!K242","v":0},0,"OK"]
[6700,0,{"$f":"'Revenues 9-14'!C243","v":0},0,"OK"]
[6701,0,{"$f":"'Revenues 9-14'!D243","v":0},0,"OK"]
[6702,0,{"$f":"'Revenues 9-14'!E243","v":0},0,"OK"]
[6703,0,{"$f":"'Revenues 9-14'!F243","v":0},0,"OK"]
[6704,0,{"$f":"'Revenues 9-14'!G243","v":0},0,"OK"]
[6705,0,{"$f":"'Revenues 9-14'!H243","v":0},0,"OK"]
[6706,0,{"$f":"'Revenues 9-14'!J243","v":0},0,"OK"]
[6707,0,{"$f":"'Revenues 9-14'!K243","v":0},0,"OK"]
[6708,0,{"$f":"'Revenues 9-14'!C244","v":0},0,"OK"]
[6709,0,{"$f":"'Revenues 9-14'!D244","v":0},0,"OK"]
[6710,0,{"$f":"'Revenues 9-14'!E244","v":0},0,"OK"]
[6711,0,{"$f":"'Revenues 9-14'!F244","v":0},0,"OK"]
[6712,0,{"$f":"'Revenues 9-14'!G244","v":0},0,"OK"]
[6713,0,{"$f":"'Revenues 9-14'!H244","v":0},0,"OK"]
[6714,0,{"$f":"'Revenues 9-14'!J244","v":0},0,"OK"]
[6715,0,{"$f":"'Revenues 9-14'!K244","v":0},0,"OK"]
[6716,0,{"$f":"'Revenues 9-14'!C245","v":0},0,"OK"]
[6717,0,{"$f":"'Revenues 9-14'!D245","v":0},{"$f":"B6724-C6724","v":0},"OK"]
[6718,0,{"$f":"'Revenues 9-14'!E245","v":0},0,"OK"]
[6719,0,{"$f":"'Revenues 9-14'!F245","v":0},0,"OK"]
[6720,0,{"$f":"'Revenues 9-14'!G245","v":0},0,"OK"]
[6721,0,{"$f":"'Revenues 9-14'!H245","v":0},0,{"$f":"IF((D6728 = 0),\"OK\",IF((D6728<-5),\"CHECK ME!\",IF((D6728>5),\"Check Me!\",\"OK\")))","v":"OK"}]
[6722,0,{"$f":"'Revenues 9-14'!J245","v":0},0,"OK"]
[6723,0,{"$f":"'Revenues 9-14'!K245","v":0},0,"OK"]
[6724,0,{"$f":"'Revenues 9-14'!C246","v":0},0,"OK"]
[6725,0,{"$f":"'Revenues 9-14'!D246","v":0},0,"OK"]
[6726,0,{"$f":"'Revenues 9-14'!E246","v":0},0,"OK"]
[6727,0,{"$f":"'Revenues 9-14'!F246","v":0},0,"OK"]
[6728,0,{"$f":"'Revenues 9-14'!G246","v":0},0,"OK"]
[6729,0,{"$f":"'Revenues 9-14'!H246","v":0},0,"OK"]
[6730,0,{"$f":"'Revenues 9-14'!J246","v":0},0,"OK"]
[6731,0,{"$f":"'Revenues 9-14'!K246","v":0},0,"OK"]
[6732,0,{"$f":"'Revenues 9-14'!C247","v":0},0,"OK"]
[6733,0,{"$f":"'Revenues 9-14'!D247","v":0},0,"OK"]
[6734,0,{"$f":"'Revenues 9-14'!E247","v":0},0,"OK"]
[6735,0,{"$f":"'Revenues 9-14'!F247","v":0},0,"OK"]
[6736,0,{"$f":"'Revenues 9-14'!G247","v":0},0,"OK"]
[6737,0,{"$f":"'Revenues 9-14'!H247","v":0},0,"OK"]
[6738,0,{"$f":"'Revenues 9-14'!J247","v":0},0,"OK"]
[6739,0,{"$f":"'Revenues 9-14'!K247","v":0},0,"OK"]
[6740,0,{"$f":"'Revenues 9-14'!C248","v":0},0,"OK"]
[6741,0,{"$f":"'Revenues 9-14'!D248","v":0},0,"OK"]
[6742,0,{"$f":"'Revenues 9-14'!E248","v":0},0,"OK"]
[6743,0,{"$f":"'Revenues 9-14'!F248","v":0},0,"OK"]
[6744,0,{"$f":"'Revenues 9-14'!G248","v":0},0,"OK"]
[6745,0,{"$f":"'Revenues 9-14'!H248","v":0},0,"OK"]
[6746,0,{"$f":"'Revenues 9-14'!J248","v":0},0,"OK"]
[6747,0,{"$f":"'Revenues 9-14'!K248","v":0},0,"OK"]
[6748,0,{"$f":"'Revenues 9-14'!C249","v":0},0,"OK"]
[6749,0,{"$f":"'Revenues 9-14'!D249","v":0},0,"OK"]
[6750,0,{"$f":"'Revenues 9-14'!E249","v":0},0,"OK"]
[6751,0,{"$f":"'Revenues 9-14'!F249","v":0},0,"OK"]
[6752,0,{"$f":"'Revenues 9-14'!G249","v":0},0,"OK"]
[6753,0,{"$f":"'Revenues 9-14'!H249","v":0},0,"OK"]
[6754,0,{"$f":"'Revenues 9-14'!J249","v":0},0,"OK"]
[6755,0,{"$f":"'Revenues 9-14'!K249","v":0},0,"OK"]
[6756,0,{"$f":"'Revenues 9-14'!C250","v":0},0,"OK"]
[6757,0,{"$f":"'Revenues 9-14'!D250","v":0},0,"OK"]
[6758,0,{"$f":"'Revenues 9-14'!E250","v":0},0,"OK"]
[6759,0,{"$f":"'Revenues 9-14'!F250","v":0},0,"OK"]
[6760,0,{"$f":"'Revenues 9-14'!G250","v":0},0,"OK"]
[6761,0,{"$f":"'Revenues 9-14'!H250","v":0},0,"OK"]
[6762,0,{"$f":"'Revenues 9-14'!J250","v":0},0,"OK"]
[6763,0,{"$f":"'Revenues 9-14'!K250","v":0},0,"OK"]
[6764,13,{"$f":"'Revenues 9-14'!C251","v":13},0,"OK"]
[6765,0,{"$f":"'Revenues 9-14'!D251","v":0},0,"OK"]
[6766,0,{"$f":"'Revenues 9-14'!E251","v":0},0,"OK"]
[6767,0,{"$f":"'Revenues 9-14'!F251","v":0},0,"OK"]
[6768,0,{"$f":"'Revenues 9-14'!G251","v":0},0,"OK"]
[6769,0,{"$f":"'Revenues 9-14'!H251","v":0},0,"OK"]
[6770,0,{"$f":"'Revenues 9-14'!J251","v":0},0,"OK"]
[6771,0,{"$f":"'Revenues 9-14'!K251","v":0},0,"OK"]
[6772,512548,{"$f":"'Revenues 9-14'!C252","v":512548},0,"OK"]
[6773,2264975,{"$f":"'Revenues 9-14'!D252","v":2264975},0,"OK"]
[6774,48118981,{"$f":"'Revenues 9-14'!E252","v":48118981},0,"OK"]
[6775,0,{"$f":"'Revenues 9-14'!F252","v":0},0,"OK"]
[6776,0,{"$f":"'Revenues 9-14'!G252","v":0},0,"OK"]
[6777,1523211,{"$f":"'Revenues 9-14'!H252","v":1523211},0,"OK"]
[6778,0,{"$f":"'Revenues 9-14'!J252","v":0},0,"OK"]
[6779,0,{"$f":"'Revenues 9-14'!K252","v":0},0,"OK"]
[6780,0,null,0,"OK"]
[6781,0,null,{"$f":"B6788-C6788","v":0},"OK"]
[6782,0,null,0,"OK"]
[6783,48325153,{"$f":"'Expenditures 15-22'!I5","v":48325153},0,"OK"]
[6784,15859832,{"$f":"'Expenditures 15-22'!J5","v":15859832},0,"OK"]
[6785,5128265,{"$f":"'Expenditures 15-22'!I7","v":5128265},0,{"$f":"IF((D6792 = 0),\"OK\",IF((D6792<-5),\"CHECK ME!\",IF((D6792>5),\"Check Me!\",\"OK\")))","v":"OK"}]
[6786,151350,{"$f":"'Expenditures 15-22'!J7","v":151350},0,"OK"]
[6787,276663205.69,{"$f":"'Expenditures 15-22'!K7","v":276663205.68999994},0,"OK"]
[6788,2556083,{"$f":"'Expenditures 15-22'!I8","v":2556083},0,"OK"]
[6789,4828989,{"$f":"'Expenditures 15-22'!J8","v":4828989},0,"OK"]
[6790,98175,{"$f":"'Expenditures 15-22'!I9","v":98175},0,"OK"]
[6791,112570,{"$f":"'Expenditures 15-22'!J9","v":112570},0,"OK"]
[6792,110305634,{"$f":"'Expenditures 15-22'!K9","v":110305634},0,"OK"]
[6793,3363609,{"$f":"'Expenditures 15-22'!I10","v":3363609},0,"OK"]
[6794,23604,{"$f":"'Expenditures 15-22'!J10","v":23604},0,"OK"]
[6795,9975,{"$f":"'Expenditures 15-22'!I11","v":9975},0,"OK"]
[6796,2446,{"$f":"'Expenditures 15-22'!J11","v":2446},0,"OK"]
[6797,14521932,{"$f":"'Expenditures 15-22'!K11","v":14521932},0,"OK"]
[6798,11361,{"$f":"'Expenditures 15-22'!I12","v":11361},0,"OK"]
[6799,4733,{"$f":"'Expenditures 15-22'!J12","v":4733},0,"OK"]
[6800,5068779,{"$f":"'Expenditures 15-22'!I13","v":5068779},0,"OK"]
[6801,161671,{"$f":"'Expenditures 15-22'!J13","v":161671},0,"OK"]
[6802,2051426,{"$f":"'Expenditures 15-22'!I14","v":2051426},0,"OK"]
[6803,22748,{"$f":"'Expenditures 15-22'!J14","v":22748},0,"OK"]
[6804,31327,{"$f":"'Expenditures 15-22'!I15","v":31327},0,"OK"]
[6805,16140,{"$f":"'Expenditures 15-22'!J15","v":16140},0,"OK"]
[6806,8603,{"$f":"'Expenditures 15-22'!I16","v":8603},0,"OK"]
[6807,23720,{"$f":"'Expenditures 15-22'!J16","v":23720},0,"OK"]
[6808,18597,{"$f":"'Expenditures 15-22'!I17","v":18597},0,"OK"]
[6809,8025,{"$f":"'Expenditures 15-22'!J17","v":8025},0,"OK"]
[6810,49054447,{"$f":"'Expenditures 15-22'!K17","v":49054447},0,"OK"]
[6811,72001,{"$f":"'Expenditures 15-22'!I18","v":72001},0,"OK"]
[6812,369844,{"$f":"'Expenditures 15-22'!J18","v":369844},0,"OK"]
[6813,34163,{"$f":"'Expenditures 15-22'!I19","v":34163},0,"OK"]
[6814,43736,{"$f":"'Expenditures 15-22'!J19","v":43736},0,"OK"]
[6815,690857,{"$f":"'Expenditures 15-22'!H20","v":690857},0,"OK"]
[6816,690857,{"$f":"'Expenditures 15-22'!K20","v":690857},0,"OK"]
[6817,3431058,{"$f":"'Expenditures 15-22'!H21","v":3431058},0,"OK"]
[6818,3431058,{"$f":"'Expenditures 15-22'!K21","v":3431058},0,"OK"]
[6819,314685654,{"$f":"'Expenditures 15-22'!H22","v":314685654},0,"OK"]
[6820,314685654,{"$f":"'Expenditures 15-22'!K22","v":314685654},0,"OK"]
[6821,264566,{"$f":"'Expenditures 15-22'!H23","v":264566},0,"OK"]
[6822,264566,{"$f":"'Expenditures 15-22'!K23","v":264566},0,"OK"]
[6823,894541,{"$f":"'Expenditures 15-22'!H24","v":894541},0,"OK"]
[6824,894541,{"$f":"'Expenditures 15-22'!K24","v":894541},0,"OK"]
[6825,0,{"$f":"'Expenditures 15-22'!H25","v":0},0,"OK"]
[6826,0,{"$f":"'Expenditures 15-22'!K25","v":0},0,"OK"]
[6827,0,{"$f":"'Expenditures 15-22'!H26","v":0},0,"OK"]
[6828,0,{"$f":"'Expenditures 15-22'!K26","v":0},0,"OK"]
[6829,1533615,{"$f":"'Expenditures 15-22'!H27","v":1533615},0,"OK"]
[6830,1533615,{"$f":"'Expenditures 15-22'!K27","v":1533615},0,"OK"]
[6831,0,{"$f":"'Expenditures 15-22'!H28","v":0},0,"OK"]
[6832,0,{"$f":"'Expenditures 15-22'!K28","v":0},0,"OK"]
[6833,1127695,{"$f":"'Expenditures 15-22'!H29","v":1127695},0,"OK"]
[6834,1127695,{"$f":"'Expenditures 15-22'!K29","v":1127695},0,"OK"]
[6835,62952,{"$f":"'Expenditures 15-22'!H30","v":62952},0,"OK"]
[6836,62952,{"$f":"'Expenditures 15-22'!K30","v":62952},0,"OK"]
[6837,15991,{"$f":"'Expenditures 15-22'!H31","v":15991},0,"OK"]
[6838,15991,{"$f":"'Expenditures 15-22'!K31","v":15991},0,"OK"]
[6839,1241233,{"$f":"'Expenditures 15-22'!H32","v":1241233},0,"OK"]
[6840,1241233,{"$f":"'Expenditures 15-22'!K32","v":1241233},0,"OK"]
[6841,66777517,{"$f":"'Expenditures 15-22'!I33","v":66777517},0,"OK"]
[6842,21629408,{"$f":"'Expenditures 15-22'!J33","v":21629408},0,"OK"]
[6843,316986,{"$f":"'Expenditures 15-22'!I36","v":316986},0,"OK"]
[6844,372097,{"$f":"'Expenditures 15-22'!J36","v":372097},0,"OK"]
[6845,179187,{"$f":"'Expenditures 15-22'!I37","v":179187},{"$f":"B6852-C6852","v":0},"OK"]
[6846,765836,{"$f":"'Expenditures 15-22'!J37","v":765836},0,"OK"]
[6847,429691,{"$f":"'Expenditures 15-22'!I38","v":429691},0,"OK"]
[6848,234610,{"$f":"'Expenditures 15-22'!J38","v":234610},0,"OK"]
[6849,2660,{"$f":"'Expenditures 15-22'!I39","v":2660},0,{"$f":"IF((D6856 = 0),\"OK\",IF((D6856<-5),\"CHECK ME!\",IF((D6856>5),\"Check Me!\",\"OK\")))","v":"OK"}]
[6850,165676,{"$f":"'Expenditures 15-22'!J39","v":165676},0,"OK"]
[6851,116880,{"$f":"'Expenditures 15-22'!I40","v":116880},0,"OK"]
[6852,223126,{"$f":"'Expenditures 15-22'!J40","v":223126},0,"OK"]
[6853,119353,{"$f":"'Expenditures 15-22'!I41","v":119353},0,"OK"]
[6854,108709,{"$f":"'Expenditures 15-22'!J41","v":108709},0,"OK"]
[6855,1164757,{"$f":"'Expenditures 15-22'!I42","v":1164757},0,"OK"]
[6856,1870054,{"$f":"'Expenditures 15-22'!J42","v":1870054},0,"OK"]
[6857,7815207,{"$f":"'Expenditures 15-22'!I44","v":7815207},0,"OK"]
[6858,677554,{"$f":"'Expenditures 15-22'!J44","v":677554},0,"OK"]
[6859,21069866,{"$f":"'Expenditures 15-22'!I45","v":21069866},0,"OK"]
[6860,213767,{"$f":"'Expenditures 15-22'!J45","v":213767},0,"OK"]
[6861,73640,{"$f":"'Expenditures 15-22'!I46","v":73640},0,"OK"]
[6862,13924,{"$f":"'Expenditures 15-22'!J46","v":13924},0,"OK"]
[6863,28958713,{"$f":"'Expenditures 15-22'!I47","v":28958713},0,"OK"]
[6864,905245,{"$f":"'Expenditures 15-22'!J47","v":905245},0,"OK"]
[6865,217227,{"$f":"'Expenditures 15-22'!I49","v":217227},0,"OK"]
[6866,668831,{"$f":"'Expenditures 15-22'!J49","v":668831},0,"OK"]
[6867,247959,{"$f":"'Expenditures 15-22'!I50","v":247959},0,"OK"]
[6868,253049,{"$f":"'Expenditures 15-22'!J50","v":253049},0,"OK"]
[6869,360480,{"$f":"'Expenditures 15-22'!I51","v":360480},0,"OK"]
[6870,88196,{"$f":"'Expenditures 15-22'!J51","v":88196},0,"OK"]
[6871,1832316,{"$f":"'Expenditures 15-22'!C52","v":1832316},0,"OK"]
[6872,2377795,{"$f":"'Expenditures 15-22'!D52","v":2377795},0,"OK"]
[6873,17969864.100000001,{"$f":"'Expenditures 15-22'!E52","v":17969864.100000001},0,"OK"]
[6874,206393,{"$f":"'Expenditures 15-22'!F52","v":206393},0,"OK"]
[6875,21811,{"$f":"'Expenditures 15-22'!G52","v":21811},0,"OK"]
[6876,973737,{"$f":"'Expenditures 15-22'!H52","v":973737},0,"OK"]
[6877,0,{"$f":"'Expenditures 15-22'!I52","v":0},0,"OK"]
[6878,0,{"$f":"'Expenditures 15-22'!J52","v":0},0,"OK"]
[6879,23381916.100000001,{"$f":"'Expenditures 15-22'!K52","v":23381916.100000001},0,"OK"]
[6880,0]
[6881,825666,{"$f":"'Expenditures 15-22'!I53","v":825666},0,"OK"]
[6882,1010076,{"$f":"'Expenditures 15-22'!J53","v":1010076},0,"OK"]
[6883,3105520,{"$f":"'Expenditures 15-22'!I55","v":3105520},0,"OK"]
[6884,2183744,{"$f":"'Expenditures 15-22'!J55","v":2183744},0,"OK"]
[6885,1458,{"$f":"'Expenditures 15-22'!I56","v":1458},0,"OK"]
[6886,6624,{"$f":"'Expenditures 15-22'!J56","v":6624},0,"OK"]
[6887,3106978,{"$f":"'Expenditures 15-22'!I57","v":3106978},0,"OK"]
[6888,2190368,{"$f":"'Expenditures 15-22'!J57","v":2190368},0,"OK"]
[6889,56358,{"$f":"'Expenditures 15-22'!I59","v":56358},0,"OK"]
[6890,76148,{"$f":"'Expenditures 15-22'!J59","v":76148},0,"OK"]
[6891,173892,{"$f":"'Expenditures 15-22'!I60","v":173892},0,"OK"]
[6892,400837,{"$f":"'Expenditures 15-22'!J60","v":400837},0,"OK"]
[6893,2292535,{"$f":"'Expenditures 15-22'!I61","v":2292535},0,"OK"]
[6894,206509,{"$f":"'Expenditures 15-22'!J61","v":206509},0,"OK"]
[6895,200521,{"$f":"'Expenditures 15-22'!I62","v":200521},0,"OK"]
[6896,265189,{"$f":"'Expenditures 15-22'!J62","v":265189},0,"OK"]
[6897,5687756,{"$f":"'Expenditures 15-22'!I63","v":5687756},0,"OK"]
[6898,982249,{"$f":"'Expenditures 15-22'!J63","v":982249},0,"OK"]
[6899,65136,{"$f":"'Expenditures 15-22'!J64","v":65136},0,"OK"]
[6900,8585856,{"$f":"'Expenditures 15-22'!I65","v":8585856},0,"OK"]
[6901,1996068,{"$f":"'Expenditures 15-22'!J65","v":1996068},0,"OK"]
[6902,61258,{"$f":"'Expenditures 15-22'!I67","v":61258},0,"OK"]
[6903,72819,{"$f":"'Expenditures 15-22'!J67","v":72819},0,"OK"]
[6904,30981,{"$f":"'Expenditures 15-22'!I68","v":30981},0,"OK"]
[6905,56551,{"$f":"'Expenditures 15-22'!J68","v":56551},0,"OK"]
[6906,2490299,{"$f":"'Expenditures 15-22'!I69","v":2490299},0,"OK"]
[6907,22533,{"$f":"'Expenditures 15-22'!J69","v":22533},0,"OK"]
[6908,56067,{"$f":"'Expenditures 15-22'!I70","v":56067},0,"OK"]
[6909,2344401,{"$f":"'Expenditures 15-22'!J70","v":2344401},{"$f":"B6916-C6916","v":0},"OK"]
[6910,35133947,{"$f":"'Expenditures 15-22'!I71","v":35133947},0,"OK"]
[6911,128196,{"$f":"'Expenditures 15-22'!J71","v":128196},0,"OK"]
[6912,37772552,{"$f":"'Expenditures 15-22'!I72","v":37772552},0,"OK"]
[6913,2624500,{"$f":"'Expenditures 15-22'!J72","v":2624500},0,{"$f":"IF((D6920 = 0),\"OK\",IF((D6920<-5),\"CHECK ME!\",IF((D6920>5),\"Check Me!\",\"OK\")))","v":"OK"}]
[6914,1902422,{"$f":"'Expenditures 15-22'!I73","v":1902422},0,"OK"]
[6915,415284,{"$f":"'Expenditures 15-22'!J73","v":415284},0,"OK"]
[6916,82316944,{"$f":"'Expenditures 15-22'!I74","v":82316944},0,"OK"]
[6917,11011595,{"$f":"'Expenditures 15-22'!J74","v":11011595},0,"OK"]
[6918,1261607,{"$f":"'Expenditures 15-22'!I75","v":1261607},0,"OK"]
[6919,84369,{"$f":"'Expenditures 15-22'!J75","v":84369},0,"OK"]
[6920,8165325,{"$f":"'Expenditures 15-22'!H85","v":8165325},0,"OK"]
[6921,8165325,{"$f":"'Expenditures 15-22'!K85","v":8165325},0,"OK"]
[6922,266839447.44,{"$f":"'Expenditures 15-22'!H86","v":266839447.44},0,"OK"]
[6923,266839447.44,{"$f":"'Expenditures 15-22'!K86","v":266839447.44},0,"OK"]
[6924,589193,{"$f":"'Expenditures 15-22'!H87","v":589193},0,"OK"]
[6925,589193,{"$f":"'Expenditures 15-22'!K87","v":589193},0,"OK"]
[6926,14532728,{"$f":"'Expenditures 15-22'!H88","v":14532728},0,"OK"]
[6927,14532728,{"$f":"'Expenditures 15-22'!K88","v":14532728},0,"OK"]
[6928,900934,{"$f":"'Expenditures 15-22'!H89","v":900934},0,"OK"]
[6929,900934,{"$f":"'Expenditures 15-22'!K89","v":900934},0,"OK"]
[6930,1452569,{"$f":"'Expenditures 15-22'!H90","v":1452569},0,"OK"]
[6931,1452569,{"$f":"'Expenditures 15-22'!K90","v":1452569},0,"OK"]
[6932,2061645,{"$f":"'Expenditures 15-22'!H91","v":2061645},0,"OK"]
[6933,2061645,{"$f":"'Expenditures 15-22'!K91","v":2061645},0,"OK"]
[6934,294541841.44,{"$f":"'Expenditures 15-22'!H92","v":294541841.44},0,"OK"]
[6935,754344,{"$f":"'Expenditures 15-22'!H93","v":754344},0,"OK"]
[6936,754344,{"$f":"'Expenditures 15-22'!K93","v":754344},0,"OK"]
[6937,1984366.11,{"$f":"'Expenditures 15-22'!H94","v":1984366.11},0,"OK"]
[6938,1984366.11,{"$f":"'Expenditures 15-22'!K94","v":1984366.11},0,"OK"]
[6939,0,{"$f":"'Expenditures 15-22'!H95","v":0},0,"OK"]
[6940,0,{"$f":"'Expenditures 15-22'!K95","v":0},0,"OK"]
[6941,523796,{"$f":"'Expenditures 15-22'!H96","v":523796},0,"OK"]
[6942,523796,{"$f":"'Expenditures 15-22'!K96","v":523796},0,"OK"]
[6943,39781,{"$f":"'Expenditures 15-22'!H97","v":39781},0,"OK"]
[6944,39781,{"$f":"'Expenditures 15-22'!K97","v":39781},0,"OK"]
[6945,58330,{"$f":"'Expenditures 15-22'!H98","v":58330},0,"OK"]
[6946,58330,{"$f":"'Expenditures 15-22'!K98","v":58330},0,"OK"]
[6947,613967,{"$f":"'Expenditures 15-22'!E99","v":613967},0,"OK"]
[6948,1397209,{"$f":"'Expenditures 15-22'!H99","v":1397209},0,"OK"]
[6949,2011176,{"$f":"'Expenditures 15-22'!K99","v":2011176},0,"OK"]
[6950,613967,{"$f":"'Expenditures 15-22'!E100","v":613967},0,"OK"]
[6951,4757826.1100000003,{"$f":"'Expenditures 15-22'!H100","v":4757826.1100000003},0,"OK"]
[6952,5371793.1100000003,{"$f":"'Expenditures 15-22'!K100","v":5371793.1100000003},0,"OK"]
[6953,268983,{"$f":"'Expenditures 15-22'!H101","v":268983},0,"OK"]
[6954,1053650,{"$f":"'Expenditures 15-22'!K101","v":1053650},0,"OK"]
[{"$f":"A6961+1","v":6955},1779883,{"$f":"'Expenditures 15-22'!H111","v":1779883},0,"OK"]
[6956,1779883,{"$f":"'Expenditures 15-22'!K111","v":1779883},0,"OK"]
[6957,9325339,{"$f":"'Expenditures 15-22'!H112","v":9325339},0,"OK"]
[6958,9325339,{"$f":"'Expenditures 15-22'!K112","v":9325339},0,"OK"]
[6959,150356068,{"$f":"'Expenditures 15-22'!I114","v":150356068},0,"OK"]
[6960,32725372,{"$f":"'Expenditures 15-22'!J114","v":32725372},0,"OK"]
[6961,0,{"$f":"'Expenditures 15-22'!I120","v":0},0,"OK"]
[6962,0,{"$f":"'Expenditures 15-22'!J120","v":0},0,"OK"]
[6963,2377,{"$f":"'Expenditures 15-22'!I122","v":2377},0,"OK"]
[6964,11751,{"$f":"'Expenditures 15-22'!J122","v":11751},0,"OK"]
[6965,2144389,{"$f":"'Expenditures 15-22'!I123","v":2144389},0,"OK"]
[6966,4553,{"$f":"'Expenditures 15-22'!J123","v":4553},0,"OK"]
[6967,10100173,{"$f":"'Expenditures 15-22'!I124","v":10100173},0,"OK"]
[6968,806581,{"$f":"'Expenditures 15-22'!J124","v":806581},0,"OK"]
[6969,0,{"$f":"'Expenditures 15-22'!I125","v":0},0,"OK"]
[6970,0,{"$f":"'Expenditures 15-22'!J125","v":0},0,"OK"]
[6971,88983,{"$f":"'Expenditures 15-22'!I126","v":88983},0,"OK"]
[6972,12335922,{"$f":"'Expenditures 15-22'!I127","v":12335922},0,"OK"]
[6973,822885,{"$f":"'Expenditures 15-22'!J127","v":822885},{"$f":"B6980-C6980","v":0},"OK"]
[6974,53621,{"$f":"'Expenditures 15-22'!I128","v":53621},0,"OK"]
[6975,0,{"$f":"'Expenditures 15-22'!J128","v":0},0,"OK"]
[6976,12389543,{"$f":"'Expenditures 15-22'!I129","v":12389543},0,"OK"]
[6977,822885,{"$f":"'Expenditures 15-22'!J129","v":822885},0,{"$f":"IF((D6984 = 0),\"OK\",IF((D6984<-5),\"CHECK ME!\",IF((D6984>5),\"Check Me!\",\"OK\")))","v":"OK"}]
[6978,0,{"$f":"'Expenditures 15-22'!I130","v":0},0,"OK"]
[6979,0,{"$f":"'Expenditures 15-22'!J130","v":0},0,"OK"]
[6980,0,{"$f":"'Revenues 9-14'!J266","v":0},0,"OK"]
[6981,379602503,{"$f":"'Acct Summary 7-8'!J13","v":379602503},0,"OK"]
[6982,0,{"$f":"'Revenues 9-14'!H9","v":0},0,"OK"]
[6983,9375241,{"$f":"'Revenues 9-14'!D106","v":9375241},0,"OK"]
[6984,6534822,{"$f":"'Revenues 9-14'!E106","v":6534822},0,"OK"]
[6985,132003,{"$f":"'Revenues 9-14'!F106","v":132003},0,"OK"]
[6986,6602,{"$f":"'Expenditures 15-22'!H147","v":6602},0,"OK"]
[6987,6602,{"$f":"'Expenditures 15-22'!K147","v":6602},0,"OK"]
[6988,465208,{"$f":"'Expenditures 15-22'!H148","v":465208},0,"OK"]
[6989,465208,{"$f":"'Expenditures 15-22'!K148","v":465208},0,"OK"]
[6990,12389543,{"$f":"'Expenditures 15-22'!I151","v":12389543},0,"OK"]
[6991,822885,{"$f":"'Expenditures 15-22'!J151","v":822885},0,"OK"]
[6992,105596,{"$f":"'Expenditures 15-22'!H160","v":105596},0,"OK"]
[6993,0,{"$f":"'Revenues 9-14'!J267","v":0},0,"OK"]
[6994,390441853.19,{"$f":"'Revenues 9-14'!J268","v":390441853.19},0,"OK"]
[6995,0]
[6996,33702,{"$f":"'Expenditures 15-22'!I180","v":33702},0,"OK"]
[6997,0,{"$f":"'Expenditures 15-22'!J180","v":0},0,"OK"]
[6998,1390095,{"$f":"'Expenditures 15-22'!I182","v":1390095},0,"OK"]
[6999,90028,{"$f":"'Expenditures 15-22'!J182","v":90028},0,"OK"]
[7000,0,{"$f":"'Expenditures 15-22'!I183","v":0},0,"OK"]
[7001,0,{"$f":"'Expenditures 15-22'!J183","v":0},0,"OK"]
[7002,1423797,{"$f":"'Expenditures 15-22'!I184","v":1423797},0,"OK"]
[7003,90028,{"$f":"'Expenditures 15-22'!J184","v":90028},0,"OK"]
[7004,0,{"$f":"'Expenditures 15-22'!I185","v":0},0,"OK"]
[7005,0,{"$f":"'Expenditures 15-22'!J185","v":0},0,"OK"]
[7006,1239466,{"$f":"'Expenditures 15-22'!H205","v":1239466},0,"OK"]
[7007,1239466,{"$f":"'Expenditures 15-22'!K205","v":1239466},0,"OK"]
[7008,675167,{"$f":"'Expenditures 15-22'!H207","v":675167},0,"OK"]
[7009,675167,{"$f":"'Expenditures 15-22'!K207","v":675167},0,"OK"]
[7010,1423797,{"$f":"'Expenditures 15-22'!I210","v":1423797},0,"OK"]
[7011,90028,{"$f":"'Expenditures 15-22'!J210","v":90028},0,"OK"]
[7012,5490910.0300000003,{"$f":"'Expenditures 15-22'!D216","v":5490910.0300000003},0,"OK"]
[7013,5490910.0300000003,{"$f":"'Expenditures 15-22'!K216","v":5490910.0300000003},0,"OK"]
[7014,3676885,{"$f":"'Expenditures 15-22'!D218","v":3676885},0,"OK"]
[7015,3676885,{"$f":"'Expenditures 15-22'!K218","v":3676885},0,"OK"]
[7016,481136,{"$f":"'Expenditures 15-22'!D220","v":481136},0,"OK"]
[7017,481136,{"$f":"'Expenditures 15-22'!K220","v":481136},0,"OK"]
[7018,548282,{"$f":"'Expenditures 15-22'!D226","v":548282},0,"OK"]
[7019,548282,{"$f":"'Expenditures 15-22'!K226","v":548282},0,"OK"]
[7020,61555,{"$f":"'Expenditures 15-22'!D248","v":61555},0,"OK"]
[7021,61555,{"$f":"'Expenditures 15-22'!K248","v":61555},0,"OK"]
[7022,6034,{"$f":"'Expenditures 15-22'!D249","v":6034},0,"OK"]
[7023,6034,{"$f":"'Expenditures 15-22'!K249","v":6034},0,"OK"]
[7024,0,{"$f":"'Expenditures 15-22'!D250","v":0},0,"OK"]
[7025,0,{"$f":"'Expenditures 15-22'!K250","v":0},0,"OK"]
[7026,0,{"$f":"'Expenditures 15-22'!D251","v":0},0,"OK"]
[7027,0,{"$f":"'Expenditures 15-22'!K251","v":0},0,"OK"]
[7028,580867,{"$f":"'Expenditures 15-22'!D252","v":580867},0,"OK"]
[7029,580867,{"$f":"'Expenditures 15-22'!K252","v":580867},0,"OK"]
[7030,71000,{"$f":"'Expenditures 15-22'!D253","v":71000},0,"OK"]
[7031,71000,{"$f":"'Expenditures 15-22'!K253","v":71000},0,"OK"]
[7032,4483809,{"$f":"'Expenditures 15-22'!D254","v":4483809},0,"OK"]
[7033,4483809,{"$f":"'Expenditures 15-22'!K254","v":4483809},0,"OK"]
[7034,0,{"$f":"'Expenditures 15-22'!D255","v":0},0,"OK"]
[7035,0,{"$f":"'Expenditures 15-22'!K255","v":0},0,"OK"]
[7036,180934,{"$f":"'Expenditures 15-22'!D256","v":180934},0,"OK"]
[7037,180934,{"$f":"'Expenditures 15-22'!K256","v":180934},{"$f":"B7044-C7044","v":0},"OK"]
[7038,8128134,{"$f":"'Expenditures 15-22'!I301","v":8128134},0,"OK"]
[7039,17799,{"$f":"'Expenditures 15-22'!J301","v":17799},0,"OK"]
[7040,10750,{"$f":"'Expenditures 15-22'!I302","v":10750},0,"OK"]
[7041,0,{"$f":"'Expenditures 15-22'!J302","v":0},0,{"$f":"IF((D7048 = 0),\"OK\",IF((D7048<-5),\"CHECK ME!\",IF((D7048>5),\"Check Me!\",\"OK\")))","v":"OK"}]
[7042,8138884,{"$f":"'Expenditures 15-22'!I303","v":8138884},0,"OK"]
[7043,17799,{"$f":"'Expenditures 15-22'!J303","v":17799},0,"OK"]
[7044,0,{"$f":"'Expenditures 15-22'!E306","v":0},0,"OK"]
[7045,0,{"$f":"'Expenditures 15-22'!H306","v":0},0,"OK"]
[7046,0,{"$f":"'Expenditures 15-22'!K306","v":0},0,"OK"]
[7047,0,{"$f":"'Expenditures 15-22'!E307","v":0},0,"OK"]
[7048,0,{"$f":"'Expenditures 15-22'!H307","v":0},0,"OK"]
[7049,0,{"$f":"'Expenditures 15-22'!E308","v":0},0,"OK"]
[7050,0,{"$f":"'Expenditures 15-22'!H308","v":0},0,"OK"]
[7051,300,{"$f":"'Expenditures 15-22'!E309","v":300},0,"OK"]
[7052,633562,{"$f":"'Expenditures 15-22'!H309","v":633562},0,"OK"]
[7053,300,{"$f":"'Expenditures 15-22'!E310","v":300},0,"OK"]
[7054,633562,{"$f":"'Expenditures 15-22'!H310","v":633562},0,"OK"]
[7055,8138884,{"$f":"'Expenditures 15-22'!I312","v":8138884},0,"OK"]
[7056,17799,{"$f":"'Expenditures 15-22'!J312","v":17799},0,"OK"]
[7057,294994,{"$f":"'Expenditures 15-22'!C319","v":294994},0,"OK"]
[7058,144434,{"$f":"'Expenditures 15-22'!D319","v":144434},0,"OK"]
[7059,2613742,{"$f":"'Expenditures 15-22'!E319","v":2613742},0,"OK"]
[7060,51177,{"$f":"'Expenditures 15-22'!F319","v":51177},0,"OK"]
[7061,58014,{"$f":"'Expenditures 15-22'!G319","v":58014},0,"OK"]
[7062,0,{"$f":"'Expenditures 15-22'!H319","v":0},0,"OK"]
[7063,0,{"$f":"'Expenditures 15-22'!I319","v":0},0,"OK"]
[7064,0,{"$f":"'Expenditures 15-22'!J319","v":0},0,"OK"]
[7065,3162361,{"$f":"'Expenditures 15-22'!K319","v":3162361},0,"OK"]
[7066,227082,{"$f":"'Expenditures 15-22'!C320","v":227082},0,"OK"]
[7067,2029309,{"$f":"'Expenditures 15-22'!D320","v":2029309},0,"OK"]
[7068,60833004,{"$f":"'Expenditures 15-22'!E320","v":60833004},0,"OK"]
[7069,2625,{"$f":"'Expenditures 15-22'!F320","v":2625},0,"OK"]
[7070,0,{"$f":"'Expenditures 15-22'!G320","v":0},0,"OK"]
[7071,1341435,{"$f":"'Expenditures 15-22'!H320","v":1341435},0,"OK"]
[7072,0,{"$f":"'Expenditures 15-22'!I320","v":0},0,"OK"]
[7073,0,{"$f":"'Expenditures 15-22'!J320","v":0},0,"OK"]
[7074,64433455,{"$f":"'Expenditures 15-22'!K320","v":64433455},0,"OK"]
[7075,650,{"$f":"'Expenditures 15-22'!C321","v":650},0,"OK"]
[7076,283186,{"$f":"'Expenditures 15-22'!D321","v":283186},0,"OK"]
[7077,3652302,{"$f":"'Expenditures 15-22'!E321","v":3652302},0,"OK"]
[7078,0,{"$f":"'Expenditures 15-22'!F321","v":0},0,"OK"]
[7079,0,{"$f":"'Expenditures 15-22'!G321","v":0},0,"OK"]
[7080,26642,{"$f":"'Expenditures 15-22'!H321","v":26642},0,"OK"]
[7081,0,{"$f":"'Expenditures 15-22'!I321","v":0},0,"OK"]
[7082,3145,{"$f":"'Expenditures 15-22'!J321","v":3145},0,"OK"]
[7083,3965925,{"$f":"'Expenditures 15-22'!K321","v":3965925},0,"OK"]
[7084,118535,{"$f":"'Expenditures 15-22'!C322","v":118535},0,"OK"]
[7085,64480,{"$f":"'Expenditures 15-22'!D322","v":64480},0,"OK"]
[7086,51578119,{"$f":"'Expenditures 15-22'!E322","v":51578119},0,"OK"]
[7087,67612,{"$f":"'Expenditures 15-22'!F322","v":67612},0,"OK"]
[7088,52972,{"$f":"'Expenditures 15-22'!G322","v":52972},0,"OK"]
[7089,312139,{"$f":"'Expenditures 15-22'!H322","v":312139},0,"OK"]
[7090,0,{"$f":"'Expenditures 15-22'!I322","v":0},0,"OK"]
[7091,0,{"$f":"'Expenditures 15-22'!J322","v":0},0,"OK"]
[7092,52193857,{"$f":"'Expenditures 15-22'!K322","v":52193857},0,"OK"]
[7093,17032362,{"$f":"'Expenditures 15-22'!C323","v":17032362},0,"OK"]
[7094,1239960,{"$f":"'Expenditures 15-22'!D323","v":1239960},0,"OK"]
[7095,13623237,{"$f":"'Expenditures 15-22'!E323","v":13623237},0,"OK"]
[7096,343906,{"$f":"'Expenditures 15-22'!F323","v":343906},0,"OK"]
[7097,1354131,{"$f":"'Expenditures 15-22'!G323","v":1354131},0,"OK"]
[7098,124138,{"$f":"'Expenditures 15-22'!H323","v":124138},0,"OK"]
[7099,44716,{"$f":"'Expenditures 15-22'!I323","v":44716},0,"OK"]
[7100,2848,{"$f":"'Expenditures 15-22'!J323","v":2848},0,"OK"]
[7101,33765298,{"$f":"'Expenditures 15-22'!K323","v":33765298},{"$f":"B7108-C7108","v":0},"OK"]
[7102,295244,{"$f":"'Expenditures 15-22'!C324","v":295244},0,"OK"]
[7103,13135,{"$f":"'Expenditures 15-22'!D324","v":13135},0,"OK"]
[7104,1180231,{"$f":"'Expenditures 15-22'!E324","v":1180231},0,"OK"]
[7105,0,{"$f":"'Expenditures 15-22'!F324","v":0},0,{"$f":"IF((D7112 = 0),\"OK\",IF((D7112<-5),\"CHECK ME!\",IF((D7112>5),\"Check Me!\",\"OK\")))","v":"OK"}]
[7106,0,{"$f":"'Expenditures 15-22'!G324","v":0},0,"OK"]
[7107,1244377,{"$f":"'Expenditures 15-22'!H324","v":1244377},0,"OK"]
[7108,0,{"$f":"'Expenditures 15-22'!I324","v":0},0,"OK"]
[7109,0,{"$f":"'Expenditures 15-22'!J324","v":0},0,"OK"]
[7110,2732987,{"$f":"'Expenditures 15-22'!K324","v":2732987},0,"OK"]
[7111,127985312,{"$f":"'Expenditures 15-22'!C325","v":127985312},0,"OK"]
[7112,24128927,{"$f":"'Expenditures 15-22'!D325","v":24128927},0,"OK"]
[7113,30848584,{"$f":"'Expenditures 15-22'!E325","v":30848584},0,"OK"]
[7114,882883,{"$f":"'Expenditures 15-22'!F325","v":882883},0,"OK"]
[7115,2324805,{"$f":"'Expenditures 15-22'!G325","v":2324805},0,"OK"]
[7116,585219,{"$f":"'Expenditures 15-22'!H325","v":585219},0,"OK"]
[7117,174084,{"$f":"'Expenditures 15-22'!I325","v":174084},0,"OK"]
[7118,697985,{"$f":"'Expenditures 15-22'!J325","v":697985},0,"OK"]
[7119,187627799,{"$f":"'Expenditures 15-22'!K325","v":187627799},0,"OK"]
[7120,0,{"$f":"'Expenditures 15-22'!C326","v":0},0,"OK"]
[7121,0,{"$f":"'Expenditures 15-22'!D326","v":0},0,"OK"]
[7122,19194,{"$f":"'Expenditures 15-22'!E326","v":19194},0,"OK"]
[7123,0,{"$f":"'Expenditures 15-22'!F326","v":0},0,"OK"]
[7124,0,{"$f":"'Expenditures 15-22'!G326","v":0},0,"OK"]
[7125,0,{"$f":"'Expenditures 15-22'!H326","v":0},0,"OK"]
[7126,0,{"$f":"'Expenditures 15-22'!I326","v":0},0,"OK"]
[7127,0,{"$f":"'Expenditures 15-22'!J326","v":0},0,"OK"]
[7128,19194,{"$f":"'Expenditures 15-22'!K326","v":19194},0,"OK"]
[7129,640938,{"$f":"'Expenditures 15-22'!C327","v":640938},0,"OK"]
[7130,104206,{"$f":"'Expenditures 15-22'!D327","v":104206},0,"OK"]
[7131,11865645,{"$f":"'Expenditures 15-22'!E327","v":11865645},0,"OK"]
[7132,19178,{"$f":"'Expenditures 15-22'!F327","v":19178},0,"OK"]
[7133,8545,{"$f":"'Expenditures 15-22'!G327","v":8545},0,"OK"]
[7134,115677,{"$f":"'Expenditures 15-22'!H327","v":115677},0,"OK"]
[7135,0,{"$f":"'Expenditures 15-22'!I327","v":0},0,"OK"]
[7136,0,{"$f":"'Expenditures 15-22'!J327","v":0},0,"OK"]
[7137,12754189,{"$f":"'Expenditures 15-22'!K327","v":12754189},0,"OK"]
[7138,146595117,{"$f":"'Expenditures 15-22'!C330","v":146595117},0,"OK"]
[7139,28109116,{"$f":"'Expenditures 15-22'!D330","v":28109116},0,"OK"]
[7140,195051877,{"$f":"'Expenditures 15-22'!E330","v":195051877},0,"OK"]
[7141,1367381,{"$f":"'Expenditures 15-22'!F330","v":1367381},0,"OK"]
[7142,3806607,{"$f":"'Expenditures 15-22'!G330","v":3806607},0,"OK"]
[7143,3749627,{"$f":"'Expenditures 15-22'!H330","v":3749627},0,"OK"]
[7144,218800,{"$f":"'Expenditures 15-22'!I330","v":218800},0,"OK"]
[7145,703978,{"$f":"'Expenditures 15-22'!J330","v":703978},0,"OK"]
[7146,379602503,{"$f":"'Expenditures 15-22'!K330","v":379602503},0,"OK"]
[7147,0,{"$f":"'Expenditures 15-22'!H337","v":0},0,"OK"]
[7148,0,{"$f":"'Expenditures 15-22'!K337","v":0},0,"OK"]
[7149,0,{"$f":"'Expenditures 15-22'!H338","v":0},0,"OK"]
[7150,0,{"$f":"'Expenditures 15-22'!K338","v":0},0,"OK"]
[7151,0,{"$f":"'Expenditures 15-22'!H339","v":0},0,"OK"]
[7152,0,{"$f":"'Expenditures 15-22'!K339","v":0},0,"OK"]
[7153,0,{"$f":"'Expenditures 15-22'!H340","v":0},0,"OK"]
[7154,0,{"$f":"'Expenditures 15-22'!K340","v":0},0,"OK"]
[7155,146595117,{"$f":"'Expenditures 15-22'!C342","v":146595117},0,"OK"]
[7156,28109116,{"$f":"'Expenditures 15-22'!D342","v":28109116},0,"OK"]
[7157,195051877,{"$f":"'Expenditures 15-22'!E342","v":195051877},0,"OK"]
[7158,1367381,{"$f":"'Expenditures 15-22'!F342","v":1367381},0,"OK"]
[7159,3806607,{"$f":"'Expenditures 15-22'!G342","v":3806607},0,"OK"]
[7160,4556227,{"$f":"'Expenditures 15-22'!H342","v":4556227},0,"OK"]
[7161,218800,{"$f":"'Expenditures 15-22'!I342","v":218800},0,"OK"]
[7162,703978,{"$f":"'Expenditures 15-22'!J342","v":703978},0,"OK"]
[7163,380409103,{"$f":"'Expenditures 15-22'!K342","v":380409103},0,"OK"]
[7164,10032750.189999999,{"$f":"'Expenditures 15-22'!K343","v":10032750.189999998},0,"OK"]
[7165,1000186,{"$f":"'Expenditures 15-22'!I348","v":1000186},{"$f":"B7172-C7172","v":0},"OK"]
[7166,0,{"$f":"'Expenditures 15-22'!J348","v":0},0,"OK"]
[7167,4366,{"$f":"'Expenditures 15-22'!I349","v":4366},0,"OK"]
[7168,0,{"$f":"'Expenditures 15-22'!J349","v":0},0,"OK"]
[7169,1004552,{"$f":"'Expenditures 15-22'!I350","v":1004552},0,{"$f":"IF((D7176 = 0),\"OK\",IF((D7176<-5),\"CHECK ME!\",IF((D7176>5),\"Check Me!\",\"OK\")))","v":"OK"}]
[7170,0,{"$f":"'Expenditures 15-22'!J350","v":0},0,"OK"]
[7171,13050,{"$f":"'Expenditures 15-22'!I351","v":13050},0,"OK"]
[7172,0,{"$f":"'Expenditures 15-22'!J351","v":0},0,"OK"]
[7173,1017602,{"$f":"'Expenditures 15-22'!I352","v":1017602},0,"OK"]
[7174,0,{"$f":"'Expenditures 15-22'!J352","v":0},0,"OK"]
[7175,0,{"$f":"'Expenditures 15-22'!H356","v":13759},-13759,"CHECK ME!","ok"]
[7176,0,{"$f":"'Expenditures 15-22'!H357","v":13759},-13759,"CHECK ME!","ok"]
[7177,0,{"$f":"'Expenditures 15-22'!H361","v":0},0,"OK"]
[7178,0,{"$f":"'Expenditures 15-22'!K361","v":0},0,"OK"]
[7179,116910,{"$f":"'Expenditures 15-22'!H363","v":116910},0,"OK"]
[7180,116910,{"$f":"'Expenditures 15-22'!K363","v":116910},0,"OK"]
[7181,313020,{"$f":"'Expenditures 15-22'!H365","v":313020},0,"OK"]
[7182,313020,{"$f":"'Expenditures 15-22'!K365","v":313020},0,"OK"]
[7183,1017602,{"$f":"'Expenditures 15-22'!I367","v":1017602},0,"OK"]
[7184,0,{"$f":"'Expenditures 15-22'!J367","v":0},0,"OK"]
[7185,56956014,{"$f":"'Expenditures 15-22'!D7","v":56956014},0,"OK"]
[7186,2497592.23,{"$f":"'Expenditures 15-22'!E7","v":2497592.23},0,"OK"]
[7187,13887991.67,{"$f":"'Expenditures 15-22'!F7","v":13887991.67},0,"OK"]
[7188,1434362.65,{"$f":"'Expenditures 15-22'!G7","v":1434362.65},0,"OK"]
[7189,119391,{"$f":"'Expenditures 15-22'!H7","v":119391},0,"OK"]
[7190,87000878,{"$f":"'Expenditures 15-22'!C9","v":87000878},0,"OK"]
[7191,21061745,{"$f":"'Expenditures 15-22'!D9","v":21061745},0,"OK"]
[7192,606121,{"$f":"'Expenditures 15-22'!E9","v":606121},0,"OK"]
[7193,1286035,{"$f":"'Expenditures 15-22'!F9","v":1286035},0,"OK"]
[7194,71110,{"$f":"'Expenditures 15-22'!G9","v":71110},0,"OK"]
[7195,69000,{"$f":"'Expenditures 15-22'!H9","v":69000},0,"OK"]
[7196,10547376,{"$f":"'Expenditures 15-22'!C11","v":10547376},0,"OK"]
[7197,2512772,{"$f":"'Expenditures 15-22'!D11","v":2512772},0,"OK"]
[7198,530196,{"$f":"'Expenditures 15-22'!E11","v":530196},0,"OK"]
[7199,810292,{"$f":"'Expenditures 15-22'!F11","v":810292},0,"OK"]
[7200,107128,{"$f":"'Expenditures 15-22'!G11","v":107128},0,"OK"]
[7201,1747,{"$f":"'Expenditures 15-22'!H11","v":1747},0,"OK"]
[7202,38514998,{"$f":"'Expenditures 15-22'!C17","v":38514998},0,"OK"]
[7203,6002789,{"$f":"'Expenditures 15-22'!D17","v":6002789},0,"OK"]
[7204,2114204,{"$f":"'Expenditures 15-22'!E17","v":2114204},0,"OK"]
[7205,1363573,{"$f":"'Expenditures 15-22'!F17","v":1363573},0,"OK"]
[7206,947678,{"$f":"'Expenditures 15-22'!G17","v":947678},0,"OK"]
[7207,84583,{"$f":"'Expenditures 15-22'!H17","v":84583},0,"OK"]
[7208,0]
[7209,0]
[7210,0]
[7211,0]
[7212,0]
[7213,0]
[7214,0]
[7215,0]
[7216,0]
[7217,0]
[7218,0]
[7219,0]
[7220,0]
[7221,0]
[7222,0]
[7223,0]
[7224,0]
[7225,0]
[7226,0]
[7227,0]
[7228,0]
[7229,0]
[7230,0]
[7231,0]
[7232,0]
[7233,0]
[7234,0]
[7235,0]
[7236,0]
[7237,0]
[7238,0]
[7239,0]
[7240,0]
[7241,0]
[7242,0]
[7243,0]
[7244,0]
[7245,0]
[7246,0]
[7247,0]
[7248,0]
[7249,0]
[7250,0]
[7251,0]
[7252,0]
[7253,0]
[7254,0]
[7255,0]
[7256,0]
[7257,0]
[7258,0]
[7259,0]
[7260,0]
[7261,0]
[7262,0]
[7263,0]
[7264,0]
[7265,0]
[7266,0]
[7267,0]
[7268,0]
[7269,0]
[7270,0]
[7271,0]
[7272,0]
[7273,0]
[7274,0]
[7275,0]
[7276,0]
[7277,0]
[7278,0]
[7279,0]
[7280,0]
[7281,0]
[7282,0]
[7283,0]
[7284,0]
[7285,0]
[7286,0]
[7287,0]
[7288,0]
[7289,0]
[7290,0]
[7291,0]
[7292,0]
[7293,0]
[7294,0]
[7295,0]
[7296,0]
[7297,0]
[7298,0]
[7299,0]
[7300,0]
[7301,0]
[7302,0]
[7303,0]
[7304,0]
[7305,0]
[7306,0]
[7307,0]
[7308,0]
[7309,0]
[7310,0]
[7311,0]
[7312,0]
[7313,0]
[7314,0]
[7315,0]
[7316,0]
[7317,0]
[7318,0]
[7319,0]
[7320,0]
[7321,0]
[7322,0]
[7323,0]
[7324,0]
[7325,0]
[7326,0]
[7327,0]
[7328,0]
[7329,0]
[7330,0]
[7331,0]
[7332,0]
[7333,0]
[7334,0]
[7335,0]
[7336,0]
[7337,0]
[7338,0]
[7339,0]
[7340,0]
[7341,0]
[7342,0]
[7343,0]
[7344,0]
[7345,0]
[7346,0]
[7347,0]
[7348,0]
[7349,0]
[7350,0]
[7351,0]
[7352,0]
[7353,0]
[7354,0]
[7355,0]
[7356,0]
[7357,0]
[7358,0]
[7359,0]
[7360,0]
[7361,0]
[7362,0]
[7363,0]
[7364,0]
[7365,0]
[7366,0]
[7367,0]
[7368,0]
[7369,0]
[7370,0]
[7371,0]
[7372,0]
[7373,0]
[7374,0]
[7375,0]
[7376,0]
[7377,0]
[7378,0]
[7379,0]
[7380,0]
[7381,0]
[7382,0]
[7383,0]
[7384,0]
[7385,0]
[7386,0]
[7387,0]
[7388,0]
[7389,0]
[7390,0]
[7391,0]
[7392,0]
[7393,0]
[7394,0]
[7395,0]
[7396,0]
[7397,0]
[7398,0]
[7399,0]
[7400,0]
[7401,0]
[7402,0]
[7403,0]
[7404,0]
[7405,0]
[7406,0]
[7407,0]
[7408,0]
[7409,0]
[7410,0]
[7411,0]
[7412,0]
[7413,0]
[7414,0]
[7415,0]
[7416,0]
[7417,0]
[7418,0]
[7419,0]
[7420,0]
[7421,0]
[7422,0]
[7423,0]
[7424,0]
[7425,0]
[7426,0]
[7427,0]
[7428,0]
[7429,0]
[7430,0]
[7431,0]
[7432,0]
[7433,0]
[7434,0]
[7435,0]
[7436,0]
[7437,0]
[7438,0]
[7439,0]
[7440,0]
[7441,0]
[7442,0]
[7443,0]
[7444,0]
[7445,0]
[7446,0]
[7447,0]
[7448,0]
[7449,0]
[7450,0]
[7451,0]
[7452,0]
[7453,0]
[7454,0]
[7455,0]
[7456,0]
[7457,0]
[7458,0]
[7459,0]
[7460,0]
[7461,0]
[7462,0]
[7463,0]
[7464,0]
[7465,0]
[7466,0]
[7467,0]
[7468,0]
[7469,0]
[7470,0]
[7471,0]
[7472,0]
[7473,0]
[7474,0]
[7475,0]
[7476,0]
[7477,0]
[7478,0]
[7479,0]
[7480,0]
[7481,0]
[7482,0]
[7483,0]
[7484,0]
[7485,0]
[7486,0]
[7487,0]
[7488,0]
[7489,0]
[7490,0]
[7491,0]
[7492,0]
[7493,0]
[7494,0]
[7495,0]
[7496,0]
[7497,0]
[7498,0]
[7499,0]
[7500,0]
[7501,0]
[7502,0]
[7503,0]
[7504,0]
[7505,0]
[7506,0]
[7507,0]
[7508,0]
[7509,0]
[7510,0]
[7511,0]
[7512,0]
[7513,0]
[7514,0]
[7515,0]
[7516,0]
[7517,0]
[7518,0]
[7519,0]
[7520,0]
[7521,0]
[7522,0]
[7523,0]
[7524,0]
[7525,0]
[7526,0]
[7527,0]
[7528,0]
[7529,0,{"$f":"'Cap Outlay Deprec 26'!E3","v":0},{"$f":"B7536-C7536","v":0},{"$f":"IF((D7536 = 0),\"OK\",IF((D7536<-5),\"CHECK ME!\",IF((D7536>5),\"Check Me!\",\"OK\")))","v":"OK"}]
[7530,83258,{"$f":"'Cap Outlay Deprec 26'!F3","v":83258},0,"OK"]
[7531,3570,{"$f":"'Cap Outlay Deprec 26'!H3","v":3570},0,"OK"]
[7532,1190,{"$f":"'Cap Outlay Deprec 26'!I3","v":1190},0,"OK"]
[7533,0,{"$f":"'Cap Outlay Deprec 26'!J3","v":0},0,"OK"]
[7534,4760,{"$f":"'Cap Outlay Deprec 26'!K3","v":4760},0,"OK"]
[7535,78498,{"$f":"'Cap Outlay Deprec 26'!L3","v":78498},0,"OK"]
[7536,32273917,{"$f":"'Cap Outlay Deprec 26'!C6","v":32273917},0,"OK"]
[7537,1513001,{"$f":"'Cap Outlay Deprec 26'!D6","v":1513001},0,"OK"]
[7538,34355,{"$f":"'Cap Outlay Deprec 26'!E6","v":34355},0,"OK"]
[7539,33752563,{"$f":"'Cap Outlay Deprec 26'!F6","v":33752563},0,"OK"]
[7540,9359926,{"$f":"'Cap Outlay Deprec 26'!H6","v":9359926},0,"OK"]
[7541,357193,{"$f":"'Cap Outlay Deprec 26'!I6","v":357193},0,"OK"]
[7542,2634,{"$f":"'Cap Outlay Deprec 26'!J6","v":2634},0,"OK"]
[7543,9714485,{"$f":"'Cap Outlay Deprec 26'!K6","v":9714485},0,"OK"]
[7544,24038078,{"$f":"'Cap Outlay Deprec 26'!L6","v":24038078},0,"OK"]
[7545,153958605,{"$f":"'Cap Outlay Deprec 26'!C9","v":153958605},0,"OK"]
[7546,8940241,{"$f":"'Cap Outlay Deprec 26'!D9","v":8940241},0,"OK"]
[7547,0,{"$f":"'Cap Outlay Deprec 26'!E9","v":0},0,"OK"]
[7548,162898846,{"$f":"'Cap Outlay Deprec 26'!F9","v":162898846},0,"OK"]
[7549,57615290,{"$f":"'Cap Outlay Deprec 26'!H9","v":57615290},{"$f":"B7556-C7556","v":0},"OK"]
[7550,4523936.9000000004,{"$f":"'Cap Outlay Deprec 26'!I9","v":4523936.9000000004},0,"OK"]
[7551,0,{"$f":"'Cap Outlay Deprec 26'!J9","v":0},0,"OK"]
[7552,62139226.899999999,{"$f":"'Cap Outlay Deprec 26'!K9","v":62139226.899999999},0,"OK"]
[7553,100759619.09999999,{"$f":"'Cap Outlay Deprec 26'!L9","v":100759619.09999999},0,{"$f":"IF((D7560 = 0),\"OK\",IF((D7560<-5),\"CHECK ME!\",IF((D7560>5),\"Check Me!\",\"OK\")))","v":"OK"}]
[7554,50041411,{"$f":"'Cap Outlay Deprec 26'!C14","v":50041411},0,"OK"]
[7555,4375276,{"$f":"'Cap Outlay Deprec 26'!D14","v":4375276},0,"OK"]
[7556,8824692,{"$f":"'Cap Outlay Deprec 26'!E14","v":8824692},0,"OK"]
[7557,45591995,{"$f":"'Cap Outlay Deprec 26'!F14","v":45591995},0,"OK"]
[7558,42219066,{"$f":"'Cap Outlay Deprec 26'!H14","v":42219066},0,"OK"]
[7559,4376433,{"$f":"'Cap Outlay Deprec 26'!I14","v":4376433},0,"OK"]
[7560,8492276,{"$f":"'Cap Outlay Deprec 26'!J14","v":8492276},0,"OK"]
[7561,38103223,{"$f":"'Cap Outlay Deprec 26'!K14","v":38103223},0,"OK"]
[7562,7488772,{"$f":"'Cap Outlay Deprec 26'!L14","v":7488772},0,"OK"]
[7563,173544694,{"$f":"'Cap Outlay Deprec 26'!F17","v":173544694},0,"OK"]
[7564,17354469.400000006,{"$f":"'Cap Outlay Deprec 26'!I17","v":17354469.400000006},0,"OK"]
[7565,0,null,0,"OK"]
[7566,0,null,0,"OK"]
[7567,0,null,0,"OK"]
[7568,0,null,0,"OK"]
[7569,0,null,0,"OK"]
[7570,1384941921.4199996,{"$f":"'Cap Outlay Deprec 26'!I18","v":1384941921.4200001},0,"OK"]
[7571,0,null,0,"OK"]
[7572,0,null,0,"OK"]
[7573,0,null,0,"OK"]
[7574,0]
[7575,30852,{"$f":"'Revenues 9-14'!G106","v":30852},0,"OK"]
[7576,1640763,{"$f":"'Revenues 9-14'!H106","v":1640763},0,"OK"]
[7577,0,{"$f":"'Revenues 9-14'!J106","v":0},0,"OK"]
[7578,0,{"$f":"'Revenues 9-14'!K106","v":0},0,"OK"]
[7579,0]
[7580,0]
[7581,0]
[7582,0]
[7583,0]
[7584,0]
[7585,0]
[7586,0]
[7587,0]
[7588,0]
[7589,0]
[7590,519015,{"$f":"'Acct Summary 7-8'!C55","v":519015},0,"OK"]
[7591,0,{"$f":"'Acct Summary 7-8'!D55","v":0},0,"OK"]
[7592,0,{"$f":"'Acct Summary 7-8'!H55","v":0},0,"OK"]
[7593,8411284,{"$f":"'Acct Summary 7-8'!C56","v":8411284},0,"OK"]
[7594,1933794,{"$f":"'Acct Summary 7-8'!D56","v":1933794},0,"OK"]
[7595,111933,{"$f":"'Acct Summary 7-8'!H56","v":111933},0,"OK"]
[7596,20275333,{"$f":"'Acct Summary 7-8'!C57","v":20275333},0,"OK"]
[7597,4472277,{"$f":"'Acct Summary 7-8'!D57","v":4472277},0,"OK"]
[7598,630282,{"$f":"'Acct Summary 7-8'!H57","v":630282},0,"OK"]
[7599,108546,{"$f":"'Acct Summary 7-8'!C59","v":108546},0,"OK"]
[7600,0,{"$f":"'Acct Summary 7-8'!D59","v":0},0,"OK"]
[7601,0,{"$f":"'Acct Summary 7-8'!H59","v":0},0,"OK"]
[7602,425347,{"$f":"'Acct Summary 7-8'!C60","v":425347},0,"OK"]
[7603,464224,{"$f":"'Acct Summary 7-8'!D60","v":464224},0,"OK"]
[7604,18067,{"$f":"'Acct Summary 7-8'!H60","v":18067},0,"OK"]
[7605,885616,{"$f":"'Acct Summary 7-8'!C61","v":885616},0,"OK"]
[7606,653295,{"$f":"'Acct Summary 7-8'!D61","v":653295},0,"OK"]
[7607,17118,{"$f":"'Acct Summary 7-8'!H61","v":17118},0,"OK"]
[7608,820000,{"$f":"'Acct Summary 7-8'!C63","v":820000},0,"OK"]
[7609,70000,{"$f":"'Acct Summary 7-8'!D63","v":70000},0,"OK"]
[7610,2801120,{"$f":"'Acct Summary 7-8'!C64","v":2801120},0,"OK"]
[7611,3770586,{"$f":"'Acct Summary 7-8'!D64","v":3770586},0,"OK"]
[7612,11789305,{"$f":"'Acct Summary 7-8'!C65","v":11789305},0,"OK"]
[7613,22853852,{"$f":"'Acct Summary 7-8'!D65","v":22853852},{"$f":"B7620-C7620","v":0},"OK"]
[7614,887375,{"$f":"'Acct Summary 7-8'!C67","v":887375},0,"OK"]
[7615,371800,{"$f":"'Acct Summary 7-8'!D67","v":371800},0,"OK"]
[7616,463920,{"$f":"'Acct Summary 7-8'!C68","v":463920},0,"OK"]
[7617,2369829,{"$f":"'Acct Summary 7-8'!D68","v":2369829},0,{"$f":"IF((D7624 = 0),\"OK\",IF((D7624<-5),\"CHECK ME!\",IF((D7624>5),\"Check Me!\",\"OK\")))","v":"OK"}]
[7618,3042976,{"$f":"'Acct Summary 7-8'!C69","v":3042976},0,"OK"]
[7619,7448836,{"$f":"'Acct Summary 7-8'!D69","v":7448836},0,"OK"]
[7620,0,{"$f":"'Acct Summary 7-8'!C71","v":0},0,"OK"]
[7621,0,{"$f":"'Acct Summary 7-8'!D71","v":0},0,"OK"]
[7622,32407815,{"$f":"'Acct Summary 7-8'!C72","v":32407815},0,"OK"]
[7623,3392915,{"$f":"'Acct Summary 7-8'!D72","v":3392915},0,"OK"]
[7624,87653246,{"$f":"'Acct Summary 7-8'!C73","v":87653246},0,"OK"]
[7625,267738782,{"$f":"'Acct Summary 7-8'!D73","v":267738782},0,"OK"]
[7626,4448512,{"$f":"'Revenues 9-14'!C196","v":4448512},0,"OK"]
[7627,0,{"$f":"'Expenditures 15-22'!C328","v":0},0,"OK"]
[7628,101479,{"$f":"'Expenditures 15-22'!D328","v":101479},0,"OK"]
[7629,17680376,{"$f":"'Expenditures 15-22'!E328","v":17680376},0,"OK"]
[7630,0,{"$f":"'Expenditures 15-22'!F328","v":0},0,"OK"]
[7631,8140,{"$f":"'Expenditures 15-22'!G328","v":8140},0,"OK"]
[7632,0,{"$f":"'Expenditures 15-22'!H328","v":0},0,"OK"]
[7633,0,{"$f":"'Expenditures 15-22'!I328","v":0},0,"OK"]
[7634,0,{"$f":"'Expenditures 15-22'!J328","v":0},0,"OK"]
[7635,17789995,{"$f":"'Expenditures 15-22'!K328","v":17789995},0,"OK"]
[7636,0,{"$f":"'Expenditures 15-22'!C329","v":0},0,"OK"]
[7637,0,{"$f":"'Expenditures 15-22'!D329","v":0},0,"OK"]
[7638,1157443,{"$f":"'Expenditures 15-22'!E329","v":1157443},0,"OK"]
[7639,0,{"$f":"'Expenditures 15-22'!F329","v":0},0,"OK"]
[7640,0,{"$f":"'Expenditures 15-22'!G329","v":0},0,"OK"]
[7641,0,{"$f":"'Expenditures 15-22'!H329","v":0},0,"OK"]
[7642,0,{"$f":"'Expenditures 15-22'!I329","v":0},0,"OK"]
[7643,0,{"$f":"'Expenditures 15-22'!J329","v":0},0,"OK"]
[7644,1157443,{"$f":"'Expenditures 15-22'!K329","v":1157443},0,"OK"]
[7645,892508,{"$f":"'Revenues 9-14'!H167","v":892508},0,"OK"]
[7646,174794,{"$f":"'Expenditures 15-22'!I64","v":174794},0,"OK"]
[7647,61220525,{"$f":"'Rest Tax Levies-Tort Im 25'!J3","v":61220525},0,"OK"]
[7648,4953186,{"$f":"'Rest Tax Levies-Tort Im 25'!K3","v":4953186},0,"OK"]
[7649,607024.47,{"$f":"'Rest Tax Levies-Tort Im 25'!J6","v":607024.47},0,"OK"]
[7650,140271,{"$f":"'Rest Tax Levies-Tort Im 25'!K6","v":140271},0,"OK"]
[7651,7647179,{"$f":"'Rest Tax Levies-Tort Im 25'!K7","v":7647179},0,"OK"]
[7652,111588421.7,{"$f":"'Rest Tax Levies-Tort Im 25'!J8","v":111588421.7},0,"OK"]
[7653,14389894,{"$f":"'Rest Tax Levies-Tort Im 25'!K9","v":14389894},0,"OK"]
[7654,3373025,{"$f":"'Rest Tax Levies-Tort Im 25'!J10","v":3373025},0,"OK"]
[7655,370087,{"$f":"'Rest Tax Levies-Tort Im 25'!K10","v":370087},0,"OK"]
[7656,20143387,{"$f":"'Rest Tax Levies-Tort Im 25'!J11","v":20143387},0,"OK"]
[7657,135711858.17000002,{"$f":"'Rest Tax Levies-Tort Im 25'!J12","v":135711858.17000002},0,"OK"]
[7658,22547431,{"$f":"'Rest Tax Levies-Tort Im 25'!K12","v":22547431},0,"OK"]
[7659,448686861,{"$f":"'Rest Tax Levies-Tort Im 25'!H14","v":448686861},0,"OK"]
[7660,21467961,{"$f":"'Rest Tax Levies-Tort Im 25'!K14","v":21467961},0,"OK"]
[7661,62063969.879999995,{"$f":"'Rest Tax Levies-Tort Im 25'!J15","v":62063969.879999995},0,"OK"]
[7662,205626,{"$f":"'Rest Tax Levies-Tort Im 25'!K15","v":205626},0,"OK"]
[7663,25157069,{"$f":"'Rest Tax Levies-Tort Im 25'!J18","v":25157069},0,"OK"]
[7664,51169199,{"$f":"'Rest Tax Levies-Tort Im 25'!J19","v":51169199},0,"OK"]
[7665,139281,{"$f":"'Rest Tax Levies-Tort Im 25'!J20","v":139281},0,"OK"]
[7666,76465549,{"$f":"'Rest Tax Levies-Tort Im 25'!J21","v":76465549},0,"OK"]
[7667,42269835,{"$f":"'Revenues 9-14'!E103","v":42269835},0,"OK"]
[7668,447498,{"$f":"'Rest Tax Levies-Tort Im 25'!K22","v":447498},0,"OK"]
[7669,139612977.88,{"$f":"'Rest Tax Levies-Tort Im 25'!J23","v":139612977.88},0,"OK"]
[7670,82634273,{"$f":"'Revenues 9-14'!H103","v":82634273},0,"OK"]
[7671,57319405.289999999,{"$f":"'Rest Tax Levies-Tort Im 25'!J24","v":57319405.290000021},0,"OK"]
[7672,5379532,{"$f":"'Rest Tax Levies-Tort Im 25'!K24","v":5379532},0,"OK"]
[7673,177686,{"$f":"'Rest Tax Levies-Tort Im 25'!G25","v":177686},0,"OK"]
[7674,54806,{"$f":"'Rest Tax Levies-Tort Im 25'!H25","v":54806},0,"OK"]
[7675,0,{"$f":"'Rest Tax Levies-Tort Im 25'!I25","v":0},0,"OK"]
[7676,37699212,{"$f":"'Rest Tax Levies-Tort Im 25'!J25","v":37699212},0,"OK"]
[7677,231810,{"$f":"'Rest Tax Levies-Tort Im 25'!K25","v":231810},{"$f":"B7684-C7684","v":0},"OK"]
[7678,454931,{"$f":"'Rest Tax Levies-Tort Im 25'!G26","v":454931},0,"OK"]
[7679,267367,{"$f":"'Rest Tax Levies-Tort Im 25'!H26","v":267367},0,"OK"]
[7680,0,{"$f":"'Rest Tax Levies-Tort Im 25'!I26","v":0},0,"OK"]
[7681,19620193.289999999,{"$f":"'Rest Tax Levies-Tort Im 25'!J26","v":19620193.290000021},0,{"$f":"IF((D7688 = 0),\"OK\",IF((D7688<-5),\"CHECK ME!\",IF((D7688>5),\"Check Me!\",\"OK\")))","v":"OK"}]
[7682,5147722,{"$f":"'Rest Tax Levies-Tort Im 25'!K26","v":5147722},0,"OK"]
[7683,0,null,0,"OK"]
[7684,196110,{"$f":"'Expenditures 15-22'!H364","v":196110},0,"OK"]
[7685,196110,{"$f":"'Expenditures 15-22'!K364","v":196110},0,"OK"]
[7686,48118981,{"$f":"'Revenues 9-14'!E266","v":48118981},0,"OK"]
[7687,48227005,{"$f":"'Acct Summary 7-8'!C25","v":48227005},0,"OK"]
[7688,158953848,{"$f":"'Acct Summary 7-8'!D25","v":158953848},0,"OK"]
[7689,4082213,{"$f":"'Acct Summary 7-8'!E25","v":4082213},0,"OK"]
[7690,10639900,{"$f":"'Acct Summary 7-8'!F25","v":10639900},0,"OK"]
[7691,155000,{"$f":"'Acct Summary 7-8'!G25","v":155000},0,"OK"]
[7692,128248065,{"$f":"'Acct Summary 7-8'!H25","v":128248065},0,"OK"]
[7693,1515886,{"$f":"'Acct Summary 7-8'!J25","v":1515886},0,"OK"]
[7694,1128845,{"$f":"'Acct Summary 7-8'!K25","v":1128845},0,"OK"]
[7695,0]
[7696,0]
[7697,46360541.000000015,null,46360541.000000015,null,"Audit Quest"]
[7698,88693882.829999998,null,88693882.829999998,null,"Audit Quest"]
[7699,135054423.83000001,null,135054423.83000001,null,"Audit Quest"]
[7700,0,{"$f":"'Revenues 9-14'!C253","v":0},0,"OK"]
[7701,748312161,{"$f":"'Expenditures 15-22'!E6","v":748312161},0,"OK"]
[7702,748312161,{"$f":"'Expenditures 15-22'!K6","v":748312161},0,"OK"]
[7703,0,{"$f":"'Revenues 9-14'!F58","v":0},0,"OK"]
[7704,12805243,{"$f":"'Revenues 9-14'!C254","v":12805243},0,"OK"]
[7705,0,{"$f":"'Revenues 9-14'!D254","v":0},0,"OK"]
[7706,0]
[7707,26232,{"$f":"'Revenues 9-14'!F254","v":26232},0,"OK"]
[7708,38951,{"$f":"'Revenues 9-14'!G254","v":38951},0,"OK"]
[7709,0]
[7710,0]
[7711,0]
[7712,1083459,{"$f":"'Rest Tax Levies-Tort Im 25'!J22","v":1083459},0,"OK"]
[7713,510000,{"$f":"'Expenditures 15-22'!E133","v":510000},0,"OK"]
[7714,17645,{"$f":"'Expenditures 15-22'!H133","v":17645},0,"OK"]
[7715,527645,{"$f":"'Expenditures 15-22'!K133","v":527645},0,"OK"]
[7716,99410,{"$f":"'Expenditures 15-22'!H157","v":99410},0,"OK"]
[7717,99410,{"$f":"'Expenditures 15-22'!K157","v":99410},0,"OK"]
[7718,0,{"$f":"'Expenditures 15-22'!H158","v":0},0,"OK"]
[7719,0,{"$f":"'Expenditures 15-22'!K158","v":0},0,"OK"]
[7720,6186,{"$f":"'Expenditures 15-22'!H159","v":6186},0,"OK"]
[7721,6186,{"$f":"'Expenditures 15-22'!K159","v":6186},0,"OK"]
[7722,234451,{"$f":"'Expenditures 15-22'!D282","v":234451},0,"OK"]
[7723,234451,{"$f":"'Expenditures 15-22'!K282","v":234451},0,"OK"]
[7724,488969,{"$f":"'Expenditures 15-22'!H332","v":488969},0,"OK"]
[7725,488969,{"$f":"'Expenditures 15-22'!K332","v":488969},0,"OK"]
[7726,317631,{"$f":"'Expenditures 15-22'!H333","v":317631},0,"OK"]
[7727,317631,{"$f":"'Expenditures 15-22'!K333","v":317631},0,"OK"]
[7728,806600,{"$f":"'Expenditures 15-22'!H334","v":806600},0,"OK"]
[7729,806600,{"$f":"'Expenditures 15-22'!K334","v":806600},0,"OK"]
[7730,0,{"$f":"'Expenditures 15-22'!H354","v":0},0,"OK"]
[7731,0,{"$f":"'Expenditures 15-22'!K354","v":0},0,"OK"]
[7732,0,{"$f":"'Expenditures 15-22'!H355","v":0},0,"OK"]
[7733,0,{"$f":"'Expenditures 15-22'!K355","v":0},0,"OK"]
[7734,0,{"$f":"'Expenditures 15-22'!E138","v":0},0,"OK"]
[7735,806600,{"$f":"'Expenditures 15-22'!K334","v":806600},0,"OK"]
[7736,1026619868.1400999]
[7737,112515368.2]
[7738,-4054096280.7099996]
[7739,22121085,{"$f":"'Rest Tax Levies-Tort Im 25'!K23","v":22121085},{"$f":"B7746-C7746","v":0},{"$f":"IF((D7746 = 0),\"OK\",IF((D7746<-5),\"CHECK ME!\",IF((D7746>5),\"Check Me!\",\"OK\")))","v":"OK"}]
[7740,0,{"$f":"'Revenues 9-14'!C120","v":0},0,"OK"]
[7741,0,{"$f":"'Revenues 9-14'!D120","v":0},0,"OK"]
[7742,0,{"$f":"'Revenues 9-14'!E120","v":0},0,"OK"]
[7743,0,{"$f":"'Revenues 9-14'!F120","v":0},0,"OK"]
[7744,0,{"$f":"'Revenues 9-14'!G120","v":0},0,"OK"]
[7745,0,{"$f":"'Revenues 9-14'!H120","v":0},0,"OK"]
[7746,0,{"$f":"'Revenues 9-14'!J120","v":0},0,"OK"]
[7747,0,{"$f":"'Revenues 9-14'!K120","v":0},0,"OK"]
[7748,5019,{"$f":"'Revenues 9-14'!C261","v":5019},0,"OK"]
[7749,0,{"$f":"'Revenues 9-14'!D261","v":0},0,"OK"]
[7750,0,{"$f":"'Revenues 9-14'!F261","v":0},0,"OK"]
[7751,0,{"$f":"'Revenues 9-14'!G261","v":0},0,"OK"]
[7752,106287,{"$f":"'Revenues 9-14'!C262","v":106287},0,"OK"]
[7753,49316,{"$f":"'Revenues 9-14'!D262","v":49316},0,"OK"]
[7754,0,{"$f":"'Revenues 9-14'!F262","v":0},0,"OK"]
[7755,0,{"$f":"'Revenues 9-14'!G262","v":0},0,"OK"]
[7756,19510827151,{"$f":"'Short-Term Long-Term Debt 24'!C49","v":19510827151},0,"OK"]
[7757,814021082.97000003,{"$f":"'PCTC-OEPP 27-28'!F171","v":814021082.97000003},0,"OK"]
[7758,104699608.98,{"$f":"'PCTC-OEPP 27-28'!F172","v":104699608.98},0,"OK"]

{"sheet":"Crete Monee Totals 5-8","index":16,"n_rows":868,"n_cols":2,"rows_kept":868,"cut":false,"hidden":true,"merged":[]}
["txtFieldNum","56099201U26"]
[4,14334347]
[16,30629001]
[25,1730566]
[27,14116446]
[30,19605234]
[31,10953856]
[32,30629001]
[36,2132081]
[47,7695]
[48,6490423]
[58,2116742]
[61,2412088]
[62,4078335]
[63,6490423]
[65,5919005]
[70,10344951]
[73,5876423]
[78,5876423]
[79,4468528]
[80,10344951]
[84,1952358]
[96,10904127]
[103,287]
[105,1938312]
[108,2072761]
[109,8831366]
[110,10904127]
[112,949264]
[119,2459258]
[123,164204]
[124,942434]
[127,1106685]
[128,1352573]
[129,2459258]
[142,3513685]
[150,1090022]
[151,2423663]
[152,3513685]
[212,2491235]
[213,116080449]
[215,3274556]
[218,121846240]
[219,121846240]
[220,121846240]
[221,4468528]
[222,88543477]
[223,93012005]
[224,93012005]
[226,93012005]
[227,93012005]
[644,15639539]
[656,14262]
[657,1217562]
[658,72722]
[659,24516748]
[660,716700]
[661,545674]
[662,407918]
[663,552677]
[664,925333]
[665,122631]
[666,3270933]
[667,536529]
[668,166571]
[670,703100]
[672,422769]
[673,422769]
[674,2283482]
[675,975580]
[676,3259062]
[677,210941]
[678,356891]
[679,454017]
[681,783586]
[684,1805435]
[686,125637]
[687,279819]
[688,450916]
[690,645901]
[692,1502273]
[693,18334]
[694,10981906]
[695,34607]
[696,35533261]
[702,1836213]
[715,15165]
[716,1383]
[717,4137422]
[718,99797]
[719,85298]
[720,76979]
[721,33060]
[722,95944]
[723,8178]
[724,399256]
[725,72814]
[726,36656]
[728,109470]
[729,10087]
[730,59684]
[731,211742]
[732,596206]
[733,271224]
[734,867430]
[735,46656]
[736,39231]
[737,120654]
[739,161667]
[742,368208]
[744,20875]
[745,41714]
[746,71989]
[748,103882]
[750,238460]
[752,2194566]
[753,628]
[754,6332616]
[760,53466]
[767,1260]
[773,139303]
[775,971343]
[777,2926]
[778,2538]
[779,1113]
[780,178]
[782,6755]
[783,291050]
[784,14090]
[785,116748]
[786,421888]
[787,412094]
[788,4873]
[789,1105122]
[790,4180]
[791,300]
[792,4480]
[793,56480]
[794,12739]
[795,129880]
[797,6817]
[800,205916]
[803,42327]
[804,117631]
[806,1477224]
[808,1637182]
[810,3381343]
[811,263488]
[812,4616174]
[818,734213]
[825,2557]
[831,107889]
[832,215]
[833,1599137]
[834,26645]
[835,11465]
[836,4043]
[837,20500]
[840,62653]
[841,21204]
[842,8711]
[843,44930]
[844,74845]
[845,23077]
[846,4025]
[847,27102]
[848,32975]
[849,4855]
[850,37830]
[851,43726]
[852,11098]
[853,114]
[855,1003597]
[858,1058535]
[861,23291]
[862,92459]
[864,476423]
[866,592173]
[867,331]
[868,1853469]
[869,51681]
[870,3504287]
[876,43455]
[889,20260]
[891,79768]
[912,62053]
[916,62053]
[922,10747]
[924,10747]
[926,72800]
[928,152568]
[934,4414]
[947,37763]
[949,2535379]
[957,2741]
[960,2741]
[961,19941]
[962,-4506]
[963,15435]
[964,4206]
[966,4206]
[967,370]
[971,3533]
[974,3903]
[977,790]
[978,3846]
[980,556]
[982,5192]
[984,31477]
[985,1081]
[986,1180976]
[993,3748952]
[1032,18336539]
[1039,3817]
[1044,14262]
[1045,1539513]
[1046,74320]
[1047,33949825]
[1048,843142]
[1049,645363]
[1050,530322]
[1051,607350]
[1052,1021455]
[1053,130809]
[1054,3778441]
[1055,924338]
[1056,226028]
[1057,161678]
[1058,1312044]
[1059,465199]
[1060,486845]
[1061,1782170]
[1062,2921870]
[1063,1251959]
[1064,4173829]
[1065,655009]
[1066,422612]
[1067,704665]
[1068,62053]
[1069,1989935]
[1072,3834274]
[1074,146512]
[1075,387941]
[1076,738654]
[1078,3876962]
[1080,5150069]
[1081,18665]
[1082,20049492]
[1083,353255]
[1084,1180976]
[1091,55533587]
[1092,-3388167]
[1160,1716883]
[1162,1716883]
[1164,1716883]
[1165,1716883]
[1168,373015]
[1170,373015]
[1172,373015]
[1173,373015]
[1176,882789]
[1178,882789]
[1180,882789]
[1181,882789]
[1184,1149873]
[1186,1149873]
[1188,1149873]
[1189,1149873]
[1192,150313]
[1195,150313]
[1197,150313]
[1198,150313]
[1201,2117]
[1203,2117]
[1205,2117]
[1212,2117]
[1215,4302232]
[1218,4302232]
[1220,4302232]
[1227,4302232]
[1228,4942]
[1246,725]
[1247,725]
[1248,725]
[1251,1200978]
[1254,10491392]
[1256,11692370]
[1257,11692370]
[1265,1200978]
[1268,10491392]
[1269,725]
[1270,11693095]
[1271,11693095]
[1272,28738]
[1274,333807]
[1278,333807]
[1279,333807]
[1280,26214]
[1284,26214]
[1285,26214]
[1286,5860429]
[1290,5860429]
[1292,5860429]
[1316,6220450]
[1320,6220450]
[1327,6220450]
[1328,1739001]
[1346,1188]
[1347,42200]
[1348,4150]
[1349,736524]
[1350,18906]
[1351,16682]
[1352,66111]
[1353,6170]
[1354,12829]
[1355,15870]
[1356,136568]
[1357,34000]
[1358,19007]
[1360,53007]
[1362,18175]
[1363,18175]
[1364,134318]
[1365,14019]
[1366,148337]
[1367,11297]
[1368,58582]
[1370,345253]
[1371,17280]
[1372,128888]
[1375,561300]
[1377,1818]
[1378,42756]
[1379,50002]
[1381,106010]
[1383,200586]
[1384,2971]
[1385,1120944]
[1386,834]
[1387,1858302]
[1410,1188]
[1411,42200]
[1412,4150]
[1413,736524]
[1414,18906]
[1415,16682]
[1416,66111]
[1417,6170]
[1418,12829]
[1419,15870]
[1420,136568]
[1421,34000]
[1422,19007]
[1424,53007]
[1426,18175]
[1427,18175]
[1428,134318]
[1429,14019]
[1430,148337]
[1431,11297]
[1432,58582]
[1434,345253]
[1435,17280]
[1436,128888]
[1439,561300]
[1441,1818]
[1442,42756]
[1443,50002]
[1445,106010]
[1447,200586]
[1448,2971]
[1449,1120944]
[1450,834]
[1456,1858302]
[1457,94299]
[1470,233026]
[1474,233026]
[1475,233026]
[1482,186945]
[1486,186945]
[1487,186945]
[1494,419971]
[1498,419971]
[1499,419971]
[1500,-392962]
[1556,14507510]
[1569,11023767]
[1570,4073393]
[1583,4078335]
[1584,4344214]
[1597,4468528]
[1598,7092365]
[1611,8831366]
[1612,1204907]
[1625,1352573]
[1626,2816625]
[1639,2423663]
[1683,23208768]
[1684,4222290]
[1685,11660935]
[1686,4007220]
[1687,940697]
[1688,222312]
[1692,4573]
[1693,4212794]
[1698,49420285]
[1699,11079700]
[1700,2077688]
[1701,5707168]
[1702,2043397]
[1703,463278]
[1704,138473]
[1708,1371]
[1709,2078090]
[1714,24052442]
[1715,12129068]
[1716,2144602]
[1717,5953767]
[1718,1963823]
[1719,477419]
[1720,83839]
[1724,3202]
[1725,2134704]
[1730,25367843]
[1731,12302568]
[1732,2175279]
[1733,6038932]
[1734,1991915]
[1735,484249]
[1736,85039]
[1740,3248]
[1741,2165240]
[1746,25730719]
[1747,24431636]
[1748,4319881]
[1749,11992699]
[1750,3955738]
[1751,961668]
[1752,168878]
[1756,6450]
[1757,4299944]
[1762,51098562]
[1878,98664289]
[1912,4212794]
[1916,4212794]
[1921,4212794]
[1947,2491235]
[1948,111393707]
[1949,4123638]
[1951,3014850]
[1952,121023430]
[1954,489424]
[1955,73680]
[1957,259706]
[1958,822810]
[1965,2491235]
[1966,111883131]
[1967,4197318]
[1969,3274556]
[1970,121846240]
[1972,30826307]
[1973,2907054]
[1975,2520565]
[1976,36253926]
[1978,2178438]
[1979,135973]
[1981,163067]
[1982,2477478]
[1990,33004745]
[1991,3043027]
[1993,2683632]
[1994,38731404]
[1995,2491235]
[1996,78878386]
[1997,1154291]
[1999,590924]
[2000,83114836]
[2028,1180976]
[2374,69911]
[2490,30044125]
[2492,17440730]
[2493,4660565]
[2494,52145420]
[2495,33949825]
[2496,20049492]
[2497,353255]
[2498,1180976]
[2499,39]
[2500,55533587]
[2501,-3388167]
[2503,4307174]
[2507,4307174]
[2508,4302232]
[2512,4302232]
[2513,4942]
[2530,4102404]
[2532,3857047]
[2534,7959451]
[2535,6220450]
[2539,6220450]
[2540,1739001]
[2542,1952601]
[2545,1952601]
[2546,736524]
[2547,1120944]
[2548,834]
[2551,1858302]
[2552,94299]
[2553,53367]
[2569,11721833]
[2571,11721833]
[2573,11693095]
[2574,11693095]
[2575,28738]
[2594,27009]
[2597,27009]
[2598,419971]
[2600,419971]
[2601,-392962]
[2819,83350]
[2827,1308756]
[2834,302818]
[2847,82750]
[2849,82750]
[2851,1226006]
[2852,1308756]
[2853,302818]
[2855,302818]
[2856,302818]
[2994,94750]
[2995,22529]
[2996,148580]
[2997,683673]
[3001,1017838]
[3003,1384]
[3004,1384]
[3164,236522]
[3165,236522]
[3166,236522]
[3170,95576]
[3171,-95576]
[3172,-3483743]
[3178,4942]
[3195,1739001]
[3201,94299]
[3212,95576]
[3213,95576]
[3216,95576]
[3217,124314]
[3239,-392962]
[3259,236522]
[3260,989484]
[3262,1226006]
[3305,6481433]
[3306,307553]
[3307,2087160]
[3308,62880]
[3309,584787]
[3311,36028]
[3315,45843]
[3319,9250092]
[3320,370433]
[3326,240448]
[3327,402959]
[3328,13496]
[3329,240448]
[3330,402959]
[3331,13496]
[3350,15466754]
[3353,4350647]
[3356,4425946]
[3358,7968996]
[3361,1509994]
[3364,3513685]
[3366,1225406]
[3374,302818]
[3385,940696]
[3386,463277]
[3387,477419]
[3388,484249]
[3389,961668]
[3485,19701]
[3487,3183]
[3491,22884]
[3501,3160]
[3504,3160]
[3506,19724]
[3507,22884]
[3508,6515]
[3510,6515]
[3515,6515]
[3527,6515]
[3528,13209]
[3530,19724]
[3620,6515]
[3669,1003597]
[4052,22642632]
[4061,74788052]
[4062,4307174]
[4063,11721833]
[4064,7959451]
[4065,1952601]
[4066,27009]
[4067,236522]
[4069,6515]
[4070,22642632]
[4075,78176219]
[4076,4302232]
[4077,11693095]
[4078,6220450]
[4079,1858302]
[4080,419971]
[4110,93012005]
[4111,88543477]
[4112,10491392]
[4116,4839108]
[4204,4166.5]
[4205,736.7]
[4206,674.6]
[4207,5578]
[4208,25159474]
[4270,9405]
[4283,26700]
[4297,172030]
[4301,332648]
[4354,11000]
[4357,97149]
[4376,28.8]
[4731,3013]
[4934,586382720]
[4935,80920815.359999999]
[4936,93012005]
[5000,23208768]
[5002,4212794]
[5005,27421562]
[5006,36741]
[5008,852974]
[5010,889715]
[5014,3952]
[5026,3952]
[5027,134493]
[5029,134493]
[5034,16690]
[5035,491252]
[5036,17175]
[5038,43196]
[5040,784]
[5041,61155]
[5042,310149]
[5045,3185]
[5049,8414]
[5051,321748]
[5055,689283]
[5058,9490]
[5059,720248]
[5060,30044125]
[5065,15597626]
[5071,15597626]
[5072,543788]
[5076,734359]
[5078,17746]
[5086,1295893]
[5091,48137]
[5100,48137]
[5102,18364]
[5104,18364]
[5106,21462]
[5107,55758]
[5135,400477]
[5153,1843104]
[5162,17440730]
[5178,1487305]
[5180,434363]
[5185,1931073]
[5186,1207577]
[5199,1207577]
[5213,42508]
[5217,811164]
[5218,28716]
[5225,882388]
[5243,26700]
[5259,4660565]
[5265,4660565]
[5266,52145420]
[5267,4222290]
[5273,4222290]
[5274,5804]
[5278,5804]
[5279,20689]
[5281,20689]
[5288,24670]
[5293,33721]
[5294,58391]
[5295,4307174]
[5447,4307174]
[5448,11660935]
[5452,11660935]
[5453,15942]
[5457,15942]
[5458,44956]
[5460,44956]
[5466,11721833]
[5491,11721833]
[5492,4007220]
[5496,4007220]
[5497,5710]
[5501,5710]
[5502,271]
[5503,7971]
[5518,8242]
[5519,81232]
[5521,81232]
[5527,4102404]
[5554,1867072]
[5556,1989975]
[5557,3857047]
[5583,3857047]
[5592,3857047]
[5659,7959451]
[5660,940697]
[5662,940696]
[5664,1881393]
[5665,1294]
[5667,50000]
[5669,51294]
[5670,19914]
[5672,19914]
[5809,1952601]
[5818,4045]
[5820,4045]
[5825,22964]
[5854,27009]
[5855,222312]
[5857,222312]
[5858,7]
[5862,7]
[5863,14203]
[5865,14203]
[5885,236522]
[5924,4573]
[5926,4573]
[5927,1683]
[5931,1683]
[5932,259]
[5934,259]
[5962,6515]
[5963,1952601]
[5964,27009]
[5965,236522]
[5967,6515]
[5970,474562]
[5974,219161]
[6013,4351.46]
[6029,757989]
[6032,982773]
[6052,69911]
[6081,1143507]
[6082,291145]
[6084,134154]
[6085,47]
[6086,1090022]
[6108,2614715]
[6109,4201]
[6111,8]
[6191,95576]
[6206,-3483743]
[6207,4942]
[6208,124314]
[6209,1739001]
[6210,147666]
[6211,-392962]
[6212,236522]
[6214,6515]
[6215,-0.31602110240537601]
[6216,1.21176901848426E-3]
[6217,2.7819899528435301E-2]
[6218,0.19691189335828699]
[6219,0.109174144389989]
[6220,-0.1621355774297]
[6221,0.192920752426987]
[6222,-2146826281]
[6223,0.33030825390387297]
[6264,22964]
[6278,21475]
[6666,102466]
[6783,13160]
[6784,12079]
[6787,119212]
[6788,14841]
[6790,71]
[6792,621225]
[6793,68306]
[6803,1571]
[6810,155215]
[6819,2447359]
[6820,2447359]
[6841,96378]
[6842,13650]
[6847,38844]
[6855,38844]
[6872,141971]
[6873,688155]
[6879,830126]
[6884,821]
[6888,821]
[6889,296836]
[6892,2653]
[6897,30735]
[6900,327571]
[6901,2653]
[6909,1813]
[6910,1155489]
[6911,6740]
[6912,1155489]
[6913,8553]
[6916,1521904]
[6917,12027]
[6918,1770]
[6922,787560]
[6923,787560]
[6926,157500]
[6927,157500]
[6928,235916]
[6929,235916]
[6934,1180976]
[6955,39]
[6956,39]
[6957,39]
[6958,39]
[6959,1620052]
[6960,25677]
[6967,25575]
[6968,1667]
[6972,25575]
[6973,1667]
[6976,25575]
[6977,1667]
[6990,25575]
[6991,1667]
[7012,1419]
[7013,1419]
[7014,27567]
[7015,27567]
[7018,1713]
[7019,1713]
[7185,15775]
[7186,67]
[7187,904]
[7190,459843]
[7191,89035]
[7192,41468]
[7193,30808]
[7202,126618]
[7203,7282]
[7204,2412]
[7205,2850]
[7206,16053]
[7563,1645627]
[7564,164562.70000000001]
[7570,2642040.7000000002]
[7651,21475]
[7653,55758]
[7658,77233]
[7659,4212794]
[7660,77233]
[7698,1116167]
[7699,1116167]

{"sheet":"Data Pull totals 5-8","index":17,"n_rows":2407,"n_cols":6,"rows_kept":2407,"cut":false,"hidden":true,"merged":[]}
["txtFieldNum","2018","Crete Monee","5-7 data w/o Crete","5/7 data","variance"]
[4,4463715231,{"$f":"VLOOKUP(A2,'Crete Monee Totals 5-8'!A:B,2,0)","v":14334347},{"$f":"SUM(B2-C2)","v":4449380884},{"$f":"VLOOKUP(A2,'AFR19'!A:K,12,0)","v":{"$error":"#REF!"}},{"$f":"SUM(D2-E2)","v":{"$error":"#REF!"}}]
[11,10965222,0,{"$f":"SUM(B3-C3)","v":10965222},{"$f":"VLOOKUP(A3,'AFR19'!A:K,12,0)","v":{"$error":"#REF!"}},{"$f":"SUM(D3-E3)","v":{"$error":"#REF!"}}]
[12,2085627941,0,2085627941,{"$f":"VLOOKUP(A4,'AFR19'!A:K,12,0)","v":{"$error":"#REF!"}},{"$error":"#REF!"}]
[15,8487467,0,8487467,{"$f":"VLOOKUP(A5,'AFR19'!A:K,12,0)","v":{"$error":"#REF!"}},{"$error":"#REF!"}]
[16,13634952265.32,{"$f":"VLOOKUP(A6,'Crete Monee Totals 5-8'!A:B,2,0)","v":30629001},13604323264.32,{"$f":"VLOOKUP(A6,'AFR19'!A:K,12,0)","v":{"$error":"#REF!"}},{"$error":"#REF!"}]
[25,114934456,{"$f":"VLOOKUP(A7,'Crete Monee Totals 5-8'!A:B,2,0)","v":1730566},113203890,{"$f":"VLOOKUP(A7,'AFR19'!A:K,12,0)","v":{"$error":"#REF!"}},{"$error":"#REF!"}]
[27,4530643413,{"$f":"VLOOKUP(A8,'Crete Monee Totals 5-8'!A:B,2,0)","v":14116446},4516526967,{"$f":"VLOOKUP(A8,'AFR19'!A:K,12,0)","v":{"$error":"#REF!"}},{"$error":"#REF!"}]
[30,6123509399,{"$f":"VLOOKUP(A9,'Crete Monee Totals 5-8'!A:B,2,0)","v":19605234},6103904165,{"$f":"VLOOKUP(A9,'AFR19'!A:K,12,0)","v":{"$error":"#REF!"}},{"$error":"#REF!"}]
[31,7266244447.5900002,{"$f":"VLOOKUP(A10,'Crete Monee Totals 5-8'!A:B,2,0)","v":10953856},7255290591.5900002,{"$f":"VLOOKUP(A10,'AFR19'!A:K,12,0)","v":{"$error":"#REF!"}},{"$error":"#REF!"}]
[32,13634952265.589998,{"$f":"VLOOKUP(A11,'Crete Monee Totals 5-8'!A:B,2,0)","v":30629001},13604323264.589998,{"$f":"VLOOKUP(A11,'AFR19'!A:K,12,0)","v":{"$error":"#REF!"}},{"$error":"#REF!"}]
[36,451223371,{"$f":"VLOOKUP(A12,'Crete Monee Totals 5-8'!A:B,2,0)","v":2132081},449091290,{"$f":"VLOOKUP(A12,'AFR19'!A:K,12,0)","v":{"$error":"#REF!"}},{"$error":"#REF!"}]
[43,98822,0,98822,{"$f":"VLOOKUP(A13,'AFR19'!A:K,12,0)","v":{"$error":"#REF!"}},{"$error":"#REF!"}]
[44,352727831,0,352727831,{"$f":"VLOOKUP(A14,'AFR19'!A:K,12,0)","v":{"$error":"#REF!"}},{"$error":"#REF!"}]
[47,817216,{"$f":"VLOOKUP(A15,'Crete Monee Totals 5-8'!A:B,2,0)","v":7695},809521,{"$f":"VLOOKUP(A15,'AFR19'!A:K,12,0)","v":{"$error":"#REF!"}},{"$error":"#REF!"}]
[48,2010879848.2,{"$f":"VLOOKUP(A16,'Crete Monee Totals 5-8'!A:B,2,0)","v":6490423},2004389425.2,{"$f":"VLOOKUP(A16,'AFR19'!A:K,12,0)","v":{"$error":"#REF!"}},{"$error":"#REF!"}]
[56,109272,0,109272,{"$f":"VLOOKUP(A17,'AFR19'!A:K,12,0)","v":{"$error":"#REF!"}},{"$error":"#REF!"}]
[58,535113520,{"$f":"VLOOKUP(A18,'Crete Monee Totals 5-8'!A:B,2,0)","v":2116742},532996778,{"$f":"VLOOKUP(A18,'AFR19'!A:K,12,0)","v":{"$error":"#REF!"}},{"$error":"#REF!"}]
[61,647818486,{"$f":"VLOOKUP(A19,'Crete Monee Totals 5-8'!A:B,2,0)","v":2412088},645406398,{"$f":"VLOOKUP(A19,'AFR19'!A:K,12,0)","v":{"$error":"#REF!"}},{"$error":"#REF!"}]
[62,1157229642.95,{"$f":"VLOOKUP(A20,'Crete Monee Totals 5-8'!A:B,2,0)","v":4078335},1153151307.95,{"$f":"VLOOKUP(A20,'AFR19'!A:K,12,0)","v":{"$error":"#REF!"}},{"$error":"#REF!"}]
[63,2010879847.95,{"$f":"VLOOKUP(A21,'Crete Monee Totals 5-8'!A:B,2,0)","v":6490423},2004389424.95,{"$f":"VLOOKUP(A21,'AFR19'!A:K,12,0)","v":{"$error":"#REF!"}},{"$error":"#REF!"}]
[65,458957980,{"$f":"VLOOKUP(A22,'Crete Monee Totals 5-8'!A:B,2,0)","v":5919005},453038975,{"$f":"VLOOKUP(A22,'AFR19'!A:K,12,0)","v":{"$error":"#REF!"}},{"$error":"#REF!"}]
[68,192660768,0,192660768,{"$f":"VLOOKUP(A23,'AFR19'!A:K,12,0)","v":{"$error":"#REF!"}},{"$error":"#REF!"}]
[69,13754738,0,13754738,{"$f":"VLOOKUP(A24,'AFR19'!A:K,12,0)","v":{"$error":"#REF!"}},{"$error":"#REF!"}]
[70,2129344853,{"$f":"VLOOKUP(A25,'Crete Monee Totals 5-8'!A:B,2,0)","v":10344951},2118999902,{"$f":"VLOOKUP(A25,'AFR19'!A:K,12,0)","v":{"$error":"#REF!"}},{"$error":"#REF!"}]
[73,466225040,{"$f":"VLOOKUP(A26,'Crete Monee Totals 5-8'!A:B,2,0)","v":5876423},460348617,{"$f":"VLOOKUP(A26,'AFR19'!A:K,12,0)","v":{"$error":"#REF!"}},{"$error":"#REF!"}]
[78,475182762,{"$f":"VLOOKUP(A27,'Crete Monee Totals 5-8'!A:B,2,0)","v":5876423},469306339,{"$f":"VLOOKUP(A27,'AFR19'!A:K,12,0)","v":{"$error":"#REF!"}},{"$error":"#REF!"}]
[79,617255521.88,{"$f":"VLOOKUP(A28,'Crete Monee Totals 5-8'!A:B,2,0)","v":4468528},612786993.88,{"$f":"VLOOKUP(A28,'AFR19'!A:K,12,0)","v":{"$error":"#REF!"}},{"$error":"#REF!"}]
[80,2129344852.8800001,{"$f":"VLOOKUP(A29,'Crete Monee Totals 5-8'!A:B,2,0)","v":10344951},2118999901.8800001,{"$f":"VLOOKUP(A29,'AFR19'!A:K,12,0)","v":{"$error":"#REF!"}},{"$error":"#REF!"}]
[84,161275392,{"$f":"VLOOKUP(A30,'Crete Monee Totals 5-8'!A:B,2,0)","v":1952358},159323034,{"$f":"VLOOKUP(A30,'AFR19'!A:K,12,0)","v":{"$error":"#REF!"}},{"$error":"#REF!"}]
[92,210291838,0,210291838,{"$f":"VLOOKUP(A31,'AFR19'!A:K,12,0)","v":{"$error":"#REF!"}},{"$error":"#REF!"}]
[95,188063,0,188063,{"$f":"VLOOKUP(A32,'AFR19'!A:K,12,0)","v":{"$error":"#REF!"}},{"$error":"#REF!"}]
[96,1219805434.4400001,{"$f":"VLOOKUP(A33,'Crete Monee Totals 5-8'!A:B,2,0)","v":10904127},1208901307.4400001,{"$f":"VLOOKUP(A33,'AFR19'!A:K,12,0)","v":{"$error":"#REF!"}},{"$error":"#REF!"}]
[103,661028,{"$f":"VLOOKUP(A34,'Crete Monee Totals 5-8'!A:B,2,0)","v":287},660741,{"$f":"VLOOKUP(A34,'AFR19'!A:K,12,0)","v":{"$error":"#REF!"}},{"$error":"#REF!"}]
[105,300149230,{"$f":"VLOOKUP(A35,'Crete Monee Totals 5-8'!A:B,2,0)","v":1938312},298210918,{"$f":"VLOOKUP(A35,'AFR19'!A:K,12,0)","v":{"$error":"#REF!"}},{"$error":"#REF!"}]
[108,359145224,{"$f":"VLOOKUP(A36,'Crete Monee Totals 5-8'!A:B,2,0)","v":2072761},357072463,{"$f":"VLOOKUP(A36,'AFR19'!A:K,12,0)","v":{"$error":"#REF!"}},{"$error":"#REF!"}]
[109,693404368.85000002,{"$f":"VLOOKUP(A37,'Crete Monee Totals 5-8'!A:B,2,0)","v":8831366},684573002.85000002,{"$f":"VLOOKUP(A37,'AFR19'!A:K,12,0)","v":{"$error":"#REF!"}},{"$error":"#REF!"}]
[110,1219805433.8499999,{"$f":"VLOOKUP(A38,'Crete Monee Totals 5-8'!A:B,2,0)","v":10904127},1208901306.8499999,{"$f":"VLOOKUP(A38,'AFR19'!A:K,12,0)","v":{"$error":"#REF!"}},{"$error":"#REF!"}]
[112,159360043,{"$f":"VLOOKUP(A39,'Crete Monee Totals 5-8'!A:B,2,0)","v":949264},158410779,{"$f":"VLOOKUP(A39,'AFR19'!A:K,12,0)","v":{"$error":"#REF!"}},{"$error":"#REF!"}]
[116,109853870,0,109853870,{"$f":"VLOOKUP(A40,'AFR19'!A:K,12,0)","v":{"$error":"#REF!"}},{"$error":"#REF!"}]
[118,22713,0,22713,{"$f":"VLOOKUP(A41,'AFR19'!A:K,12,0)","v":{"$error":"#REF!"}},{"$error":"#REF!"}]
[119,664059480.50999999,{"$f":"VLOOKUP(A42,'Crete Monee Totals 5-8'!A:B,2,0)","v":2459258},661600222.50999999,{"$f":"VLOOKUP(A42,'AFR19'!A:K,12,0)","v":{"$error":"#REF!"}},{"$error":"#REF!"}]
[123,5603839,{"$f":"VLOOKUP(A43,'Crete Monee Totals 5-8'!A:B,2,0)","v":164204},5439635,{"$f":"VLOOKUP(A43,'AFR19'!A:K,12,0)","v":{"$error":"#REF!"}},{"$error":"#REF!"}]
[124,175968464,{"$f":"VLOOKUP(A44,'Crete Monee Totals 5-8'!A:B,2,0)","v":942434},175026030,{"$f":"VLOOKUP(A44,'AFR19'!A:K,12,0)","v":{"$error":"#REF!"}},{"$error":"#REF!"}]
[127,195905778,{"$f":"VLOOKUP(A45,'Crete Monee Totals 5-8'!A:B,2,0)","v":1106685},194799093,{"$f":"VLOOKUP(A45,'AFR19'!A:K,12,0)","v":{"$error":"#REF!"}},{"$error":"#REF!"}]
[128,322261703.58000004,{"$f":"VLOOKUP(A46,'Crete Monee Totals 5-8'!A:B,2,0)","v":1352573},320909130.58000004,{"$f":"VLOOKUP(A46,'AFR19'!A:K,12,0)","v":{"$error":"#REF!"}},{"$error":"#REF!"}]
[129,664059480.58000004,{"$f":"VLOOKUP(A47,'Crete Monee Totals 5-8'!A:B,2,0)","v":2459258},661600222.58000004,{"$f":"VLOOKUP(A47,'AFR19'!A:K,12,0)","v":{"$error":"#REF!"}},{"$error":"#REF!"}]
[138,459294954,0,459294954,{"$f":"VLOOKUP(A48,'AFR19'!A:K,12,0)","v":{"$error":"#REF!"}},{"$error":"#REF!"}]
[141,34045,0,34045,{"$f":"VLOOKUP(A49,'AFR19'!A:K,12,0)","v":{"$error":"#REF!"}},{"$error":"#REF!"}]
[142,2640275571,{"$f":"VLOOKUP(A50,'Crete Monee Totals 5-8'!A:B,2,0)","v":3513685},2636761886,{"$f":"VLOOKUP(A50,'AFR19'!A:K,12,0)","v":{"$error":"#REF!"}},{"$error":"#REF!"}]
[145,9113,0,9113,{"$f":"VLOOKUP(A51,'AFR19'!A:K,12,0)","v":{"$error":"#REF!"}},{"$error":"#REF!"}]
[147,17494828,0,17494828,{"$f":"VLOOKUP(A52,'AFR19'!A:K,12,0)","v":{"$error":"#REF!"}},{"$error":"#REF!"}]
[150,188343915,{"$f":"VLOOKUP(A53,'Crete Monee Totals 5-8'!A:B,2,0)","v":1090022},187253893,{"$f":"VLOOKUP(A53,'AFR19'!A:K,12,0)","v":{"$error":"#REF!"}},{"$error":"#REF!"}]
[151,1212270301,{"$f":"VLOOKUP(A54,'Crete Monee Totals 5-8'!A:B,2,0)","v":2423663},1209846638,{"$f":"VLOOKUP(A54,'AFR19'!A:K,12,0)","v":{"$error":"#REF!"}},{"$error":"#REF!"}]
[152,2640275571,{"$f":"VLOOKUP(A55,'Crete Monee Totals 5-8'!A:B,2,0)","v":3513685},2636761886,{"$f":"VLOOKUP(A55,'AFR19'!A:K,12,0)","v":{"$error":"#REF!"}},{"$error":"#REF!"}]
[212,1324789248,{"$f":"VLOOKUP(A56,'Crete Monee Totals 5-8'!A:B,2,0)","v":2491235},1322298013,{"$f":"VLOOKUP(A56,'AFR19'!A:K,12,0)","v":{"$error":"#REF!"}},{"$error":"#REF!"}]
[213,35041727478.099998,{"$f":"VLOOKUP(A57,'Crete Monee Totals 5-8'!A:B,2,0)","v":116080449},34925647029.099998,{"$f":"VLOOKUP(A57,'AFR19'!A:K,12,0)","v":{"$error":"#REF!"}},{"$error":"#REF!"}]
[214,1971193145.51,0,1971193145.51,{"$f":"VLOOKUP(A58,'AFR19'!A:K,12,0)","v":{"$error":"#REF!"}},{"$error":"#REF!"}]
[215,3714249063,{"$f":"VLOOKUP(A59,'Crete Monee Totals 5-8'!A:B,2,0)","v":3274556},3710974507,{"$f":"VLOOKUP(A59,'AFR19'!A:K,12,0)","v":{"$error":"#REF!"}},{"$error":"#REF!"}]
[218,43113898681.610001,{"$f":"VLOOKUP(A60,'Crete Monee Totals 5-8'!A:B,2,0)","v":121846240},42992052441.610001,{"$f":"VLOOKUP(A60,'AFR19'!A:K,12,0)","v":{"$error":"#REF!"}},{"$error":"#REF!"}]
[219,43113898681.610001,{"$f":"VLOOKUP(A61,'Crete Monee Totals 5-8'!A:B,2,0)","v":121846240},42992052441.610001,{"$f":"VLOOKUP(A61,'AFR19'!A:K,12,0)","v":{"$error":"#REF!"}},{"$error":"#REF!"}]
[220,43113898681.610001,{"$f":"VLOOKUP(A62,'Crete Monee Totals 5-8'!A:B,2,0)","v":121846240},42992052441.610001,{"$f":"VLOOKUP(A62,'AFR19'!A:K,12,0)","v":{"$error":"#REF!"}},{"$error":"#REF!"}]
[221,1649628613,{"$f":"VLOOKUP(A63,'Crete Monee Totals 5-8'!A:B,2,0)","v":4468528},1645160085,{"$f":"VLOOKUP(A63,'AFR19'!A:K,12,0)","v":{"$error":"#REF!"}},{"$error":"#REF!"}]
[222,20000728898,{"$f":"VLOOKUP(A64,'Crete Monee Totals 5-8'!A:B,2,0)","v":88543477},19912185421,{"$f":"VLOOKUP(A64,'AFR19'!A:K,12,0)","v":{"$error":"#REF!"}},{"$error":"#REF!"}]
[223,21650357511,{"$f":"VLOOKUP(A65,'Crete Monee Totals 5-8'!A:B,2,0)","v":93012005},21557345506,{"$f":"VLOOKUP(A65,'AFR19'!A:K,12,0)","v":{"$error":"#REF!"}},{"$error":"#REF!"}]
[224,21650268294,{"$f":"VLOOKUP(A66,'Crete Monee Totals 5-8'!A:B,2,0)","v":93012005},21557256289,{"$f":"VLOOKUP(A66,'AFR19'!A:K,12,0)","v":{"$error":"#REF!"}},{"$error":"#REF!"}]
[226,21650268294,{"$f":"VLOOKUP(A67,'Crete Monee Totals 5-8'!A:B,2,0)","v":93012005},{"$f":"SUM(B67-C67)","v":21557256289},{"$f":"VLOOKUP(A67,'AFR19'!A:K,12,0)","v":{"$error":"#REF!"}},{"$f":"SUM(D67-E67)","v":{"$error":"#REF!"}}]
[227,21650268294,{"$f":"VLOOKUP(A68,'Crete Monee Totals 5-8'!A:B,2,0)","v":93012005},21557256289,{"$f":"VLOOKUP(A68,'AFR19'!A:K,12,0)","v":{"$error":"#REF!"}},{"$error":"#REF!"}]
[259,19734469,0,19734469,{"$f":"VLOOKUP(A69,'AFR19'!A:K,12,0)","v":{"$error":"#REF!"}},{"$error":"#REF!"}]
[260,5656749,0,5656749,{"$f":"VLOOKUP(A70,'AFR19'!A:K,12,0)","v":{"$error":"#REF!"}},{"$error":"#REF!"}]
[262,13385462,0,13385462,{"$f":"VLOOKUP(A71,'AFR19'!A:K,12,0)","v":{"$error":"#REF!"}},{"$error":"#REF!"}]
[263,24190,0,24190,{"$f":"VLOOKUP(A72,'AFR19'!A:K,12,0)","v":{"$error":"#REF!"}},{"$error":"#REF!"}]
[371,4568411,0,4568411,{"$f":"VLOOKUP(A73,'AFR19'!A:K,12,0)","v":{"$error":"#REF!"}},{"$error":"#REF!"}]
[439,116325619,0,116325619,{"$f":"VLOOKUP(A74,'AFR19'!A:K,12,0)","v":{"$error":"#REF!"}},{"$error":"#REF!"}]
[440,220808,0,220808,{"$f":"VLOOKUP(A75,'AFR19'!A:K,12,0)","v":{"$error":"#REF!"}},{"$error":"#REF!"}]
[557,956982138,0,956982138,{"$f":"VLOOKUP(A76,'AFR19'!A:K,12,0)","v":{"$error":"#REF!"}},{"$error":"#REF!"}]
[558,41601698,0,41601698,{"$f":"VLOOKUP(A77,'AFR19'!A:K,12,0)","v":{"$error":"#REF!"}},{"$error":"#REF!"}]
[559,575570,0,575570,{"$f":"VLOOKUP(A78,'AFR19'!A:K,12,0)","v":{"$error":"#REF!"}},{"$error":"#REF!"}]
[590,311901711,0,311901711,{"$f":"VLOOKUP(A79,'AFR19'!A:K,12,0)","v":{"$error":"#REF!"}},{"$error":"#REF!"}]
[591,7162087,0,7162087,{"$f":"VLOOKUP(A80,'AFR19'!A:K,12,0)","v":{"$error":"#REF!"}},{"$error":"#REF!"}]
[644,6756811393.6300001,{"$f":"VLOOKUP(A81,'Crete Monee Totals 5-8'!A:B,2,0)","v":15639539},6741171854.6300001,{"$f":"VLOOKUP(A81,'AFR19'!A:K,12,0)","v":{"$error":"#REF!"}},{"$error":"#REF!"}]
[645,53496043,0,53496043,{"$f":"VLOOKUP(A82,'AFR19'!A:K,12,0)","v":{"$error":"#REF!"}},{"$error":"#REF!"}]
[651,357544899,0,357544899,{"$f":"VLOOKUP(A83,'AFR19'!A:K,12,0)","v":{"$error":"#REF!"}},{"$error":"#REF!"}]
[655,8234532,0,8234532,{"$f":"VLOOKUP(A84,'AFR19'!A:K,12,0)","v":{"$error":"#REF!"}},{"$error":"#REF!"}]
[656,169314023.82999998,{"$f":"VLOOKUP(A85,'Crete Monee Totals 5-8'!A:B,2,0)","v":14262},169299761.82999998,{"$f":"VLOOKUP(A85,'AFR19'!A:K,12,0)","v":{"$error":"#REF!"}},{"$error":"#REF!"}]
[657,287818934.90999997,{"$f":"VLOOKUP(A86,'Crete Monee Totals 5-8'!A:B,2,0)","v":1217562},286601372.90999997,{"$f":"VLOOKUP(A86,'AFR19'!A:K,12,0)","v":{"$error":"#REF!"}},{"$error":"#REF!"}]
[658,47699758,{"$f":"VLOOKUP(A87,'Crete Monee Totals 5-8'!A:B,2,0)","v":72722},47627036,{"$f":"VLOOKUP(A87,'AFR19'!A:K,12,0)","v":{"$error":"#REF!"}},{"$error":"#REF!"}]
[659,10076797754.52,{"$f":"VLOOKUP(A88,'Crete Monee Totals 5-8'!A:B,2,0)","v":24516748},10052281006.52,{"$f":"VLOOKUP(A88,'AFR19'!A:K,12,0)","v":{"$error":"#REF!"}},{"$error":"#REF!"}]
[660,268594515,{"$f":"VLOOKUP(A89,'Crete Monee Totals 5-8'!A:B,2,0)","v":716700},267877815,{"$f":"VLOOKUP(A89,'AFR19'!A:K,12,0)","v":{"$error":"#REF!"}},{"$error":"#REF!"}]
[661,306056886.84000003,{"$f":"VLOOKUP(A90,'Crete Monee Totals 5-8'!A:B,2,0)","v":545674},305511212.84000003,{"$f":"VLOOKUP(A90,'AFR19'!A:K,12,0)","v":{"$error":"#REF!"}},{"$error":"#REF!"}]
[662,154266626.16,{"$f":"VLOOKUP(A91,'Crete Monee Totals 5-8'!A:B,2,0)","v":407918},153858708.16,{"$f":"VLOOKUP(A91,'AFR19'!A:K,12,0)","v":{"$error":"#REF!"}},{"$error":"#REF!"}]
[663,124928753,{"$f":"VLOOKUP(A92,'Crete Monee Totals 5-8'!A:B,2,0)","v":552677},124376076,{"$f":"VLOOKUP(A92,'AFR19'!A:K,12,0)","v":{"$error":"#REF!"}},{"$error":"#REF!"}]
[664,198791209.88,{"$f":"VLOOKUP(A93,'Crete Monee Totals 5-8'!A:B,2,0)","v":925333},197865876.88,{"$f":"VLOOKUP(A93,'AFR19'!A:K,12,0)","v":{"$error":"#REF!"}},{"$error":"#REF!"}]
[665,70374127,{"$f":"VLOOKUP(A94,'Crete Monee Totals 5-8'!A:B,2,0)","v":122631},70251496,{"$f":"VLOOKUP(A94,'AFR19'!A:K,12,0)","v":{"$error":"#REF!"}},{"$error":"#REF!"}]
[666,1123012117.8800001,{"$f":"VLOOKUP(A95,'Crete Monee Totals 5-8'!A:B,2,0)","v":3270933},1119741184.8800001,{"$f":"VLOOKUP(A95,'AFR19'!A:K,12,0)","v":{"$error":"#REF!"}},{"$error":"#REF!"}]
[667,280447313,{"$f":"VLOOKUP(A96,'Crete Monee Totals 5-8'!A:B,2,0)","v":536529},279910784,{"$f":"VLOOKUP(A96,'AFR19'!A:K,12,0)","v":{"$error":"#REF!"}},{"$error":"#REF!"}]
[668,220799197.11000001,{"$f":"VLOOKUP(A97,'Crete Monee Totals 5-8'!A:B,2,0)","v":166571},220632626.11000001,{"$f":"VLOOKUP(A97,'AFR19'!A:K,12,0)","v":{"$error":"#REF!"}},{"$error":"#REF!"}]
[669,13958619,0,13958619,{"$f":"VLOOKUP(A98,'AFR19'!A:K,12,0)","v":{"$error":"#REF!"}},{"$error":"#REF!"}]
[670,515205129.11000001,{"$f":"VLOOKUP(A99,'Crete Monee Totals 5-8'!A:B,2,0)","v":703100},514502029.11000001,{"$f":"VLOOKUP(A99,'AFR19'!A:K,12,0)","v":{"$error":"#REF!"}},{"$error":"#REF!"}]
[671,31051748,0,31051748,{"$f":"VLOOKUP(A100,'AFR19'!A:K,12,0)","v":{"$error":"#REF!"}},{"$error":"#REF!"}]
[672,178360664.69,{"$f":"VLOOKUP(A101,'Crete Monee Totals 5-8'!A:B,2,0)","v":422769},177937895.69,{"$f":"VLOOKUP(A101,'AFR19'!A:K,12,0)","v":{"$error":"#REF!"}},{"$error":"#REF!"}]
[673,283414011.69,{"$f":"VLOOKUP(A102,'Crete Monee Totals 5-8'!A:B,2,0)","v":422769},282991242.69,{"$f":"VLOOKUP(A102,'AFR19'!A:K,12,0)","v":{"$error":"#REF!"}},{"$error":"#REF!"}]
[674,876687573.63999999,{"$f":"VLOOKUP(A103,'Crete Monee Totals 5-8'!A:B,2,0)","v":2283482},874404091.63999999,{"$f":"VLOOKUP(A103,'AFR19'!A:K,12,0)","v":{"$error":"#REF!"}},{"$error":"#REF!"}]
[675,43318310,{"$f":"VLOOKUP(A104,'Crete Monee Totals 5-8'!A:B,2,0)","v":975580},42342730,{"$f":"VLOOKUP(A104,'AFR19'!A:K,12,0)","v":{"$error":"#REF!"}},{"$error":"#REF!"}]
[676,920005883.63999999,{"$f":"VLOOKUP(A105,'Crete Monee Totals 5-8'!A:B,2,0)","v":3259062},916746821.63999999,{"$f":"VLOOKUP(A105,'AFR19'!A:K,12,0)","v":{"$error":"#REF!"}},{"$error":"#REF!"}]
[677,50308998,{"$f":"VLOOKUP(A106,'Crete Monee Totals 5-8'!A:B,2,0)","v":210941},50098057,{"$f":"VLOOKUP(A106,'AFR19'!A:K,12,0)","v":{"$error":"#REF!"}},{"$error":"#REF!"}]
[678,109376132.69,{"$f":"VLOOKUP(A107,'Crete Monee Totals 5-8'!A:B,2,0)","v":356891},109019241.69,{"$f":"VLOOKUP(A107,'AFR19'!A:K,12,0)","v":{"$error":"#REF!"}},{"$error":"#REF!"}]
[679,90233291.159999996,{"$f":"VLOOKUP(A108,'Crete Monee Totals 5-8'!A:B,2,0)","v":454017},89779274.159999996,{"$f":"VLOOKUP(A108,'AFR19'!A:K,12,0)","v":{"$error":"#REF!"}},{"$error":"#REF!"}]
[680,19237105,0,19237105,{"$f":"VLOOKUP(A109,'AFR19'!A:K,12,0)","v":{"$error":"#REF!"}},{"$error":"#REF!"}]
[681,216404843.12,{"$f":"VLOOKUP(A110,'Crete Monee Totals 5-8'!A:B,2,0)","v":783586},215621257.12,{"$f":"VLOOKUP(A110,'AFR19'!A:K,12,0)","v":{"$error":"#REF!"}},{"$error":"#REF!"}]
[682,10997332,0,10997332,{"$f":"VLOOKUP(A111,'AFR19'!A:K,12,0)","v":{"$error":"#REF!"}},{"$error":"#REF!"}]
[684,496557701.96999997,{"$f":"VLOOKUP(A112,'Crete Monee Totals 5-8'!A:B,2,0)","v":1805435},494752266.96999997,{"$f":"VLOOKUP(A112,'AFR19'!A:K,12,0)","v":{"$error":"#REF!"}},{"$error":"#REF!"}]
[685,7546862,0,7546862,{"$f":"VLOOKUP(A113,'AFR19'!A:K,12,0)","v":{"$error":"#REF!"}},{"$error":"#REF!"}]
[686,16081191,{"$f":"VLOOKUP(A114,'Crete Monee Totals 5-8'!A:B,2,0)","v":125637},15955554,{"$f":"VLOOKUP(A114,'AFR19'!A:K,12,0)","v":{"$error":"#REF!"}},{"$error":"#REF!"}]
[687,24489881,{"$f":"VLOOKUP(A115,'Crete Monee Totals 5-8'!A:B,2,0)","v":279819},24210062,{"$f":"VLOOKUP(A115,'AFR19'!A:K,12,0)","v":{"$error":"#REF!"}},{"$error":"#REF!"}]
[688,61265263,{"$f":"VLOOKUP(A116,'Crete Monee Totals 5-8'!A:B,2,0)","v":450916},60814347,{"$f":"VLOOKUP(A116,'AFR19'!A:K,12,0)","v":{"$error":"#REF!"}},{"$error":"#REF!"}]
[690,100263695.68000001,{"$f":"VLOOKUP(A117,'Crete Monee Totals 5-8'!A:B,2,0)","v":645901},99617794.680000007,{"$f":"VLOOKUP(A117,'AFR19'!A:K,12,0)","v":{"$error":"#REF!"}},{"$error":"#REF!"}]
[692,209646892.68000001,{"$f":"VLOOKUP(A118,'Crete Monee Totals 5-8'!A:B,2,0)","v":1502273},208144619.68000001,{"$f":"VLOOKUP(A118,'AFR19'!A:K,12,0)","v":{"$error":"#REF!"}},{"$error":"#REF!"}]
[693,13160841,{"$f":"VLOOKUP(A119,'Crete Monee Totals 5-8'!A:B,2,0)","v":18334},13142507,{"$f":"VLOOKUP(A119,'AFR19'!A:K,12,0)","v":{"$error":"#REF!"}},{"$error":"#REF!"}]
[694,3561002577.9700003,{"$f":"VLOOKUP(A120,'Crete Monee Totals 5-8'!A:B,2,0)","v":10981906},3550020671.9700003,{"$f":"VLOOKUP(A120,'AFR19'!A:K,12,0)","v":{"$error":"#REF!"}},{"$error":"#REF!"}]
[695,71949497,{"$f":"VLOOKUP(A121,'Crete Monee Totals 5-8'!A:B,2,0)","v":34607},71914890,{"$f":"VLOOKUP(A121,'AFR19'!A:K,12,0)","v":{"$error":"#REF!"}},{"$error":"#REF!"}]
[696,13709749829.49,{"$f":"VLOOKUP(A122,'Crete Monee Totals 5-8'!A:B,2,0)","v":35533261},13674216568.49,{"$f":"VLOOKUP(A122,'AFR19'!A:K,12,0)","v":{"$error":"#REF!"}},{"$error":"#REF!"}]
[702,1822034676.8499999,{"$f":"VLOOKUP(A123,'Crete Monee Totals 5-8'!A:B,2,0)","v":1836213},1820198463.8499999,{"$f":"VLOOKUP(A123,'AFR19'!A:K,12,0)","v":{"$error":"#REF!"}},{"$error":"#REF!"}]
[703,9978449,0,9978449,{"$f":"VLOOKUP(A124,'AFR19'!A:K,12,0)","v":{"$error":"#REF!"}},{"$error":"#REF!"}]
[709,77589893,0,77589893,{"$f":"VLOOKUP(A125,'AFR19'!A:K,12,0)","v":{"$error":"#REF!"}},{"$error":"#REF!"}]
[713,757212,0,757212,{"$f":"VLOOKUP(A126,'AFR19'!A:K,12,0)","v":{"$error":"#REF!"}},{"$error":"#REF!"}]
[714,34246764.590000004,0,34246764.590000004,{"$f":"VLOOKUP(A127,'AFR19'!A:K,12,0)","v":{"$error":"#REF!"}},{"$error":"#REF!"}]
[715,20992610.619999997,{"$f":"VLOOKUP(A128,'Crete Monee Totals 5-8'!A:B,2,0)","v":15165},20977445.619999997,{"$f":"VLOOKUP(A128,'AFR19'!A:K,12,0)","v":{"$error":"#REF!"}},{"$error":"#REF!"}]
[716,2035049.77,{"$f":"VLOOKUP(A129,'Crete Monee Totals 5-8'!A:B,2,0)","v":1383},2033666.77,{"$f":"VLOOKUP(A129,'AFR19'!A:K,12,0)","v":{"$error":"#REF!"}},{"$error":"#REF!"}]
[717,2543322830.9899998,{"$f":"VLOOKUP(A130,'Crete Monee Totals 5-8'!A:B,2,0)","v":4137422},2539185408.9899998,{"$f":"VLOOKUP(A130,'AFR19'!A:K,12,0)","v":{"$error":"#REF!"}},{"$error":"#REF!"}]
[718,55238225,{"$f":"VLOOKUP(A131,'Crete Monee Totals 5-8'!A:B,2,0)","v":99797},{"$f":"SUM(B131-C131)","v":55138428},{"$f":"VLOOKUP(A131,'AFR19'!A:K,12,0)","v":{"$error":"#REF!"}},{"$f":"SUM(D131-E131)","v":{"$error":"#REF!"}}]
[719,63411190.75,{"$f":"VLOOKUP(A132,'Crete Monee Totals 5-8'!A:B,2,0)","v":85298},63325892.75,{"$f":"VLOOKUP(A132,'AFR19'!A:K,12,0)","v":{"$error":"#REF!"}},{"$error":"#REF!"}]
[720,31869492.219999999,{"$f":"VLOOKUP(A133,'Crete Monee Totals 5-8'!A:B,2,0)","v":76979},31792513.219999999,{"$f":"VLOOKUP(A133,'AFR19'!A:K,12,0)","v":{"$error":"#REF!"}},{"$error":"#REF!"}]
[721,23346906,{"$f":"VLOOKUP(A134,'Crete Monee Totals 5-8'!A:B,2,0)","v":33060},23313846,{"$f":"VLOOKUP(A134,'AFR19'!A:K,12,0)","v":{"$error":"#REF!"}},{"$error":"#REF!"}]
[722,37521044.019999996,{"$f":"VLOOKUP(A135,'Crete Monee Totals 5-8'!A:B,2,0)","v":95944},37425100.019999996,{"$f":"VLOOKUP(A135,'AFR19'!A:K,12,0)","v":{"$error":"#REF!"}},{"$error":"#REF!"}]
[723,12308047,{"$f":"VLOOKUP(A136,'Crete Monee Totals 5-8'!A:B,2,0)","v":8178},12299869,{"$f":"VLOOKUP(A136,'AFR19'!A:K,12,0)","v":{"$error":"#REF!"}},{"$error":"#REF!"}]
[724,223694904.99000001,{"$f":"VLOOKUP(A137,'Crete Monee Totals 5-8'!A:B,2,0)","v":399256},223295648.99000001,{"$f":"VLOOKUP(A137,'AFR19'!A:K,12,0)","v":{"$error":"#REF!"}},{"$error":"#REF!"}]
[725,60734288.57,{"$f":"VLOOKUP(A138,'Crete Monee Totals 5-8'!A:B,2,0)","v":72814},60661474.57,{"$f":"VLOOKUP(A138,'AFR19'!A:K,12,0)","v":{"$error":"#REF!"}},{"$error":"#REF!"}]
[726,44852028,{"$f":"VLOOKUP(A139,'Crete Monee Totals 5-8'!A:B,2,0)","v":36656},44815372,{"$f":"VLOOKUP(A139,'AFR19'!A:K,12,0)","v":{"$error":"#REF!"}},{"$error":"#REF!"}]
[727,1940491,0,1940491,{"$f":"VLOOKUP(A140,'AFR19'!A:K,12,0)","v":{"$error":"#REF!"}},{"$error":"#REF!"}]
[728,107526807.56999999,{"$f":"VLOOKUP(A141,'Crete Monee Totals 5-8'!A:B,2,0)","v":109470},107417337.56999999,{"$f":"VLOOKUP(A141,'AFR19'!A:K,12,0)","v":{"$error":"#REF!"}},{"$error":"#REF!"}]
[729,24918387,{"$f":"VLOOKUP(A142,'Crete Monee Totals 5-8'!A:B,2,0)","v":10087},24908300,{"$f":"VLOOKUP(A142,'AFR19'!A:K,12,0)","v":{"$error":"#REF!"}},{"$error":"#REF!"}]
[730,34872831,{"$f":"VLOOKUP(A143,'Crete Monee Totals 5-8'!A:B,2,0)","v":59684},34813147,{"$f":"VLOOKUP(A143,'AFR19'!A:K,12,0)","v":{"$error":"#REF!"}},{"$error":"#REF!"}]
[731,78587099,{"$f":"VLOOKUP(A144,'Crete Monee Totals 5-8'!A:B,2,0)","v":211742},78375357,{"$f":"VLOOKUP(A144,'AFR19'!A:K,12,0)","v":{"$error":"#REF!"}},{"$error":"#REF!"}]
[732,207302324.60000002,{"$f":"VLOOKUP(A145,'Crete Monee Totals 5-8'!A:B,2,0)","v":596206},206706118.60000002,{"$f":"VLOOKUP(A145,'AFR19'!A:K,12,0)","v":{"$error":"#REF!"}},{"$error":"#REF!"}]
[733,10293320,{"$f":"VLOOKUP(A146,'Crete Monee Totals 5-8'!A:B,2,0)","v":271224},10022096,{"$f":"VLOOKUP(A146,'AFR19'!A:K,12,0)","v":{"$error":"#REF!"}},{"$error":"#REF!"}]
[734,217595644.60000002,{"$f":"VLOOKUP(A147,'Crete Monee Totals 5-8'!A:B,2,0)","v":867430},216728214.60000002,{"$f":"VLOOKUP(A147,'AFR19'!A:K,12,0)","v":{"$error":"#REF!"}},{"$error":"#REF!"}]
[735,10062588,{"$f":"VLOOKUP(A148,'Crete Monee Totals 5-8'!A:B,2,0)","v":46656},10015932,{"$f":"VLOOKUP(A148,'AFR19'!A:K,12,0)","v":{"$error":"#REF!"}},{"$error":"#REF!"}]
[736,20705644,{"$f":"VLOOKUP(A149,'Crete Monee Totals 5-8'!A:B,2,0)","v":39231},20666413,{"$f":"VLOOKUP(A149,'AFR19'!A:K,12,0)","v":{"$error":"#REF!"}},{"$error":"#REF!"}]
[737,18275345,{"$f":"VLOOKUP(A150,'Crete Monee Totals 5-8'!A:B,2,0)","v":120654},18154691,{"$f":"VLOOKUP(A150,'AFR19'!A:K,12,0)","v":{"$error":"#REF!"}},{"$error":"#REF!"}]
[738,6861872,0,6861872,{"$f":"VLOOKUP(A151,'AFR19'!A:K,12,0)","v":{"$error":"#REF!"}},{"$error":"#REF!"}]
[739,55493635,{"$f":"VLOOKUP(A152,'Crete Monee Totals 5-8'!A:B,2,0)","v":161667},55331968,{"$f":"VLOOKUP(A152,'AFR19'!A:K,12,0)","v":{"$error":"#REF!"}},{"$error":"#REF!"}]
[740,2285625,0,2285625,{"$f":"VLOOKUP(A153,'AFR19'!A:K,12,0)","v":{"$error":"#REF!"}},{"$error":"#REF!"}]
[742,113684709,{"$f":"VLOOKUP(A154,'Crete Monee Totals 5-8'!A:B,2,0)","v":368208},113316501,{"$f":"VLOOKUP(A154,'AFR19'!A:K,12,0)","v":{"$error":"#REF!"}},{"$error":"#REF!"}]
[743,1527345,0,1527345,{"$f":"VLOOKUP(A155,'AFR19'!A:K,12,0)","v":{"$error":"#REF!"}},{"$error":"#REF!"}]
[744,2905211,{"$f":"VLOOKUP(A156,'Crete Monee Totals 5-8'!A:B,2,0)","v":20875},2884336,{"$f":"VLOOKUP(A156,'AFR19'!A:K,12,0)","v":{"$error":"#REF!"}},{"$error":"#REF!"}]
[745,5828418,{"$f":"VLOOKUP(A157,'Crete Monee Totals 5-8'!A:B,2,0)","v":41714},5786704,{"$f":"VLOOKUP(A157,'AFR19'!A:K,12,0)","v":{"$error":"#REF!"}},{"$error":"#REF!"}]
[746,29363741,{"$f":"VLOOKUP(A158,'Crete Monee Totals 5-8'!A:B,2,0)","v":71989},29291752,{"$f":"VLOOKUP(A158,'AFR19'!A:K,12,0)","v":{"$error":"#REF!"}},{"$error":"#REF!"}]
[748,17265193,{"$f":"VLOOKUP(A159,'Crete Monee Totals 5-8'!A:B,2,0)","v":103882},17161311,{"$f":"VLOOKUP(A159,'AFR19'!A:K,12,0)","v":{"$error":"#REF!"}},{"$error":"#REF!"}]
[750,56889908,{"$f":"VLOOKUP(A160,'Crete Monee Totals 5-8'!A:B,2,0)","v":238460},56651448,{"$f":"VLOOKUP(A160,'AFR19'!A:K,12,0)","v":{"$error":"#REF!"}},{"$error":"#REF!"}]
[751,7489563,0,7489563,{"$f":"VLOOKUP(A161,'AFR19'!A:K,12,0)","v":{"$error":"#REF!"}},{"$error":"#REF!"}]
[752,805468636.15999997,{"$f":"VLOOKUP(A162,'Crete Monee Totals 5-8'!A:B,2,0)","v":2194566},803274070.15999997,{"$f":"VLOOKUP(A162,'AFR19'!A:K,12,0)","v":{"$error":"#REF!"}},{"$error":"#REF!"}]
[753,12853444,{"$f":"VLOOKUP(A163,'Crete Monee Totals 5-8'!A:B,2,0)","v":628},12852816,{"$f":"VLOOKUP(A163,'AFR19'!A:K,12,0)","v":{"$error":"#REF!"}},{"$error":"#REF!"}]
[754,3361644911.1500001,{"$f":"VLOOKUP(A164,'Crete Monee Totals 5-8'!A:B,2,0)","v":6332616},3355312295.1500001,{"$f":"VLOOKUP(A164,'AFR19'!A:K,12,0)","v":{"$error":"#REF!"}},{"$error":"#REF!"}]
[760,118216857.58999999,{"$f":"VLOOKUP(A165,'Crete Monee Totals 5-8'!A:B,2,0)","v":53466},118163391.58999999,{"$f":"VLOOKUP(A165,'AFR19'!A:K,12,0)","v":{"$error":"#REF!"}},{"$error":"#REF!"}]
[761,532417,0,532417,{"$f":"VLOOKUP(A166,'AFR19'!A:K,12,0)","v":{"$error":"#REF!"}},{"$error":"#REF!"}]
[767,3006103,{"$f":"VLOOKUP(A167,'Crete Monee Totals 5-8'!A:B,2,0)","v":1260},3004843,{"$f":"VLOOKUP(A167,'AFR19'!A:K,12,0)","v":{"$error":"#REF!"}},{"$error":"#REF!"}]
[771,1571457,0,1571457,{"$f":"VLOOKUP(A168,'AFR19'!A:K,12,0)","v":{"$error":"#REF!"}},{"$error":"#REF!"}]
[772,7573657,0,7573657,{"$f":"VLOOKUP(A169,'AFR19'!A:K,12,0)","v":{"$error":"#REF!"}},{"$error":"#REF!"}]
[773,45814149.879999995,{"$f":"VLOOKUP(A170,'Crete Monee Totals 5-8'!A:B,2,0)","v":139303},45674846.879999995,{"$f":"VLOOKUP(A170,'AFR19'!A:K,12,0)","v":{"$error":"#REF!"}},{"$error":"#REF!"}]
[774,1843734,0,1843734,{"$f":"VLOOKUP(A171,'AFR19'!A:K,12,0)","v":{"$error":"#REF!"}},{"$error":"#REF!"}]
[775,1001894755.4799999,{"$f":"VLOOKUP(A172,'Crete Monee Totals 5-8'!A:B,2,0)","v":971343},1000923412.4799999,{"$f":"VLOOKUP(A172,'AFR19'!A:K,12,0)","v":{"$error":"#REF!"}},{"$error":"#REF!"}]
[776,12748405,0,12748405,{"$f":"VLOOKUP(A173,'AFR19'!A:K,12,0)","v":{"$error":"#REF!"}},{"$error":"#REF!"}]
[777,12952764,{"$f":"VLOOKUP(A174,'Crete Monee Totals 5-8'!A:B,2,0)","v":2926},12949838,{"$f":"VLOOKUP(A174,'AFR19'!A:K,12,0)","v":{"$error":"#REF!"}},{"$error":"#REF!"}]
[778,34798615,{"$f":"VLOOKUP(A175,'Crete Monee Totals 5-8'!A:B,2,0)","v":2538},34796077,{"$f":"VLOOKUP(A175,'AFR19'!A:K,12,0)","v":{"$error":"#REF!"}},{"$error":"#REF!"}]
[779,7533541,{"$f":"VLOOKUP(A176,'Crete Monee Totals 5-8'!A:B,2,0)","v":1113},7532428,{"$f":"VLOOKUP(A176,'AFR19'!A:K,12,0)","v":{"$error":"#REF!"}},{"$error":"#REF!"}]
[780,24515647,{"$f":"VLOOKUP(A177,'Crete Monee Totals 5-8'!A:B,2,0)","v":178},24515469,{"$f":"VLOOKUP(A177,'AFR19'!A:K,12,0)","v":{"$error":"#REF!"}},{"$error":"#REF!"}]
[781,12962938,0,12962938,{"$f":"VLOOKUP(A178,'AFR19'!A:K,12,0)","v":{"$error":"#REF!"}},{"$error":"#REF!"}]
[782,105511910,{"$f":"VLOOKUP(A179,'Crete Monee Totals 5-8'!A:B,2,0)","v":6755},105505155,{"$f":"VLOOKUP(A179,'AFR19'!A:K,12,0)","v":{"$error":"#REF!"}},{"$error":"#REF!"}]
[783,101939249.48,{"$f":"VLOOKUP(A180,'Crete Monee Totals 5-8'!A:B,2,0)","v":291050},101648199.48,{"$f":"VLOOKUP(A180,'AFR19'!A:K,12,0)","v":{"$error":"#REF!"}},{"$error":"#REF!"}]
[784,39760327.620000005,{"$f":"VLOOKUP(A181,'Crete Monee Totals 5-8'!A:B,2,0)","v":14090},39746237.620000005,{"$f":"VLOOKUP(A181,'AFR19'!A:K,12,0)","v":{"$error":"#REF!"}},{"$error":"#REF!"}]
[785,22975295,{"$f":"VLOOKUP(A182,'Crete Monee Totals 5-8'!A:B,2,0)","v":116748},22858547,{"$f":"VLOOKUP(A182,'AFR19'!A:K,12,0)","v":{"$error":"#REF!"}},{"$error":"#REF!"}]
[786,164674872.09999999,{"$f":"VLOOKUP(A183,'Crete Monee Totals 5-8'!A:B,2,0)","v":421888},164252984.09999999,{"$f":"VLOOKUP(A183,'AFR19'!A:K,12,0)","v":{"$error":"#REF!"}},{"$error":"#REF!"}]
[787,111483481.76000001,{"$f":"VLOOKUP(A184,'Crete Monee Totals 5-8'!A:B,2,0)","v":412094},111071387.76000001,{"$f":"VLOOKUP(A184,'AFR19'!A:K,12,0)","v":{"$error":"#REF!"}},{"$error":"#REF!"}]
[788,12258202.879999999,{"$f":"VLOOKUP(A185,'Crete Monee Totals 5-8'!A:B,2,0)","v":4873},12253329.879999999,{"$f":"VLOOKUP(A185,'AFR19'!A:K,12,0)","v":{"$error":"#REF!"}},{"$error":"#REF!"}]
[789,145194612.63999999,{"$f":"VLOOKUP(A186,'Crete Monee Totals 5-8'!A:B,2,0)","v":1105122},144089490.63999999,{"$f":"VLOOKUP(A186,'AFR19'!A:K,12,0)","v":{"$error":"#REF!"}},{"$error":"#REF!"}]
[790,21808064.329999998,{"$f":"VLOOKUP(A187,'Crete Monee Totals 5-8'!A:B,2,0)","v":4180},21803884.329999998,{"$f":"VLOOKUP(A187,'AFR19'!A:K,12,0)","v":{"$error":"#REF!"}},{"$error":"#REF!"}]
[791,382388,{"$f":"VLOOKUP(A188,'Crete Monee Totals 5-8'!A:B,2,0)","v":300},382088,{"$f":"VLOOKUP(A188,'AFR19'!A:K,12,0)","v":{"$error":"#REF!"}},{"$error":"#REF!"}]
[792,22190452.329999998,{"$f":"VLOOKUP(A189,'Crete Monee Totals 5-8'!A:B,2,0)","v":4480},22185972.329999998,{"$f":"VLOOKUP(A189,'AFR19'!A:K,12,0)","v":{"$error":"#REF!"}},{"$error":"#REF!"}]
[793,5915267,{"$f":"VLOOKUP(A190,'Crete Monee Totals 5-8'!A:B,2,0)","v":56480},5858787,{"$f":"VLOOKUP(A190,'AFR19'!A:K,12,0)","v":{"$error":"#REF!"}},{"$error":"#REF!"}]
[794,31438751.790000003,{"$f":"VLOOKUP(A191,'Crete Monee Totals 5-8'!A:B,2,0)","v":12739},31426012.790000003,{"$f":"VLOOKUP(A191,'AFR19'!A:K,12,0)","v":{"$error":"#REF!"}},{"$error":"#REF!"}]
[795,72429514,{"$f":"VLOOKUP(A192,'Crete Monee Totals 5-8'!A:B,2,0)","v":129880},72299634,{"$f":"VLOOKUP(A192,'AFR19'!A:K,12,0)","v":{"$error":"#REF!"}},{"$error":"#REF!"}]
[796,109471562,0,109471562,{"$f":"VLOOKUP(A193,'AFR19'!A:K,12,0)","v":{"$error":"#REF!"}},{"$error":"#REF!"}]
[797,202617370.83000001,{"$f":"VLOOKUP(A194,'Crete Monee Totals 5-8'!A:B,2,0)","v":6817},202610553.83000001,{"$f":"VLOOKUP(A194,'AFR19'!A:K,12,0)","v":{"$error":"#REF!"}},{"$error":"#REF!"}]
[798,9997150.629999999,0,{"$f":"SUM(B195-C195)","v":9997150.629999999},{"$f":"VLOOKUP(A195,'AFR19'!A:K,12,0)","v":{"$error":"#REF!"}},{"$f":"SUM(D195-E195)","v":{"$error":"#REF!"}}]
[800,431869616.25,{"$f":"VLOOKUP(A196,'Crete Monee Totals 5-8'!A:B,2,0)","v":205916},431663700.25,{"$f":"VLOOKUP(A196,'AFR19'!A:K,12,0)","v":{"$error":"#REF!"}},{"$error":"#REF!"}]
[801,2264478,0,2264478,{"$f":"VLOOKUP(A197,'AFR19'!A:K,12,0)","v":{"$error":"#REF!"}},{"$error":"#REF!"}]
[802,5319354,0,5319354,{"$f":"VLOOKUP(A198,'AFR19'!A:K,12,0)","v":{"$error":"#REF!"}},{"$error":"#REF!"}]
[803,16403015,{"$f":"VLOOKUP(A199,'Crete Monee Totals 5-8'!A:B,2,0)","v":42327},16360688,{"$f":"VLOOKUP(A199,'AFR19'!A:K,12,0)","v":{"$error":"#REF!"}},{"$error":"#REF!"}]
[804,15391306,{"$f":"VLOOKUP(A200,'Crete Monee Totals 5-8'!A:B,2,0)","v":117631},15273675,{"$f":"VLOOKUP(A200,'AFR19'!A:K,12,0)","v":{"$error":"#REF!"}},{"$error":"#REF!"}]
[806,91617766,{"$f":"VLOOKUP(A201,'Crete Monee Totals 5-8'!A:B,2,0)","v":1477224},90140542,{"$f":"VLOOKUP(A201,'AFR19'!A:K,12,0)","v":{"$error":"#REF!"}},{"$error":"#REF!"}]
[808,130995919,{"$f":"VLOOKUP(A202,'Crete Monee Totals 5-8'!A:B,2,0)","v":1637182},129358737,{"$f":"VLOOKUP(A202,'AFR19'!A:K,12,0)","v":{"$error":"#REF!"}},{"$error":"#REF!"}]
[809,11016685,0,11016685,{"$f":"VLOOKUP(A203,'AFR19'!A:K,12,0)","v":{"$error":"#REF!"}},{"$error":"#REF!"}]
[810,1011454067.3200001,{"$f":"VLOOKUP(A204,'Crete Monee Totals 5-8'!A:B,2,0)","v":3381343},1008072724.3200001,{"$f":"VLOOKUP(A204,'AFR19'!A:K,12,0)","v":{"$error":"#REF!"}},{"$error":"#REF!"}]
[811,51094488,{"$f":"VLOOKUP(A205,'Crete Monee Totals 5-8'!A:B,2,0)","v":263488},50831000,{"$f":"VLOOKUP(A205,'AFR19'!A:K,12,0)","v":{"$error":"#REF!"}},{"$error":"#REF!"}]
[812,2272717531.21,{"$f":"VLOOKUP(A206,'Crete Monee Totals 5-8'!A:B,2,0)","v":4616174},2268101357.21,{"$f":"VLOOKUP(A206,'AFR19'!A:K,12,0)","v":{"$error":"#REF!"}},{"$error":"#REF!"}]
[818,298254392.07000005,{"$f":"VLOOKUP(A207,'Crete Monee Totals 5-8'!A:B,2,0)","v":734213},297520179.07000005,{"$f":"VLOOKUP(A207,'AFR19'!A:K,12,0)","v":{"$error":"#REF!"}},{"$error":"#REF!"}]
[819,550399,0,550399,{"$f":"VLOOKUP(A208,'AFR19'!A:K,12,0)","v":{"$error":"#REF!"}},{"$error":"#REF!"}]
[825,7046593,{"$f":"VLOOKUP(A209,'Crete Monee Totals 5-8'!A:B,2,0)","v":2557},7044036,{"$f":"VLOOKUP(A209,'AFR19'!A:K,12,0)","v":{"$error":"#REF!"}},{"$error":"#REF!"}]
[829,1015158,0,1015158,{"$f":"VLOOKUP(A210,'AFR19'!A:K,12,0)","v":{"$error":"#REF!"}},{"$error":"#REF!"}]
[830,16213497.24,0,16213497.24,{"$f":"VLOOKUP(A211,'AFR19'!A:K,12,0)","v":{"$error":"#REF!"}},{"$error":"#REF!"}]
[831,30232898.289999999,{"$f":"VLOOKUP(A212,'Crete Monee Totals 5-8'!A:B,2,0)","v":107889},30125009.289999999,{"$f":"VLOOKUP(A212,'AFR19'!A:K,12,0)","v":{"$error":"#REF!"}},{"$error":"#REF!"}]
[832,2687911,{"$f":"VLOOKUP(A213,'Crete Monee Totals 5-8'!A:B,2,0)","v":215},2687696,{"$f":"VLOOKUP(A213,'AFR19'!A:K,12,0)","v":{"$error":"#REF!"}},{"$error":"#REF!"}]
[833,436855777.85000002,{"$f":"VLOOKUP(A214,'Crete Monee Totals 5-8'!A:B,2,0)","v":1599137},435256640.85000002,{"$f":"VLOOKUP(A214,'AFR19'!A:K,12,0)","v":{"$error":"#REF!"}},{"$error":"#REF!"}]
[834,5102169,{"$f":"VLOOKUP(A215,'Crete Monee Totals 5-8'!A:B,2,0)","v":26645},5075524,{"$f":"VLOOKUP(A215,'AFR19'!A:K,12,0)","v":{"$error":"#REF!"}},{"$error":"#REF!"}]
[835,4145442,{"$f":"VLOOKUP(A216,'Crete Monee Totals 5-8'!A:B,2,0)","v":11465},4133977,{"$f":"VLOOKUP(A216,'AFR19'!A:K,12,0)","v":{"$error":"#REF!"}},{"$error":"#REF!"}]
[836,3419864,{"$f":"VLOOKUP(A217,'Crete Monee Totals 5-8'!A:B,2,0)","v":4043},3415821,{"$f":"VLOOKUP(A217,'AFR19'!A:K,12,0)","v":{"$error":"#REF!"}},{"$error":"#REF!"}]
[837,1356824,{"$f":"VLOOKUP(A218,'Crete Monee Totals 5-8'!A:B,2,0)","v":20500},1336324,{"$f":"VLOOKUP(A218,'AFR19'!A:K,12,0)","v":{"$error":"#REF!"}},{"$error":"#REF!"}]
[838,1115060,0,1115060,{"$f":"VLOOKUP(A219,'AFR19'!A:K,12,0)","v":{"$error":"#REF!"}},{"$error":"#REF!"}]
[839,4604410.6899999995,0,4604410.6899999995,{"$f":"VLOOKUP(A220,'AFR19'!A:K,12,0)","v":{"$error":"#REF!"}},{"$error":"#REF!"}]
[840,19743769.689999998,{"$f":"VLOOKUP(A221,'Crete Monee Totals 5-8'!A:B,2,0)","v":62653},19681116.689999998,{"$f":"VLOOKUP(A221,'AFR19'!A:K,12,0)","v":{"$error":"#REF!"}},{"$error":"#REF!"}]
[841,34733575,{"$f":"VLOOKUP(A222,'Crete Monee Totals 5-8'!A:B,2,0)","v":21204},34712371,{"$f":"VLOOKUP(A222,'AFR19'!A:K,12,0)","v":{"$error":"#REF!"}},{"$error":"#REF!"}]
[842,42511124,{"$f":"VLOOKUP(A223,'Crete Monee Totals 5-8'!A:B,2,0)","v":8711},42502413,{"$f":"VLOOKUP(A223,'AFR19'!A:K,12,0)","v":{"$error":"#REF!"}},{"$error":"#REF!"}]
[843,6844940,{"$f":"VLOOKUP(A224,'Crete Monee Totals 5-8'!A:B,2,0)","v":44930},6800010,{"$f":"VLOOKUP(A224,'AFR19'!A:K,12,0)","v":{"$error":"#REF!"}},{"$error":"#REF!"}]
[844,84089639,{"$f":"VLOOKUP(A225,'Crete Monee Totals 5-8'!A:B,2,0)","v":74845},84014794,{"$f":"VLOOKUP(A225,'AFR19'!A:K,12,0)","v":{"$error":"#REF!"}},{"$error":"#REF!"}]
[845,6242114.5800000001,{"$f":"VLOOKUP(A226,'Crete Monee Totals 5-8'!A:B,2,0)","v":23077},6219037.5800000001,{"$f":"VLOOKUP(A226,'AFR19'!A:K,12,0)","v":{"$error":"#REF!"}},{"$error":"#REF!"}]
[846,4057871.45,{"$f":"VLOOKUP(A227,'Crete Monee Totals 5-8'!A:B,2,0)","v":4025},4053846.45,{"$f":"VLOOKUP(A227,'AFR19'!A:K,12,0)","v":{"$error":"#REF!"}},{"$error":"#REF!"}]
[847,11764393.029999999,{"$f":"VLOOKUP(A228,'Crete Monee Totals 5-8'!A:B,2,0)","v":27102},11737291.029999999,{"$f":"VLOOKUP(A228,'AFR19'!A:K,12,0)","v":{"$error":"#REF!"}},{"$error":"#REF!"}]
[848,17287270.149999999,{"$f":"VLOOKUP(A229,'Crete Monee Totals 5-8'!A:B,2,0)","v":32975},17254295.149999999,{"$f":"VLOOKUP(A229,'AFR19'!A:K,12,0)","v":{"$error":"#REF!"}},{"$error":"#REF!"}]
[849,208142,{"$f":"VLOOKUP(A230,'Crete Monee Totals 5-8'!A:B,2,0)","v":4855},203287,{"$f":"VLOOKUP(A230,'AFR19'!A:K,12,0)","v":{"$error":"#REF!"}},{"$error":"#REF!"}]
[850,17495412.149999999,{"$f":"VLOOKUP(A231,'Crete Monee Totals 5-8'!A:B,2,0)","v":37830},17457582.149999999,{"$f":"VLOOKUP(A231,'AFR19'!A:K,12,0)","v":{"$error":"#REF!"}},{"$error":"#REF!"}]
[851,1332507,{"$f":"VLOOKUP(A232,'Crete Monee Totals 5-8'!A:B,2,0)","v":43726},1288781,{"$f":"VLOOKUP(A232,'AFR19'!A:K,12,0)","v":{"$error":"#REF!"}},{"$error":"#REF!"}]
[852,4536208.59,{"$f":"VLOOKUP(A233,'Crete Monee Totals 5-8'!A:B,2,0)","v":11098},4525110.59,{"$f":"VLOOKUP(A233,'AFR19'!A:K,12,0)","v":{"$error":"#REF!"}},{"$error":"#REF!"}]
[853,31151230,{"$f":"VLOOKUP(A234,'Crete Monee Totals 5-8'!A:B,2,0)","v":114},31151116,{"$f":"VLOOKUP(A234,'AFR19'!A:K,12,0)","v":{"$error":"#REF!"}},{"$error":"#REF!"}]
[854,930489,0,930489,{"$f":"VLOOKUP(A235,'AFR19'!A:K,12,0)","v":{"$error":"#REF!"}},{"$error":"#REF!"}]
[855,286163744.51999998,{"$f":"VLOOKUP(A236,'Crete Monee Totals 5-8'!A:B,2,0)","v":1003597},285160147.51999998,{"$f":"VLOOKUP(A236,'AFR19'!A:K,12,0)","v":{"$error":"#REF!"}},{"$error":"#REF!"}]
[856,4915671,0,4915671,{"$f":"VLOOKUP(A237,'AFR19'!A:K,12,0)","v":{"$error":"#REF!"}},{"$error":"#REF!"}]
[858,329029850.11000001,{"$f":"VLOOKUP(A238,'Crete Monee Totals 5-8'!A:B,2,0)","v":1058535},327971315.11000001,{"$f":"VLOOKUP(A238,'AFR19'!A:K,12,0)","v":{"$error":"#REF!"}},{"$error":"#REF!"}]
[859,261901,0,261901,{"$f":"VLOOKUP(A239,'AFR19'!A:K,12,0)","v":{"$error":"#REF!"}},{"$error":"#REF!"}]
[860,824442,0,824442,{"$f":"VLOOKUP(A240,'AFR19'!A:K,12,0)","v":{"$error":"#REF!"}},{"$error":"#REF!"}]
[861,6163384,{"$f":"VLOOKUP(A241,'Crete Monee Totals 5-8'!A:B,2,0)","v":23291},6140093,{"$f":"VLOOKUP(A241,'AFR19'!A:K,12,0)","v":{"$error":"#REF!"}},{"$error":"#REF!"}]
[862,1757397,{"$f":"VLOOKUP(A242,'Crete Monee Totals 5-8'!A:B,2,0)","v":92459},1664938,{"$f":"VLOOKUP(A242,'AFR19'!A:K,12,0)","v":{"$error":"#REF!"}},{"$error":"#REF!"}]
[864,45671959,{"$f":"VLOOKUP(A243,'Crete Monee Totals 5-8'!A:B,2,0)","v":476423},45195536,{"$f":"VLOOKUP(A243,'AFR19'!A:K,12,0)","v":{"$error":"#REF!"}},{"$error":"#REF!"}]
[866,54679083,{"$f":"VLOOKUP(A244,'Crete Monee Totals 5-8'!A:B,2,0)","v":592173},54086910,{"$f":"VLOOKUP(A244,'AFR19'!A:K,12,0)","v":{"$error":"#REF!"}},{"$error":"#REF!"}]
[867,6818541,{"$f":"VLOOKUP(A245,'Crete Monee Totals 5-8'!A:B,2,0)","v":331},6818210,{"$f":"VLOOKUP(A245,'AFR19'!A:K,12,0)","v":{"$error":"#REF!"}},{"$error":"#REF!"}]
[868,523620687.97999996,{"$f":"VLOOKUP(A246,'Crete Monee Totals 5-8'!A:B,2,0)","v":1853469},521767218.97999996,{"$f":"VLOOKUP(A246,'AFR19'!A:K,12,0)","v":{"$error":"#REF!"}},{"$error":"#REF!"}]
[869,10866848,{"$f":"VLOOKUP(A247,'Crete Monee Totals 5-8'!A:B,2,0)","v":51681},10815167,{"$f":"VLOOKUP(A247,'AFR19'!A:K,12,0)","v":{"$error":"#REF!"}},{"$error":"#REF!"}]
[870,971343313.83000004,{"$f":"VLOOKUP(A248,'Crete Monee Totals 5-8'!A:B,2,0)","v":3504287},967839026.83000004,{"$f":"VLOOKUP(A248,'AFR19'!A:K,12,0)","v":{"$error":"#REF!"}},{"$error":"#REF!"}]
[876,39678418.5,{"$f":"VLOOKUP(A249,'Crete Monee Totals 5-8'!A:B,2,0)","v":43455},39634963.5,{"$f":"VLOOKUP(A249,'AFR19'!A:K,12,0)","v":{"$error":"#REF!"}},{"$error":"#REF!"}]
[877,5435,0,5435,{"$f":"VLOOKUP(A250,'AFR19'!A:K,12,0)","v":{"$error":"#REF!"}},{"$error":"#REF!"}]
[883,98275,0,98275,{"$f":"VLOOKUP(A251,'AFR19'!A:K,12,0)","v":{"$error":"#REF!"}},{"$error":"#REF!"}]
[887,48943,0,48943,{"$f":"VLOOKUP(A252,'AFR19'!A:K,12,0)","v":{"$error":"#REF!"}},{"$error":"#REF!"}]
[888,5440346.9100000001,0,5440346.9100000001,{"$f":"VLOOKUP(A253,'AFR19'!A:K,12,0)","v":{"$error":"#REF!"}},{"$error":"#REF!"}]
[889,3285849,{"$f":"VLOOKUP(A254,'Crete Monee Totals 5-8'!A:B,2,0)","v":20260},3265589,{"$f":"VLOOKUP(A254,'AFR19'!A:K,12,0)","v":{"$error":"#REF!"}},{"$error":"#REF!"}]
[890,19020,0,19020,{"$f":"VLOOKUP(A255,'AFR19'!A:K,12,0)","v":{"$error":"#REF!"}},{"$error":"#REF!"}]
[891,59893830.68,{"$f":"VLOOKUP(A256,'Crete Monee Totals 5-8'!A:B,2,0)","v":79768},59814062.68,{"$f":"VLOOKUP(A256,'AFR19'!A:K,12,0)","v":{"$error":"#REF!"}},{"$error":"#REF!"}]
[892,128225,0,128225,{"$f":"VLOOKUP(A257,'AFR19'!A:K,12,0)","v":{"$error":"#REF!"}},{"$error":"#REF!"}]
[893,52906,0,52906,{"$f":"VLOOKUP(A258,'AFR19'!A:K,12,0)","v":{"$error":"#REF!"}},{"$error":"#REF!"}]
[894,406625,0,{"$f":"SUM(B259-C259)","v":406625},{"$f":"VLOOKUP(A259,'AFR19'!A:K,12,0)","v":{"$error":"#REF!"}},{"$f":"SUM(D259-E259)","v":{"$error":"#REF!"}}]
[895,5340,0,5340,{"$f":"VLOOKUP(A260,'AFR19'!A:K,12,0)","v":{"$error":"#REF!"}},{"$error":"#REF!"}]
[896,181147,0,181147,{"$f":"VLOOKUP(A261,'AFR19'!A:K,12,0)","v":{"$error":"#REF!"}},{"$error":"#REF!"}]
[897,787537,0,787537,{"$f":"VLOOKUP(A262,'AFR19'!A:K,12,0)","v":{"$error":"#REF!"}},{"$error":"#REF!"}]
[898,1561780,0,1561780,{"$f":"VLOOKUP(A263,'AFR19'!A:K,12,0)","v":{"$error":"#REF!"}},{"$error":"#REF!"}]
[899,6827680,0,6827680,{"$f":"VLOOKUP(A264,'AFR19'!A:K,12,0)","v":{"$error":"#REF!"}},{"$error":"#REF!"}]
[900,25432965,0,25432965,{"$f":"VLOOKUP(A265,'AFR19'!A:K,12,0)","v":{"$error":"#REF!"}},{"$error":"#REF!"}]
[901,53753,0,53753,{"$f":"VLOOKUP(A266,'AFR19'!A:K,12,0)","v":{"$error":"#REF!"}},{"$error":"#REF!"}]
[902,32314398,0,32314398,{"$f":"VLOOKUP(A267,'AFR19'!A:K,12,0)","v":{"$error":"#REF!"}},{"$error":"#REF!"}]
[903,473715,0,473715,{"$f":"VLOOKUP(A268,'AFR19'!A:K,12,0)","v":{"$error":"#REF!"}},{"$error":"#REF!"}]
[904,362208,0,362208,{"$f":"VLOOKUP(A269,'AFR19'!A:K,12,0)","v":{"$error":"#REF!"}},{"$error":"#REF!"}]
[905,904985,0,904985,{"$f":"VLOOKUP(A270,'AFR19'!A:K,12,0)","v":{"$error":"#REF!"}},{"$error":"#REF!"}]
[906,1114046.3,0,1114046.3,{"$f":"VLOOKUP(A271,'AFR19'!A:K,12,0)","v":{"$error":"#REF!"}},{"$error":"#REF!"}]
[907,38433,0,38433,{"$f":"VLOOKUP(A272,'AFR19'!A:K,12,0)","v":{"$error":"#REF!"}},{"$error":"#REF!"}]
[908,1152479.3,0,1152479.3,{"$f":"VLOOKUP(A273,'AFR19'!A:K,12,0)","v":{"$error":"#REF!"}},{"$error":"#REF!"}]
[909,279262,0,279262,{"$f":"VLOOKUP(A274,'AFR19'!A:K,12,0)","v":{"$error":"#REF!"}},{"$error":"#REF!"}]
[910,1177269.8199999998,0,1177269.8199999998,{"$f":"VLOOKUP(A275,'AFR19'!A:K,12,0)","v":{"$error":"#REF!"}},{"$error":"#REF!"}]
[911,13290712,0,13290712,{"$f":"VLOOKUP(A276,'AFR19'!A:K,12,0)","v":{"$error":"#REF!"}},{"$error":"#REF!"}]
[912,162356,{"$f":"VLOOKUP(A277,'Crete Monee Totals 5-8'!A:B,2,0)","v":62053},100303,{"$f":"VLOOKUP(A277,'AFR19'!A:K,12,0)","v":{"$error":"#REF!"}},{"$error":"#REF!"}]
[913,6014640.6600000001,0,6014640.6600000001,{"$f":"VLOOKUP(A278,'AFR19'!A:K,12,0)","v":{"$error":"#REF!"}},{"$error":"#REF!"}]
[914,1726802,0,1726802,{"$f":"VLOOKUP(A279,'AFR19'!A:K,12,0)","v":{"$error":"#REF!"}},{"$error":"#REF!"}]
[916,22651042.48,{"$f":"VLOOKUP(A280,'Crete Monee Totals 5-8'!A:B,2,0)","v":62053},22588989.48,{"$f":"VLOOKUP(A280,'AFR19'!A:K,12,0)","v":{"$error":"#REF!"}},{"$error":"#REF!"}]
[917,111124,0,111124,{"$f":"VLOOKUP(A281,'AFR19'!A:K,12,0)","v":{"$error":"#REF!"}},{"$error":"#REF!"}]
[918,240238,0,240238,{"$f":"VLOOKUP(A282,'AFR19'!A:K,12,0)","v":{"$error":"#REF!"}},{"$error":"#REF!"}]
[919,6321928,0,6321928,{"$f":"VLOOKUP(A283,'AFR19'!A:K,12,0)","v":{"$error":"#REF!"}},{"$error":"#REF!"}]
[920,236522,0,236522,{"$f":"VLOOKUP(A284,'AFR19'!A:K,12,0)","v":{"$error":"#REF!"}},{"$error":"#REF!"}]
[922,45564329,{"$f":"VLOOKUP(A285,'Crete Monee Totals 5-8'!A:B,2,0)","v":10747},45553582,{"$f":"VLOOKUP(A285,'AFR19'!A:K,12,0)","v":{"$error":"#REF!"}},{"$error":"#REF!"}]
[924,52474141,{"$f":"VLOOKUP(A286,'Crete Monee Totals 5-8'!A:B,2,0)","v":10747},52463394,{"$f":"VLOOKUP(A286,'AFR19'!A:K,12,0)","v":{"$error":"#REF!"}},{"$error":"#REF!"}]
[925,1433450,0,1433450,{"$f":"VLOOKUP(A287,'AFR19'!A:K,12,0)","v":{"$error":"#REF!"}},{"$error":"#REF!"}]
[926,112492275.77999999,{"$f":"VLOOKUP(A288,'Crete Monee Totals 5-8'!A:B,2,0)","v":72800},112419475.77999999,{"$f":"VLOOKUP(A288,'AFR19'!A:K,12,0)","v":{"$error":"#REF!"}},{"$error":"#REF!"}]
[927,1035297,0,1035297,{"$f":"VLOOKUP(A289,'AFR19'!A:K,12,0)","v":{"$error":"#REF!"}},{"$error":"#REF!"}]
[928,173421403.46000001,{"$f":"VLOOKUP(A290,'Crete Monee Totals 5-8'!A:B,2,0)","v":152568},173268835.46000001,{"$f":"VLOOKUP(A290,'AFR19'!A:K,12,0)","v":{"$error":"#REF!"}},{"$error":"#REF!"}]
[934,9069295,{"$f":"VLOOKUP(A291,'Crete Monee Totals 5-8'!A:B,2,0)","v":4414},9064881,{"$f":"VLOOKUP(A291,'AFR19'!A:K,12,0)","v":{"$error":"#REF!"}},{"$error":"#REF!"}]
[935,56094,0,56094,{"$f":"VLOOKUP(A292,'AFR19'!A:K,12,0)","v":{"$error":"#REF!"}},{"$error":"#REF!"}]
[941,63945,0,63945,{"$f":"VLOOKUP(A293,'AFR19'!A:K,12,0)","v":{"$error":"#REF!"}},{"$error":"#REF!"}]
[945,37750,0,37750,{"$f":"VLOOKUP(A294,'AFR19'!A:K,12,0)","v":{"$error":"#REF!"}},{"$error":"#REF!"}]
[946,2902198,0,2902198,{"$f":"VLOOKUP(A295,'AFR19'!A:K,12,0)","v":{"$error":"#REF!"}},{"$error":"#REF!"}]
[947,9645390,{"$f":"VLOOKUP(A296,'Crete Monee Totals 5-8'!A:B,2,0)","v":37763},9607627,{"$f":"VLOOKUP(A296,'AFR19'!A:K,12,0)","v":{"$error":"#REF!"}},{"$error":"#REF!"}]
[948,590017,0,590017,{"$f":"VLOOKUP(A297,'AFR19'!A:K,12,0)","v":{"$error":"#REF!"}},{"$error":"#REF!"}]
[949,387764326,{"$f":"VLOOKUP(A298,'Crete Monee Totals 5-8'!A:B,2,0)","v":2535379},385228947,{"$f":"VLOOKUP(A298,'AFR19'!A:K,12,0)","v":{"$error":"#REF!"}},{"$error":"#REF!"}]
[950,71519,0,71519,{"$f":"VLOOKUP(A299,'AFR19'!A:K,12,0)","v":{"$error":"#REF!"}},{"$error":"#REF!"}]
[951,774353,0,774353,{"$f":"VLOOKUP(A300,'AFR19'!A:K,12,0)","v":{"$error":"#REF!"}},{"$error":"#REF!"}]
[952,148404,0,148404,{"$f":"VLOOKUP(A301,'AFR19'!A:K,12,0)","v":{"$error":"#REF!"}},{"$error":"#REF!"}]
[953,36736,0,36736,{"$f":"VLOOKUP(A302,'AFR19'!A:K,12,0)","v":{"$error":"#REF!"}},{"$error":"#REF!"}]
[954,43115,0,43115,{"$f":"VLOOKUP(A303,'AFR19'!A:K,12,0)","v":{"$error":"#REF!"}},{"$error":"#REF!"}]
[955,273263,0,273263,{"$f":"VLOOKUP(A304,'AFR19'!A:K,12,0)","v":{"$error":"#REF!"}},{"$error":"#REF!"}]
[956,1347390,0,1347390,{"$f":"VLOOKUP(A305,'AFR19'!A:K,12,0)","v":{"$error":"#REF!"}},{"$error":"#REF!"}]
[957,2537993,{"$f":"VLOOKUP(A306,'Crete Monee Totals 5-8'!A:B,2,0)","v":2741},2535252,{"$f":"VLOOKUP(A306,'AFR19'!A:K,12,0)","v":{"$error":"#REF!"}},{"$error":"#REF!"}]
[958,978494,0,978494,{"$f":"VLOOKUP(A307,'AFR19'!A:K,12,0)","v":{"$error":"#REF!"}},{"$error":"#REF!"}]
[959,88172,0,88172,{"$f":"VLOOKUP(A308,'AFR19'!A:K,12,0)","v":{"$error":"#REF!"}},{"$error":"#REF!"}]
[960,3604659,{"$f":"VLOOKUP(A309,'Crete Monee Totals 5-8'!A:B,2,0)","v":2741},3601918,{"$f":"VLOOKUP(A309,'AFR19'!A:K,12,0)","v":{"$error":"#REF!"}},{"$error":"#REF!"}]
[961,11298552.51,{"$f":"VLOOKUP(A310,'Crete Monee Totals 5-8'!A:B,2,0)","v":19941},11278611.51,{"$f":"VLOOKUP(A310,'AFR19'!A:K,12,0)","v":{"$error":"#REF!"}},{"$error":"#REF!"}]
[962,3332787.63,{"$f":"VLOOKUP(A311,'Crete Monee Totals 5-8'!A:B,2,0)","v":-4506},3337293.63,{"$f":"VLOOKUP(A311,'AFR19'!A:K,12,0)","v":{"$error":"#REF!"}},{"$error":"#REF!"}]
[963,16325238.140000001,{"$f":"VLOOKUP(A312,'Crete Monee Totals 5-8'!A:B,2,0)","v":15435},16309803.140000001,{"$f":"VLOOKUP(A312,'AFR19'!A:K,12,0)","v":{"$error":"#REF!"}},{"$error":"#REF!"}]
[964,2373609.7599999998,{"$f":"VLOOKUP(A313,'Crete Monee Totals 5-8'!A:B,2,0)","v":4206},2369403.7599999998,{"$f":"VLOOKUP(A313,'AFR19'!A:K,12,0)","v":{"$error":"#REF!"}},{"$error":"#REF!"}]
[965,22530,0,22530,{"$f":"VLOOKUP(A314,'AFR19'!A:K,12,0)","v":{"$error":"#REF!"}},{"$error":"#REF!"}]
[966,2396139.7599999998,{"$f":"VLOOKUP(A315,'Crete Monee Totals 5-8'!A:B,2,0)","v":4206},2391933.7599999998,{"$f":"VLOOKUP(A315,'AFR19'!A:K,12,0)","v":{"$error":"#REF!"}},{"$error":"#REF!"}]
[967,736033,{"$f":"VLOOKUP(A316,'Crete Monee Totals 5-8'!A:B,2,0)","v":370},735663,{"$f":"VLOOKUP(A316,'AFR19'!A:K,12,0)","v":{"$error":"#REF!"}},{"$error":"#REF!"}]
[968,3208027,0,3208027,{"$f":"VLOOKUP(A317,'AFR19'!A:K,12,0)","v":{"$error":"#REF!"}},{"$error":"#REF!"}]
[969,286836,0,286836,{"$f":"VLOOKUP(A318,'AFR19'!A:K,12,0)","v":{"$error":"#REF!"}},{"$error":"#REF!"}]
[970,3962,0,3962,{"$f":"VLOOKUP(A319,'AFR19'!A:K,12,0)","v":{"$error":"#REF!"}},{"$error":"#REF!"}]
[971,1369384,{"$f":"VLOOKUP(A320,'Crete Monee Totals 5-8'!A:B,2,0)","v":3533},1365851,{"$f":"VLOOKUP(A320,'AFR19'!A:K,12,0)","v":{"$error":"#REF!"}},{"$error":"#REF!"}]
[972,131205,0,131205,{"$f":"VLOOKUP(A321,'AFR19'!A:K,12,0)","v":{"$error":"#REF!"}},{"$error":"#REF!"}]
[974,5735447,{"$f":"VLOOKUP(A322,'Crete Monee Totals 5-8'!A:B,2,0)","v":3903},5731544,{"$f":"VLOOKUP(A322,'AFR19'!A:K,12,0)","v":{"$error":"#REF!"}},{"$error":"#REF!"}]
[975,8040,0,{"$f":"SUM(B323-C323)","v":8040},{"$f":"VLOOKUP(A323,'AFR19'!A:K,12,0)","v":{"$error":"#REF!"}},{"$f":"SUM(D323-E323)","v":{"$error":"#REF!"}}]
[976,24896,0,24896,{"$f":"VLOOKUP(A324,'AFR19'!A:K,12,0)","v":{"$error":"#REF!"}},{"$error":"#REF!"}]
[977,364460,{"$f":"VLOOKUP(A325,'Crete Monee Totals 5-8'!A:B,2,0)","v":790},363670,{"$f":"VLOOKUP(A325,'AFR19'!A:K,12,0)","v":{"$error":"#REF!"}},{"$error":"#REF!"}]
[978,457091,{"$f":"VLOOKUP(A326,'Crete Monee Totals 5-8'!A:B,2,0)","v":3846},453245,{"$f":"VLOOKUP(A326,'AFR19'!A:K,12,0)","v":{"$error":"#REF!"}},{"$error":"#REF!"}]
[980,1258165,{"$f":"VLOOKUP(A327,'Crete Monee Totals 5-8'!A:B,2,0)","v":556},1257609,{"$f":"VLOOKUP(A327,'AFR19'!A:K,12,0)","v":{"$error":"#REF!"}},{"$error":"#REF!"}]
[982,2112652,{"$f":"VLOOKUP(A328,'Crete Monee Totals 5-8'!A:B,2,0)","v":5192},2107460,{"$f":"VLOOKUP(A328,'AFR19'!A:K,12,0)","v":{"$error":"#REF!"}},{"$error":"#REF!"}]
[983,835808,0,835808,{"$f":"VLOOKUP(A329,'AFR19'!A:K,12,0)","v":{"$error":"#REF!"}},{"$error":"#REF!"}]
[984,32357333.900000002,{"$f":"VLOOKUP(A330,'Crete Monee Totals 5-8'!A:B,2,0)","v":31477},32325856.900000002,{"$f":"VLOOKUP(A330,'AFR19'!A:K,12,0)","v":{"$error":"#REF!"}},{"$error":"#REF!"}]
[985,8089812,{"$f":"VLOOKUP(A331,'Crete Monee Totals 5-8'!A:B,2,0)","v":1081},8088731,{"$f":"VLOOKUP(A331,'AFR19'!A:K,12,0)","v":{"$error":"#REF!"}},{"$error":"#REF!"}]
[986,532923686.52999997,{"$f":"VLOOKUP(A332,'Crete Monee Totals 5-8'!A:B,2,0)","v":1180976},531742710.52999997,{"$f":"VLOOKUP(A332,'AFR19'!A:K,12,0)","v":{"$error":"#REF!"}},{"$error":"#REF!"}]
[987,996434,0,996434,{"$f":"VLOOKUP(A333,'AFR19'!A:K,12,0)","v":{"$error":"#REF!"}},{"$error":"#REF!"}]
[988,130730,0,130730,{"$f":"VLOOKUP(A334,'AFR19'!A:K,12,0)","v":{"$error":"#REF!"}},{"$error":"#REF!"}]
[990,293196,0,293196,{"$f":"VLOOKUP(A335,'AFR19'!A:K,12,0)","v":{"$error":"#REF!"}},{"$error":"#REF!"}]
[992,32394652,0,32394652,{"$f":"VLOOKUP(A336,'AFR19'!A:K,12,0)","v":{"$error":"#REF!"}},{"$error":"#REF!"}]
[993,995284591.42999995,{"$f":"VLOOKUP(A337,'Crete Monee Totals 5-8'!A:B,2,0)","v":3748952},991535639.42999995,{"$f":"VLOOKUP(A337,'AFR19'!A:K,12,0)","v":{"$error":"#REF!"}},{"$error":"#REF!"}]
[1032,9094046222.6399994,{"$f":"VLOOKUP(A338,'Crete Monee Totals 5-8'!A:B,2,0)","v":18336539},9075709683.6399994,{"$f":"VLOOKUP(A338,'AFR19'!A:K,12,0)","v":{"$error":"#REF!"}},{"$error":"#REF!"}]
[1033,64631212,0,64631212,{"$f":"VLOOKUP(A339,'AFR19'!A:K,12,0)","v":{"$error":"#REF!"}},{"$error":"#REF!"}]
[1039,445812880,{"$f":"VLOOKUP(A340,'Crete Monee Totals 5-8'!A:B,2,0)","v":3817},445809063,{"$f":"VLOOKUP(A340,'AFR19'!A:K,12,0)","v":{"$error":"#REF!"}},{"$error":"#REF!"}]
[1043,11680729,0,11680729,{"$f":"VLOOKUP(A341,'AFR19'!A:K,12,0)","v":{"$error":"#REF!"}},{"$error":"#REF!"}]
[1044,239632882.56999999,{"$f":"VLOOKUP(A342,'Crete Monee Totals 5-8'!A:B,2,0)","v":14262},239618620.56999999,{"$f":"VLOOKUP(A342,'AFR19'!A:K,12,0)","v":{"$error":"#REF!"}},{"$error":"#REF!"}]
[1045,399458362.69999999,{"$f":"VLOOKUP(A343,'Crete Monee Totals 5-8'!A:B,2,0)","v":1539513},397918849.69999999,{"$f":"VLOOKUP(A343,'AFR19'!A:K,12,0)","v":{"$error":"#REF!"}},{"$error":"#REF!"}]
[1046,54875489.770000003,{"$f":"VLOOKUP(A344,'Crete Monee Totals 5-8'!A:B,2,0)","v":74320},54801169.770000003,{"$f":"VLOOKUP(A344,'AFR19'!A:K,12,0)","v":{"$error":"#REF!"}},{"$error":"#REF!"}]
[1047,14575394777.520002,{"$f":"VLOOKUP(A345,'Crete Monee Totals 5-8'!A:B,2,0)","v":33949825},14541444952.520002,{"$f":"VLOOKUP(A345,'AFR19'!A:K,12,0)","v":{"$error":"#REF!"}},{"$error":"#REF!"}]
[1048,342415999,{"$f":"VLOOKUP(A346,'Crete Monee Totals 5-8'!A:B,2,0)","v":843142},341572857,{"$f":"VLOOKUP(A346,'AFR19'!A:K,12,0)","v":{"$error":"#REF!"}},{"$error":"#REF!"}]
[1049,388175192.58999997,{"$f":"VLOOKUP(A347,'Crete Monee Totals 5-8'!A:B,2,0)","v":645363},387529829.58999997,{"$f":"VLOOKUP(A347,'AFR19'!A:K,12,0)","v":{"$error":"#REF!"}},{"$error":"#REF!"}]
[1050,225352793.38,{"$f":"VLOOKUP(A348,'Crete Monee Totals 5-8'!A:B,2,0)","v":530322},224822471.38,{"$f":"VLOOKUP(A348,'AFR19'!A:K,12,0)","v":{"$error":"#REF!"}},{"$error":"#REF!"}]
[1051,157484237,{"$f":"VLOOKUP(A349,'Crete Monee Totals 5-8'!A:B,2,0)","v":607350},156876887,{"$f":"VLOOKUP(A349,'AFR19'!A:K,12,0)","v":{"$error":"#REF!"}},{"$error":"#REF!"}]
[1052,262489955.90000001,{"$f":"VLOOKUP(A350,'Crete Monee Totals 5-8'!A:B,2,0)","v":1021455},261468500.90000001,{"$f":"VLOOKUP(A350,'AFR19'!A:K,12,0)","v":{"$error":"#REF!"}},{"$error":"#REF!"}]
[1053,101546181.69,{"$f":"VLOOKUP(A351,'Crete Monee Totals 5-8'!A:B,2,0)","v":130809},101415372.69,{"$f":"VLOOKUP(A351,'AFR19'!A:K,12,0)","v":{"$error":"#REF!"}},{"$error":"#REF!"}]
[1054,1477464359.5599999,{"$f":"VLOOKUP(A352,'Crete Monee Totals 5-8'!A:B,2,0)","v":3778441},1473685918.5599999,{"$f":"VLOOKUP(A352,'AFR19'!A:K,12,0)","v":{"$error":"#REF!"}},{"$error":"#REF!"}]
[1055,493835491.05000001,{"$f":"VLOOKUP(A353,'Crete Monee Totals 5-8'!A:B,2,0)","v":924338},492911153.05000001,{"$f":"VLOOKUP(A353,'AFR19'!A:K,12,0)","v":{"$error":"#REF!"}},{"$error":"#REF!"}]
[1056,386993967.73000002,{"$f":"VLOOKUP(A354,'Crete Monee Totals 5-8'!A:B,2,0)","v":226028},386767939.73000002,{"$f":"VLOOKUP(A354,'AFR19'!A:K,12,0)","v":{"$error":"#REF!"}},{"$error":"#REF!"}]
[1057,46198146,{"$f":"VLOOKUP(A355,'Crete Monee Totals 5-8'!A:B,2,0)","v":161678},46036468,{"$f":"VLOOKUP(A355,'AFR19'!A:K,12,0)","v":{"$error":"#REF!"}},{"$error":"#REF!"}]
[1058,927027604.77999997,{"$f":"VLOOKUP(A356,'Crete Monee Totals 5-8'!A:B,2,0)","v":1312044},925715560.77999997,{"$f":"VLOOKUP(A356,'AFR19'!A:K,12,0)","v":{"$error":"#REF!"}},{"$error":"#REF!"}]
[1059,186529674.84999999,{"$f":"VLOOKUP(A357,'Crete Monee Totals 5-8'!A:B,2,0)","v":465199},186064475.84999999,{"$f":"VLOOKUP(A357,'AFR19'!A:K,12,0)","v":{"$error":"#REF!"}},{"$error":"#REF!"}]
[1060,233536080.65000001,{"$f":"VLOOKUP(A358,'Crete Monee Totals 5-8'!A:B,2,0)","v":486845},233049235.65000001,{"$f":"VLOOKUP(A358,'AFR19'!A:K,12,0)","v":{"$error":"#REF!"}},{"$error":"#REF!"}]
[1061,537753898.5,{"$f":"VLOOKUP(A359,'Crete Monee Totals 5-8'!A:B,2,0)","v":1782170},535971728.5,{"$f":"VLOOKUP(A359,'AFR19'!A:K,12,0)","v":{"$error":"#REF!"}},{"$error":"#REF!"}]
[1062,1130256236.78,{"$f":"VLOOKUP(A360,'Crete Monee Totals 5-8'!A:B,2,0)","v":2921870},1127334366.78,{"$f":"VLOOKUP(A360,'AFR19'!A:K,12,0)","v":{"$error":"#REF!"}},{"$error":"#REF!"}]
[1063,54267350,{"$f":"VLOOKUP(A361,'Crete Monee Totals 5-8'!A:B,2,0)","v":1251959},53015391,{"$f":"VLOOKUP(A361,'AFR19'!A:K,12,0)","v":{"$error":"#REF!"}},{"$error":"#REF!"}]
[1064,1184523586.78,{"$f":"VLOOKUP(A362,'Crete Monee Totals 5-8'!A:B,2,0)","v":4173829},1180349757.78,{"$f":"VLOOKUP(A362,'AFR19'!A:K,12,0)","v":{"$error":"#REF!"}},{"$error":"#REF!"}]
[1065,69053570,{"$f":"VLOOKUP(A363,'Crete Monee Totals 5-8'!A:B,2,0)","v":655009},68398561,{"$f":"VLOOKUP(A363,'AFR19'!A:K,12,0)","v":{"$error":"#REF!"}},{"$error":"#REF!"}]
[1066,170892310.88999999,{"$f":"VLOOKUP(A364,'Crete Monee Totals 5-8'!A:B,2,0)","v":422612},170469698.88999999,{"$f":"VLOOKUP(A364,'AFR19'!A:K,12,0)","v":{"$error":"#REF!"}},{"$error":"#REF!"}]
[1067,226997815.16,{"$f":"VLOOKUP(A365,'Crete Monee Totals 5-8'!A:B,2,0)","v":704665},226293150.16,{"$f":"VLOOKUP(A365,'AFR19'!A:K,12,0)","v":{"$error":"#REF!"}},{"$error":"#REF!"}]
[1068,136812110,{"$f":"VLOOKUP(A366,'Crete Monee Totals 5-8'!A:B,2,0)","v":62053},136750057,{"$f":"VLOOKUP(A366,'AFR19'!A:K,12,0)","v":{"$error":"#REF!"}},{"$error":"#REF!"}]
[1069,770312748.13,{"$f":"VLOOKUP(A367,'Crete Monee Totals 5-8'!A:B,2,0)","v":1989935},768322813.13,{"$f":"VLOOKUP(A367,'AFR19'!A:K,12,0)","v":{"$error":"#REF!"}},{"$error":"#REF!"}]
[1070,30148653.629999999,0,30148653.629999999,{"$f":"VLOOKUP(A368,'AFR19'!A:K,12,0)","v":{"$error":"#REF!"}},{"$error":"#REF!"}]
[1072,1404217207.8100002,{"$f":"VLOOKUP(A369,'Crete Monee Totals 5-8'!A:B,2,0)","v":3834274},1400382933.8100002,{"$f":"VLOOKUP(A369,'AFR19'!A:K,12,0)","v":{"$error":"#REF!"}},{"$error":"#REF!"}]
[1073,11947405,0,11947405,{"$f":"VLOOKUP(A370,'AFR19'!A:K,12,0)","v":{"$error":"#REF!"}},{"$error":"#REF!"}]
[1074,25428545,{"$f":"VLOOKUP(A371,'Crete Monee Totals 5-8'!A:B,2,0)","v":146512},25282033,{"$f":"VLOOKUP(A371,'AFR19'!A:K,12,0)","v":{"$error":"#REF!"}},{"$error":"#REF!"}]
[1075,62354292,{"$f":"VLOOKUP(A372,'Crete Monee Totals 5-8'!A:B,2,0)","v":387941},61966351,{"$f":"VLOOKUP(A372,'AFR19'!A:K,12,0)","v":{"$error":"#REF!"}},{"$error":"#REF!"}]
[1076,110952067,{"$f":"VLOOKUP(A373,'Crete Monee Totals 5-8'!A:B,2,0)","v":738654},110213413,{"$f":"VLOOKUP(A373,'AFR19'!A:K,12,0)","v":{"$error":"#REF!"}},{"$error":"#REF!"}]
[1078,321655118.68000001,{"$f":"VLOOKUP(A374,'Crete Monee Totals 5-8'!A:B,2,0)","v":3876962},317778156.68000001,{"$f":"VLOOKUP(A374,'AFR19'!A:K,12,0)","v":{"$error":"#REF!"}},{"$error":"#REF!"}]
[1080,532337427.68000001,{"$f":"VLOOKUP(A375,'Crete Monee Totals 5-8'!A:B,2,0)","v":5150069},527187358.68000001,{"$f":"VLOOKUP(A375,'AFR19'!A:K,12,0)","v":{"$error":"#REF!"}},{"$error":"#REF!"}]
[1081,41405050,{"$f":"VLOOKUP(A376,'Crete Monee Totals 5-8'!A:B,2,0)","v":18665},41386385,{"$f":"VLOOKUP(A376,'AFR19'!A:K,12,0)","v":{"$error":"#REF!"}},{"$error":"#REF!"}]
[1082,6104729135.1100006,{"$f":"VLOOKUP(A377,'Crete Monee Totals 5-8'!A:B,2,0)","v":20049492},6084679643.1100006,{"$f":"VLOOKUP(A377,'AFR19'!A:K,12,0)","v":{"$error":"#REF!"}},{"$error":"#REF!"}]
[1083,157232594,{"$f":"VLOOKUP(A378,'Crete Monee Totals 5-8'!A:B,2,0)","v":353255},156879339,{"$f":"VLOOKUP(A378,'AFR19'!A:K,12,0)","v":{"$error":"#REF!"}},{"$error":"#REF!"}]
[1084,741197906.94000006,{"$f":"VLOOKUP(A379,'Crete Monee Totals 5-8'!A:B,2,0)","v":1180976},740016930.94000006,{"$f":"VLOOKUP(A379,'AFR19'!A:K,12,0)","v":{"$error":"#REF!"}},{"$error":"#REF!"}]
[1085,996434,0,996434,{"$f":"VLOOKUP(A380,'AFR19'!A:K,12,0)","v":{"$error":"#REF!"}},{"$error":"#REF!"}]
[1086,130730,0,130730,{"$f":"VLOOKUP(A381,'AFR19'!A:K,12,0)","v":{"$error":"#REF!"}},{"$error":"#REF!"}]
[1088,293196,0,293196,{"$f":"VLOOKUP(A382,'AFR19'!A:K,12,0)","v":{"$error":"#REF!"}},{"$error":"#REF!"}]
[1090,32394652,0,32394652,{"$f":"VLOOKUP(A383,'AFR19'!A:K,12,0)","v":{"$error":"#REF!"}},{"$error":"#REF!"}]
[1091,21612703846.57,{"$f":"VLOOKUP(A384,'Crete Monee Totals 5-8'!A:B,2,0)","v":55533587},21557170259.57,{"$f":"VLOOKUP(A384,'AFR19'!A:K,12,0)","v":{"$error":"#REF!"}},{"$error":"#REF!"}]
[1092,1235723474.29,{"$f":"VLOOKUP(A385,'Crete Monee Totals 5-8'!A:B,2,0)","v":-3388167},1239111641.29,{"$f":"VLOOKUP(A385,'AFR19'!A:K,12,0)","v":{"$error":"#REF!"}},{"$error":"#REF!"}]
[1158,2729805,0,2729805,{"$f":"VLOOKUP(A386,'AFR19'!A:K,12,0)","v":{"$error":"#REF!"}},{"$error":"#REF!"}]
[1159,1045563,0,{"$f":"SUM(B387-C387)","v":1045563},{"$f":"VLOOKUP(A387,'AFR19'!A:K,12,0)","v":{"$error":"#REF!"}},{"$f":"SUM(D387-E387)","v":{"$error":"#REF!"}}]
[1160,610675508.8599999,{"$f":"VLOOKUP(A388,'Crete Monee Totals 5-8'!A:B,2,0)","v":1716883},608958625.8599999,{"$f":"VLOOKUP(A388,'AFR19'!A:K,12,0)","v":{"$error":"#REF!"}},{"$error":"#REF!"}]
[1162,614514065.8599999,{"$f":"VLOOKUP(A389,'Crete Monee Totals 5-8'!A:B,2,0)","v":1716883},612797182.8599999,{"$f":"VLOOKUP(A389,'AFR19'!A:K,12,0)","v":{"$error":"#REF!"}},{"$error":"#REF!"}]
[1163,1113815,0,1113815,{"$f":"VLOOKUP(A390,'AFR19'!A:K,12,0)","v":{"$error":"#REF!"}},{"$error":"#REF!"}]
[1164,615730305.8599999,{"$f":"VLOOKUP(A391,'Crete Monee Totals 5-8'!A:B,2,0)","v":1716883},614013422.8599999,{"$f":"VLOOKUP(A391,'AFR19'!A:K,12,0)","v":{"$error":"#REF!"}},{"$error":"#REF!"}]
[1165,616044748.8599999,{"$f":"VLOOKUP(A392,'Crete Monee Totals 5-8'!A:B,2,0)","v":1716883},614327865.8599999,{"$f":"VLOOKUP(A392,'AFR19'!A:K,12,0)","v":{"$error":"#REF!"}},{"$error":"#REF!"}]
[1166,492107,0,492107,{"$f":"VLOOKUP(A393,'AFR19'!A:K,12,0)","v":{"$error":"#REF!"}},{"$error":"#REF!"}]
[1167,150047,0,150047,{"$f":"VLOOKUP(A394,'AFR19'!A:K,12,0)","v":{"$error":"#REF!"}},{"$error":"#REF!"}]
[1168,123255576.03,{"$f":"VLOOKUP(A395,'Crete Monee Totals 5-8'!A:B,2,0)","v":373015},122882561.03,{"$f":"VLOOKUP(A395,'AFR19'!A:K,12,0)","v":{"$error":"#REF!"}},{"$error":"#REF!"}]
[1170,123911374.03,{"$f":"VLOOKUP(A396,'Crete Monee Totals 5-8'!A:B,2,0)","v":373015},123538359.03,{"$f":"VLOOKUP(A396,'AFR19'!A:K,12,0)","v":{"$error":"#REF!"}},{"$error":"#REF!"}]
[1171,183731,0,183731,{"$f":"VLOOKUP(A397,'AFR19'!A:K,12,0)","v":{"$error":"#REF!"}},{"$error":"#REF!"}]
[1172,124386369.03,{"$f":"VLOOKUP(A398,'Crete Monee Totals 5-8'!A:B,2,0)","v":373015},124013354.03,{"$f":"VLOOKUP(A398,'AFR19'!A:K,12,0)","v":{"$error":"#REF!"}},{"$error":"#REF!"}]
[1173,124386388.03,{"$f":"VLOOKUP(A399,'Crete Monee Totals 5-8'!A:B,2,0)","v":373015},124013373.03,{"$f":"VLOOKUP(A399,'AFR19'!A:K,12,0)","v":{"$error":"#REF!"}},{"$error":"#REF!"}]
[1174,1390461,0,1390461,{"$f":"VLOOKUP(A400,'AFR19'!A:K,12,0)","v":{"$error":"#REF!"}},{"$error":"#REF!"}]
[1175,13249969,0,13249969,{"$f":"VLOOKUP(A401,'AFR19'!A:K,12,0)","v":{"$error":"#REF!"}},{"$error":"#REF!"}]
[1176,637259012.98000002,{"$f":"VLOOKUP(A402,'Crete Monee Totals 5-8'!A:B,2,0)","v":882789},636376223.98000002,{"$f":"VLOOKUP(A402,'AFR19'!A:K,12,0)","v":{"$error":"#REF!"}},{"$error":"#REF!"}]
[1178,652176957.09000003,{"$f":"VLOOKUP(A403,'Crete Monee Totals 5-8'!A:B,2,0)","v":882789},651294168.09000003,{"$f":"VLOOKUP(A403,'AFR19'!A:K,12,0)","v":{"$error":"#REF!"}},{"$error":"#REF!"}]
[1179,1971924,0,1971924,{"$f":"VLOOKUP(A404,'AFR19'!A:K,12,0)","v":{"$error":"#REF!"}},{"$error":"#REF!"}]
[1180,654215354.09000003,{"$f":"VLOOKUP(A405,'Crete Monee Totals 5-8'!A:B,2,0)","v":882789},653332565.09000003,{"$f":"VLOOKUP(A405,'AFR19'!A:K,12,0)","v":{"$error":"#REF!"}},{"$error":"#REF!"}]
[1181,656627702.09000003,{"$f":"VLOOKUP(A406,'Crete Monee Totals 5-8'!A:B,2,0)","v":882789},655744913.09000003,{"$f":"VLOOKUP(A406,'AFR19'!A:K,12,0)","v":{"$error":"#REF!"}},{"$error":"#REF!"}]
[1182,49148,0,49148,{"$f":"VLOOKUP(A407,'AFR19'!A:K,12,0)","v":{"$error":"#REF!"}},{"$error":"#REF!"}]
[1183,524525,0,524525,{"$f":"VLOOKUP(A408,'AFR19'!A:K,12,0)","v":{"$error":"#REF!"}},{"$error":"#REF!"}]
[1184,469630568.32999998,{"$f":"VLOOKUP(A409,'Crete Monee Totals 5-8'!A:B,2,0)","v":1149873},468480695.32999998,{"$f":"VLOOKUP(A409,'AFR19'!A:K,12,0)","v":{"$error":"#REF!"}},{"$error":"#REF!"}]
[1186,470314919.32999998,{"$f":"VLOOKUP(A410,'Crete Monee Totals 5-8'!A:B,2,0)","v":1149873},469165046.32999998,{"$f":"VLOOKUP(A410,'AFR19'!A:K,12,0)","v":{"$error":"#REF!"}},{"$error":"#REF!"}]
[1187,88374,0,88374,{"$f":"VLOOKUP(A411,'AFR19'!A:K,12,0)","v":{"$error":"#REF!"}},{"$error":"#REF!"}]
[1188,470406503.32999998,{"$f":"VLOOKUP(A412,'Crete Monee Totals 5-8'!A:B,2,0)","v":1149873},469256630.32999998,{"$f":"VLOOKUP(A412,'AFR19'!A:K,12,0)","v":{"$error":"#REF!"}},{"$error":"#REF!"}]
[1189,470416586.32999998,{"$f":"VLOOKUP(A413,'Crete Monee Totals 5-8'!A:B,2,0)","v":1149873},469266713.32999998,{"$f":"VLOOKUP(A413,'AFR19'!A:K,12,0)","v":{"$error":"#REF!"}},{"$error":"#REF!"}]
[1190,278746,0,278746,{"$f":"VLOOKUP(A414,'AFR19'!A:K,12,0)","v":{"$error":"#REF!"}},{"$error":"#REF!"}]
[1191,118952872,0,118952872,{"$f":"VLOOKUP(A415,'AFR19'!A:K,12,0)","v":{"$error":"#REF!"}},{"$error":"#REF!"}]
[1192,178997104.59999999,{"$f":"VLOOKUP(A416,'Crete Monee Totals 5-8'!A:B,2,0)","v":150313},178846791.59999999,{"$f":"VLOOKUP(A416,'AFR19'!A:K,12,0)","v":{"$error":"#REF!"}},{"$error":"#REF!"}]
[1193,331017,0,331017,{"$f":"VLOOKUP(A417,'AFR19'!A:K,12,0)","v":{"$error":"#REF!"}},{"$error":"#REF!"}]
[1195,298663033.60000002,{"$f":"VLOOKUP(A418,'Crete Monee Totals 5-8'!A:B,2,0)","v":150313},298512720.60000002,{"$f":"VLOOKUP(A418,'AFR19'!A:K,12,0)","v":{"$error":"#REF!"}},{"$error":"#REF!"}]
[1196,407229,0,407229,{"$f":"VLOOKUP(A419,'AFR19'!A:K,12,0)","v":{"$error":"#REF!"}},{"$error":"#REF!"}]
[1197,299072016.60000002,{"$f":"VLOOKUP(A420,'Crete Monee Totals 5-8'!A:B,2,0)","v":150313},298921703.60000002,{"$f":"VLOOKUP(A420,'AFR19'!A:K,12,0)","v":{"$error":"#REF!"}},{"$error":"#REF!"}]
[1198,299119187.60000002,{"$f":"VLOOKUP(A421,'Crete Monee Totals 5-8'!A:B,2,0)","v":150313},298968874.60000002,{"$f":"VLOOKUP(A421,'AFR19'!A:K,12,0)","v":{"$error":"#REF!"}},{"$error":"#REF!"}]
[1199,49581,0,49581,{"$f":"VLOOKUP(A422,'AFR19'!A:K,12,0)","v":{"$error":"#REF!"}},{"$error":"#REF!"}]
[1200,391513,0,391513,{"$f":"VLOOKUP(A423,'AFR19'!A:K,12,0)","v":{"$error":"#REF!"}},{"$error":"#REF!"}]
[1201,2786918,{"$f":"VLOOKUP(A424,'Crete Monee Totals 5-8'!A:B,2,0)","v":2117},2784801,{"$f":"VLOOKUP(A424,'AFR19'!A:K,12,0)","v":{"$error":"#REF!"}},{"$error":"#REF!"}]
[1203,3228012,{"$f":"VLOOKUP(A425,'Crete Monee Totals 5-8'!A:B,2,0)","v":2117},3225895,{"$f":"VLOOKUP(A425,'AFR19'!A:K,12,0)","v":{"$error":"#REF!"}},{"$error":"#REF!"}]
[1204,7015,0,7015,{"$f":"VLOOKUP(A426,'AFR19'!A:K,12,0)","v":{"$error":"#REF!"}},{"$error":"#REF!"}]
[1205,3235027,{"$f":"VLOOKUP(A427,'Crete Monee Totals 5-8'!A:B,2,0)","v":2117},3232910,{"$f":"VLOOKUP(A427,'AFR19'!A:K,12,0)","v":{"$error":"#REF!"}},{"$error":"#REF!"}]
[1206,3315452,0,3315452,{"$f":"VLOOKUP(A428,'AFR19'!A:K,12,0)","v":{"$error":"#REF!"}},{"$error":"#REF!"}]
[1207,42020,0,42020,{"$f":"VLOOKUP(A429,'AFR19'!A:K,12,0)","v":{"$error":"#REF!"}},{"$error":"#REF!"}]
[1209,52484,0,52484,{"$f":"VLOOKUP(A430,'AFR19'!A:K,12,0)","v":{"$error":"#REF!"}},{"$error":"#REF!"}]
[1211,465579,0,465579,{"$f":"VLOOKUP(A431,'AFR19'!A:K,12,0)","v":{"$error":"#REF!"}},{"$error":"#REF!"}]
[1212,8466058,{"$f":"VLOOKUP(A432,'Crete Monee Totals 5-8'!A:B,2,0)","v":2117},8463941,{"$f":"VLOOKUP(A432,'AFR19'!A:K,12,0)","v":{"$error":"#REF!"}},{"$error":"#REF!"}]
[1213,4995879,0,4995879,{"$f":"VLOOKUP(A433,'AFR19'!A:K,12,0)","v":{"$error":"#REF!"}},{"$error":"#REF!"}]
[1214,135647086,0,135647086,{"$f":"VLOOKUP(A434,'AFR19'!A:K,12,0)","v":{"$error":"#REF!"}},{"$error":"#REF!"}]
[1215,2031689555.8000002,{"$f":"VLOOKUP(A435,'Crete Monee Totals 5-8'!A:B,2,0)","v":4302232},2027387323.8000002,{"$f":"VLOOKUP(A435,'AFR19'!A:K,12,0)","v":{"$error":"#REF!"}},{"$error":"#REF!"}]
[1216,412408,0,412408,{"$f":"VLOOKUP(A436,'AFR19'!A:K,12,0)","v":{"$error":"#REF!"}},{"$error":"#REF!"}]
[1218,2173316550.9099998,{"$f":"VLOOKUP(A437,'Crete Monee Totals 5-8'!A:B,2,0)","v":4302232},2169014318.9099998,{"$f":"VLOOKUP(A437,'AFR19'!A:K,12,0)","v":{"$error":"#REF!"}},{"$error":"#REF!"}]
[1219,3791478,0,3791478,{"$f":"VLOOKUP(A438,'AFR19'!A:K,12,0)","v":{"$error":"#REF!"}},{"$error":"#REF!"}]
[1220,2177573154.9099998,{"$f":"VLOOKUP(A439,'Crete Monee Totals 5-8'!A:B,2,0)","v":4302232},2173270922.9099998,{"$f":"VLOOKUP(A439,'AFR19'!A:K,12,0)","v":{"$error":"#REF!"}},{"$error":"#REF!"}]
[1221,5672478,0,5672478,{"$f":"VLOOKUP(A440,'AFR19'!A:K,12,0)","v":{"$error":"#REF!"}},{"$error":"#REF!"}]
[1222,42020,0,42020,{"$f":"VLOOKUP(A441,'AFR19'!A:K,12,0)","v":{"$error":"#REF!"}},{"$error":"#REF!"}]
[1224,52484,0,52484,{"$f":"VLOOKUP(A442,'AFR19'!A:K,12,0)","v":{"$error":"#REF!"}},{"$error":"#REF!"}]
[1226,465579,0,465579,{"$f":"VLOOKUP(A443,'AFR19'!A:K,12,0)","v":{"$error":"#REF!"}},{"$error":"#REF!"}]
[1227,2185589127.9099998,{"$f":"VLOOKUP(A444,'Crete Monee Totals 5-8'!A:B,2,0)","v":4302232},2181286895.9099998,{"$f":"VLOOKUP(A444,'AFR19'!A:K,12,0)","v":{"$error":"#REF!"}},{"$error":"#REF!"}]
[1228,87171775.850000009,{"$f":"VLOOKUP(A445,'Crete Monee Totals 5-8'!A:B,2,0)","v":4942},87166833.850000009,{"$f":"VLOOKUP(A445,'AFR19'!A:K,12,0)","v":{"$error":"#REF!"}},{"$error":"#REF!"}]
[1246,5178488,{"$f":"VLOOKUP(A446,'Crete Monee Totals 5-8'!A:B,2,0)","v":725},5177763,{"$f":"VLOOKUP(A446,'AFR19'!A:K,12,0)","v":{"$error":"#REF!"}},{"$error":"#REF!"}]
[1247,5178488,{"$f":"VLOOKUP(A447,'Crete Monee Totals 5-8'!A:B,2,0)","v":725},5177763,{"$f":"VLOOKUP(A447,'AFR19'!A:K,12,0)","v":{"$error":"#REF!"}},{"$error":"#REF!"}]
[1248,5178488,{"$f":"VLOOKUP(A448,'Crete Monee Totals 5-8'!A:B,2,0)","v":725},5177763,{"$f":"VLOOKUP(A448,'AFR19'!A:K,12,0)","v":{"$error":"#REF!"}},{"$error":"#REF!"}]
[1249,17709,0,17709,{"$f":"VLOOKUP(A449,'AFR19'!A:K,12,0)","v":{"$error":"#REF!"}},{"$error":"#REF!"}]
[1251,1017999205,{"$f":"VLOOKUP(A450,'Crete Monee Totals 5-8'!A:B,2,0)","v":1200978},1016798227,{"$f":"VLOOKUP(A450,'AFR19'!A:K,12,0)","v":{"$error":"#REF!"}},{"$error":"#REF!"}]
[1252,616678,0,{"$f":"SUM(B451-C451)","v":616678},{"$f":"VLOOKUP(A451,'AFR19'!A:K,12,0)","v":{"$error":"#REF!"}},{"$f":"SUM(D451-E451)","v":{"$error":"#REF!"}}]
[1253,2583817,0,2583817,{"$f":"VLOOKUP(A452,'AFR19'!A:K,12,0)","v":{"$error":"#REF!"}},{"$error":"#REF!"}]
[1254,1889344526,{"$f":"VLOOKUP(A453,'Crete Monee Totals 5-8'!A:B,2,0)","v":10491392},1878853134,{"$f":"VLOOKUP(A453,'AFR19'!A:K,12,0)","v":{"$error":"#REF!"}},{"$error":"#REF!"}]
[1255,83881742,0,83881742,{"$f":"VLOOKUP(A454,'AFR19'!A:K,12,0)","v":{"$error":"#REF!"}},{"$error":"#REF!"}]
[1256,2993809290,{"$f":"VLOOKUP(A455,'Crete Monee Totals 5-8'!A:B,2,0)","v":11692370},2982116920,{"$f":"VLOOKUP(A455,'AFR19'!A:K,12,0)","v":{"$error":"#REF!"}},{"$error":"#REF!"}]
[1257,2993949273,{"$f":"VLOOKUP(A456,'Crete Monee Totals 5-8'!A:B,2,0)","v":11692370},2982256903,{"$f":"VLOOKUP(A456,'AFR19'!A:K,12,0)","v":{"$error":"#REF!"}},{"$error":"#REF!"}]
[1263,17709,0,17709,{"$f":"VLOOKUP(A457,'AFR19'!A:K,12,0)","v":{"$error":"#REF!"}},{"$error":"#REF!"}]
[1265,1017999205,{"$f":"VLOOKUP(A458,'Crete Monee Totals 5-8'!A:B,2,0)","v":1200978},1016798227,{"$f":"VLOOKUP(A458,'AFR19'!A:K,12,0)","v":{"$error":"#REF!"}},{"$error":"#REF!"}]
[1266,616678,0,616678,{"$f":"VLOOKUP(A459,'AFR19'!A:K,12,0)","v":{"$error":"#REF!"}},{"$error":"#REF!"}]
[1267,2583817,0,2583817,{"$f":"VLOOKUP(A460,'AFR19'!A:K,12,0)","v":{"$error":"#REF!"}},{"$error":"#REF!"}]
[1268,1889344526,{"$f":"VLOOKUP(A461,'Crete Monee Totals 5-8'!A:B,2,0)","v":10491392},1878853134,{"$f":"VLOOKUP(A461,'AFR19'!A:K,12,0)","v":{"$error":"#REF!"}},{"$error":"#REF!"}]
[1269,89060230,{"$f":"VLOOKUP(A462,'Crete Monee Totals 5-8'!A:B,2,0)","v":725},89059505,{"$f":"VLOOKUP(A462,'AFR19'!A:K,12,0)","v":{"$error":"#REF!"}},{"$error":"#REF!"}]
[1270,2998987778,{"$f":"VLOOKUP(A463,'Crete Monee Totals 5-8'!A:B,2,0)","v":11693095},2987294683,{"$f":"VLOOKUP(A463,'AFR19'!A:K,12,0)","v":{"$error":"#REF!"}},{"$error":"#REF!"}]
[1271,2999127761,{"$f":"VLOOKUP(A464,'Crete Monee Totals 5-8'!A:B,2,0)","v":11693095},2987434666,{"$f":"VLOOKUP(A464,'AFR19'!A:K,12,0)","v":{"$error":"#REF!"}},{"$error":"#REF!"}]
[1272,-790574024.20000005,{"$f":"VLOOKUP(A465,'Crete Monee Totals 5-8'!A:B,2,0)","v":28738},-790602762.20000005,{"$f":"VLOOKUP(A465,'AFR19'!A:K,12,0)","v":{"$error":"#REF!"}},{"$error":"#REF!"}]
[1274,250349814.88,{"$f":"VLOOKUP(A466,'Crete Monee Totals 5-8'!A:B,2,0)","v":333807},250016007.88,{"$f":"VLOOKUP(A466,'AFR19'!A:K,12,0)","v":{"$error":"#REF!"}},{"$error":"#REF!"}]
[1277,1252696,0,1252696,{"$f":"VLOOKUP(A467,'AFR19'!A:K,12,0)","v":{"$error":"#REF!"}},{"$error":"#REF!"}]
[1278,252044668.88,{"$f":"VLOOKUP(A468,'Crete Monee Totals 5-8'!A:B,2,0)","v":333807},251710861.88,{"$f":"VLOOKUP(A468,'AFR19'!A:K,12,0)","v":{"$error":"#REF!"}},{"$error":"#REF!"}]
[1279,252082332.88,{"$f":"VLOOKUP(A469,'Crete Monee Totals 5-8'!A:B,2,0)","v":333807},251748525.88,{"$f":"VLOOKUP(A469,'AFR19'!A:K,12,0)","v":{"$error":"#REF!"}},{"$error":"#REF!"}]
[1280,43444975.32,{"$f":"VLOOKUP(A470,'Crete Monee Totals 5-8'!A:B,2,0)","v":26214},43418761.32,{"$f":"VLOOKUP(A470,'AFR19'!A:K,12,0)","v":{"$error":"#REF!"}},{"$error":"#REF!"}]
[1283,283749,0,283749,{"$f":"VLOOKUP(A471,'AFR19'!A:K,12,0)","v":{"$error":"#REF!"}},{"$error":"#REF!"}]
[1284,43775020.32,{"$f":"VLOOKUP(A472,'Crete Monee Totals 5-8'!A:B,2,0)","v":26214},43748806.32,{"$f":"VLOOKUP(A472,'AFR19'!A:K,12,0)","v":{"$error":"#REF!"}},{"$error":"#REF!"}]
[1285,43775749.32,{"$f":"VLOOKUP(A473,'Crete Monee Totals 5-8'!A:B,2,0)","v":26214},43749535.32,{"$f":"VLOOKUP(A473,'AFR19'!A:K,12,0)","v":{"$error":"#REF!"}},{"$error":"#REF!"}]
[1286,721182148.89999998,{"$f":"VLOOKUP(A474,'Crete Monee Totals 5-8'!A:B,2,0)","v":5860429},715321719.89999998,{"$f":"VLOOKUP(A474,'AFR19'!A:K,12,0)","v":{"$error":"#REF!"}},{"$error":"#REF!"}]
[1289,339444,0,339444,{"$f":"VLOOKUP(A475,'AFR19'!A:K,12,0)","v":{"$error":"#REF!"}},{"$error":"#REF!"}]
[1290,723759926.89999998,{"$f":"VLOOKUP(A476,'Crete Monee Totals 5-8'!A:B,2,0)","v":5860429},717899497.89999998,{"$f":"VLOOKUP(A476,'AFR19'!A:K,12,0)","v":{"$error":"#REF!"}},{"$error":"#REF!"}]
[1291,12729286,0,12729286,{"$f":"VLOOKUP(A477,'AFR19'!A:K,12,0)","v":{"$error":"#REF!"}},{"$error":"#REF!"}]
[1292,736663388.89999998,{"$f":"VLOOKUP(A478,'Crete Monee Totals 5-8'!A:B,2,0)","v":5860429},730802959.89999998,{"$f":"VLOOKUP(A478,'AFR19'!A:K,12,0)","v":{"$error":"#REF!"}},{"$error":"#REF!"}]
[1293,67522247.349999994,0,67522247.349999994,{"$f":"VLOOKUP(A479,'AFR19'!A:K,12,0)","v":{"$error":"#REF!"}},{"$error":"#REF!"}]
[1296,75692,0,75692,{"$f":"VLOOKUP(A480,'AFR19'!A:K,12,0)","v":{"$error":"#REF!"}},{"$error":"#REF!"}]
[1297,67625025.349999994,0,67625025.349999994,{"$f":"VLOOKUP(A481,'AFR19'!A:K,12,0)","v":{"$error":"#REF!"}},{"$error":"#REF!"}]
[1298,67628153.349999994,0,67628153.349999994,{"$f":"VLOOKUP(A482,'AFR19'!A:K,12,0)","v":{"$error":"#REF!"}},{"$error":"#REF!"}]
[1299,74031959.75,0,74031959.75,{"$f":"VLOOKUP(A483,'AFR19'!A:K,12,0)","v":{"$error":"#REF!"}},{"$error":"#REF!"}]
[1303,74031959.75,0,74031959.75,{"$f":"VLOOKUP(A484,'AFR19'!A:K,12,0)","v":{"$error":"#REF!"}},{"$error":"#REF!"}]
[1304,74031959.75,0,74031959.75,{"$f":"VLOOKUP(A485,'AFR19'!A:K,12,0)","v":{"$error":"#REF!"}},{"$error":"#REF!"}]
[1305,3008866,0,3008866,{"$f":"VLOOKUP(A486,'AFR19'!A:K,12,0)","v":{"$error":"#REF!"}},{"$error":"#REF!"}]
[1308,8731,0,8731,{"$f":"VLOOKUP(A487,'AFR19'!A:K,12,0)","v":{"$error":"#REF!"}},{"$error":"#REF!"}]
[1309,3017597,0,3017597,{"$f":"VLOOKUP(A488,'AFR19'!A:K,12,0)","v":{"$error":"#REF!"}},{"$error":"#REF!"}]
[1310,10649,0,10649,{"$f":"VLOOKUP(A489,'AFR19'!A:K,12,0)","v":{"$error":"#REF!"}},{"$error":"#REF!"}]
[1312,173198,0,173198,{"$f":"VLOOKUP(A490,'AFR19'!A:K,12,0)","v":{"$error":"#REF!"}},{"$error":"#REF!"}]
[1314,16375090,0,16375090,{"$f":"VLOOKUP(A491,'AFR19'!A:K,12,0)","v":{"$error":"#REF!"}},{"$error":"#REF!"}]
[1315,23480545,0,23480545,{"$f":"VLOOKUP(A492,'AFR19'!A:K,12,0)","v":{"$error":"#REF!"}},{"$error":"#REF!"}]
[1316,1161088764.1999998,{"$f":"VLOOKUP(A493,'Crete Monee Totals 5-8'!A:B,2,0)","v":6220450},1154868314.1999998,{"$f":"VLOOKUP(A493,'AFR19'!A:K,12,0)","v":{"$error":"#REF!"}},{"$error":"#REF!"}]
[1319,1960312,0,1960312,{"$f":"VLOOKUP(A494,'AFR19'!A:K,12,0)","v":{"$error":"#REF!"}},{"$error":"#REF!"}]
[1320,1165802950.1999998,{"$f":"VLOOKUP(A495,'Crete Monee Totals 5-8'!A:B,2,0)","v":6220450},1159582500.1999998,{"$f":"VLOOKUP(A495,'AFR19'!A:K,12,0)","v":{"$error":"#REF!"}},{"$error":"#REF!"}]
[1321,15567144,0,15567144,{"$f":"VLOOKUP(A496,'AFR19'!A:K,12,0)","v":{"$error":"#REF!"}},{"$error":"#REF!"}]
[1322,10649,0,10649,{"$f":"VLOOKUP(A497,'AFR19'!A:K,12,0)","v":{"$error":"#REF!"}},{"$error":"#REF!"}]
[1324,173198,0,173198,{"$f":"VLOOKUP(A498,'AFR19'!A:K,12,0)","v":{"$error":"#REF!"}},{"$error":"#REF!"}]
[1326,16375090,0,16375090,{"$f":"VLOOKUP(A499,'AFR19'!A:K,12,0)","v":{"$error":"#REF!"}},{"$error":"#REF!"}]
[1327,1199210881.1999998,{"$f":"VLOOKUP(A500,'Crete Monee Totals 5-8'!A:B,2,0)","v":6220450},1192990431.1999998,{"$f":"VLOOKUP(A500,'AFR19'!A:K,12,0)","v":{"$error":"#REF!"}},{"$error":"#REF!"}]
[1328,183827028.53999999,{"$f":"VLOOKUP(A501,'Crete Monee Totals 5-8'!A:B,2,0)","v":1739001},182088027.53999999,{"$f":"VLOOKUP(A501,'AFR19'!A:K,12,0)","v":{"$error":"#REF!"}},{"$error":"#REF!"}]
[1335,717612,0,717612,{"$f":"VLOOKUP(A502,'AFR19'!A:K,12,0)","v":{"$error":"#REF!"}},{"$error":"#REF!"}]
[1341,7874022,0,7874022,{"$f":"VLOOKUP(A503,'AFR19'!A:K,12,0)","v":{"$error":"#REF!"}},{"$error":"#REF!"}]
[1345,705456,0,705456,{"$f":"VLOOKUP(A504,'AFR19'!A:K,12,0)","v":{"$error":"#REF!"}},{"$error":"#REF!"}]
[1346,2907885.37,{"$f":"VLOOKUP(A505,'Crete Monee Totals 5-8'!A:B,2,0)","v":1188},2906697.37,{"$f":"VLOOKUP(A505,'AFR19'!A:K,12,0)","v":{"$error":"#REF!"}},{"$error":"#REF!"}]
[1347,11813419.68,{"$f":"VLOOKUP(A506,'Crete Monee Totals 5-8'!A:B,2,0)","v":42200},11771219.68,{"$f":"VLOOKUP(A506,'AFR19'!A:K,12,0)","v":{"$error":"#REF!"}},{"$error":"#REF!"}]
[1348,1893851.9,{"$f":"VLOOKUP(A507,'Crete Monee Totals 5-8'!A:B,2,0)","v":4150},1889701.9,{"$f":"VLOOKUP(A507,'AFR19'!A:K,12,0)","v":{"$error":"#REF!"}},{"$error":"#REF!"}]
[1349,242327922.34000003,{"$f":"VLOOKUP(A508,'Crete Monee Totals 5-8'!A:B,2,0)","v":736524},241591398.34000003,{"$f":"VLOOKUP(A508,'AFR19'!A:K,12,0)","v":{"$error":"#REF!"}},{"$error":"#REF!"}]
[1350,8227412,{"$f":"VLOOKUP(A509,'Crete Monee Totals 5-8'!A:B,2,0)","v":18906},8208506,{"$f":"VLOOKUP(A509,'AFR19'!A:K,12,0)","v":{"$error":"#REF!"}},{"$error":"#REF!"}]
[1351,6860757,{"$f":"VLOOKUP(A510,'Crete Monee Totals 5-8'!A:B,2,0)","v":16682},6844075,{"$f":"VLOOKUP(A510,'AFR19'!A:K,12,0)","v":{"$error":"#REF!"}},{"$error":"#REF!"}]
[1352,17380207.640000001,{"$f":"VLOOKUP(A511,'Crete Monee Totals 5-8'!A:B,2,0)","v":66111},17314096.640000001,{"$f":"VLOOKUP(A511,'AFR19'!A:K,12,0)","v":{"$error":"#REF!"}},{"$error":"#REF!"}]
[1353,1826358,{"$f":"VLOOKUP(A512,'Crete Monee Totals 5-8'!A:B,2,0)","v":6170},1820188,{"$f":"VLOOKUP(A512,'AFR19'!A:K,12,0)","v":{"$error":"#REF!"}},{"$error":"#REF!"}]
[1354,2755530,{"$f":"VLOOKUP(A513,'Crete Monee Totals 5-8'!A:B,2,0)","v":12829},2742701,{"$f":"VLOOKUP(A513,'AFR19'!A:K,12,0)","v":{"$error":"#REF!"}},{"$error":"#REF!"}]
[1355,6761330,{"$f":"VLOOKUP(A514,'Crete Monee Totals 5-8'!A:B,2,0)","v":15870},6745460,{"$f":"VLOOKUP(A514,'AFR19'!A:K,12,0)","v":{"$error":"#REF!"}},{"$error":"#REF!"}]
[1356,43811594.640000001,{"$f":"VLOOKUP(A515,'Crete Monee Totals 5-8'!A:B,2,0)","v":136568},{"$f":"SUM(B515-C515)","v":43675026.640000001},{"$f":"VLOOKUP(A515,'AFR19'!A:K,12,0)","v":{"$error":"#REF!"}},{"$f":"SUM(D515-E515)","v":{"$error":"#REF!"}}]
[1357,7933295.8200000003,{"$f":"VLOOKUP(A516,'Crete Monee Totals 5-8'!A:B,2,0)","v":34000},7899295.8200000003,{"$f":"VLOOKUP(A516,'AFR19'!A:K,12,0)","v":{"$error":"#REF!"}},{"$error":"#REF!"}]
[1358,17036872.75,{"$f":"VLOOKUP(A517,'Crete Monee Totals 5-8'!A:B,2,0)","v":19007},17017865.75,{"$f":"VLOOKUP(A517,'AFR19'!A:K,12,0)","v":{"$error":"#REF!"}},{"$error":"#REF!"}]
[1359,653223,0,653223,{"$f":"VLOOKUP(A518,'AFR19'!A:K,12,0)","v":{"$error":"#REF!"}},{"$error":"#REF!"}]
[1360,25623391.57,{"$f":"VLOOKUP(A519,'Crete Monee Totals 5-8'!A:B,2,0)","v":53007},25570384.57,{"$f":"VLOOKUP(A519,'AFR19'!A:K,12,0)","v":{"$error":"#REF!"}},{"$error":"#REF!"}]
[1361,9615542,0,9615542,{"$f":"VLOOKUP(A520,'AFR19'!A:K,12,0)","v":{"$error":"#REF!"}},{"$error":"#REF!"}]
[1362,9993548.1099999994,{"$f":"VLOOKUP(A521,'Crete Monee Totals 5-8'!A:B,2,0)","v":18175},9975373.1099999994,{"$f":"VLOOKUP(A521,'AFR19'!A:K,12,0)","v":{"$error":"#REF!"}},{"$error":"#REF!"}]
[1363,28028958.300000001,{"$f":"VLOOKUP(A522,'Crete Monee Totals 5-8'!A:B,2,0)","v":18175},28010783.300000001,{"$f":"VLOOKUP(A522,'AFR19'!A:K,12,0)","v":{"$error":"#REF!"}},{"$error":"#REF!"}]
[1364,44929378.339999996,{"$f":"VLOOKUP(A523,'Crete Monee Totals 5-8'!A:B,2,0)","v":134318},44795060.339999996,{"$f":"VLOOKUP(A523,'AFR19'!A:K,12,0)","v":{"$error":"#REF!"}},{"$error":"#REF!"}]
[1365,1977560,{"$f":"VLOOKUP(A524,'Crete Monee Totals 5-8'!A:B,2,0)","v":14019},1963541,{"$f":"VLOOKUP(A524,'AFR19'!A:K,12,0)","v":{"$error":"#REF!"}},{"$error":"#REF!"}]
[1366,46906938.339999996,{"$f":"VLOOKUP(A525,'Crete Monee Totals 5-8'!A:B,2,0)","v":148337},46758601.339999996,{"$f":"VLOOKUP(A525,'AFR19'!A:K,12,0)","v":{"$error":"#REF!"}},{"$error":"#REF!"}]
[1367,4126938,{"$f":"VLOOKUP(A526,'Crete Monee Totals 5-8'!A:B,2,0)","v":11297},4115641,{"$f":"VLOOKUP(A526,'AFR19'!A:K,12,0)","v":{"$error":"#REF!"}},{"$error":"#REF!"}]
[1368,17336980.850000001,{"$f":"VLOOKUP(A527,'Crete Monee Totals 5-8'!A:B,2,0)","v":58582},17278398.850000001,{"$f":"VLOOKUP(A527,'AFR19'!A:K,12,0)","v":{"$error":"#REF!"}},{"$error":"#REF!"}]
[1369,328662,0,328662,{"$f":"VLOOKUP(A528,'AFR19'!A:K,12,0)","v":{"$error":"#REF!"}},{"$error":"#REF!"}]
[1370,113409003.76000001,{"$f":"VLOOKUP(A529,'Crete Monee Totals 5-8'!A:B,2,0)","v":345253},113063750.76000001,{"$f":"VLOOKUP(A529,'AFR19'!A:K,12,0)","v":{"$error":"#REF!"}},{"$error":"#REF!"}]
[1371,42957400.640000001,{"$f":"VLOOKUP(A530,'Crete Monee Totals 5-8'!A:B,2,0)","v":17280},42940120.640000001,{"$f":"VLOOKUP(A530,'AFR19'!A:K,12,0)","v":{"$error":"#REF!"}},{"$error":"#REF!"}]
[1372,22751663.460000001,{"$f":"VLOOKUP(A531,'Crete Monee Totals 5-8'!A:B,2,0)","v":128888},22622775.460000001,{"$f":"VLOOKUP(A531,'AFR19'!A:K,12,0)","v":{"$error":"#REF!"}},{"$error":"#REF!"}]
[1373,1763853,0,1763853,{"$f":"VLOOKUP(A532,'AFR19'!A:K,12,0)","v":{"$error":"#REF!"}},{"$error":"#REF!"}]
[1375,202674501.71000001,{"$f":"VLOOKUP(A533,'Crete Monee Totals 5-8'!A:B,2,0)","v":561300},202113201.71000001,{"$f":"VLOOKUP(A533,'AFR19'!A:K,12,0)","v":{"$error":"#REF!"}},{"$error":"#REF!"}]
[1376,400555,0,400555,{"$f":"VLOOKUP(A534,'AFR19'!A:K,12,0)","v":{"$error":"#REF!"}},{"$error":"#REF!"}]
[1377,1188401,{"$f":"VLOOKUP(A535,'Crete Monee Totals 5-8'!A:B,2,0)","v":1818},1186583,{"$f":"VLOOKUP(A535,'AFR19'!A:K,12,0)","v":{"$error":"#REF!"}},{"$error":"#REF!"}]
[1378,4194119,{"$f":"VLOOKUP(A536,'Crete Monee Totals 5-8'!A:B,2,0)","v":42756},4151363,{"$f":"VLOOKUP(A536,'AFR19'!A:K,12,0)","v":{"$error":"#REF!"}},{"$error":"#REF!"}]
[1379,5393397,{"$f":"VLOOKUP(A537,'Crete Monee Totals 5-8'!A:B,2,0)","v":50002},5343395,{"$f":"VLOOKUP(A537,'AFR19'!A:K,12,0)","v":{"$error":"#REF!"}},{"$error":"#REF!"}]
[1381,15341270,{"$f":"VLOOKUP(A538,'Crete Monee Totals 5-8'!A:B,2,0)","v":106010},15235260,{"$f":"VLOOKUP(A538,'AFR19'!A:K,12,0)","v":{"$error":"#REF!"}},{"$error":"#REF!"}]
[1383,26517742,{"$f":"VLOOKUP(A539,'Crete Monee Totals 5-8'!A:B,2,0)","v":200586},26317156,{"$f":"VLOOKUP(A539,'AFR19'!A:K,12,0)","v":{"$error":"#REF!"}},{"$error":"#REF!"}]
[1384,1489513,{"$f":"VLOOKUP(A540,'Crete Monee Totals 5-8'!A:B,2,0)","v":2971},1486542,{"$f":"VLOOKUP(A540,'AFR19'!A:K,12,0)","v":{"$error":"#REF!"}},{"$error":"#REF!"}]
[1385,375052639.55999994,{"$f":"VLOOKUP(A541,'Crete Monee Totals 5-8'!A:B,2,0)","v":1120944},373931695.55999994,{"$f":"VLOOKUP(A541,'AFR19'!A:K,12,0)","v":{"$error":"#REF!"}},{"$error":"#REF!"}]
[1386,5728822,{"$f":"VLOOKUP(A542,'Crete Monee Totals 5-8'!A:B,2,0)","v":834},5727988,{"$f":"VLOOKUP(A542,'AFR19'!A:K,12,0)","v":{"$error":"#REF!"}},{"$error":"#REF!"}]
[1387,625629915.89999998,{"$f":"VLOOKUP(A543,'Crete Monee Totals 5-8'!A:B,2,0)","v":1858302},623771613.89999998,{"$f":"VLOOKUP(A543,'AFR19'!A:K,12,0)","v":{"$error":"#REF!"}},{"$error":"#REF!"}]
[1399,717612,0,717612,{"$f":"VLOOKUP(A544,'AFR19'!A:K,12,0)","v":{"$error":"#REF!"}},{"$error":"#REF!"}]
[1405,7874022,0,7874022,{"$f":"VLOOKUP(A545,'AFR19'!A:K,12,0)","v":{"$error":"#REF!"}},{"$error":"#REF!"}]
[1409,705456,0,705456,{"$f":"VLOOKUP(A546,'AFR19'!A:K,12,0)","v":{"$error":"#REF!"}},{"$error":"#REF!"}]
[1410,2907885.37,{"$f":"VLOOKUP(A547,'Crete Monee Totals 5-8'!A:B,2,0)","v":1188},2906697.37,{"$f":"VLOOKUP(A547,'AFR19'!A:K,12,0)","v":{"$error":"#REF!"}},{"$error":"#REF!"}]
[1411,11813419.68,{"$f":"VLOOKUP(A548,'Crete Monee Totals 5-8'!A:B,2,0)","v":42200},11771219.68,{"$f":"VLOOKUP(A548,'AFR19'!A:K,12,0)","v":{"$error":"#REF!"}},{"$error":"#REF!"}]
[1412,1893851.9,{"$f":"VLOOKUP(A549,'Crete Monee Totals 5-8'!A:B,2,0)","v":4150},1889701.9,{"$f":"VLOOKUP(A549,'AFR19'!A:K,12,0)","v":{"$error":"#REF!"}},{"$error":"#REF!"}]
[1413,242327922.34000003,{"$f":"VLOOKUP(A550,'Crete Monee Totals 5-8'!A:B,2,0)","v":736524},241591398.34000003,{"$f":"VLOOKUP(A550,'AFR19'!A:K,12,0)","v":{"$error":"#REF!"}},{"$error":"#REF!"}]
[1414,8227412,{"$f":"VLOOKUP(A551,'Crete Monee Totals 5-8'!A:B,2,0)","v":18906},8208506,{"$f":"VLOOKUP(A551,'AFR19'!A:K,12,0)","v":{"$error":"#REF!"}},{"$error":"#REF!"}]
[1415,6860757,{"$f":"VLOOKUP(A552,'Crete Monee Totals 5-8'!A:B,2,0)","v":16682},6844075,{"$f":"VLOOKUP(A552,'AFR19'!A:K,12,0)","v":{"$error":"#REF!"}},{"$error":"#REF!"}]
[1416,17380207.640000001,{"$f":"VLOOKUP(A553,'Crete Monee Totals 5-8'!A:B,2,0)","v":66111},17314096.640000001,{"$f":"VLOOKUP(A553,'AFR19'!A:K,12,0)","v":{"$error":"#REF!"}},{"$error":"#REF!"}]
[1417,1826358,{"$f":"VLOOKUP(A554,'Crete Monee Totals 5-8'!A:B,2,0)","v":6170},1820188,{"$f":"VLOOKUP(A554,'AFR19'!A:K,12,0)","v":{"$error":"#REF!"}},{"$error":"#REF!"}]
[1418,2755530,{"$f":"VLOOKUP(A555,'Crete Monee Totals 5-8'!A:B,2,0)","v":12829},2742701,{"$f":"VLOOKUP(A555,'AFR19'!A:K,12,0)","v":{"$error":"#REF!"}},{"$error":"#REF!"}]
[1419,6761330,{"$f":"VLOOKUP(A556,'Crete Monee Totals 5-8'!A:B,2,0)","v":15870},6745460,{"$f":"VLOOKUP(A556,'AFR19'!A:K,12,0)","v":{"$error":"#REF!"}},{"$error":"#REF!"}]
[1420,43811594.640000001,{"$f":"VLOOKUP(A557,'Crete Monee Totals 5-8'!A:B,2,0)","v":136568},43675026.640000001,{"$f":"VLOOKUP(A557,'AFR19'!A:K,12,0)","v":{"$error":"#REF!"}},{"$error":"#REF!"}]
[1421,7933295.8200000003,{"$f":"VLOOKUP(A558,'Crete Monee Totals 5-8'!A:B,2,0)","v":34000},7899295.8200000003,{"$f":"VLOOKUP(A558,'AFR19'!A:K,12,0)","v":{"$error":"#REF!"}},{"$error":"#REF!"}]
[1422,17036872.75,{"$f":"VLOOKUP(A559,'Crete Monee Totals 5-8'!A:B,2,0)","v":19007},17017865.75,{"$f":"VLOOKUP(A559,'AFR19'!A:K,12,0)","v":{"$error":"#REF!"}},{"$error":"#REF!"}]
[1423,653223,0,653223,{"$f":"VLOOKUP(A560,'AFR19'!A:K,12,0)","v":{"$error":"#REF!"}},{"$error":"#REF!"}]
[1424,25623391.57,{"$f":"VLOOKUP(A561,'Crete Monee Totals 5-8'!A:B,2,0)","v":53007},25570384.57,{"$f":"VLOOKUP(A561,'AFR19'!A:K,12,0)","v":{"$error":"#REF!"}},{"$error":"#REF!"}]
[1425,9615542,0,9615542,{"$f":"VLOOKUP(A562,'AFR19'!A:K,12,0)","v":{"$error":"#REF!"}},{"$error":"#REF!"}]
[1426,9993548.1099999994,{"$f":"VLOOKUP(A563,'Crete Monee Totals 5-8'!A:B,2,0)","v":18175},9975373.1099999994,{"$f":"VLOOKUP(A563,'AFR19'!A:K,12,0)","v":{"$error":"#REF!"}},{"$error":"#REF!"}]
[1427,28028958.300000001,{"$f":"VLOOKUP(A564,'Crete Monee Totals 5-8'!A:B,2,0)","v":18175},28010783.300000001,{"$f":"VLOOKUP(A564,'AFR19'!A:K,12,0)","v":{"$error":"#REF!"}},{"$error":"#REF!"}]
[1428,44929378.339999996,{"$f":"VLOOKUP(A565,'Crete Monee Totals 5-8'!A:B,2,0)","v":134318},44795060.339999996,{"$f":"VLOOKUP(A565,'AFR19'!A:K,12,0)","v":{"$error":"#REF!"}},{"$error":"#REF!"}]
[1429,1977560,{"$f":"VLOOKUP(A566,'Crete Monee Totals 5-8'!A:B,2,0)","v":14019},1963541,{"$f":"VLOOKUP(A566,'AFR19'!A:K,12,0)","v":{"$error":"#REF!"}},{"$error":"#REF!"}]
[1430,46906938.339999996,{"$f":"VLOOKUP(A567,'Crete Monee Totals 5-8'!A:B,2,0)","v":148337},46758601.339999996,{"$f":"VLOOKUP(A567,'AFR19'!A:K,12,0)","v":{"$error":"#REF!"}},{"$error":"#REF!"}]
[1431,4126938,{"$f":"VLOOKUP(A568,'Crete Monee Totals 5-8'!A:B,2,0)","v":11297},4115641,{"$f":"VLOOKUP(A568,'AFR19'!A:K,12,0)","v":{"$error":"#REF!"}},{"$error":"#REF!"}]
[1432,17336980.850000001,{"$f":"VLOOKUP(A569,'Crete Monee Totals 5-8'!A:B,2,0)","v":58582},17278398.850000001,{"$f":"VLOOKUP(A569,'AFR19'!A:K,12,0)","v":{"$error":"#REF!"}},{"$error":"#REF!"}]
[1433,328662,0,328662,{"$f":"VLOOKUP(A570,'AFR19'!A:K,12,0)","v":{"$error":"#REF!"}},{"$error":"#REF!"}]
[1434,113409003.76000001,{"$f":"VLOOKUP(A571,'Crete Monee Totals 5-8'!A:B,2,0)","v":345253},113063750.76000001,{"$f":"VLOOKUP(A571,'AFR19'!A:K,12,0)","v":{"$error":"#REF!"}},{"$error":"#REF!"}]
[1435,42957400.640000001,{"$f":"VLOOKUP(A572,'Crete Monee Totals 5-8'!A:B,2,0)","v":17280},42940120.640000001,{"$f":"VLOOKUP(A572,'AFR19'!A:K,12,0)","v":{"$error":"#REF!"}},{"$error":"#REF!"}]
[1436,22751663.460000001,{"$f":"VLOOKUP(A573,'Crete Monee Totals 5-8'!A:B,2,0)","v":128888},22622775.460000001,{"$f":"VLOOKUP(A573,'AFR19'!A:K,12,0)","v":{"$error":"#REF!"}},{"$error":"#REF!"}]
[1437,1763853,0,1763853,{"$f":"VLOOKUP(A574,'AFR19'!A:K,12,0)","v":{"$error":"#REF!"}},{"$error":"#REF!"}]
[1439,202674501.71000001,{"$f":"VLOOKUP(A575,'Crete Monee Totals 5-8'!A:B,2,0)","v":561300},202113201.71000001,{"$f":"VLOOKUP(A575,'AFR19'!A:K,12,0)","v":{"$error":"#REF!"}},{"$error":"#REF!"}]
[1440,400555,0,400555,{"$f":"VLOOKUP(A576,'AFR19'!A:K,12,0)","v":{"$error":"#REF!"}},{"$error":"#REF!"}]
[1441,1188401,{"$f":"VLOOKUP(A577,'Crete Monee Totals 5-8'!A:B,2,0)","v":1818},1186583,{"$f":"VLOOKUP(A577,'AFR19'!A:K,12,0)","v":{"$error":"#REF!"}},{"$error":"#REF!"}]
[1442,4194119,{"$f":"VLOOKUP(A578,'Crete Monee Totals 5-8'!A:B,2,0)","v":42756},4151363,{"$f":"VLOOKUP(A578,'AFR19'!A:K,12,0)","v":{"$error":"#REF!"}},{"$error":"#REF!"}]
[1443,5393397,{"$f":"VLOOKUP(A579,'Crete Monee Totals 5-8'!A:B,2,0)","v":50002},{"$f":"SUM(B579-C579)","v":5343395},{"$f":"VLOOKUP(A579,'AFR19'!A:K,12,0)","v":{"$error":"#REF!"}},{"$f":"SUM(D579-E579)","v":{"$error":"#REF!"}}]
[1445,15341270,{"$f":"VLOOKUP(A580,'Crete Monee Totals 5-8'!A:B,2,0)","v":106010},15235260,{"$f":"VLOOKUP(A580,'AFR19'!A:K,12,0)","v":{"$error":"#REF!"}},{"$error":"#REF!"}]
[1447,26517742,{"$f":"VLOOKUP(A581,'Crete Monee Totals 5-8'!A:B,2,0)","v":200586},26317156,{"$f":"VLOOKUP(A581,'AFR19'!A:K,12,0)","v":{"$error":"#REF!"}},{"$error":"#REF!"}]
[1448,1489513,{"$f":"VLOOKUP(A582,'Crete Monee Totals 5-8'!A:B,2,0)","v":2971},1486542,{"$f":"VLOOKUP(A582,'AFR19'!A:K,12,0)","v":{"$error":"#REF!"}},{"$error":"#REF!"}]
[1449,375052639.55999994,{"$f":"VLOOKUP(A583,'Crete Monee Totals 5-8'!A:B,2,0)","v":1120944},373931695.55999994,{"$f":"VLOOKUP(A583,'AFR19'!A:K,12,0)","v":{"$error":"#REF!"}},{"$error":"#REF!"}]
[1450,5728822,{"$f":"VLOOKUP(A584,'Crete Monee Totals 5-8'!A:B,2,0)","v":834},5727988,{"$f":"VLOOKUP(A584,'AFR19'!A:K,12,0)","v":{"$error":"#REF!"}},{"$error":"#REF!"}]
[1456,625629915.89999998,{"$f":"VLOOKUP(A585,'Crete Monee Totals 5-8'!A:B,2,0)","v":1858302},623771613.89999998,{"$f":"VLOOKUP(A585,'AFR19'!A:K,12,0)","v":{"$error":"#REF!"}},{"$error":"#REF!"}]
[1457,24723070.439999998,{"$f":"VLOOKUP(A586,'Crete Monee Totals 5-8'!A:B,2,0)","v":94299},24628771.439999998,{"$f":"VLOOKUP(A586,'AFR19'!A:K,12,0)","v":{"$error":"#REF!"}},{"$error":"#REF!"}]
[1458,1820904,0,1820904,{"$f":"VLOOKUP(A587,'AFR19'!A:K,12,0)","v":{"$error":"#REF!"}},{"$error":"#REF!"}]
[1461,4555,0,4555,{"$f":"VLOOKUP(A588,'AFR19'!A:K,12,0)","v":{"$error":"#REF!"}},{"$error":"#REF!"}]
[1462,1825459,0,1825459,{"$f":"VLOOKUP(A589,'AFR19'!A:K,12,0)","v":{"$error":"#REF!"}},{"$error":"#REF!"}]
[1463,1825459,0,1825459,{"$f":"VLOOKUP(A590,'AFR19'!A:K,12,0)","v":{"$error":"#REF!"}},{"$error":"#REF!"}]
[1464,285260,0,285260,{"$f":"VLOOKUP(A591,'AFR19'!A:K,12,0)","v":{"$error":"#REF!"}},{"$error":"#REF!"}]
[1467,585,0,585,{"$f":"VLOOKUP(A592,'AFR19'!A:K,12,0)","v":{"$error":"#REF!"}},{"$error":"#REF!"}]
[1468,285845,0,285845,{"$f":"VLOOKUP(A593,'AFR19'!A:K,12,0)","v":{"$error":"#REF!"}},{"$error":"#REF!"}]
[1469,285845,0,285845,{"$f":"VLOOKUP(A594,'AFR19'!A:K,12,0)","v":{"$error":"#REF!"}},{"$error":"#REF!"}]
[1470,82732503.819999993,{"$f":"VLOOKUP(A595,'Crete Monee Totals 5-8'!A:B,2,0)","v":233026},82499477.819999993,{"$f":"VLOOKUP(A595,'AFR19'!A:K,12,0)","v":{"$error":"#REF!"}},{"$error":"#REF!"}]
[1473,1973468,0,1973468,{"$f":"VLOOKUP(A596,'AFR19'!A:K,12,0)","v":{"$error":"#REF!"}},{"$error":"#REF!"}]
[1474,84705971.819999993,{"$f":"VLOOKUP(A597,'Crete Monee Totals 5-8'!A:B,2,0)","v":233026},84472945.819999993,{"$f":"VLOOKUP(A597,'AFR19'!A:K,12,0)","v":{"$error":"#REF!"}},{"$error":"#REF!"}]
[1475,84705971.819999993,{"$f":"VLOOKUP(A598,'Crete Monee Totals 5-8'!A:B,2,0)","v":233026},84472945.819999993,{"$f":"VLOOKUP(A598,'AFR19'!A:K,12,0)","v":{"$error":"#REF!"}},{"$error":"#REF!"}]
[1476,4909856,0,4909856,{"$f":"VLOOKUP(A599,'AFR19'!A:K,12,0)","v":{"$error":"#REF!"}},{"$error":"#REF!"}]
[1479,98732,0,98732,{"$f":"VLOOKUP(A600,'AFR19'!A:K,12,0)","v":{"$error":"#REF!"}},{"$error":"#REF!"}]
[1480,5008588,0,5008588,{"$f":"VLOOKUP(A601,'AFR19'!A:K,12,0)","v":{"$error":"#REF!"}},{"$error":"#REF!"}]
[1481,5008588,0,5008588,{"$f":"VLOOKUP(A602,'AFR19'!A:K,12,0)","v":{"$error":"#REF!"}},{"$error":"#REF!"}]
[1482,1367463558.25,{"$f":"VLOOKUP(A603,'Crete Monee Totals 5-8'!A:B,2,0)","v":186945},1367276613.25,{"$f":"VLOOKUP(A603,'AFR19'!A:K,12,0)","v":{"$error":"#REF!"}},{"$error":"#REF!"}]
[1485,7254879,0,7254879,{"$f":"VLOOKUP(A604,'AFR19'!A:K,12,0)","v":{"$error":"#REF!"}},{"$error":"#REF!"}]
[1486,1374718437.25,{"$f":"VLOOKUP(A605,'Crete Monee Totals 5-8'!A:B,2,0)","v":186945},1374531492.25,{"$f":"VLOOKUP(A605,'AFR19'!A:K,12,0)","v":{"$error":"#REF!"}},{"$error":"#REF!"}]
[1487,1374718437.25,{"$f":"VLOOKUP(A606,'Crete Monee Totals 5-8'!A:B,2,0)","v":186945},1374531492.25,{"$f":"VLOOKUP(A606,'AFR19'!A:K,12,0)","v":{"$error":"#REF!"}},{"$error":"#REF!"}]
[1488,10834139,0,10834139,{"$f":"VLOOKUP(A607,'AFR19'!A:K,12,0)","v":{"$error":"#REF!"}},{"$error":"#REF!"}]
[1491,1465588,0,1465588,{"$f":"VLOOKUP(A608,'AFR19'!A:K,12,0)","v":{"$error":"#REF!"}},{"$error":"#REF!"}]
[1492,12299727,0,12299727,{"$f":"VLOOKUP(A609,'AFR19'!A:K,12,0)","v":{"$error":"#REF!"}},{"$error":"#REF!"}]
[1493,13167827,0,13167827,{"$f":"VLOOKUP(A610,'AFR19'!A:K,12,0)","v":{"$error":"#REF!"}},{"$error":"#REF!"}]
[1494,1495216980.0699999,{"$f":"VLOOKUP(A611,'Crete Monee Totals 5-8'!A:B,2,0)","v":419971},1494797009.0699999,{"$f":"VLOOKUP(A611,'AFR19'!A:K,12,0)","v":{"$error":"#REF!"}},{"$error":"#REF!"}]
[1497,10797807,0,10797807,{"$f":"VLOOKUP(A612,'AFR19'!A:K,12,0)","v":{"$error":"#REF!"}},{"$error":"#REF!"}]
[1498,1506014787.0699999,{"$f":"VLOOKUP(A613,'Crete Monee Totals 5-8'!A:B,2,0)","v":419971},1505594816.0699999,{"$f":"VLOOKUP(A613,'AFR19'!A:K,12,0)","v":{"$error":"#REF!"}},{"$error":"#REF!"}]
[1499,1506882887.0699999,{"$f":"VLOOKUP(A614,'Crete Monee Totals 5-8'!A:B,2,0)","v":419971},1506462916.0699999,{"$f":"VLOOKUP(A614,'AFR19'!A:K,12,0)","v":{"$error":"#REF!"}},{"$error":"#REF!"}]
[1500,-1266987817.46,{"$f":"VLOOKUP(A615,'Crete Monee Totals 5-8'!A:B,2,0)","v":-392962},-1266594855.46,{"$f":"VLOOKUP(A615,'AFR19'!A:K,12,0)","v":{"$error":"#REF!"}},{"$error":"#REF!"}]
[1556,6173172812.0100002,{"$f":"VLOOKUP(A616,'Crete Monee Totals 5-8'!A:B,2,0)","v":14507510},6158665302.0100002,{"$f":"VLOOKUP(A616,'AFR19'!A:K,12,0)","v":{"$error":"#REF!"}},{"$error":"#REF!"}]
[1569,7511442867.3000002,{"$f":"VLOOKUP(A617,'Crete Monee Totals 5-8'!A:B,2,0)","v":11023767},7500419100.3000002,{"$f":"VLOOKUP(A617,'AFR19'!A:K,12,0)","v":{"$error":"#REF!"}},{"$error":"#REF!"}]
[1570,1322527707,{"$f":"VLOOKUP(A618,'Crete Monee Totals 5-8'!A:B,2,0)","v":4073393},1318454314,{"$f":"VLOOKUP(A618,'AFR19'!A:K,12,0)","v":{"$error":"#REF!"}},{"$error":"#REF!"}]
[1583,1363061361.8500001,{"$f":"VLOOKUP(A619,'Crete Monee Totals 5-8'!A:B,2,0)","v":4078335},1358983026.8500001,{"$f":"VLOOKUP(A619,'AFR19'!A:K,12,0)","v":{"$error":"#REF!"}},{"$error":"#REF!"}]
[1584,1437267403,{"$f":"VLOOKUP(A620,'Crete Monee Totals 5-8'!A:B,2,0)","v":4344214},1432923189,{"$f":"VLOOKUP(A620,'AFR19'!A:K,12,0)","v":{"$error":"#REF!"}},{"$error":"#REF!"}]
[1597,1654162090.8000002,{"$f":"VLOOKUP(A621,'Crete Monee Totals 5-8'!A:B,2,0)","v":4468528},1649693562.8000002,{"$f":"VLOOKUP(A621,'AFR19'!A:K,12,0)","v":{"$error":"#REF!"}},{"$error":"#REF!"}]
[1598,734320909,{"$f":"VLOOKUP(A622,'Crete Monee Totals 5-8'!A:B,2,0)","v":7092365},727228544,{"$f":"VLOOKUP(A622,'AFR19'!A:K,12,0)","v":{"$error":"#REF!"}},{"$error":"#REF!"}]
[1611,860660209.54000008,{"$f":"VLOOKUP(A623,'Crete Monee Totals 5-8'!A:B,2,0)","v":8831366},851828843.54000008,{"$f":"VLOOKUP(A623,'AFR19'!A:K,12,0)","v":{"$error":"#REF!"}},{"$error":"#REF!"}]
[1612,442554093,{"$f":"VLOOKUP(A624,'Crete Monee Totals 5-8'!A:B,2,0)","v":1204907},441349186,{"$f":"VLOOKUP(A624,'AFR19'!A:K,12,0)","v":{"$error":"#REF!"}},{"$error":"#REF!"}]
[1625,468153702.44,{"$f":"VLOOKUP(A625,'Crete Monee Totals 5-8'!A:B,2,0)","v":1352573},466801129.44,{"$f":"VLOOKUP(A625,'AFR19'!A:K,12,0)","v":{"$error":"#REF!"}},{"$error":"#REF!"}]
[1626,2224706463,{"$f":"VLOOKUP(A626,'Crete Monee Totals 5-8'!A:B,2,0)","v":2816625},2221889838,{"$f":"VLOOKUP(A626,'AFR19'!A:K,12,0)","v":{"$error":"#REF!"}},{"$error":"#REF!"}]
[1639,2451666061.54,{"$f":"VLOOKUP(A627,'Crete Monee Totals 5-8'!A:B,2,0)","v":2423663},2449242398.54,{"$f":"VLOOKUP(A627,'AFR19'!A:K,12,0)","v":{"$error":"#REF!"}},{"$error":"#REF!"}]
[1683,11940011410.279999,{"$f":"VLOOKUP(A628,'Crete Monee Totals 5-8'!A:B,2,0)","v":23208768},11916802642.279999,{"$f":"VLOOKUP(A628,'AFR19'!A:K,12,0)","v":{"$error":"#REF!"}},{"$error":"#REF!"}]
[1684,1530756934.6700001,{"$f":"VLOOKUP(A629,'Crete Monee Totals 5-8'!A:B,2,0)","v":4222290},1526534644.6700001,{"$f":"VLOOKUP(A629,'AFR19'!A:K,12,0)","v":{"$error":"#REF!"}},{"$error":"#REF!"}]
[1685,1584395764.8000002,{"$f":"VLOOKUP(A630,'Crete Monee Totals 5-8'!A:B,2,0)","v":11660935},1572734829.8000002,{"$f":"VLOOKUP(A630,'AFR19'!A:K,12,0)","v":{"$error":"#REF!"}},{"$error":"#REF!"}]
[1686,631264425.68000007,{"$f":"VLOOKUP(A631,'Crete Monee Totals 5-8'!A:B,2,0)","v":4007220},627257205.68000007,{"$f":"VLOOKUP(A631,'AFR19'!A:K,12,0)","v":{"$error":"#REF!"}},{"$error":"#REF!"}]
[1687,274125679.84000003,{"$f":"VLOOKUP(A632,'Crete Monee Totals 5-8'!A:B,2,0)","v":940697},273184982.84000003,{"$f":"VLOOKUP(A632,'AFR19'!A:K,12,0)","v":{"$error":"#REF!"}},{"$error":"#REF!"}]
[1688,68642339.560000002,{"$f":"VLOOKUP(A633,'Crete Monee Totals 5-8'!A:B,2,0)","v":222312},68420027.560000002,{"$f":"VLOOKUP(A633,'AFR19'!A:K,12,0)","v":{"$error":"#REF!"}},{"$error":"#REF!"}]
[1690,9526435,0,9526435,{"$f":"VLOOKUP(A634,'AFR19'!A:K,12,0)","v":{"$error":"#REF!"}},{"$error":"#REF!"}]
[1691,336083725.00999999,0,336083725.00999999,{"$f":"VLOOKUP(A635,'AFR19'!A:K,12,0)","v":{"$error":"#REF!"}},{"$error":"#REF!"}]
[1692,54790902.559999995,{"$f":"VLOOKUP(A636,'Crete Monee Totals 5-8'!A:B,2,0)","v":4573},54786329.559999995,{"$f":"VLOOKUP(A636,'AFR19'!A:K,12,0)","v":{"$error":"#REF!"}},{"$error":"#REF!"}]
[1693,489420499.32999998,{"$f":"VLOOKUP(A637,'Crete Monee Totals 5-8'!A:B,2,0)","v":4212794},485207705.32999998,{"$f":"VLOOKUP(A637,'AFR19'!A:K,12,0)","v":{"$error":"#REF!"}},{"$error":"#REF!"}]
[1698,17684865459.939999,{"$f":"VLOOKUP(A638,'Crete Monee Totals 5-8'!A:B,2,0)","v":49420285},17635445174.939999,{"$f":"VLOOKUP(A638,'AFR19'!A:K,12,0)","v":{"$error":"#REF!"}},{"$error":"#REF!"}]
[1699,5194889780.1099997,{"$f":"VLOOKUP(A639,'Crete Monee Totals 5-8'!A:B,2,0)","v":11079700},5183810080.1099997,{"$f":"VLOOKUP(A639,'AFR19'!A:K,12,0)","v":{"$error":"#REF!"}},{"$error":"#REF!"}]
[1700,857560573.44999993,{"$f":"VLOOKUP(A640,'Crete Monee Totals 5-8'!A:B,2,0)","v":2077688},855482885.44999993,{"$f":"VLOOKUP(A640,'AFR19'!A:K,12,0)","v":{"$error":"#REF!"}},{"$error":"#REF!"}]
[1701,881792958.13,{"$f":"VLOOKUP(A641,'Crete Monee Totals 5-8'!A:B,2,0)","v":5707168},876085790.13,{"$f":"VLOOKUP(A641,'AFR19'!A:K,12,0)","v":{"$error":"#REF!"}},{"$error":"#REF!"}]
[1702,379994207.68000001,{"$f":"VLOOKUP(A642,'Crete Monee Totals 5-8'!A:B,2,0)","v":2043397},377950810.68000001,{"$f":"VLOOKUP(A642,'AFR19'!A:K,12,0)","v":{"$error":"#REF!"}},{"$error":"#REF!"}]
[1703,167306774.93000001,{"$f":"VLOOKUP(A643,'Crete Monee Totals 5-8'!A:B,2,0)","v":463278},{"$f":"SUM(B643-C643)","v":166843496.93000001},{"$f":"VLOOKUP(A643,'AFR19'!A:K,12,0)","v":{"$error":"#REF!"}},{"$f":"SUM(D643-E643)","v":{"$error":"#REF!"}}]
[1704,45734387.100000001,{"$f":"VLOOKUP(A644,'Crete Monee Totals 5-8'!A:B,2,0)","v":138473},45595914.100000001,{"$f":"VLOOKUP(A644,'AFR19'!A:K,12,0)","v":{"$error":"#REF!"}},{"$error":"#REF!"}]
[1706,1958956,0,1958956,{"$f":"VLOOKUP(A645,'AFR19'!A:K,12,0)","v":{"$error":"#REF!"}},{"$error":"#REF!"}]
[1707,226643430.05000001,0,226643430.05000001,{"$f":"VLOOKUP(A646,'AFR19'!A:K,12,0)","v":{"$error":"#REF!"}},{"$error":"#REF!"}]
[1708,37614977.009999998,{"$f":"VLOOKUP(A647,'Crete Monee Totals 5-8'!A:B,2,0)","v":1371},37613606.009999998,{"$f":"VLOOKUP(A647,'AFR19'!A:K,12,0)","v":{"$error":"#REF!"}},{"$error":"#REF!"}]
[1709,253893983.64999998,{"$f":"VLOOKUP(A648,'Crete Monee Totals 5-8'!A:B,2,0)","v":2078090},251815893.64999998,{"$f":"VLOOKUP(A648,'AFR19'!A:K,12,0)","v":{"$error":"#REF!"}},{"$error":"#REF!"}]
[1714,8274772316.4499979,{"$f":"VLOOKUP(A649,'Crete Monee Totals 5-8'!A:B,2,0)","v":24052442},8250719874.4499979,{"$f":"VLOOKUP(A649,'AFR19'!A:K,12,0)","v":{"$error":"#REF!"}},{"$error":"#REF!"}]
[1715,6745121630.170001,{"$f":"VLOOKUP(A650,'Crete Monee Totals 5-8'!A:B,2,0)","v":12129068},6732992562.170001,{"$f":"VLOOKUP(A650,'AFR19'!A:K,12,0)","v":{"$error":"#REF!"}},{"$error":"#REF!"}]
[1716,673196361.22000003,{"$f":"VLOOKUP(A651,'Crete Monee Totals 5-8'!A:B,2,0)","v":2144602},671051759.22000003,{"$f":"VLOOKUP(A651,'AFR19'!A:K,12,0)","v":{"$error":"#REF!"}},{"$error":"#REF!"}]
[1717,702602806.67000008,{"$f":"VLOOKUP(A652,'Crete Monee Totals 5-8'!A:B,2,0)","v":5953767},696649039.67000008,{"$f":"VLOOKUP(A652,'AFR19'!A:K,12,0)","v":{"$error":"#REF!"}},{"$error":"#REF!"}]
[1718,251270218,{"$f":"VLOOKUP(A653,'Crete Monee Totals 5-8'!A:B,2,0)","v":1963823},249306395,{"$f":"VLOOKUP(A653,'AFR19'!A:K,12,0)","v":{"$error":"#REF!"}},{"$error":"#REF!"}]
[1719,106818904.91000001,{"$f":"VLOOKUP(A654,'Crete Monee Totals 5-8'!A:B,2,0)","v":477419},106341485.91000001,{"$f":"VLOOKUP(A654,'AFR19'!A:K,12,0)","v":{"$error":"#REF!"}},{"$error":"#REF!"}]
[1720,22907952.460000001,{"$f":"VLOOKUP(A655,'Crete Monee Totals 5-8'!A:B,2,0)","v":83839},22824113.460000001,{"$f":"VLOOKUP(A655,'AFR19'!A:K,12,0)","v":{"$error":"#REF!"}},{"$error":"#REF!"}]
[1722,7567479,0,7567479,{"$f":"VLOOKUP(A656,'AFR19'!A:K,12,0)","v":{"$error":"#REF!"}},{"$error":"#REF!"}]
[1723,109440294.95999999,0,109440294.95999999,{"$f":"VLOOKUP(A657,'AFR19'!A:K,12,0)","v":{"$error":"#REF!"}},{"$error":"#REF!"}]
[1724,17175925.550000001,{"$f":"VLOOKUP(A658,'Crete Monee Totals 5-8'!A:B,2,0)","v":3202},17172723.550000001,{"$f":"VLOOKUP(A658,'AFR19'!A:K,12,0)","v":{"$error":"#REF!"}},{"$error":"#REF!"}]
[1725,235526515.68000004,{"$f":"VLOOKUP(A659,'Crete Monee Totals 5-8'!A:B,2,0)","v":2134704},233391811.68000004,{"$f":"VLOOKUP(A659,'AFR19'!A:K,12,0)","v":{"$error":"#REF!"}},{"$error":"#REF!"}]
[1730,9410093144.4899998,{"$f":"VLOOKUP(A660,'Crete Monee Totals 5-8'!A:B,2,0)","v":25367843},9384725301.4899998,{"$f":"VLOOKUP(A660,'AFR19'!A:K,12,0)","v":{"$error":"#REF!"}},{"$error":"#REF!"}]
[1731,5480825267.5782604,{"$f":"VLOOKUP(A661,'Crete Monee Totals 5-8'!A:B,2,0)","v":12302568},5468522699.5782604,{"$f":"VLOOKUP(A661,'AFR19'!A:K,12,0)","v":{"$error":"#REF!"}},{"$error":"#REF!"}]
[1732,886910968.19574142,{"$f":"VLOOKUP(A662,'Crete Monee Totals 5-8'!A:B,2,0)","v":2175279},884735689.19574142,{"$f":"VLOOKUP(A662,'AFR19'!A:K,12,0)","v":{"$error":"#REF!"}},{"$error":"#REF!"}]
[1733,880766333.6945461,{"$f":"VLOOKUP(A663,'Crete Monee Totals 5-8'!A:B,2,0)","v":6038932},874727401.6945461,{"$f":"VLOOKUP(A663,'AFR19'!A:K,12,0)","v":{"$error":"#REF!"}},{"$error":"#REF!"}]
[1734,350071114.55578548,{"$f":"VLOOKUP(A664,'Crete Monee Totals 5-8'!A:B,2,0)","v":1991915},348079199.55578548,{"$f":"VLOOKUP(A664,'AFR19'!A:K,12,0)","v":{"$error":"#REF!"}},{"$error":"#REF!"}]
[1735,165578448.00204197,{"$f":"VLOOKUP(A665,'Crete Monee Totals 5-8'!A:B,2,0)","v":484249},165094199.00204197,{"$f":"VLOOKUP(A665,'AFR19'!A:K,12,0)","v":{"$error":"#REF!"}},{"$error":"#REF!"}]
[1736,45689513.033277296,{"$f":"VLOOKUP(A666,'Crete Monee Totals 5-8'!A:B,2,0)","v":85039},45604474.033277296,{"$f":"VLOOKUP(A666,'AFR19'!A:K,12,0)","v":{"$error":"#REF!"}},{"$error":"#REF!"}]
[1738,1491940,0,1491940,{"$f":"VLOOKUP(A667,'AFR19'!A:K,12,0)","v":{"$error":"#REF!"}},{"$error":"#REF!"}]
[1739,225386866.002776,0,225386866.002776,{"$f":"VLOOKUP(A668,'AFR19'!A:K,12,0)","v":{"$error":"#REF!"}},{"$error":"#REF!"}]
[1740,38202087.587277301,{"$f":"VLOOKUP(A669,'Crete Monee Totals 5-8'!A:B,2,0)","v":3248},38198839.587277301,{"$f":"VLOOKUP(A669,'AFR19'!A:K,12,0)","v":{"$error":"#REF!"}},{"$error":"#REF!"}]
[1741,261737850.34719247,{"$f":"VLOOKUP(A670,'Crete Monee Totals 5-8'!A:B,2,0)","v":2165240},259572610.34719247,{"$f":"VLOOKUP(A670,'AFR19'!A:K,12,0)","v":{"$error":"#REF!"}},{"$error":"#REF!"}]
[1746,8558672784.0455084,{"$f":"VLOOKUP(A671,'Crete Monee Totals 5-8'!A:B,2,0)","v":25730719},8532942065.0455084,{"$f":"VLOOKUP(A671,'AFR19'!A:K,12,0)","v":{"$error":"#REF!"}},{"$error":"#REF!"}]
[1747,12225946897.74826,{"$f":"VLOOKUP(A672,'Crete Monee Totals 5-8'!A:B,2,0)","v":24431636},12201515261.74826,{"$f":"VLOOKUP(A672,'AFR19'!A:K,12,0)","v":{"$error":"#REF!"}},{"$error":"#REF!"}]
[1748,1560107329.4157414,{"$f":"VLOOKUP(A673,'Crete Monee Totals 5-8'!A:B,2,0)","v":4319881},1555787448.4157414,{"$f":"VLOOKUP(A673,'AFR19'!A:K,12,0)","v":{"$error":"#REF!"}},{"$error":"#REF!"}]
[1749,1583369140.3645461,{"$f":"VLOOKUP(A674,'Crete Monee Totals 5-8'!A:B,2,0)","v":11992699},1571376441.3645461,{"$f":"VLOOKUP(A674,'AFR19'!A:K,12,0)","v":{"$error":"#REF!"}},{"$error":"#REF!"}]
[1750,601341332.55578566,{"$f":"VLOOKUP(A675,'Crete Monee Totals 5-8'!A:B,2,0)","v":3955738},597385594.55578566,{"$f":"VLOOKUP(A675,'AFR19'!A:K,12,0)","v":{"$error":"#REF!"}},{"$error":"#REF!"}]
[1751,272397352.91204202,{"$f":"VLOOKUP(A676,'Crete Monee Totals 5-8'!A:B,2,0)","v":961668},271435684.91204202,{"$f":"VLOOKUP(A676,'AFR19'!A:K,12,0)","v":{"$error":"#REF!"}},{"$error":"#REF!"}]
[1752,68597465.493277282,{"$f":"VLOOKUP(A677,'Crete Monee Totals 5-8'!A:B,2,0)","v":168878},68428587.493277282,{"$f":"VLOOKUP(A677,'AFR19'!A:K,12,0)","v":{"$error":"#REF!"}},{"$error":"#REF!"}]
[1754,9059419,0,9059419,{"$f":"VLOOKUP(A678,'AFR19'!A:K,12,0)","v":{"$error":"#REF!"}},{"$error":"#REF!"}]
[1755,334827160.96277601,0,334827160.96277601,{"$f":"VLOOKUP(A679,'AFR19'!A:K,12,0)","v":{"$error":"#REF!"}},{"$error":"#REF!"}]
[1756,55378013.137277298,{"$f":"VLOOKUP(A680,'Crete Monee Totals 5-8'!A:B,2,0)","v":6450},55371563.137277298,{"$f":"VLOOKUP(A680,'AFR19'!A:K,12,0)","v":{"$error":"#REF!"}},{"$error":"#REF!"}]
[1757,497264366.02719253,{"$f":"VLOOKUP(A681,'Crete Monee Totals 5-8'!A:B,2,0)","v":4299944},492964422.02719253,{"$f":"VLOOKUP(A681,'AFR19'!A:K,12,0)","v":{"$error":"#REF!"}},{"$error":"#REF!"}]
[1762,17968765928.535511,{"$f":"VLOOKUP(A682,'Crete Monee Totals 5-8'!A:B,2,0)","v":51098562},17917667366.535511,{"$f":"VLOOKUP(A682,'AFR19'!A:K,12,0)","v":{"$error":"#REF!"}},{"$error":"#REF!"}]
[1764,16924218,0,16924218,{"$f":"VLOOKUP(A683,'AFR19'!A:K,12,0)","v":{"$error":"#REF!"}},{"$error":"#REF!"}]
[1765,4000000,0,4000000,{"$f":"VLOOKUP(A684,'AFR19'!A:K,12,0)","v":{"$error":"#REF!"}},{"$error":"#REF!"}]
[1767,1000000,0,1000000,{"$f":"VLOOKUP(A685,'AFR19'!A:K,12,0)","v":{"$error":"#REF!"}},{"$error":"#REF!"}]
[1772,21924218,0,21924218,{"$f":"VLOOKUP(A686,'AFR19'!A:K,12,0)","v":{"$error":"#REF!"}},{"$error":"#REF!"}]
[1773,958017900,0,958017900,{"$f":"VLOOKUP(A687,'AFR19'!A:K,12,0)","v":{"$error":"#REF!"}},{"$error":"#REF!"}]
[1774,50000,0,50000,{"$f":"VLOOKUP(A688,'AFR19'!A:K,12,0)","v":{"$error":"#REF!"}},{"$error":"#REF!"}]
[1776,958067900,0,958067900,{"$f":"VLOOKUP(A689,'AFR19'!A:K,12,0)","v":{"$error":"#REF!"}},{"$error":"#REF!"}]
[1778,80200000,0,80200000,{"$f":"VLOOKUP(A690,'AFR19'!A:K,12,0)","v":{"$error":"#REF!"}},{"$error":"#REF!"}]
[1779,200350,0,200350,{"$f":"VLOOKUP(A691,'AFR19'!A:K,12,0)","v":{"$error":"#REF!"}},{"$error":"#REF!"}]
[1781,1000000,0,1000000,{"$f":"VLOOKUP(A692,'AFR19'!A:K,12,0)","v":{"$error":"#REF!"}},{"$error":"#REF!"}]
[1786,81400350,0,81400350,{"$f":"VLOOKUP(A693,'AFR19'!A:K,12,0)","v":{"$error":"#REF!"}},{"$error":"#REF!"}]
[1787,1206439050,0,1206439050,{"$f":"VLOOKUP(A694,'AFR19'!A:K,12,0)","v":{"$error":"#REF!"}},{"$error":"#REF!"}]
[1788,80000,0,80000,{"$f":"VLOOKUP(A695,'AFR19'!A:K,12,0)","v":{"$error":"#REF!"}},{"$error":"#REF!"}]
[1790,1206519050,0,1206519050,{"$f":"VLOOKUP(A696,'AFR19'!A:K,12,0)","v":{"$error":"#REF!"}},{"$error":"#REF!"}]
[1792,87024218,0,87024218,{"$f":"VLOOKUP(A697,'AFR19'!A:K,12,0)","v":{"$error":"#REF!"}},{"$error":"#REF!"}]
[1793,4100000,0,4100000,{"$f":"VLOOKUP(A698,'AFR19'!A:K,12,0)","v":{"$error":"#REF!"}},{"$error":"#REF!"}]
[1795,1000000,0,1000000,{"$f":"VLOOKUP(A699,'AFR19'!A:K,12,0)","v":{"$error":"#REF!"}},{"$error":"#REF!"}]
[1800,92124218,0,92124218,{"$f":"VLOOKUP(A700,'AFR19'!A:K,12,0)","v":{"$error":"#REF!"}},{"$error":"#REF!"}]
[1801,1558106900,0,1558106900,{"$f":"VLOOKUP(A701,'AFR19'!A:K,12,0)","v":{"$error":"#REF!"}},{"$error":"#REF!"}]
[1802,50000,0,50000,{"$f":"VLOOKUP(A702,'AFR19'!A:K,12,0)","v":{"$error":"#REF!"}},{"$error":"#REF!"}]
[1804,1558156900,0,1558156900,{"$f":"VLOOKUP(A703,'AFR19'!A:K,12,0)","v":{"$error":"#REF!"}},{"$error":"#REF!"}]
[1806,10100000,0,10100000,{"$f":"VLOOKUP(A704,'AFR19'!A:K,12,0)","v":{"$error":"#REF!"}},{"$error":"#REF!"}]
[1807,100350,0,100350,{"$f":"VLOOKUP(A705,'AFR19'!A:K,12,0)","v":{"$error":"#REF!"}},{"$error":"#REF!"}]
[1809,1000000,0,1000000,{"$f":"VLOOKUP(A706,'AFR19'!A:K,12,0)","v":{"$error":"#REF!"}},{"$error":"#REF!"}]
[1814,11200350,0,{"$f":"SUM(B707-C707)","v":11200350},{"$f":"VLOOKUP(A707,'AFR19'!A:K,12,0)","v":{"$error":"#REF!"}},{"$f":"SUM(D707-E707)","v":{"$error":"#REF!"}}]
[1815,606350050,0,606350050,{"$f":"VLOOKUP(A708,'AFR19'!A:K,12,0)","v":{"$error":"#REF!"}},{"$error":"#REF!"}]
[1816,80000,0,80000,{"$f":"VLOOKUP(A709,'AFR19'!A:K,12,0)","v":{"$error":"#REF!"}},{"$error":"#REF!"}]
[1818,606430050,0,606430050,{"$f":"VLOOKUP(A710,'AFR19'!A:K,12,0)","v":{"$error":"#REF!"}},{"$error":"#REF!"}]
[1878,21070770001,{"$f":"VLOOKUP(A711,'Crete Monee Totals 5-8'!A:B,2,0)","v":98664289},20972105712,{"$f":"VLOOKUP(A711,'AFR19'!A:K,12,0)","v":{"$error":"#REF!"}},{"$error":"#REF!"}]
[1879,4112600847,0,4112600847,{"$f":"VLOOKUP(A712,'AFR19'!A:K,12,0)","v":{"$error":"#REF!"}},{"$error":"#REF!"}]
[1887,892197,0,892197,{"$f":"VLOOKUP(A713,'AFR19'!A:K,12,0)","v":{"$error":"#REF!"}},{"$error":"#REF!"}]
[1889,158,0,158,{"$f":"VLOOKUP(A714,'AFR19'!A:K,12,0)","v":{"$error":"#REF!"}},{"$error":"#REF!"}]
[1892,158,0,158,{"$f":"VLOOKUP(A715,'AFR19'!A:K,12,0)","v":{"$error":"#REF!"}},{"$error":"#REF!"}]
[1894,99977,0,99977,{"$f":"VLOOKUP(A716,'AFR19'!A:K,12,0)","v":{"$error":"#REF!"}},{"$error":"#REF!"}]
[1896,99977,0,99977,{"$f":"VLOOKUP(A717,'AFR19'!A:K,12,0)","v":{"$error":"#REF!"}},{"$error":"#REF!"}]
[1897,792378,0,792378,{"$f":"VLOOKUP(A718,'AFR19'!A:K,12,0)","v":{"$error":"#REF!"}},{"$error":"#REF!"}]
[1910,2437794,0,2437794,{"$f":"VLOOKUP(A719,'AFR19'!A:K,12,0)","v":{"$error":"#REF!"}},{"$error":"#REF!"}]
[1911,465361192.52999997,0,465361192.52999997,{"$f":"VLOOKUP(A720,'AFR19'!A:K,12,0)","v":{"$error":"#REF!"}},{"$error":"#REF!"}]
[1912,5223386.0999999996,{"$f":"VLOOKUP(A721,'Crete Monee Totals 5-8'!A:B,2,0)","v":4212794},1010592.0999999996,{"$f":"VLOOKUP(A721,'AFR19'!A:K,12,0)","v":{"$error":"#REF!"}},{"$error":"#REF!"}]
[1913,2509732,0,2509732,{"$f":"VLOOKUP(A722,'AFR19'!A:K,12,0)","v":{"$error":"#REF!"}},{"$error":"#REF!"}]
[1916,473094310.63,{"$f":"VLOOKUP(A723,'Crete Monee Totals 5-8'!A:B,2,0)","v":4212794},468881516.63,{"$f":"VLOOKUP(A723,'AFR19'!A:K,12,0)","v":{"$error":"#REF!"}},{"$error":"#REF!"}]
[1918,1902417,0,1902417,{"$f":"VLOOKUP(A724,'AFR19'!A:K,12,0)","v":{"$error":"#REF!"}},{"$error":"#REF!"}]
[1919,14237679,0,14237679,{"$f":"VLOOKUP(A725,'AFR19'!A:K,12,0)","v":{"$error":"#REF!"}},{"$error":"#REF!"}]
[1921,470042159.52999997,{"$f":"VLOOKUP(A726,'Crete Monee Totals 5-8'!A:B,2,0)","v":4212794},465829365.52999997,{"$f":"VLOOKUP(A726,'AFR19'!A:K,12,0)","v":{"$error":"#REF!"}},{"$error":"#REF!"}]
[1922,5489945.1000000015,0,5489945.1000000015,{"$f":"VLOOKUP(A727,'AFR19'!A:K,12,0)","v":{"$error":"#REF!"}},{"$error":"#REF!"}]
[1947,1268868459.05,{"$f":"VLOOKUP(A728,'Crete Monee Totals 5-8'!A:B,2,0)","v":2491235},1266377224.05,{"$f":"VLOOKUP(A728,'AFR19'!A:K,12,0)","v":{"$error":"#REF!"}},{"$error":"#REF!"}]
[1948,40453047292.32,{"$f":"VLOOKUP(A729,'Crete Monee Totals 5-8'!A:B,2,0)","v":111393707},40341653585.32,{"$f":"VLOOKUP(A729,'AFR19'!A:K,12,0)","v":{"$error":"#REF!"}},{"$error":"#REF!"}]
[1949,2168632932.3800001,{"$f":"VLOOKUP(A730,'Crete Monee Totals 5-8'!A:B,2,0)","v":4123638},2164509294.3800001,{"$f":"VLOOKUP(A730,'AFR19'!A:K,12,0)","v":{"$error":"#REF!"}},{"$error":"#REF!"}]
[1950,3252357949.3200002,0,3252357949.3200002,{"$f":"VLOOKUP(A731,'AFR19'!A:K,12,0)","v":{"$error":"#REF!"}},{"$error":"#REF!"}]
[1951,981688584.38999999,{"$f":"VLOOKUP(A732,'Crete Monee Totals 5-8'!A:B,2,0)","v":3014850},978673734.38999999,{"$f":"VLOOKUP(A732,'AFR19'!A:K,12,0)","v":{"$error":"#REF!"}},{"$error":"#REF!"}]
[1952,49309169297.650002,{"$f":"VLOOKUP(A733,'Crete Monee Totals 5-8'!A:B,2,0)","v":121023430},49188145867.650002,{"$f":"VLOOKUP(A733,'AFR19'!A:K,12,0)","v":{"$error":"#REF!"}},{"$error":"#REF!"}]
[1953,15644953,0,15644953,{"$f":"VLOOKUP(A734,'AFR19'!A:K,12,0)","v":{"$error":"#REF!"}},{"$error":"#REF!"}]
[1954,1440700500.3599999,{"$f":"VLOOKUP(A735,'Crete Monee Totals 5-8'!A:B,2,0)","v":489424},1440211076.3599999,{"$f":"VLOOKUP(A735,'AFR19'!A:K,12,0)","v":{"$error":"#REF!"}},{"$error":"#REF!"}]
[1955,154970773.47000003,{"$f":"VLOOKUP(A736,'Crete Monee Totals 5-8'!A:B,2,0)","v":73680},154897093.47000003,{"$f":"VLOOKUP(A736,'AFR19'!A:K,12,0)","v":{"$error":"#REF!"}},{"$error":"#REF!"}]
[1956,204169065.22,0,204169065.22,{"$f":"VLOOKUP(A737,'AFR19'!A:K,12,0)","v":{"$error":"#REF!"}},{"$error":"#REF!"}]
[1957,77113951,{"$f":"VLOOKUP(A738,'Crete Monee Totals 5-8'!A:B,2,0)","v":259706},76854245,{"$f":"VLOOKUP(A738,'AFR19'!A:K,12,0)","v":{"$error":"#REF!"}},{"$error":"#REF!"}]
[1958,2983289375.9999995,{"$f":"VLOOKUP(A739,'Crete Monee Totals 5-8'!A:B,2,0)","v":822810},2982466565.9999995,{"$f":"VLOOKUP(A739,'AFR19'!A:K,12,0)","v":{"$error":"#REF!"}},{"$error":"#REF!"}]
[1959,826989,0,826989,{"$f":"VLOOKUP(A740,'AFR19'!A:K,12,0)","v":{"$error":"#REF!"}},{"$error":"#REF!"}]
[1960,152934606,0,152934606,{"$f":"VLOOKUP(A741,'AFR19'!A:K,12,0)","v":{"$error":"#REF!"}},{"$error":"#REF!"}]
[1961,3885967,0,3885967,{"$f":"VLOOKUP(A742,'AFR19'!A:K,12,0)","v":{"$error":"#REF!"}},{"$error":"#REF!"}]
[1962,89832747,0,89832747,{"$f":"VLOOKUP(A743,'AFR19'!A:K,12,0)","v":{"$error":"#REF!"}},{"$error":"#REF!"}]
[1963,100908480,0,100908480,{"$f":"VLOOKUP(A744,'AFR19'!A:K,12,0)","v":{"$error":"#REF!"}},{"$error":"#REF!"}]
[1964,1327949386,0,1327949386,{"$f":"VLOOKUP(A745,'AFR19'!A:K,12,0)","v":{"$error":"#REF!"}},{"$error":"#REF!"}]
[1965,1283686423.05,{"$f":"VLOOKUP(A746,'Crete Monee Totals 5-8'!A:B,2,0)","v":2491235},1281195188.05,{"$f":"VLOOKUP(A746,'AFR19'!A:K,12,0)","v":{"$error":"#REF!"}},{"$error":"#REF!"}]
[1966,41740813186.68,{"$f":"VLOOKUP(A747,'Crete Monee Totals 5-8'!A:B,2,0)","v":111883131},41628930055.68,{"$f":"VLOOKUP(A747,'AFR19'!A:K,12,0)","v":{"$error":"#REF!"}},{"$error":"#REF!"}]
[1967,2319717738.8499999,{"$f":"VLOOKUP(A748,'Crete Monee Totals 5-8'!A:B,2,0)","v":4197318},2315520420.8499999,{"$f":"VLOOKUP(A748,'AFR19'!A:K,12,0)","v":{"$error":"#REF!"}},{"$error":"#REF!"}]
[1968,3366694267.54,0,3366694267.54,{"$f":"VLOOKUP(A749,'AFR19'!A:K,12,0)","v":{"$error":"#REF!"}},{"$error":"#REF!"}]
[1969,957894055.3900001,{"$f":"VLOOKUP(A750,'Crete Monee Totals 5-8'!A:B,2,0)","v":3274556},954619499.3900001,{"$f":"VLOOKUP(A750,'AFR19'!A:K,12,0)","v":{"$error":"#REF!"}},{"$error":"#REF!"}]
[1970,50964509287.650009,{"$f":"VLOOKUP(A751,'Crete Monee Totals 5-8'!A:B,2,0)","v":121846240},50842663047.650009,{"$f":"VLOOKUP(A751,'AFR19'!A:K,12,0)","v":{"$error":"#REF!"}},{"$error":"#REF!"}]
[1972,15559917756.540001,{"$f":"VLOOKUP(A752,'Crete Monee Totals 5-8'!A:B,2,0)","v":30826307},15529091449.540001,{"$f":"VLOOKUP(A752,'AFR19'!A:K,12,0)","v":{"$error":"#REF!"}},{"$error":"#REF!"}]
[1973,1008789449.1700001,{"$f":"VLOOKUP(A753,'Crete Monee Totals 5-8'!A:B,2,0)","v":2907054},1005882395.1700001,{"$f":"VLOOKUP(A753,'AFR19'!A:K,12,0)","v":{"$error":"#REF!"}},{"$error":"#REF!"}]
[1974,2519478594.6199999,0,2519478594.6199999,{"$f":"VLOOKUP(A754,'AFR19'!A:K,12,0)","v":{"$error":"#REF!"}},{"$error":"#REF!"}]
[1975,761872319.19000006,{"$f":"VLOOKUP(A755,'Crete Monee Totals 5-8'!A:B,2,0)","v":2520565},759351754.19000006,{"$f":"VLOOKUP(A755,'AFR19'!A:K,12,0)","v":{"$error":"#REF!"}},{"$error":"#REF!"}]
[1976,19953787435.360001,{"$f":"VLOOKUP(A756,'Crete Monee Totals 5-8'!A:B,2,0)","v":36253926},19917533509.360001,{"$f":"VLOOKUP(A756,'AFR19'!A:K,12,0)","v":{"$error":"#REF!"}},{"$error":"#REF!"}]
[1978,967276288.87,{"$f":"VLOOKUP(A757,'Crete Monee Totals 5-8'!A:B,2,0)","v":2178438},965097850.87,{"$f":"VLOOKUP(A757,'AFR19'!A:K,12,0)","v":{"$error":"#REF!"}},{"$error":"#REF!"}]
[1979,96805076.730000004,{"$f":"VLOOKUP(A758,'Crete Monee Totals 5-8'!A:B,2,0)","v":135973},96669103.730000004,{"$f":"VLOOKUP(A758,'AFR19'!A:K,12,0)","v":{"$error":"#REF!"}},{"$error":"#REF!"}]
[1980,182802621.44999999,0,182802621.44999999,{"$f":"VLOOKUP(A759,'AFR19'!A:K,12,0)","v":{"$error":"#REF!"}},{"$error":"#REF!"}]
[1981,65321270.350000001,{"$f":"VLOOKUP(A760,'Crete Monee Totals 5-8'!A:B,2,0)","v":163067},65158203.350000001,{"$f":"VLOOKUP(A760,'AFR19'!A:K,12,0)","v":{"$error":"#REF!"}},{"$error":"#REF!"}]
[1982,1320980357.95,{"$f":"VLOOKUP(A761,'Crete Monee Totals 5-8'!A:B,2,0)","v":2477478},1318502879.95,{"$f":"VLOOKUP(A761,'AFR19'!A:K,12,0)","v":{"$error":"#REF!"}},{"$error":"#REF!"}]
[1984,63008512,0,63008512,{"$f":"VLOOKUP(A762,'AFR19'!A:K,12,0)","v":{"$error":"#REF!"}},{"$error":"#REF!"}]
[1985,3904355,0,3904355,{"$f":"VLOOKUP(A763,'AFR19'!A:K,12,0)","v":{"$error":"#REF!"}},{"$error":"#REF!"}]
[1986,71357899,0,71357899,{"$f":"VLOOKUP(A764,'AFR19'!A:K,12,0)","v":{"$error":"#REF!"}},{"$error":"#REF!"}]
[1987,95916570,0,95916570,{"$f":"VLOOKUP(A765,'AFR19'!A:K,12,0)","v":{"$error":"#REF!"}},{"$error":"#REF!"}]
[1988,235773562,0,235773562,{"$f":"VLOOKUP(A766,'AFR19'!A:K,12,0)","v":{"$error":"#REF!"}},{"$error":"#REF!"}]
[1990,16464185533.409998,{"$f":"VLOOKUP(A767,'Crete Monee Totals 5-8'!A:B,2,0)","v":33004745},16431180788.409998,{"$f":"VLOOKUP(A767,'AFR19'!A:K,12,0)","v":{"$error":"#REF!"}},{"$error":"#REF!"}]
[1991,1101690170.8999999,{"$f":"VLOOKUP(A768,'Crete Monee Totals 5-8'!A:B,2,0)","v":3043027},1098647143.8999999,{"$f":"VLOOKUP(A768,'AFR19'!A:K,12,0)","v":{"$error":"#REF!"}},{"$error":"#REF!"}]
[1992,2630923317.0700002,0,2630923317.0700002,{"$f":"VLOOKUP(A769,'AFR19'!A:K,12,0)","v":{"$error":"#REF!"}},{"$error":"#REF!"}]
[1993,731277019.53999996,{"$f":"VLOOKUP(A770,'Crete Monee Totals 5-8'!A:B,2,0)","v":2683632},728593387.53999996,{"$f":"VLOOKUP(A770,'AFR19'!A:K,12,0)","v":{"$error":"#REF!"}},{"$error":"#REF!"}]
[1994,21038994231.310005,{"$f":"VLOOKUP(A771,'Crete Monee Totals 5-8'!A:B,2,0)","v":38731404},{"$f":"SUM(B771-C771)","v":21000262827.310005},{"$f":"VLOOKUP(A771,'AFR19'!A:K,12,0)","v":{"$error":"#REF!"}},{"$f":"SUM(D771-E771)","v":{"$error":"#REF!"}}]
[1995,1283686423.05,{"$f":"VLOOKUP(A772,'Crete Monee Totals 5-8'!A:B,2,0)","v":2491235},1281195188.05,{"$f":"VLOOKUP(A772,'AFR19'!A:K,12,0)","v":{"$error":"#REF!"}},{"$error":"#REF!"}]
[1996,25276627653.27,{"$f":"VLOOKUP(A773,'Crete Monee Totals 5-8'!A:B,2,0)","v":78878386},25197749267.27,{"$f":"VLOOKUP(A773,'AFR19'!A:K,12,0)","v":{"$error":"#REF!"}},{"$error":"#REF!"}]
[1997,1218027567.95,{"$f":"VLOOKUP(A774,'Crete Monee Totals 5-8'!A:B,2,0)","v":1154291},1216873276.95,{"$f":"VLOOKUP(A774,'AFR19'!A:K,12,0)","v":{"$error":"#REF!"}},{"$error":"#REF!"}]
[1998,735770950.47000003,0,735770950.47000003,{"$f":"VLOOKUP(A775,'AFR19'!A:K,12,0)","v":{"$error":"#REF!"}},{"$error":"#REF!"}]
[1999,226617035.84999996,{"$f":"VLOOKUP(A776,'Crete Monee Totals 5-8'!A:B,2,0)","v":590924},226026111.84999996,{"$f":"VLOOKUP(A776,'AFR19'!A:K,12,0)","v":{"$error":"#REF!"}},{"$error":"#REF!"}]
[2000,29925515056.34,{"$f":"VLOOKUP(A777,'Crete Monee Totals 5-8'!A:B,2,0)","v":83114836},29842400220.34,{"$f":"VLOOKUP(A777,'AFR19'!A:K,12,0)","v":{"$error":"#REF!"}},{"$error":"#REF!"}]
[2020,231691953.53,0,231691953.53,{"$f":"VLOOKUP(A778,'AFR19'!A:K,12,0)","v":{"$error":"#REF!"}},{"$error":"#REF!"}]
[2027,439659857.94000006,0,439659857.94000006,{"$f":"VLOOKUP(A779,'AFR19'!A:K,12,0)","v":{"$error":"#REF!"}},{"$error":"#REF!"}]
[2028,296671870,{"$f":"VLOOKUP(A780,'Crete Monee Totals 5-8'!A:B,2,0)","v":1180976},295490894,{"$f":"VLOOKUP(A780,'AFR19'!A:K,12,0)","v":{"$error":"#REF!"}},{"$error":"#REF!"}]
[2030,3221537,0,3221537,{"$f":"VLOOKUP(A781,'AFR19'!A:K,12,0)","v":{"$error":"#REF!"}},{"$error":"#REF!"}]
[2031,93915,0,93915,{"$f":"VLOOKUP(A782,'AFR19'!A:K,12,0)","v":{"$error":"#REF!"}},{"$error":"#REF!"}]
[2032,5578563,0,5578563,{"$f":"VLOOKUP(A783,'AFR19'!A:K,12,0)","v":{"$error":"#REF!"}},{"$error":"#REF!"}]
[2033,93915,0,93915,{"$f":"VLOOKUP(A784,'AFR19'!A:K,12,0)","v":{"$error":"#REF!"}},{"$error":"#REF!"}]
[2041,868100,0,868100,{"$f":"VLOOKUP(A785,'AFR19'!A:K,12,0)","v":{"$error":"#REF!"}},{"$error":"#REF!"}]
[2044,348701908,0,348701908,{"$f":"VLOOKUP(A786,'AFR19'!A:K,12,0)","v":{"$error":"#REF!"}},{"$error":"#REF!"}]
[2045,22886673,0,22886673,{"$f":"VLOOKUP(A787,'AFR19'!A:K,12,0)","v":{"$error":"#REF!"}},{"$error":"#REF!"}]
[2374,245198419,{"$f":"VLOOKUP(A788,'Crete Monee Totals 5-8'!A:B,2,0)","v":69911},245128508,{"$f":"VLOOKUP(A788,'AFR19'!A:K,12,0)","v":{"$error":"#REF!"}},{"$error":"#REF!"}]
[2376,205831719,0,205831719,{"$f":"VLOOKUP(A789,'AFR19'!A:K,12,0)","v":{"$error":"#REF!"}},{"$error":"#REF!"}]
[2414,167255841,0,167255841,{"$f":"VLOOKUP(A790,'AFR19'!A:K,12,0)","v":{"$error":"#REF!"}},{"$error":"#REF!"}]
[2416,145891999,0,145891999,{"$f":"VLOOKUP(A791,'AFR19'!A:K,12,0)","v":{"$error":"#REF!"}},{"$error":"#REF!"}]
[2443,1036906569,0,1036906569,{"$f":"VLOOKUP(A792,'AFR19'!A:K,12,0)","v":{"$error":"#REF!"}},{"$error":"#REF!"}]
[2474,1239661355,0,1239661355,{"$f":"VLOOKUP(A793,'AFR19'!A:K,12,0)","v":{"$error":"#REF!"}},{"$error":"#REF!"}]
[2490,14324719366.91,{"$f":"VLOOKUP(A794,'Crete Monee Totals 5-8'!A:B,2,0)","v":30044125},14294675241.91,{"$f":"VLOOKUP(A794,'AFR19'!A:K,12,0)","v":{"$error":"#REF!"}},{"$error":"#REF!"}]
[2492,6447581623.0099993,{"$f":"VLOOKUP(A795,'Crete Monee Totals 5-8'!A:B,2,0)","v":17440730},6430140893.0099993,{"$f":"VLOOKUP(A795,'AFR19'!A:K,12,0)","v":{"$error":"#REF!"}},{"$error":"#REF!"}]
[2493,2063186078.9400001,{"$f":"VLOOKUP(A796,'Crete Monee Totals 5-8'!A:B,2,0)","v":4660565},2058525513.9400001,{"$f":"VLOOKUP(A796,'AFR19'!A:K,12,0)","v":{"$error":"#REF!"}},{"$error":"#REF!"}]
[2494,22848427320.859997,{"$f":"VLOOKUP(A797,'Crete Monee Totals 5-8'!A:B,2,0)","v":52145420},22796281900.859997,{"$f":"VLOOKUP(A797,'AFR19'!A:K,12,0)","v":{"$error":"#REF!"}},{"$error":"#REF!"}]
[2495,14575394777.520002,{"$f":"VLOOKUP(A798,'Crete Monee Totals 5-8'!A:B,2,0)","v":33949825},14541444952.520002,{"$f":"VLOOKUP(A798,'AFR19'!A:K,12,0)","v":{"$error":"#REF!"}},{"$error":"#REF!"}]
[2496,6104729135.1100006,{"$f":"VLOOKUP(A799,'Crete Monee Totals 5-8'!A:B,2,0)","v":20049492},6084679643.1100006,{"$f":"VLOOKUP(A799,'AFR19'!A:K,12,0)","v":{"$error":"#REF!"}},{"$error":"#REF!"}]
[2497,157232594,{"$f":"VLOOKUP(A800,'Crete Monee Totals 5-8'!A:B,2,0)","v":353255},156879339,{"$f":"VLOOKUP(A800,'AFR19'!A:K,12,0)","v":{"$error":"#REF!"}},{"$error":"#REF!"}]
[2498,741197906.94000006,{"$f":"VLOOKUP(A801,'Crete Monee Totals 5-8'!A:B,2,0)","v":1180976},740016930.94000006,{"$f":"VLOOKUP(A801,'AFR19'!A:K,12,0)","v":{"$error":"#REF!"}},{"$error":"#REF!"}]
[2499,34149433,{"$f":"VLOOKUP(A802,'Crete Monee Totals 5-8'!A:B,2,0)","v":39},34149394,{"$f":"VLOOKUP(A802,'AFR19'!A:K,12,0)","v":{"$error":"#REF!"}},{"$error":"#REF!"}]
[2500,21612703846.57,{"$f":"VLOOKUP(A803,'Crete Monee Totals 5-8'!A:B,2,0)","v":55533587},21557170259.57,{"$f":"VLOOKUP(A803,'AFR19'!A:K,12,0)","v":{"$error":"#REF!"}},{"$error":"#REF!"}]
[2501,1235723474.29,{"$f":"VLOOKUP(A804,'Crete Monee Totals 5-8'!A:B,2,0)","v":-3388167},1239111641.29,{"$f":"VLOOKUP(A804,'AFR19'!A:K,12,0)","v":{"$error":"#REF!"}},{"$error":"#REF!"}]
[2502,1276757,0,1276757,{"$f":"VLOOKUP(A805,'AFR19'!A:K,12,0)","v":{"$error":"#REF!"}},{"$error":"#REF!"}]
[2503,1717672246.7600002,{"$f":"VLOOKUP(A806,'Crete Monee Totals 5-8'!A:B,2,0)","v":4307174},1713365072.7600002,{"$f":"VLOOKUP(A806,'AFR19'!A:K,12,0)","v":{"$error":"#REF!"}},{"$error":"#REF!"}]
[2505,546116589,0,546116589,{"$f":"VLOOKUP(A807,'AFR19'!A:K,12,0)","v":{"$error":"#REF!"}},{"$error":"#REF!"}]
[2506,7855997,0,7855997,{"$f":"VLOOKUP(A808,'AFR19'!A:K,12,0)","v":{"$error":"#REF!"}},{"$error":"#REF!"}]
[2507,2272760903.7600002,{"$f":"VLOOKUP(A809,'Crete Monee Totals 5-8'!A:B,2,0)","v":4307174},2268453729.7600002,{"$f":"VLOOKUP(A809,'AFR19'!A:K,12,0)","v":{"$error":"#REF!"}},{"$error":"#REF!"}]
[2508,2177573154.9099998,{"$f":"VLOOKUP(A810,'Crete Monee Totals 5-8'!A:B,2,0)","v":4302232},2173270922.9099998,{"$f":"VLOOKUP(A810,'AFR19'!A:K,12,0)","v":{"$error":"#REF!"}},{"$error":"#REF!"}]
[2509,1877916,0,1877916,{"$f":"VLOOKUP(A811,'AFR19'!A:K,12,0)","v":{"$error":"#REF!"}},{"$error":"#REF!"}]
[2510,5672478,0,5672478,{"$f":"VLOOKUP(A812,'AFR19'!A:K,12,0)","v":{"$error":"#REF!"}},{"$error":"#REF!"}]
[2511,465579,0,465579,{"$f":"VLOOKUP(A813,'AFR19'!A:K,12,0)","v":{"$error":"#REF!"}},{"$error":"#REF!"}]
[2512,2185589127.9099998,{"$f":"VLOOKUP(A814,'Crete Monee Totals 5-8'!A:B,2,0)","v":4302232},2181286895.9099998,{"$f":"VLOOKUP(A814,'AFR19'!A:K,12,0)","v":{"$error":"#REF!"}},{"$error":"#REF!"}]
[2513,87171775.850000009,{"$f":"VLOOKUP(A815,'Crete Monee Totals 5-8'!A:B,2,0)","v":4942},87166833.850000009,{"$f":"VLOOKUP(A815,'AFR19'!A:K,12,0)","v":{"$error":"#REF!"}},{"$error":"#REF!"}]
[2514,1692437,0,1692437,{"$f":"VLOOKUP(A816,'AFR19'!A:K,12,0)","v":{"$error":"#REF!"}},{"$error":"#REF!"}]
[2530,693611509.20000005,{"$f":"VLOOKUP(A817,'Crete Monee Totals 5-8'!A:B,2,0)","v":4102404},689509105.20000005,{"$f":"VLOOKUP(A817,'AFR19'!A:K,12,0)","v":{"$error":"#REF!"}},{"$error":"#REF!"}]
[2532,687642458.53999996,{"$f":"VLOOKUP(A818,'Crete Monee Totals 5-8'!A:B,2,0)","v":3857047},683785411.53999996,{"$f":"VLOOKUP(A818,'AFR19'!A:K,12,0)","v":{"$error":"#REF!"}},{"$error":"#REF!"}]
[2533,1708570,0,1708570,{"$f":"VLOOKUP(A819,'AFR19'!A:K,12,0)","v":{"$error":"#REF!"}},{"$error":"#REF!"}]
[2534,1383037909.74,{"$f":"VLOOKUP(A820,'Crete Monee Totals 5-8'!A:B,2,0)","v":7959451},1375078458.74,{"$f":"VLOOKUP(A820,'AFR19'!A:K,12,0)","v":{"$error":"#REF!"}},{"$error":"#REF!"}]
[2535,1165802950.1999998,{"$f":"VLOOKUP(A821,'Crete Monee Totals 5-8'!A:B,2,0)","v":6220450},1159582500.1999998,{"$f":"VLOOKUP(A821,'AFR19'!A:K,12,0)","v":{"$error":"#REF!"}},{"$error":"#REF!"}]
[2536,1465697,0,1465697,{"$f":"VLOOKUP(A822,'AFR19'!A:K,12,0)","v":{"$error":"#REF!"}},{"$error":"#REF!"}]
[2537,15567144,0,15567144,{"$f":"VLOOKUP(A823,'AFR19'!A:K,12,0)","v":{"$error":"#REF!"}},{"$error":"#REF!"}]
[2538,16375090,0,16375090,{"$f":"VLOOKUP(A824,'AFR19'!A:K,12,0)","v":{"$error":"#REF!"}},{"$error":"#REF!"}]
[2539,1199210881.1999998,{"$f":"VLOOKUP(A825,'Crete Monee Totals 5-8'!A:B,2,0)","v":6220450},1192990431.1999998,{"$f":"VLOOKUP(A825,'AFR19'!A:K,12,0)","v":{"$error":"#REF!"}},{"$error":"#REF!"}]
[2540,183827028.53999999,{"$f":"VLOOKUP(A826,'Crete Monee Totals 5-8'!A:B,2,0)","v":1739001},182088027.53999999,{"$f":"VLOOKUP(A826,'AFR19'!A:K,12,0)","v":{"$error":"#REF!"}},{"$error":"#REF!"}]
[2541,-244177,0,-244177,{"$f":"VLOOKUP(A827,'AFR19'!A:K,12,0)","v":{"$error":"#REF!"}},{"$error":"#REF!"}]
[2542,634963075.33999991,{"$f":"VLOOKUP(A828,'Crete Monee Totals 5-8'!A:B,2,0)","v":1952601},633010474.33999991,{"$f":"VLOOKUP(A828,'AFR19'!A:K,12,0)","v":{"$error":"#REF!"}},{"$error":"#REF!"}]
[2543,13223355,0,13223355,{"$f":"VLOOKUP(A829,'AFR19'!A:K,12,0)","v":{"$error":"#REF!"}},{"$error":"#REF!"}]
[2544,2166556,0,2166556,{"$f":"VLOOKUP(A830,'AFR19'!A:K,12,0)","v":{"$error":"#REF!"}},{"$error":"#REF!"}]
[2545,650352986.33999991,{"$f":"VLOOKUP(A831,'Crete Monee Totals 5-8'!A:B,2,0)","v":1952601},648400385.33999991,{"$f":"VLOOKUP(A831,'AFR19'!A:K,12,0)","v":{"$error":"#REF!"}},{"$error":"#REF!"}]
[2546,242327922.34000003,{"$f":"VLOOKUP(A832,'Crete Monee Totals 5-8'!A:B,2,0)","v":736524},241591398.34000003,{"$f":"VLOOKUP(A832,'AFR19'!A:K,12,0)","v":{"$error":"#REF!"}},{"$error":"#REF!"}]
[2547,375052639.55999994,{"$f":"VLOOKUP(A833,'Crete Monee Totals 5-8'!A:B,2,0)","v":1120944},373931695.55999994,{"$f":"VLOOKUP(A833,'AFR19'!A:K,12,0)","v":{"$error":"#REF!"}},{"$error":"#REF!"}]
[2548,5728822,{"$f":"VLOOKUP(A834,'Crete Monee Totals 5-8'!A:B,2,0)","v":834},5727988,{"$f":"VLOOKUP(A834,'AFR19'!A:K,12,0)","v":{"$error":"#REF!"}},{"$error":"#REF!"}]
[2551,625629915.89999998,{"$f":"VLOOKUP(A835,'Crete Monee Totals 5-8'!A:B,2,0)","v":1858302},{"$f":"SUM(B835-C835)","v":623771613.89999998},{"$f":"VLOOKUP(A835,'AFR19'!A:K,12,0)","v":{"$error":"#REF!"}},{"$f":"SUM(D835-E835)","v":{"$error":"#REF!"}}]
[2552,24723070.439999998,{"$f":"VLOOKUP(A836,'Crete Monee Totals 5-8'!A:B,2,0)","v":94299},24628771.439999998,{"$f":"VLOOKUP(A836,'AFR19'!A:K,12,0)","v":{"$error":"#REF!"}},{"$error":"#REF!"}]
[2553,90691,{"$f":"VLOOKUP(A837,'Crete Monee Totals 5-8'!A:B,2,0)","v":53367},37324,{"$f":"VLOOKUP(A837,'AFR19'!A:K,12,0)","v":{"$error":"#REF!"}},{"$error":"#REF!"}]
[2569,1816697759.8000002,{"$f":"VLOOKUP(A838,'Crete Monee Totals 5-8'!A:B,2,0)","v":11721833},1804975926.8000002,{"$f":"VLOOKUP(A838,'AFR19'!A:K,12,0)","v":{"$error":"#REF!"}},{"$error":"#REF!"}]
[2570,342932209,0,342932209,{"$f":"VLOOKUP(A839,'AFR19'!A:K,12,0)","v":{"$error":"#REF!"}},{"$error":"#REF!"}]
[2571,2208553736.8000002,{"$f":"VLOOKUP(A840,'Crete Monee Totals 5-8'!A:B,2,0)","v":11721833},2196831903.8000002,{"$f":"VLOOKUP(A840,'AFR19'!A:K,12,0)","v":{"$error":"#REF!"}},{"$error":"#REF!"}]
[2572,139983,0,139983,{"$f":"VLOOKUP(A841,'AFR19'!A:K,12,0)","v":{"$error":"#REF!"}},{"$error":"#REF!"}]
[2573,2998987778,{"$f":"VLOOKUP(A842,'Crete Monee Totals 5-8'!A:B,2,0)","v":11693095},2987294683,{"$f":"VLOOKUP(A842,'AFR19'!A:K,12,0)","v":{"$error":"#REF!"}},{"$error":"#REF!"}]
[2574,2999127761,{"$f":"VLOOKUP(A843,'Crete Monee Totals 5-8'!A:B,2,0)","v":11693095},2987434666,{"$f":"VLOOKUP(A843,'AFR19'!A:K,12,0)","v":{"$error":"#REF!"}},{"$error":"#REF!"}]
[2575,-790574024.20000005,{"$f":"VLOOKUP(A844,'Crete Monee Totals 5-8'!A:B,2,0)","v":28738},-790602762.20000005,{"$f":"VLOOKUP(A844,'AFR19'!A:K,12,0)","v":{"$error":"#REF!"}},{"$error":"#REF!"}]
[2576,-771344,0,-771344,{"$f":"VLOOKUP(A845,'AFR19'!A:K,12,0)","v":{"$error":"#REF!"}},{"$error":"#REF!"}]
[2594,183466992.61000001,{"$f":"VLOOKUP(A846,'Crete Monee Totals 5-8'!A:B,2,0)","v":27009},183439983.61000001,{"$f":"VLOOKUP(A846,'AFR19'!A:K,12,0)","v":{"$error":"#REF!"}},{"$error":"#REF!"}]
[2595,55672630,0,55672630,{"$f":"VLOOKUP(A847,'AFR19'!A:K,12,0)","v":{"$error":"#REF!"}},{"$error":"#REF!"}]
[2596,755447,0,755447,{"$f":"VLOOKUP(A848,'AFR19'!A:K,12,0)","v":{"$error":"#REF!"}},{"$error":"#REF!"}]
[2597,239895069.61000001,{"$f":"VLOOKUP(A849,'Crete Monee Totals 5-8'!A:B,2,0)","v":27009},239868060.61000001,{"$f":"VLOOKUP(A849,'AFR19'!A:K,12,0)","v":{"$error":"#REF!"}},{"$error":"#REF!"}]
[2598,1506014787.0699999,{"$f":"VLOOKUP(A850,'Crete Monee Totals 5-8'!A:B,2,0)","v":419971},1505594816.0699999,{"$f":"VLOOKUP(A850,'AFR19'!A:K,12,0)","v":{"$error":"#REF!"}},{"$error":"#REF!"}]
[2599,868100,0,868100,{"$f":"VLOOKUP(A851,'AFR19'!A:K,12,0)","v":{"$error":"#REF!"}},{"$error":"#REF!"}]
[2600,1506882887.0699999,{"$f":"VLOOKUP(A852,'Crete Monee Totals 5-8'!A:B,2,0)","v":419971},1506462916.0699999,{"$f":"VLOOKUP(A852,'AFR19'!A:K,12,0)","v":{"$error":"#REF!"}},{"$error":"#REF!"}]
[2601,-1266987817.46,{"$f":"VLOOKUP(A853,'Crete Monee Totals 5-8'!A:B,2,0)","v":-392962},-1266594855.46,{"$f":"VLOOKUP(A853,'AFR19'!A:K,12,0)","v":{"$error":"#REF!"}},{"$error":"#REF!"}]
[2602,-138403,0,-138403,{"$f":"VLOOKUP(A854,'AFR19'!A:K,12,0)","v":{"$error":"#REF!"}},{"$error":"#REF!"}]
[2657,72516314,0,72516314,{"$f":"VLOOKUP(A855,'AFR19'!A:K,12,0)","v":{"$error":"#REF!"}},{"$error":"#REF!"}]
[2658,16368267,0,16368267,{"$f":"VLOOKUP(A856,'AFR19'!A:K,12,0)","v":{"$error":"#REF!"}},{"$error":"#REF!"}]
[2659,4964028,0,4964028,{"$f":"VLOOKUP(A857,'AFR19'!A:K,12,0)","v":{"$error":"#REF!"}},{"$error":"#REF!"}]
[2660,1459349,0,1459349,{"$f":"VLOOKUP(A858,'AFR19'!A:K,12,0)","v":{"$error":"#REF!"}},{"$error":"#REF!"}]
[2661,65718,0,65718,{"$f":"VLOOKUP(A859,'AFR19'!A:K,12,0)","v":{"$error":"#REF!"}},{"$error":"#REF!"}]
[2662,422099,0,422099,{"$f":"VLOOKUP(A860,'AFR19'!A:K,12,0)","v":{"$error":"#REF!"}},{"$error":"#REF!"}]
[2663,96006143,0,96006143,{"$f":"VLOOKUP(A861,'AFR19'!A:K,12,0)","v":{"$error":"#REF!"}},{"$error":"#REF!"}]
[2664,3507910,0,3507910,{"$f":"VLOOKUP(A862,'AFR19'!A:K,12,0)","v":{"$error":"#REF!"}},{"$error":"#REF!"}]
[2665,3507910,0,3507910,{"$f":"VLOOKUP(A863,'AFR19'!A:K,12,0)","v":{"$error":"#REF!"}},{"$error":"#REF!"}]
[2696,289340251,0,289340251,{"$f":"VLOOKUP(A864,'AFR19'!A:K,12,0)","v":{"$error":"#REF!"}},{"$error":"#REF!"}]
[2697,9311959,0,9311959,{"$f":"VLOOKUP(A865,'AFR19'!A:K,12,0)","v":{"$error":"#REF!"}},{"$error":"#REF!"}]
[2699,13646687,0,13646687,{"$f":"VLOOKUP(A866,'AFR19'!A:K,12,0)","v":{"$error":"#REF!"}},{"$error":"#REF!"}]
[2701,3415270,0,3415270,{"$f":"VLOOKUP(A867,'AFR19'!A:K,12,0)","v":{"$error":"#REF!"}},{"$error":"#REF!"}]
[2702,403684,0,403684,{"$f":"VLOOKUP(A868,'AFR19'!A:K,12,0)","v":{"$error":"#REF!"}},{"$error":"#REF!"}]
[2705,47069,0,47069,{"$f":"VLOOKUP(A869,'AFR19'!A:K,12,0)","v":{"$error":"#REF!"}},{"$error":"#REF!"}]
[2708,2365437,0,2365437,{"$f":"VLOOKUP(A870,'AFR19'!A:K,12,0)","v":{"$error":"#REF!"}},{"$error":"#REF!"}]
[2711,3316000,0,3316000,{"$f":"VLOOKUP(A871,'AFR19'!A:K,12,0)","v":{"$error":"#REF!"}},{"$error":"#REF!"}]
[2728,207967904.41,0,207967904.41,{"$f":"VLOOKUP(A872,'AFR19'!A:K,12,0)","v":{"$error":"#REF!"}},{"$error":"#REF!"}]
[2729,208274220.41,0,208274220.41,{"$f":"VLOOKUP(A873,'AFR19'!A:K,12,0)","v":{"$error":"#REF!"}},{"$error":"#REF!"}]
[2731,30974292,0,30974292,{"$f":"VLOOKUP(A874,'AFR19'!A:K,12,0)","v":{"$error":"#REF!"}},{"$error":"#REF!"}]
[2733,9299700,0,9299700,{"$f":"VLOOKUP(A875,'AFR19'!A:K,12,0)","v":{"$error":"#REF!"}},{"$error":"#REF!"}]
[2735,30974292,0,30974292,{"$f":"VLOOKUP(A876,'AFR19'!A:K,12,0)","v":{"$error":"#REF!"}},{"$error":"#REF!"}]
[2736,314443,0,314443,{"$f":"VLOOKUP(A877,'AFR19'!A:K,12,0)","v":{"$error":"#REF!"}},{"$error":"#REF!"}]
[2737,19,0,19,{"$f":"VLOOKUP(A878,'AFR19'!A:K,12,0)","v":{"$error":"#REF!"}},{"$error":"#REF!"}]
[2738,55322,0,55322,{"$f":"VLOOKUP(A879,'AFR19'!A:K,12,0)","v":{"$error":"#REF!"}},{"$error":"#REF!"}]
[2739,10083,0,10083,{"$f":"VLOOKUP(A880,'AFR19'!A:K,12,0)","v":{"$error":"#REF!"}},{"$error":"#REF!"}]
[2740,47171,0,47171,{"$f":"VLOOKUP(A881,'AFR19'!A:K,12,0)","v":{"$error":"#REF!"}},{"$error":"#REF!"}]
[2741,1450000,0,1450000,{"$f":"VLOOKUP(A882,'AFR19'!A:K,12,0)","v":{"$error":"#REF!"}},{"$error":"#REF!"}]
[2744,1877916,0,1877916,{"$f":"VLOOKUP(A883,'AFR19'!A:K,12,0)","v":{"$error":"#REF!"}},{"$error":"#REF!"}]
[2745,12043528,0,12043528,{"$f":"VLOOKUP(A884,'AFR19'!A:K,12,0)","v":{"$error":"#REF!"}},{"$error":"#REF!"}]
[2752,1949430,0,1949430,{"$f":"VLOOKUP(A885,'AFR19'!A:K,12,0)","v":{"$error":"#REF!"}},{"$error":"#REF!"}]
[2756,287290136,0,287290136,{"$f":"VLOOKUP(A886,'AFR19'!A:K,12,0)","v":{"$error":"#REF!"}},{"$error":"#REF!"}]
[2758,1949430,0,1949430,{"$f":"VLOOKUP(A887,'AFR19'!A:K,12,0)","v":{"$error":"#REF!"}},{"$error":"#REF!"}]
[2759,37664,0,37664,{"$f":"VLOOKUP(A888,'AFR19'!A:K,12,0)","v":{"$error":"#REF!"}},{"$error":"#REF!"}]
[2760,729,0,729,{"$f":"VLOOKUP(A889,'AFR19'!A:K,12,0)","v":{"$error":"#REF!"}},{"$error":"#REF!"}]
[2761,174176,0,174176,{"$f":"VLOOKUP(A890,'AFR19'!A:K,12,0)","v":{"$error":"#REF!"}},{"$error":"#REF!"}]
[2762,12729286,0,12729286,{"$f":"VLOOKUP(A891,'AFR19'!A:K,12,0)","v":{"$error":"#REF!"}},{"$error":"#REF!"}]
[2764,3128,0,3128,{"$f":"VLOOKUP(A892,'AFR19'!A:K,12,0)","v":{"$error":"#REF!"}},{"$error":"#REF!"}]
[2766,1250000,0,1250000,{"$f":"VLOOKUP(A893,'AFR19'!A:K,12,0)","v":{"$error":"#REF!"}},{"$error":"#REF!"}]
[2767,2837858,0,2837858,{"$f":"VLOOKUP(A894,'AFR19'!A:K,12,0)","v":{"$error":"#REF!"}},{"$error":"#REF!"}]
[2769,2837858,0,2837858,{"$f":"VLOOKUP(A895,'AFR19'!A:K,12,0)","v":{"$error":"#REF!"}},{"$error":"#REF!"}]
[2775,1465697,0,1465697,{"$f":"VLOOKUP(A896,'AFR19'!A:K,12,0)","v":{"$error":"#REF!"}},{"$error":"#REF!"}]
[2776,15567144,0,15567144,{"$f":"VLOOKUP(A897,'AFR19'!A:K,12,0)","v":{"$error":"#REF!"}},{"$error":"#REF!"}]
[2779,3307350,0,3307350,{"$f":"VLOOKUP(A898,'AFR19'!A:K,12,0)","v":{"$error":"#REF!"}},{"$error":"#REF!"}]
[2787,3583747,0,{"$f":"SUM(B899-C899)","v":3583747},{"$f":"VLOOKUP(A899,'AFR19'!A:K,12,0)","v":{"$error":"#REF!"}},{"$f":"SUM(D899-E899)","v":{"$error":"#REF!"}}]
[2793,105042,0,105042,{"$f":"VLOOKUP(A900,'AFR19'!A:K,12,0)","v":{"$error":"#REF!"}},{"$error":"#REF!"}]
[2794,3538042.54,0,3538042.54,{"$f":"VLOOKUP(A901,'AFR19'!A:K,12,0)","v":{"$error":"#REF!"}},{"$error":"#REF!"}]
[2795,11717,0,11717,{"$f":"VLOOKUP(A902,'AFR19'!A:K,12,0)","v":{"$error":"#REF!"}},{"$error":"#REF!"}]
[2797,10161469,0,10161469,{"$f":"VLOOKUP(A903,'AFR19'!A:K,12,0)","v":{"$error":"#REF!"}},{"$error":"#REF!"}]
[2799,1106319,0,1106319,{"$f":"VLOOKUP(A904,'AFR19'!A:K,12,0)","v":{"$error":"#REF!"}},{"$error":"#REF!"}]
[2801,30260289,0,30260289,{"$f":"VLOOKUP(A905,'AFR19'!A:K,12,0)","v":{"$error":"#REF!"}},{"$error":"#REF!"}]
[2803,1061757475,0,1061757475,{"$f":"VLOOKUP(A906,'AFR19'!A:K,12,0)","v":{"$error":"#REF!"}},{"$error":"#REF!"}]
[2819,29635396,{"$f":"VLOOKUP(A907,'Crete Monee Totals 5-8'!A:B,2,0)","v":83350},29552046,{"$f":"VLOOKUP(A907,'AFR19'!A:K,12,0)","v":{"$error":"#REF!"}},{"$error":"#REF!"}]
[2824,476588747,0,476588747,{"$f":"VLOOKUP(A908,'AFR19'!A:K,12,0)","v":{"$error":"#REF!"}},{"$error":"#REF!"}]
[2826,-28997,0,-28997,{"$f":"VLOOKUP(A909,'AFR19'!A:K,12,0)","v":{"$error":"#REF!"}},{"$error":"#REF!"}]
[2827,2273448552.5100002,{"$f":"VLOOKUP(A910,'Crete Monee Totals 5-8'!A:B,2,0)","v":1308756},2272139796.5100002,{"$f":"VLOOKUP(A910,'AFR19'!A:K,12,0)","v":{"$error":"#REF!"}},{"$error":"#REF!"}]
[2831,38351905,0,38351905,{"$f":"VLOOKUP(A911,'AFR19'!A:K,12,0)","v":{"$error":"#REF!"}},{"$error":"#REF!"}]
[2833,2055945,0,2055945,{"$f":"VLOOKUP(A912,'AFR19'!A:K,12,0)","v":{"$error":"#REF!"}},{"$error":"#REF!"}]
[2834,253177879.57000002,{"$f":"VLOOKUP(A913,'Crete Monee Totals 5-8'!A:B,2,0)","v":302818},252875061.57000002,{"$f":"VLOOKUP(A913,'AFR19'!A:K,12,0)","v":{"$error":"#REF!"}},{"$error":"#REF!"}]
[2847,16411818,{"$f":"VLOOKUP(A914,'Crete Monee Totals 5-8'!A:B,2,0)","v":82750},16329068,{"$f":"VLOOKUP(A914,'AFR19'!A:K,12,0)","v":{"$error":"#REF!"}},{"$error":"#REF!"}]
[2849,17211660,{"$f":"VLOOKUP(A915,'Crete Monee Totals 5-8'!A:B,2,0)","v":82750},17128910,{"$f":"VLOOKUP(A915,'AFR19'!A:K,12,0)","v":{"$error":"#REF!"}},{"$error":"#REF!"}]
[2850,97680018,0,97680018,{"$f":"VLOOKUP(A916,'AFR19'!A:K,12,0)","v":{"$error":"#REF!"}},{"$error":"#REF!"}]
[2851,2158556874.5900002,{"$f":"VLOOKUP(A917,'Crete Monee Totals 5-8'!A:B,2,0)","v":1226006},2157330868.5900002,{"$f":"VLOOKUP(A917,'AFR19'!A:K,12,0)","v":{"$error":"#REF!"}},{"$error":"#REF!"}]
[2852,2273448552.5900002,{"$f":"VLOOKUP(A918,'Crete Monee Totals 5-8'!A:B,2,0)","v":1308756},2272139796.5900002,{"$f":"VLOOKUP(A918,'AFR19'!A:K,12,0)","v":{"$error":"#REF!"}},{"$error":"#REF!"}]
[2853,207635603.57000002,{"$f":"VLOOKUP(A919,'Crete Monee Totals 5-8'!A:B,2,0)","v":302818},207332785.57000002,{"$f":"VLOOKUP(A919,'AFR19'!A:K,12,0)","v":{"$error":"#REF!"}},{"$error":"#REF!"}]
[2855,207635603.57000002,{"$f":"VLOOKUP(A920,'Crete Monee Totals 5-8'!A:B,2,0)","v":302818},207332785.57000002,{"$f":"VLOOKUP(A920,'AFR19'!A:K,12,0)","v":{"$error":"#REF!"}},{"$error":"#REF!"}]
[2856,253173679.57000002,{"$f":"VLOOKUP(A921,'Crete Monee Totals 5-8'!A:B,2,0)","v":302818},252870861.57000002,{"$f":"VLOOKUP(A921,'AFR19'!A:K,12,0)","v":{"$error":"#REF!"}},{"$error":"#REF!"}]
[2886,910,0,910,{"$f":"VLOOKUP(A922,'AFR19'!A:K,12,0)","v":{"$error":"#REF!"}},{"$error":"#REF!"}]
[2888,74590518,0,74590518,{"$f":"VLOOKUP(A923,'AFR19'!A:K,12,0)","v":{"$error":"#REF!"}},{"$error":"#REF!"}]
[2889,118626014.41,0,118626014.41,{"$f":"VLOOKUP(A924,'AFR19'!A:K,12,0)","v":{"$error":"#REF!"}},{"$error":"#REF!"}]
[2890,136372,0,136372,{"$f":"VLOOKUP(A925,'AFR19'!A:K,12,0)","v":{"$error":"#REF!"}},{"$error":"#REF!"}]
[2891,2204583,0,2204583,{"$f":"VLOOKUP(A926,'AFR19'!A:K,12,0)","v":{"$error":"#REF!"}},{"$error":"#REF!"}]
[2892,1206355,0,1206355,{"$f":"VLOOKUP(A927,'AFR19'!A:K,12,0)","v":{"$error":"#REF!"}},{"$error":"#REF!"}]
[2893,11204062,0,11204062,{"$f":"VLOOKUP(A928,'AFR19'!A:K,12,0)","v":{"$error":"#REF!"}},{"$error":"#REF!"}]
[2894,19978808,0,19978808,{"$f":"VLOOKUP(A929,'AFR19'!A:K,12,0)","v":{"$error":"#REF!"}},{"$error":"#REF!"}]
[2895,195518279.53,0,195518279.53,{"$f":"VLOOKUP(A930,'AFR19'!A:K,12,0)","v":{"$error":"#REF!"}},{"$error":"#REF!"}]
[2896,175788,0,175788,{"$f":"VLOOKUP(A931,'AFR19'!A:K,12,0)","v":{"$error":"#REF!"}},{"$error":"#REF!"}]
[2897,10350179,0,10350179,{"$f":"VLOOKUP(A932,'AFR19'!A:K,12,0)","v":{"$error":"#REF!"}},{"$error":"#REF!"}]
[2898,584025,0,584025,{"$f":"VLOOKUP(A933,'AFR19'!A:K,12,0)","v":{"$error":"#REF!"}},{"$error":"#REF!"}]
[2899,5084874,0,5084874,{"$f":"VLOOKUP(A934,'AFR19'!A:K,12,0)","v":{"$error":"#REF!"}},{"$error":"#REF!"}]
[2912,94569326,0,94569326,{"$f":"VLOOKUP(A935,'AFR19'!A:K,12,0)","v":{"$error":"#REF!"}},{"$error":"#REF!"}]
[2913,314144293.94,0,314144293.94,{"$f":"VLOOKUP(A936,'AFR19'!A:K,12,0)","v":{"$error":"#REF!"}},{"$error":"#REF!"}]
[2914,312160,0,312160,{"$f":"VLOOKUP(A937,'AFR19'!A:K,12,0)","v":{"$error":"#REF!"}},{"$error":"#REF!"}]
[2915,12554762,0,12554762,{"$f":"VLOOKUP(A938,'AFR19'!A:K,12,0)","v":{"$error":"#REF!"}},{"$error":"#REF!"}]
[2916,1790380,0,1790380,{"$f":"VLOOKUP(A939,'AFR19'!A:K,12,0)","v":{"$error":"#REF!"}},{"$error":"#REF!"}]
[2917,16288936,0,16288936,{"$f":"VLOOKUP(A940,'AFR19'!A:K,12,0)","v":{"$error":"#REF!"}},{"$error":"#REF!"}]
[2918,870733,0,870733,{"$f":"VLOOKUP(A941,'AFR19'!A:K,12,0)","v":{"$error":"#REF!"}},{"$error":"#REF!"}]
[2919,828936,0,828936,{"$f":"VLOOKUP(A942,'AFR19'!A:K,12,0)","v":{"$error":"#REF!"}},{"$error":"#REF!"}]
[2920,1368312,0,1368312,{"$f":"VLOOKUP(A943,'AFR19'!A:K,12,0)","v":{"$error":"#REF!"}},{"$error":"#REF!"}]
[2925,2457130,0,2457130,{"$f":"VLOOKUP(A944,'AFR19'!A:K,12,0)","v":{"$error":"#REF!"}},{"$error":"#REF!"}]
[2926,948503,0,948503,{"$f":"VLOOKUP(A945,'AFR19'!A:K,12,0)","v":{"$error":"#REF!"}},{"$error":"#REF!"}]
[2927,1629374,0,1629374,{"$f":"VLOOKUP(A946,'AFR19'!A:K,12,0)","v":{"$error":"#REF!"}},{"$error":"#REF!"}]
[2928,5050951,0,5050951,{"$f":"VLOOKUP(A947,'AFR19'!A:K,12,0)","v":{"$error":"#REF!"}},{"$error":"#REF!"}]
[2929,7449484,0,7449484,{"$f":"VLOOKUP(A948,'AFR19'!A:K,12,0)","v":{"$error":"#REF!"}},{"$error":"#REF!"}]
[2931,14909,0,14909,{"$f":"VLOOKUP(A949,'AFR19'!A:K,12,0)","v":{"$error":"#REF!"}},{"$error":"#REF!"}]
[2933,213942,0,213942,{"$f":"VLOOKUP(A950,'AFR19'!A:K,12,0)","v":{"$error":"#REF!"}},{"$error":"#REF!"}]
[2934,930170,0,930170,{"$f":"VLOOKUP(A951,'AFR19'!A:K,12,0)","v":{"$error":"#REF!"}},{"$error":"#REF!"}]
[2935,1115415,0,1115415,{"$f":"VLOOKUP(A952,'AFR19'!A:K,12,0)","v":{"$error":"#REF!"}},{"$error":"#REF!"}]
[2937,17023,0,17023,{"$f":"VLOOKUP(A953,'AFR19'!A:K,12,0)","v":{"$error":"#REF!"}},{"$error":"#REF!"}]
[2939,775250,0,775250,{"$f":"VLOOKUP(A954,'AFR19'!A:K,12,0)","v":{"$error":"#REF!"}},{"$error":"#REF!"}]
[2946,5981121,0,5981121,{"$f":"VLOOKUP(A955,'AFR19'!A:K,12,0)","v":{"$error":"#REF!"}},{"$error":"#REF!"}]
[2947,8564899,0,8564899,{"$f":"VLOOKUP(A956,'AFR19'!A:K,12,0)","v":{"$error":"#REF!"}},{"$error":"#REF!"}]
[2949,31932,0,31932,{"$f":"VLOOKUP(A957,'AFR19'!A:K,12,0)","v":{"$error":"#REF!"}},{"$error":"#REF!"}]
[2951,989192,0,989192,{"$f":"VLOOKUP(A958,'AFR19'!A:K,12,0)","v":{"$error":"#REF!"}},{"$error":"#REF!"}]
[2994,155676132.56,{"$f":"VLOOKUP(A959,'Crete Monee Totals 5-8'!A:B,2,0)","v":94750},155581382.56,{"$f":"VLOOKUP(A959,'AFR19'!A:K,12,0)","v":{"$error":"#REF!"}},{"$error":"#REF!"}]
[2995,36379694.439999998,{"$f":"VLOOKUP(A960,'Crete Monee Totals 5-8'!A:B,2,0)","v":22529},36357165.439999998,{"$f":"VLOOKUP(A960,'AFR19'!A:K,12,0)","v":{"$error":"#REF!"}},{"$error":"#REF!"}]
[2996,21655519,{"$f":"VLOOKUP(A961,'Crete Monee Totals 5-8'!A:B,2,0)","v":148580},21506939,{"$f":"VLOOKUP(A961,'AFR19'!A:K,12,0)","v":{"$error":"#REF!"}},{"$error":"#REF!"}]
[2997,47886033.100000001,{"$f":"VLOOKUP(A962,'Crete Monee Totals 5-8'!A:B,2,0)","v":683673},47202360.100000001,{"$f":"VLOOKUP(A962,'AFR19'!A:K,12,0)","v":{"$error":"#REF!"}},{"$error":"#REF!"}]
[2998,5580026.2699999996,0,{"$f":"SUM(B963-C963)","v":5580026.2699999996},{"$f":"VLOOKUP(A963,'AFR19'!A:K,12,0)","v":{"$error":"#REF!"}},{"$f":"SUM(D963-E963)","v":{"$error":"#REF!"}}]
[2999,443445,0,443445,{"$f":"VLOOKUP(A964,'AFR19'!A:K,12,0)","v":{"$error":"#REF!"}},{"$error":"#REF!"}]
[3001,272028476.37,{"$f":"VLOOKUP(A965,'Crete Monee Totals 5-8'!A:B,2,0)","v":1017838},271010638.37,{"$f":"VLOOKUP(A965,'AFR19'!A:K,12,0)","v":{"$error":"#REF!"}},{"$error":"#REF!"}]
[3003,7567892.8600000003,{"$f":"VLOOKUP(A966,'Crete Monee Totals 5-8'!A:B,2,0)","v":1384},7566508.8600000003,{"$f":"VLOOKUP(A966,'AFR19'!A:K,12,0)","v":{"$error":"#REF!"}},{"$error":"#REF!"}]
[3004,7567892.8600000003,{"$f":"VLOOKUP(A967,'Crete Monee Totals 5-8'!A:B,2,0)","v":1384},7566508.8600000003,{"$f":"VLOOKUP(A967,'AFR19'!A:K,12,0)","v":{"$error":"#REF!"}},{"$error":"#REF!"}]
[3010,40766271,0,40766271,{"$f":"VLOOKUP(A968,'AFR19'!A:K,12,0)","v":{"$error":"#REF!"}},{"$error":"#REF!"}]
[3011,4771805,0,4771805,{"$f":"VLOOKUP(A969,'AFR19'!A:K,12,0)","v":{"$error":"#REF!"}},{"$error":"#REF!"}]
[3017,13890615,0,13890615,{"$f":"VLOOKUP(A970,'AFR19'!A:K,12,0)","v":{"$error":"#REF!"}},{"$error":"#REF!"}]
[3018,444418,0,444418,{"$f":"VLOOKUP(A971,'AFR19'!A:K,12,0)","v":{"$error":"#REF!"}},{"$error":"#REF!"}]
[3021,2656880773,0,2656880773,{"$f":"VLOOKUP(A972,'AFR19'!A:K,12,0)","v":{"$error":"#REF!"}},{"$error":"#REF!"}]
[3022,7932465,0,7932465,{"$f":"VLOOKUP(A973,'AFR19'!A:K,12,0)","v":{"$error":"#REF!"}},{"$error":"#REF!"}]
[3100,7462720,0,7462720,{"$f":"VLOOKUP(A974,'AFR19'!A:K,12,0)","v":{"$error":"#REF!"}},{"$error":"#REF!"}]
[3109,7462720,0,7462720,{"$f":"VLOOKUP(A975,'AFR19'!A:K,12,0)","v":{"$error":"#REF!"}},{"$error":"#REF!"}]
[3164,92905180.310000002,{"$f":"VLOOKUP(A976,'Crete Monee Totals 5-8'!A:B,2,0)","v":236522},92668658.310000002,{"$f":"VLOOKUP(A976,'AFR19'!A:K,12,0)","v":{"$error":"#REF!"}},{"$error":"#REF!"}]
[3165,92905180.310000002,{"$f":"VLOOKUP(A977,'Crete Monee Totals 5-8'!A:B,2,0)","v":236522},92668658.310000002,{"$f":"VLOOKUP(A977,'AFR19'!A:K,12,0)","v":{"$error":"#REF!"}},{"$error":"#REF!"}]
[3166,92905180.310000002,{"$f":"VLOOKUP(A978,'Crete Monee Totals 5-8'!A:B,2,0)","v":236522},92668658.310000002,{"$f":"VLOOKUP(A978,'AFR19'!A:K,12,0)","v":{"$error":"#REF!"}},{"$error":"#REF!"}]
[3167,33869368,0,33869368,{"$f":"VLOOKUP(A979,'AFR19'!A:K,12,0)","v":{"$error":"#REF!"}},{"$error":"#REF!"}]
[3168,492689946,0,492689946,{"$f":"VLOOKUP(A980,'AFR19'!A:K,12,0)","v":{"$error":"#REF!"}},{"$error":"#REF!"}]
[3169,123178562,0,123178562,{"$f":"VLOOKUP(A981,'AFR19'!A:K,12,0)","v":{"$error":"#REF!"}},{"$error":"#REF!"}]
[3170,391420122,{"$f":"VLOOKUP(A982,'Crete Monee Totals 5-8'!A:B,2,0)","v":95576},391324546,{"$f":"VLOOKUP(A982,'AFR19'!A:K,12,0)","v":{"$error":"#REF!"}},{"$error":"#REF!"}]
[3171,101269824,{"$f":"VLOOKUP(A983,'Crete Monee Totals 5-8'!A:B,2,0)","v":-95576},101365400,{"$f":"VLOOKUP(A983,'AFR19'!A:K,12,0)","v":{"$error":"#REF!"}},{"$error":"#REF!"}]
[3172,1336993298.29,{"$f":"VLOOKUP(A984,'Crete Monee Totals 5-8'!A:B,2,0)","v":-3483743},1340477041.29,{"$f":"VLOOKUP(A984,'AFR19'!A:K,12,0)","v":{"$error":"#REF!"}},{"$error":"#REF!"}]
[3173,21280735,0,21280735,{"$f":"VLOOKUP(A985,'AFR19'!A:K,12,0)","v":{"$error":"#REF!"}},{"$error":"#REF!"}]
[3174,418035742,0,418035742,{"$f":"VLOOKUP(A986,'AFR19'!A:K,12,0)","v":{"$error":"#REF!"}},{"$error":"#REF!"}]
[3175,88363426,0,88363426,{"$f":"VLOOKUP(A987,'AFR19'!A:K,12,0)","v":{"$error":"#REF!"}},{"$error":"#REF!"}]
[3176,466366300,0,466366300,{"$f":"VLOOKUP(A988,'AFR19'!A:K,12,0)","v":{"$error":"#REF!"}},{"$error":"#REF!"}]
[3177,-48330558,0,-48330558,{"$f":"VLOOKUP(A989,'AFR19'!A:K,12,0)","v":{"$error":"#REF!"}},{"$error":"#REF!"}]
[3178,38841217.850000001,{"$f":"VLOOKUP(A990,'Crete Monee Totals 5-8'!A:B,2,0)","v":4942},38836275.850000001,{"$f":"VLOOKUP(A990,'AFR19'!A:K,12,0)","v":{"$error":"#REF!"}},{"$error":"#REF!"}]
[3190,14870822,0,14870822,{"$f":"VLOOKUP(A991,'AFR19'!A:K,12,0)","v":{"$error":"#REF!"}},{"$error":"#REF!"}]
[3191,60153160,0,60153160,{"$f":"VLOOKUP(A992,'AFR19'!A:K,12,0)","v":{"$error":"#REF!"}},{"$error":"#REF!"}]
[3192,10210782,0,10210782,{"$f":"VLOOKUP(A993,'AFR19'!A:K,12,0)","v":{"$error":"#REF!"}},{"$error":"#REF!"}]
[3193,117396711,0,117396711,{"$f":"VLOOKUP(A994,'AFR19'!A:K,12,0)","v":{"$error":"#REF!"}},{"$error":"#REF!"}]
[3194,-57243551,0,-57243551,{"$f":"VLOOKUP(A995,'AFR19'!A:K,12,0)","v":{"$error":"#REF!"}},{"$error":"#REF!"}]
[3195,126583477.53999999,{"$f":"VLOOKUP(A996,'Crete Monee Totals 5-8'!A:B,2,0)","v":1739001},124844476.53999999,{"$f":"VLOOKUP(A996,'AFR19'!A:K,12,0)","v":{"$error":"#REF!"}},{"$error":"#REF!"}]
[3197,833358,0,833358,{"$f":"VLOOKUP(A997,'AFR19'!A:K,12,0)","v":{"$error":"#REF!"}},{"$error":"#REF!"}]
[3198,47510,0,47510,{"$f":"VLOOKUP(A998,'AFR19'!A:K,12,0)","v":{"$error":"#REF!"}},{"$error":"#REF!"}]
[3199,47510,0,47510,{"$f":"VLOOKUP(A999,'AFR19'!A:K,12,0)","v":{"$error":"#REF!"}},{"$error":"#REF!"}]
[3200,785848,0,785848,{"$f":"VLOOKUP(A1000,'AFR19'!A:K,12,0)","v":{"$error":"#REF!"}},{"$error":"#REF!"}]
[3201,25508918.439999998,{"$f":"VLOOKUP(A1001,'Crete Monee Totals 5-8'!A:B,2,0)","v":94299},25414619.439999998,{"$f":"VLOOKUP(A1001,'AFR19'!A:K,12,0)","v":{"$error":"#REF!"}},{"$error":"#REF!"}]
[3212,172821616,{"$f":"VLOOKUP(A1002,'Crete Monee Totals 5-8'!A:B,2,0)","v":95576},172726040,{"$f":"VLOOKUP(A1002,'AFR19'!A:K,12,0)","v":{"$error":"#REF!"}},{"$error":"#REF!"}]
[3213,3093789864,{"$f":"VLOOKUP(A1003,'Crete Monee Totals 5-8'!A:B,2,0)","v":95576},3093694288,{"$f":"VLOOKUP(A1003,'AFR19'!A:K,12,0)","v":{"$error":"#REF!"}},{"$error":"#REF!"}]
[3214,1798259672,0,1798259672,{"$f":"VLOOKUP(A1004,'AFR19'!A:K,12,0)","v":{"$error":"#REF!"}},{"$error":"#REF!"}]
[3215,2085549808,0,2085549808,{"$f":"VLOOKUP(A1005,'AFR19'!A:K,12,0)","v":{"$error":"#REF!"}},{"$error":"#REF!"}]
[3216,1008240056,{"$f":"VLOOKUP(A1006,'Crete Monee Totals 5-8'!A:B,2,0)","v":95576},1008144480,{"$f":"VLOOKUP(A1006,'AFR19'!A:K,12,0)","v":{"$error":"#REF!"}},{"$error":"#REF!"}]
[3217,217666031.79999998,{"$f":"VLOOKUP(A1007,'Crete Monee Totals 5-8'!A:B,2,0)","v":124314},217541717.79999998,{"$f":"VLOOKUP(A1007,'AFR19'!A:K,12,0)","v":{"$error":"#REF!"}},{"$error":"#REF!"}]
[3234,112195370,0,112195370,{"$f":"VLOOKUP(A1008,'AFR19'!A:K,12,0)","v":{"$error":"#REF!"}},{"$error":"#REF!"}]
[3235,1560676727,0,1560676727,{"$f":"VLOOKUP(A1009,'AFR19'!A:K,12,0)","v":{"$error":"#REF!"}},{"$error":"#REF!"}]
[3236,37519303,0,37519303,{"$f":"VLOOKUP(A1010,'AFR19'!A:K,12,0)","v":{"$error":"#REF!"}},{"$error":"#REF!"}]
[3237,66590908,0,66590908,{"$f":"VLOOKUP(A1011,'AFR19'!A:K,12,0)","v":{"$error":"#REF!"}},{"$error":"#REF!"}]
[3238,1494085819,0,1494085819,{"$f":"VLOOKUP(A1012,'AFR19'!A:K,12,0)","v":{"$error":"#REF!"}},{"$error":"#REF!"}]
[3239,227098001.53999999,{"$f":"VLOOKUP(A1013,'Crete Monee Totals 5-8'!A:B,2,0)","v":-392962},227490963.53999999,{"$f":"VLOOKUP(A1013,'AFR19'!A:K,12,0)","v":{"$error":"#REF!"}},{"$error":"#REF!"}]
[3255,1488458,0,1488458,{"$f":"VLOOKUP(A1014,'AFR19'!A:K,12,0)","v":{"$error":"#REF!"}},{"$error":"#REF!"}]
[3256,323868256,0,323868256,{"$f":"VLOOKUP(A1015,'AFR19'!A:K,12,0)","v":{"$error":"#REF!"}},{"$error":"#REF!"}]
[3257,418001221,0,418001221,{"$f":"VLOOKUP(A1016,'AFR19'!A:K,12,0)","v":{"$error":"#REF!"}},{"$error":"#REF!"}]
[3258,-94132965,0,-94132965,{"$f":"VLOOKUP(A1017,'AFR19'!A:K,12,0)","v":{"$error":"#REF!"}},{"$error":"#REF!"}]
[3259,-1227784.6900000013,{"$f":"VLOOKUP(A1018,'Crete Monee Totals 5-8'!A:B,2,0)","v":236522},-1464306.6900000013,{"$f":"VLOOKUP(A1018,'AFR19'!A:K,12,0)","v":{"$error":"#REF!"}},{"$error":"#REF!"}]
[3260,2257414987,{"$f":"VLOOKUP(A1019,'Crete Monee Totals 5-8'!A:B,2,0)","v":989484},2256425503,{"$f":"VLOOKUP(A1019,'AFR19'!A:K,12,0)","v":{"$error":"#REF!"}},{"$error":"#REF!"}]
[3261,49690,0,49690,{"$f":"VLOOKUP(A1020,'AFR19'!A:K,12,0)","v":{"$error":"#REF!"}},{"$error":"#REF!"}]
[3262,2256236892.3099999,{"$f":"VLOOKUP(A1021,'Crete Monee Totals 5-8'!A:B,2,0)","v":1226006},2255010886.3099999,{"$f":"VLOOKUP(A1021,'AFR19'!A:K,12,0)","v":{"$error":"#REF!"}},{"$error":"#REF!"}]
[3305,1906783290.5799999,{"$f":"VLOOKUP(A1022,'Crete Monee Totals 5-8'!A:B,2,0)","v":6481433},1900301857.5799999,{"$f":"VLOOKUP(A1022,'AFR19'!A:K,12,0)","v":{"$error":"#REF!"}},{"$error":"#REF!"}]
[3306,18857468.539999999,{"$f":"VLOOKUP(A1023,'Crete Monee Totals 5-8'!A:B,2,0)","v":307553},18549915.539999999,{"$f":"VLOOKUP(A1023,'AFR19'!A:K,12,0)","v":{"$error":"#REF!"}},{"$error":"#REF!"}]
[3307,453122754.07999998,{"$f":"VLOOKUP(A1024,'Crete Monee Totals 5-8'!A:B,2,0)","v":2087160},451035594.07999998,{"$f":"VLOOKUP(A1024,'AFR19'!A:K,12,0)","v":{"$error":"#REF!"}},{"$error":"#REF!"}]
[3308,4006045.91,{"$f":"VLOOKUP(A1025,'Crete Monee Totals 5-8'!A:B,2,0)","v":62880},3943165.91,{"$f":"VLOOKUP(A1025,'AFR19'!A:K,12,0)","v":{"$error":"#REF!"}},{"$error":"#REF!"}]
[3309,83354350.00999999,{"$f":"VLOOKUP(A1026,'Crete Monee Totals 5-8'!A:B,2,0)","v":584787},82769563.00999999,{"$f":"VLOOKUP(A1026,'AFR19'!A:K,12,0)","v":{"$error":"#REF!"}},{"$error":"#REF!"}]
[3310,2109903,0,{"$f":"SUM(B1027-C1027)","v":2109903},{"$f":"VLOOKUP(A1027,'AFR19'!A:K,12,0)","v":{"$error":"#REF!"}},{"$f":"SUM(D1027-E1027)","v":{"$error":"#REF!"}}]
[3311,20277189.149999999,{"$f":"VLOOKUP(A1028,'Crete Monee Totals 5-8'!A:B,2,0)","v":36028},20241161.149999999,{"$f":"VLOOKUP(A1028,'AFR19'!A:K,12,0)","v":{"$error":"#REF!"}},{"$error":"#REF!"}]
[3312,339230,0,339230,{"$f":"VLOOKUP(A1029,'AFR19'!A:K,12,0)","v":{"$error":"#REF!"}},{"$error":"#REF!"}]
[3313,3096769,0,3096769,{"$f":"VLOOKUP(A1030,'AFR19'!A:K,12,0)","v":{"$error":"#REF!"}},{"$error":"#REF!"}]
[3314,94699,0,94699,{"$f":"VLOOKUP(A1031,'AFR19'!A:K,12,0)","v":{"$error":"#REF!"}},{"$error":"#REF!"}]
[3315,61427811,{"$f":"VLOOKUP(A1032,'Crete Monee Totals 5-8'!A:B,2,0)","v":45843},61381968,{"$f":"VLOOKUP(A1032,'AFR19'!A:K,12,0)","v":{"$error":"#REF!"}},{"$error":"#REF!"}]
[3316,2966979,0,2966979,{"$f":"VLOOKUP(A1033,'AFR19'!A:K,12,0)","v":{"$error":"#REF!"}},{"$error":"#REF!"}]
[3319,2533403627.8200002,{"$f":"VLOOKUP(A1034,'Crete Monee Totals 5-8'!A:B,2,0)","v":9250092},2524153535.8200002,{"$f":"VLOOKUP(A1034,'AFR19'!A:K,12,0)","v":{"$error":"#REF!"}},{"$error":"#REF!"}]
[3320,28399233.449999999,{"$f":"VLOOKUP(A1035,'Crete Monee Totals 5-8'!A:B,2,0)","v":370433},28028800.449999999,{"$f":"VLOOKUP(A1035,'AFR19'!A:K,12,0)","v":{"$error":"#REF!"}},{"$error":"#REF!"}]
[3326,104417628.84999999,{"$f":"VLOOKUP(A1036,'Crete Monee Totals 5-8'!A:B,2,0)","v":240448},104177180.84999999,{"$f":"VLOOKUP(A1036,'AFR19'!A:K,12,0)","v":{"$error":"#REF!"}},{"$error":"#REF!"}]
[3327,94115003.590000004,{"$f":"VLOOKUP(A1037,'Crete Monee Totals 5-8'!A:B,2,0)","v":402959},93712044.590000004,{"$f":"VLOOKUP(A1037,'AFR19'!A:K,12,0)","v":{"$error":"#REF!"}},{"$error":"#REF!"}]
[3328,777474,{"$f":"VLOOKUP(A1038,'Crete Monee Totals 5-8'!A:B,2,0)","v":13496},763978,{"$f":"VLOOKUP(A1038,'AFR19'!A:K,12,0)","v":{"$error":"#REF!"}},{"$error":"#REF!"}]
[3329,104417628.84999999,{"$f":"VLOOKUP(A1039,'Crete Monee Totals 5-8'!A:B,2,0)","v":240448},104177180.84999999,{"$f":"VLOOKUP(A1039,'AFR19'!A:K,12,0)","v":{"$error":"#REF!"}},{"$error":"#REF!"}]
[3330,94115003.590000004,{"$f":"VLOOKUP(A1040,'Crete Monee Totals 5-8'!A:B,2,0)","v":402959},93712044.590000004,{"$f":"VLOOKUP(A1040,'AFR19'!A:K,12,0)","v":{"$error":"#REF!"}},{"$error":"#REF!"}]
[3331,777474,{"$f":"VLOOKUP(A1041,'Crete Monee Totals 5-8'!A:B,2,0)","v":13496},763978,{"$f":"VLOOKUP(A1041,'AFR19'!A:K,12,0)","v":{"$error":"#REF!"}},{"$error":"#REF!"}]
[3344,12940252,0,12940252,{"$f":"VLOOKUP(A1042,'AFR19'!A:K,12,0)","v":{"$error":"#REF!"}},{"$error":"#REF!"}]
[3345,1116071,0,1116071,{"$f":"VLOOKUP(A1043,'AFR19'!A:K,12,0)","v":{"$error":"#REF!"}},{"$error":"#REF!"}]
[3347,75372,0,75372,{"$f":"VLOOKUP(A1044,'AFR19'!A:K,12,0)","v":{"$error":"#REF!"}},{"$error":"#REF!"}]
[3350,6394854601.3199997,{"$f":"VLOOKUP(A1045,'Crete Monee Totals 5-8'!A:B,2,0)","v":15466754},6379387847.3199997,{"$f":"VLOOKUP(A1045,'AFR19'!A:K,12,0)","v":{"$error":"#REF!"}},{"$error":"#REF!"}]
[3353,1161745795.2,{"$f":"VLOOKUP(A1046,'Crete Monee Totals 5-8'!A:B,2,0)","v":4350647},1157395148.2,{"$f":"VLOOKUP(A1046,'AFR19'!A:K,12,0)","v":{"$error":"#REF!"}},{"$error":"#REF!"}]
[3356,1406996759,{"$f":"VLOOKUP(A1047,'Crete Monee Totals 5-8'!A:B,2,0)","v":4425946},1402570813,{"$f":"VLOOKUP(A1047,'AFR19'!A:K,12,0)","v":{"$error":"#REF!"}},{"$error":"#REF!"}]
[3358,702483027.44000006,{"$f":"VLOOKUP(A1048,'Crete Monee Totals 5-8'!A:B,2,0)","v":7968996},694514031.44000006,{"$f":"VLOOKUP(A1048,'AFR19'!A:K,12,0)","v":{"$error":"#REF!"}},{"$error":"#REF!"}]
[3361,392872202.50999999,{"$f":"VLOOKUP(A1049,'Crete Monee Totals 5-8'!A:B,2,0)","v":1509994},391362208.50999999,{"$f":"VLOOKUP(A1049,'AFR19'!A:K,12,0)","v":{"$error":"#REF!"}},{"$error":"#REF!"}]
[3364,2159598583,{"$f":"VLOOKUP(A1050,'Crete Monee Totals 5-8'!A:B,2,0)","v":3513685},2156084898,{"$f":"VLOOKUP(A1050,'AFR19'!A:K,12,0)","v":{"$error":"#REF!"}},{"$error":"#REF!"}]
[3366,1708898616.51,{"$f":"VLOOKUP(A1051,'Crete Monee Totals 5-8'!A:B,2,0)","v":1225406},1707673210.51,{"$f":"VLOOKUP(A1051,'AFR19'!A:K,12,0)","v":{"$error":"#REF!"}},{"$error":"#REF!"}]
[3374,209725158.56999999,{"$f":"VLOOKUP(A1052,'Crete Monee Totals 5-8'!A:B,2,0)","v":302818},209422340.56999999,{"$f":"VLOOKUP(A1052,'AFR19'!A:K,12,0)","v":{"$error":"#REF!"}},{"$error":"#REF!"}]
[3385,303550737.5,{"$f":"VLOOKUP(A1053,'Crete Monee Totals 5-8'!A:B,2,0)","v":940696},302610041.5,{"$f":"VLOOKUP(A1053,'AFR19'!A:K,12,0)","v":{"$error":"#REF!"}},{"$error":"#REF!"}]
[3386,179178781.63,{"$f":"VLOOKUP(A1054,'Crete Monee Totals 5-8'!A:B,2,0)","v":463277},178715504.63,{"$f":"VLOOKUP(A1054,'AFR19'!A:K,12,0)","v":{"$error":"#REF!"}},{"$error":"#REF!"}]
[3387,124371955.86999999,{"$f":"VLOOKUP(A1055,'Crete Monee Totals 5-8'!A:B,2,0)","v":477419},123894536.86999999,{"$f":"VLOOKUP(A1055,'AFR19'!A:K,12,0)","v":{"$error":"#REF!"}},{"$error":"#REF!"}]
[3388,186333630.29533258,{"$f":"VLOOKUP(A1056,'Crete Monee Totals 5-8'!A:B,2,0)","v":484249},185849381.29533258,{"$f":"VLOOKUP(A1056,'AFR19'!A:K,12,0)","v":{"$error":"#REF!"}},{"$error":"#REF!"}]
[3389,310705586.16533262,{"$f":"VLOOKUP(A1057,'Crete Monee Totals 5-8'!A:B,2,0)","v":961668},309743918.16533262,{"$f":"VLOOKUP(A1057,'AFR19'!A:K,12,0)","v":{"$error":"#REF!"}},{"$error":"#REF!"}]
[3390,953569586,0,953569586,{"$f":"VLOOKUP(A1058,'AFR19'!A:K,12,0)","v":{"$error":"#REF!"}},{"$error":"#REF!"}]
[3391,1082582720.8200002,0,1082582720.8200002,{"$f":"VLOOKUP(A1059,'AFR19'!A:K,12,0)","v":{"$error":"#REF!"}},{"$error":"#REF!"}]
[3392,978241833,0,978241833,{"$f":"VLOOKUP(A1060,'AFR19'!A:K,12,0)","v":{"$error":"#REF!"}},{"$error":"#REF!"}]
[3393,1057910473.8199999,0,1057910473.8199999,{"$f":"VLOOKUP(A1061,'AFR19'!A:K,12,0)","v":{"$error":"#REF!"}},{"$error":"#REF!"}]
[3398,1057910473.8199999,0,1057910473.8199999,{"$f":"VLOOKUP(A1062,'AFR19'!A:K,12,0)","v":{"$error":"#REF!"}},{"$error":"#REF!"}]
[3421,63189,0,63189,{"$f":"VLOOKUP(A1063,'AFR19'!A:K,12,0)","v":{"$error":"#REF!"}},{"$error":"#REF!"}]
[3422,13644,0,13644,{"$f":"VLOOKUP(A1064,'AFR19'!A:K,12,0)","v":{"$error":"#REF!"}},{"$error":"#REF!"}]
[3423,277514.11,0,277514.11,{"$f":"VLOOKUP(A1065,'AFR19'!A:K,12,0)","v":{"$error":"#REF!"}},{"$error":"#REF!"}]
[3424,110678,0,110678,{"$f":"VLOOKUP(A1066,'AFR19'!A:K,12,0)","v":{"$error":"#REF!"}},{"$error":"#REF!"}]
[3425,103294,0,103294,{"$f":"VLOOKUP(A1067,'AFR19'!A:K,12,0)","v":{"$error":"#REF!"}},{"$error":"#REF!"}]
[3427,571622.11,0,571622.11,{"$f":"VLOOKUP(A1068,'AFR19'!A:K,12,0)","v":{"$error":"#REF!"}},{"$error":"#REF!"}]
[3429,1738,0,1738,{"$f":"VLOOKUP(A1069,'AFR19'!A:K,12,0)","v":{"$error":"#REF!"}},{"$error":"#REF!"}]
[3431,85000,0,85000,{"$f":"VLOOKUP(A1070,'AFR19'!A:K,12,0)","v":{"$error":"#REF!"}},{"$error":"#REF!"}]
[3432,9154948,0,9154948,{"$f":"VLOOKUP(A1071,'AFR19'!A:K,12,0)","v":{"$error":"#REF!"}},{"$error":"#REF!"}]
[3458,8781382,0,8781382,{"$f":"VLOOKUP(A1072,'AFR19'!A:K,12,0)","v":{"$error":"#REF!"}},{"$error":"#REF!"}]
[3469,895457,0,895457,{"$f":"VLOOKUP(A1073,'AFR19'!A:K,12,0)","v":{"$error":"#REF!"}},{"$error":"#REF!"}]
[3470,1559255,0,1559255,{"$f":"VLOOKUP(A1074,'AFR19'!A:K,12,0)","v":{"$error":"#REF!"}},{"$error":"#REF!"}]
[3471,10866998,0,10866998,{"$f":"VLOOKUP(A1075,'AFR19'!A:K,12,0)","v":{"$error":"#REF!"}},{"$error":"#REF!"}]
[3473,14441016,0,14441016,{"$f":"VLOOKUP(A1076,'AFR19'!A:K,12,0)","v":{"$error":"#REF!"}},{"$error":"#REF!"}]
[3485,249518443.78999999,{"$f":"VLOOKUP(A1077,'Crete Monee Totals 5-8'!A:B,2,0)","v":19701},249498742.78999999,{"$f":"VLOOKUP(A1077,'AFR19'!A:K,12,0)","v":{"$error":"#REF!"}},{"$error":"#REF!"}]
[3487,11028094,{"$f":"VLOOKUP(A1078,'Crete Monee Totals 5-8'!A:B,2,0)","v":3183},11024911,{"$f":"VLOOKUP(A1078,'AFR19'!A:K,12,0)","v":{"$error":"#REF!"}},{"$error":"#REF!"}]
[3489,88053333,0,88053333,{"$f":"VLOOKUP(A1079,'AFR19'!A:K,12,0)","v":{"$error":"#REF!"}},{"$error":"#REF!"}]
[3490,17,0,17,{"$f":"VLOOKUP(A1080,'AFR19'!A:K,12,0)","v":{"$error":"#REF!"}},{"$error":"#REF!"}]
[3491,348821374.78999996,{"$f":"VLOOKUP(A1081,'Crete Monee Totals 5-8'!A:B,2,0)","v":22884},348798490.78999996,{"$f":"VLOOKUP(A1081,'AFR19'!A:K,12,0)","v":{"$error":"#REF!"}},{"$error":"#REF!"}]
[3500,-223,0,-223,{"$f":"VLOOKUP(A1082,'AFR19'!A:K,12,0)","v":{"$error":"#REF!"}},{"$error":"#REF!"}]
[3501,12492502,{"$f":"VLOOKUP(A1083,'Crete Monee Totals 5-8'!A:B,2,0)","v":3160},12489342,{"$f":"VLOOKUP(A1083,'AFR19'!A:K,12,0)","v":{"$error":"#REF!"}},{"$error":"#REF!"}]
[3504,29595236,{"$f":"VLOOKUP(A1084,'Crete Monee Totals 5-8'!A:B,2,0)","v":3160},29592076,{"$f":"VLOOKUP(A1084,'AFR19'!A:K,12,0)","v":{"$error":"#REF!"}},{"$error":"#REF!"}]
[3505,74160835,0,74160835,{"$f":"VLOOKUP(A1085,'AFR19'!A:K,12,0)","v":{"$error":"#REF!"}},{"$error":"#REF!"}]
[3506,245065303.59,{"$f":"VLOOKUP(A1086,'Crete Monee Totals 5-8'!A:B,2,0)","v":19724},245045579.59,{"$f":"VLOOKUP(A1086,'AFR19'!A:K,12,0)","v":{"$error":"#REF!"}},{"$error":"#REF!"}]
[3507,348821374.59000003,{"$f":"VLOOKUP(A1087,'Crete Monee Totals 5-8'!A:B,2,0)","v":22884},348798490.59000003,{"$f":"VLOOKUP(A1087,'AFR19'!A:K,12,0)","v":{"$error":"#REF!"}},{"$error":"#REF!"}]
[3508,58257138.359999999,{"$f":"VLOOKUP(A1088,'Crete Monee Totals 5-8'!A:B,2,0)","v":6515},58250623.359999999,{"$f":"VLOOKUP(A1088,'AFR19'!A:K,12,0)","v":{"$error":"#REF!"}},{"$error":"#REF!"}]
[3509,500364,0,500364,{"$f":"VLOOKUP(A1089,'AFR19'!A:K,12,0)","v":{"$error":"#REF!"}},{"$error":"#REF!"}]
[3510,58757502.359999999,{"$f":"VLOOKUP(A1090,'Crete Monee Totals 5-8'!A:B,2,0)","v":6515},58750987.359999999,{"$f":"VLOOKUP(A1090,'AFR19'!A:K,12,0)","v":{"$error":"#REF!"}},{"$error":"#REF!"}]
[3511,165652408.05000001,0,{"$f":"SUM(B1091-C1091)","v":165652408.05000001},{"$f":"VLOOKUP(A1091,'AFR19'!A:K,12,0)","v":{"$error":"#REF!"}},{"$f":"SUM(D1091-E1091)","v":{"$error":"#REF!"}}]
[3512,238830,0,238830,{"$f":"VLOOKUP(A1092,'AFR19'!A:K,12,0)","v":{"$error":"#REF!"}},{"$error":"#REF!"}]
[3513,741730,0,741730,{"$f":"VLOOKUP(A1093,'AFR19'!A:K,12,0)","v":{"$error":"#REF!"}},{"$error":"#REF!"}]
[3514,166632968.05000001,0,166632968.05000001,{"$f":"VLOOKUP(A1094,'AFR19'!A:K,12,0)","v":{"$error":"#REF!"}},{"$error":"#REF!"}]
[3515,-107875465.69,{"$f":"VLOOKUP(A1095,'Crete Monee Totals 5-8'!A:B,2,0)","v":6515},-107881980.69,{"$f":"VLOOKUP(A1095,'AFR19'!A:K,12,0)","v":{"$error":"#REF!"}},{"$error":"#REF!"}]
[3516,4557,0,4557,{"$f":"VLOOKUP(A1096,'AFR19'!A:K,12,0)","v":{"$error":"#REF!"}},{"$error":"#REF!"}]
[3518,98166880,0,98166880,{"$f":"VLOOKUP(A1097,'AFR19'!A:K,12,0)","v":{"$error":"#REF!"}},{"$error":"#REF!"}]
[3519,3675955,0,3675955,{"$f":"VLOOKUP(A1098,'AFR19'!A:K,12,0)","v":{"$error":"#REF!"}},{"$error":"#REF!"}]
[3521,49338,0,49338,{"$f":"VLOOKUP(A1099,'AFR19'!A:K,12,0)","v":{"$error":"#REF!"}},{"$error":"#REF!"}]
[3522,2623139,0,2623139,{"$f":"VLOOKUP(A1100,'AFR19'!A:K,12,0)","v":{"$error":"#REF!"}},{"$error":"#REF!"}]
[3523,111515424,0,111515424,{"$f":"VLOOKUP(A1101,'AFR19'!A:K,12,0)","v":{"$error":"#REF!"}},{"$error":"#REF!"}]
[3524,848251,0,848251,{"$f":"VLOOKUP(A1102,'AFR19'!A:K,12,0)","v":{"$error":"#REF!"}},{"$error":"#REF!"}]
[3525,1048505,0,1048505,{"$f":"VLOOKUP(A1103,'AFR19'!A:K,12,0)","v":{"$error":"#REF!"}},{"$error":"#REF!"}]
[3526,110466919,0,110466919,{"$f":"VLOOKUP(A1104,'AFR19'!A:K,12,0)","v":{"$error":"#REF!"}},{"$error":"#REF!"}]
[3527,2591453.3100000005,{"$f":"VLOOKUP(A1105,'Crete Monee Totals 5-8'!A:B,2,0)","v":6515},2584938.3100000005,{"$f":"VLOOKUP(A1105,'AFR19'!A:K,12,0)","v":{"$error":"#REF!"}},{"$error":"#REF!"}]
[3528,316435890,{"$f":"VLOOKUP(A1106,'Crete Monee Totals 5-8'!A:B,2,0)","v":13209},316422681,{"$f":"VLOOKUP(A1106,'AFR19'!A:K,12,0)","v":{"$error":"#REF!"}},{"$error":"#REF!"}]
[3529,238630,0,238630,{"$f":"VLOOKUP(A1107,'AFR19'!A:K,12,0)","v":{"$error":"#REF!"}},{"$error":"#REF!"}]
[3530,319265973.31,{"$f":"VLOOKUP(A1108,'Crete Monee Totals 5-8'!A:B,2,0)","v":19724},319246249.31,{"$f":"VLOOKUP(A1108,'AFR19'!A:K,12,0)","v":{"$error":"#REF!"}},{"$error":"#REF!"}]
[3556,275252,0,275252,{"$f":"VLOOKUP(A1109,'AFR19'!A:K,12,0)","v":{"$error":"#REF!"}},{"$error":"#REF!"}]
[3557,788477,0,788477,{"$f":"VLOOKUP(A1110,'AFR19'!A:K,12,0)","v":{"$error":"#REF!"}},{"$error":"#REF!"}]
[3558,1063729,0,1063729,{"$f":"VLOOKUP(A1111,'AFR19'!A:K,12,0)","v":{"$error":"#REF!"}},{"$error":"#REF!"}]
[3559,22247,0,22247,{"$f":"VLOOKUP(A1112,'AFR19'!A:K,12,0)","v":{"$error":"#REF!"}},{"$error":"#REF!"}]
[3560,1085976,0,1085976,{"$f":"VLOOKUP(A1113,'AFR19'!A:K,12,0)","v":{"$error":"#REF!"}},{"$error":"#REF!"}]
[3561,1085976,0,1085976,{"$f":"VLOOKUP(A1114,'AFR19'!A:K,12,0)","v":{"$error":"#REF!"}},{"$error":"#REF!"}]
[3563,42747,0,42747,{"$f":"VLOOKUP(A1115,'AFR19'!A:K,12,0)","v":{"$error":"#REF!"}},{"$error":"#REF!"}]
[3564,131500,0,131500,{"$f":"VLOOKUP(A1116,'AFR19'!A:K,12,0)","v":{"$error":"#REF!"}},{"$error":"#REF!"}]
[3565,174247,0,174247,{"$f":"VLOOKUP(A1117,'AFR19'!A:K,12,0)","v":{"$error":"#REF!"}},{"$error":"#REF!"}]
[3567,174247,0,174247,{"$f":"VLOOKUP(A1118,'AFR19'!A:K,12,0)","v":{"$error":"#REF!"}},{"$error":"#REF!"}]
[3568,174247,0,174247,{"$f":"VLOOKUP(A1119,'AFR19'!A:K,12,0)","v":{"$error":"#REF!"}},{"$error":"#REF!"}]
[3570,17261804.780000001,0,17261804.780000001,{"$f":"VLOOKUP(A1120,'AFR19'!A:K,12,0)","v":{"$error":"#REF!"}},{"$error":"#REF!"}]
[3571,11634264,0,11634264,{"$f":"VLOOKUP(A1121,'AFR19'!A:K,12,0)","v":{"$error":"#REF!"}},{"$error":"#REF!"}]
[3572,28896068.780000001,0,28896068.780000001,{"$f":"VLOOKUP(A1122,'AFR19'!A:K,12,0)","v":{"$error":"#REF!"}},{"$error":"#REF!"}]
[3573,1530958,0,1530958,{"$f":"VLOOKUP(A1123,'AFR19'!A:K,12,0)","v":{"$error":"#REF!"}},{"$error":"#REF!"}]
[3574,30427026.780000001,0,30427026.780000001,{"$f":"VLOOKUP(A1124,'AFR19'!A:K,12,0)","v":{"$error":"#REF!"}},{"$error":"#REF!"}]
[3575,30427026.780000001,0,30427026.780000001,{"$f":"VLOOKUP(A1125,'AFR19'!A:K,12,0)","v":{"$error":"#REF!"}},{"$error":"#REF!"}]
[3577,229714,0,229714,{"$f":"VLOOKUP(A1126,'AFR19'!A:K,12,0)","v":{"$error":"#REF!"}},{"$error":"#REF!"}]
[3578,789274,0,789274,{"$f":"VLOOKUP(A1127,'AFR19'!A:K,12,0)","v":{"$error":"#REF!"}},{"$error":"#REF!"}]
[3579,1018988,0,1018988,{"$f":"VLOOKUP(A1128,'AFR19'!A:K,12,0)","v":{"$error":"#REF!"}},{"$error":"#REF!"}]
[3581,1018988,0,1018988,{"$f":"VLOOKUP(A1129,'AFR19'!A:K,12,0)","v":{"$error":"#REF!"}},{"$error":"#REF!"}]
[3582,1018988,0,1018988,{"$f":"VLOOKUP(A1130,'AFR19'!A:K,12,0)","v":{"$error":"#REF!"}},{"$error":"#REF!"}]
[3584,96689869.049999997,0,96689869.049999997,{"$f":"VLOOKUP(A1131,'AFR19'!A:K,12,0)","v":{"$error":"#REF!"}},{"$error":"#REF!"}]
[3585,35203020.219999999,0,35203020.219999999,{"$f":"VLOOKUP(A1132,'AFR19'!A:K,12,0)","v":{"$error":"#REF!"}},{"$error":"#REF!"}]
[3586,131892889.27,0,131892889.27,{"$f":"VLOOKUP(A1133,'AFR19'!A:K,12,0)","v":{"$error":"#REF!"}},{"$error":"#REF!"}]
[3588,131892889.27,0,131892889.27,{"$f":"VLOOKUP(A1134,'AFR19'!A:K,12,0)","v":{"$error":"#REF!"}},{"$error":"#REF!"}]
[3589,131892889.27,0,131892889.27,{"$f":"VLOOKUP(A1135,'AFR19'!A:K,12,0)","v":{"$error":"#REF!"}},{"$error":"#REF!"}]
[3591,550497,0,550497,{"$f":"VLOOKUP(A1136,'AFR19'!A:K,12,0)","v":{"$error":"#REF!"}},{"$error":"#REF!"}]
[3592,337505,0,337505,{"$f":"VLOOKUP(A1137,'AFR19'!A:K,12,0)","v":{"$error":"#REF!"}},{"$error":"#REF!"}]
[3593,888002,0,888002,{"$f":"VLOOKUP(A1138,'AFR19'!A:K,12,0)","v":{"$error":"#REF!"}},{"$error":"#REF!"}]
[3594,26902,0,26902,{"$f":"VLOOKUP(A1139,'AFR19'!A:K,12,0)","v":{"$error":"#REF!"}},{"$error":"#REF!"}]
[3595,914904,0,914904,{"$f":"VLOOKUP(A1140,'AFR19'!A:K,12,0)","v":{"$error":"#REF!"}},{"$error":"#REF!"}]
[3599,1895464,0,1895464,{"$f":"VLOOKUP(A1141,'AFR19'!A:K,12,0)","v":{"$error":"#REF!"}},{"$error":"#REF!"}]
[3607,115158083.83,0,115158083.83,{"$f":"VLOOKUP(A1142,'AFR19'!A:K,12,0)","v":{"$error":"#REF!"}},{"$error":"#REF!"}]
[3608,48914217.219999999,0,48914217.219999999,{"$f":"VLOOKUP(A1143,'AFR19'!A:K,12,0)","v":{"$error":"#REF!"}},{"$error":"#REF!"}]
[3609,164072301.05000001,0,164072301.05000001,{"$f":"VLOOKUP(A1144,'AFR19'!A:K,12,0)","v":{"$error":"#REF!"}},{"$error":"#REF!"}]
[3610,1580107,0,1580107,{"$f":"VLOOKUP(A1145,'AFR19'!A:K,12,0)","v":{"$error":"#REF!"}},{"$error":"#REF!"}]
[3611,165652408.05000001,0,165652408.05000001,{"$f":"VLOOKUP(A1146,'AFR19'!A:K,12,0)","v":{"$error":"#REF!"}},{"$error":"#REF!"}]
[3612,238830,0,238830,{"$f":"VLOOKUP(A1147,'AFR19'!A:K,12,0)","v":{"$error":"#REF!"}},{"$error":"#REF!"}]
[3613,238830,0,238830,{"$f":"VLOOKUP(A1148,'AFR19'!A:K,12,0)","v":{"$error":"#REF!"}},{"$error":"#REF!"}]
[3617,166632968.05000001,0,166632968.05000001,{"$f":"VLOOKUP(A1149,'AFR19'!A:K,12,0)","v":{"$error":"#REF!"}},{"$error":"#REF!"}]
[3620,-107875465.69,{"$f":"VLOOKUP(A1150,'Crete Monee Totals 5-8'!A:B,2,0)","v":6515},-107881980.69,{"$f":"VLOOKUP(A1150,'AFR19'!A:K,12,0)","v":{"$error":"#REF!"}},{"$error":"#REF!"}]
[3637,52950,0,52950,{"$f":"VLOOKUP(A1151,'AFR19'!A:K,12,0)","v":{"$error":"#REF!"}},{"$error":"#REF!"}]
[3638,147304,0,147304,{"$f":"VLOOKUP(A1152,'AFR19'!A:K,12,0)","v":{"$error":"#REF!"}},{"$error":"#REF!"}]
[3641,52950,0,52950,{"$f":"VLOOKUP(A1153,'AFR19'!A:K,12,0)","v":{"$error":"#REF!"}},{"$error":"#REF!"}]
[3642,147304,0,147304,{"$f":"VLOOKUP(A1154,'AFR19'!A:K,12,0)","v":{"$error":"#REF!"}},{"$error":"#REF!"}]
[3656,716428,0,{"$f":"SUM(B1155-C1155)","v":716428},{"$f":"VLOOKUP(A1155,'AFR19'!A:K,12,0)","v":{"$error":"#REF!"}},{"$f":"SUM(D1155-E1155)","v":{"$error":"#REF!"}}]
[3660,1739617,0,1739617,{"$f":"VLOOKUP(A1156,'AFR19'!A:K,12,0)","v":{"$error":"#REF!"}},{"$error":"#REF!"}]
[3661,2520532,0,2520532,{"$f":"VLOOKUP(A1157,'AFR19'!A:K,12,0)","v":{"$error":"#REF!"}},{"$error":"#REF!"}]
[3662,1739617,0,1739617,{"$f":"VLOOKUP(A1158,'AFR19'!A:K,12,0)","v":{"$error":"#REF!"}},{"$error":"#REF!"}]
[3663,2520532,0,2520532,{"$f":"VLOOKUP(A1159,'AFR19'!A:K,12,0)","v":{"$error":"#REF!"}},{"$error":"#REF!"}]
[3664,36774589.710000001,0,36774589.710000001,{"$f":"VLOOKUP(A1160,'AFR19'!A:K,12,0)","v":{"$error":"#REF!"}},{"$error":"#REF!"}]
[3665,28893788.710000001,0,28893788.710000001,{"$f":"VLOOKUP(A1161,'AFR19'!A:K,12,0)","v":{"$error":"#REF!"}},{"$error":"#REF!"}]
[3666,7880801,0,7880801,{"$f":"VLOOKUP(A1162,'AFR19'!A:K,12,0)","v":{"$error":"#REF!"}},{"$error":"#REF!"}]
[3667,27790682.593277302,0,27790682.593277302,{"$f":"VLOOKUP(A1163,'AFR19'!A:K,12,0)","v":{"$error":"#REF!"}},{"$error":"#REF!"}]
[3668,35671483.593277298,0,35671483.593277298,{"$f":"VLOOKUP(A1164,'AFR19'!A:K,12,0)","v":{"$error":"#REF!"}},{"$error":"#REF!"}]
[3669,229958178.96999997,{"$f":"VLOOKUP(A1165,'Crete Monee Totals 5-8'!A:B,2,0)","v":1003597},228954581.96999997,{"$f":"VLOOKUP(A1165,'AFR19'!A:K,12,0)","v":{"$error":"#REF!"}},{"$error":"#REF!"}]
[4013,102425,0,102425,{"$f":"VLOOKUP(A1166,'AFR19'!A:K,12,0)","v":{"$error":"#REF!"}},{"$error":"#REF!"}]
[4014,291264,0,291264,{"$f":"VLOOKUP(A1167,'AFR19'!A:K,12,0)","v":{"$error":"#REF!"}},{"$error":"#REF!"}]
[4015,66473,0,66473,{"$f":"VLOOKUP(A1168,'AFR19'!A:K,12,0)","v":{"$error":"#REF!"}},{"$error":"#REF!"}]
[4016,3210,0,3210,{"$f":"VLOOKUP(A1169,'AFR19'!A:K,12,0)","v":{"$error":"#REF!"}},{"$error":"#REF!"}]
[4017,1754,0,1754,{"$f":"VLOOKUP(A1170,'AFR19'!A:K,12,0)","v":{"$error":"#REF!"}},{"$error":"#REF!"}]
[4019,465126,0,465126,{"$f":"VLOOKUP(A1171,'AFR19'!A:K,12,0)","v":{"$error":"#REF!"}},{"$error":"#REF!"}]
[4020,442158,0,442158,{"$f":"VLOOKUP(A1172,'AFR19'!A:K,12,0)","v":{"$error":"#REF!"}},{"$error":"#REF!"}]
[4021,46296,0,46296,{"$f":"VLOOKUP(A1173,'AFR19'!A:K,12,0)","v":{"$error":"#REF!"}},{"$error":"#REF!"}]
[4022,2238334,0,2238334,{"$f":"VLOOKUP(A1174,'AFR19'!A:K,12,0)","v":{"$error":"#REF!"}},{"$error":"#REF!"}]
[4023,27086,0,27086,{"$f":"VLOOKUP(A1175,'AFR19'!A:K,12,0)","v":{"$error":"#REF!"}},{"$error":"#REF!"}]
[4026,2753874,0,2753874,{"$f":"VLOOKUP(A1176,'AFR19'!A:K,12,0)","v":{"$error":"#REF!"}},{"$error":"#REF!"}]
[4041,202,0,202,{"$f":"VLOOKUP(A1177,'AFR19'!A:K,12,0)","v":{"$error":"#REF!"}},{"$error":"#REF!"}]
[4042,425521815,0,425521815,{"$f":"VLOOKUP(A1178,'AFR19'!A:K,12,0)","v":{"$error":"#REF!"}},{"$error":"#REF!"}]
[4043,202,0,202,{"$f":"VLOOKUP(A1179,'AFR19'!A:K,12,0)","v":{"$error":"#REF!"}},{"$error":"#REF!"}]
[4044,19309516,0,19309516,{"$f":"VLOOKUP(A1180,'AFR19'!A:K,12,0)","v":{"$error":"#REF!"}},{"$error":"#REF!"}]
[4046,406212299,0,406212299,{"$f":"VLOOKUP(A1181,'AFR19'!A:K,12,0)","v":{"$error":"#REF!"}},{"$error":"#REF!"}]
[4048,7888082.1600000001,0,7888082.1600000001,{"$f":"VLOOKUP(A1182,'AFR19'!A:K,12,0)","v":{"$error":"#REF!"}},{"$error":"#REF!"}]
[4050,414100381.16000003,0,414100381.16000003,{"$f":"VLOOKUP(A1183,'AFR19'!A:K,12,0)","v":{"$error":"#REF!"}},{"$error":"#REF!"}]
[4052,6495681800.8000002,{"$f":"VLOOKUP(A1184,'Crete Monee Totals 5-8'!A:B,2,0)","v":22642632},6473039168.8000002,{"$f":"VLOOKUP(A1184,'AFR19'!A:K,12,0)","v":{"$error":"#REF!"}},{"$error":"#REF!"}]
[4053,8409771,0,8409771,{"$f":"VLOOKUP(A1185,'AFR19'!A:K,12,0)","v":{"$error":"#REF!"}},{"$error":"#REF!"}]
[4055,829841,0,829841,{"$f":"VLOOKUP(A1186,'AFR19'!A:K,12,0)","v":{"$error":"#REF!"}},{"$error":"#REF!"}]
[4057,19598113,0,19598113,{"$f":"VLOOKUP(A1187,'AFR19'!A:K,12,0)","v":{"$error":"#REF!"}},{"$error":"#REF!"}]
[4061,29344109121.660004,{"$f":"VLOOKUP(A1188,'Crete Monee Totals 5-8'!A:B,2,0)","v":74788052},29269321069.660004,{"$f":"VLOOKUP(A1188,'AFR19'!A:K,12,0)","v":{"$error":"#REF!"}},{"$error":"#REF!"}]
[4062,2281170674.7600002,{"$f":"VLOOKUP(A1189,'Crete Monee Totals 5-8'!A:B,2,0)","v":4307174},2276863500.7600002,{"$f":"VLOOKUP(A1189,'AFR19'!A:K,12,0)","v":{"$error":"#REF!"}},{"$error":"#REF!"}]
[4063,2208553736.8000002,{"$f":"VLOOKUP(A1190,'Crete Monee Totals 5-8'!A:B,2,0)","v":11721833},2196831903.8000002,{"$f":"VLOOKUP(A1190,'AFR19'!A:K,12,0)","v":{"$error":"#REF!"}},{"$error":"#REF!"}]
[4064,1383867750.74,{"$f":"VLOOKUP(A1191,'Crete Monee Totals 5-8'!A:B,2,0)","v":7959451},1375908299.74,{"$f":"VLOOKUP(A1191,'AFR19'!A:K,12,0)","v":{"$error":"#REF!"}},{"$error":"#REF!"}]
[4065,650352986.33999991,{"$f":"VLOOKUP(A1192,'Crete Monee Totals 5-8'!A:B,2,0)","v":1952601},648400385.33999991,{"$f":"VLOOKUP(A1192,'AFR19'!A:K,12,0)","v":{"$error":"#REF!"}},{"$error":"#REF!"}]
[4066,259493182.61000001,{"$f":"VLOOKUP(A1193,'Crete Monee Totals 5-8'!A:B,2,0)","v":27009},259466173.61000001,{"$f":"VLOOKUP(A1193,'AFR19'!A:K,12,0)","v":{"$error":"#REF!"}},{"$error":"#REF!"}]
[4067,92905180.310000002,{"$f":"VLOOKUP(A1194,'Crete Monee Totals 5-8'!A:B,2,0)","v":236522},92668658.310000002,{"$f":"VLOOKUP(A1194,'AFR19'!A:K,12,0)","v":{"$error":"#REF!"}},{"$error":"#REF!"}]
[4069,58757502.359999999,{"$f":"VLOOKUP(A1195,'Crete Monee Totals 5-8'!A:B,2,0)","v":6515},58750987.359999999,{"$f":"VLOOKUP(A1195,'AFR19'!A:K,12,0)","v":{"$error":"#REF!"}},{"$error":"#REF!"}]
[4070,6495681800.8000002,{"$f":"VLOOKUP(A1196,'Crete Monee Totals 5-8'!A:B,2,0)","v":22642632},6473039168.8000002,{"$f":"VLOOKUP(A1196,'AFR19'!A:K,12,0)","v":{"$error":"#REF!"}},{"$error":"#REF!"}]
[4071,8409771,0,8409771,{"$f":"VLOOKUP(A1197,'AFR19'!A:K,12,0)","v":{"$error":"#REF!"}},{"$error":"#REF!"}]
[4072,829841,0,829841,{"$f":"VLOOKUP(A1198,'AFR19'!A:K,12,0)","v":{"$error":"#REF!"}},{"$error":"#REF!"}]
[4073,19598113,0,19598113,{"$f":"VLOOKUP(A1199,'AFR19'!A:K,12,0)","v":{"$error":"#REF!"}},{"$error":"#REF!"}]
[4075,28108385647.369999,{"$f":"VLOOKUP(A1200,'Crete Monee Totals 5-8'!A:B,2,0)","v":78176219},28030209428.369999,{"$f":"VLOOKUP(A1200,'AFR19'!A:K,12,0)","v":{"$error":"#REF!"}},{"$error":"#REF!"}]
[4076,2193998898.9099998,{"$f":"VLOOKUP(A1201,'Crete Monee Totals 5-8'!A:B,2,0)","v":4302232},2189696666.9099998,{"$f":"VLOOKUP(A1201,'AFR19'!A:K,12,0)","v":{"$error":"#REF!"}},{"$error":"#REF!"}]
[4077,2999127761,{"$f":"VLOOKUP(A1202,'Crete Monee Totals 5-8'!A:B,2,0)","v":11693095},2987434666,{"$f":"VLOOKUP(A1202,'AFR19'!A:K,12,0)","v":{"$error":"#REF!"}},{"$error":"#REF!"}]
[4078,1200040722.1999998,{"$f":"VLOOKUP(A1203,'Crete Monee Totals 5-8'!A:B,2,0)","v":6220450},1193820272.1999998,{"$f":"VLOOKUP(A1203,'AFR19'!A:K,12,0)","v":{"$error":"#REF!"}},{"$error":"#REF!"}]
[4079,625629915.89999998,{"$f":"VLOOKUP(A1204,'Crete Monee Totals 5-8'!A:B,2,0)","v":1858302},623771613.89999998,{"$f":"VLOOKUP(A1204,'AFR19'!A:K,12,0)","v":{"$error":"#REF!"}},{"$error":"#REF!"}]
[4080,1526481000.0699999,{"$f":"VLOOKUP(A1205,'Crete Monee Totals 5-8'!A:B,2,0)","v":419971},1526061029.0699999,{"$f":"VLOOKUP(A1205,'AFR19'!A:K,12,0)","v":{"$error":"#REF!"}},{"$error":"#REF!"}]
[4083,166632968.05000001,0,166632968.05000001,{"$f":"VLOOKUP(A1206,'AFR19'!A:K,12,0)","v":{"$error":"#REF!"}},{"$error":"#REF!"}]
[4095,183847,0,183847,{"$f":"VLOOKUP(A1207,'AFR19'!A:K,12,0)","v":{"$error":"#REF!"}},{"$error":"#REF!"}]
[4096,183847,0,183847,{"$f":"VLOOKUP(A1208,'AFR19'!A:K,12,0)","v":{"$error":"#REF!"}},{"$error":"#REF!"}]
[4104,61745,0,61745,{"$f":"VLOOKUP(A1209,'AFR19'!A:K,12,0)","v":{"$error":"#REF!"}},{"$error":"#REF!"}]
[4105,61745,0,61745,{"$f":"VLOOKUP(A1210,'AFR19'!A:K,12,0)","v":{"$error":"#REF!"}},{"$error":"#REF!"}]
[4110,21650268294,{"$f":"VLOOKUP(A1211,'Crete Monee Totals 5-8'!A:B,2,0)","v":93012005},21557256289,{"$f":"VLOOKUP(A1211,'AFR19'!A:K,12,0)","v":{"$error":"#REF!"}},{"$error":"#REF!"}]
[4111,20000574898,{"$f":"VLOOKUP(A1212,'Crete Monee Totals 5-8'!A:B,2,0)","v":88543477},19912031421,{"$f":"VLOOKUP(A1212,'AFR19'!A:K,12,0)","v":{"$error":"#REF!"}},{"$error":"#REF!"}]
[4112,3266853127,{"$f":"VLOOKUP(A1213,'Crete Monee Totals 5-8'!A:B,2,0)","v":10491392},3256361735,{"$f":"VLOOKUP(A1213,'AFR19'!A:K,12,0)","v":{"$error":"#REF!"}},{"$error":"#REF!"}]
[4116,-266249427,{"$f":"VLOOKUP(A1214,'Crete Monee Totals 5-8'!A:B,2,0)","v":4839108},-271088535,{"$f":"VLOOKUP(A1214,'AFR19'!A:K,12,0)","v":{"$error":"#REF!"}},{"$error":"#REF!"}]
[4128,213723,0,213723,{"$f":"VLOOKUP(A1215,'AFR19'!A:K,12,0)","v":{"$error":"#REF!"}},{"$error":"#REF!"}]
[4138,1586397,0,1586397,{"$f":"VLOOKUP(A1216,'AFR19'!A:K,12,0)","v":{"$error":"#REF!"}},{"$error":"#REF!"}]
[4139,119567,0,119567,{"$f":"VLOOKUP(A1217,'AFR19'!A:K,12,0)","v":{"$error":"#REF!"}},{"$error":"#REF!"}]
[4140,261062,0,261062,{"$f":"VLOOKUP(A1218,'AFR19'!A:K,12,0)","v":{"$error":"#REF!"}},{"$error":"#REF!"}]
[4141,2357026,0,{"$f":"SUM(B1219-C1219)","v":2357026},{"$f":"VLOOKUP(A1219,'AFR19'!A:K,12,0)","v":{"$error":"#REF!"}},{"$f":"SUM(D1219-E1219)","v":{"$error":"#REF!"}}]
[4142,2357026,0,2357026,{"$f":"VLOOKUP(A1220,'AFR19'!A:K,12,0)","v":{"$error":"#REF!"}},{"$error":"#REF!"}]
[4149,14776035,0,14776035,{"$f":"VLOOKUP(A1221,'AFR19'!A:K,12,0)","v":{"$error":"#REF!"}},{"$error":"#REF!"}]
[4150,14776035,0,14776035,{"$f":"VLOOKUP(A1222,'AFR19'!A:K,12,0)","v":{"$error":"#REF!"}},{"$error":"#REF!"}]
[4166,1032831,0,1032831,{"$f":"VLOOKUP(A1223,'AFR19'!A:K,12,0)","v":{"$error":"#REF!"}},{"$error":"#REF!"}]
[4204,2094384.0980000007,{"$f":"VLOOKUP(A1224,'Crete Monee Totals 5-8'!A:B,2,0)","v":4166.5},2090217.5980000007,{"$f":"VLOOKUP(A1224,'AFR19'!A:K,12,0)","v":{"$error":"#REF!"}},{"$error":"#REF!"}]
[4205,365869.33799999993,{"$f":"VLOOKUP(A1225,'Crete Monee Totals 5-8'!A:B,2,0)","v":736.7},365132.63799999992,{"$f":"VLOOKUP(A1225,'AFR19'!A:K,12,0)","v":{"$error":"#REF!"}},{"$error":"#REF!"}]
[4206,168053.32269999999,{"$f":"VLOOKUP(A1226,'Crete Monee Totals 5-8'!A:B,2,0)","v":674.6},167378.72269999998,{"$f":"VLOOKUP(A1226,'AFR19'!A:K,12,0)","v":{"$error":"#REF!"}},{"$error":"#REF!"}]
[4207,2628320,{"$f":"VLOOKUP(A1227,'Crete Monee Totals 5-8'!A:B,2,0)","v":5578},2622742,{"$f":"VLOOKUP(A1227,'AFR19'!A:K,12,0)","v":{"$error":"#REF!"}},{"$error":"#REF!"}]
[4208,11991401331,{"$f":"VLOOKUP(A1228,'Crete Monee Totals 5-8'!A:B,2,0)","v":25159474},11966241857,{"$f":"VLOOKUP(A1228,'AFR19'!A:K,12,0)","v":{"$error":"#REF!"}},{"$error":"#REF!"}]
[4209,7677204,0,7677204,{"$f":"VLOOKUP(A1229,'AFR19'!A:K,12,0)","v":{"$error":"#REF!"}},{"$error":"#REF!"}]
[4237,2321860,0,2321860,{"$f":"VLOOKUP(A1230,'AFR19'!A:K,12,0)","v":{"$error":"#REF!"}},{"$error":"#REF!"}]
[4239,1742547,0,1742547,{"$f":"VLOOKUP(A1231,'AFR19'!A:K,12,0)","v":{"$error":"#REF!"}},{"$error":"#REF!"}]
[4240,154636,0,154636,{"$f":"VLOOKUP(A1232,'AFR19'!A:K,12,0)","v":{"$error":"#REF!"}},{"$error":"#REF!"}]
[4241,1785941,0,1785941,{"$f":"VLOOKUP(A1233,'AFR19'!A:K,12,0)","v":{"$error":"#REF!"}},{"$error":"#REF!"}]
[4242,489371,0,489371,{"$f":"VLOOKUP(A1234,'AFR19'!A:K,12,0)","v":{"$error":"#REF!"}},{"$error":"#REF!"}]
[4243,30000,0,30000,{"$f":"VLOOKUP(A1235,'AFR19'!A:K,12,0)","v":{"$error":"#REF!"}},{"$error":"#REF!"}]
[4244,392633,0,392633,{"$f":"VLOOKUP(A1236,'AFR19'!A:K,12,0)","v":{"$error":"#REF!"}},{"$error":"#REF!"}]
[4246,144854,0,144854,{"$f":"VLOOKUP(A1237,'AFR19'!A:K,12,0)","v":{"$error":"#REF!"}},{"$error":"#REF!"}]
[4248,273421,0,273421,{"$f":"VLOOKUP(A1238,'AFR19'!A:K,12,0)","v":{"$error":"#REF!"}},{"$error":"#REF!"}]
[4251,142381,0,142381,{"$f":"VLOOKUP(A1239,'AFR19'!A:K,12,0)","v":{"$error":"#REF!"}},{"$error":"#REF!"}]
[4255,8557,0,8557,{"$f":"VLOOKUP(A1240,'AFR19'!A:K,12,0)","v":{"$error":"#REF!"}},{"$error":"#REF!"}]
[4256,26234,0,26234,{"$f":"VLOOKUP(A1241,'AFR19'!A:K,12,0)","v":{"$error":"#REF!"}},{"$error":"#REF!"}]
[4266,219465,0,219465,{"$f":"VLOOKUP(A1242,'AFR19'!A:K,12,0)","v":{"$error":"#REF!"}},{"$error":"#REF!"}]
[4267,2982381,0,2982381,{"$f":"VLOOKUP(A1243,'AFR19'!A:K,12,0)","v":{"$error":"#REF!"}},{"$error":"#REF!"}]
[4268,61379,0,61379,{"$f":"VLOOKUP(A1244,'AFR19'!A:K,12,0)","v":{"$error":"#REF!"}},{"$error":"#REF!"}]
[4269,25000,0,25000,{"$f":"VLOOKUP(A1245,'AFR19'!A:K,12,0)","v":{"$error":"#REF!"}},{"$error":"#REF!"}]
[4270,18774327,{"$f":"VLOOKUP(A1246,'Crete Monee Totals 5-8'!A:B,2,0)","v":9405},18764922,{"$f":"VLOOKUP(A1246,'AFR19'!A:K,12,0)","v":{"$error":"#REF!"}},{"$error":"#REF!"}]
[4271,16880299,0,16880299,{"$f":"VLOOKUP(A1247,'AFR19'!A:K,12,0)","v":{"$error":"#REF!"}},{"$error":"#REF!"}]
[4274,28,0,28,{"$f":"VLOOKUP(A1248,'AFR19'!A:K,12,0)","v":{"$error":"#REF!"}},{"$error":"#REF!"}]
[4275,531755,0,531755,{"$f":"VLOOKUP(A1249,'AFR19'!A:K,12,0)","v":{"$error":"#REF!"}},{"$error":"#REF!"}]
[4277,1304,0,1304,{"$f":"VLOOKUP(A1250,'AFR19'!A:K,12,0)","v":{"$error":"#REF!"}},{"$error":"#REF!"}]
[4279,198257,0,198257,{"$f":"VLOOKUP(A1251,'AFR19'!A:K,12,0)","v":{"$error":"#REF!"}},{"$error":"#REF!"}]
[4283,9699577,{"$f":"VLOOKUP(A1252,'Crete Monee Totals 5-8'!A:B,2,0)","v":26700},9672877,{"$f":"VLOOKUP(A1252,'AFR19'!A:K,12,0)","v":{"$error":"#REF!"}},{"$error":"#REF!"}]
[4290,33097,0,33097,{"$f":"VLOOKUP(A1253,'AFR19'!A:K,12,0)","v":{"$error":"#REF!"}},{"$error":"#REF!"}]
[4297,39707912.890000001,{"$f":"VLOOKUP(A1254,'Crete Monee Totals 5-8'!A:B,2,0)","v":172030},39535882.890000001,{"$f":"VLOOKUP(A1254,'AFR19'!A:K,12,0)","v":{"$error":"#REF!"}},{"$error":"#REF!"}]
[4298,3802,0,3802,{"$f":"VLOOKUP(A1255,'AFR19'!A:K,12,0)","v":{"$error":"#REF!"}},{"$error":"#REF!"}]
[4299,86561,0,86561,{"$f":"VLOOKUP(A1256,'AFR19'!A:K,12,0)","v":{"$error":"#REF!"}},{"$error":"#REF!"}]
[4301,108664236.93000001,{"$f":"VLOOKUP(A1257,'Crete Monee Totals 5-8'!A:B,2,0)","v":332648},108331588.93000001,{"$f":"VLOOKUP(A1257,'AFR19'!A:K,12,0)","v":{"$error":"#REF!"}},{"$error":"#REF!"}]
[4303,287900,0,287900,{"$f":"VLOOKUP(A1258,'AFR19'!A:K,12,0)","v":{"$error":"#REF!"}},{"$error":"#REF!"}]
[4304,9775,0,9775,{"$f":"VLOOKUP(A1259,'AFR19'!A:K,12,0)","v":{"$error":"#REF!"}},{"$error":"#REF!"}]
[4311,287900,0,287900,{"$f":"VLOOKUP(A1260,'AFR19'!A:K,12,0)","v":{"$error":"#REF!"}},{"$error":"#REF!"}]
[4318,2156985.77,0,2156985.77,{"$f":"VLOOKUP(A1261,'AFR19'!A:K,12,0)","v":{"$error":"#REF!"}},{"$error":"#REF!"}]
[4319,14427,0,14427,{"$f":"VLOOKUP(A1262,'AFR19'!A:K,12,0)","v":{"$error":"#REF!"}},{"$error":"#REF!"}]
[4330,150416,0,150416,{"$f":"VLOOKUP(A1263,'AFR19'!A:K,12,0)","v":{"$error":"#REF!"}},{"$error":"#REF!"}]
[4334,2324191.77,0,2324191.77,{"$f":"VLOOKUP(A1264,'AFR19'!A:K,12,0)","v":{"$error":"#REF!"}},{"$error":"#REF!"}]
[4335,14427,0,14427,{"$f":"VLOOKUP(A1265,'AFR19'!A:K,12,0)","v":{"$error":"#REF!"}},{"$error":"#REF!"}]
[4346,15319632,0,15319632,{"$f":"VLOOKUP(A1266,'AFR19'!A:K,12,0)","v":{"$error":"#REF!"}},{"$error":"#REF!"}]
[4348,160578,0,160578,{"$f":"VLOOKUP(A1267,'AFR19'!A:K,12,0)","v":{"$error":"#REF!"}},{"$error":"#REF!"}]
[4349,35211,0,35211,{"$f":"VLOOKUP(A1268,'AFR19'!A:K,12,0)","v":{"$error":"#REF!"}},{"$error":"#REF!"}]
[4350,21063617,0,21063617,{"$f":"VLOOKUP(A1269,'AFR19'!A:K,12,0)","v":{"$error":"#REF!"}},{"$error":"#REF!"}]
[4352,161882,0,161882,{"$f":"VLOOKUP(A1270,'AFR19'!A:K,12,0)","v":{"$error":"#REF!"}},{"$error":"#REF!"}]
[4353,35370,0,35370,{"$f":"VLOOKUP(A1271,'AFR19'!A:K,12,0)","v":{"$error":"#REF!"}},{"$error":"#REF!"}]
[4354,25156647,{"$f":"VLOOKUP(A1272,'Crete Monee Totals 5-8'!A:B,2,0)","v":11000},25145647,{"$f":"VLOOKUP(A1272,'AFR19'!A:K,12,0)","v":{"$error":"#REF!"}},{"$error":"#REF!"}]
[4355,48571,0,48571,{"$f":"VLOOKUP(A1273,'AFR19'!A:K,12,0)","v":{"$error":"#REF!"}},{"$error":"#REF!"}]
[4356,2518,0,2518,{"$f":"VLOOKUP(A1274,'AFR19'!A:K,12,0)","v":{"$error":"#REF!"}},{"$error":"#REF!"}]
[4357,72128165.99000001,{"$f":"VLOOKUP(A1275,'Crete Monee Totals 5-8'!A:B,2,0)","v":97149},72031016.99000001,{"$f":"VLOOKUP(A1275,'AFR19'!A:K,12,0)","v":{"$error":"#REF!"}},{"$error":"#REF!"}]
[4360,18747,0,18747,{"$f":"VLOOKUP(A1276,'AFR19'!A:K,12,0)","v":{"$error":"#REF!"}},{"$error":"#REF!"}]
[4373,48923768,0,48923768,{"$f":"VLOOKUP(A1277,'AFR19'!A:K,12,0)","v":{"$error":"#REF!"}},{"$error":"#REF!"}]
[4376,49958.308999999979,{"$f":"VLOOKUP(A1278,'Crete Monee Totals 5-8'!A:B,2,0)","v":28.8},49929.508999999976,{"$f":"VLOOKUP(A1278,'AFR19'!A:K,12,0)","v":{"$error":"#REF!"}},{"$error":"#REF!"}]
[4380,561491,0,561491,{"$f":"VLOOKUP(A1279,'AFR19'!A:K,12,0)","v":{"$error":"#REF!"}},{"$error":"#REF!"}]
[4382,48923768,0,48923768,{"$f":"VLOOKUP(A1280,'AFR19'!A:K,12,0)","v":{"$error":"#REF!"}},{"$error":"#REF!"}]
[4385,4244,0,4244,{"$f":"VLOOKUP(A1281,'AFR19'!A:K,12,0)","v":{"$error":"#REF!"}},{"$error":"#REF!"}]
[4386,175640,0,175640,{"$f":"VLOOKUP(A1282,'AFR19'!A:K,12,0)","v":{"$error":"#REF!"}},{"$error":"#REF!"}]
[4700,4862869,0,{"$f":"SUM(B1283-C1283)","v":4862869},{"$f":"VLOOKUP(A1283,'AFR19'!A:K,12,0)","v":{"$error":"#REF!"}},{"$f":"SUM(D1283-E1283)","v":{"$error":"#REF!"}}]
[4731,31714649,{"$f":"VLOOKUP(A1284,'Crete Monee Totals 5-8'!A:B,2,0)","v":3013},31711636,{"$f":"VLOOKUP(A1284,'AFR19'!A:K,12,0)","v":{"$error":"#REF!"}},{"$error":"#REF!"}]
[4732,1109824,0,1109824,{"$f":"VLOOKUP(A1285,'AFR19'!A:K,12,0)","v":{"$error":"#REF!"}},{"$error":"#REF!"}]
[4733,6560200,0,6560200,{"$f":"VLOOKUP(A1286,'AFR19'!A:K,12,0)","v":{"$error":"#REF!"}},{"$error":"#REF!"}]
[4734,31316,0,31316,{"$f":"VLOOKUP(A1287,'AFR19'!A:K,12,0)","v":{"$error":"#REF!"}},{"$error":"#REF!"}]
[4735,3471,0,3471,{"$f":"VLOOKUP(A1288,'AFR19'!A:K,12,0)","v":{"$error":"#REF!"}},{"$error":"#REF!"}]
[4736,15570530,0,15570530,{"$f":"VLOOKUP(A1289,'AFR19'!A:K,12,0)","v":{"$error":"#REF!"}},{"$error":"#REF!"}]
[4740,103241,0,103241,{"$f":"VLOOKUP(A1290,'AFR19'!A:K,12,0)","v":{"$error":"#REF!"}},{"$error":"#REF!"}]
[4744,19810593,0,19810593,{"$f":"VLOOKUP(A1291,'AFR19'!A:K,12,0)","v":{"$error":"#REF!"}},{"$error":"#REF!"}]
[4745,19692,0,19692,{"$f":"VLOOKUP(A1292,'AFR19'!A:K,12,0)","v":{"$error":"#REF!"}},{"$error":"#REF!"}]
[4752,5,0,5,{"$f":"VLOOKUP(A1293,'AFR19'!A:K,12,0)","v":{"$error":"#REF!"}},{"$error":"#REF!"}]
[4791,31127021,0,31127021,{"$f":"VLOOKUP(A1294,'AFR19'!A:K,12,0)","v":{"$error":"#REF!"}},{"$error":"#REF!"}]
[4792,175486,0,175486,{"$f":"VLOOKUP(A1295,'AFR19'!A:K,12,0)","v":{"$error":"#REF!"}},{"$error":"#REF!"}]
[4794,102,0,102,{"$f":"VLOOKUP(A1296,'AFR19'!A:K,12,0)","v":{"$error":"#REF!"}},{"$error":"#REF!"}]
[4803,19564,0,19564,{"$f":"VLOOKUP(A1297,'AFR19'!A:K,12,0)","v":{"$error":"#REF!"}},{"$error":"#REF!"}]
[4804,220938,0,220938,{"$f":"VLOOKUP(A1298,'AFR19'!A:K,12,0)","v":{"$error":"#REF!"}},{"$error":"#REF!"}]
[4813,18449707,0,18449707,{"$f":"VLOOKUP(A1299,'AFR19'!A:K,12,0)","v":{"$error":"#REF!"}},{"$error":"#REF!"}]
[4814,651682,0,651682,{"$f":"VLOOKUP(A1300,'AFR19'!A:K,12,0)","v":{"$error":"#REF!"}},{"$error":"#REF!"}]
[4821,1988407,0,1988407,{"$f":"VLOOKUP(A1301,'AFR19'!A:K,12,0)","v":{"$error":"#REF!"}},{"$error":"#REF!"}]
[4824,279,0,279,{"$f":"VLOOKUP(A1302,'AFR19'!A:K,12,0)","v":{"$error":"#REF!"}},{"$error":"#REF!"}]
[4854,2686,0,2686,{"$f":"VLOOKUP(A1303,'AFR19'!A:K,12,0)","v":{"$error":"#REF!"}},{"$error":"#REF!"}]
[4855,4498,0,4498,{"$f":"VLOOKUP(A1304,'AFR19'!A:K,12,0)","v":{"$error":"#REF!"}},{"$error":"#REF!"}]
[4857,8752,0,8752,{"$f":"VLOOKUP(A1305,'AFR19'!A:K,12,0)","v":{"$error":"#REF!"}},{"$error":"#REF!"}]
[4883,335625,0,335625,{"$f":"VLOOKUP(A1306,'AFR19'!A:K,12,0)","v":{"$error":"#REF!"}},{"$error":"#REF!"}]
[4889,9775,0,9775,{"$f":"VLOOKUP(A1307,'AFR19'!A:K,12,0)","v":{"$error":"#REF!"}},{"$error":"#REF!"}]
[4934,479684894581,{"$f":"VLOOKUP(A1308,'Crete Monee Totals 5-8'!A:B,2,0)","v":586382720},479098511861,{"$f":"VLOOKUP(A1308,'AFR19'!A:K,12,0)","v":{"$error":"#REF!"}},{"$error":"#REF!"}]
[4935,46746229780.72506,{"$f":"VLOOKUP(A1309,'Crete Monee Totals 5-8'!A:B,2,0)","v":80920815.359999999},46665308965.365059,{"$f":"VLOOKUP(A1309,'AFR19'!A:K,12,0)","v":{"$error":"#REF!"}},{"$error":"#REF!"}]
[4936,21650268294,{"$f":"VLOOKUP(A1310,'Crete Monee Totals 5-8'!A:B,2,0)","v":93012005},21557256289,{"$f":"VLOOKUP(A1310,'AFR19'!A:K,12,0)","v":{"$error":"#REF!"}},{"$error":"#REF!"}]
[4939,25000,0,25000,{"$f":"VLOOKUP(A1311,'AFR19'!A:K,12,0)","v":{"$error":"#REF!"}},{"$error":"#REF!"}]
[4951,60484612,0,60484612,{"$f":"VLOOKUP(A1312,'AFR19'!A:K,12,0)","v":{"$error":"#REF!"}},{"$error":"#REF!"}]
[4952,213013589,0,213013589,{"$f":"VLOOKUP(A1313,'AFR19'!A:K,12,0)","v":{"$error":"#REF!"}},{"$error":"#REF!"}]
[4953,685225,0,685225,{"$f":"VLOOKUP(A1314,'AFR19'!A:K,12,0)","v":{"$error":"#REF!"}},{"$error":"#REF!"}]
[4961,130408311,0,130408311,{"$f":"VLOOKUP(A1315,'AFR19'!A:K,12,0)","v":{"$error":"#REF!"}},{"$error":"#REF!"}]
[4962,39896536,0,39896536,{"$f":"VLOOKUP(A1316,'AFR19'!A:K,12,0)","v":{"$error":"#REF!"}},{"$error":"#REF!"}]
[4963,103878579,0,103878579,{"$f":"VLOOKUP(A1317,'AFR19'!A:K,12,0)","v":{"$error":"#REF!"}},{"$error":"#REF!"}]
[4965,28556306.710000001,0,28556306.710000001,{"$f":"VLOOKUP(A1318,'AFR19'!A:K,12,0)","v":{"$error":"#REF!"}},{"$error":"#REF!"}]
[4966,1661788,0,1661788,{"$f":"VLOOKUP(A1319,'AFR19'!A:K,12,0)","v":{"$error":"#REF!"}},{"$error":"#REF!"}]
[4995,122606950,0,122606950,{"$f":"VLOOKUP(A1320,'AFR19'!A:K,12,0)","v":{"$error":"#REF!"}},{"$error":"#REF!"}]
[5000,12275292688.279999,{"$f":"VLOOKUP(A1321,'Crete Monee Totals 5-8'!A:B,2,0)","v":23208768},12252083920.279999,{"$f":"VLOOKUP(A1321,'AFR19'!A:K,12,0)","v":{"$error":"#REF!"}},{"$error":"#REF!"}]
[5002,484315829.32999998,{"$f":"VLOOKUP(A1322,'Crete Monee Totals 5-8'!A:B,2,0)","v":4212794},480103035.32999998,{"$f":"VLOOKUP(A1322,'AFR19'!A:K,12,0)","v":{"$error":"#REF!"}},{"$error":"#REF!"}]
[5003,202,0,202,{"$f":"VLOOKUP(A1323,'AFR19'!A:K,12,0)","v":{"$error":"#REF!"}},{"$error":"#REF!"}]
[5004,172919,0,172919,{"$f":"VLOOKUP(A1324,'AFR19'!A:K,12,0)","v":{"$error":"#REF!"}},{"$error":"#REF!"}]
[5005,12788337945.32,{"$f":"VLOOKUP(A1325,'Crete Monee Totals 5-8'!A:B,2,0)","v":27421562},12760916383.32,{"$f":"VLOOKUP(A1325,'AFR19'!A:K,12,0)","v":{"$error":"#REF!"}},{"$error":"#REF!"}]
[5006,1384224.27,{"$f":"VLOOKUP(A1326,'Crete Monee Totals 5-8'!A:B,2,0)","v":36741},1347483.27,{"$f":"VLOOKUP(A1326,'AFR19'!A:K,12,0)","v":{"$error":"#REF!"}},{"$error":"#REF!"}]
[5007,1456414,0,1456414,{"$f":"VLOOKUP(A1327,'AFR19'!A:K,12,0)","v":{"$error":"#REF!"}},{"$error":"#REF!"}]
[5008,429992057.54000002,{"$f":"VLOOKUP(A1328,'Crete Monee Totals 5-8'!A:B,2,0)","v":852974},429139083.54000002,{"$f":"VLOOKUP(A1328,'AFR19'!A:K,12,0)","v":{"$error":"#REF!"}},{"$error":"#REF!"}]
[5009,18579713,0,18579713,{"$f":"VLOOKUP(A1329,'AFR19'!A:K,12,0)","v":{"$error":"#REF!"}},{"$error":"#REF!"}]
[5010,451412408.80999994,{"$f":"VLOOKUP(A1330,'Crete Monee Totals 5-8'!A:B,2,0)","v":889715},450522693.80999994,{"$f":"VLOOKUP(A1330,'AFR19'!A:K,12,0)","v":{"$error":"#REF!"}},{"$error":"#REF!"}]
[5011,17250859,0,17250859,{"$f":"VLOOKUP(A1331,'AFR19'!A:K,12,0)","v":{"$error":"#REF!"}},{"$error":"#REF!"}]
[5012,4092120,0,4092120,{"$f":"VLOOKUP(A1332,'AFR19'!A:K,12,0)","v":{"$error":"#REF!"}},{"$error":"#REF!"}]
[5013,3305114.52,0,3305114.52,{"$f":"VLOOKUP(A1333,'AFR19'!A:K,12,0)","v":{"$error":"#REF!"}},{"$error":"#REF!"}]
[5014,16093527,{"$f":"VLOOKUP(A1334,'Crete Monee Totals 5-8'!A:B,2,0)","v":3952},16089575,{"$f":"VLOOKUP(A1334,'AFR19'!A:K,12,0)","v":{"$error":"#REF!"}},{"$error":"#REF!"}]
[5015,416252,0,416252,{"$f":"VLOOKUP(A1335,'AFR19'!A:K,12,0)","v":{"$error":"#REF!"}},{"$error":"#REF!"}]
[5016,668152,0,668152,{"$f":"VLOOKUP(A1336,'AFR19'!A:K,12,0)","v":{"$error":"#REF!"}},{"$error":"#REF!"}]
[5017,94779,0,94779,{"$f":"VLOOKUP(A1337,'AFR19'!A:K,12,0)","v":{"$error":"#REF!"}},{"$error":"#REF!"}]
[5018,287538,0,287538,{"$f":"VLOOKUP(A1338,'AFR19'!A:K,12,0)","v":{"$error":"#REF!"}},{"$error":"#REF!"}]
[5020,4219602,0,4219602,{"$f":"VLOOKUP(A1339,'AFR19'!A:K,12,0)","v":{"$error":"#REF!"}},{"$error":"#REF!"}]
[5021,25169238,0,25169238,{"$f":"VLOOKUP(A1340,'AFR19'!A:K,12,0)","v":{"$error":"#REF!"}},{"$error":"#REF!"}]
[5022,351167,0,351167,{"$f":"VLOOKUP(A1341,'AFR19'!A:K,12,0)","v":{"$error":"#REF!"}},{"$error":"#REF!"}]
[5023,3645479,0,3645479,{"$f":"VLOOKUP(A1342,'AFR19'!A:K,12,0)","v":{"$error":"#REF!"}},{"$error":"#REF!"}]
[5024,2360,0,2360,{"$f":"VLOOKUP(A1343,'AFR19'!A:K,12,0)","v":{"$error":"#REF!"}},{"$error":"#REF!"}]
[5025,615343,0,615343,{"$f":"VLOOKUP(A1344,'AFR19'!A:K,12,0)","v":{"$error":"#REF!"}},{"$error":"#REF!"}]
[5026,76881897.520000011,{"$f":"VLOOKUP(A1345,'Crete Monee Totals 5-8'!A:B,2,0)","v":3952},76877945.520000011,{"$f":"VLOOKUP(A1345,'AFR19'!A:K,12,0)","v":{"$error":"#REF!"}},{"$error":"#REF!"}]
[5027,92528063.680000007,{"$f":"VLOOKUP(A1346,'Crete Monee Totals 5-8'!A:B,2,0)","v":134493},92393570.680000007,{"$f":"VLOOKUP(A1346,'AFR19'!A:K,12,0)","v":{"$error":"#REF!"}},{"$error":"#REF!"}]
[5028,-944805,0,{"$f":"SUM(B1347-C1347)","v":-944805},{"$f":"VLOOKUP(A1347,'AFR19'!A:K,12,0)","v":{"$error":"#REF!"}},{"$f":"SUM(D1347-E1347)","v":{"$error":"#REF!"}}]
[5029,91583258.680000007,{"$f":"VLOOKUP(A1348,'Crete Monee Totals 5-8'!A:B,2,0)","v":134493},91448765.680000007,{"$f":"VLOOKUP(A1348,'AFR19'!A:K,12,0)","v":{"$error":"#REF!"}},{"$error":"#REF!"}]
[5030,2876457,0,2876457,{"$f":"VLOOKUP(A1349,'AFR19'!A:K,12,0)","v":{"$error":"#REF!"}},{"$error":"#REF!"}]
[5031,36610244,0,36610244,{"$f":"VLOOKUP(A1350,'AFR19'!A:K,12,0)","v":{"$error":"#REF!"}},{"$error":"#REF!"}]
[5032,8054753,0,8054753,{"$f":"VLOOKUP(A1351,'AFR19'!A:K,12,0)","v":{"$error":"#REF!"}},{"$error":"#REF!"}]
[5033,4351472.91,0,4351472.91,{"$f":"VLOOKUP(A1352,'AFR19'!A:K,12,0)","v":{"$error":"#REF!"}},{"$error":"#REF!"}]
[5034,14148177,{"$f":"VLOOKUP(A1353,'Crete Monee Totals 5-8'!A:B,2,0)","v":16690},14131487,{"$f":"VLOOKUP(A1353,'AFR19'!A:K,12,0)","v":{"$error":"#REF!"}},{"$error":"#REF!"}]
[5035,203065131.63,{"$f":"VLOOKUP(A1354,'Crete Monee Totals 5-8'!A:B,2,0)","v":491252},202573879.63,{"$f":"VLOOKUP(A1354,'AFR19'!A:K,12,0)","v":{"$error":"#REF!"}},{"$error":"#REF!"}]
[5036,20724459.780000001,{"$f":"VLOOKUP(A1355,'Crete Monee Totals 5-8'!A:B,2,0)","v":17175},20707284.780000001,{"$f":"VLOOKUP(A1355,'AFR19'!A:K,12,0)","v":{"$error":"#REF!"}},{"$error":"#REF!"}]
[5037,3169823,0,3169823,{"$f":"VLOOKUP(A1356,'AFR19'!A:K,12,0)","v":{"$error":"#REF!"}},{"$error":"#REF!"}]
[5038,69074689,{"$f":"VLOOKUP(A1357,'Crete Monee Totals 5-8'!A:B,2,0)","v":43196},69031493,{"$f":"VLOOKUP(A1357,'AFR19'!A:K,12,0)","v":{"$error":"#REF!"}},{"$error":"#REF!"}]
[5039,4895864,0,4895864,{"$f":"VLOOKUP(A1358,'AFR19'!A:K,12,0)","v":{"$error":"#REF!"}},{"$error":"#REF!"}]
[5040,18308761,{"$f":"VLOOKUP(A1359,'Crete Monee Totals 5-8'!A:B,2,0)","v":784},18307977,{"$f":"VLOOKUP(A1359,'AFR19'!A:K,12,0)","v":{"$error":"#REF!"}},{"$error":"#REF!"}]
[5041,116173596.78,{"$f":"VLOOKUP(A1360,'Crete Monee Totals 5-8'!A:B,2,0)","v":61155},116112441.78,{"$f":"VLOOKUP(A1360,'AFR19'!A:K,12,0)","v":{"$error":"#REF!"}},{"$error":"#REF!"}]
[5042,98284857.289999992,{"$f":"VLOOKUP(A1361,'Crete Monee Totals 5-8'!A:B,2,0)","v":310149},97974708.289999992,{"$f":"VLOOKUP(A1361,'AFR19'!A:K,12,0)","v":{"$error":"#REF!"}},{"$error":"#REF!"}]
[5043,928974,0,928974,{"$f":"VLOOKUP(A1362,'AFR19'!A:K,12,0)","v":{"$error":"#REF!"}},{"$error":"#REF!"}]
[5044,668033,0,668033,{"$f":"VLOOKUP(A1363,'AFR19'!A:K,12,0)","v":{"$error":"#REF!"}},{"$error":"#REF!"}]
[5045,2683545,{"$f":"VLOOKUP(A1364,'Crete Monee Totals 5-8'!A:B,2,0)","v":3185},2680360,{"$f":"VLOOKUP(A1364,'AFR19'!A:K,12,0)","v":{"$error":"#REF!"}},{"$error":"#REF!"}]
[5046,2101789,0,2101789,{"$f":"VLOOKUP(A1365,'AFR19'!A:K,12,0)","v":{"$error":"#REF!"}},{"$error":"#REF!"}]
[5047,70650,0,70650,{"$f":"VLOOKUP(A1366,'AFR19'!A:K,12,0)","v":{"$error":"#REF!"}},{"$error":"#REF!"}]
[5048,34664,0,34664,{"$f":"VLOOKUP(A1367,'AFR19'!A:K,12,0)","v":{"$error":"#REF!"}},{"$error":"#REF!"}]
[5049,135061,{"$f":"VLOOKUP(A1368,'Crete Monee Totals 5-8'!A:B,2,0)","v":8414},126647,{"$f":"VLOOKUP(A1368,'AFR19'!A:K,12,0)","v":{"$error":"#REF!"}},{"$error":"#REF!"}]
[5050,2472347,0,2472347,{"$f":"VLOOKUP(A1369,'AFR19'!A:K,12,0)","v":{"$error":"#REF!"}},{"$error":"#REF!"}]
[5051,107379920.29000001,{"$f":"VLOOKUP(A1370,'Crete Monee Totals 5-8'!A:B,2,0)","v":321748},107058172.29000001,{"$f":"VLOOKUP(A1370,'AFR19'!A:K,12,0)","v":{"$error":"#REF!"}},{"$error":"#REF!"}]
[5052,11025312,0,11025312,{"$f":"VLOOKUP(A1371,'AFR19'!A:K,12,0)","v":{"$error":"#REF!"}},{"$error":"#REF!"}]
[5053,23642234.25,0,23642234.25,{"$f":"VLOOKUP(A1372,'AFR19'!A:K,12,0)","v":{"$error":"#REF!"}},{"$error":"#REF!"}]
[5054,12034366,0,12034366,{"$f":"VLOOKUP(A1373,'AFR19'!A:K,12,0)","v":{"$error":"#REF!"}},{"$error":"#REF!"}]
[5055,40603746.239999995,{"$f":"VLOOKUP(A1374,'Crete Monee Totals 5-8'!A:B,2,0)","v":689283},39914463.239999995,{"$f":"VLOOKUP(A1374,'AFR19'!A:K,12,0)","v":{"$error":"#REF!"}},{"$error":"#REF!"}]
[5056,2231649,0,2231649,{"$f":"VLOOKUP(A1375,'AFR19'!A:K,12,0)","v":{"$error":"#REF!"}},{"$error":"#REF!"}]
[5057,46485943,0,46485943,{"$f":"VLOOKUP(A1376,'AFR19'!A:K,12,0)","v":{"$error":"#REF!"}},{"$error":"#REF!"}]
[5058,199107225.38999999,{"$f":"VLOOKUP(A1377,'Crete Monee Totals 5-8'!A:B,2,0)","v":9490},199097735.38999999,{"$f":"VLOOKUP(A1377,'AFR19'!A:K,12,0)","v":{"$error":"#REF!"}},{"$error":"#REF!"}]
[5059,489885207.88,{"$f":"VLOOKUP(A1378,'Crete Monee Totals 5-8'!A:B,2,0)","v":720248},489164959.88,{"$f":"VLOOKUP(A1378,'AFR19'!A:K,12,0)","v":{"$error":"#REF!"}},{"$error":"#REF!"}]
[5060,14324719366.91,{"$f":"VLOOKUP(A1379,'Crete Monee Totals 5-8'!A:B,2,0)","v":30044125},14294675241.91,{"$f":"VLOOKUP(A1379,'AFR19'!A:K,12,0)","v":{"$error":"#REF!"}},{"$error":"#REF!"}]
[5061,10335828,0,10335828,{"$f":"VLOOKUP(A1380,'AFR19'!A:K,12,0)","v":{"$error":"#REF!"}},{"$error":"#REF!"}]
[5062,2447361,0,2447361,{"$f":"VLOOKUP(A1381,'AFR19'!A:K,12,0)","v":{"$error":"#REF!"}},{"$error":"#REF!"}]
[5063,157063,0,157063,{"$f":"VLOOKUP(A1382,'AFR19'!A:K,12,0)","v":{"$error":"#REF!"}},{"$error":"#REF!"}]
[5064,12940252,0,12940252,{"$f":"VLOOKUP(A1383,'AFR19'!A:K,12,0)","v":{"$error":"#REF!"}},{"$error":"#REF!"}]
[5065,5304504837.04,{"$f":"VLOOKUP(A1384,'Crete Monee Totals 5-8'!A:B,2,0)","v":15597626},5288907211.04,{"$f":"VLOOKUP(A1384,'AFR19'!A:K,12,0)","v":{"$error":"#REF!"}},{"$error":"#REF!"}]
[5066,2891798,0,2891798,{"$f":"VLOOKUP(A1385,'AFR19'!A:K,12,0)","v":{"$error":"#REF!"}},{"$error":"#REF!"}]
[5071,5327834749.04,{"$f":"VLOOKUP(A1386,'Crete Monee Totals 5-8'!A:B,2,0)","v":15597626},5312237123.04,{"$f":"VLOOKUP(A1386,'AFR19'!A:K,12,0)","v":{"$error":"#REF!"}},{"$error":"#REF!"}]
[5072,144532030,{"$f":"VLOOKUP(A1387,'Crete Monee Totals 5-8'!A:B,2,0)","v":543788},143988242,{"$f":"VLOOKUP(A1387,'AFR19'!A:K,12,0)","v":{"$error":"#REF!"}},{"$error":"#REF!"}]
[5073,74146985.340000004,0,74146985.340000004,{"$f":"VLOOKUP(A1388,'AFR19'!A:K,12,0)","v":{"$error":"#REF!"}},{"$error":"#REF!"}]
[5074,102700466.7,0,102700466.7,{"$f":"VLOOKUP(A1389,'AFR19'!A:K,12,0)","v":{"$error":"#REF!"}},{"$error":"#REF!"}]
[5076,50199936.729999997,{"$f":"VLOOKUP(A1390,'Crete Monee Totals 5-8'!A:B,2,0)","v":734359},49465577.729999997,{"$f":"VLOOKUP(A1390,'AFR19'!A:K,12,0)","v":{"$error":"#REF!"}},{"$error":"#REF!"}]
[5078,6525702,{"$f":"VLOOKUP(A1391,'Crete Monee Totals 5-8'!A:B,2,0)","v":17746},6507956,{"$f":"VLOOKUP(A1391,'AFR19'!A:K,12,0)","v":{"$error":"#REF!"}},{"$error":"#REF!"}]
[5081,4501046,0,4501046,{"$f":"VLOOKUP(A1392,'AFR19'!A:K,12,0)","v":{"$error":"#REF!"}},{"$error":"#REF!"}]
[5086,382879587.76999998,{"$f":"VLOOKUP(A1393,'Crete Monee Totals 5-8'!A:B,2,0)","v":1295893},381583694.76999998,{"$f":"VLOOKUP(A1393,'AFR19'!A:K,12,0)","v":{"$error":"#REF!"}},{"$error":"#REF!"}]
[5087,1140963,0,1140963,{"$f":"VLOOKUP(A1394,'AFR19'!A:K,12,0)","v":{"$error":"#REF!"}},{"$error":"#REF!"}]
[5091,17298662,{"$f":"VLOOKUP(A1395,'Crete Monee Totals 5-8'!A:B,2,0)","v":48137},17250525,{"$f":"VLOOKUP(A1395,'AFR19'!A:K,12,0)","v":{"$error":"#REF!"}},{"$error":"#REF!"}]
[5092,161985,0,161985,{"$f":"VLOOKUP(A1396,'AFR19'!A:K,12,0)","v":{"$error":"#REF!"}},{"$error":"#REF!"}]
[5100,21605138,{"$f":"VLOOKUP(A1397,'Crete Monee Totals 5-8'!A:B,2,0)","v":48137},21557001,{"$f":"VLOOKUP(A1397,'AFR19'!A:K,12,0)","v":{"$error":"#REF!"}},{"$error":"#REF!"}]
[5102,82880458,{"$f":"VLOOKUP(A1398,'Crete Monee Totals 5-8'!A:B,2,0)","v":18364},82862094,{"$f":"VLOOKUP(A1398,'AFR19'!A:K,12,0)","v":{"$error":"#REF!"}},{"$error":"#REF!"}]
[5103,451518,0,451518,{"$f":"VLOOKUP(A1399,'AFR19'!A:K,12,0)","v":{"$error":"#REF!"}},{"$error":"#REF!"}]
[5104,83331976,{"$f":"VLOOKUP(A1400,'Crete Monee Totals 5-8'!A:B,2,0)","v":18364},83313612,{"$f":"VLOOKUP(A1400,'AFR19'!A:K,12,0)","v":{"$error":"#REF!"}},{"$error":"#REF!"}]
[5106,7254315.2000000002,{"$f":"VLOOKUP(A1401,'Crete Monee Totals 5-8'!A:B,2,0)","v":21462},7232853.2000000002,{"$f":"VLOOKUP(A1401,'AFR19'!A:K,12,0)","v":{"$error":"#REF!"}},{"$error":"#REF!"}]
[5107,18661339,{"$f":"VLOOKUP(A1402,'Crete Monee Totals 5-8'!A:B,2,0)","v":55758},18605581,{"$f":"VLOOKUP(A1402,'AFR19'!A:K,12,0)","v":{"$error":"#REF!"}},{"$error":"#REF!"}]
[5110,3605207,0,3605207,{"$f":"VLOOKUP(A1403,'AFR19'!A:K,12,0)","v":{"$error":"#REF!"}},{"$error":"#REF!"}]
[5114,296180,0,296180,{"$f":"VLOOKUP(A1404,'AFR19'!A:K,12,0)","v":{"$error":"#REF!"}},{"$error":"#REF!"}]
[5116,48843314,0,48843314,{"$f":"VLOOKUP(A1405,'AFR19'!A:K,12,0)","v":{"$error":"#REF!"}},{"$error":"#REF!"}]
[5117,49139494,0,49139494,{"$f":"VLOOKUP(A1406,'AFR19'!A:K,12,0)","v":{"$error":"#REF!"}},{"$error":"#REF!"}]
[5120,75580,0,75580,{"$f":"VLOOKUP(A1407,'AFR19'!A:K,12,0)","v":{"$error":"#REF!"}},{"$error":"#REF!"}]
[5126,12813,0,12813,{"$f":"VLOOKUP(A1408,'AFR19'!A:K,12,0)","v":{"$error":"#REF!"}},{"$error":"#REF!"}]
[5133,8861289,0,8861289,{"$f":"VLOOKUP(A1409,'AFR19'!A:K,12,0)","v":{"$error":"#REF!"}},{"$error":"#REF!"}]
[5135,388808276,{"$f":"VLOOKUP(A1410,'Crete Monee Totals 5-8'!A:B,2,0)","v":400477},388407799,{"$f":"VLOOKUP(A1410,'AFR19'!A:K,12,0)","v":{"$error":"#REF!"}},{"$error":"#REF!"}]
[5138,830080,0,{"$f":"SUM(B1411-C1411)","v":830080},{"$f":"VLOOKUP(A1411,'AFR19'!A:K,12,0)","v":{"$error":"#REF!"}},{"$f":"SUM(D1411-E1411)","v":{"$error":"#REF!"}}]
[5139,2669,0,2669,{"$f":"VLOOKUP(A1412,'AFR19'!A:K,12,0)","v":{"$error":"#REF!"}},{"$error":"#REF!"}]
[5153,1119746873.9699998,{"$f":"VLOOKUP(A1413,'Crete Monee Totals 5-8'!A:B,2,0)","v":1843104},1117903769.9699998,{"$f":"VLOOKUP(A1413,'AFR19'!A:K,12,0)","v":{"$error":"#REF!"}},{"$error":"#REF!"}]
[5162,6447581623.0099993,{"$f":"VLOOKUP(A1414,'Crete Monee Totals 5-8'!A:B,2,0)","v":17440730},6430140893.0099993,{"$f":"VLOOKUP(A1414,'AFR19'!A:K,12,0)","v":{"$error":"#REF!"}},{"$error":"#REF!"}]
[5163,14097406,0,14097406,{"$f":"VLOOKUP(A1415,'AFR19'!A:K,12,0)","v":{"$error":"#REF!"}},{"$error":"#REF!"}]
[5164,14433031,0,14433031,{"$f":"VLOOKUP(A1416,'AFR19'!A:K,12,0)","v":{"$error":"#REF!"}},{"$error":"#REF!"}]
[5169,48134935,0,48134935,{"$f":"VLOOKUP(A1417,'AFR19'!A:K,12,0)","v":{"$error":"#REF!"}},{"$error":"#REF!"}]
[5171,68048769,0,68048769,{"$f":"VLOOKUP(A1418,'AFR19'!A:K,12,0)","v":{"$error":"#REF!"}},{"$error":"#REF!"}]
[5172,16790,0,16790,{"$f":"VLOOKUP(A1419,'AFR19'!A:K,12,0)","v":{"$error":"#REF!"}},{"$error":"#REF!"}]
[5178,429563014.91000003,{"$f":"VLOOKUP(A1420,'Crete Monee Totals 5-8'!A:B,2,0)","v":1487305},428075709.91000003,{"$f":"VLOOKUP(A1420,'AFR19'!A:K,12,0)","v":{"$error":"#REF!"}},{"$error":"#REF!"}]
[5179,1757513,0,1757513,{"$f":"VLOOKUP(A1421,'AFR19'!A:K,12,0)","v":{"$error":"#REF!"}},{"$error":"#REF!"}]
[5180,132267442.70999999,{"$f":"VLOOKUP(A1422,'Crete Monee Totals 5-8'!A:B,2,0)","v":434363},131833079.70999999,{"$f":"VLOOKUP(A1422,'AFR19'!A:K,12,0)","v":{"$error":"#REF!"}},{"$error":"#REF!"}]
[5181,3705697,0,3705697,{"$f":"VLOOKUP(A1423,'AFR19'!A:K,12,0)","v":{"$error":"#REF!"}},{"$error":"#REF!"}]
[5182,10003623,0,10003623,{"$f":"VLOOKUP(A1424,'AFR19'!A:K,12,0)","v":{"$error":"#REF!"}},{"$error":"#REF!"}]
[5185,601254399.62,{"$f":"VLOOKUP(A1425,'Crete Monee Totals 5-8'!A:B,2,0)","v":1931073},599323326.62,{"$f":"VLOOKUP(A1425,'AFR19'!A:K,12,0)","v":{"$error":"#REF!"}},{"$error":"#REF!"}]
[5186,621959431,{"$f":"VLOOKUP(A1426,'Crete Monee Totals 5-8'!A:B,2,0)","v":1207577},620751854,{"$f":"VLOOKUP(A1426,'AFR19'!A:K,12,0)","v":{"$error":"#REF!"}},{"$error":"#REF!"}]
[5187,2123307,0,2123307,{"$f":"VLOOKUP(A1427,'AFR19'!A:K,12,0)","v":{"$error":"#REF!"}},{"$error":"#REF!"}]
[5194,424331,0,424331,{"$f":"VLOOKUP(A1428,'AFR19'!A:K,12,0)","v":{"$error":"#REF!"}},{"$error":"#REF!"}]
[5195,5212230,0,5212230,{"$f":"VLOOKUP(A1429,'AFR19'!A:K,12,0)","v":{"$error":"#REF!"}},{"$error":"#REF!"}]
[5199,641387368,{"$f":"VLOOKUP(A1430,'Crete Monee Totals 5-8'!A:B,2,0)","v":1207577},640179791,{"$f":"VLOOKUP(A1430,'AFR19'!A:K,12,0)","v":{"$error":"#REF!"}},{"$error":"#REF!"}]
[5213,10172642.620000001,{"$f":"VLOOKUP(A1431,'Crete Monee Totals 5-8'!A:B,2,0)","v":42508},10130134.620000001,{"$f":"VLOOKUP(A1431,'AFR19'!A:K,12,0)","v":{"$error":"#REF!"}},{"$error":"#REF!"}]
[5214,3476037,0,3476037,{"$f":"VLOOKUP(A1432,'AFR19'!A:K,12,0)","v":{"$error":"#REF!"}},{"$error":"#REF!"}]
[5217,350631523.12,{"$f":"VLOOKUP(A1433,'Crete Monee Totals 5-8'!A:B,2,0)","v":811164},349820359.12,{"$f":"VLOOKUP(A1433,'AFR19'!A:K,12,0)","v":{"$error":"#REF!"}},{"$error":"#REF!"}]
[5218,38051804,{"$f":"VLOOKUP(A1434,'Crete Monee Totals 5-8'!A:B,2,0)","v":28716},38023088,{"$f":"VLOOKUP(A1434,'AFR19'!A:K,12,0)","v":{"$error":"#REF!"}},{"$error":"#REF!"}]
[5219,47137,0,47137,{"$f":"VLOOKUP(A1435,'AFR19'!A:K,12,0)","v":{"$error":"#REF!"}},{"$error":"#REF!"}]
[5225,402577400.74000001,{"$f":"VLOOKUP(A1436,'Crete Monee Totals 5-8'!A:B,2,0)","v":882388},401695012.74000001,{"$f":"VLOOKUP(A1436,'AFR19'!A:K,12,0)","v":{"$error":"#REF!"}},{"$error":"#REF!"}]
[5240,5748521,0,5748521,{"$f":"VLOOKUP(A1437,'AFR19'!A:K,12,0)","v":{"$error":"#REF!"}},{"$error":"#REF!"}]
[5243,15448098,{"$f":"VLOOKUP(A1438,'Crete Monee Totals 5-8'!A:B,2,0)","v":26700},15421398,{"$f":"VLOOKUP(A1438,'AFR19'!A:K,12,0)","v":{"$error":"#REF!"}},{"$error":"#REF!"}]
[5249,1577535,0,1577535,{"$f":"VLOOKUP(A1439,'AFR19'!A:K,12,0)","v":{"$error":"#REF!"}},{"$error":"#REF!"}]
[5251,1331582,0,1331582,{"$f":"VLOOKUP(A1440,'AFR19'!A:K,12,0)","v":{"$error":"#REF!"}},{"$error":"#REF!"}]
[5252,54013,0,54013,{"$f":"VLOOKUP(A1441,'AFR19'!A:K,12,0)","v":{"$error":"#REF!"}},{"$error":"#REF!"}]
[5254,1851738,0,1851738,{"$f":"VLOOKUP(A1442,'AFR19'!A:K,12,0)","v":{"$error":"#REF!"}},{"$error":"#REF!"}]
[5256,1650086,0,1650086,{"$f":"VLOOKUP(A1443,'AFR19'!A:K,12,0)","v":{"$error":"#REF!"}},{"$error":"#REF!"}]
[5259,1980704278.9400001,{"$f":"VLOOKUP(A1444,'Crete Monee Totals 5-8'!A:B,2,0)","v":4660565},1976043713.9400001,{"$f":"VLOOKUP(A1444,'AFR19'!A:K,12,0)","v":{"$error":"#REF!"}},{"$error":"#REF!"}]
[5265,2063186078.9400001,{"$f":"VLOOKUP(A1445,'Crete Monee Totals 5-8'!A:B,2,0)","v":4660565},2058525513.9400001,{"$f":"VLOOKUP(A1445,'AFR19'!A:K,12,0)","v":{"$error":"#REF!"}},{"$error":"#REF!"}]
[5266,22848427320.859997,{"$f":"VLOOKUP(A1446,'Crete Monee Totals 5-8'!A:B,2,0)","v":52145420},22796281900.859997,{"$f":"VLOOKUP(A1446,'AFR19'!A:K,12,0)","v":{"$error":"#REF!"}},{"$error":"#REF!"}]
[5267,1520014414.6700001,{"$f":"VLOOKUP(A1447,'Crete Monee Totals 5-8'!A:B,2,0)","v":4222290},1515792124.6700001,{"$f":"VLOOKUP(A1447,'AFR19'!A:K,12,0)","v":{"$error":"#REF!"}},{"$error":"#REF!"}]
[5269,8189083,0,8189083,{"$f":"VLOOKUP(A1448,'AFR19'!A:K,12,0)","v":{"$error":"#REF!"}},{"$error":"#REF!"}]
[5270,145750,0,145750,{"$f":"VLOOKUP(A1449,'AFR19'!A:K,12,0)","v":{"$error":"#REF!"}},{"$error":"#REF!"}]
[5272,2296059,0,2296059,{"$f":"VLOOKUP(A1450,'AFR19'!A:K,12,0)","v":{"$error":"#REF!"}},{"$error":"#REF!"}]
[5273,1530645306.6700001,{"$f":"VLOOKUP(A1451,'Crete Monee Totals 5-8'!A:B,2,0)","v":4222290},1526423016.6700001,{"$f":"VLOOKUP(A1451,'AFR19'!A:K,12,0)","v":{"$error":"#REF!"}},{"$error":"#REF!"}]
[5274,230371.61,{"$f":"VLOOKUP(A1452,'Crete Monee Totals 5-8'!A:B,2,0)","v":5804},224567.61,{"$f":"VLOOKUP(A1452,'AFR19'!A:K,12,0)","v":{"$error":"#REF!"}},{"$error":"#REF!"}]
[5275,208542,0,208542,{"$f":"VLOOKUP(A1453,'AFR19'!A:K,12,0)","v":{"$error":"#REF!"}},{"$error":"#REF!"}]
[5276,79902948,0,79902948,{"$f":"VLOOKUP(A1454,'AFR19'!A:K,12,0)","v":{"$error":"#REF!"}},{"$error":"#REF!"}]
[5277,990609.7,0,990609.7,{"$f":"VLOOKUP(A1455,'AFR19'!A:K,12,0)","v":{"$error":"#REF!"}},{"$error":"#REF!"}]
[5278,81332471.310000002,{"$f":"VLOOKUP(A1456,'Crete Monee Totals 5-8'!A:B,2,0)","v":5804},81326667.310000002,{"$f":"VLOOKUP(A1456,'AFR19'!A:K,12,0)","v":{"$error":"#REF!"}},{"$error":"#REF!"}]
[5279,13863731.029999999,{"$f":"VLOOKUP(A1457,'Crete Monee Totals 5-8'!A:B,2,0)","v":20689},13843042.029999999,{"$f":"VLOOKUP(A1457,'AFR19'!A:K,12,0)","v":{"$error":"#REF!"}},{"$error":"#REF!"}]
[5280,-635518,0,-635518,{"$f":"VLOOKUP(A1458,'AFR19'!A:K,12,0)","v":{"$error":"#REF!"}},{"$error":"#REF!"}]
[5281,13228213.029999999,{"$f":"VLOOKUP(A1459,'Crete Monee Totals 5-8'!A:B,2,0)","v":20689},13207524.029999999,{"$f":"VLOOKUP(A1459,'AFR19'!A:K,12,0)","v":{"$error":"#REF!"}},{"$error":"#REF!"}]
[5282,24252,0,24252,{"$f":"VLOOKUP(A1460,'AFR19'!A:K,12,0)","v":{"$error":"#REF!"}},{"$error":"#REF!"}]
[5283,322758,0,322758,{"$f":"VLOOKUP(A1461,'AFR19'!A:K,12,0)","v":{"$error":"#REF!"}},{"$error":"#REF!"}]
[5284,2298443,0,2298443,{"$f":"VLOOKUP(A1462,'AFR19'!A:K,12,0)","v":{"$error":"#REF!"}},{"$error":"#REF!"}]
[5286,228932,0,228932,{"$f":"VLOOKUP(A1463,'AFR19'!A:K,12,0)","v":{"$error":"#REF!"}},{"$error":"#REF!"}]
[5287,2874385,0,2874385,{"$f":"VLOOKUP(A1464,'AFR19'!A:K,12,0)","v":{"$error":"#REF!"}},{"$error":"#REF!"}]
[5288,30604051.359999999,{"$f":"VLOOKUP(A1465,'Crete Monee Totals 5-8'!A:B,2,0)","v":24670},30579381.359999999,{"$f":"VLOOKUP(A1465,'AFR19'!A:K,12,0)","v":{"$error":"#REF!"}},{"$error":"#REF!"}]
[5289,6114286,0,6114286,{"$f":"VLOOKUP(A1466,'AFR19'!A:K,12,0)","v":{"$error":"#REF!"}},{"$error":"#REF!"}]
[5290,1079759,0,1079759,{"$f":"VLOOKUP(A1467,'AFR19'!A:K,12,0)","v":{"$error":"#REF!"}},{"$error":"#REF!"}]
[5291,3705813,0,3705813,{"$f":"VLOOKUP(A1468,'AFR19'!A:K,12,0)","v":{"$error":"#REF!"}},{"$error":"#REF!"}]
[5292,876630,0,876630,{"$f":"VLOOKUP(A1469,'AFR19'!A:K,12,0)","v":{"$error":"#REF!"}},{"$error":"#REF!"}]
[5293,30716883.25,{"$f":"VLOOKUP(A1470,'Crete Monee Totals 5-8'!A:B,2,0)","v":33721},30683162.25,{"$f":"VLOOKUP(A1470,'AFR19'!A:K,12,0)","v":{"$error":"#REF!"}},{"$error":"#REF!"}]
[5294,89591870.750000015,{"$f":"VLOOKUP(A1471,'Crete Monee Totals 5-8'!A:B,2,0)","v":58391},89533479.750000015,{"$f":"VLOOKUP(A1471,'AFR19'!A:K,12,0)","v":{"$error":"#REF!"}},{"$error":"#REF!"}]
[5295,1717672246.7600002,{"$f":"VLOOKUP(A1472,'Crete Monee Totals 5-8'!A:B,2,0)","v":4307174},1713365072.7600002,{"$f":"VLOOKUP(A1472,'AFR19'!A:K,12,0)","v":{"$error":"#REF!"}},{"$error":"#REF!"}]
[5296,605000,0,605000,{"$f":"VLOOKUP(A1473,'AFR19'!A:K,12,0)","v":{"$error":"#REF!"}},{"$error":"#REF!"}]
[5298,511071,0,511071,{"$f":"VLOOKUP(A1474,'AFR19'!A:K,12,0)","v":{"$error":"#REF!"}},{"$error":"#REF!"}]
[5299,1116071,0,{"$f":"SUM(B1475-C1475)","v":1116071},{"$f":"VLOOKUP(A1475,'AFR19'!A:K,12,0)","v":{"$error":"#REF!"}},{"$f":"SUM(D1475-E1475)","v":{"$error":"#REF!"}}]
[5300,543668721,0,543668721,{"$f":"VLOOKUP(A1476,'AFR19'!A:K,12,0)","v":{"$error":"#REF!"}},{"$error":"#REF!"}]
[5306,544320403,0,544320403,{"$f":"VLOOKUP(A1477,'AFR19'!A:K,12,0)","v":{"$error":"#REF!"}},{"$error":"#REF!"}]
[5330,65000,0,65000,{"$f":"VLOOKUP(A1478,'AFR19'!A:K,12,0)","v":{"$error":"#REF!"}},{"$error":"#REF!"}]
[5332,10000,0,10000,{"$f":"VLOOKUP(A1479,'AFR19'!A:K,12,0)","v":{"$error":"#REF!"}},{"$error":"#REF!"}]
[5333,75000,0,75000,{"$f":"VLOOKUP(A1480,'AFR19'!A:K,12,0)","v":{"$error":"#REF!"}},{"$error":"#REF!"}]
[5340,326020,0,326020,{"$f":"VLOOKUP(A1481,'AFR19'!A:K,12,0)","v":{"$error":"#REF!"}},{"$error":"#REF!"}]
[5351,1796186,0,1796186,{"$f":"VLOOKUP(A1482,'AFR19'!A:K,12,0)","v":{"$error":"#REF!"}},{"$error":"#REF!"}]
[5360,546116589,0,546116589,{"$f":"VLOOKUP(A1483,'AFR19'!A:K,12,0)","v":{"$error":"#REF!"}},{"$error":"#REF!"}]
[5361,5084707,0,5084707,{"$f":"VLOOKUP(A1484,'AFR19'!A:K,12,0)","v":{"$error":"#REF!"}},{"$error":"#REF!"}]
[5362,5084707,0,5084707,{"$f":"VLOOKUP(A1485,'AFR19'!A:K,12,0)","v":{"$error":"#REF!"}},{"$error":"#REF!"}]
[5364,19692,0,19692,{"$f":"VLOOKUP(A1486,'AFR19'!A:K,12,0)","v":{"$error":"#REF!"}},{"$error":"#REF!"}]
[5370,251,0,251,{"$f":"VLOOKUP(A1487,'AFR19'!A:K,12,0)","v":{"$error":"#REF!"}},{"$error":"#REF!"}]
[5383,251,0,251,{"$f":"VLOOKUP(A1488,'AFR19'!A:K,12,0)","v":{"$error":"#REF!"}},{"$error":"#REF!"}]
[5401,149613,0,149613,{"$f":"VLOOKUP(A1489,'AFR19'!A:K,12,0)","v":{"$error":"#REF!"}},{"$error":"#REF!"}]
[5402,6211,0,6211,{"$f":"VLOOKUP(A1490,'AFR19'!A:K,12,0)","v":{"$error":"#REF!"}},{"$error":"#REF!"}]
[5409,155824,0,155824,{"$f":"VLOOKUP(A1491,'AFR19'!A:K,12,0)","v":{"$error":"#REF!"}},{"$error":"#REF!"}]
[5440,2751598,0,2751598,{"$f":"VLOOKUP(A1492,'AFR19'!A:K,12,0)","v":{"$error":"#REF!"}},{"$error":"#REF!"}]
[5446,7855997,0,7855997,{"$f":"VLOOKUP(A1493,'AFR19'!A:K,12,0)","v":{"$error":"#REF!"}},{"$error":"#REF!"}]
[5447,2272760903.7600002,{"$f":"VLOOKUP(A1494,'Crete Monee Totals 5-8'!A:B,2,0)","v":4307174},2268453729.7600002,{"$f":"VLOOKUP(A1494,'AFR19'!A:K,12,0)","v":{"$error":"#REF!"}},{"$error":"#REF!"}]
[5448,1580829141.8000002,{"$f":"VLOOKUP(A1495,'Crete Monee Totals 5-8'!A:B,2,0)","v":11660935},1569168206.8000002,{"$f":"VLOOKUP(A1495,'AFR19'!A:K,12,0)","v":{"$error":"#REF!"}},{"$error":"#REF!"}]
[5451,3614308,0,3614308,{"$f":"VLOOKUP(A1496,'AFR19'!A:K,12,0)","v":{"$error":"#REF!"}},{"$error":"#REF!"}]
[5452,1584443449.8000002,{"$f":"VLOOKUP(A1497,'Crete Monee Totals 5-8'!A:B,2,0)","v":11660935},1572782514.8000002,{"$f":"VLOOKUP(A1497,'AFR19'!A:K,12,0)","v":{"$error":"#REF!"}},{"$error":"#REF!"}]
[5453,246213.46,{"$f":"VLOOKUP(A1498,'Crete Monee Totals 5-8'!A:B,2,0)","v":15942},230271.46,{"$f":"VLOOKUP(A1498,'AFR19'!A:K,12,0)","v":{"$error":"#REF!"}},{"$error":"#REF!"}]
[5454,50717,0,50717,{"$f":"VLOOKUP(A1499,'AFR19'!A:K,12,0)","v":{"$error":"#REF!"}},{"$error":"#REF!"}]
[5455,63714897,0,63714897,{"$f":"VLOOKUP(A1500,'AFR19'!A:K,12,0)","v":{"$error":"#REF!"}},{"$error":"#REF!"}]
[5456,589190,0,589190,{"$f":"VLOOKUP(A1501,'AFR19'!A:K,12,0)","v":{"$error":"#REF!"}},{"$error":"#REF!"}]
[5457,64601017.460000001,{"$f":"VLOOKUP(A1502,'Crete Monee Totals 5-8'!A:B,2,0)","v":15942},64585075.460000001,{"$f":"VLOOKUP(A1502,'AFR19'!A:K,12,0)","v":{"$error":"#REF!"}},{"$error":"#REF!"}]
[5458,12293462.539999999,{"$f":"VLOOKUP(A1503,'Crete Monee Totals 5-8'!A:B,2,0)","v":44956},12248506.539999999,{"$f":"VLOOKUP(A1503,'AFR19'!A:K,12,0)","v":{"$error":"#REF!"}},{"$error":"#REF!"}]
[5459,814098,0,814098,{"$f":"VLOOKUP(A1504,'AFR19'!A:K,12,0)","v":{"$error":"#REF!"}},{"$error":"#REF!"}]
[5460,13107560.539999999,{"$f":"VLOOKUP(A1505,'Crete Monee Totals 5-8'!A:B,2,0)","v":44956},13062604.539999999,{"$f":"VLOOKUP(A1505,'AFR19'!A:K,12,0)","v":{"$error":"#REF!"}},{"$error":"#REF!"}]
[5461,1750000,0,1750000,{"$f":"VLOOKUP(A1506,'AFR19'!A:K,12,0)","v":{"$error":"#REF!"}},{"$error":"#REF!"}]
[5462,165796,0,165796,{"$f":"VLOOKUP(A1507,'AFR19'!A:K,12,0)","v":{"$error":"#REF!"}},{"$error":"#REF!"}]
[5463,766615,0,766615,{"$f":"VLOOKUP(A1508,'AFR19'!A:K,12,0)","v":{"$error":"#REF!"}},{"$error":"#REF!"}]
[5464,106792657,0,106792657,{"$f":"VLOOKUP(A1509,'AFR19'!A:K,12,0)","v":{"$error":"#REF!"}},{"$error":"#REF!"}]
[5465,154545732,0,154545732,{"$f":"VLOOKUP(A1510,'AFR19'!A:K,12,0)","v":{"$error":"#REF!"}},{"$error":"#REF!"}]
[5466,1816697759.8000002,{"$f":"VLOOKUP(A1511,'Crete Monee Totals 5-8'!A:B,2,0)","v":11721833},1804975926.8000002,{"$f":"VLOOKUP(A1511,'AFR19'!A:K,12,0)","v":{"$error":"#REF!"}},{"$error":"#REF!"}]
[5467,336372009,0,336372009,{"$f":"VLOOKUP(A1512,'AFR19'!A:K,12,0)","v":{"$error":"#REF!"}},{"$error":"#REF!"}]
[5473,336372009,0,336372009,{"$f":"VLOOKUP(A1513,'AFR19'!A:K,12,0)","v":{"$error":"#REF!"}},{"$error":"#REF!"}]
[5476,6560200,0,6560200,{"$f":"VLOOKUP(A1514,'AFR19'!A:K,12,0)","v":{"$error":"#REF!"}},{"$error":"#REF!"}]
[5483,342932209,0,342932209,{"$f":"VLOOKUP(A1515,'AFR19'!A:K,12,0)","v":{"$error":"#REF!"}},{"$error":"#REF!"}]
[5491,2208553736.8000002,{"$f":"VLOOKUP(A1516,'Crete Monee Totals 5-8'!A:B,2,0)","v":11721833},2196831903.8000002,{"$f":"VLOOKUP(A1516,'AFR19'!A:K,12,0)","v":{"$error":"#REF!"}},{"$error":"#REF!"}]
[5492,627846419.68000007,{"$f":"VLOOKUP(A1517,'Crete Monee Totals 5-8'!A:B,2,0)","v":4007220},623839199.68000007,{"$f":"VLOOKUP(A1517,'AFR19'!A:K,12,0)","v":{"$error":"#REF!"}},{"$error":"#REF!"}]
[5495,2902022,0,2902022,{"$f":"VLOOKUP(A1518,'AFR19'!A:K,12,0)","v":{"$error":"#REF!"}},{"$error":"#REF!"}]
[5496,630748441.68000007,{"$f":"VLOOKUP(A1519,'Crete Monee Totals 5-8'!A:B,2,0)","v":4007220},626741221.68000007,{"$f":"VLOOKUP(A1519,'AFR19'!A:K,12,0)","v":{"$error":"#REF!"}},{"$error":"#REF!"}]
[5497,93301.52,{"$f":"VLOOKUP(A1520,'Crete Monee Totals 5-8'!A:B,2,0)","v":5710},87591.52,{"$f":"VLOOKUP(A1520,'AFR19'!A:K,12,0)","v":{"$error":"#REF!"}},{"$error":"#REF!"}]
[5498,14725,0,14725,{"$f":"VLOOKUP(A1521,'AFR19'!A:K,12,0)","v":{"$error":"#REF!"}},{"$error":"#REF!"}]
[5499,9073520,0,9073520,{"$f":"VLOOKUP(A1522,'AFR19'!A:K,12,0)","v":{"$error":"#REF!"}},{"$error":"#REF!"}]
[5500,386976,0,386976,{"$f":"VLOOKUP(A1523,'AFR19'!A:K,12,0)","v":{"$error":"#REF!"}},{"$error":"#REF!"}]
[5501,9568522.5199999996,{"$f":"VLOOKUP(A1524,'Crete Monee Totals 5-8'!A:B,2,0)","v":5710},9562812.5199999996,{"$f":"VLOOKUP(A1524,'AFR19'!A:K,12,0)","v":{"$error":"#REF!"}},{"$error":"#REF!"}]
[5502,6794979,{"$f":"VLOOKUP(A1525,'Crete Monee Totals 5-8'!A:B,2,0)","v":271},6794708,{"$f":"VLOOKUP(A1525,'AFR19'!A:K,12,0)","v":{"$error":"#REF!"}},{"$error":"#REF!"}]
[5503,14908598,{"$f":"VLOOKUP(A1526,'Crete Monee Totals 5-8'!A:B,2,0)","v":7971},14900627,{"$f":"VLOOKUP(A1526,'AFR19'!A:K,12,0)","v":{"$error":"#REF!"}},{"$error":"#REF!"}]
[5504,990977,0,990977,{"$f":"VLOOKUP(A1527,'AFR19'!A:K,12,0)","v":{"$error":"#REF!"}},{"$error":"#REF!"}]
[5505,5114422,0,5114422,{"$f":"VLOOKUP(A1528,'AFR19'!A:K,12,0)","v":{"$error":"#REF!"}},{"$error":"#REF!"}]
[5506,259775,0,259775,{"$f":"VLOOKUP(A1529,'AFR19'!A:K,12,0)","v":{"$error":"#REF!"}},{"$error":"#REF!"}]
[5507,59325,0,59325,{"$f":"VLOOKUP(A1530,'AFR19'!A:K,12,0)","v":{"$error":"#REF!"}},{"$error":"#REF!"}]
[5508,8000,0,8000,{"$f":"VLOOKUP(A1531,'AFR19'!A:K,12,0)","v":{"$error":"#REF!"}},{"$error":"#REF!"}]
[5509,52017,0,52017,{"$f":"VLOOKUP(A1532,'AFR19'!A:K,12,0)","v":{"$error":"#REF!"}},{"$error":"#REF!"}]
[5510,16511,0,16511,{"$f":"VLOOKUP(A1533,'AFR19'!A:K,12,0)","v":{"$error":"#REF!"}},{"$error":"#REF!"}]
[5511,11321,0,11321,{"$f":"VLOOKUP(A1534,'AFR19'!A:K,12,0)","v":{"$error":"#REF!"}},{"$error":"#REF!"}]
[5512,133200,0,133200,{"$f":"VLOOKUP(A1535,'AFR19'!A:K,12,0)","v":{"$error":"#REF!"}},{"$error":"#REF!"}]
[5513,4217175,0,4217175,{"$f":"VLOOKUP(A1536,'AFR19'!A:K,12,0)","v":{"$error":"#REF!"}},{"$error":"#REF!"}]
[5514,187716,0,187716,{"$f":"VLOOKUP(A1537,'AFR19'!A:K,12,0)","v":{"$error":"#REF!"}},{"$error":"#REF!"}]
[5517,15171,0,15171,{"$f":"VLOOKUP(A1538,'AFR19'!A:K,12,0)","v":{"$error":"#REF!"}},{"$error":"#REF!"}]
[5518,32811370,{"$f":"VLOOKUP(A1539,'Crete Monee Totals 5-8'!A:B,2,0)","v":8242},{"$f":"SUM(B1539-C1539)","v":32803128},{"$f":"VLOOKUP(A1539,'AFR19'!A:K,12,0)","v":{"$error":"#REF!"}},{"$f":"SUM(D1539-E1539)","v":{"$error":"#REF!"}}]
[5519,7708961,{"$f":"VLOOKUP(A1540,'Crete Monee Totals 5-8'!A:B,2,0)","v":81232},7627729,{"$f":"VLOOKUP(A1540,'AFR19'!A:K,12,0)","v":{"$error":"#REF!"}},{"$error":"#REF!"}]
[5520,-317679,0,-317679,{"$f":"VLOOKUP(A1541,'AFR19'!A:K,12,0)","v":{"$error":"#REF!"}},{"$error":"#REF!"}]
[5521,7391282,{"$f":"VLOOKUP(A1542,'Crete Monee Totals 5-8'!A:B,2,0)","v":81232},7310050,{"$f":"VLOOKUP(A1542,'AFR19'!A:K,12,0)","v":{"$error":"#REF!"}},{"$error":"#REF!"}]
[5522,101579,0,101579,{"$f":"VLOOKUP(A1543,'AFR19'!A:K,12,0)","v":{"$error":"#REF!"}},{"$error":"#REF!"}]
[5523,705899,0,705899,{"$f":"VLOOKUP(A1544,'AFR19'!A:K,12,0)","v":{"$error":"#REF!"}},{"$error":"#REF!"}]
[5524,3196144,0,3196144,{"$f":"VLOOKUP(A1545,'AFR19'!A:K,12,0)","v":{"$error":"#REF!"}},{"$error":"#REF!"}]
[5525,7056536,0,7056536,{"$f":"VLOOKUP(A1546,'AFR19'!A:K,12,0)","v":{"$error":"#REF!"}},{"$error":"#REF!"}]
[5526,13091893,0,13091893,{"$f":"VLOOKUP(A1547,'AFR19'!A:K,12,0)","v":{"$error":"#REF!"}},{"$error":"#REF!"}]
[5527,693611509.20000005,{"$f":"VLOOKUP(A1548,'Crete Monee Totals 5-8'!A:B,2,0)","v":4102404},689509105.20000005,{"$f":"VLOOKUP(A1548,'AFR19'!A:K,12,0)","v":{"$error":"#REF!"}},{"$error":"#REF!"}]
[5528,45553,0,45553,{"$f":"VLOOKUP(A1549,'AFR19'!A:K,12,0)","v":{"$error":"#REF!"}},{"$error":"#REF!"}]
[5529,29339,0,29339,{"$f":"VLOOKUP(A1550,'AFR19'!A:K,12,0)","v":{"$error":"#REF!"}},{"$error":"#REF!"}]
[5530,480,0,480,{"$f":"VLOOKUP(A1551,'AFR19'!A:K,12,0)","v":{"$error":"#REF!"}},{"$error":"#REF!"}]
[5531,75372,0,75372,{"$f":"VLOOKUP(A1552,'AFR19'!A:K,12,0)","v":{"$error":"#REF!"}},{"$error":"#REF!"}]
[5532,47718521,0,47718521,{"$f":"VLOOKUP(A1553,'AFR19'!A:K,12,0)","v":{"$error":"#REF!"}},{"$error":"#REF!"}]
[5533,1574961,0,1574961,{"$f":"VLOOKUP(A1554,'AFR19'!A:K,12,0)","v":{"$error":"#REF!"}},{"$error":"#REF!"}]
[5538,49293761,0,49293761,{"$f":"VLOOKUP(A1555,'AFR19'!A:K,12,0)","v":{"$error":"#REF!"}},{"$error":"#REF!"}]
[5539,4038,0,4038,{"$f":"VLOOKUP(A1556,'AFR19'!A:K,12,0)","v":{"$error":"#REF!"}},{"$error":"#REF!"}]
[5540,5625,0,5625,{"$f":"VLOOKUP(A1557,'AFR19'!A:K,12,0)","v":{"$error":"#REF!"}},{"$error":"#REF!"}]
[5541,121780,0,121780,{"$f":"VLOOKUP(A1558,'AFR19'!A:K,12,0)","v":{"$error":"#REF!"}},{"$error":"#REF!"}]
[5543,183563,0,183563,{"$f":"VLOOKUP(A1559,'AFR19'!A:K,12,0)","v":{"$error":"#REF!"}},{"$error":"#REF!"}]
[5553,315006,0,315006,{"$f":"VLOOKUP(A1560,'AFR19'!A:K,12,0)","v":{"$error":"#REF!"}},{"$error":"#REF!"}]
[5554,278137337.91999996,{"$f":"VLOOKUP(A1561,'Crete Monee Totals 5-8'!A:B,2,0)","v":1867072},276270265.91999996,{"$f":"VLOOKUP(A1561,'AFR19'!A:K,12,0)","v":{"$error":"#REF!"}},{"$error":"#REF!"}]
[5556,353389376.62,{"$f":"VLOOKUP(A1562,'Crete Monee Totals 5-8'!A:B,2,0)","v":1989975},351399401.62,{"$f":"VLOOKUP(A1562,'AFR19'!A:K,12,0)","v":{"$error":"#REF!"}},{"$error":"#REF!"}]
[5557,631535271.53999996,{"$f":"VLOOKUP(A1563,'Crete Monee Totals 5-8'!A:B,2,0)","v":3857047},627678224.53999996,{"$f":"VLOOKUP(A1563,'AFR19'!A:K,12,0)","v":{"$error":"#REF!"}},{"$error":"#REF!"}]
[5564,320,0,320,{"$f":"VLOOKUP(A1564,'AFR19'!A:K,12,0)","v":{"$error":"#REF!"}},{"$error":"#REF!"}]
[5566,6343913,0,6343913,{"$f":"VLOOKUP(A1565,'AFR19'!A:K,12,0)","v":{"$error":"#REF!"}},{"$error":"#REF!"}]
[5569,114119,0,114119,{"$f":"VLOOKUP(A1566,'AFR19'!A:K,12,0)","v":{"$error":"#REF!"}},{"$error":"#REF!"}]
[5583,638348697.53999996,{"$f":"VLOOKUP(A1567,'Crete Monee Totals 5-8'!A:B,2,0)","v":3857047},634491650.53999996,{"$f":"VLOOKUP(A1567,'AFR19'!A:K,12,0)","v":{"$error":"#REF!"}},{"$error":"#REF!"}]
[5592,687642458.53999996,{"$f":"VLOOKUP(A1568,'Crete Monee Totals 5-8'!A:B,2,0)","v":3857047},683785411.53999996,{"$f":"VLOOKUP(A1568,'AFR19'!A:K,12,0)","v":{"$error":"#REF!"}},{"$error":"#REF!"}]
[5593,200000,0,200000,{"$f":"VLOOKUP(A1569,'AFR19'!A:K,12,0)","v":{"$error":"#REF!"}},{"$error":"#REF!"}]
[5594,200000,0,200000,{"$f":"VLOOKUP(A1570,'AFR19'!A:K,12,0)","v":{"$error":"#REF!"}},{"$error":"#REF!"}]
[5603,768092,0,768092,{"$f":"VLOOKUP(A1571,'AFR19'!A:K,12,0)","v":{"$error":"#REF!"}},{"$error":"#REF!"}]
[5616,768092,0,768092,{"$f":"VLOOKUP(A1572,'AFR19'!A:K,12,0)","v":{"$error":"#REF!"}},{"$error":"#REF!"}]
[5634,55571,0,55571,{"$f":"VLOOKUP(A1573,'AFR19'!A:K,12,0)","v":{"$error":"#REF!"}},{"$error":"#REF!"}]
[5635,1498,0,1498,{"$f":"VLOOKUP(A1574,'AFR19'!A:K,12,0)","v":{"$error":"#REF!"}},{"$error":"#REF!"}]
[5642,57069,0,57069,{"$f":"VLOOKUP(A1575,'AFR19'!A:K,12,0)","v":{"$error":"#REF!"}},{"$error":"#REF!"}]
[5647,12534,0,12534,{"$f":"VLOOKUP(A1576,'AFR19'!A:K,12,0)","v":{"$error":"#REF!"}},{"$error":"#REF!"}]
[5652,1508570,0,1508570,{"$f":"VLOOKUP(A1577,'AFR19'!A:K,12,0)","v":{"$error":"#REF!"}},{"$error":"#REF!"}]
[5658,1708570,0,1708570,{"$f":"VLOOKUP(A1578,'AFR19'!A:K,12,0)","v":{"$error":"#REF!"}},{"$error":"#REF!"}]
[5659,1383037909.74,{"$f":"VLOOKUP(A1579,'Crete Monee Totals 5-8'!A:B,2,0)","v":7959451},1375078458.74,{"$f":"VLOOKUP(A1579,'AFR19'!A:K,12,0)","v":{"$error":"#REF!"}},{"$error":"#REF!"}]
[5660,265871329.84,{"$f":"VLOOKUP(A1580,'Crete Monee Totals 5-8'!A:B,2,0)","v":940697},264930632.84,{"$f":"VLOOKUP(A1580,'AFR19'!A:K,12,0)","v":{"$error":"#REF!"}},{"$error":"#REF!"}]
[5661,1812761,0,1812761,{"$f":"VLOOKUP(A1581,'AFR19'!A:K,12,0)","v":{"$error":"#REF!"}},{"$error":"#REF!"}]
[5662,308614694.5,{"$f":"VLOOKUP(A1582,'Crete Monee Totals 5-8'!A:B,2,0)","v":940696},307673998.5,{"$f":"VLOOKUP(A1582,'AFR19'!A:K,12,0)","v":{"$error":"#REF!"}},{"$error":"#REF!"}]
[5663,1606190,0,1606190,{"$f":"VLOOKUP(A1583,'AFR19'!A:K,12,0)","v":{"$error":"#REF!"}},{"$error":"#REF!"}]
[5664,577904975.33999991,{"$f":"VLOOKUP(A1584,'Crete Monee Totals 5-8'!A:B,2,0)","v":1881393},576023582.33999991,{"$f":"VLOOKUP(A1584,'AFR19'!A:K,12,0)","v":{"$error":"#REF!"}},{"$error":"#REF!"}]
[5665,127526,{"$f":"VLOOKUP(A1585,'Crete Monee Totals 5-8'!A:B,2,0)","v":1294},126232,{"$f":"VLOOKUP(A1585,'AFR19'!A:K,12,0)","v":{"$error":"#REF!"}},{"$error":"#REF!"}]
[5666,46992,0,46992,{"$f":"VLOOKUP(A1586,'AFR19'!A:K,12,0)","v":{"$error":"#REF!"}},{"$error":"#REF!"}]
[5667,50487566,{"$f":"VLOOKUP(A1587,'Crete Monee Totals 5-8'!A:B,2,0)","v":50000},50437566,{"$f":"VLOOKUP(A1587,'AFR19'!A:K,12,0)","v":{"$error":"#REF!"}},{"$error":"#REF!"}]
[5668,113249,0,113249,{"$f":"VLOOKUP(A1588,'AFR19'!A:K,12,0)","v":{"$error":"#REF!"}},{"$error":"#REF!"}]
[5669,50775333,{"$f":"VLOOKUP(A1589,'Crete Monee Totals 5-8'!A:B,2,0)","v":51294},50724039,{"$f":"VLOOKUP(A1589,'AFR19'!A:K,12,0)","v":{"$error":"#REF!"}},{"$error":"#REF!"}]
[5670,5132579,{"$f":"VLOOKUP(A1590,'Crete Monee Totals 5-8'!A:B,2,0)","v":19914},5112665,{"$f":"VLOOKUP(A1590,'AFR19'!A:K,12,0)","v":{"$error":"#REF!"}},{"$error":"#REF!"}]
[5671,-296936,0,-296936,{"$f":"VLOOKUP(A1591,'AFR19'!A:K,12,0)","v":{"$error":"#REF!"}},{"$error":"#REF!"}]
[5672,4835643,{"$f":"VLOOKUP(A1592,'Crete Monee Totals 5-8'!A:B,2,0)","v":19914},4815729,{"$f":"VLOOKUP(A1592,'AFR19'!A:K,12,0)","v":{"$error":"#REF!"}},{"$error":"#REF!"}]
[5673,15764,0,15764,{"$f":"VLOOKUP(A1593,'AFR19'!A:K,12,0)","v":{"$error":"#REF!"}},{"$error":"#REF!"}]
[5674,70677,0,70677,{"$f":"VLOOKUP(A1594,'AFR19'!A:K,12,0)","v":{"$error":"#REF!"}},{"$error":"#REF!"}]
[5675,908622,0,908622,{"$f":"VLOOKUP(A1595,'AFR19'!A:K,12,0)","v":{"$error":"#REF!"}},{"$error":"#REF!"}]
[5676,1447124,0,1447124,{"$f":"VLOOKUP(A1596,'AFR19'!A:K,12,0)","v":{"$error":"#REF!"}},{"$error":"#REF!"}]
[5681,12636095,0,12636095,{"$f":"VLOOKUP(A1597,'AFR19'!A:K,12,0)","v":{"$error":"#REF!"}},{"$error":"#REF!"}]
[5687,12636095,0,12636095,{"$f":"VLOOKUP(A1598,'AFR19'!A:K,12,0)","v":{"$error":"#REF!"}},{"$error":"#REF!"}]
[5688,5193,0,5193,{"$f":"VLOOKUP(A1599,'AFR19'!A:K,12,0)","v":{"$error":"#REF!"}},{"$error":"#REF!"}]
[5691,10205,0,10205,{"$f":"VLOOKUP(A1600,'AFR19'!A:K,12,0)","v":{"$error":"#REF!"}},{"$error":"#REF!"}]
[5693,2031,0,2031,{"$f":"VLOOKUP(A1601,'AFR19'!A:K,12,0)","v":{"$error":"#REF!"}},{"$error":"#REF!"}]
[5695,2031,0,2031,{"$f":"VLOOKUP(A1602,'AFR19'!A:K,12,0)","v":{"$error":"#REF!"}},{"$error":"#REF!"}]
[5702,5972,0,{"$f":"SUM(B1603-C1603)","v":5972},{"$f":"VLOOKUP(A1603,'AFR19'!A:K,12,0)","v":{"$error":"#REF!"}},{"$f":"SUM(D1603-E1603)","v":{"$error":"#REF!"}}]
[5704,565581,0,565581,{"$f":"VLOOKUP(A1604,'AFR19'!A:K,12,0)","v":{"$error":"#REF!"}},{"$error":"#REF!"}]
[5709,587260,0,587260,{"$f":"VLOOKUP(A1605,'AFR19'!A:K,12,0)","v":{"$error":"#REF!"}},{"$error":"#REF!"}]
[5717,13223355,0,13223355,{"$f":"VLOOKUP(A1606,'AFR19'!A:K,12,0)","v":{"$error":"#REF!"}},{"$error":"#REF!"}]
[5723,5,0,5,{"$f":"VLOOKUP(A1607,'AFR19'!A:K,12,0)","v":{"$error":"#REF!"}},{"$error":"#REF!"}]
[5729,1011938,0,1011938,{"$f":"VLOOKUP(A1608,'AFR19'!A:K,12,0)","v":{"$error":"#REF!"}},{"$error":"#REF!"}]
[5730,154,0,154,{"$f":"VLOOKUP(A1609,'AFR19'!A:K,12,0)","v":{"$error":"#REF!"}},{"$error":"#REF!"}]
[5738,159,0,159,{"$f":"VLOOKUP(A1610,'AFR19'!A:K,12,0)","v":{"$error":"#REF!"}},{"$error":"#REF!"}]
[5742,1012120,0,1012120,{"$f":"VLOOKUP(A1611,'AFR19'!A:K,12,0)","v":{"$error":"#REF!"}},{"$error":"#REF!"}]
[5756,37316,0,37316,{"$f":"VLOOKUP(A1612,'AFR19'!A:K,12,0)","v":{"$error":"#REF!"}},{"$error":"#REF!"}]
[5760,1012852,0,1012852,{"$f":"VLOOKUP(A1613,'AFR19'!A:K,12,0)","v":{"$error":"#REF!"}},{"$error":"#REF!"}]
[5761,634,0,634,{"$f":"VLOOKUP(A1614,'AFR19'!A:K,12,0)","v":{"$error":"#REF!"}},{"$error":"#REF!"}]
[5768,1050802,0,1050802,{"$f":"VLOOKUP(A1615,'AFR19'!A:K,12,0)","v":{"$error":"#REF!"}},{"$error":"#REF!"}]
[5783,24,0,24,{"$f":"VLOOKUP(A1616,'AFR19'!A:K,12,0)","v":{"$error":"#REF!"}},{"$error":"#REF!"}]
[5786,24,0,24,{"$f":"VLOOKUP(A1617,'AFR19'!A:K,12,0)","v":{"$error":"#REF!"}},{"$error":"#REF!"}]
[5802,2166551,0,2166551,{"$f":"VLOOKUP(A1618,'AFR19'!A:K,12,0)","v":{"$error":"#REF!"}},{"$error":"#REF!"}]
[5808,2166556,0,2166556,{"$f":"VLOOKUP(A1619,'AFR19'!A:K,12,0)","v":{"$error":"#REF!"}},{"$error":"#REF!"}]
[5809,650352986.33999991,{"$f":"VLOOKUP(A1620,'Crete Monee Totals 5-8'!A:B,2,0)","v":1952601},648400385.33999991,{"$f":"VLOOKUP(A1620,'AFR19'!A:K,12,0)","v":{"$error":"#REF!"}},{"$error":"#REF!"}]
[5810,9526435,0,9526435,{"$f":"VLOOKUP(A1621,'AFR19'!A:K,12,0)","v":{"$error":"#REF!"}},{"$error":"#REF!"}]
[5811,37018,0,37018,{"$f":"VLOOKUP(A1622,'AFR19'!A:K,12,0)","v":{"$error":"#REF!"}},{"$error":"#REF!"}]
[5812,9563453,0,9563453,{"$f":"VLOOKUP(A1623,'AFR19'!A:K,12,0)","v":{"$error":"#REF!"}},{"$error":"#REF!"}]
[5813,1380,0,1380,{"$f":"VLOOKUP(A1624,'AFR19'!A:K,12,0)","v":{"$error":"#REF!"}},{"$error":"#REF!"}]
[5815,2858909,0,2858909,{"$f":"VLOOKUP(A1625,'AFR19'!A:K,12,0)","v":{"$error":"#REF!"}},{"$error":"#REF!"}]
[5816,2022291,0,2022291,{"$f":"VLOOKUP(A1626,'AFR19'!A:K,12,0)","v":{"$error":"#REF!"}},{"$error":"#REF!"}]
[5817,4882580,0,4882580,{"$f":"VLOOKUP(A1627,'AFR19'!A:K,12,0)","v":{"$error":"#REF!"}},{"$error":"#REF!"}]
[5818,23261024.82,{"$f":"VLOOKUP(A1628,'Crete Monee Totals 5-8'!A:B,2,0)","v":4045},23256979.82,{"$f":"VLOOKUP(A1628,'AFR19'!A:K,12,0)","v":{"$error":"#REF!"}},{"$error":"#REF!"}]
[5819,-785625,0,-785625,{"$f":"VLOOKUP(A1629,'AFR19'!A:K,12,0)","v":{"$error":"#REF!"}},{"$error":"#REF!"}]
[5820,22475399.82,{"$f":"VLOOKUP(A1630,'Crete Monee Totals 5-8'!A:B,2,0)","v":4045},22471354.82,{"$f":"VLOOKUP(A1630,'AFR19'!A:K,12,0)","v":{"$error":"#REF!"}},{"$error":"#REF!"}]
[5821,11322363.300000001,0,11322363.300000001,{"$f":"VLOOKUP(A1631,'AFR19'!A:K,12,0)","v":{"$error":"#REF!"}},{"$error":"#REF!"}]
[5822,657360,0,657360,{"$f":"VLOOKUP(A1632,'AFR19'!A:K,12,0)","v":{"$error":"#REF!"}},{"$error":"#REF!"}]
[5823,30276,0,30276,{"$f":"VLOOKUP(A1633,'AFR19'!A:K,12,0)","v":{"$error":"#REF!"}},{"$error":"#REF!"}]
[5824,40167058,0,40167058,{"$f":"VLOOKUP(A1634,'AFR19'!A:K,12,0)","v":{"$error":"#REF!"}},{"$error":"#REF!"}]
[5825,146545559.79000002,{"$f":"VLOOKUP(A1635,'Crete Monee Totals 5-8'!A:B,2,0)","v":22964},146522595.79000002,{"$f":"VLOOKUP(A1635,'AFR19'!A:K,12,0)","v":{"$error":"#REF!"}},{"$error":"#REF!"}]
[5826,36938304,0,36938304,{"$f":"VLOOKUP(A1636,'AFR19'!A:K,12,0)","v":{"$error":"#REF!"}},{"$error":"#REF!"}]
[5832,36938304,0,36938304,{"$f":"VLOOKUP(A1637,'AFR19'!A:K,12,0)","v":{"$error":"#REF!"}},{"$error":"#REF!"}]
[5838,18734326,0,18734326,{"$f":"VLOOKUP(A1638,'AFR19'!A:K,12,0)","v":{"$error":"#REF!"}},{"$error":"#REF!"}]
[5845,55672630,0,55672630,{"$f":"VLOOKUP(A1639,'AFR19'!A:K,12,0)","v":{"$error":"#REF!"}},{"$error":"#REF!"}]
[5846,184181,0,184181,{"$f":"VLOOKUP(A1640,'AFR19'!A:K,12,0)","v":{"$error":"#REF!"}},{"$error":"#REF!"}]
[5847,184181,0,184181,{"$f":"VLOOKUP(A1641,'AFR19'!A:K,12,0)","v":{"$error":"#REF!"}},{"$error":"#REF!"}]
[5853,755447,0,755447,{"$f":"VLOOKUP(A1642,'AFR19'!A:K,12,0)","v":{"$error":"#REF!"}},{"$error":"#REF!"}]
[5854,239895069.61000001,{"$f":"VLOOKUP(A1643,'Crete Monee Totals 5-8'!A:B,2,0)","v":27009},239868060.61000001,{"$f":"VLOOKUP(A1643,'AFR19'!A:K,12,0)","v":{"$error":"#REF!"}},{"$error":"#REF!"}]
[5855,68670218.560000002,{"$f":"VLOOKUP(A1644,'Crete Monee Totals 5-8'!A:B,2,0)","v":222312},68447906.560000002,{"$f":"VLOOKUP(A1644,'AFR19'!A:K,12,0)","v":{"$error":"#REF!"}},{"$error":"#REF!"}]
[5856,200731,0,200731,{"$f":"VLOOKUP(A1645,'AFR19'!A:K,12,0)","v":{"$error":"#REF!"}},{"$error":"#REF!"}]
[5857,68870949.560000002,{"$f":"VLOOKUP(A1646,'Crete Monee Totals 5-8'!A:B,2,0)","v":222312},68648637.560000002,{"$f":"VLOOKUP(A1646,'AFR19'!A:K,12,0)","v":{"$error":"#REF!"}},{"$error":"#REF!"}]
[5858,15244.8,{"$f":"VLOOKUP(A1647,'Crete Monee Totals 5-8'!A:B,2,0)","v":7},15237.8,{"$f":"VLOOKUP(A1647,'AFR19'!A:K,12,0)","v":{"$error":"#REF!"}},{"$error":"#REF!"}]
[5859,2799,0,2799,{"$f":"VLOOKUP(A1648,'AFR19'!A:K,12,0)","v":{"$error":"#REF!"}},{"$error":"#REF!"}]
[5860,353851,0,353851,{"$f":"VLOOKUP(A1649,'AFR19'!A:K,12,0)","v":{"$error":"#REF!"}},{"$error":"#REF!"}]
[5861,3344,0,3344,{"$f":"VLOOKUP(A1650,'AFR19'!A:K,12,0)","v":{"$error":"#REF!"}},{"$error":"#REF!"}]
[5862,375238.8,{"$f":"VLOOKUP(A1651,'Crete Monee Totals 5-8'!A:B,2,0)","v":7},375231.8,{"$f":"VLOOKUP(A1651,'AFR19'!A:K,12,0)","v":{"$error":"#REF!"}},{"$error":"#REF!"}]
[5863,24251951.949999999,{"$f":"VLOOKUP(A1652,'Crete Monee Totals 5-8'!A:B,2,0)","v":14203},24237748.949999999,{"$f":"VLOOKUP(A1652,'AFR19'!A:K,12,0)","v":{"$error":"#REF!"}},{"$error":"#REF!"}]
[5864,-763506,0,-763506,{"$f":"VLOOKUP(A1653,'AFR19'!A:K,12,0)","v":{"$error":"#REF!"}},{"$error":"#REF!"}]
[5865,23488445.949999999,{"$f":"VLOOKUP(A1654,'Crete Monee Totals 5-8'!A:B,2,0)","v":14203},23474242.949999999,{"$f":"VLOOKUP(A1654,'AFR19'!A:K,12,0)","v":{"$error":"#REF!"}},{"$error":"#REF!"}]
[5866,59999,0,59999,{"$f":"VLOOKUP(A1655,'AFR19'!A:K,12,0)","v":{"$error":"#REF!"}},{"$error":"#REF!"}]
[5868,610,0,610,{"$f":"VLOOKUP(A1656,'AFR19'!A:K,12,0)","v":{"$error":"#REF!"}},{"$error":"#REF!"}]
[5869,170546,0,170546,{"$f":"VLOOKUP(A1657,'AFR19'!A:K,12,0)","v":{"$error":"#REF!"}},{"$error":"#REF!"}]
[5885,92905180.310000002,{"$f":"VLOOKUP(A1658,'Crete Monee Totals 5-8'!A:B,2,0)","v":236522},92668658.310000002,{"$f":"VLOOKUP(A1658,'AFR19'!A:K,12,0)","v":{"$error":"#REF!"}},{"$error":"#REF!"}]
[5924,54998681.559999995,{"$f":"VLOOKUP(A1659,'Crete Monee Totals 5-8'!A:B,2,0)","v":4573},54994108.559999995,{"$f":"VLOOKUP(A1659,'AFR19'!A:K,12,0)","v":{"$error":"#REF!"}},{"$error":"#REF!"}]
[5925,230168,0,230168,{"$f":"VLOOKUP(A1660,'AFR19'!A:K,12,0)","v":{"$error":"#REF!"}},{"$error":"#REF!"}]
[5926,55228849.559999995,{"$f":"VLOOKUP(A1661,'Crete Monee Totals 5-8'!A:B,2,0)","v":4573},55224276.559999995,{"$f":"VLOOKUP(A1661,'AFR19'!A:K,12,0)","v":{"$error":"#REF!"}},{"$error":"#REF!"}]
[5927,17107.8,{"$f":"VLOOKUP(A1662,'Crete Monee Totals 5-8'!A:B,2,0)","v":1683},15424.8,{"$f":"VLOOKUP(A1662,'AFR19'!A:K,12,0)","v":{"$error":"#REF!"}},{"$error":"#REF!"}]
[5928,2940,0,2940,{"$f":"VLOOKUP(A1663,'AFR19'!A:K,12,0)","v":{"$error":"#REF!"}},{"$error":"#REF!"}]
[5929,10000,0,10000,{"$f":"VLOOKUP(A1664,'AFR19'!A:K,12,0)","v":{"$error":"#REF!"}},{"$error":"#REF!"}]
[5930,22591,0,22591,{"$f":"VLOOKUP(A1665,'AFR19'!A:K,12,0)","v":{"$error":"#REF!"}},{"$error":"#REF!"}]
[5931,52638.8,{"$f":"VLOOKUP(A1666,'Crete Monee Totals 5-8'!A:B,2,0)","v":1683},50955.8,{"$f":"VLOOKUP(A1666,'AFR19'!A:K,12,0)","v":{"$error":"#REF!"}},{"$error":"#REF!"}]
[5932,2918421,{"$f":"VLOOKUP(A1667,'Crete Monee Totals 5-8'!A:B,2,0)","v":259},{"$f":"SUM(B1667-C1667)","v":2918162},{"$f":"VLOOKUP(A1667,'AFR19'!A:K,12,0)","v":{"$error":"#REF!"}},{"$f":"SUM(D1667-E1667)","v":{"$error":"#REF!"}}]
[5933,-173153,0,-173153,{"$f":"VLOOKUP(A1668,'AFR19'!A:K,12,0)","v":{"$error":"#REF!"}},{"$error":"#REF!"}]
[5934,2745268,{"$f":"VLOOKUP(A1669,'Crete Monee Totals 5-8'!A:B,2,0)","v":259},2745009,{"$f":"VLOOKUP(A1669,'AFR19'!A:K,12,0)","v":{"$error":"#REF!"}},{"$error":"#REF!"}]
[5936,16098,0,16098,{"$f":"VLOOKUP(A1670,'AFR19'!A:K,12,0)","v":{"$error":"#REF!"}},{"$error":"#REF!"}]
[5937,54407,0,54407,{"$f":"VLOOKUP(A1671,'AFR19'!A:K,12,0)","v":{"$error":"#REF!"}},{"$error":"#REF!"}]
[5938,230382,0,230382,{"$f":"VLOOKUP(A1672,'AFR19'!A:K,12,0)","v":{"$error":"#REF!"}},{"$error":"#REF!"}]
[5939,475364,0,475364,{"$f":"VLOOKUP(A1673,'AFR19'!A:K,12,0)","v":{"$error":"#REF!"}},{"$error":"#REF!"}]
[5945,475364,0,475364,{"$f":"VLOOKUP(A1674,'AFR19'!A:K,12,0)","v":{"$error":"#REF!"}},{"$error":"#REF!"}]
[5953,500364,0,500364,{"$f":"VLOOKUP(A1675,'AFR19'!A:K,12,0)","v":{"$error":"#REF!"}},{"$error":"#REF!"}]
[5962,58757502.359999999,{"$f":"VLOOKUP(A1676,'Crete Monee Totals 5-8'!A:B,2,0)","v":6515},58750987.359999999,{"$f":"VLOOKUP(A1676,'AFR19'!A:K,12,0)","v":{"$error":"#REF!"}},{"$error":"#REF!"}]
[5963,634963075.33999991,{"$f":"VLOOKUP(A1677,'Crete Monee Totals 5-8'!A:B,2,0)","v":1952601},633010474.33999991,{"$f":"VLOOKUP(A1677,'AFR19'!A:K,12,0)","v":{"$error":"#REF!"}},{"$error":"#REF!"}]
[5964,183466992.61000001,{"$f":"VLOOKUP(A1678,'Crete Monee Totals 5-8'!A:B,2,0)","v":27009},183439983.61000001,{"$f":"VLOOKUP(A1678,'AFR19'!A:K,12,0)","v":{"$error":"#REF!"}},{"$error":"#REF!"}]
[5965,92905180.310000002,{"$f":"VLOOKUP(A1679,'Crete Monee Totals 5-8'!A:B,2,0)","v":236522},92668658.310000002,{"$f":"VLOOKUP(A1679,'AFR19'!A:K,12,0)","v":{"$error":"#REF!"}},{"$error":"#REF!"}]
[5967,58257138.359999999,{"$f":"VLOOKUP(A1680,'Crete Monee Totals 5-8'!A:B,2,0)","v":6515},58250623.359999999,{"$f":"VLOOKUP(A1680,'AFR19'!A:K,12,0)","v":{"$error":"#REF!"}},{"$error":"#REF!"}]
[5970,137024027.72,{"$f":"VLOOKUP(A1681,'Crete Monee Totals 5-8'!A:B,2,0)","v":474562},136549465.72,{"$f":"VLOOKUP(A1681,'AFR19'!A:K,12,0)","v":{"$error":"#REF!"}},{"$error":"#REF!"}]
[5971,2520532,0,2520532,{"$f":"VLOOKUP(A1682,'AFR19'!A:K,12,0)","v":{"$error":"#REF!"}},{"$error":"#REF!"}]
[5974,55761667.499999993,{"$f":"VLOOKUP(A1683,'Crete Monee Totals 5-8'!A:B,2,0)","v":219161},55542506.499999993,{"$f":"VLOOKUP(A1683,'AFR19'!A:K,12,0)","v":{"$error":"#REF!"}},{"$error":"#REF!"}]
[6013,1795897.6899999981,{"$f":"VLOOKUP(A1684,'Crete Monee Totals 5-8'!A:B,2,0)","v":4351.46},1791546.2299999981,{"$f":"VLOOKUP(A1684,'AFR19'!A:K,12,0)","v":{"$error":"#REF!"}},{"$error":"#REF!"}]
[6015,396099891,0,396099891,{"$f":"VLOOKUP(A1685,'AFR19'!A:K,12,0)","v":{"$error":"#REF!"}},{"$error":"#REF!"}]
[6016,6074500,0,6074500,{"$f":"VLOOKUP(A1686,'AFR19'!A:K,12,0)","v":{"$error":"#REF!"}},{"$error":"#REF!"}]
[6017,394497187,0,394497187,{"$f":"VLOOKUP(A1687,'AFR19'!A:K,12,0)","v":{"$error":"#REF!"}},{"$error":"#REF!"}]
[6018,7677204,0,7677204,{"$f":"VLOOKUP(A1688,'AFR19'!A:K,12,0)","v":{"$error":"#REF!"}},{"$error":"#REF!"}]
[6020,59419409,0,59419409,{"$f":"VLOOKUP(A1689,'AFR19'!A:K,12,0)","v":{"$error":"#REF!"}},{"$error":"#REF!"}]
[6021,32891331,0,32891331,{"$f":"VLOOKUP(A1690,'AFR19'!A:K,12,0)","v":{"$error":"#REF!"}},{"$error":"#REF!"}]
[6022,586973,0,586973,{"$f":"VLOOKUP(A1691,'AFR19'!A:K,12,0)","v":{"$error":"#REF!"}},{"$error":"#REF!"}]
[6023,3408503,0,3408503,{"$f":"VLOOKUP(A1692,'AFR19'!A:K,12,0)","v":{"$error":"#REF!"}},{"$error":"#REF!"}]
[6024,569641,0,569641,{"$f":"VLOOKUP(A1693,'AFR19'!A:K,12,0)","v":{"$error":"#REF!"}},{"$error":"#REF!"}]
[6025,615768,0,615768,{"$f":"VLOOKUP(A1694,'AFR19'!A:K,12,0)","v":{"$error":"#REF!"}},{"$error":"#REF!"}]
[6026,42282890,0,42282890,{"$f":"VLOOKUP(A1695,'AFR19'!A:K,12,0)","v":{"$error":"#REF!"}},{"$error":"#REF!"}]
[6027,308635,0,308635,{"$f":"VLOOKUP(A1696,'AFR19'!A:K,12,0)","v":{"$error":"#REF!"}},{"$error":"#REF!"}]
[6028,98208,0,98208,{"$f":"VLOOKUP(A1697,'AFR19'!A:K,12,0)","v":{"$error":"#REF!"}},{"$error":"#REF!"}]
[6029,541440282,{"$f":"VLOOKUP(A1698,'Crete Monee Totals 5-8'!A:B,2,0)","v":757989},540682293,{"$f":"VLOOKUP(A1698,'AFR19'!A:K,12,0)","v":{"$error":"#REF!"}},{"$error":"#REF!"}]
[6030,6168796,0,6168796,{"$f":"VLOOKUP(A1699,'AFR19'!A:K,12,0)","v":{"$error":"#REF!"}},{"$error":"#REF!"}]
[6031,46274563,0,46274563,{"$f":"VLOOKUP(A1700,'AFR19'!A:K,12,0)","v":{"$error":"#REF!"}},{"$error":"#REF!"}]
[6032,134818430,{"$f":"VLOOKUP(A1701,'Crete Monee Totals 5-8'!A:B,2,0)","v":982773},133835657,{"$f":"VLOOKUP(A1701,'AFR19'!A:K,12,0)","v":{"$error":"#REF!"}},{"$error":"#REF!"}]
[6033,842754,0,842754,{"$f":"VLOOKUP(A1702,'AFR19'!A:K,12,0)","v":{"$error":"#REF!"}},{"$error":"#REF!"}]
[6034,7919945,0,7919945,{"$f":"VLOOKUP(A1703,'AFR19'!A:K,12,0)","v":{"$error":"#REF!"}},{"$error":"#REF!"}]
[6035,13233739,0,13233739,{"$f":"VLOOKUP(A1704,'AFR19'!A:K,12,0)","v":{"$error":"#REF!"}},{"$error":"#REF!"}]
[6036,26,0,26,{"$f":"VLOOKUP(A1705,'AFR19'!A:K,12,0)","v":{"$error":"#REF!"}},{"$error":"#REF!"}]
[6038,43408202,0,43408202,{"$f":"VLOOKUP(A1706,'AFR19'!A:K,12,0)","v":{"$error":"#REF!"}},{"$error":"#REF!"}]
[6039,4023302,0,4023302,{"$f":"VLOOKUP(A1707,'AFR19'!A:K,12,0)","v":{"$error":"#REF!"}},{"$error":"#REF!"}]
[6040,833494,0,833494,{"$f":"VLOOKUP(A1708,'AFR19'!A:K,12,0)","v":{"$error":"#REF!"}},{"$error":"#REF!"}]
[6041,4532239,0,4532239,{"$f":"VLOOKUP(A1709,'AFR19'!A:K,12,0)","v":{"$error":"#REF!"}},{"$error":"#REF!"}]
[6042,480959,0,480959,{"$f":"VLOOKUP(A1710,'AFR19'!A:K,12,0)","v":{"$error":"#REF!"}},{"$error":"#REF!"}]
[6043,3880069,0,3880069,{"$f":"VLOOKUP(A1711,'AFR19'!A:K,12,0)","v":{"$error":"#REF!"}},{"$error":"#REF!"}]
[6044,2838161,0,2838161,{"$f":"VLOOKUP(A1712,'AFR19'!A:K,12,0)","v":{"$error":"#REF!"}},{"$error":"#REF!"}]
[6045,36397,0,36397,{"$f":"VLOOKUP(A1713,'AFR19'!A:K,12,0)","v":{"$error":"#REF!"}},{"$error":"#REF!"}]
[6046,123279,0,123279,{"$f":"VLOOKUP(A1714,'AFR19'!A:K,12,0)","v":{"$error":"#REF!"}},{"$error":"#REF!"}]
[6047,3044871,0,3044871,{"$f":"VLOOKUP(A1715,'AFR19'!A:K,12,0)","v":{"$error":"#REF!"}},{"$error":"#REF!"}]
[6049,223,0,223,{"$f":"VLOOKUP(A1716,'AFR19'!A:K,12,0)","v":{"$error":"#REF!"}},{"$error":"#REF!"}]
[6052,27033910,{"$f":"VLOOKUP(A1717,'Crete Monee Totals 5-8'!A:B,2,0)","v":69911},26963999,{"$f":"VLOOKUP(A1717,'AFR19'!A:K,12,0)","v":{"$error":"#REF!"}},{"$error":"#REF!"}]
[6053,1183384,0,1183384,{"$f":"VLOOKUP(A1718,'AFR19'!A:K,12,0)","v":{"$error":"#REF!"}},{"$error":"#REF!"}]
[6054,9279578,0,9279578,{"$f":"VLOOKUP(A1719,'AFR19'!A:K,12,0)","v":{"$error":"#REF!"}},{"$error":"#REF!"}]
[6055,2807942,0,2807942,{"$f":"VLOOKUP(A1720,'AFR19'!A:K,12,0)","v":{"$error":"#REF!"}},{"$error":"#REF!"}]
[6056,57075,0,57075,{"$f":"VLOOKUP(A1721,'AFR19'!A:K,12,0)","v":{"$error":"#REF!"}},{"$error":"#REF!"}]
[6057,150825,0,150825,{"$f":"VLOOKUP(A1722,'AFR19'!A:K,12,0)","v":{"$error":"#REF!"}},{"$error":"#REF!"}]
[6059,2546242,0,2546242,{"$f":"VLOOKUP(A1723,'AFR19'!A:K,12,0)","v":{"$error":"#REF!"}},{"$error":"#REF!"}]
[6062,691,0,691,{"$f":"VLOOKUP(A1724,'AFR19'!A:K,12,0)","v":{"$error":"#REF!"}},{"$error":"#REF!"}]
[6063,321514964.94,0,321514964.94,{"$f":"VLOOKUP(A1725,'AFR19'!A:K,12,0)","v":{"$error":"#REF!"}},{"$error":"#REF!"}]
[6064,41244931,0,41244931,{"$f":"VLOOKUP(A1726,'AFR19'!A:K,12,0)","v":{"$error":"#REF!"}},{"$error":"#REF!"}]
[6065,16661191,0,16661191,{"$f":"VLOOKUP(A1727,'AFR19'!A:K,12,0)","v":{"$error":"#REF!"}},{"$error":"#REF!"}]
[6066,4530630,0,4530630,{"$f":"VLOOKUP(A1728,'AFR19'!A:K,12,0)","v":{"$error":"#REF!"}},{"$error":"#REF!"}]
[6067,25468142,0,25468142,{"$f":"VLOOKUP(A1729,'AFR19'!A:K,12,0)","v":{"$error":"#REF!"}},{"$error":"#REF!"}]
[6068,5349622,0,5349622,{"$f":"VLOOKUP(A1730,'AFR19'!A:K,12,0)","v":{"$error":"#REF!"}},{"$error":"#REF!"}]
[6069,14605891,0,{"$f":"SUM(B1731-C1731)","v":14605891},{"$f":"VLOOKUP(A1731,'AFR19'!A:K,12,0)","v":{"$error":"#REF!"}},{"$f":"SUM(D1731-E1731)","v":{"$error":"#REF!"}}]
[6070,35295475,0,35295475,{"$f":"VLOOKUP(A1732,'AFR19'!A:K,12,0)","v":{"$error":"#REF!"}},{"$error":"#REF!"}]
[6071,2056950,0,2056950,{"$f":"VLOOKUP(A1733,'AFR19'!A:K,12,0)","v":{"$error":"#REF!"}},{"$error":"#REF!"}]
[6072,6940274,0,6940274,{"$f":"VLOOKUP(A1734,'AFR19'!A:K,12,0)","v":{"$error":"#REF!"}},{"$error":"#REF!"}]
[6073,1005135,0,1005135,{"$f":"VLOOKUP(A1735,'AFR19'!A:K,12,0)","v":{"$error":"#REF!"}},{"$error":"#REF!"}]
[6075,795076,0,795076,{"$f":"VLOOKUP(A1736,'AFR19'!A:K,12,0)","v":{"$error":"#REF!"}},{"$error":"#REF!"}]
[6076,51743,0,51743,{"$f":"VLOOKUP(A1737,'AFR19'!A:K,12,0)","v":{"$error":"#REF!"}},{"$error":"#REF!"}]
[6077,8973820,0,8973820,{"$f":"VLOOKUP(A1738,'AFR19'!A:K,12,0)","v":{"$error":"#REF!"}},{"$error":"#REF!"}]
[6078,2603,0,2603,{"$f":"VLOOKUP(A1739,'AFR19'!A:K,12,0)","v":{"$error":"#REF!"}},{"$error":"#REF!"}]
[6081,719768648,{"$f":"VLOOKUP(A1740,'Crete Monee Totals 5-8'!A:B,2,0)","v":1143507},718625141,{"$f":"VLOOKUP(A1740,'AFR19'!A:K,12,0)","v":{"$error":"#REF!"}},{"$error":"#REF!"}]
[6082,84346179,{"$f":"VLOOKUP(A1741,'Crete Monee Totals 5-8'!A:B,2,0)","v":291145},84055034,{"$f":"VLOOKUP(A1741,'AFR19'!A:K,12,0)","v":{"$error":"#REF!"}},{"$error":"#REF!"}]
[6083,4361003,0,4361003,{"$f":"VLOOKUP(A1742,'AFR19'!A:K,12,0)","v":{"$error":"#REF!"}},{"$error":"#REF!"}]
[6084,25650569,{"$f":"VLOOKUP(A1743,'Crete Monee Totals 5-8'!A:B,2,0)","v":134154},25516415,{"$f":"VLOOKUP(A1743,'AFR19'!A:K,12,0)","v":{"$error":"#REF!"}},{"$error":"#REF!"}]
[6085,2602990,{"$f":"VLOOKUP(A1744,'Crete Monee Totals 5-8'!A:B,2,0)","v":47},2602943,{"$f":"VLOOKUP(A1744,'AFR19'!A:K,12,0)","v":{"$error":"#REF!"}},{"$error":"#REF!"}]
[6086,127441372,{"$f":"VLOOKUP(A1745,'Crete Monee Totals 5-8'!A:B,2,0)","v":1090022},126351350,{"$f":"VLOOKUP(A1745,'AFR19'!A:K,12,0)","v":{"$error":"#REF!"}},{"$error":"#REF!"}]
[6087,797239,0,797239,{"$f":"VLOOKUP(A1746,'AFR19'!A:K,12,0)","v":{"$error":"#REF!"}},{"$error":"#REF!"}]
[6088,5300146,0,5300146,{"$f":"VLOOKUP(A1747,'AFR19'!A:K,12,0)","v":{"$error":"#REF!"}},{"$error":"#REF!"}]
[6089,14911041,0,14911041,{"$f":"VLOOKUP(A1748,'AFR19'!A:K,12,0)","v":{"$error":"#REF!"}},{"$error":"#REF!"}]
[6090,17909637,0,17909637,{"$f":"VLOOKUP(A1749,'AFR19'!A:K,12,0)","v":{"$error":"#REF!"}},{"$error":"#REF!"}]
[6091,5886022,0,5886022,{"$f":"VLOOKUP(A1750,'AFR19'!A:K,12,0)","v":{"$error":"#REF!"}},{"$error":"#REF!"}]
[6092,1250,0,1250,{"$f":"VLOOKUP(A1751,'AFR19'!A:K,12,0)","v":{"$error":"#REF!"}},{"$error":"#REF!"}]
[6093,937785,0,937785,{"$f":"VLOOKUP(A1752,'AFR19'!A:K,12,0)","v":{"$error":"#REF!"}},{"$error":"#REF!"}]
[6094,196148,0,196148,{"$f":"VLOOKUP(A1753,'AFR19'!A:K,12,0)","v":{"$error":"#REF!"}},{"$error":"#REF!"}]
[6095,14975533,0,14975533,{"$f":"VLOOKUP(A1754,'AFR19'!A:K,12,0)","v":{"$error":"#REF!"}},{"$error":"#REF!"}]
[6097,19510,0,19510,{"$f":"VLOOKUP(A1755,'AFR19'!A:K,12,0)","v":{"$error":"#REF!"}},{"$error":"#REF!"}]
[6098,120250,0,120250,{"$f":"VLOOKUP(A1756,'AFR19'!A:K,12,0)","v":{"$error":"#REF!"}},{"$error":"#REF!"}]
[6099,13787050,0,13787050,{"$f":"VLOOKUP(A1757,'AFR19'!A:K,12,0)","v":{"$error":"#REF!"}},{"$error":"#REF!"}]
[6100,2183,0,2183,{"$f":"VLOOKUP(A1758,'AFR19'!A:K,12,0)","v":{"$error":"#REF!"}},{"$error":"#REF!"}]
[6101,64839,0,64839,{"$f":"VLOOKUP(A1759,'AFR19'!A:K,12,0)","v":{"$error":"#REF!"}},{"$error":"#REF!"}]
[6102,3114575,0,3114575,{"$f":"VLOOKUP(A1760,'AFR19'!A:K,12,0)","v":{"$error":"#REF!"}},{"$error":"#REF!"}]
[6104,4826350,0,4826350,{"$f":"VLOOKUP(A1761,'AFR19'!A:K,12,0)","v":{"$error":"#REF!"}},{"$error":"#REF!"}]
[6108,630064834,{"$f":"VLOOKUP(A1762,'Crete Monee Totals 5-8'!A:B,2,0)","v":2614715},627450119,{"$f":"VLOOKUP(A1762,'AFR19'!A:K,12,0)","v":{"$error":"#REF!"}},{"$error":"#REF!"}]
[6109,3194984,{"$f":"VLOOKUP(A1763,'Crete Monee Totals 5-8'!A:B,2,0)","v":4201},3190783,{"$f":"VLOOKUP(A1763,'AFR19'!A:K,12,0)","v":{"$error":"#REF!"}},{"$error":"#REF!"}]
[6111,2368819,{"$f":"VLOOKUP(A1764,'Crete Monee Totals 5-8'!A:B,2,0)","v":8},2368811,{"$f":"VLOOKUP(A1764,'AFR19'!A:K,12,0)","v":{"$error":"#REF!"}},{"$error":"#REF!"}]
[6112,6132972,0,6132972,{"$f":"VLOOKUP(A1765,'AFR19'!A:K,12,0)","v":{"$error":"#REF!"}},{"$error":"#REF!"}]
[6113,17008,0,17008,{"$f":"VLOOKUP(A1766,'AFR19'!A:K,12,0)","v":{"$error":"#REF!"}},{"$error":"#REF!"}]
[6115,692857,0,692857,{"$f":"VLOOKUP(A1767,'AFR19'!A:K,12,0)","v":{"$error":"#REF!"}},{"$error":"#REF!"}]
[6116,14716,0,14716,{"$f":"VLOOKUP(A1768,'AFR19'!A:K,12,0)","v":{"$error":"#REF!"}},{"$error":"#REF!"}]
[6119,34076,0,34076,{"$f":"VLOOKUP(A1769,'AFR19'!A:K,12,0)","v":{"$error":"#REF!"}},{"$error":"#REF!"}]
[6120,57898759,0,57898759,{"$f":"VLOOKUP(A1770,'AFR19'!A:K,12,0)","v":{"$error":"#REF!"}},{"$error":"#REF!"}]
[6121,48216156,0,48216156,{"$f":"VLOOKUP(A1771,'AFR19'!A:K,12,0)","v":{"$error":"#REF!"}},{"$error":"#REF!"}]
[6122,1500000,0,1500000,{"$f":"VLOOKUP(A1772,'AFR19'!A:K,12,0)","v":{"$error":"#REF!"}},{"$error":"#REF!"}]
[6130,99240823,0,99240823,{"$f":"VLOOKUP(A1773,'AFR19'!A:K,12,0)","v":{"$error":"#REF!"}},{"$error":"#REF!"}]
[6153,75903320,0,75903320,{"$f":"VLOOKUP(A1774,'AFR19'!A:K,12,0)","v":{"$error":"#REF!"}},{"$error":"#REF!"}]
[6154,146370821.78,0,146370821.78,{"$f":"VLOOKUP(A1775,'AFR19'!A:K,12,0)","v":{"$error":"#REF!"}},{"$error":"#REF!"}]
[6155,321514964.77999997,0,321514964.77999997,{"$f":"VLOOKUP(A1776,'AFR19'!A:K,12,0)","v":{"$error":"#REF!"}},{"$error":"#REF!"}]
[6156,197077214.94,0,197077214.94,{"$f":"VLOOKUP(A1777,'AFR19'!A:K,12,0)","v":{"$error":"#REF!"}},{"$error":"#REF!"}]
[6157,56347587,0,56347587,{"$f":"VLOOKUP(A1778,'AFR19'!A:K,12,0)","v":{"$error":"#REF!"}},{"$error":"#REF!"}]
[6158,65198172,0,65198172,{"$f":"VLOOKUP(A1779,'AFR19'!A:K,12,0)","v":{"$error":"#REF!"}},{"$error":"#REF!"}]
[6159,344492569.02999991,0,344492569.02999991,{"$f":"VLOOKUP(A1780,'AFR19'!A:K,12,0)","v":{"$error":"#REF!"}},{"$error":"#REF!"}]
[6160,5513371,0,5513371,{"$f":"VLOOKUP(A1781,'AFR19'!A:K,12,0)","v":{"$error":"#REF!"}},{"$error":"#REF!"}]
[6162,350005940.02999991,0,350005940.02999991,{"$f":"VLOOKUP(A1782,'AFR19'!A:K,12,0)","v":{"$error":"#REF!"}},{"$error":"#REF!"}]
[6163,7417186,0,7417186,{"$f":"VLOOKUP(A1783,'AFR19'!A:K,12,0)","v":{"$error":"#REF!"}},{"$error":"#REF!"}]
[6164,357423126.02999991,0,357423126.02999991,{"$f":"VLOOKUP(A1784,'AFR19'!A:K,12,0)","v":{"$error":"#REF!"}},{"$error":"#REF!"}]
[6165,31029,0,31029,{"$f":"VLOOKUP(A1785,'AFR19'!A:K,12,0)","v":{"$error":"#REF!"}},{"$error":"#REF!"}]
[6166,366851717.16999996,0,366851717.16999996,{"$f":"VLOOKUP(A1786,'AFR19'!A:K,12,0)","v":{"$error":"#REF!"}},{"$error":"#REF!"}]
[6167,7417186,0,7417186,{"$f":"VLOOKUP(A1787,'AFR19'!A:K,12,0)","v":{"$error":"#REF!"}},{"$error":"#REF!"}]
[6168,374268903.16999996,0,374268903.16999996,{"$f":"VLOOKUP(A1788,'AFR19'!A:K,12,0)","v":{"$error":"#REF!"}},{"$error":"#REF!"}]
[6169,-16845777.140000001,0,-16845777.140000001,{"$f":"VLOOKUP(A1789,'AFR19'!A:K,12,0)","v":{"$error":"#REF!"}},{"$error":"#REF!"}]
[6171,7793,0,7793,{"$f":"VLOOKUP(A1790,'AFR19'!A:K,12,0)","v":{"$error":"#REF!"}},{"$error":"#REF!"}]
[6172,1000197,0,1000197,{"$f":"VLOOKUP(A1791,'AFR19'!A:K,12,0)","v":{"$error":"#REF!"}},{"$error":"#REF!"}]
[6176,17908,0,17908,{"$f":"VLOOKUP(A1792,'AFR19'!A:K,12,0)","v":{"$error":"#REF!"}},{"$error":"#REF!"}]
[6177,1892798,0,1892798,{"$f":"VLOOKUP(A1793,'AFR19'!A:K,12,0)","v":{"$error":"#REF!"}},{"$error":"#REF!"}]
[6178,2866909,0,2866909,{"$f":"VLOOKUP(A1794,'AFR19'!A:K,12,0)","v":{"$error":"#REF!"}},{"$error":"#REF!"}]
[6179,11537228,0,{"$f":"SUM(B1795-C1795)","v":11537228},{"$f":"VLOOKUP(A1795,'AFR19'!A:K,12,0)","v":{"$error":"#REF!"}},{"$f":"SUM(D1795-E1795)","v":{"$error":"#REF!"}}]
[6180,3153335,0,3153335,{"$f":"VLOOKUP(A1796,'AFR19'!A:K,12,0)","v":{"$error":"#REF!"}},{"$error":"#REF!"}]
[6181,3470287,0,3470287,{"$f":"VLOOKUP(A1797,'AFR19'!A:K,12,0)","v":{"$error":"#REF!"}},{"$error":"#REF!"}]
[6182,1140727,0,1140727,{"$f":"VLOOKUP(A1798,'AFR19'!A:K,12,0)","v":{"$error":"#REF!"}},{"$error":"#REF!"}]
[6183,398105,0,398105,{"$f":"VLOOKUP(A1799,'AFR19'!A:K,12,0)","v":{"$error":"#REF!"}},{"$error":"#REF!"}]
[6184,670231,0,670231,{"$f":"VLOOKUP(A1800,'AFR19'!A:K,12,0)","v":{"$error":"#REF!"}},{"$error":"#REF!"}]
[6185,2231032,0,2231032,{"$f":"VLOOKUP(A1801,'AFR19'!A:K,12,0)","v":{"$error":"#REF!"}},{"$error":"#REF!"}]
[6186,3207546,0,3207546,{"$f":"VLOOKUP(A1802,'AFR19'!A:K,12,0)","v":{"$error":"#REF!"}},{"$error":"#REF!"}]
[6187,1048241,0,1048241,{"$f":"VLOOKUP(A1803,'AFR19'!A:K,12,0)","v":{"$error":"#REF!"}},{"$error":"#REF!"}]
[6188,4850284,0,4850284,{"$f":"VLOOKUP(A1804,'AFR19'!A:K,12,0)","v":{"$error":"#REF!"}},{"$error":"#REF!"}]
[6190,500000,0,500000,{"$f":"VLOOKUP(A1805,'AFR19'!A:K,12,0)","v":{"$error":"#REF!"}},{"$error":"#REF!"}]
[6191,782766,{"$f":"VLOOKUP(A1806,'Crete Monee Totals 5-8'!A:B,2,0)","v":95576},687190,{"$f":"VLOOKUP(A1806,'AFR19'!A:K,12,0)","v":{"$error":"#REF!"}},{"$error":"#REF!"}]
[6192,14127,0,14127,{"$f":"VLOOKUP(A1807,'AFR19'!A:K,12,0)","v":{"$error":"#REF!"}},{"$error":"#REF!"}]
[6198,46412640,0,46412640,{"$f":"VLOOKUP(A1808,'AFR19'!A:K,12,0)","v":{"$error":"#REF!"}},{"$error":"#REF!"}]
[6199,2602928,0,2602928,{"$f":"VLOOKUP(A1809,'AFR19'!A:K,12,0)","v":{"$error":"#REF!"}},{"$error":"#REF!"}]
[6200,5469837,0,5469837,{"$f":"VLOOKUP(A1810,'AFR19'!A:K,12,0)","v":{"$error":"#REF!"}},{"$error":"#REF!"}]
[6201,-3577039,0,-3577039,{"$f":"VLOOKUP(A1811,'AFR19'!A:K,12,0)","v":{"$error":"#REF!"}},{"$error":"#REF!"}]
[6202,-20422816.140000001,0,-20422816.140000001,{"$f":"VLOOKUP(A1812,'AFR19'!A:K,12,0)","v":{"$error":"#REF!"}},{"$error":"#REF!"}]
[6203,242093776,0,242093776,{"$f":"VLOOKUP(A1813,'AFR19'!A:K,12,0)","v":{"$error":"#REF!"}},{"$error":"#REF!"}]
[6204,603182,0,603182,{"$f":"VLOOKUP(A1814,'AFR19'!A:K,12,0)","v":{"$error":"#REF!"}},{"$error":"#REF!"}]
[6205,222274141.86000001,0,222274141.86000001,{"$f":"VLOOKUP(A1815,'AFR19'!A:K,12,0)","v":{"$error":"#REF!"}},{"$error":"#REF!"}]
[6206,1338270055.29,{"$f":"VLOOKUP(A1816,'Crete Monee Totals 5-8'!A:B,2,0)","v":-3483743},1341753798.29,{"$f":"VLOOKUP(A1816,'AFR19'!A:K,12,0)","v":{"$error":"#REF!"}},{"$error":"#REF!"}]
[6207,40533654.850000001,{"$f":"VLOOKUP(A1817,'Crete Monee Totals 5-8'!A:B,2,0)","v":4942},40528712.850000001,{"$f":"VLOOKUP(A1817,'AFR19'!A:K,12,0)","v":{"$error":"#REF!"}},{"$error":"#REF!"}]
[6208,216894687.79999998,{"$f":"VLOOKUP(A1818,'Crete Monee Totals 5-8'!A:B,2,0)","v":124314},216770373.79999998,{"$f":"VLOOKUP(A1818,'AFR19'!A:K,12,0)","v":{"$error":"#REF!"}},{"$error":"#REF!"}]
[6209,126339300.53999999,{"$f":"VLOOKUP(A1819,'Crete Monee Totals 5-8'!A:B,2,0)","v":1739001},124600299.53999999,{"$f":"VLOOKUP(A1819,'AFR19'!A:K,12,0)","v":{"$error":"#REF!"}},{"$error":"#REF!"}]
[6210,25599609.439999998,{"$f":"VLOOKUP(A1820,'Crete Monee Totals 5-8'!A:B,2,0)","v":147666},25451943.439999998,{"$f":"VLOOKUP(A1820,'AFR19'!A:K,12,0)","v":{"$error":"#REF!"}},{"$error":"#REF!"}]
[6211,226959598.53999999,{"$f":"VLOOKUP(A1821,'Crete Monee Totals 5-8'!A:B,2,0)","v":-392962},227352560.53999999,{"$f":"VLOOKUP(A1821,'AFR19'!A:K,12,0)","v":{"$error":"#REF!"}},{"$error":"#REF!"}]
[6212,-1178094.6900000013,{"$f":"VLOOKUP(A1822,'Crete Monee Totals 5-8'!A:B,2,0)","v":236522},-1414616.6900000013,{"$f":"VLOOKUP(A1822,'AFR19'!A:K,12,0)","v":{"$error":"#REF!"}},{"$error":"#REF!"}]
[6213,-19819634.140000001,0,-19819634.140000001,{"$f":"VLOOKUP(A1823,'AFR19'!A:K,12,0)","v":{"$error":"#REF!"}},{"$error":"#REF!"}]
[6214,2830083.3100000005,{"$f":"VLOOKUP(A1824,'Crete Monee Totals 5-8'!A:B,2,0)","v":6515},2823568.3100000005,{"$f":"VLOOKUP(A1824,'AFR19'!A:K,12,0)","v":{"$error":"#REF!"}},{"$error":"#REF!"}]
[6215,172.66643963388918,{"$f":"VLOOKUP(A1825,'Crete Monee Totals 5-8'!A:B,2,0)","v":-0.31602110240537601},172.98246073629457,{"$f":"VLOOKUP(A1825,'AFR19'!A:K,12,0)","v":{"$error":"#REF!"}},{"$error":"#REF!"}]
[6216,-8587304094.0966587,{"$f":"VLOOKUP(A1826,'Crete Monee Totals 5-8'!A:B,2,0)","v":1.21176901848426E-3},-8587304094.0978708,{"$f":"VLOOKUP(A1826,'AFR19'!A:K,12,0)","v":{"$error":"#REF!"}},{"$error":"#REF!"}]
[6217,-128809632907.78676,{"$f":"VLOOKUP(A1827,'Crete Monee Totals 5-8'!A:B,2,0)","v":2.7819899528435301E-2},-128809632907.81458,{"$f":"VLOOKUP(A1827,'AFR19'!A:K,12,0)","v":{"$error":"#REF!"}},{"$error":"#REF!"}]
[6218,-6440478645.8415146,{"$f":"VLOOKUP(A1828,'Crete Monee Totals 5-8'!A:B,2,0)","v":0.19691189335828699},-6440478646.0384264,{"$f":"VLOOKUP(A1828,'AFR19'!A:K,12,0)","v":{"$error":"#REF!"}},{"$error":"#REF!"}]
[6219,-6440479191.6625013,{"$f":"VLOOKUP(A1829,'Crete Monee Totals 5-8'!A:B,2,0)","v":0.109174144389989},-6440479191.7716751,{"$f":"VLOOKUP(A1829,'AFR19'!A:K,12,0)","v":{"$error":"#REF!"}},{"$error":"#REF!"}]
[6220,-543147063037.55463,{"$f":"VLOOKUP(A1830,'Crete Monee Totals 5-8'!A:B,2,0)","v":-0.1621355774297},-543147063037.39252,{"$f":"VLOOKUP(A1830,'AFR19'!A:K,12,0)","v":{"$error":"#REF!"}},{"$error":"#REF!"}]
[6221,-85873051392.301636,{"$f":"VLOOKUP(A1831,'Crete Monee Totals 5-8'!A:B,2,0)","v":0.192920752426987},-85873051392.494553,{"$f":"VLOOKUP(A1831,'AFR19'!A:K,12,0)","v":{"$error":"#REF!"}},{"$error":"#REF!"}]
[6222,-272646937869.50998,{"$f":"VLOOKUP(A1832,'Crete Monee Totals 5-8'!A:B,2,0)","v":-2146826281},-270500111588.50998,{"$f":"VLOOKUP(A1832,'AFR19'!A:K,12,0)","v":{"$error":"#REF!"}},{"$error":"#REF!"}]
[6223,-311289818702.1109,{"$f":"VLOOKUP(A1833,'Crete Monee Totals 5-8'!A:B,2,0)","v":0.33030825390387297},-311289818702.44122,{"$f":"VLOOKUP(A1833,'AFR19'!A:K,12,0)","v":{"$error":"#REF!"}},{"$error":"#REF!"}]
[6224,63657582,0,63657582,{"$f":"VLOOKUP(A1834,'AFR19'!A:K,12,0)","v":{"$error":"#REF!"}},{"$error":"#REF!"}]
[6225,4073256,0,4073256,{"$f":"VLOOKUP(A1835,'AFR19'!A:K,12,0)","v":{"$error":"#REF!"}},{"$error":"#REF!"}]
[6226,37253089,0,37253089,{"$f":"VLOOKUP(A1836,'AFR19'!A:K,12,0)","v":{"$error":"#REF!"}},{"$error":"#REF!"}]
[6227,16133922,0,16133922,{"$f":"VLOOKUP(A1837,'AFR19'!A:K,12,0)","v":{"$error":"#REF!"}},{"$error":"#REF!"}]
[6228,350706755,0,350706755,{"$f":"VLOOKUP(A1838,'AFR19'!A:K,12,0)","v":{"$error":"#REF!"}},{"$error":"#REF!"}]
[6229,2228850,0,2228850,{"$f":"VLOOKUP(A1839,'AFR19'!A:K,12,0)","v":{"$error":"#REF!"}},{"$error":"#REF!"}]
[6231,377894,0,377894,{"$f":"VLOOKUP(A1840,'AFR19'!A:K,12,0)","v":{"$error":"#REF!"}},{"$error":"#REF!"}]
[6236,182272,0,182272,{"$f":"VLOOKUP(A1841,'AFR19'!A:K,12,0)","v":{"$error":"#REF!"}},{"$error":"#REF!"}]
[6237,336663561.00999999,0,336663561.00999999,{"$f":"VLOOKUP(A1842,'AFR19'!A:K,12,0)","v":{"$error":"#REF!"}},{"$error":"#REF!"}]
[6239,415238,0,415238,{"$f":"VLOOKUP(A1843,'AFR19'!A:K,12,0)","v":{"$error":"#REF!"}},{"$error":"#REF!"}]
[6240,337078799.00999999,0,337078799.00999999,{"$f":"VLOOKUP(A1844,'AFR19'!A:K,12,0)","v":{"$error":"#REF!"}},{"$error":"#REF!"}]
[6241,117082.29,0,117082.29,{"$f":"VLOOKUP(A1845,'AFR19'!A:K,12,0)","v":{"$error":"#REF!"}},{"$error":"#REF!"}]
[6242,19439,0,19439,{"$f":"VLOOKUP(A1846,'AFR19'!A:K,12,0)","v":{"$error":"#REF!"}},{"$error":"#REF!"}]
[6243,1617577,0,1617577,{"$f":"VLOOKUP(A1847,'AFR19'!A:K,12,0)","v":{"$error":"#REF!"}},{"$error":"#REF!"}]
[6244,35743,0,35743,{"$f":"VLOOKUP(A1848,'AFR19'!A:K,12,0)","v":{"$error":"#REF!"}},{"$error":"#REF!"}]
[6245,1789841.29,0,1789841.29,{"$f":"VLOOKUP(A1849,'AFR19'!A:K,12,0)","v":{"$error":"#REF!"}},{"$error":"#REF!"}]
[6246,444886,0,444886,{"$f":"VLOOKUP(A1850,'AFR19'!A:K,12,0)","v":{"$error":"#REF!"}},{"$error":"#REF!"}]
[6249,50790,0,50790,{"$f":"VLOOKUP(A1851,'AFR19'!A:K,12,0)","v":{"$error":"#REF!"}},{"$error":"#REF!"}]
[6250,174691,0,174691,{"$f":"VLOOKUP(A1852,'AFR19'!A:K,12,0)","v":{"$error":"#REF!"}},{"$error":"#REF!"}]
[6251,42183,0,42183,{"$f":"VLOOKUP(A1853,'AFR19'!A:K,12,0)","v":{"$error":"#REF!"}},{"$error":"#REF!"}]
[6255,2106532,0,2106532,{"$f":"VLOOKUP(A1854,'AFR19'!A:K,12,0)","v":{"$error":"#REF!"}},{"$error":"#REF!"}]
[6256,-124706,0,-124706,{"$f":"VLOOKUP(A1855,'AFR19'!A:K,12,0)","v":{"$error":"#REF!"}},{"$error":"#REF!"}]
[6257,1981826,0,1981826,{"$f":"VLOOKUP(A1856,'AFR19'!A:K,12,0)","v":{"$error":"#REF!"}},{"$error":"#REF!"}]
[6258,2802,0,2802,{"$f":"VLOOKUP(A1857,'AFR19'!A:K,12,0)","v":{"$error":"#REF!"}},{"$error":"#REF!"}]
[6259,1407073,0,1407073,{"$f":"VLOOKUP(A1858,'AFR19'!A:K,12,0)","v":{"$error":"#REF!"}},{"$error":"#REF!"}]
[6260,2740217.14,0,{"$f":"SUM(B1859-C1859)","v":2740217.14},{"$f":"VLOOKUP(A1859,'AFR19'!A:K,12,0)","v":{"$error":"#REF!"}},{"$f":"SUM(D1859-E1859)","v":{"$error":"#REF!"}}]
[6261,520000,0,520000,{"$f":"VLOOKUP(A1860,'AFR19'!A:K,12,0)","v":{"$error":"#REF!"}},{"$error":"#REF!"}]
[6262,7087,0,7087,{"$f":"VLOOKUP(A1861,'AFR19'!A:K,12,0)","v":{"$error":"#REF!"}},{"$error":"#REF!"}]
[6264,7767287,{"$f":"VLOOKUP(A1862,'Crete Monee Totals 5-8'!A:B,2,0)","v":22964},7744323,{"$f":"VLOOKUP(A1862,'AFR19'!A:K,12,0)","v":{"$error":"#REF!"}},{"$error":"#REF!"}]
[6268,1677598,0,1677598,{"$f":"VLOOKUP(A1863,'AFR19'!A:K,12,0)","v":{"$error":"#REF!"}},{"$error":"#REF!"}]
[6269,138774696,0,138774696,{"$f":"VLOOKUP(A1864,'AFR19'!A:K,12,0)","v":{"$error":"#REF!"}},{"$error":"#REF!"}]
[6270,8329878,0,8329878,{"$f":"VLOOKUP(A1865,'AFR19'!A:K,12,0)","v":{"$error":"#REF!"}},{"$error":"#REF!"}]
[6271,2645511,0,2645511,{"$f":"VLOOKUP(A1866,'AFR19'!A:K,12,0)","v":{"$error":"#REF!"}},{"$error":"#REF!"}]
[6272,180208,0,180208,{"$f":"VLOOKUP(A1867,'AFR19'!A:K,12,0)","v":{"$error":"#REF!"}},{"$error":"#REF!"}]
[6273,184603,0,184603,{"$f":"VLOOKUP(A1868,'AFR19'!A:K,12,0)","v":{"$error":"#REF!"}},{"$error":"#REF!"}]
[6274,9933371,0,9933371,{"$f":"VLOOKUP(A1869,'AFR19'!A:K,12,0)","v":{"$error":"#REF!"}},{"$error":"#REF!"}]
[6275,109937,0,109937,{"$f":"VLOOKUP(A1870,'AFR19'!A:K,12,0)","v":{"$error":"#REF!"}},{"$error":"#REF!"}]
[6276,128260,0,128260,{"$f":"VLOOKUP(A1871,'AFR19'!A:K,12,0)","v":{"$error":"#REF!"}},{"$error":"#REF!"}]
[6277,124975,0,124975,{"$f":"VLOOKUP(A1872,'AFR19'!A:K,12,0)","v":{"$error":"#REF!"}},{"$error":"#REF!"}]
[6278,7478192,{"$f":"VLOOKUP(A1873,'Crete Monee Totals 5-8'!A:B,2,0)","v":21475},7456717,{"$f":"VLOOKUP(A1873,'AFR19'!A:K,12,0)","v":{"$error":"#REF!"}},{"$error":"#REF!"}]
[6279,2231902,0,2231902,{"$f":"VLOOKUP(A1874,'AFR19'!A:K,12,0)","v":{"$error":"#REF!"}},{"$error":"#REF!"}]
[6280,2676962,0,2676962,{"$f":"VLOOKUP(A1875,'AFR19'!A:K,12,0)","v":{"$error":"#REF!"}},{"$error":"#REF!"}]
[6281,173305,0,173305,{"$f":"VLOOKUP(A1876,'AFR19'!A:K,12,0)","v":{"$error":"#REF!"}},{"$error":"#REF!"}]
[6284,104244,0,104244,{"$f":"VLOOKUP(A1877,'AFR19'!A:K,12,0)","v":{"$error":"#REF!"}},{"$error":"#REF!"}]
[6288,234735,0,234735,{"$f":"VLOOKUP(A1878,'AFR19'!A:K,12,0)","v":{"$error":"#REF!"}},{"$error":"#REF!"}]
[6289,1833003.7300000002,0,1833003.7300000002,{"$f":"VLOOKUP(A1879,'AFR19'!A:K,12,0)","v":{"$error":"#REF!"}},{"$error":"#REF!"}]
[6290,3642102.73,0,3642102.73,{"$f":"VLOOKUP(A1880,'AFR19'!A:K,12,0)","v":{"$error":"#REF!"}},{"$error":"#REF!"}]
[6291,344492569.02999991,0,344492569.02999991,{"$f":"VLOOKUP(A1881,'AFR19'!A:K,12,0)","v":{"$error":"#REF!"}},{"$error":"#REF!"}]
[6292,5512259,0,5512259,{"$f":"VLOOKUP(A1882,'AFR19'!A:K,12,0)","v":{"$error":"#REF!"}},{"$error":"#REF!"}]
[6296,5512259,0,5512259,{"$f":"VLOOKUP(A1883,'AFR19'!A:K,12,0)","v":{"$error":"#REF!"}},{"$error":"#REF!"}]
[6297,4923,0,4923,{"$f":"VLOOKUP(A1884,'AFR19'!A:K,12,0)","v":{"$error":"#REF!"}},{"$error":"#REF!"}]
[6298,1836317,0,1836317,{"$f":"VLOOKUP(A1885,'AFR19'!A:K,12,0)","v":{"$error":"#REF!"}},{"$error":"#REF!"}]
[6300,89,0,89,{"$f":"VLOOKUP(A1886,'AFR19'!A:K,12,0)","v":{"$error":"#REF!"}},{"$error":"#REF!"}]
[6301,46798,0,46798,{"$f":"VLOOKUP(A1887,'AFR19'!A:K,12,0)","v":{"$error":"#REF!"}},{"$error":"#REF!"}]
[6304,87582,0,87582,{"$f":"VLOOKUP(A1888,'AFR19'!A:K,12,0)","v":{"$error":"#REF!"}},{"$error":"#REF!"}]
[6321,1681,0,1681,{"$f":"VLOOKUP(A1889,'AFR19'!A:K,12,0)","v":{"$error":"#REF!"}},{"$error":"#REF!"}]
[6327,151432,0,151432,{"$f":"VLOOKUP(A1890,'AFR19'!A:K,12,0)","v":{"$error":"#REF!"}},{"$error":"#REF!"}]
[6334,1112,0,1112,{"$f":"VLOOKUP(A1891,'AFR19'!A:K,12,0)","v":{"$error":"#REF!"}},{"$error":"#REF!"}]
[6335,1112,0,1112,{"$f":"VLOOKUP(A1892,'AFR19'!A:K,12,0)","v":{"$error":"#REF!"}},{"$error":"#REF!"}]
[6336,5513371,0,5513371,{"$f":"VLOOKUP(A1893,'AFR19'!A:K,12,0)","v":{"$error":"#REF!"}},{"$error":"#REF!"}]
[6340,188604,0,188604,{"$f":"VLOOKUP(A1894,'AFR19'!A:K,12,0)","v":{"$error":"#REF!"}},{"$error":"#REF!"}]
[6353,1414796,0,1414796,{"$f":"VLOOKUP(A1895,'AFR19'!A:K,12,0)","v":{"$error":"#REF!"}},{"$error":"#REF!"}]
[6605,14557,0,14557,{"$f":"VLOOKUP(A1896,'AFR19'!A:K,12,0)","v":{"$error":"#REF!"}},{"$error":"#REF!"}]
[6651,1162753,0,1162753,{"$f":"VLOOKUP(A1897,'AFR19'!A:K,12,0)","v":{"$error":"#REF!"}},{"$error":"#REF!"}]
[6652,193446,0,193446,{"$f":"VLOOKUP(A1898,'AFR19'!A:K,12,0)","v":{"$error":"#REF!"}},{"$error":"#REF!"}]
[6653,1380914,0,1380914,{"$f":"VLOOKUP(A1899,'AFR19'!A:K,12,0)","v":{"$error":"#REF!"}},{"$error":"#REF!"}]
[6660,2204118,0,2204118,{"$f":"VLOOKUP(A1900,'AFR19'!A:K,12,0)","v":{"$error":"#REF!"}},{"$error":"#REF!"}]
[6661,11321650,0,11321650,{"$f":"VLOOKUP(A1901,'AFR19'!A:K,12,0)","v":{"$error":"#REF!"}},{"$error":"#REF!"}]
[6666,185428654.94,{"$f":"VLOOKUP(A1902,'Crete Monee Totals 5-8'!A:B,2,0)","v":102466},185326188.94,{"$f":"VLOOKUP(A1902,'AFR19'!A:K,12,0)","v":{"$error":"#REF!"}},{"$error":"#REF!"}]
[6670,1770463,0,1770463,{"$f":"VLOOKUP(A1903,'AFR19'!A:K,12,0)","v":{"$error":"#REF!"}},{"$error":"#REF!"}]
[6676,342813,0,342813,{"$f":"VLOOKUP(A1904,'AFR19'!A:K,12,0)","v":{"$error":"#REF!"}},{"$error":"#REF!"}]
[6678,34162841,0,34162841,{"$f":"VLOOKUP(A1905,'AFR19'!A:K,12,0)","v":{"$error":"#REF!"}},{"$error":"#REF!"}]
[6681,340553,0,340553,{"$f":"VLOOKUP(A1906,'AFR19'!A:K,12,0)","v":{"$error":"#REF!"}},{"$error":"#REF!"}]
[6772,1520123,0,1520123,{"$f":"VLOOKUP(A1907,'AFR19'!A:K,12,0)","v":{"$error":"#REF!"}},{"$error":"#REF!"}]
[6773,2397564,0,2397564,{"$f":"VLOOKUP(A1908,'AFR19'!A:K,12,0)","v":{"$error":"#REF!"}},{"$error":"#REF!"}]
[6774,48635868,0,48635868,{"$f":"VLOOKUP(A1909,'AFR19'!A:K,12,0)","v":{"$error":"#REF!"}},{"$error":"#REF!"}]
[6777,340553,0,340553,{"$f":"VLOOKUP(A1910,'AFR19'!A:K,12,0)","v":{"$error":"#REF!"}},{"$error":"#REF!"}]
[6780,9684,0,9684,{"$f":"VLOOKUP(A1911,'AFR19'!A:K,12,0)","v":{"$error":"#REF!"}},{"$error":"#REF!"}]
[6783,32723468,{"$f":"VLOOKUP(A1912,'Crete Monee Totals 5-8'!A:B,2,0)","v":13160},32710308,{"$f":"VLOOKUP(A1912,'AFR19'!A:K,12,0)","v":{"$error":"#REF!"}},{"$error":"#REF!"}]
[6784,17257721,{"$f":"VLOOKUP(A1913,'Crete Monee Totals 5-8'!A:B,2,0)","v":12079},17245642,{"$f":"VLOOKUP(A1913,'AFR19'!A:K,12,0)","v":{"$error":"#REF!"}},{"$error":"#REF!"}]
[6785,2644749,0,2644749,{"$f":"VLOOKUP(A1914,'AFR19'!A:K,12,0)","v":{"$error":"#REF!"}},{"$error":"#REF!"}]
[6786,260368,0,260368,{"$f":"VLOOKUP(A1915,'AFR19'!A:K,12,0)","v":{"$error":"#REF!"}},{"$error":"#REF!"}]
[6787,262379036.94,{"$f":"VLOOKUP(A1916,'Crete Monee Totals 5-8'!A:B,2,0)","v":119212},262259824.94,{"$f":"VLOOKUP(A1916,'AFR19'!A:K,12,0)","v":{"$error":"#REF!"}},{"$error":"#REF!"}]
[6788,1915071,{"$f":"VLOOKUP(A1917,'Crete Monee Totals 5-8'!A:B,2,0)","v":14841},1900230,{"$f":"VLOOKUP(A1917,'AFR19'!A:K,12,0)","v":{"$error":"#REF!"}},{"$error":"#REF!"}]
[6789,3426393,0,3426393,{"$f":"VLOOKUP(A1918,'AFR19'!A:K,12,0)","v":{"$error":"#REF!"}},{"$error":"#REF!"}]
[6790,40845,{"$f":"VLOOKUP(A1919,'Crete Monee Totals 5-8'!A:B,2,0)","v":71},40774,{"$f":"VLOOKUP(A1919,'AFR19'!A:K,12,0)","v":{"$error":"#REF!"}},{"$error":"#REF!"}]
[6791,51187,0,51187,{"$f":"VLOOKUP(A1920,'AFR19'!A:K,12,0)","v":{"$error":"#REF!"}},{"$error":"#REF!"}]
[6792,103488400.37,{"$f":"VLOOKUP(A1921,'Crete Monee Totals 5-8'!A:B,2,0)","v":621225},102867175.37,{"$f":"VLOOKUP(A1921,'AFR19'!A:K,12,0)","v":{"$error":"#REF!"}},{"$error":"#REF!"}]
[6793,4395861,{"$f":"VLOOKUP(A1922,'Crete Monee Totals 5-8'!A:B,2,0)","v":68306},4327555,{"$f":"VLOOKUP(A1922,'AFR19'!A:K,12,0)","v":{"$error":"#REF!"}},{"$error":"#REF!"}]
[6794,11765,0,{"$f":"SUM(B1923-C1923)","v":11765},{"$f":"VLOOKUP(A1923,'AFR19'!A:K,12,0)","v":{"$error":"#REF!"}},{"$f":"SUM(D1923-E1923)","v":{"$error":"#REF!"}}]
[6795,4530,0,4530,{"$f":"VLOOKUP(A1924,'AFR19'!A:K,12,0)","v":{"$error":"#REF!"}},{"$error":"#REF!"}]
[6797,13787086,0,13787086,{"$f":"VLOOKUP(A1925,'AFR19'!A:K,12,0)","v":{"$error":"#REF!"}},{"$error":"#REF!"}]
[6798,9639,0,9639,{"$f":"VLOOKUP(A1926,'AFR19'!A:K,12,0)","v":{"$error":"#REF!"}},{"$error":"#REF!"}]
[6799,6038,0,6038,{"$f":"VLOOKUP(A1927,'AFR19'!A:K,12,0)","v":{"$error":"#REF!"}},{"$error":"#REF!"}]
[6800,3807079,0,3807079,{"$f":"VLOOKUP(A1928,'AFR19'!A:K,12,0)","v":{"$error":"#REF!"}},{"$error":"#REF!"}]
[6801,135316,0,135316,{"$f":"VLOOKUP(A1929,'AFR19'!A:K,12,0)","v":{"$error":"#REF!"}},{"$error":"#REF!"}]
[6802,1626475,0,1626475,{"$f":"VLOOKUP(A1930,'AFR19'!A:K,12,0)","v":{"$error":"#REF!"}},{"$error":"#REF!"}]
[6803,42055,{"$f":"VLOOKUP(A1931,'Crete Monee Totals 5-8'!A:B,2,0)","v":1571},40484,{"$f":"VLOOKUP(A1931,'AFR19'!A:K,12,0)","v":{"$error":"#REF!"}},{"$error":"#REF!"}]
[6806,5564,0,5564,{"$f":"VLOOKUP(A1932,'AFR19'!A:K,12,0)","v":{"$error":"#REF!"}},{"$error":"#REF!"}]
[6807,6811,0,6811,{"$f":"VLOOKUP(A1933,'AFR19'!A:K,12,0)","v":{"$error":"#REF!"}},{"$error":"#REF!"}]
[6808,456,0,456,{"$f":"VLOOKUP(A1934,'AFR19'!A:K,12,0)","v":{"$error":"#REF!"}},{"$error":"#REF!"}]
[6809,6031,0,6031,{"$f":"VLOOKUP(A1935,'AFR19'!A:K,12,0)","v":{"$error":"#REF!"}},{"$error":"#REF!"}]
[6810,47418145.890000001,{"$f":"VLOOKUP(A1936,'Crete Monee Totals 5-8'!A:B,2,0)","v":155215},47262930.890000001,{"$f":"VLOOKUP(A1936,'AFR19'!A:K,12,0)","v":{"$error":"#REF!"}},{"$error":"#REF!"}]
[6811,65477,0,65477,{"$f":"VLOOKUP(A1937,'AFR19'!A:K,12,0)","v":{"$error":"#REF!"}},{"$error":"#REF!"}]
[6812,397695,0,397695,{"$f":"VLOOKUP(A1938,'AFR19'!A:K,12,0)","v":{"$error":"#REF!"}},{"$error":"#REF!"}]
[6813,7516,0,7516,{"$f":"VLOOKUP(A1939,'AFR19'!A:K,12,0)","v":{"$error":"#REF!"}},{"$error":"#REF!"}]
[6814,17392,0,17392,{"$f":"VLOOKUP(A1940,'AFR19'!A:K,12,0)","v":{"$error":"#REF!"}},{"$error":"#REF!"}]
[6815,5189,0,5189,{"$f":"VLOOKUP(A1941,'AFR19'!A:K,12,0)","v":{"$error":"#REF!"}},{"$error":"#REF!"}]
[6816,5189,0,5189,{"$f":"VLOOKUP(A1942,'AFR19'!A:K,12,0)","v":{"$error":"#REF!"}},{"$error":"#REF!"}]
[6817,9363481,0,9363481,{"$f":"VLOOKUP(A1943,'AFR19'!A:K,12,0)","v":{"$error":"#REF!"}},{"$error":"#REF!"}]
[6818,9363481,0,9363481,{"$f":"VLOOKUP(A1944,'AFR19'!A:K,12,0)","v":{"$error":"#REF!"}},{"$error":"#REF!"}]
[6819,285187645,{"$f":"VLOOKUP(A1945,'Crete Monee Totals 5-8'!A:B,2,0)","v":2447359},282740286,{"$f":"VLOOKUP(A1945,'AFR19'!A:K,12,0)","v":{"$error":"#REF!"}},{"$error":"#REF!"}]
[6820,285187645,{"$f":"VLOOKUP(A1946,'Crete Monee Totals 5-8'!A:B,2,0)","v":2447359},282740286,{"$f":"VLOOKUP(A1946,'AFR19'!A:K,12,0)","v":{"$error":"#REF!"}},{"$error":"#REF!"}]
[6821,1743072,0,1743072,{"$f":"VLOOKUP(A1947,'AFR19'!A:K,12,0)","v":{"$error":"#REF!"}},{"$error":"#REF!"}]
[6822,1743072,0,1743072,{"$f":"VLOOKUP(A1948,'AFR19'!A:K,12,0)","v":{"$error":"#REF!"}},{"$error":"#REF!"}]
[6823,255270,0,255270,{"$f":"VLOOKUP(A1949,'AFR19'!A:K,12,0)","v":{"$error":"#REF!"}},{"$error":"#REF!"}]
[6824,255270,0,255270,{"$f":"VLOOKUP(A1950,'AFR19'!A:K,12,0)","v":{"$error":"#REF!"}},{"$error":"#REF!"}]
[6827,37515,0,37515,{"$f":"VLOOKUP(A1951,'AFR19'!A:K,12,0)","v":{"$error":"#REF!"}},{"$error":"#REF!"}]
[6828,37515,0,37515,{"$f":"VLOOKUP(A1952,'AFR19'!A:K,12,0)","v":{"$error":"#REF!"}},{"$error":"#REF!"}]
[6829,1474533,0,1474533,{"$f":"VLOOKUP(A1953,'AFR19'!A:K,12,0)","v":{"$error":"#REF!"}},{"$error":"#REF!"}]
[6830,1474533,0,1474533,{"$f":"VLOOKUP(A1954,'AFR19'!A:K,12,0)","v":{"$error":"#REF!"}},{"$error":"#REF!"}]
[6833,978527,0,978527,{"$f":"VLOOKUP(A1955,'AFR19'!A:K,12,0)","v":{"$error":"#REF!"}},{"$error":"#REF!"}]
[6834,978527,0,978527,{"$f":"VLOOKUP(A1956,'AFR19'!A:K,12,0)","v":{"$error":"#REF!"}},{"$error":"#REF!"}]
[6835,18386,0,18386,{"$f":"VLOOKUP(A1957,'AFR19'!A:K,12,0)","v":{"$error":"#REF!"}},{"$error":"#REF!"}]
[6836,18386,0,18386,{"$f":"VLOOKUP(A1958,'AFR19'!A:K,12,0)","v":{"$error":"#REF!"}},{"$error":"#REF!"}]
[6839,1128041,0,1128041,{"$f":"VLOOKUP(A1959,'AFR19'!A:K,12,0)","v":{"$error":"#REF!"}},{"$error":"#REF!"}]
[6840,1128041,0,1128041,{"$f":"VLOOKUP(A1960,'AFR19'!A:K,12,0)","v":{"$error":"#REF!"}},{"$error":"#REF!"}]
[6841,47246730,{"$f":"VLOOKUP(A1961,'Crete Monee Totals 5-8'!A:B,2,0)","v":96378},47150352,{"$f":"VLOOKUP(A1961,'AFR19'!A:K,12,0)","v":{"$error":"#REF!"}},{"$error":"#REF!"}]
[6842,21618772,{"$f":"VLOOKUP(A1962,'Crete Monee Totals 5-8'!A:B,2,0)","v":13650},21605122,{"$f":"VLOOKUP(A1962,'AFR19'!A:K,12,0)","v":{"$error":"#REF!"}},{"$error":"#REF!"}]
[6843,126742,0,126742,{"$f":"VLOOKUP(A1963,'AFR19'!A:K,12,0)","v":{"$error":"#REF!"}},{"$error":"#REF!"}]
[6844,406199,0,406199,{"$f":"VLOOKUP(A1964,'AFR19'!A:K,12,0)","v":{"$error":"#REF!"}},{"$error":"#REF!"}]
[6845,67976,0,67976,{"$f":"VLOOKUP(A1965,'AFR19'!A:K,12,0)","v":{"$error":"#REF!"}},{"$error":"#REF!"}]
[6846,713674,0,713674,{"$f":"VLOOKUP(A1966,'AFR19'!A:K,12,0)","v":{"$error":"#REF!"}},{"$error":"#REF!"}]
[6847,265861,{"$f":"VLOOKUP(A1967,'Crete Monee Totals 5-8'!A:B,2,0)","v":38844},227017,{"$f":"VLOOKUP(A1967,'AFR19'!A:K,12,0)","v":{"$error":"#REF!"}},{"$error":"#REF!"}]
[6848,177306,0,177306,{"$f":"VLOOKUP(A1968,'AFR19'!A:K,12,0)","v":{"$error":"#REF!"}},{"$error":"#REF!"}]
[6849,24108,0,24108,{"$f":"VLOOKUP(A1969,'AFR19'!A:K,12,0)","v":{"$error":"#REF!"}},{"$error":"#REF!"}]
[6850,252029,0,252029,{"$f":"VLOOKUP(A1970,'AFR19'!A:K,12,0)","v":{"$error":"#REF!"}},{"$error":"#REF!"}]
[6851,70112,0,70112,{"$f":"VLOOKUP(A1971,'AFR19'!A:K,12,0)","v":{"$error":"#REF!"}},{"$error":"#REF!"}]
[6852,252621,0,252621,{"$f":"VLOOKUP(A1972,'AFR19'!A:K,12,0)","v":{"$error":"#REF!"}},{"$error":"#REF!"}]
[6853,125688,0,125688,{"$f":"VLOOKUP(A1973,'AFR19'!A:K,12,0)","v":{"$error":"#REF!"}},{"$error":"#REF!"}]
[6854,110171,0,110171,{"$f":"VLOOKUP(A1974,'AFR19'!A:K,12,0)","v":{"$error":"#REF!"}},{"$error":"#REF!"}]
[6855,680487,{"$f":"VLOOKUP(A1975,'Crete Monee Totals 5-8'!A:B,2,0)","v":38844},641643,{"$f":"VLOOKUP(A1975,'AFR19'!A:K,12,0)","v":{"$error":"#REF!"}},{"$error":"#REF!"}]
[6856,1912000,0,1912000,{"$f":"VLOOKUP(A1976,'AFR19'!A:K,12,0)","v":{"$error":"#REF!"}},{"$error":"#REF!"}]
[6857,5960829,0,5960829,{"$f":"VLOOKUP(A1977,'AFR19'!A:K,12,0)","v":{"$error":"#REF!"}},{"$error":"#REF!"}]
[6858,654563,0,654563,{"$f":"VLOOKUP(A1978,'AFR19'!A:K,12,0)","v":{"$error":"#REF!"}},{"$error":"#REF!"}]
[6859,12420830,0,12420830,{"$f":"VLOOKUP(A1979,'AFR19'!A:K,12,0)","v":{"$error":"#REF!"}},{"$error":"#REF!"}]
[6860,239002,0,239002,{"$f":"VLOOKUP(A1980,'AFR19'!A:K,12,0)","v":{"$error":"#REF!"}},{"$error":"#REF!"}]
[6861,327713,0,327713,{"$f":"VLOOKUP(A1981,'AFR19'!A:K,12,0)","v":{"$error":"#REF!"}},{"$error":"#REF!"}]
[6862,9163,0,9163,{"$f":"VLOOKUP(A1982,'AFR19'!A:K,12,0)","v":{"$error":"#REF!"}},{"$error":"#REF!"}]
[6863,18709372,0,18709372,{"$f":"VLOOKUP(A1983,'AFR19'!A:K,12,0)","v":{"$error":"#REF!"}},{"$error":"#REF!"}]
[6864,902728,0,902728,{"$f":"VLOOKUP(A1984,'AFR19'!A:K,12,0)","v":{"$error":"#REF!"}},{"$error":"#REF!"}]
[6865,88893,0,88893,{"$f":"VLOOKUP(A1985,'AFR19'!A:K,12,0)","v":{"$error":"#REF!"}},{"$error":"#REF!"}]
[6866,972783,0,972783,{"$f":"VLOOKUP(A1986,'AFR19'!A:K,12,0)","v":{"$error":"#REF!"}},{"$error":"#REF!"}]
[6867,203409,0,{"$f":"SUM(B1987-C1987)","v":203409},{"$f":"VLOOKUP(A1987,'AFR19'!A:K,12,0)","v":{"$error":"#REF!"}},{"$f":"SUM(D1987-E1987)","v":{"$error":"#REF!"}}]
[6868,88106,0,88106,{"$f":"VLOOKUP(A1988,'AFR19'!A:K,12,0)","v":{"$error":"#REF!"}},{"$error":"#REF!"}]
[6869,154295,0,154295,{"$f":"VLOOKUP(A1989,'AFR19'!A:K,12,0)","v":{"$error":"#REF!"}},{"$error":"#REF!"}]
[6870,56073,0,56073,{"$f":"VLOOKUP(A1990,'AFR19'!A:K,12,0)","v":{"$error":"#REF!"}},{"$error":"#REF!"}]
[6871,1485285,0,1485285,{"$f":"VLOOKUP(A1991,'AFR19'!A:K,12,0)","v":{"$error":"#REF!"}},{"$error":"#REF!"}]
[6872,2427614,{"$f":"VLOOKUP(A1992,'Crete Monee Totals 5-8'!A:B,2,0)","v":141971},2285643,{"$f":"VLOOKUP(A1992,'AFR19'!A:K,12,0)","v":{"$error":"#REF!"}},{"$error":"#REF!"}]
[6873,16488900,{"$f":"VLOOKUP(A1993,'Crete Monee Totals 5-8'!A:B,2,0)","v":688155},15800745,{"$f":"VLOOKUP(A1993,'AFR19'!A:K,12,0)","v":{"$error":"#REF!"}},{"$error":"#REF!"}]
[6874,5058,0,5058,{"$f":"VLOOKUP(A1994,'AFR19'!A:K,12,0)","v":{"$error":"#REF!"}},{"$error":"#REF!"}]
[6875,3344,0,3344,{"$f":"VLOOKUP(A1995,'AFR19'!A:K,12,0)","v":{"$error":"#REF!"}},{"$error":"#REF!"}]
[6876,1271799,0,1271799,{"$f":"VLOOKUP(A1996,'AFR19'!A:K,12,0)","v":{"$error":"#REF!"}},{"$error":"#REF!"}]
[6879,21682000,{"$f":"VLOOKUP(A1997,'Crete Monee Totals 5-8'!A:B,2,0)","v":830126},20851874,{"$f":"VLOOKUP(A1997,'AFR19'!A:K,12,0)","v":{"$error":"#REF!"}},{"$error":"#REF!"}]
[6880,20515454,0,20515454,{"$f":"VLOOKUP(A1998,'AFR19'!A:K,12,0)","v":{"$error":"#REF!"}},{"$error":"#REF!"}]
[6881,446597,0,446597,{"$f":"VLOOKUP(A1999,'AFR19'!A:K,12,0)","v":{"$error":"#REF!"}},{"$error":"#REF!"}]
[6882,1116962,0,1116962,{"$f":"VLOOKUP(A2000,'AFR19'!A:K,12,0)","v":{"$error":"#REF!"}},{"$error":"#REF!"}]
[6883,1932663,0,1932663,{"$f":"VLOOKUP(A2001,'AFR19'!A:K,12,0)","v":{"$error":"#REF!"}},{"$error":"#REF!"}]
[6884,1750685,{"$f":"VLOOKUP(A2002,'Crete Monee Totals 5-8'!A:B,2,0)","v":821},1749864,{"$f":"VLOOKUP(A2002,'AFR19'!A:K,12,0)","v":{"$error":"#REF!"}},{"$error":"#REF!"}]
[6885,1144,0,1144,{"$f":"VLOOKUP(A2003,'AFR19'!A:K,12,0)","v":{"$error":"#REF!"}},{"$error":"#REF!"}]
[6886,3083,0,3083,{"$f":"VLOOKUP(A2004,'AFR19'!A:K,12,0)","v":{"$error":"#REF!"}},{"$error":"#REF!"}]
[6887,1933807,0,1933807,{"$f":"VLOOKUP(A2005,'AFR19'!A:K,12,0)","v":{"$error":"#REF!"}},{"$error":"#REF!"}]
[6888,1753768,{"$f":"VLOOKUP(A2006,'Crete Monee Totals 5-8'!A:B,2,0)","v":821},1752947,{"$f":"VLOOKUP(A2006,'AFR19'!A:K,12,0)","v":{"$error":"#REF!"}},{"$error":"#REF!"}]
[6889,358835,{"$f":"VLOOKUP(A2007,'Crete Monee Totals 5-8'!A:B,2,0)","v":296836},61999,{"$f":"VLOOKUP(A2007,'AFR19'!A:K,12,0)","v":{"$error":"#REF!"}},{"$error":"#REF!"}]
[6890,60080,0,60080,{"$f":"VLOOKUP(A2008,'AFR19'!A:K,12,0)","v":{"$error":"#REF!"}},{"$error":"#REF!"}]
[6891,123161,0,123161,{"$f":"VLOOKUP(A2009,'AFR19'!A:K,12,0)","v":{"$error":"#REF!"}},{"$error":"#REF!"}]
[6892,327116,{"$f":"VLOOKUP(A2010,'Crete Monee Totals 5-8'!A:B,2,0)","v":2653},324463,{"$f":"VLOOKUP(A2010,'AFR19'!A:K,12,0)","v":{"$error":"#REF!"}},{"$error":"#REF!"}]
[6893,1175763,0,1175763,{"$f":"VLOOKUP(A2011,'AFR19'!A:K,12,0)","v":{"$error":"#REF!"}},{"$error":"#REF!"}]
[6894,155124,0,155124,{"$f":"VLOOKUP(A2012,'AFR19'!A:K,12,0)","v":{"$error":"#REF!"}},{"$error":"#REF!"}]
[6895,2366,0,2366,{"$f":"VLOOKUP(A2013,'AFR19'!A:K,12,0)","v":{"$error":"#REF!"}},{"$error":"#REF!"}]
[6896,142398,0,142398,{"$f":"VLOOKUP(A2014,'AFR19'!A:K,12,0)","v":{"$error":"#REF!"}},{"$error":"#REF!"}]
[6897,1700647,{"$f":"VLOOKUP(A2015,'Crete Monee Totals 5-8'!A:B,2,0)","v":30735},1669912,{"$f":"VLOOKUP(A2015,'AFR19'!A:K,12,0)","v":{"$error":"#REF!"}},{"$error":"#REF!"}]
[6898,548483,0,548483,{"$f":"VLOOKUP(A2016,'AFR19'!A:K,12,0)","v":{"$error":"#REF!"}},{"$error":"#REF!"}]
[6899,46799,0,46799,{"$f":"VLOOKUP(A2017,'AFR19'!A:K,12,0)","v":{"$error":"#REF!"}},{"$error":"#REF!"}]
[6900,3408841,{"$f":"VLOOKUP(A2018,'Crete Monee Totals 5-8'!A:B,2,0)","v":327571},3081270,{"$f":"VLOOKUP(A2018,'AFR19'!A:K,12,0)","v":{"$error":"#REF!"}},{"$error":"#REF!"}]
[6901,1280000,{"$f":"VLOOKUP(A2019,'Crete Monee Totals 5-8'!A:B,2,0)","v":2653},1277347,{"$f":"VLOOKUP(A2019,'AFR19'!A:K,12,0)","v":{"$error":"#REF!"}},{"$error":"#REF!"}]
[6902,212058,0,212058,{"$f":"VLOOKUP(A2020,'AFR19'!A:K,12,0)","v":{"$error":"#REF!"}},{"$error":"#REF!"}]
[6903,15597,0,15597,{"$f":"VLOOKUP(A2021,'AFR19'!A:K,12,0)","v":{"$error":"#REF!"}},{"$error":"#REF!"}]
[6904,4228,0,4228,{"$f":"VLOOKUP(A2022,'AFR19'!A:K,12,0)","v":{"$error":"#REF!"}},{"$error":"#REF!"}]
[6905,28985,0,28985,{"$f":"VLOOKUP(A2023,'AFR19'!A:K,12,0)","v":{"$error":"#REF!"}},{"$error":"#REF!"}]
[6906,2756747,0,2756747,{"$f":"VLOOKUP(A2024,'AFR19'!A:K,12,0)","v":{"$error":"#REF!"}},{"$error":"#REF!"}]
[6907,26459,0,26459,{"$f":"VLOOKUP(A2025,'AFR19'!A:K,12,0)","v":{"$error":"#REF!"}},{"$error":"#REF!"}]
[6908,35541,0,35541,{"$f":"VLOOKUP(A2026,'AFR19'!A:K,12,0)","v":{"$error":"#REF!"}},{"$error":"#REF!"}]
[6909,2445206,{"$f":"VLOOKUP(A2027,'Crete Monee Totals 5-8'!A:B,2,0)","v":1813},2443393,{"$f":"VLOOKUP(A2027,'AFR19'!A:K,12,0)","v":{"$error":"#REF!"}},{"$error":"#REF!"}]
[6910,19932744,{"$f":"VLOOKUP(A2028,'Crete Monee Totals 5-8'!A:B,2,0)","v":1155489},18777255,{"$f":"VLOOKUP(A2028,'AFR19'!A:K,12,0)","v":{"$error":"#REF!"}},{"$error":"#REF!"}]
[6911,81267,{"$f":"VLOOKUP(A2029,'Crete Monee Totals 5-8'!A:B,2,0)","v":6740},74527,{"$f":"VLOOKUP(A2029,'AFR19'!A:K,12,0)","v":{"$error":"#REF!"}},{"$error":"#REF!"}]
[6912,22941318,{"$f":"VLOOKUP(A2030,'Crete Monee Totals 5-8'!A:B,2,0)","v":1155489},21785829,{"$f":"VLOOKUP(A2030,'AFR19'!A:K,12,0)","v":{"$error":"#REF!"}},{"$error":"#REF!"}]
[6913,2597514,{"$f":"VLOOKUP(A2031,'Crete Monee Totals 5-8'!A:B,2,0)","v":8553},2588961,{"$f":"VLOOKUP(A2031,'AFR19'!A:K,12,0)","v":{"$error":"#REF!"}},{"$error":"#REF!"}]
[6914,299136,0,299136,{"$f":"VLOOKUP(A2032,'AFR19'!A:K,12,0)","v":{"$error":"#REF!"}},{"$error":"#REF!"}]
[6915,351026,0,351026,{"$f":"VLOOKUP(A2033,'AFR19'!A:K,12,0)","v":{"$error":"#REF!"}},{"$error":"#REF!"}]
[6916,48419558,{"$f":"VLOOKUP(A2034,'Crete Monee Totals 5-8'!A:B,2,0)","v":1521904},46897654,{"$f":"VLOOKUP(A2034,'AFR19'!A:K,12,0)","v":{"$error":"#REF!"}},{"$error":"#REF!"}]
[6917,9913998,{"$f":"VLOOKUP(A2035,'Crete Monee Totals 5-8'!A:B,2,0)","v":12027},9901971,{"$f":"VLOOKUP(A2035,'AFR19'!A:K,12,0)","v":{"$error":"#REF!"}},{"$error":"#REF!"}]
[6918,1299904,{"$f":"VLOOKUP(A2036,'Crete Monee Totals 5-8'!A:B,2,0)","v":1770},1298134,{"$f":"VLOOKUP(A2036,'AFR19'!A:K,12,0)","v":{"$error":"#REF!"}},{"$error":"#REF!"}]
[6919,43304,0,43304,{"$f":"VLOOKUP(A2037,'AFR19'!A:K,12,0)","v":{"$error":"#REF!"}},{"$error":"#REF!"}]
[6920,7805979,0,7805979,{"$f":"VLOOKUP(A2038,'AFR19'!A:K,12,0)","v":{"$error":"#REF!"}},{"$error":"#REF!"}]
[6921,7805979,0,7805979,{"$f":"VLOOKUP(A2039,'AFR19'!A:K,12,0)","v":{"$error":"#REF!"}},{"$error":"#REF!"}]
[6922,270146748,{"$f":"VLOOKUP(A2040,'Crete Monee Totals 5-8'!A:B,2,0)","v":787560},269359188,{"$f":"VLOOKUP(A2040,'AFR19'!A:K,12,0)","v":{"$error":"#REF!"}},{"$error":"#REF!"}]
[6923,270146748,{"$f":"VLOOKUP(A2041,'Crete Monee Totals 5-8'!A:B,2,0)","v":787560},269359188,{"$f":"VLOOKUP(A2041,'AFR19'!A:K,12,0)","v":{"$error":"#REF!"}},{"$error":"#REF!"}]
[6924,205900,0,205900,{"$f":"VLOOKUP(A2042,'AFR19'!A:K,12,0)","v":{"$error":"#REF!"}},{"$error":"#REF!"}]
[6925,205900,0,205900,{"$f":"VLOOKUP(A2043,'AFR19'!A:K,12,0)","v":{"$error":"#REF!"}},{"$error":"#REF!"}]
[6926,14796011,{"$f":"VLOOKUP(A2044,'Crete Monee Totals 5-8'!A:B,2,0)","v":157500},14638511,{"$f":"VLOOKUP(A2044,'AFR19'!A:K,12,0)","v":{"$error":"#REF!"}},{"$error":"#REF!"}]
[6927,14796011,{"$f":"VLOOKUP(A2045,'Crete Monee Totals 5-8'!A:B,2,0)","v":157500},14638511,{"$f":"VLOOKUP(A2045,'AFR19'!A:K,12,0)","v":{"$error":"#REF!"}},{"$error":"#REF!"}]
[6928,692321,{"$f":"VLOOKUP(A2046,'Crete Monee Totals 5-8'!A:B,2,0)","v":235916},456405,{"$f":"VLOOKUP(A2046,'AFR19'!A:K,12,0)","v":{"$error":"#REF!"}},{"$error":"#REF!"}]
[6929,692321,{"$f":"VLOOKUP(A2047,'Crete Monee Totals 5-8'!A:B,2,0)","v":235916},456405,{"$f":"VLOOKUP(A2047,'AFR19'!A:K,12,0)","v":{"$error":"#REF!"}},{"$error":"#REF!"}]
[6930,1306529,0,1306529,{"$f":"VLOOKUP(A2048,'AFR19'!A:K,12,0)","v":{"$error":"#REF!"}},{"$error":"#REF!"}]
[6931,1306529,0,1306529,{"$f":"VLOOKUP(A2049,'AFR19'!A:K,12,0)","v":{"$error":"#REF!"}},{"$error":"#REF!"}]
[6932,1718382,0,1718382,{"$f":"VLOOKUP(A2050,'AFR19'!A:K,12,0)","v":{"$error":"#REF!"}},{"$error":"#REF!"}]
[6933,1718382,0,{"$f":"SUM(B2051-C2051)","v":1718382},{"$f":"VLOOKUP(A2051,'AFR19'!A:K,12,0)","v":{"$error":"#REF!"}},{"$f":"SUM(D2051-E2051)","v":{"$error":"#REF!"}}]
[6934,296671870,{"$f":"VLOOKUP(A2052,'Crete Monee Totals 5-8'!A:B,2,0)","v":1180976},295490894,{"$f":"VLOOKUP(A2052,'AFR19'!A:K,12,0)","v":{"$error":"#REF!"}},{"$error":"#REF!"}]
[6935,525020,0,525020,{"$f":"VLOOKUP(A2053,'AFR19'!A:K,12,0)","v":{"$error":"#REF!"}},{"$error":"#REF!"}]
[6936,525020,0,525020,{"$f":"VLOOKUP(A2054,'AFR19'!A:K,12,0)","v":{"$error":"#REF!"}},{"$error":"#REF!"}]
[6937,2029848,0,2029848,{"$f":"VLOOKUP(A2055,'AFR19'!A:K,12,0)","v":{"$error":"#REF!"}},{"$error":"#REF!"}]
[6938,2029848,0,2029848,{"$f":"VLOOKUP(A2056,'AFR19'!A:K,12,0)","v":{"$error":"#REF!"}},{"$error":"#REF!"}]
[6941,700020,0,700020,{"$f":"VLOOKUP(A2057,'AFR19'!A:K,12,0)","v":{"$error":"#REF!"}},{"$error":"#REF!"}]
[6942,700020,0,700020,{"$f":"VLOOKUP(A2058,'AFR19'!A:K,12,0)","v":{"$error":"#REF!"}},{"$error":"#REF!"}]
[6943,61960,0,61960,{"$f":"VLOOKUP(A2059,'AFR19'!A:K,12,0)","v":{"$error":"#REF!"}},{"$error":"#REF!"}]
[6944,61960,0,61960,{"$f":"VLOOKUP(A2060,'AFR19'!A:K,12,0)","v":{"$error":"#REF!"}},{"$error":"#REF!"}]
[6945,15369,0,15369,{"$f":"VLOOKUP(A2061,'AFR19'!A:K,12,0)","v":{"$error":"#REF!"}},{"$error":"#REF!"}]
[6946,15369,0,15369,{"$f":"VLOOKUP(A2062,'AFR19'!A:K,12,0)","v":{"$error":"#REF!"}},{"$error":"#REF!"}]
[6947,305406,0,305406,{"$f":"VLOOKUP(A2063,'AFR19'!A:K,12,0)","v":{"$error":"#REF!"}},{"$error":"#REF!"}]
[6948,1085771,0,1085771,{"$f":"VLOOKUP(A2064,'AFR19'!A:K,12,0)","v":{"$error":"#REF!"}},{"$error":"#REF!"}]
[6949,1391177,0,1391177,{"$f":"VLOOKUP(A2065,'AFR19'!A:K,12,0)","v":{"$error":"#REF!"}},{"$error":"#REF!"}]
[6950,305406,0,305406,{"$f":"VLOOKUP(A2066,'AFR19'!A:K,12,0)","v":{"$error":"#REF!"}},{"$error":"#REF!"}]
[6951,4417988,0,4417988,{"$f":"VLOOKUP(A2067,'AFR19'!A:K,12,0)","v":{"$error":"#REF!"}},{"$error":"#REF!"}]
[6952,4723394,0,4723394,{"$f":"VLOOKUP(A2068,'AFR19'!A:K,12,0)","v":{"$error":"#REF!"}},{"$error":"#REF!"}]
[6953,141875,0,141875,{"$f":"VLOOKUP(A2069,'AFR19'!A:K,12,0)","v":{"$error":"#REF!"}},{"$error":"#REF!"}]
[6954,142785,0,142785,{"$f":"VLOOKUP(A2070,'AFR19'!A:K,12,0)","v":{"$error":"#REF!"}},{"$error":"#REF!"}]
[6955,1754781,{"$f":"VLOOKUP(A2071,'Crete Monee Totals 5-8'!A:B,2,0)","v":39},1754742,{"$f":"VLOOKUP(A2071,'AFR19'!A:K,12,0)","v":{"$error":"#REF!"}},{"$error":"#REF!"}]
[6956,1754781,{"$f":"VLOOKUP(A2072,'Crete Monee Totals 5-8'!A:B,2,0)","v":39},1754742,{"$f":"VLOOKUP(A2072,'AFR19'!A:K,12,0)","v":{"$error":"#REF!"}},{"$error":"#REF!"}]
[6957,34149433,{"$f":"VLOOKUP(A2073,'Crete Monee Totals 5-8'!A:B,2,0)","v":39},34149394,{"$f":"VLOOKUP(A2073,'AFR19'!A:K,12,0)","v":{"$error":"#REF!"}},{"$error":"#REF!"}]
[6958,34149433,{"$f":"VLOOKUP(A2074,'Crete Monee Totals 5-8'!A:B,2,0)","v":39},34149394,{"$f":"VLOOKUP(A2074,'AFR19'!A:K,12,0)","v":{"$error":"#REF!"}},{"$error":"#REF!"}]
[6959,96966192,{"$f":"VLOOKUP(A2075,'Crete Monee Totals 5-8'!A:B,2,0)","v":1620052},95346140,{"$f":"VLOOKUP(A2075,'AFR19'!A:K,12,0)","v":{"$error":"#REF!"}},{"$error":"#REF!"}]
[6960,31576074,{"$f":"VLOOKUP(A2076,'Crete Monee Totals 5-8'!A:B,2,0)","v":25677},31550397,{"$f":"VLOOKUP(A2076,'AFR19'!A:K,12,0)","v":{"$error":"#REF!"}},{"$error":"#REF!"}]
[6964,6031,0,6031,{"$f":"VLOOKUP(A2077,'AFR19'!A:K,12,0)","v":{"$error":"#REF!"}},{"$error":"#REF!"}]
[6965,1330499,0,1330499,{"$f":"VLOOKUP(A2078,'AFR19'!A:K,12,0)","v":{"$error":"#REF!"}},{"$error":"#REF!"}]
[6966,2098,0,2098,{"$f":"VLOOKUP(A2079,'AFR19'!A:K,12,0)","v":{"$error":"#REF!"}},{"$error":"#REF!"}]
[6967,8471517,{"$f":"VLOOKUP(A2080,'Crete Monee Totals 5-8'!A:B,2,0)","v":25575},8445942,{"$f":"VLOOKUP(A2080,'AFR19'!A:K,12,0)","v":{"$error":"#REF!"}},{"$error":"#REF!"}]
[6968,613350,{"$f":"VLOOKUP(A2081,'Crete Monee Totals 5-8'!A:B,2,0)","v":1667},611683,{"$f":"VLOOKUP(A2081,'AFR19'!A:K,12,0)","v":{"$error":"#REF!"}},{"$error":"#REF!"}]
[6969,3303,0,3303,{"$f":"VLOOKUP(A2082,'AFR19'!A:K,12,0)","v":{"$error":"#REF!"}},{"$error":"#REF!"}]
[6971,81391,0,81391,{"$f":"VLOOKUP(A2083,'AFR19'!A:K,12,0)","v":{"$error":"#REF!"}},{"$error":"#REF!"}]
[6972,9886710,{"$f":"VLOOKUP(A2084,'Crete Monee Totals 5-8'!A:B,2,0)","v":25575},9861135,{"$f":"VLOOKUP(A2084,'AFR19'!A:K,12,0)","v":{"$error":"#REF!"}},{"$error":"#REF!"}]
[6973,621479,{"$f":"VLOOKUP(A2085,'Crete Monee Totals 5-8'!A:B,2,0)","v":1667},619812,{"$f":"VLOOKUP(A2085,'AFR19'!A:K,12,0)","v":{"$error":"#REF!"}},{"$error":"#REF!"}]
[6974,19390,0,19390,{"$f":"VLOOKUP(A2086,'AFR19'!A:K,12,0)","v":{"$error":"#REF!"}},{"$error":"#REF!"}]
[6976,9906100,{"$f":"VLOOKUP(A2087,'Crete Monee Totals 5-8'!A:B,2,0)","v":25575},9880525,{"$f":"VLOOKUP(A2087,'AFR19'!A:K,12,0)","v":{"$error":"#REF!"}},{"$error":"#REF!"}]
[6977,621479,{"$f":"VLOOKUP(A2088,'Crete Monee Totals 5-8'!A:B,2,0)","v":1667},619812,{"$f":"VLOOKUP(A2088,'AFR19'!A:K,12,0)","v":{"$error":"#REF!"}},{"$error":"#REF!"}]
[6978,878,0,878,{"$f":"VLOOKUP(A2089,'AFR19'!A:K,12,0)","v":{"$error":"#REF!"}},{"$error":"#REF!"}]
[6981,366322852.16999996,0,366322852.16999996,{"$f":"VLOOKUP(A2090,'AFR19'!A:K,12,0)","v":{"$error":"#REF!"}},{"$error":"#REF!"}]
[6983,2747391,0,2747391,{"$f":"VLOOKUP(A2091,'AFR19'!A:K,12,0)","v":{"$error":"#REF!"}},{"$error":"#REF!"}]
[6984,6425679,0,6425679,{"$f":"VLOOKUP(A2092,'AFR19'!A:K,12,0)","v":{"$error":"#REF!"}},{"$error":"#REF!"}]
[6985,182652,0,182652,{"$f":"VLOOKUP(A2093,'AFR19'!A:K,12,0)","v":{"$error":"#REF!"}},{"$error":"#REF!"}]
[6986,94504,0,94504,{"$f":"VLOOKUP(A2094,'AFR19'!A:K,12,0)","v":{"$error":"#REF!"}},{"$error":"#REF!"}]
[6987,94504,0,94504,{"$f":"VLOOKUP(A2095,'AFR19'!A:K,12,0)","v":{"$error":"#REF!"}},{"$error":"#REF!"}]
[6988,371075,0,371075,{"$f":"VLOOKUP(A2096,'AFR19'!A:K,12,0)","v":{"$error":"#REF!"}},{"$error":"#REF!"}]
[6989,371075,0,371075,{"$f":"VLOOKUP(A2097,'AFR19'!A:K,12,0)","v":{"$error":"#REF!"}},{"$error":"#REF!"}]
[6990,9906978,{"$f":"VLOOKUP(A2098,'Crete Monee Totals 5-8'!A:B,2,0)","v":25575},9881403,{"$f":"VLOOKUP(A2098,'AFR19'!A:K,12,0)","v":{"$error":"#REF!"}},{"$error":"#REF!"}]
[6991,621479,{"$f":"VLOOKUP(A2099,'Crete Monee Totals 5-8'!A:B,2,0)","v":1667},619812,{"$f":"VLOOKUP(A2099,'AFR19'!A:K,12,0)","v":{"$error":"#REF!"}},{"$error":"#REF!"}]
[6994,350005940.02999991,0,350005940.02999991,{"$f":"VLOOKUP(A2100,'AFR19'!A:K,12,0)","v":{"$error":"#REF!"}},{"$error":"#REF!"}]
[6998,1504327,0,1504327,{"$f":"VLOOKUP(A2101,'AFR19'!A:K,12,0)","v":{"$error":"#REF!"}},{"$error":"#REF!"}]
[6999,44425,0,44425,{"$f":"VLOOKUP(A2102,'AFR19'!A:K,12,0)","v":{"$error":"#REF!"}},{"$error":"#REF!"}]
[7002,1504327,0,1504327,{"$f":"VLOOKUP(A2103,'AFR19'!A:K,12,0)","v":{"$error":"#REF!"}},{"$error":"#REF!"}]
[7003,44425,0,44425,{"$f":"VLOOKUP(A2104,'AFR19'!A:K,12,0)","v":{"$error":"#REF!"}},{"$error":"#REF!"}]
[7006,1098343,0,1098343,{"$f":"VLOOKUP(A2105,'AFR19'!A:K,12,0)","v":{"$error":"#REF!"}},{"$error":"#REF!"}]
[7007,1098343,0,1098343,{"$f":"VLOOKUP(A2106,'AFR19'!A:K,12,0)","v":{"$error":"#REF!"}},{"$error":"#REF!"}]
[7008,316865,0,316865,{"$f":"VLOOKUP(A2107,'AFR19'!A:K,12,0)","v":{"$error":"#REF!"}},{"$error":"#REF!"}]
[7009,316865,0,316865,{"$f":"VLOOKUP(A2108,'AFR19'!A:K,12,0)","v":{"$error":"#REF!"}},{"$error":"#REF!"}]
[7010,1504327,0,1504327,{"$f":"VLOOKUP(A2109,'AFR19'!A:K,12,0)","v":{"$error":"#REF!"}},{"$error":"#REF!"}]
[7011,44425,0,44425,{"$f":"VLOOKUP(A2110,'AFR19'!A:K,12,0)","v":{"$error":"#REF!"}},{"$error":"#REF!"}]
[7012,4791616.09,{"$f":"VLOOKUP(A2111,'Crete Monee Totals 5-8'!A:B,2,0)","v":1419},4790197.09,{"$f":"VLOOKUP(A2111,'AFR19'!A:K,12,0)","v":{"$error":"#REF!"}},{"$error":"#REF!"}]
[7013,4791616.09,{"$f":"VLOOKUP(A2112,'Crete Monee Totals 5-8'!A:B,2,0)","v":1419},4790197.09,{"$f":"VLOOKUP(A2112,'AFR19'!A:K,12,0)","v":{"$error":"#REF!"}},{"$error":"#REF!"}]
[7014,3627222,{"$f":"VLOOKUP(A2113,'Crete Monee Totals 5-8'!A:B,2,0)","v":27567},3599655,{"$f":"VLOOKUP(A2113,'AFR19'!A:K,12,0)","v":{"$error":"#REF!"}},{"$error":"#REF!"}]
[7015,3627222,{"$f":"VLOOKUP(A2114,'Crete Monee Totals 5-8'!A:B,2,0)","v":27567},3599655,{"$f":"VLOOKUP(A2114,'AFR19'!A:K,12,0)","v":{"$error":"#REF!"}},{"$error":"#REF!"}]
[7016,600478,0,{"$f":"SUM(B2115-C2115)","v":600478},{"$f":"VLOOKUP(A2115,'AFR19'!A:K,12,0)","v":{"$error":"#REF!"}},{"$f":"SUM(D2115-E2115)","v":{"$error":"#REF!"}}]
[7017,600478,0,600478,{"$f":"VLOOKUP(A2116,'AFR19'!A:K,12,0)","v":{"$error":"#REF!"}},{"$error":"#REF!"}]
[7018,518360,{"$f":"VLOOKUP(A2117,'Crete Monee Totals 5-8'!A:B,2,0)","v":1713},516647,{"$f":"VLOOKUP(A2117,'AFR19'!A:K,12,0)","v":{"$error":"#REF!"}},{"$error":"#REF!"}]
[7019,518360,{"$f":"VLOOKUP(A2118,'Crete Monee Totals 5-8'!A:B,2,0)","v":1713},516647,{"$f":"VLOOKUP(A2118,'AFR19'!A:K,12,0)","v":{"$error":"#REF!"}},{"$error":"#REF!"}]
[7020,84192,0,84192,{"$f":"VLOOKUP(A2119,'AFR19'!A:K,12,0)","v":{"$error":"#REF!"}},{"$error":"#REF!"}]
[7021,84192,0,84192,{"$f":"VLOOKUP(A2120,'AFR19'!A:K,12,0)","v":{"$error":"#REF!"}},{"$error":"#REF!"}]
[7022,6009,0,6009,{"$f":"VLOOKUP(A2121,'AFR19'!A:K,12,0)","v":{"$error":"#REF!"}},{"$error":"#REF!"}]
[7023,6009,0,6009,{"$f":"VLOOKUP(A2122,'AFR19'!A:K,12,0)","v":{"$error":"#REF!"}},{"$error":"#REF!"}]
[7028,606313,0,606313,{"$f":"VLOOKUP(A2123,'AFR19'!A:K,12,0)","v":{"$error":"#REF!"}},{"$error":"#REF!"}]
[7029,606313,0,606313,{"$f":"VLOOKUP(A2124,'AFR19'!A:K,12,0)","v":{"$error":"#REF!"}},{"$error":"#REF!"}]
[7030,47458,0,47458,{"$f":"VLOOKUP(A2125,'AFR19'!A:K,12,0)","v":{"$error":"#REF!"}},{"$error":"#REF!"}]
[7031,47458,0,47458,{"$f":"VLOOKUP(A2126,'AFR19'!A:K,12,0)","v":{"$error":"#REF!"}},{"$error":"#REF!"}]
[7032,4088851.19,0,4088851.19,{"$f":"VLOOKUP(A2127,'AFR19'!A:K,12,0)","v":{"$error":"#REF!"}},{"$error":"#REF!"}]
[7033,4088851.19,0,4088851.19,{"$f":"VLOOKUP(A2128,'AFR19'!A:K,12,0)","v":{"$error":"#REF!"}},{"$error":"#REF!"}]
[7036,79135,0,79135,{"$f":"VLOOKUP(A2129,'AFR19'!A:K,12,0)","v":{"$error":"#REF!"}},{"$error":"#REF!"}]
[7037,79135,0,79135,{"$f":"VLOOKUP(A2130,'AFR19'!A:K,12,0)","v":{"$error":"#REF!"}},{"$error":"#REF!"}]
[7038,27164243,0,27164243,{"$f":"VLOOKUP(A2131,'AFR19'!A:K,12,0)","v":{"$error":"#REF!"}},{"$error":"#REF!"}]
[7039,6516,0,6516,{"$f":"VLOOKUP(A2132,'AFR19'!A:K,12,0)","v":{"$error":"#REF!"}},{"$error":"#REF!"}]
[7042,27164243,0,27164243,{"$f":"VLOOKUP(A2133,'AFR19'!A:K,12,0)","v":{"$error":"#REF!"}},{"$error":"#REF!"}]
[7043,6516,0,6516,{"$f":"VLOOKUP(A2134,'AFR19'!A:K,12,0)","v":{"$error":"#REF!"}},{"$error":"#REF!"}]
[7045,151672,0,151672,{"$f":"VLOOKUP(A2135,'AFR19'!A:K,12,0)","v":{"$error":"#REF!"}},{"$error":"#REF!"}]
[7046,151672,0,151672,{"$f":"VLOOKUP(A2136,'AFR19'!A:K,12,0)","v":{"$error":"#REF!"}},{"$error":"#REF!"}]
[7052,716428,0,716428,{"$f":"VLOOKUP(A2137,'AFR19'!A:K,12,0)","v":{"$error":"#REF!"}},{"$error":"#REF!"}]
[7054,868100,0,868100,{"$f":"VLOOKUP(A2138,'AFR19'!A:K,12,0)","v":{"$error":"#REF!"}},{"$error":"#REF!"}]
[7055,27164243,0,27164243,{"$f":"VLOOKUP(A2139,'AFR19'!A:K,12,0)","v":{"$error":"#REF!"}},{"$error":"#REF!"}]
[7056,6516,0,6516,{"$f":"VLOOKUP(A2140,'AFR19'!A:K,12,0)","v":{"$error":"#REF!"}},{"$error":"#REF!"}]
[7057,238588,0,238588,{"$f":"VLOOKUP(A2141,'AFR19'!A:K,12,0)","v":{"$error":"#REF!"}},{"$error":"#REF!"}]
[7059,670532,0,670532,{"$f":"VLOOKUP(A2142,'AFR19'!A:K,12,0)","v":{"$error":"#REF!"}},{"$error":"#REF!"}]
[7060,37396,0,37396,{"$f":"VLOOKUP(A2143,'AFR19'!A:K,12,0)","v":{"$error":"#REF!"}},{"$error":"#REF!"}]
[7062,58265,0,58265,{"$f":"VLOOKUP(A2144,'AFR19'!A:K,12,0)","v":{"$error":"#REF!"}},{"$error":"#REF!"}]
[7065,1004781,0,1004781,{"$f":"VLOOKUP(A2145,'AFR19'!A:K,12,0)","v":{"$error":"#REF!"}},{"$error":"#REF!"}]
[7066,121440,0,121440,{"$f":"VLOOKUP(A2146,'AFR19'!A:K,12,0)","v":{"$error":"#REF!"}},{"$error":"#REF!"}]
[7067,1941905,0,1941905,{"$f":"VLOOKUP(A2147,'AFR19'!A:K,12,0)","v":{"$error":"#REF!"}},{"$error":"#REF!"}]
[7068,64991014,0,64991014,{"$f":"VLOOKUP(A2148,'AFR19'!A:K,12,0)","v":{"$error":"#REF!"}},{"$error":"#REF!"}]
[7069,74545,0,74545,{"$f":"VLOOKUP(A2149,'AFR19'!A:K,12,0)","v":{"$error":"#REF!"}},{"$error":"#REF!"}]
[7070,2588,0,2588,{"$f":"VLOOKUP(A2150,'AFR19'!A:K,12,0)","v":{"$error":"#REF!"}},{"$error":"#REF!"}]
[7071,638403,0,638403,{"$f":"VLOOKUP(A2151,'AFR19'!A:K,12,0)","v":{"$error":"#REF!"}},{"$error":"#REF!"}]
[7073,74,0,74,{"$f":"VLOOKUP(A2152,'AFR19'!A:K,12,0)","v":{"$error":"#REF!"}},{"$error":"#REF!"}]
[7074,67769969,0,67769969,{"$f":"VLOOKUP(A2153,'AFR19'!A:K,12,0)","v":{"$error":"#REF!"}},{"$error":"#REF!"}]
[7075,15497,0,15497,{"$f":"VLOOKUP(A2154,'AFR19'!A:K,12,0)","v":{"$error":"#REF!"}},{"$error":"#REF!"}]
[7076,279931,0,279931,{"$f":"VLOOKUP(A2155,'AFR19'!A:K,12,0)","v":{"$error":"#REF!"}},{"$error":"#REF!"}]
[7077,4245504.7200000007,0,4245504.7200000007,{"$f":"VLOOKUP(A2156,'AFR19'!A:K,12,0)","v":{"$error":"#REF!"}},{"$error":"#REF!"}]
[7080,56501,0,56501,{"$f":"VLOOKUP(A2157,'AFR19'!A:K,12,0)","v":{"$error":"#REF!"}},{"$error":"#REF!"}]
[7083,4597433.7200000007,0,4597433.7200000007,{"$f":"VLOOKUP(A2158,'AFR19'!A:K,12,0)","v":{"$error":"#REF!"}},{"$error":"#REF!"}]
[7084,69702,0,69702,{"$f":"VLOOKUP(A2159,'AFR19'!A:K,12,0)","v":{"$error":"#REF!"}},{"$error":"#REF!"}]
[7085,291996,0,291996,{"$f":"VLOOKUP(A2160,'AFR19'!A:K,12,0)","v":{"$error":"#REF!"}},{"$error":"#REF!"}]
[7086,51584854,0,51584854,{"$f":"VLOOKUP(A2161,'AFR19'!A:K,12,0)","v":{"$error":"#REF!"}},{"$error":"#REF!"}]
[7087,238689,0,238689,{"$f":"VLOOKUP(A2162,'AFR19'!A:K,12,0)","v":{"$error":"#REF!"}},{"$error":"#REF!"}]
[7088,25314,0,25314,{"$f":"VLOOKUP(A2163,'AFR19'!A:K,12,0)","v":{"$error":"#REF!"}},{"$error":"#REF!"}]
[7089,326947,0,326947,{"$f":"VLOOKUP(A2164,'AFR19'!A:K,12,0)","v":{"$error":"#REF!"}},{"$error":"#REF!"}]
[7092,52537502,0,52537502,{"$f":"VLOOKUP(A2165,'AFR19'!A:K,12,0)","v":{"$error":"#REF!"}},{"$error":"#REF!"}]
[7093,16602104,0,16602104,{"$f":"VLOOKUP(A2166,'AFR19'!A:K,12,0)","v":{"$error":"#REF!"}},{"$error":"#REF!"}]
[7094,1210991,0,1210991,{"$f":"VLOOKUP(A2167,'AFR19'!A:K,12,0)","v":{"$error":"#REF!"}},{"$error":"#REF!"}]
[7095,12175220,0,12175220,{"$f":"VLOOKUP(A2168,'AFR19'!A:K,12,0)","v":{"$error":"#REF!"}},{"$error":"#REF!"}]
[7096,160120,0,160120,{"$f":"VLOOKUP(A2169,'AFR19'!A:K,12,0)","v":{"$error":"#REF!"}},{"$error":"#REF!"}]
[7097,1741072,0,1741072,{"$f":"VLOOKUP(A2170,'AFR19'!A:K,12,0)","v":{"$error":"#REF!"}},{"$error":"#REF!"}]
[7098,218148,0,218148,{"$f":"VLOOKUP(A2171,'AFR19'!A:K,12,0)","v":{"$error":"#REF!"}},{"$error":"#REF!"}]
[7099,71537,0,71537,{"$f":"VLOOKUP(A2172,'AFR19'!A:K,12,0)","v":{"$error":"#REF!"}},{"$error":"#REF!"}]
[7101,32179192,0,32179192,{"$f":"VLOOKUP(A2173,'AFR19'!A:K,12,0)","v":{"$error":"#REF!"}},{"$error":"#REF!"}]
[7102,55764,0,55764,{"$f":"VLOOKUP(A2174,'AFR19'!A:K,12,0)","v":{"$error":"#REF!"}},{"$error":"#REF!"}]
[7103,41629,0,41629,{"$f":"VLOOKUP(A2175,'AFR19'!A:K,12,0)","v":{"$error":"#REF!"}},{"$error":"#REF!"}]
[7104,832826,0,832826,{"$f":"VLOOKUP(A2176,'AFR19'!A:K,12,0)","v":{"$error":"#REF!"}},{"$error":"#REF!"}]
[7107,826885,0,826885,{"$f":"VLOOKUP(A2177,'AFR19'!A:K,12,0)","v":{"$error":"#REF!"}},{"$error":"#REF!"}]
[7110,1757104,0,1757104,{"$f":"VLOOKUP(A2178,'AFR19'!A:K,12,0)","v":{"$error":"#REF!"}},{"$error":"#REF!"}]
[7111,122117538.06,0,{"$f":"SUM(B2179-C2179)","v":122117538.06},{"$f":"VLOOKUP(A2179,'AFR19'!A:K,12,0)","v":{"$error":"#REF!"}},{"$f":"SUM(D2179-E2179)","v":{"$error":"#REF!"}}]
[7112,24799266.579999998,0,24799266.579999998,{"$f":"VLOOKUP(A2180,'AFR19'!A:K,12,0)","v":{"$error":"#REF!"}},{"$error":"#REF!"}]
[7113,28411568.189999998,0,28411568.189999998,{"$f":"VLOOKUP(A2181,'AFR19'!A:K,12,0)","v":{"$error":"#REF!"}},{"$error":"#REF!"}]
[7114,599296.37,0,599296.37,{"$f":"VLOOKUP(A2182,'AFR19'!A:K,12,0)","v":{"$error":"#REF!"}},{"$error":"#REF!"}]
[7115,1987937,0,1987937,{"$f":"VLOOKUP(A2183,'AFR19'!A:K,12,0)","v":{"$error":"#REF!"}},{"$error":"#REF!"}]
[7116,675684,0,675684,{"$f":"VLOOKUP(A2184,'AFR19'!A:K,12,0)","v":{"$error":"#REF!"}},{"$error":"#REF!"}]
[7117,242830,0,242830,{"$f":"VLOOKUP(A2185,'AFR19'!A:K,12,0)","v":{"$error":"#REF!"}},{"$error":"#REF!"}]
[7118,377416,0,377416,{"$f":"VLOOKUP(A2186,'AFR19'!A:K,12,0)","v":{"$error":"#REF!"}},{"$error":"#REF!"}]
[7119,179211536.19999999,0,179211536.19999999,{"$f":"VLOOKUP(A2187,'AFR19'!A:K,12,0)","v":{"$error":"#REF!"}},{"$error":"#REF!"}]
[7122,23134,0,23134,{"$f":"VLOOKUP(A2188,'AFR19'!A:K,12,0)","v":{"$error":"#REF!"}},{"$error":"#REF!"}]
[7128,23134,0,23134,{"$f":"VLOOKUP(A2189,'AFR19'!A:K,12,0)","v":{"$error":"#REF!"}},{"$error":"#REF!"}]
[7129,204679,0,204679,{"$f":"VLOOKUP(A2190,'AFR19'!A:K,12,0)","v":{"$error":"#REF!"}},{"$error":"#REF!"}]
[7130,64896,0,64896,{"$f":"VLOOKUP(A2191,'AFR19'!A:K,12,0)","v":{"$error":"#REF!"}},{"$error":"#REF!"}]
[7131,11236321.25,0,11236321.25,{"$f":"VLOOKUP(A2192,'AFR19'!A:K,12,0)","v":{"$error":"#REF!"}},{"$error":"#REF!"}]
[7132,43294,0,43294,{"$f":"VLOOKUP(A2193,'AFR19'!A:K,12,0)","v":{"$error":"#REF!"}},{"$error":"#REF!"}]
[7133,27126,0,27126,{"$f":"VLOOKUP(A2194,'AFR19'!A:K,12,0)","v":{"$error":"#REF!"}},{"$error":"#REF!"}]
[7134,123154,0,123154,{"$f":"VLOOKUP(A2195,'AFR19'!A:K,12,0)","v":{"$error":"#REF!"}},{"$error":"#REF!"}]
[7137,11699470.25,0,11699470.25,{"$f":"VLOOKUP(A2196,'AFR19'!A:K,12,0)","v":{"$error":"#REF!"}},{"$error":"#REF!"}]
[7138,139447712.06,0,139447712.06,{"$f":"VLOOKUP(A2197,'AFR19'!A:K,12,0)","v":{"$error":"#REF!"}},{"$error":"#REF!"}]
[7139,28630614.579999998,0,28630614.579999998,{"$f":"VLOOKUP(A2198,'AFR19'!A:K,12,0)","v":{"$error":"#REF!"}},{"$error":"#REF!"}]
[7140,189629246.16,0,189629246.16,{"$f":"VLOOKUP(A2199,'AFR19'!A:K,12,0)","v":{"$error":"#REF!"}},{"$error":"#REF!"}]
[7141,1161692.3700000001,0,1161692.3700000001,{"$f":"VLOOKUP(A2200,'AFR19'!A:K,12,0)","v":{"$error":"#REF!"}},{"$error":"#REF!"}]
[7142,3837743,0,3837743,{"$f":"VLOOKUP(A2201,'AFR19'!A:K,12,0)","v":{"$error":"#REF!"}},{"$error":"#REF!"}]
[7143,2923987,0,2923987,{"$f":"VLOOKUP(A2202,'AFR19'!A:K,12,0)","v":{"$error":"#REF!"}},{"$error":"#REF!"}]
[7144,314367,0,314367,{"$f":"VLOOKUP(A2203,'AFR19'!A:K,12,0)","v":{"$error":"#REF!"}},{"$error":"#REF!"}]
[7145,377490,0,377490,{"$f":"VLOOKUP(A2204,'AFR19'!A:K,12,0)","v":{"$error":"#REF!"}},{"$error":"#REF!"}]
[7146,366322852.16999996,0,366322852.16999996,{"$f":"VLOOKUP(A2205,'AFR19'!A:K,12,0)","v":{"$error":"#REF!"}},{"$error":"#REF!"}]
[7147,30962,0,30962,{"$f":"VLOOKUP(A2206,'AFR19'!A:K,12,0)","v":{"$error":"#REF!"}},{"$error":"#REF!"}]
[7148,30962,0,30962,{"$f":"VLOOKUP(A2207,'AFR19'!A:K,12,0)","v":{"$error":"#REF!"}},{"$error":"#REF!"}]
[7151,67,0,67,{"$f":"VLOOKUP(A2208,'AFR19'!A:K,12,0)","v":{"$error":"#REF!"}},{"$error":"#REF!"}]
[7152,67,0,67,{"$f":"VLOOKUP(A2209,'AFR19'!A:K,12,0)","v":{"$error":"#REF!"}},{"$error":"#REF!"}]
[7153,31029,0,31029,{"$f":"VLOOKUP(A2210,'AFR19'!A:K,12,0)","v":{"$error":"#REF!"}},{"$error":"#REF!"}]
[7154,31029,0,31029,{"$f":"VLOOKUP(A2211,'AFR19'!A:K,12,0)","v":{"$error":"#REF!"}},{"$error":"#REF!"}]
[7155,139447712.06,0,139447712.06,{"$f":"VLOOKUP(A2212,'AFR19'!A:K,12,0)","v":{"$error":"#REF!"}},{"$error":"#REF!"}]
[7156,28630614.579999998,0,28630614.579999998,{"$f":"VLOOKUP(A2213,'AFR19'!A:K,12,0)","v":{"$error":"#REF!"}},{"$error":"#REF!"}]
[7157,189629246.16,0,189629246.16,{"$f":"VLOOKUP(A2214,'AFR19'!A:K,12,0)","v":{"$error":"#REF!"}},{"$error":"#REF!"}]
[7158,1161692.3700000001,0,1161692.3700000001,{"$f":"VLOOKUP(A2215,'AFR19'!A:K,12,0)","v":{"$error":"#REF!"}},{"$error":"#REF!"}]
[7159,3837743,0,3837743,{"$f":"VLOOKUP(A2216,'AFR19'!A:K,12,0)","v":{"$error":"#REF!"}},{"$error":"#REF!"}]
[7160,3452852,0,3452852,{"$f":"VLOOKUP(A2217,'AFR19'!A:K,12,0)","v":{"$error":"#REF!"}},{"$error":"#REF!"}]
[7161,314367,0,314367,{"$f":"VLOOKUP(A2218,'AFR19'!A:K,12,0)","v":{"$error":"#REF!"}},{"$error":"#REF!"}]
[7162,377490,0,377490,{"$f":"VLOOKUP(A2219,'AFR19'!A:K,12,0)","v":{"$error":"#REF!"}},{"$error":"#REF!"}]
[7163,366851717.16999996,0,366851717.16999996,{"$f":"VLOOKUP(A2220,'AFR19'!A:K,12,0)","v":{"$error":"#REF!"}},{"$error":"#REF!"}]
[7164,-16845777.140000001,0,-16845777.140000001,{"$f":"VLOOKUP(A2221,'AFR19'!A:K,12,0)","v":{"$error":"#REF!"}},{"$error":"#REF!"}]
[7165,108200,0,108200,{"$f":"VLOOKUP(A2222,'AFR19'!A:K,12,0)","v":{"$error":"#REF!"}},{"$error":"#REF!"}]
[7167,30177,0,30177,{"$f":"VLOOKUP(A2223,'AFR19'!A:K,12,0)","v":{"$error":"#REF!"}},{"$error":"#REF!"}]
[7169,138377,0,138377,{"$f":"VLOOKUP(A2224,'AFR19'!A:K,12,0)","v":{"$error":"#REF!"}},{"$error":"#REF!"}]
[7173,138377,0,138377,{"$f":"VLOOKUP(A2225,'AFR19'!A:K,12,0)","v":{"$error":"#REF!"}},{"$error":"#REF!"}]
[7175,238830,0,238830,{"$f":"VLOOKUP(A2226,'AFR19'!A:K,12,0)","v":{"$error":"#REF!"}},{"$error":"#REF!"}]
[7176,238830,0,238830,{"$f":"VLOOKUP(A2227,'AFR19'!A:K,12,0)","v":{"$error":"#REF!"}},{"$error":"#REF!"}]
[7179,180239,0,180239,{"$f":"VLOOKUP(A2228,'AFR19'!A:K,12,0)","v":{"$error":"#REF!"}},{"$error":"#REF!"}]
[7180,180239,0,180239,{"$f":"VLOOKUP(A2229,'AFR19'!A:K,12,0)","v":{"$error":"#REF!"}},{"$error":"#REF!"}]
[7181,741730,0,741730,{"$f":"VLOOKUP(A2230,'AFR19'!A:K,12,0)","v":{"$error":"#REF!"}},{"$error":"#REF!"}]
[7182,741730,0,741730,{"$f":"VLOOKUP(A2231,'AFR19'!A:K,12,0)","v":{"$error":"#REF!"}},{"$error":"#REF!"}]
[7183,138377,0,138377,{"$f":"VLOOKUP(A2232,'AFR19'!A:K,12,0)","v":{"$error":"#REF!"}},{"$error":"#REF!"}]
[7185,53840702,{"$f":"VLOOKUP(A2233,'Crete Monee Totals 5-8'!A:B,2,0)","v":15775},53824927,{"$f":"VLOOKUP(A2233,'AFR19'!A:K,12,0)","v":{"$error":"#REF!"}},{"$error":"#REF!"}]
[7186,9331138,{"$f":"VLOOKUP(A2234,'Crete Monee Totals 5-8'!A:B,2,0)","v":67},9331071,{"$f":"VLOOKUP(A2234,'AFR19'!A:K,12,0)","v":{"$error":"#REF!"}},{"$error":"#REF!"}]
[7187,9460143,{"$f":"VLOOKUP(A2235,'Crete Monee Totals 5-8'!A:B,2,0)","v":904},9459239,{"$f":"VLOOKUP(A2235,'AFR19'!A:K,12,0)","v":{"$error":"#REF!"}},{"$error":"#REF!"}]
[7188,1222808,0,1222808,{"$f":"VLOOKUP(A2236,'AFR19'!A:K,12,0)","v":{"$error":"#REF!"}},{"$error":"#REF!"}]
[7189,190474,0,190474,{"$f":"VLOOKUP(A2237,'AFR19'!A:K,12,0)","v":{"$error":"#REF!"}},{"$error":"#REF!"}]
[7190,80776336.819999993,{"$f":"VLOOKUP(A2238,'Crete Monee Totals 5-8'!A:B,2,0)","v":459843},80316493.819999993,{"$f":"VLOOKUP(A2238,'AFR19'!A:K,12,0)","v":{"$error":"#REF!"}},{"$error":"#REF!"}]
[7191,20088561.550000001,{"$f":"VLOOKUP(A2239,'Crete Monee Totals 5-8'!A:B,2,0)","v":89035},19999526.550000001,{"$f":"VLOOKUP(A2239,'AFR19'!A:K,12,0)","v":{"$error":"#REF!"}},{"$error":"#REF!"}]
[7192,1025585,{"$f":"VLOOKUP(A2240,'Crete Monee Totals 5-8'!A:B,2,0)","v":41468},984117,{"$f":"VLOOKUP(A2240,'AFR19'!A:K,12,0)","v":{"$error":"#REF!"}},{"$error":"#REF!"}]
[7193,1379946,{"$f":"VLOOKUP(A2241,'Crete Monee Totals 5-8'!A:B,2,0)","v":30808},1349138,{"$f":"VLOOKUP(A2241,'AFR19'!A:K,12,0)","v":{"$error":"#REF!"}},{"$error":"#REF!"}]
[7194,41129,0,41129,{"$f":"VLOOKUP(A2242,'AFR19'!A:K,12,0)","v":{"$error":"#REF!"}},{"$error":"#REF!"}]
[7195,84810,0,{"$f":"SUM(B2243-C2243)","v":84810},{"$f":"VLOOKUP(A2243,'AFR19'!A:K,12,0)","v":{"$error":"#REF!"}},{"$f":"SUM(D2243-E2243)","v":{"$error":"#REF!"}}]
[7196,10428749,0,10428749,{"$f":"VLOOKUP(A2244,'AFR19'!A:K,12,0)","v":{"$error":"#REF!"}},{"$error":"#REF!"}]
[7197,2182358,0,2182358,{"$f":"VLOOKUP(A2245,'AFR19'!A:K,12,0)","v":{"$error":"#REF!"}},{"$error":"#REF!"}]
[7198,254676,0,254676,{"$f":"VLOOKUP(A2246,'AFR19'!A:K,12,0)","v":{"$error":"#REF!"}},{"$error":"#REF!"}]
[7199,693133,0,693133,{"$f":"VLOOKUP(A2247,'AFR19'!A:K,12,0)","v":{"$error":"#REF!"}},{"$error":"#REF!"}]
[7200,215730,0,215730,{"$f":"VLOOKUP(A2248,'AFR19'!A:K,12,0)","v":{"$error":"#REF!"}},{"$error":"#REF!"}]
[7201,7910,0,7910,{"$f":"VLOOKUP(A2249,'AFR19'!A:K,12,0)","v":{"$error":"#REF!"}},{"$error":"#REF!"}]
[7202,37927537.710000001,{"$f":"VLOOKUP(A2250,'Crete Monee Totals 5-8'!A:B,2,0)","v":126618},37800919.710000001,{"$f":"VLOOKUP(A2250,'AFR19'!A:K,12,0)","v":{"$error":"#REF!"}},{"$error":"#REF!"}]
[7203,6068059.1799999997,{"$f":"VLOOKUP(A2251,'Crete Monee Totals 5-8'!A:B,2,0)","v":7282},6060777.1799999997,{"$f":"VLOOKUP(A2251,'AFR19'!A:K,12,0)","v":{"$error":"#REF!"}},{"$error":"#REF!"}]
[7204,1443876,{"$f":"VLOOKUP(A2252,'Crete Monee Totals 5-8'!A:B,2,0)","v":2412},1441464,{"$f":"VLOOKUP(A2252,'AFR19'!A:K,12,0)","v":{"$error":"#REF!"}},{"$error":"#REF!"}]
[7205,819255,{"$f":"VLOOKUP(A2253,'Crete Monee Totals 5-8'!A:B,2,0)","v":2850},816405,{"$f":"VLOOKUP(A2253,'AFR19'!A:K,12,0)","v":{"$error":"#REF!"}},{"$error":"#REF!"}]
[7206,1066382,{"$f":"VLOOKUP(A2254,'Crete Monee Totals 5-8'!A:B,2,0)","v":16053},1050329,{"$f":"VLOOKUP(A2254,'AFR19'!A:K,12,0)","v":{"$error":"#REF!"}},{"$error":"#REF!"}]
[7207,86549,0,86549,{"$f":"VLOOKUP(A2255,'AFR19'!A:K,12,0)","v":{"$error":"#REF!"}},{"$error":"#REF!"}]
[7530,1414796,0,1414796,{"$f":"VLOOKUP(A2256,'AFR19'!A:K,12,0)","v":{"$error":"#REF!"}},{"$error":"#REF!"}]
[7531,2380,0,2380,{"$f":"VLOOKUP(A2257,'AFR19'!A:K,12,0)","v":{"$error":"#REF!"}},{"$error":"#REF!"}]
[7532,1190,0,1190,{"$f":"VLOOKUP(A2258,'AFR19'!A:K,12,0)","v":{"$error":"#REF!"}},{"$error":"#REF!"}]
[7534,3570,0,3570,{"$f":"VLOOKUP(A2259,'AFR19'!A:K,12,0)","v":{"$error":"#REF!"}},{"$error":"#REF!"}]
[7535,1411226,0,1411226,{"$f":"VLOOKUP(A2260,'AFR19'!A:K,12,0)","v":{"$error":"#REF!"}},{"$error":"#REF!"}]
[7536,28925765,0,28925765,{"$f":"VLOOKUP(A2261,'AFR19'!A:K,12,0)","v":{"$error":"#REF!"}},{"$error":"#REF!"}]
[7537,289617,0,289617,{"$f":"VLOOKUP(A2262,'AFR19'!A:K,12,0)","v":{"$error":"#REF!"}},{"$error":"#REF!"}]
[7538,11295,0,11295,{"$f":"VLOOKUP(A2263,'AFR19'!A:K,12,0)","v":{"$error":"#REF!"}},{"$error":"#REF!"}]
[7539,29204087,0,29204087,{"$f":"VLOOKUP(A2264,'AFR19'!A:K,12,0)","v":{"$error":"#REF!"}},{"$error":"#REF!"}]
[7540,9374779,0,9374779,{"$f":"VLOOKUP(A2265,'AFR19'!A:K,12,0)","v":{"$error":"#REF!"}},{"$error":"#REF!"}]
[7541,545442,0,545442,{"$f":"VLOOKUP(A2266,'AFR19'!A:K,12,0)","v":{"$error":"#REF!"}},{"$error":"#REF!"}]
[7542,11295,0,11295,{"$f":"VLOOKUP(A2267,'AFR19'!A:K,12,0)","v":{"$error":"#REF!"}},{"$error":"#REF!"}]
[7543,9908926,0,9908926,{"$f":"VLOOKUP(A2268,'AFR19'!A:K,12,0)","v":{"$error":"#REF!"}},{"$error":"#REF!"}]
[7544,19295161,0,19295161,{"$f":"VLOOKUP(A2269,'AFR19'!A:K,12,0)","v":{"$error":"#REF!"}},{"$error":"#REF!"}]
[7545,154248989.25999999,0,154248989.25999999,{"$f":"VLOOKUP(A2270,'AFR19'!A:K,12,0)","v":{"$error":"#REF!"}},{"$error":"#REF!"}]
[7546,2441057.44,0,2441057.44,{"$f":"VLOOKUP(A2271,'AFR19'!A:K,12,0)","v":{"$error":"#REF!"}},{"$error":"#REF!"}]
[7548,156690046.69999999,0,156690046.69999999,{"$f":"VLOOKUP(A2272,'AFR19'!A:K,12,0)","v":{"$error":"#REF!"}},{"$error":"#REF!"}]
[7549,54060313.890000001,0,54060313.890000001,{"$f":"VLOOKUP(A2273,'AFR19'!A:K,12,0)","v":{"$error":"#REF!"}},{"$error":"#REF!"}]
[7550,4377901.55,0,4377901.55,{"$f":"VLOOKUP(A2274,'AFR19'!A:K,12,0)","v":{"$error":"#REF!"}},{"$error":"#REF!"}]
[7552,58438215.439999998,0,58438215.439999998,{"$f":"VLOOKUP(A2275,'AFR19'!A:K,12,0)","v":{"$error":"#REF!"}},{"$error":"#REF!"}]
[7553,98251831.25999999,0,98251831.25999999,{"$f":"VLOOKUP(A2276,'AFR19'!A:K,12,0)","v":{"$error":"#REF!"}},{"$error":"#REF!"}]
[7554,46414943.93,0,46414943.93,{"$f":"VLOOKUP(A2277,'AFR19'!A:K,12,0)","v":{"$error":"#REF!"}},{"$error":"#REF!"}]
[7555,5376737.6899999995,0,5376737.6899999995,{"$f":"VLOOKUP(A2278,'AFR19'!A:K,12,0)","v":{"$error":"#REF!"}},{"$error":"#REF!"}]
[7556,1307469,0,1307469,{"$f":"VLOOKUP(A2279,'AFR19'!A:K,12,0)","v":{"$error":"#REF!"}},{"$error":"#REF!"}]
[7557,50484212.620000005,0,50484212.620000005,{"$f":"VLOOKUP(A2280,'AFR19'!A:K,12,0)","v":{"$error":"#REF!"}},{"$error":"#REF!"}]
[7558,40291842.950000003,0,40291842.950000003,{"$f":"VLOOKUP(A2281,'AFR19'!A:K,12,0)","v":{"$error":"#REF!"}},{"$error":"#REF!"}]
[7559,3850567,0,3850567,{"$f":"VLOOKUP(A2282,'AFR19'!A:K,12,0)","v":{"$error":"#REF!"}},{"$error":"#REF!"}]
[7560,1574931,0,1574931,{"$f":"VLOOKUP(A2283,'AFR19'!A:K,12,0)","v":{"$error":"#REF!"}},{"$error":"#REF!"}]
[7561,42567478.950000003,0,42567478.950000003,{"$f":"VLOOKUP(A2284,'AFR19'!A:K,12,0)","v":{"$error":"#REF!"}},{"$error":"#REF!"}]
[7562,7916733.6699999999,0,7916733.6699999999,{"$f":"VLOOKUP(A2285,'AFR19'!A:K,12,0)","v":{"$error":"#REF!"}},{"$error":"#REF!"}]
[7563,135994484,{"$f":"VLOOKUP(A2286,'Crete Monee Totals 5-8'!A:B,2,0)","v":1645627},134348857,{"$f":"VLOOKUP(A2286,'AFR19'!A:K,12,0)","v":{"$error":"#REF!"}},{"$error":"#REF!"}]
[7564,13599448.399999995,{"$f":"VLOOKUP(A2287,'Crete Monee Totals 5-8'!A:B,2,0)","v":164562.70000000001},13434885.699999996,{"$f":"VLOOKUP(A2287,'AFR19'!A:K,12,0)","v":{"$error":"#REF!"}},{"$error":"#REF!"}]
[7570,1334579806.3500001,{"$f":"VLOOKUP(A2288,'Crete Monee Totals 5-8'!A:B,2,0)","v":2642040.7000000002},1331937765.6500001,{"$f":"VLOOKUP(A2288,'AFR19'!A:K,12,0)","v":{"$error":"#REF!"}},{"$error":"#REF!"}]
[7575,32723,0,32723,{"$f":"VLOOKUP(A2289,'AFR19'!A:K,12,0)","v":{"$error":"#REF!"}},{"$error":"#REF!"}]
[7576,1539978,0,1539978,{"$f":"VLOOKUP(A2290,'AFR19'!A:K,12,0)","v":{"$error":"#REF!"}},{"$error":"#REF!"}]
[7577,439,0,439,{"$f":"VLOOKUP(A2291,'AFR19'!A:K,12,0)","v":{"$error":"#REF!"}},{"$error":"#REF!"}]
[7578,34902,0,34902,{"$f":"VLOOKUP(A2292,'AFR19'!A:K,12,0)","v":{"$error":"#REF!"}},{"$error":"#REF!"}]
[7590,286379,0,286379,{"$f":"VLOOKUP(A2293,'AFR19'!A:K,12,0)","v":{"$error":"#REF!"}},{"$error":"#REF!"}]
[7593,8911150,0,8911150,{"$f":"VLOOKUP(A2294,'AFR19'!A:K,12,0)","v":{"$error":"#REF!"}},{"$error":"#REF!"}]
[7594,1784421,0,1784421,{"$f":"VLOOKUP(A2295,'AFR19'!A:K,12,0)","v":{"$error":"#REF!"}},{"$error":"#REF!"}]
[7595,17000,0,17000,{"$f":"VLOOKUP(A2296,'AFR19'!A:K,12,0)","v":{"$error":"#REF!"}},{"$error":"#REF!"}]
[7596,17136081,0,17136081,{"$f":"VLOOKUP(A2297,'AFR19'!A:K,12,0)","v":{"$error":"#REF!"}},{"$error":"#REF!"}]
[7597,3531133,0,3531133,{"$f":"VLOOKUP(A2298,'AFR19'!A:K,12,0)","v":{"$error":"#REF!"}},{"$error":"#REF!"}]
[7598,13830568,0,13830568,{"$f":"VLOOKUP(A2299,'AFR19'!A:K,12,0)","v":{"$error":"#REF!"}},{"$error":"#REF!"}]
[7599,90923,0,90923,{"$f":"VLOOKUP(A2300,'AFR19'!A:K,12,0)","v":{"$error":"#REF!"}},{"$error":"#REF!"}]
[7602,353175,0,353175,{"$f":"VLOOKUP(A2301,'AFR19'!A:K,12,0)","v":{"$error":"#REF!"}},{"$error":"#REF!"}]
[7603,48687,0,48687,{"$f":"VLOOKUP(A2302,'AFR19'!A:K,12,0)","v":{"$error":"#REF!"}},{"$error":"#REF!"}]
[7605,521244,0,521244,{"$f":"VLOOKUP(A2303,'AFR19'!A:K,12,0)","v":{"$error":"#REF!"}},{"$error":"#REF!"}]
[7606,813112,0,813112,{"$f":"VLOOKUP(A2304,'AFR19'!A:K,12,0)","v":{"$error":"#REF!"}},{"$error":"#REF!"}]
[7607,37052,0,37052,{"$f":"VLOOKUP(A2305,'AFR19'!A:K,12,0)","v":{"$error":"#REF!"}},{"$error":"#REF!"}]
[7608,795000,0,795000,{"$f":"VLOOKUP(A2306,'AFR19'!A:K,12,0)","v":{"$error":"#REF!"}},{"$error":"#REF!"}]
[7609,410400,0,{"$f":"SUM(B2307-C2307)","v":410400},{"$f":"VLOOKUP(A2307,'AFR19'!A:K,12,0)","v":{"$error":"#REF!"}},{"$f":"SUM(D2307-E2307)","v":{"$error":"#REF!"}}]
[7610,1664755,0,1664755,{"$f":"VLOOKUP(A2308,'AFR19'!A:K,12,0)","v":{"$error":"#REF!"}},{"$error":"#REF!"}]
[7611,3075016,0,3075016,{"$f":"VLOOKUP(A2309,'AFR19'!A:K,12,0)","v":{"$error":"#REF!"}},{"$error":"#REF!"}]
[7612,14103898,0,14103898,{"$f":"VLOOKUP(A2310,'AFR19'!A:K,12,0)","v":{"$error":"#REF!"}},{"$error":"#REF!"}]
[7613,11765442,0,11765442,{"$f":"VLOOKUP(A2311,'AFR19'!A:K,12,0)","v":{"$error":"#REF!"}},{"$error":"#REF!"}]
[7614,903175,0,903175,{"$f":"VLOOKUP(A2312,'AFR19'!A:K,12,0)","v":{"$error":"#REF!"}},{"$error":"#REF!"}]
[7616,288908,0,288908,{"$f":"VLOOKUP(A2313,'AFR19'!A:K,12,0)","v":{"$error":"#REF!"}},{"$error":"#REF!"}]
[7617,2148844,0,2148844,{"$f":"VLOOKUP(A2314,'AFR19'!A:K,12,0)","v":{"$error":"#REF!"}},{"$error":"#REF!"}]
[7618,2143075,0,2143075,{"$f":"VLOOKUP(A2315,'AFR19'!A:K,12,0)","v":{"$error":"#REF!"}},{"$error":"#REF!"}]
[7619,4751395,0,4751395,{"$f":"VLOOKUP(A2316,'AFR19'!A:K,12,0)","v":{"$error":"#REF!"}},{"$error":"#REF!"}]
[7620,40433,0,40433,{"$f":"VLOOKUP(A2317,'AFR19'!A:K,12,0)","v":{"$error":"#REF!"}},{"$error":"#REF!"}]
[7621,40311,0,40311,{"$f":"VLOOKUP(A2318,'AFR19'!A:K,12,0)","v":{"$error":"#REF!"}},{"$error":"#REF!"}]
[7622,175000,0,175000,{"$f":"VLOOKUP(A2319,'AFR19'!A:K,12,0)","v":{"$error":"#REF!"}},{"$error":"#REF!"}]
[7623,36348180,0,36348180,{"$f":"VLOOKUP(A2320,'AFR19'!A:K,12,0)","v":{"$error":"#REF!"}},{"$error":"#REF!"}]
[7624,64380359,0,64380359,{"$f":"VLOOKUP(A2321,'AFR19'!A:K,12,0)","v":{"$error":"#REF!"}},{"$error":"#REF!"}]
[7625,249222472,0,249222472,{"$f":"VLOOKUP(A2322,'AFR19'!A:K,12,0)","v":{"$error":"#REF!"}},{"$error":"#REF!"}]
[7626,4994178,0,4994178,{"$f":"VLOOKUP(A2323,'AFR19'!A:K,12,0)","v":{"$error":"#REF!"}},{"$error":"#REF!"}]
[7629,14200740,0,14200740,{"$f":"VLOOKUP(A2324,'AFR19'!A:K,12,0)","v":{"$error":"#REF!"}},{"$error":"#REF!"}]
[7630,95,0,95,{"$f":"VLOOKUP(A2325,'AFR19'!A:K,12,0)","v":{"$error":"#REF!"}},{"$error":"#REF!"}]
[7631,53706,0,53706,{"$f":"VLOOKUP(A2326,'AFR19'!A:K,12,0)","v":{"$error":"#REF!"}},{"$error":"#REF!"}]
[7635,14254541,0,14254541,{"$f":"VLOOKUP(A2327,'AFR19'!A:K,12,0)","v":{"$error":"#REF!"}},{"$error":"#REF!"}]
[7636,22400,0,22400,{"$f":"VLOOKUP(A2328,'AFR19'!A:K,12,0)","v":{"$error":"#REF!"}},{"$error":"#REF!"}]
[7638,1257532,0,1257532,{"$f":"VLOOKUP(A2329,'AFR19'!A:K,12,0)","v":{"$error":"#REF!"}},{"$error":"#REF!"}]
[7639,8257,0,8257,{"$f":"VLOOKUP(A2330,'AFR19'!A:K,12,0)","v":{"$error":"#REF!"}},{"$error":"#REF!"}]
[7644,1288189,0,1288189,{"$f":"VLOOKUP(A2331,'AFR19'!A:K,12,0)","v":{"$error":"#REF!"}},{"$error":"#REF!"}]
[7645,181415,0,181415,{"$f":"VLOOKUP(A2332,'AFR19'!A:K,12,0)","v":{"$error":"#REF!"}},{"$error":"#REF!"}]
[7646,48069,0,48069,{"$f":"VLOOKUP(A2333,'AFR19'!A:K,12,0)","v":{"$error":"#REF!"}},{"$error":"#REF!"}]
[7647,51885609,0,51885609,{"$f":"VLOOKUP(A2334,'AFR19'!A:K,12,0)","v":{"$error":"#REF!"}},{"$error":"#REF!"}]
[7648,3517061,0,3517061,{"$f":"VLOOKUP(A2335,'AFR19'!A:K,12,0)","v":{"$error":"#REF!"}},{"$error":"#REF!"}]
[7649,2663537.23,0,2663537.23,{"$f":"VLOOKUP(A2336,'AFR19'!A:K,12,0)","v":{"$error":"#REF!"}},{"$error":"#REF!"}]
[7650,97435.09,0,97435.09,{"$f":"VLOOKUP(A2337,'AFR19'!A:K,12,0)","v":{"$error":"#REF!"}},{"$error":"#REF!"}]
[7651,7328379.46,{"$f":"VLOOKUP(A2338,'Crete Monee Totals 5-8'!A:B,2,0)","v":21475},7306904.46,{"$f":"VLOOKUP(A2338,'AFR19'!A:K,12,0)","v":{"$error":"#REF!"}},{"$error":"#REF!"}]
[7652,92268617.579999998,0,92268617.579999998,{"$f":"VLOOKUP(A2339,'AFR19'!A:K,12,0)","v":{"$error":"#REF!"}},{"$error":"#REF!"}]
[7653,16513131.93,{"$f":"VLOOKUP(A2340,'Crete Monee Totals 5-8'!A:B,2,0)","v":55758},16457373.93,{"$f":"VLOOKUP(A2340,'AFR19'!A:K,12,0)","v":{"$error":"#REF!"}},{"$error":"#REF!"}]
[7654,3103613,0,3103613,{"$f":"VLOOKUP(A2341,'AFR19'!A:K,12,0)","v":{"$error":"#REF!"}},{"$error":"#REF!"}]
[7655,419190,0,419190,{"$f":"VLOOKUP(A2342,'AFR19'!A:K,12,0)","v":{"$error":"#REF!"}},{"$error":"#REF!"}]
[7656,14575787,0,14575787,{"$f":"VLOOKUP(A2343,'AFR19'!A:K,12,0)","v":{"$error":"#REF!"}},{"$error":"#REF!"}]
[7657,112611554.81,0,112611554.81,{"$f":"VLOOKUP(A2344,'AFR19'!A:K,12,0)","v":{"$error":"#REF!"}},{"$error":"#REF!"}]
[7658,24358136.48,{"$f":"VLOOKUP(A2345,'Crete Monee Totals 5-8'!A:B,2,0)","v":77233},24280903.48,{"$f":"VLOOKUP(A2345,'AFR19'!A:K,12,0)","v":{"$error":"#REF!"}},{"$error":"#REF!"}]
[7659,453902063.52999997,{"$f":"VLOOKUP(A2346,'Crete Monee Totals 5-8'!A:B,2,0)","v":4212794},449689269.52999997,{"$f":"VLOOKUP(A2346,'AFR19'!A:K,12,0)","v":{"$error":"#REF!"}},{"$error":"#REF!"}]
[7660,21033894.91,{"$f":"VLOOKUP(A2347,'Crete Monee Totals 5-8'!A:B,2,0)","v":77233},20956661.91,{"$f":"VLOOKUP(A2347,'AFR19'!A:K,12,0)","v":{"$error":"#REF!"}},{"$error":"#REF!"}]
[7661,51379545.140000001,0,51379545.140000001,{"$f":"VLOOKUP(A2348,'AFR19'!A:K,12,0)","v":{"$error":"#REF!"}},{"$error":"#REF!"}]
[7662,114416,0,114416,{"$f":"VLOOKUP(A2349,'AFR19'!A:K,12,0)","v":{"$error":"#REF!"}},{"$error":"#REF!"}]
[7663,17078070.77,0,17078070.77,{"$f":"VLOOKUP(A2350,'AFR19'!A:K,12,0)","v":{"$error":"#REF!"}},{"$error":"#REF!"}]
[7664,24612084,0,24612084,{"$f":"VLOOKUP(A2351,'AFR19'!A:K,12,0)","v":{"$error":"#REF!"}},{"$error":"#REF!"}]
[7665,24085,0,24085,{"$f":"VLOOKUP(A2352,'AFR19'!A:K,12,0)","v":{"$error":"#REF!"}},{"$error":"#REF!"}]
[7666,41714239.769999996,0,41714239.769999996,{"$f":"VLOOKUP(A2353,'AFR19'!A:K,12,0)","v":{"$error":"#REF!"}},{"$error":"#REF!"}]
[7667,35306169,0,35306169,{"$f":"VLOOKUP(A2354,'AFR19'!A:K,12,0)","v":{"$error":"#REF!"}},{"$error":"#REF!"}]
[7668,431118,0,431118,{"$f":"VLOOKUP(A2355,'AFR19'!A:K,12,0)","v":{"$error":"#REF!"}},{"$error":"#REF!"}]
[7669,94314060.909999996,0,94314060.909999996,{"$f":"VLOOKUP(A2356,'AFR19'!A:K,12,0)","v":{"$error":"#REF!"}},{"$error":"#REF!"}]
[7670,75023622.49000001,0,75023622.49000001,{"$f":"VLOOKUP(A2357,'AFR19'!A:K,12,0)","v":{"$error":"#REF!"}},{"$error":"#REF!"}]
[7671,70183102.900000006,0,70183102.900000006,{"$f":"VLOOKUP(A2358,'AFR19'!A:K,12,0)","v":{"$error":"#REF!"}},{"$error":"#REF!"}]
[7672,6295768.5700000003,0,6295768.5700000003,{"$f":"VLOOKUP(A2359,'AFR19'!A:K,12,0)","v":{"$error":"#REF!"}},{"$error":"#REF!"}]
[7673,331748,0,331748,{"$f":"VLOOKUP(A2360,'AFR19'!A:K,12,0)","v":{"$error":"#REF!"}},{"$error":"#REF!"}]
[7674,360408,0,360408,{"$f":"VLOOKUP(A2361,'AFR19'!A:K,12,0)","v":{"$error":"#REF!"}},{"$error":"#REF!"}]
[7676,27022763,0,27022763,{"$f":"VLOOKUP(A2362,'AFR19'!A:K,12,0)","v":{"$error":"#REF!"}},{"$error":"#REF!"}]
[7677,252151,0,252151,{"$f":"VLOOKUP(A2363,'AFR19'!A:K,12,0)","v":{"$error":"#REF!"}},{"$error":"#REF!"}]
[7678,460630,0,460630,{"$f":"VLOOKUP(A2364,'AFR19'!A:K,12,0)","v":{"$error":"#REF!"}},{"$error":"#REF!"}]
[7679,5129537.1000000015,0,5129537.1000000015,{"$f":"VLOOKUP(A2365,'AFR19'!A:K,12,0)","v":{"$error":"#REF!"}},{"$error":"#REF!"}]
[7681,43160339.900000006,0,43160339.900000006,{"$f":"VLOOKUP(A2366,'AFR19'!A:K,12,0)","v":{"$error":"#REF!"}},{"$error":"#REF!"}]
[7682,6043617.5700000003,0,6043617.5700000003,{"$f":"VLOOKUP(A2367,'AFR19'!A:K,12,0)","v":{"$error":"#REF!"}},{"$error":"#REF!"}]
[7684,561491,0,561491,{"$f":"VLOOKUP(A2368,'AFR19'!A:K,12,0)","v":{"$error":"#REF!"}},{"$error":"#REF!"}]
[7685,561491,0,561491,{"$f":"VLOOKUP(A2369,'AFR19'!A:K,12,0)","v":{"$error":"#REF!"}},{"$error":"#REF!"}]
[7686,48635868,0,48635868,{"$f":"VLOOKUP(A2370,'AFR19'!A:K,12,0)","v":{"$error":"#REF!"}},{"$error":"#REF!"}]
[7687,67070538,0,{"$f":"SUM(B2371-C2371)","v":67070538},{"$f":"VLOOKUP(A2371,'AFR19'!A:K,12,0)","v":{"$error":"#REF!"}},{"$f":"SUM(D2371-E2371)","v":{"$error":"#REF!"}}]
[7688,146451090,0,146451090,{"$f":"VLOOKUP(A2372,'AFR19'!A:K,12,0)","v":{"$error":"#REF!"}},{"$error":"#REF!"}]
[7689,12249576,0,12249576,{"$f":"VLOOKUP(A2373,'AFR19'!A:K,12,0)","v":{"$error":"#REF!"}},{"$error":"#REF!"}]
[7690,21978696,0,21978696,{"$f":"VLOOKUP(A2374,'AFR19'!A:K,12,0)","v":{"$error":"#REF!"}},{"$error":"#REF!"}]
[7691,701289,0,701289,{"$f":"VLOOKUP(A2375,'AFR19'!A:K,12,0)","v":{"$error":"#REF!"}},{"$error":"#REF!"}]
[7692,72653795,0,72653795,{"$f":"VLOOKUP(A2376,'AFR19'!A:K,12,0)","v":{"$error":"#REF!"}},{"$error":"#REF!"}]
[7693,866900,0,866900,{"$f":"VLOOKUP(A2377,'AFR19'!A:K,12,0)","v":{"$error":"#REF!"}},{"$error":"#REF!"}]
[7694,6995555,0,6995555,{"$f":"VLOOKUP(A2378,'AFR19'!A:K,12,0)","v":{"$error":"#REF!"}},{"$error":"#REF!"}]
[7695,14028967.1,0,14028967.1,{"$f":"VLOOKUP(A2379,'AFR19'!A:K,12,0)","v":{"$error":"#REF!"}},{"$error":"#REF!"}]
[7697,87060037.129999995,0,87060037.129999995,{"$f":"VLOOKUP(A2380,'AFR19'!A:K,12,0)","v":{"$error":"#REF!"}},{"$error":"#REF!"}]
[7698,56649120.009999998,{"$f":"VLOOKUP(A2381,'Crete Monee Totals 5-8'!A:B,2,0)","v":1116167},55532953.009999998,{"$f":"VLOOKUP(A2381,'AFR19'!A:K,12,0)","v":{"$error":"#REF!"}},{"$error":"#REF!"}]
[7699,143709157.13999999,{"$f":"VLOOKUP(A2382,'Crete Monee Totals 5-8'!A:B,2,0)","v":1116167},142592990.13999999,{"$f":"VLOOKUP(A2382,'AFR19'!A:K,12,0)","v":{"$error":"#REF!"}},{"$error":"#REF!"}]
[7700,54797,0,54797,{"$f":"VLOOKUP(A2383,'AFR19'!A:K,12,0)","v":{"$error":"#REF!"}},{"$error":"#REF!"}]
[7701,704161333,0,704161333,{"$f":"VLOOKUP(A2384,'AFR19'!A:K,12,0)","v":{"$error":"#REF!"}},{"$error":"#REF!"}]
[7702,704161333,0,704161333,{"$f":"VLOOKUP(A2385,'AFR19'!A:K,12,0)","v":{"$error":"#REF!"}},{"$error":"#REF!"}]
[7704,11601939,0,11601939,{"$f":"VLOOKUP(A2386,'AFR19'!A:K,12,0)","v":{"$error":"#REF!"}},{"$error":"#REF!"}]
[7707,198119,0,198119,{"$f":"VLOOKUP(A2387,'AFR19'!A:K,12,0)","v":{"$error":"#REF!"}},{"$error":"#REF!"}]
[7708,27406,0,27406,{"$f":"VLOOKUP(A2388,'AFR19'!A:K,12,0)","v":{"$error":"#REF!"}},{"$error":"#REF!"}]
[7712,1220276,0,1220276,{"$f":"VLOOKUP(A2389,'AFR19'!A:K,12,0)","v":{"$error":"#REF!"}},{"$error":"#REF!"}]
[7713,390000,0,390000,{"$f":"VLOOKUP(A2390,'AFR19'!A:K,12,0)","v":{"$error":"#REF!"}},{"$error":"#REF!"}]
[7714,153556,0,153556,{"$f":"VLOOKUP(A2391,'AFR19'!A:K,12,0)","v":{"$error":"#REF!"}},{"$error":"#REF!"}]
[7715,543556,0,543556,{"$f":"VLOOKUP(A2392,'AFR19'!A:K,12,0)","v":{"$error":"#REF!"}},{"$error":"#REF!"}]
[7716,6559,0,6559,{"$f":"VLOOKUP(A2393,'AFR19'!A:K,12,0)","v":{"$error":"#REF!"}},{"$error":"#REF!"}]
[7717,6559,0,6559,{"$f":"VLOOKUP(A2394,'AFR19'!A:K,12,0)","v":{"$error":"#REF!"}},{"$error":"#REF!"}]
[7718,95572,0,95572,{"$f":"VLOOKUP(A2395,'AFR19'!A:K,12,0)","v":{"$error":"#REF!"}},{"$error":"#REF!"}]
[7719,95572,0,95572,{"$f":"VLOOKUP(A2396,'AFR19'!A:K,12,0)","v":{"$error":"#REF!"}},{"$error":"#REF!"}]
[7720,37852,0,37852,{"$f":"VLOOKUP(A2397,'AFR19'!A:K,12,0)","v":{"$error":"#REF!"}},{"$error":"#REF!"}]
[7721,37852,0,37852,{"$f":"VLOOKUP(A2398,'AFR19'!A:K,12,0)","v":{"$error":"#REF!"}},{"$error":"#REF!"}]
[7722,719170,0,719170,{"$f":"VLOOKUP(A2399,'AFR19'!A:K,12,0)","v":{"$error":"#REF!"}},{"$error":"#REF!"}]
[7723,719170,0,719170,{"$f":"VLOOKUP(A2400,'AFR19'!A:K,12,0)","v":{"$error":"#REF!"}},{"$error":"#REF!"}]
[7724,203421,0,203421,{"$f":"VLOOKUP(A2401,'AFR19'!A:K,12,0)","v":{"$error":"#REF!"}},{"$error":"#REF!"}]
[7725,203421,0,203421,{"$f":"VLOOKUP(A2402,'AFR19'!A:K,12,0)","v":{"$error":"#REF!"}},{"$error":"#REF!"}]
[7726,294415,0,294415,{"$f":"VLOOKUP(A2403,'AFR19'!A:K,12,0)","v":{"$error":"#REF!"}},{"$error":"#REF!"}]
[7727,294415,0,294415,{"$f":"VLOOKUP(A2404,'AFR19'!A:K,12,0)","v":{"$error":"#REF!"}},{"$error":"#REF!"}]
[7728,497836,0,497836,{"$f":"VLOOKUP(A2405,'AFR19'!A:K,12,0)","v":{"$error":"#REF!"}},{"$error":"#REF!"}]
[7729,497836,0,497836,{"$f":"VLOOKUP(A2406,'AFR19'!A:K,12,0)","v":{"$error":"#REF!"}},{"$error":"#REF!"}]
[7735,497836,0,497836,{"$f":"VLOOKUP(A2407,'AFR19'!A:K,12,0)","v":{"$error":"#REF!"}},{"$error":"#REF!"}]

{"sheet":"Sheet4","index":18,"n_rows":852,"n_cols":8,"rows_kept":852,"cut":false,"hidden":true,"merged":[]}
["ChrAgreNum","cds_dst_name","3612","3613",null,"ChrAgreNum","cds_dst_name","3612"]
["01001001026","Payson CUSD 1",null,null,null,"01001001026","Payson CUSD 1"]
["01001002026","Liberty CUSD 2",null,null,null,"01001002026","Liberty CUSD 2"]
["01001003026","Central CUSD 3",null,null,null,"01001003026","Central CUSD 3"]
["01001004026","CUSD 4",null,null,null,"01001004026","CUSD 4"]
["01001172022","Quincy SD 172",null,null,null,"01001172022","Quincy SD 172"]
["01005001026","Brown County CUSD 1",null,null,null,"01005001026","Brown County CUSD 1"]
["01009015026","Beardstown CUSD 15",null,null,null,"01009015026","Beardstown CUSD 15"]
["01009064026","Virginia CUSD 64",null,null,null,"01009064026","Virginia CUSD 64"]
["01009262026","A-C Central CUSD 262",null,null,null,"01009262026","A-C Central CUSD 262"]
["01069001026","Franklin CUSD 1",null,null,null,"01069001026","Franklin CUSD 1"]
["01069006026","Waverly CUSD 6",null,null,null,"01069006026","Waverly CUSD 6"]
["01069011026","Meredosia-Chambersburg CUSD 11",null,null,null,"01069011026","Meredosia-Chambersburg CUSD 11"]
["01069027026","Triopia CUSD 27",null,null,null,"01069027026","Triopia CUSD 27"]
["01069117022","Jacksonville SD 117",null,null,null,"01069117022","Jacksonville SD 117"]
["01075003026","Pleasant Hill CUSD 3",null,null,null,"01075003026","Pleasant Hill CUSD 3"]
["01075004026","Griggsville-Perry CUSD 4",null,null,null,"01075004026","Griggsville-Perry CUSD 4"]
["01075010026","Pikeland CUSD 10",null,null,null,"01075010026","Pikeland CUSD 10"]
["01075012026","Western CUSD 12",null,null,null,"01075012026","Western CUSD 12"]
["01086001026","Winchester CUSD 1",null,null,null,"01086001026","Winchester CUSD 1"]
["01086002026","Scott-Morgan CUSD 2",null,null,null,"01086002026","Scott-Morgan CUSD 2"]
["03003001026","Mulberry Grove CUSD 1",null,null,null,"03003001026","Mulberry Grove CUSD 1"]
["03003002026","Bond County CUSD 2",null,null,null,"03003002026","Bond County CUSD 2"]
["03011001026","Morrisonville CUSD 1",null,null,null,"03011001026","Morrisonville CUSD 1"]
["03011003026","Taylorville CUSD 3",null,null,null,"03011003026","Taylorville CUSD 3"]
["03011004026","Edinburg CUSD 4",null,null,null,"03011004026","Edinburg CUSD 4"]
["03011008026","Pana CUSD 8",null,null,null,"03011008026","Pana CUSD 8"]
["03011014024","South Fork SD 14",null,null,null,"03011014024","South Fork SD 14"]
["03025010026","Altamont CUSD 10",null,null,null,"03025010026","Altamont CUSD 10"]
["03025020026","Beecher City CUSD 20",null,null,null,"03025020026","Beecher City CUSD 20"]
["03025030026","Dieterich CUSD 30",null,null,null,"03025030026","Dieterich CUSD 30"]
["03025040026","Effingham CUSD 40",null,null,null,"03025040026","Effingham CUSD 40"]
["03025050026","Teutopolis CUSD 50",null,null,null,"03025050026","Teutopolis CUSD 50"]
["03026201026","Brownstown CUSD 201",null,null,null,"03026201026","Brownstown CUSD 201"]
["03026202026","St Elmo CUSD 202",null,null,null,"03026202026","St Elmo CUSD 202"]
["03026203026","Vandalia CUSD 203",null,null,null,"03026203026","Vandalia CUSD 203"]
["03026204026","Ramsey CUSD 204",null,null,null,"03026204026","Ramsey CUSD 204"]
["03068002026","Panhandle CUSD 2",null,null,null,"03068002026","Panhandle CUSD 2"]
["03068003026","Hillsboro CUSD 3",null,null,null,"03068003026","Hillsboro CUSD 3"]
["03068012026","Litchfield CUSD 12",null,null,null,"03068012026","Litchfield CUSD 12"]
["03068022026","Nokomis CUSD 22",null,null,null,"03068022026","Nokomis CUSD 22"]
["04004100026","Belvidere CUSD 100",null,null,null,"04004100026","Belvidere CUSD 100"]
["04004200026","North Boone CUSD 200",null,null,null,"04004200026","North Boone CUSD 200"]
["04101122022","Harlem UD 122",null,null,null,"04101122022","Harlem UD 122"]
["04101131004","Kinnikinnick CCSD 131",null,null,null,"04101131004","Kinnikinnick CCSD 131"]
["04101133004","Prairie Hill CCSD 133",null,null,null,"04101133004","Prairie Hill CCSD 133"]
["04101134004","Shirland CCSD 134",null,null,null,"04101134004","Shirland CCSD 134"]
["04101140004","Rockton SD 140",null,null,null,"04101140004","Rockton SD 140"]
["04101205025","Rockford SD 205",null,null,null,"04101205025","Rockford SD 205"]
["04101207016","Hononegah CHD 207",null,null,null,"04101207016","Hononegah CHD 207"]
["04101320026","County of Winnebago SD 320",null,null,null,"04101320026","County of Winnebago SD 320"]
["04101321026","Pecatonica CUSD 321",null,null,null,"04101321026","Pecatonica CUSD 321"]
["04101322026","Durand CUSD 322",null,null,null,"04101322026","Durand CUSD 322"]
["04101323026","Winnebago CUSD 323",null,null,null,"04101323026","Winnebago CUSD 323"]
["05016015004","Palatine CCSD 15",null,null,null,"05016015004","Palatine CCSD 15"]
["05016021004","Wheeling CCSD 21",null,null,null,"05016021004","Wheeling CCSD 21"]
["05016023002","Prospect Heights SD 23",null,null,null,"05016023002","Prospect Heights SD 23"]
["05016025002","Arlington Heights SD 25",null,null,null,"05016025002","Arlington Heights SD 25"]
["05016026002","River Trails SD 26",null,null,null,"05016026002","River Trails SD 26"]
["05016027002","Northbrook ESD 27",null,null,null,"05016027002","Northbrook ESD 27"]
["05016028002","Northbrook SD 28",null,null,null,"05016028002","Northbrook SD 28"]
["05016029002","Sunset Ridge SD 29",null,null,null,"05016029002","Sunset Ridge SD 29"]
["05016030002","Northbrook/Glenview SD 30",null,null,null,"05016030002","Northbrook/Glenview SD 30"]
["05016031002","West Northfield SD 31",null,null,null,"05016031002","West Northfield SD 31"]
["05016034004","Glenview CCSD 34",null,null,null,"05016034004","Glenview CCSD 34"]
["05016035002","Glencoe SD 35",null,null,null,"05016035002","Glencoe SD 35"]
["05016036002","Winnetka SD 36",null,null,null,"05016036002","Winnetka SD 36"]
["05016037002","Avoca SD 37",null,null,null,"05016037002","Avoca SD 37"]
["05016038002","Kenilworth SD 38",null,null,null,"05016038002","Kenilworth SD 38"]
["05016039002","Wilmette SD 39",null,null,null,"05016039002","Wilmette SD 39"]
["05016054004","Schaumburg CCSD 54",null,null,null,"05016054004","Schaumburg CCSD 54"]
["05016057002","Mount Prospect SD 57",null,null,null,"05016057002","Mount Prospect SD 57"]
["05016059004","Comm Cons SD 59",null,null,null,"05016059004","Comm Cons SD 59"]
["05016062004","CCSD 62",null,null,null,"05016062004","CCSD 62"]
["05016063002","East Maine SD 63",null,null,null,"05016063002","East Maine SD 63"]
["05016064004","Park Ridge CCSD 64",null,null,null,"05016064004","Park Ridge CCSD 64"]
["05016065004","Evanston CCSD 65",null,null,null,"05016065004","Evanston CCSD 65"]
["05016067002","Golf ESD 67",null,null,null,"05016067002","Golf ESD 67"]
["05016068002","Skokie SD 68",null,null,null,"05016068002","Skokie SD 68"]
["05016069002","Skokie SD 69",null,null,null,"05016069002","Skokie SD 69"]
["05016070002","Morton Grove SD 70",null,null,null,"05016070002","Morton Grove SD 70"]
["05016071002","Niles ESD 71",null,null,null,"05016071002","Niles ESD 71"]
["05016072002","Fairview SD 72",null,null,null,"05016072002","Fairview SD 72"]
["05016073002","East Prairie SD 73",null,null,null,"05016073002","East Prairie SD 73"]
["05016073502","Skokie SD 73-5",null,null,null,"05016073502","Skokie SD 73-5"]
["05016074002","Lincolnwood SD 74",null,null,null,"05016074002","Lincolnwood SD 74"]
["05016202017","Evanston Twp HSD 202",null,null,null,"05016202017","Evanston Twp HSD 202"]
["05016203017","New Trier Twp HSD 203",null,null,null,"05016203017","New Trier Twp HSD 203"]
["05016207017","Maine Township HSD 207",null,null,null,"05016207017","Maine Township HSD 207"]
["05016211017","Township HSD 211",null,null,null,"05016211017","Township HSD 211"]
["05016214017","Township HSD 214",null,null,null,"05016214017","Township HSD 214"]
["05016219017","Niles Twp HSD 219",null,null,null,"05016219017","Niles Twp HSD 219"]
["05016225017","Northfield Twp HSD 225",null,null,null,"05016225017","Northfield Twp HSD 225"]
["06016078002","Rosemont ESD 78",null,null,null,"06016078002","Rosemont ESD 78"]
["06016079002","Pennoyer SD 79",null,null,null,"06016079002","Pennoyer SD 79"]
["06016080002","Norridge SD 80",null,null,null,"06016080002","Norridge SD 80",5985]
["06016081002","Schiller Park SD 81",null,null,null,"06016081002","Schiller Park SD 81"]
["06016083002","Mannheim SD 83",null,null,null,"06016083002","Mannheim SD 83"]
["06016084002","Franklin Park SD 84",null,null,null,"06016084002","Franklin Park SD 84"]
["06016084502","Rhodes SD 84-5",null,null,null,"06016084502","Rhodes SD 84-5"]
["06016085502","River Grove SD 85-5",null,null,null,"06016085502","River Grove SD 85-5"]
["06016086002","Union Ridge SD 86",null,null,null,"06016086002","Union Ridge SD 86"]
["06016087002","Berkeley SD 87",null,null,null,"06016087002","Berkeley SD 87"]
["06016088002","Bellwood SD 88",null,null,null,"06016088002","Bellwood SD 88"]
["06016089002","Maywood-Melrose Park-Broadview 89",null,null,null,"06016089002","Maywood-Melrose Park-Broadview 89"]
["06016090002","River Forest SD 90",null,null,null,"06016090002","River Forest SD 90"]
["06016091002","Forest Park SD 91",null,null,null,"06016091002","Forest Park SD 91"]
["06016092002","Lindop SD 92",null,null,null,"06016092002","Lindop SD 92"]
["06016092502","Westchester SD 92-5",null,null,null,"06016092502","Westchester SD 92-5"]
["06016093002","Hillside SD 93",null,null,null,"06016093002","Hillside SD 93"]
["06016094002","Komarek SD 94",null,null,null,"06016094002","Komarek SD 94"]
["06016095002","Brookfield Lagrange Park SD 95",null,null,null,"06016095002","Brookfield Lagrange Park SD 95"]
["06016096002","Riverside SD 96",null,null,null,"06016096002","Riverside SD 96"]
["06016097002","Oak Park ESD 97",null,null,null,"06016097002","Oak Park ESD 97"]
["06016098002","Berwyn North SD 98",null,null,null,"06016098002","Berwyn North SD 98"]
["06016099002","Cicero SD 99",null,null,null,"06016099002","Cicero SD 99"]
["06016100002","Berwyn South SD 100",null,null,null,"06016100002","Berwyn South SD 100"]
["06016101002","Western Springs SD 101",null,null,null,"06016101002","Western Springs SD 101"]
["06016102002","La Grange SD 102",null,null,null,"06016102002","La Grange SD 102"]
["06016103002","Lyons SD 103",null,null,null,"06016103002","Lyons SD 103"]
["06016105002","La Grange SD 105 South",null,null,null,"06016105002","La Grange SD 105 South"]
["06016106002","LaGrange Highlands SD 106",null,null,null,"06016106002","LaGrange Highlands SD 106"]
["06016107002","Pleasantdale SD 107",null,null,null,"06016107002","Pleasantdale SD 107"]
["06016200013","Oak Park - River Forest SD 200",null,null,null,"06016200013","Oak Park - River Forest SD 200"]
["06016201017","J S Morton HSD 201",null,null,null,"06016201017","J S Morton HSD 201"]
["06016204017","Lyons Twp HSD 204",null,null,null,"06016204017","Lyons Twp HSD 204"]
["06016208017","Riverside-Brookfield Twp SD 208",null,null,null,"06016208017","Riverside-Brookfield Twp SD 208"]
["06016209017","Proviso Twp HSD 209",null,null,null,"06016209017","Proviso Twp HSD 209"]
["06016212016","Leyden CHSD 212",null,null,null,"06016212016","Leyden CHSD 212"]
["06016234016","Ridgewood CHSD 234",null,null,null,"06016234016","Ridgewood CHSD 234"]
["06016401026","Elmwood Park CUSD 401",null,null,null,"06016401026","Elmwood Park CUSD 401"]
["07016104002","Summit SD 104",null,null,null,"07016104002","Summit SD 104"]
["07016108002","Willow Springs SD 108",null,null,null,"07016108002","Willow Springs SD 108"]
["07016109002","Indian Springs SD 109",null,null,null,"07016109002","Indian Springs SD 109"]
["07016110002","Central Stickney SD 110",null,null,null,"07016110002","Central Stickney SD 110"]
["07016111002","Burbank SD 111",null,null,null,"07016111002","Burbank SD 111"]
["07016113A02","Lemont-Bromberek CSD 113A",null,null,null,"07016113A02","Lemont-Bromberek CSD 113A"]
["07016117002","North Palos SD 117",null,null,null,"07016117002","North Palos SD 117"]
["07016118004","Palos CCSD 118",null,null,null,"07016118004","Palos CCSD 118"]
["07016122002","Ridgeland SD 122",null,null,null,"07016122002","Ridgeland SD 122"]
["07016123002","Oak Lawn-Hometown SD 123",null,null,null,"07016123002","Oak Lawn-Hometown SD 123"]
["07016124002","Evergreen Park ESD 124",null,null,null,"07016124002","Evergreen Park ESD 124"]
["07016125002","Atwood Heights SD 125",null,null,null,"07016125002","Atwood Heights SD 125"]
["07016126002","Alsip-Hazlgrn-Oaklwn SD 126",null,null,null,"07016126002","Alsip-Hazlgrn-Oaklwn SD 126"]
["07016127002","Worth SD 127",null,null,null,"07016127002","Worth SD 127"]
["07016127502","Chicago Ridge SD 127-5",null,null,null,"07016127502","Chicago Ridge SD 127-5"]
["07016128002","Palos Heights SD 128",null,null,null,"07016128002","Palos Heights SD 128"]
["07016130002","Cook County SD 130",null,null,null,"07016130002","Cook County SD 130"]
["07016132002","Calumet Public SD 132",null,null,null,"07016132002","Calumet Public SD 132"]
["07016133002","Gen George Patton SD 133",null,null,null,"07016133002","Gen George Patton SD 133"]
["07016135002","Orland SD 135",null,null,null,"07016135002","Orland SD 135"]
["07016140002","Kirby SD 140",null,null,null,"07016140002","Kirby SD 140"]
["07016142002","Forest Ridge SD 142",null,null,null,"07016142002","Forest Ridge SD 142"]
["07016143002","Midlothian SD 143",null,null,null,"07016143002","Midlothian SD 143"]
["07016143502","Posen-Robbins ESD 143-5",null,null,null,"07016143502","Posen-Robbins ESD 143-5"]
["07016144002","Prairie-Hills ESD 144",null,null,null,"07016144002","Prairie-Hills ESD 144"]
["07016145002","Arbor Park SD 145",null,null,null,"07016145002","Arbor Park SD 145"]
["07016146004","CCSD 146",null,null,null,"07016146004","CCSD 146"]
["07016147002","W Harvey-Dixmoor PSD 147",null,null,null,"07016147002","W Harvey-Dixmoor PSD 147"]
["07016148002","Dolton SD 148",null,null,null,"07016148002","Dolton SD 148"]
["07016149002","Dolton SD 149",null,null,null,"07016149002","Dolton SD 149"]
["07016150002","South Holland SD 150",null,null,null,"07016150002","South Holland SD 150"]
["07016151002","South Holland SD 151",null,null,null,"07016151002","South Holland SD 151"]
["07016152002","Harvey SD 152",null,null,null,"07016152002","Harvey SD 152"]
["07016152502","Hazel Crest SD 152-5",null,null,null,"07016152502","Hazel Crest SD 152-5"]
["07016153002","Homewood SD 153",null,null,null,"07016153002","Homewood SD 153"]
["07016154002","Thornton SD 154",null,null,null,"07016154002","Thornton SD 154"]
["07016154502","Burnham SD 154-5",null,null,null,"07016154502","Burnham SD 154-5"]
["07016155002","Calumet City SD 155",null,null,null,"07016155002","Calumet City SD 155"]
["07016156002","Lincoln ESD 156",null,null,null,"07016156002","Lincoln ESD 156"]
["07016157002","Hoover-Schrum Memorial SD 157",null,null,null,"07016157002","Hoover-Schrum Memorial SD 157"]
["07016158002","Lansing SD 158",null,null,null,"07016158002","Lansing SD 158"]
["07016159002","ESD 159",null,null,null,"07016159002","ESD 159"]
["07016160002","Country Club Hills SD 160",null,null,null,"07016160002","Country Club Hills SD 160"]
["07016161002","Flossmoor SD 161",null,null,null,"07016161002","Flossmoor SD 161"]
["07016162002","Matteson ESD 162",null,null,null,"07016162002","Matteson ESD 162"]
["07016163002","Park Forest SD 163",null,null,null,"07016163002","Park Forest SD 163"]
["07016167002","Brookwood SD 167",null,null,null,"07016167002","Brookwood SD 167"]
["07016168004","CCSD 168",null,null,null,"07016168004","CCSD 168"]
["07016169002","Ford Heights SD 169",null,null,null,"07016169002","Ford Heights SD 169"]
["07016170002","Chicago Heights SD 170",null,null,null,"07016170002","Chicago Heights SD 170"]
["07016171002","Sunnybrook SD 171",null,null,null,"07016171002","Sunnybrook SD 171"]
["07016172002","Sandridge SD 172",null,null,null,"07016172002","Sandridge SD 172"]
["07016194002","Steger SD 194",null,null,null,"07016194002","Steger SD 194"]
["07016205017","Thornton Twp HSD 205",null,null,null,"07016205017","Thornton Twp HSD 205"]
["07016206017","Bloom Twp HSD 206",null,null,null,"07016206017","Bloom Twp HSD 206"]
["07016210017","Lemont Twp HSD 210",null,null,null,"07016210017","Lemont Twp HSD 210"]
["07016215017","Thornton Fractional Twp HSD 215",null,null,null,"07016215017","Thornton Fractional Twp HSD 215"]
["07016217016","Argo CHSD 217",null,null,null,"07016217016","Argo CHSD 217"]
["07016218016","CHSD 218",null,null,null,"07016218016","CHSD 218"]
["07016220017","Reavis Twp HSD 220",null,null,null,"07016220017","Reavis Twp HSD 220"]
["07016227017","Rich Twp HSD 227",null,null,null,"07016227017","Rich Twp HSD 227"]
["07016228016","Bremen CHSD 228",null,null,null,"07016228016","Bremen CHSD 228"]
["07016229016","Oak Lawn CHSD 229",null,null,null,"07016229016","Oak Lawn CHSD 229"]
["07016230013","Cons HSD 230",null,null,null,"07016230013","Cons HSD 230"]
["07016231016","Evergreen Park CHSD 231",null,null,null,"07016231016","Evergreen Park CHSD 231"]
["07016233016","Homewood Flossmoor CHSD 233",null,null,null,"07016233016","Homewood Flossmoor CHSD 233"]
["08008308026","Eastland CUSD 308",null,null,null,"08008308026","Eastland CUSD 308"]
["08008314026","West Carroll CUSD 314",null,null,null,"08008314026","West Carroll CUSD 314"]
["08008399026","Chadwick-Milledgeville CUSD 399",null,null,null,"08008399026","Chadwick-Milledgeville CUSD 399"]
["08043119022","East Dubuque USD 119",null,null,null,"08043119022","East Dubuque USD 119"]
["08043120022","Galena USD 120",null,null,null,"08043120022","Galena USD 120"]
["08043205026","Warren CUSD 205",null,null,null,"08043205026","Warren CUSD 205"]
["08043206026","Stockton CUSD 206",null,null,null,"08043206026","Stockton CUSD 206"]
["08043210026","River Ridge CUSD 210",null,null,null,"08043210026","River Ridge CUSD 210"]
["08043211026","Scales Mound CUSD 211",null,null,null,"08043211026","Scales Mound CUSD 211"]
["08089145022","Freeport SD 145",null,null,null,"08089145022","Freeport SD 145"]
["08089200026","Pearl City CUSD 200",null,null,null,"08089200026","Pearl City CUSD 200"]
["08089201026","Dakota CUSD 201",null,null,null,"08089201026","Dakota CUSD 201"]
["08089202026","Lena Winslow CUSD 202",null,null,null,"08089202026","Lena Winslow CUSD 202"]
["08089203026","Orangeville CUSD 203",null,null,null,"08089203026","Orangeville CUSD 203"]
["09010001026","Fisher CUSD 1",null,null,null,"09010001026","Fisher CUSD 1"]
["09010003026","Mahomet-Seymour CUSD 3",null,null,null,"09010003026","Mahomet-Seymour CUSD 3"]
["09010004026","Champaign CUSD 4",null,null,null,"09010004026","Champaign CUSD 4"]
["09010007026","Tolono CUSD 7",null,null,null,"09010007026","Tolono CUSD 7"]
["09010008026","Heritage CUSD 8",null,null,null,"09010008026","Heritage CUSD 8"]
["09010116022","Urbana SD 116",null,null,null,"09010116022","Urbana SD 116"]
["09010130004","Thomasboro CCSD 130",null,null,null,"09010130004","Thomasboro CCSD 130"]
["09010137002","Rantoul City SD 137",null,null,null,"09010137002","Rantoul City SD 137"]
["09010142004","Ludlow CCSD 142",null,null,null,"09010142004","Ludlow CCSD 142"]
["09010169004","St Joseph CCSD 169",null,null,null,"09010169004","St Joseph CCSD 169"]
["09010188004","Gifford CCSD 188",null,null,null,"09010188004","Gifford CCSD 188"]
["09010193017","Rantoul Township HSD 193",null,null,null,"09010193017","Rantoul Township HSD 193"]
["09010197004","Prairieview-Ogden CCSD 197",null,null,null,"09010197004","Prairieview-Ogden CCSD 197"]
["09010305016","St Joseph Ogden CHSD 305",null,null,null,"09010305016","St Joseph Ogden CHSD 305"]
["09027005026","Gibson City-Melvin-Sibley CUSD 5",null,null,null,"09027005026","Gibson City-Melvin-Sibley CUSD 5"]
["09027010026","Paxton-Buckley-Loda CUD 10",null,null,null,"09027010026","Paxton-Buckley-Loda CUD 10"]
["11012002C26","Marshall CUSD 2C",null,null,null,"11012002C26","Marshall CUSD 2C"]
["11012003C26","Martinsville CUSD 3C",null,null,null,"11012003C26","Martinsville CUSD 3C"]
["11012004C26","Casey-Westfield CUSD 4C",null,null,null,"11012004C26","Casey-Westfield CUSD 4C"]
["11015001026","Charleston CUSD 1",null,null,null,"11015001026","Charleston CUSD 1"]
["11015002026","Mattoon CUSD 2",null,null,null,"11015002026","Mattoon CUSD 2"]
["11015005026","Oakland CUSD 5",null,null,null,"11015005026","Oakland CUSD 5"]
["11018003026","Neoga CUSD 3",null,null,null,"11018003026","Neoga CUSD 3"]
["11018077026","Cumberland CUSD 77",null,null,null,"11018077026","Cumberland CUSD 77"]
["11021301026","Tuscola CUSD 301",null,null,null,"11021301026","Tuscola CUSD 301"]
["11021302026","Villa Grove CUSD 302",null,null,null,"11021302026","Villa Grove CUSD 302"]
["11021305026","Arthur CUSD 305",null,null,null,"11021305026","Arthur CUSD 305"]
["11021306026","Arcola CUSD 306",null,null,null,"11021306026","Arcola CUSD 306"]
["11023001026","Shiloh CUSD 1",null,null,null,"11023001026","Shiloh CUSD 1"]
["11023003026","Kansas CUSD 3",null,null,null,"11023003026","Kansas CUSD 3"]
["11023004026","Paris CUSD 4",null,null,null,"11023004026","Paris CUSD 4"]
["11023006026","Edgar County CUD 6",null,null,null,"11023006026","Edgar County CUD 6"]
["11023095025","Paris-Union SD 95",null,null,null,"11023095025","Paris-Union SD 95"]
["11070300026","Sullivan CUSD 300",null,null,null,"11070300026","Sullivan CUSD 300"]
["11070302026","Okaw Valley CUSD 302",null,null,null,"11070302026","Okaw Valley CUSD 302"]
["11087001026","Windsor CUSD 1",null,null,null,"11087001026","Windsor CUSD 1"]
["11087003A26","Cowden-Herrick CUSD 3A",null,null,null,"11087003A26","Cowden-Herrick CUSD 3A"]
["11087004026","Shelbyville CUSD 4",null,null,null,"11087004026","Shelbyville CUSD 4"]
["11087005A26","Stewardson-Strasburg CUD 5A",null,null,null,"11087005A26","Stewardson-Strasburg CUD 5A"]
["11087021026","Central A & M CUD 21",null,null,null,"11087021026","Central A & M CUD 21"]
["12013010026","Clay City CUSD 10",null,null,null,"12013010026","Clay City CUSD 10"]
["12013025026","North Clay CUSD 25",null,null,null,"12013025026","North Clay CUSD 25"]
["12013035026","Flora CUSD 35",null,null,null,"12013035026","Flora CUSD 35"]
["12017001026","Hutsonville CUSD 1",null,null,null,"12017001026","Hutsonville CUSD 1"]
["12017002026","Robinson CUSD 2",null,null,null,"12017002026","Robinson CUSD 2"]
["12017003026","Palestine CUSD 3",null,null,null,"12017003026","Palestine CUSD 3"]
["12017004026","Oblong CUSD 4",null,null,null,"12017004026","Oblong CUSD 4"]
["12040001026","Jasper County CUD 1",null,null,null,"12040001026","Jasper County CUD 1"]
["12051010026","Red Hill CUSD 10",null,null,null,"12051010026","Red Hill CUSD 10"]
["12051020026","Lawrence County CUD 20",null,null,null,"12051020026","Lawrence County CUD 20"]
["12080001026","Richland County CUSD 1",null,null,null,"12080001026","Richland County CUSD 1"]
["13014001026","Carlyle CUSD 1",null,null,null,"13014001026","Carlyle CUSD 1"]
["13014003026","Wesclin CUSD 3",null,null,null,"13014003026","Wesclin CUSD 3"]
["13014012004","Breese ESD 12",null,null,null,"13014012004","Breese ESD 12"]
["13014021002","Aviston SD 21",null,null,null,"13014021002","Aviston SD 21"]
["13014046002","Willow Grove SD 46",null,null,null,"13014046002","Willow Grove SD 46"]
["13014057002","Bartelso SD 57",null,null,null,"13014057002","Bartelso SD 57"]
["13014060002","Germantown SD 60",null,null,null,"13014060002","Germantown SD 60"]
["13014062002","Damiansville SD 62",null,null,null,"13014062002","Damiansville SD 62"]
["13014063002","Albers SD 63",null,null,null,"13014063002","Albers SD 63"]
["13014071016","Central CHSD 71",null,null,null,"13014071016","Central CHSD 71"]
["13014141502","St Rose SD 14-15",null,null,null,"13014141502","St Rose SD 14-15"]
["13014186002","North Wamac SD 186",null,null,null,"13014186002","North Wamac SD 186"]
["13041001026","Waltonville CUSD 1",null,null,null,"13041001026","Waltonville CUSD 1"]
["13041002004","Rome CCSD 2",null,null,null,"13041002004","Rome CCSD 2"]
["13041003004","Field CCSD 3",null,null,null,"13041003004","Field CCSD 3"]
["13041005004","Opdyke-Belle-Rive CCSD 5",null,null,null,"13041005004","Opdyke-Belle-Rive CCSD 5"]
["13041006004","Grand Prairie CCSD 6",null,null,null,"13041006004","Grand Prairie CCSD 6"]
["13041012004","McClellan CCSD 12",null,null,null,"13041012004","McClellan CCSD 12"]
["13041079002","Summersville SD 79",null,null,null,"13041079002","Summersville SD 79"]
["13041080002","Mount Vernon SD 80",null,null,null,"13041080002","Mount Vernon SD 80"]
["13041082002","Bethel SD 82",null,null,null,"13041082002","Bethel SD 82"]
["13041099004","Farrington CCSD 99",null,null,null,"13041099004","Farrington CCSD 99"]
["13041178004","Spring Garden CCSD 178",null,null,null,"13041178004","Spring Garden CCSD 178"]
["13041201017","Mt Vernon Twp HSD 201",null,null,null,"13041201017","Mt Vernon Twp HSD 201"]
["13041209027","Woodlawn Unit School District 209",null,null,null,"13041209027","Woodlawn Unit School District 209"]
["13041318027","Bluford Unit School District 318",null,null,null,"13041318027","Bluford Unit School District 318"]
["13058001003","Raccoon Cons SD 1",null,null,null,"13058001003","Raccoon Cons SD 1"]
["13058002003","Kell Cons SD 2",null,null,null,"13058002003","Kell Cons SD 2"]
["13058007004","Iuka CCSD 7",null,null,null,"13058007004","Iuka CCSD 7"]
["13058010004","Selmaville CCSD 10",null,null,null,"13058010004","Selmaville CCSD 10"]
["13058100026","Patoka CUSD 100",null,null,null,"13058100026","Patoka CUSD 100"]
["13058111002","Salem SD 111",null,null,null,"13058111002","Salem SD 111"]
["13058133002","Central City SD 133",null,null,null,"13058133002","Central City SD 133"]
["13058135002","Centralia SD 135",null,null,null,"13058135002","Centralia SD 135"]
["13058200017","Centralia HSD 200",null,null,null,"13058200017","Centralia HSD 200"]
["13058401026","South Central CUD 401",null,null,null,"13058401026","South Central CUD 401"]
["13058501026","Sandoval CUSD 501",null,null,null,"13058501026","Sandoval CUSD 501"]
["13058600016","Salem CHSD 600",null,null,null,"13058600016","Salem CHSD 600"]
["13058722026","Odin PSD 722",null,null,null,"13058722026","Odin PSD 722"]
["13095001004","Oakdale CCSD 1",null,null,null,"13095001004","Oakdale CCSD 1"]
["13095010026","West Washington Co CUD 10",null,null,null,"13095010026","West Washington Co CUD 10"]
["13095011004","Irvington CCSD 11",null,null,null,"13095011004","Irvington CCSD 11"]
["13095015004","Ashley CCSD 15",null,null,null,"13095015004","Ashley CCSD 15"]
["13095049004","Nashville CCSD 49",null,null,null,"13095049004","Nashville CCSD 49"]
["13095099016","Nashville CHSD 99",null,null,null,"13095099016","Nashville CHSD 99"]
["15016299025","City of Chicago SD 299",null,null,null,"15016299025","City of Chicago SD 299"]
["16019424026","Genoa Kingston CUSD 424",null,null,null,"16019424026","Genoa Kingston CUSD 424"]
["16019425026","Indian Creek CUSD 425",null,null,null,"16019425026","Indian Creek CUSD 425"]
["16019426026","Hiawatha CUSD 426",null,null,null,"16019426026","Hiawatha CUSD 426"]
["16019427026","Sycamore CUSD 427",null,null,null,"16019427026","Sycamore CUSD 427"]
["16019428026","DeKalb CUSD 428",null,null,null,"16019428026","DeKalb CUSD 428"]
["16019429026","Hinckley Big Rock CUSD 429",null,null,null,"16019429026","Hinckley Big Rock CUSD 429"]
["16019430026","Sandwich CUSD 430",null,null,null,"16019430026","Sandwich CUSD 430"]
["16019432026","Somonauk CUSD 432",null,null,null,"16019432026","Somonauk CUSD 432"]
["17020015026","Clinton CUSD 15",null,null,null,"17020015026","Clinton CUSD 15"]
["17020018026","Blue Ridge CUSD 18",null,null,null,"17020018026","Blue Ridge CUSD 18"]
["17053005026","Woodland CUSD 5",null,null,null,"17053005026","Woodland CUSD 5"]
["17053006J26","Tri Point CUSD 6-J",null,null,null,"17053006J26","Tri Point CUSD 6-J"]
["17053008026","Prairie Central CUSD 8",null,null,null,"17053008026","Prairie Central CUSD 8"]
["17053074027","Flanagan-Cornell Dist 74",null,null,null,"17053074027","Flanagan-Cornell Dist 74"]
["17053090017","Pontiac Twp HSD 90",null,null,null,"17053090017","Pontiac Twp HSD 90"]
["17053230017","Dwight Twp HSD 230",null,null,null,"17053230017","Dwight Twp HSD 230"]
["17053232002","Dwight Common SD 232",null,null,null,"17053232002","Dwight Common SD 232"]
["17053425004","Rooks Creek CCSD 425",null,null,null,"17053425004","Rooks Creek CCSD 425"]
["17053426004","Cornell CCSD 426",null,null,null,"17053426004","Cornell CCSD 426"]
["17053429004","Pontiac CCSD 429",null,null,null,"17053429004","Pontiac CCSD 429"]
["17053435004","Odell CCSD 435",null,null,null,"17053435004","Odell CCSD 435"]
["17053438004","Saunemin CCSD 438",null,null,null,"17053438004","Saunemin CCSD 438"]
["17054021026","Hartsburg Emden CUSD 21",null,null,null,"17054021026","Hartsburg Emden CUSD 21"]
["17054023026","Mt Pulaski CUSD 23",null,null,null,"17054023026","Mt Pulaski CUSD 23"]
["17054027002","Lincoln ESD 27",237500,237500,null,"17054027002","Lincoln ESD 27"]
["17054061004","Chester-East Lincoln CCSD 61",null,null,null,"17054061004","Chester-East Lincoln CCSD 61"]
["17054088002","New Holland-Middletown ED 88",null,null,null,"17054088002","New Holland-Middletown ED 88"]
["17054092004","West Lincoln-Broadwell ESD 92",null,null,null,"17054092004","West Lincoln-Broadwell ESD 92"]
["17054404016","Lincoln CHSD 404",null,null,null,"17054404016","Lincoln CHSD 404"]
["17064002026","LeRoy CUSD 2",null,null,null,"17064002026","LeRoy CUSD 2"]
["17064003026","Tri Valley CUSD 3",null,null,null,"17064003026","Tri Valley CUSD 3"]
["17064004026","Heyworth CUSD 4",null,null,null,"17064004026","Heyworth CUSD 4"]
["17064005026","McLean County USD 5",null,null,null,"17064005026","McLean County USD 5"]
["17064007026","Lexington CUSD 7",null,null,null,"17064007026","Lexington CUSD 7"]
["17064016026","Olympia CUSD 16",null,null,null,"17064016026","Olympia CUSD 16"]
["17064019026","Ridgeview CUSD 19",null,null,null,"17064019026","Ridgeview CUSD 19"]
["17064087025","Bloomington SD 87",null,null,null,"17064087025","Bloomington SD 87"]
["19022002002","Bensenville SD 2",null,null,null,"19022002002","Bensenville SD 2"]
["19022004002","Addison SD 4",null,null,null,"19022004002","Addison SD 4"]
["19022007002","Wood Dale SD 7",null,null,null,"19022007002","Wood Dale SD 7"]
["19022010002","Itasca SD 10",null,null,null,"19022010002","Itasca SD 10"]
["19022011002","Medinah SD 11",null,null,null,"19022011002","Medinah SD 11"]
["19022012002","Roselle SD 12",null,null,null,"19022012002","Roselle SD 12"]
["19022013002","Bloomingdale SD 13",null,null,null,"19022013002","Bloomingdale SD 13"]
["19022015002","Marquardt SD 15",null,null,null,"19022015002","Marquardt SD 15"]
["19022016002","Queen Bee SD 16",null,null,null,"19022016002","Queen Bee SD 16"]
["19022020002","Keeneyville SD 20",null,null,null,"19022020002","Keeneyville SD 20"]
["19022025002","Benjamin SD 25",null,null,null,"19022025002","Benjamin SD 25"]
["19022033002","West Chicago ESD 33",null,null,null,"19022033002","West Chicago ESD 33"]
["19022034002","Winfield SD 34",null,null,null,"19022034002","Winfield SD 34"]
["19022041002","Glen Ellyn SD 41",null,null,null,"19022041002","Glen Ellyn SD 41"]
["19022044002","Lombard SD 44",null,null,null,"19022044002","Lombard SD 44"]
["19022045002","SD 45 DuPage County",null,null,null,"19022045002","SD 45 DuPage County"]
["19022048002","Salt Creek SD 48",null,null,null,"19022048002","Salt Creek SD 48"]
["19022053002","Butler SD 53",null,null,null,"19022053002","Butler SD 53"]
["19022058002","Downers Grove GSD 58",null,null,null,"19022058002","Downers Grove GSD 58"]
["19022060002","Maercker SD 60",null,null,null,"19022060002","Maercker SD 60"]
["19022061002","Darien SD 61",null,null,null,"19022061002","Darien SD 61"]
["19022062002","Gower SD 62",null,null,null,"19022062002","Gower SD 62"]
["19022063002","Cass SD 63",null,null,null,"19022063002","Cass SD 63"]
["19022066002","Center Cass SD 66",null,null,null,"19022066002","Center Cass SD 66"]
["19022068002","Woodridge SD 68",null,null,null,"19022068002","Woodridge SD 68"]
["19022086017","Hinsdale Twp HSD 86",null,null,null,"19022086017","Hinsdale Twp HSD 86"]
["19022087017","Glenbard Twp HSD 87",null,null,null,"19022087017","Glenbard Twp HSD 87"]
["19022088016","DuPage HSD 88",null,null,null,"19022088016","DuPage HSD 88"]
["19022089004","CCSD 89",null,null,null,"19022089004","CCSD 89"]
["19022093004","CCSD 93",null,null,null,"19022093004","CCSD 93"]
["19022094016","CHSD 94",null,null,null,"19022094016","CHSD 94"]
["19022099016","CHSD 99",null,null,null,"19022099016","CHSD 99"]
["19022100016","Fenton CHSD 100",null,null,null,"19022100016","Fenton CHSD 100"]
["19022108016","Lake Park CHSD 108",null,null,null,"19022108016","Lake Park CHSD 108"]
["19022180004","CCSD 180",null,null,null,"19022180004","CCSD 180"]
["19022181004","Hinsdale CCSD 181",null,null,null,"19022181004","Hinsdale CCSD 181"]
["19022200026","CUSD 200",null,null,null,"19022200026","CUSD 200"]
["19022201026","CUSD 201",null,null,null,"19022201026","CUSD 201"]
["19022202026","Lisle CUSD 202",null,null,null,"19022202026","Lisle CUSD 202"]
["19022203026","Naperville CUSD 203",null,null,null,"19022203026","Naperville CUSD 203"]
["19022204026","Indian Prairie CUSD 204",null,null,null,"19022204026","Indian Prairie CUSD 204"]
["19022205026","Elmhurst SD 205",null,null,null,"19022205026","Elmhurst SD 205"]
["20024001026","Edwards County CUSD 1",null,null,null,"20024001026","Edwards County CUSD 1"]
["20030007026","Gallatin CUSD 7",null,null,null,"20030007026","Gallatin CUSD 7"]
["20033010026","Hamilton Co CUSD 10",null,null,null,"20033010026","Hamilton Co CUSD 10"]
["20035001026","Hardin County CUSD 1",null,null,null,"20035001026","Hardin County CUSD 1"]
["20076001026","Pope Co CUD 1",null,null,null,"20076001026","Pope Co CUD 1"]
["20083001026","Galatia CUSD 1",null,null,null,"20083001026","Galatia CUSD 1"]
["20083002026","Carrier Mills-Stonefort CUSD 2",null,null,null,"20083002026","Carrier Mills-Stonefort CUSD 2"]
["20083003026","Harrisburg CUSD 3",null,null,null,"20083003026","Harrisburg CUSD 3"]
["20083004026","Eldorado CUSD 4",null,null,null,"20083004026","Eldorado CUSD 4"]
["20093017024","Allendale CCSD 17",null,null,null,"20093017024","Allendale CCSD 17"]
["20093348026","Wabash CUSD 348",null,null,null,"20093348026","Wabash CUSD 348"]
["20096006004","New Hope CCSD 6",null,null,null,"20096006004","New Hope CCSD 6"]
["20096014004","Geff CCSD 14",null,null,null,"20096014004","Geff CCSD 14"]
["20096017004","Jasper CCSD 17",null,null,null,"20096017004","Jasper CCSD 17"]
["20096100026","Wayne City CUSD 100",null,null,null,"20096100026","Wayne City CUSD 100"]
["20096112004","Fairfield PSD 112",null,null,null,"20096112004","Fairfield PSD 112"]
["20096200026","North Wayne CUSD 200",null,null,null,"20096200026","North Wayne CUSD 200"]
["20096225016","Fairfield Comm H S Dist 225",null,null,null,"20096225016","Fairfield Comm H S Dist 225"]
["20097001026","Grayville CUSD 1",null,null,null,"20097001026","Grayville CUSD 1"]
["20097003026","Norris City-Omaha-Enfield CUSD 3",null,null,null,"20097003026","Norris City-Omaha-Enfield CUSD 3"]
["20097005026","Carmi-White County CUSD 5",null,null,null,"20097005026","Carmi-White County CUSD 5"]
["21028047004","Benton CCSD 47",null,null,null,"21028047004","Benton CCSD 47"]
["21028091004","Akin CCSD 91",null,null,null,"21028091004","Akin CCSD 91"]
["21028099026","Christopher USD 99",null,null,null,"21028099026","Christopher USD 99"]
["21028103013","Benton Cons HSD 103",null,null,null,"21028103013","Benton Cons HSD 103"]
["21028115004","Ewing Northern CCSD 115",null,null,null,"21028115004","Ewing Northern CCSD 115"]
["21028168026","Frankfort CUSD 168",null,null,null,"21028168026","Frankfort CUSD 168"]
["21028174026","Thompsonville CUSD 174",null,null,null,"21028174026","Thompsonville CUSD 174"]
["21028188026","Zeigler-Royalton CUSD 188",null,null,null,"21028188026","Zeigler-Royalton CUSD 188"]
["21028196026","Sesser-Valier CUSD 196",null,null,null,"21028196026","Sesser-Valier CUSD 196"]
["21044001026","Goreville CUD 1",null,null,null,"21044001026","Goreville CUD 1"]
["21044032003","New Simpson Hill SD 32",null,null,null,"21044032003","New Simpson Hill SD 32"]
["21044043003","Buncombe Cons SD 43",null,null,null,"21044043003","Buncombe Cons SD 43"]
["21044055002","Vienna SD 55",null,null,null,"21044055002","Vienna SD 55"]
["21044064002","Cypress SD 64",null,null,null,"21044064002","Cypress SD 64"]
["21044133017","Vienna HSD 133",null,null,null,"21044133017","Vienna HSD 133"]
["21061001026","Massac UD 1",null,null,null,"21061001026","Massac UD 1"]
["21061038026","Joppa-Maple Grove UD 38",null,null,null,"21061038026","Joppa-Maple Grove UD 38"]
["21100001026","Johnston City CUSD 1",null,null,null,"21100001026","Johnston City CUSD 1"]
["21100002026","Marion CUSD 2",null,null,null,"21100002026","Marion CUSD 2"]
["21100003026","Crab Orchard CUSD 3",null,null,null,"21100003026","Crab Orchard CUSD 3"]
["21100004026","Herrin CUSD 4",null,null,null,"21100004026","Herrin CUSD 4"]
["21100005026","Carterville CUSD 5",null,null,null,"21100005026","Carterville CUSD 5"]
["24032001026","Coal City CUSD 1",null,null,null,"24032001026","Coal City CUSD 1"]
["24032002C02","Mazon-Verona-Kinsman ESD 2C",null,null,null,"24032002C02","Mazon-Verona-Kinsman ESD 2C"]
["24032024C04","Nettle Creek CCSD 24C",null,null,null,"24032024C04","Nettle Creek CCSD 24C"]
["24032054002","Morris SD 54",null,null,null,"24032054002","Morris SD 54"]
["24032060C04","Saratoga CCSD 60C",null,null,null,"24032060C04","Saratoga CCSD 60C"]
["24032072C04","Gardner CCSD 72C",null,null,null,"24032072C04","Gardner CCSD 72C"]
["24032073017","Gardner S Wilmington Twp HSD 73",null,null,null,"24032073017","Gardner S Wilmington Twp HSD 73"]
["24032074003","South Wilmington CCSD 74",null,null,null,"24032074003","South Wilmington CCSD 74"]
["24032075002","Braceville SD 75",null,null,null,"24032075002","Braceville SD 75"]
["24032101016","Morris CHSD 101",null,null,null,"24032101016","Morris CHSD 101"]
["24032111016","Minooka CHSD 111",null,null,null,"24032111016","Minooka CHSD 111"]
["24032201004","Minooka CCSD 201",null,null,null,"24032201004","Minooka CCSD 201"]
["24047018016","Newark CHSD 18",null,null,null,"24047018016","Newark CHSD 18"]
["24047066004","Newark CCSD 66",null,null,null,"24047066004","Newark CCSD 66"]
["24047088026","Plano CUSD 88",null,null,null,"24047088026","Plano CUSD 88"]
["24047090004","Lisbon CCSD 90",null,null,null,"24047090004","Lisbon CCSD 90"]
["24047115026","Yorkville CUSD 115",null,null,null,"24047115026","Yorkville CUSD 115"]
["24047308026","CUSD 308",null,null,null,"24047308026","CUSD 308"]
["26029001026","Astoria CUSD 1",null,null,null,"26029001026","Astoria CUSD 1"]
["26029002026","V I T CUSD 2",null,null,null,"26029002026","V I T CUSD 2"]
["26029003026","CUSD 3 Fulton County",null,null,null,"26029003026","CUSD 3 Fulton County"]
["26029004026","Spoon River Valley CUSD 4",null,null,null,"26029004026","Spoon River Valley CUSD 4"]
["26029066025","Canton Union SD 66",null,null,null,"26029066025","Canton Union SD 66"]
["26029097026","Lewistown CUSD 97",null,null,null,"26029097026","Lewistown CUSD 97"]
["26034307016","Illini West H S Dist 307",null,null,null,"26034307016","Illini West H S Dist 307"]
["26034316026","Warsaw CUSD 316",null,null,null,"26034316026","Warsaw CUSD 316"]
["26034317004","Carthage ESD 317",null,null,null,"26034317004","Carthage ESD 317"]
["26034325026","Nauvoo-Colusa CUSD 325",null,null,null,"26034325026","Nauvoo-Colusa CUSD 325"]
["26034327004","Dallas ESD 327",null,null,null,"26034327004","Dallas ESD 327"]
["26034328024","Hamilton CCSD 328",null,null,null,"26034328024","Hamilton CCSD 328"]
["26034337026","Southeastern CUSD 337",null,null,null,"26034337026","Southeastern CUSD 337"]
["26034347004","La Harpe CSD 347",null,null,null,"26034347004","La Harpe CSD 347"]
["26062103026","West Prairie CUSD 103",null,null,null,"26062103026","West Prairie CUSD 103"]
["26062170026","Bushnell Prairie City CUSD 170",null,null,null,"26062170026","Bushnell Prairie City CUSD 170"]
["26062185026","Macomb CUSD 185",null,null,null,"26062185026","Macomb CUSD 185"]
["26085005026","Schuyler-Industry CUSD 5",null,null,null,"26085005026","Schuyler-Industry CUSD 5"]
["28006017004","Ohio CCSD 17",null,null,null,"28006017004","Ohio CCSD 17"]
["28006084004","Malden CCSD 84",null,null,null,"28006084004","Malden CCSD 84"]
["28006094004","Ladd CCSD 94",null,null,null,"28006094004","Ladd CCSD 94"]
["28006098002","Dalzell SD 98",null,null,null,"28006098002","Dalzell SD 98"]
["28006099004","Spring Valley CCSD 99",null,null,null,"28006099004","Spring Valley CCSD 99"]
["28006103022","DePue USD 103",null,null,null,"28006103022","DePue USD 103"]
["28006115002","Princeton ESD 115",null,null,null,"28006115002","Princeton ESD 115"]
["28006303026","La Moille CUSD 303",null,null,null,"28006303026","La Moille CUSD 303"]
["28006340026","Bureau Valley CUSD 340",null,null,null,"28006340026","Bureau Valley CUSD 340"]
["28006500015","Princeton HSD 500",null,null,null,"28006500015","Princeton HSD 500"]
["28006502017","Hall HSD 502",null,null,null,"28006502017","Hall HSD 502"]
["28006505016","Ohio CHSD 505",null,null,null,"28006505016","Ohio CHSD 505"]
["28037190002","Colona SD 190",null,null,null,"28037190002","Colona SD 190"]
["28037223026","Orion CUSD 223",null,null,null,"28037223026","Orion CUSD 223"]
["28037224026","Galva CUSD 224",null,null,null,"28037224026","Galva CUSD 224"]
["28037225026","AlWood CUSD 225",null,null,null,"28037225026","AlWood CUSD 225"]
["28037226026","Annawan CUSD 226",null,null,null,"28037226026","Annawan CUSD 226"]
["28037227026","Cambridge CUSD 227",null,null,null,"28037227026","Cambridge CUSD 227"]
["28037228026","Geneseo CUSD 228",null,null,null,"28037228026","Geneseo CUSD 228"]
["28037229026","Kewanee CUSD 229",null,null,null,"28037229026","Kewanee CUSD 229"]
["28037230026","Wethersfield CUSD 230",null,null,null,"28037230026","Wethersfield CUSD 230"]
["28088001026","Bradford CUSD 1",null,null,null,"28088001026","Bradford CUSD 1"]
["28088100026","Stark County CUSD 100",null,null,null,"28088100026","Stark County CUSD 100"]
["30002001022","Cairo USD 1",null,null,null,"30002001022","Cairo USD 1"]
["30002005026","Egyptian CUSD 5",null,null,null,"30002005026","Egyptian CUSD 5"]
["30039086003","DeSoto Cons SD 86",null,null,null,"30039086003","DeSoto Cons SD 86"]
["30039095002","Carbondale ESD 95",null,null,null,"30039095002","Carbondale ESD 95"]
["30039130004","Giant City CCSD 130",null,null,null,"30039130004","Giant City CCSD 130"]
["30039140004","Unity Point CCSD 140",null,null,null,"30039140004","Unity Point CCSD 140"]
["30039165016","Carbondale CHSD 165",null,null,null,"30039165016","Carbondale CHSD 165"]
["30039176026","Trico CUSD 176",null,null,null,"30039176026","Trico CUSD 176"]
["30039186026","Murphysboro CUSD 186",null,null,null,"30039186026","Murphysboro CUSD 186"]
["30039196026","Elverado CUSD 196",null,null,null,"30039196026","Elverado CUSD 196"]
["30073005002","Tamaroa School Dist 5",null,null,null,"30073005002","Tamaroa School Dist 5"]
["30073050002","Pinckneyville SD 50",null,null,null,"30073050002","Pinckneyville SD 50"]
["30073101016","Pinckneyville CHSD 101",null,null,null,"30073101016","Pinckneyville CHSD 101"]
["30073204004","CCSD 204",null,null,null,"30073204004","CCSD 204"]
["30073300026","Du Quoin CUSD 300",null,null,null,"30073300026","Du Quoin CUSD 300"]
["30077100026","Century CUSD 100",null,null,null,"30077100026","Century CUSD 100"]
["30077101026","Meridian CUSD 101",null,null,null,"30077101026","Meridian CUSD 101"]
["30091016004","Lick Creek CCSD 16",null,null,null,"30091016004","Lick Creek CCSD 16"]
["30091017022","Cobden SUD 17",null,null,null,"30091017022","Cobden SUD 17"]
["30091037004","Anna CCSD 37",null,null,null,"30091037004","Anna CCSD 37"]
["30091043004","County of Union Sch Dist No43",null,null,null,"30091043004","County of Union Sch Dist No43"]
["30091066022","Dongola USD 66",null,null,null,"30091066022","Dongola USD 66"]
["30091081016","Anna Jonesboro CHSD 81",null,null,null,"30091081016","Anna Jonesboro CHSD 81"]
["30091084026","Shawnee CUSD 84",null,null,null,"30091084026","Shawnee CUSD 84"]
["31045046022","SD U-46",null,null,null,"31045046022","SD U-46"]
["31045101022","Batavia USD 101",null,null,null,"31045101022","Batavia USD 101"]
["31045129022","Aurora West USD 129",null,null,null,"31045129022","Aurora West USD 129"]
["31045131022","Aurora East USD 131",null,null,null,"31045131022","Aurora East USD 131"]
["31045300026","CUSD 300",null,null,null,"31045300026","CUSD 300"]
["31045301026","Central CUSD 301",null,null,null,"31045301026","Central CUSD 301"]
["31045302026","Kaneland CUSD 302",null,null,null,"31045302026","Kaneland CUSD 302"]
["31045303026","St Charles CUSD 303",null,null,null,"31045303026","St Charles CUSD 303"]
["31045304026","Geneva CUSD 304",null,null,null,"31045304026","Geneva CUSD 304"]
["32038003026","Donovan CUSD 3",null,null,null,"32038003026","Donovan CUSD 3"]
["32038004026","Central CUSD 4",null,null,null,"32038004026","Central CUSD 4"]
["32038006026","Cissna Park CUSD 6",null,null,null,"32038006026","Cissna Park CUSD 6"]
["32038009026","Iroquois County CUSD 9",null,null,null,"32038009026","Iroquois County CUSD 9"]
["32038010026","Iroquois West CUSD 10",null,null,null,"32038010026","Iroquois West CUSD 10"]
["32038124026","Milford Area PSD 124",null,null,null,"32038124026","Milford Area PSD 124"]
["32038249026","Crescent Iroquois CUSD 249",null,null,null,"32038249026","Crescent Iroquois CUSD 249"]
["32046001026","Momence CUSD 1",null,null,null,"32046001026","Momence CUSD 1"]
["32046002026","Herscher CUSD 2",null,null,null,"32046002026","Herscher CUSD 2"]
["32046005026","Manteno CUSD 5",null,null,null,"32046005026","Manteno CUSD 5"]
["32046006026","Grant Park CUSD 6",null,null,null,"32046006026","Grant Park CUSD 6"]
["32046053002","Bourbonnais SD 53",null,null,null,"32046053002","Bourbonnais SD 53"]
["32046061002","Bradley SD 61",null,null,null,"32046061002","Bradley SD 61"]
["32046111025","Kankakee SD 111",null,null,null,"32046111025","Kankakee SD 111"]
["32046256004","St Anne CCSD 256",null,null,null,"32046256004","St Anne CCSD 256"]
["32046258004","St George CCSD 258",null,null,null,"32046258004","St George CCSD 258"]
["32046259004","Pembroke CCSD 259",null,null,null,"32046259004","Pembroke CCSD 259"]
["32046302016","St Anne CHSD 302",null,null,null,"32046302016","St Anne CHSD 302"]
["32046307016","Bradley Bourbonnais CHSD 307",null,null,null,"32046307016","Bradley Bourbonnais CHSD 307"]
["33036235026","West Central CUSD 235",null,null,null,"33036235026","West Central CUSD 235"]
["33048202026","Knoxville CUSD 202",null,null,null,"33048202026","Knoxville CUSD 202"]
["33048205026","Galesburg CUSD 205",null,null,null,"33048205026","Galesburg CUSD 205"]
["33048208026","R O W V A CUSD 208",null,null,null,"33048208026","R O W V A CUSD 208"]
["33048210026","Williamsfield CUSD 210",null,null,null,"33048210026","Williamsfield CUSD 210"]
["33048276026","Abingdon-Avon CUSD 276",null,null,null,"33048276026","Abingdon-Avon CUSD 276"]
["33066404026","Mercer County School District 404",null,null,null,"33066404026","Mercer County School District 404"]
["33094238026","Monmouth-Roseville CUSD 238",null,null,null,"33094238026","Monmouth-Roseville CUSD 238"]
["33094304026","United CUSD 304",null,null,null,"33094304026","United CUSD 304"]
["34049001002","Winthrop Harbor SD 1",null,null,null,"34049001002","Winthrop Harbor SD 1"]
["34049003004","Beach Park CCSD 3",null,null,null,"34049003004","Beach Park CCSD 3"]
["34049006002","Zion ESD 6",null,null,null,"34049006002","Zion ESD 6"]
["34049024004","Millburn CCSD 24",null,null,null,"34049024004","Millburn CCSD 24"]
["34049033002","Emmons SD 33",null,null,null,"34049033002","Emmons SD 33"]
["34049034004","Antioch CCSD 34",null,null,null,"34049034004","Antioch CCSD 34"]
["34049036002","Grass Lake SD 36",null,null,null,"34049036002","Grass Lake SD 36"]
["34049037002","Gavin SD 37",null,null,null,"34049037002","Gavin SD 37"]
["34049038002","Big Hollow SD 38",null,null,null,"34049038002","Big Hollow SD 38"]
["34049041004","Lake Villa CCSD 41",null,null,null,"34049041004","Lake Villa CCSD 41"]
["34049046004","Grayslake CCSD 46",null,null,null,"34049046004","Grayslake CCSD 46"]
["34049050004","Woodland CCSD 50",null,null,null,"34049050004","Woodland CCSD 50"]
["34049056002","Gurnee SD 56",null,null,null,"34049056002","Gurnee SD 56"]
["34049060026","Waukegan CUSD 60",null,null,null,"34049060026","Waukegan CUSD 60"]
["34049065002","Lake Bluff ESD 65",null,null,null,"34049065002","Lake Bluff ESD 65"]
["34049067005","Lake Forest SD 67",null,null,null,"34049067005","Lake Forest SD 67"]
["34049068002","Oak Grove SD 68 Green Oaks",null,null,null,"34049068002","Oak Grove SD 68 Green Oaks"]
["34049070002","Libertyville SD 70",null,null,null,"34049070002","Libertyville SD 70"]
["34049072002","Rondout SD 72",null,null,null,"34049072002","Rondout SD 72"]
["34049073004","Hawthorn CCSD 73",null,null,null,"34049073004","Hawthorn CCSD 73"]
["34049075002","Mundelein ESD 75",null,null,null,"34049075002","Mundelein ESD 75"]
["34049076002","Diamond Lake SD 76",null,null,null,"34049076002","Diamond Lake SD 76"]
["34049079002","Fremont SD 79",null,null,null,"34049079002","Fremont SD 79"]
["34049095026","Lake Zurich CUSD 95",null,null,null,"34049095026","Lake Zurich CUSD 95"]
["34049096004","Kildeer Countryside CCSD 96",null,null,null,"34049096004","Kildeer Countryside CCSD 96"]
["34049102004","Aptakisic-Tripp CCSD 102",null,null,null,"34049102004","Aptakisic-Tripp CCSD 102"]
["34049103002","Lincolnshire-Prairieview SD 103",null,null,null,"34049103002","Lincolnshire-Prairieview SD 103"]
["34049106002","Bannockburn SD 106",null,null,null,"34049106002","Bannockburn SD 106"]
["34049109002","Deerfield SD 109",null,null,null,"34049109002","Deerfield SD 109"]
["34049112002","North Shore SD 112",null,null,null,"34049112002","North Shore SD 112"]
["34049113017","Twp HSD 113",null,null,null,"34049113017","Twp HSD 113"]
["34049115016","Lake Forest CHSD 115",null,null,null,"34049114002","Fox Lake GSD 114"]
["34049116026","Round Lake CUSD 116",null,null,null,"34049115016","Lake Forest CHSD 115"]
["34049117016","CHSD 117",null,null,null,"34049116026","Round Lake CUSD 116"]
["34049118026","Wauconda CUSD 118",null,null,null,"34049117016","CHSD 117"]
["34049120013","Mundelein Cons HSD 120",null,null,null,"34049118026","Wauconda CUSD 118"]
["34049121017","Warren Twp HSD 121",null,null,null,"34049120013","Mundelein Cons HSD 120"]
["34049124016","Grant CHSD 124",null,null,null,"34049121017","Warren Twp HSD 121"]
["34049125013","Adlai E Stevenson HSD 125",null,null,null,"34049124016","Grant CHSD 124"]
["34049126017","Zion-Benton Twp HSD 126",null,null,null,"34049125013","Adlai E Stevenson HSD 125"]
["34049127016","Grayslake CHSD 127",null,null,null,"34049126017","Zion-Benton Twp HSD 126"]
["34049128016","CHSD 128",null,null,null,"34049127016","Grayslake CHSD 127"]
["34049187026","North Chicago SD 187",null,null,null,"34049128016","CHSD 128"]
["34049220026","Barrington CUSD 220",null,null,null,"34049187026","North Chicago SD 187"]
["35050001026","Leland CUSD 1",null,null,null,"34049220026","Barrington CUSD 220"]
["35050002026","Serena CUSD 2",null,null,null,"35050001026","Leland CUSD 1"]
["35050009026","Earlville CUSD 9",null,null,null,"35050002026","Serena CUSD 2"]
["35050017504","Dimmick Comm Cons SD #175",null,null,null,"35050009026","Earlville CUSD 9"]
["35050040017","Streator Twp HSD 40",null,null,null,"35050017504","Dimmick Comm Cons SD #175"]
["35050044002","Streator ESD 44",null,null,null,"35050040017","Streator Twp HSD 40"]
["35050065004","Allen-Otter Creek CCSD 65",null,null,null,"35050044002","Streator ESD 44"]
["35050079004","Tonica CCSD 79",null,null,null,"35050065004","Allen-Otter Creek CCSD 65"]
["35050082004","Deer Park CCSD 82",null,null,null,"35050079004","Tonica CCSD 79"]
["35050095004","Grand Ridge CCSD 95",null,null,null,"35050082004","Deer Park CCSD 82"]
["35050120017","La Salle-Peru Twp HSD 120",null,null,null,"35050095004","Grand Ridge CCSD 95"]
["35050122002","La Salle ESD 122",null,null,null,"35050120017","La Salle-Peru Twp HSD 120"]
["35050124002","Peru ESD 124",null,null,null,"35050122002","La Salle ESD 122"]
["35050125002","Oglesby ESD 125",null,null,null,"35050124002","Peru ESD 124"]
["35050140017","Ottawa Twp HSD 140",null,null,null,"35050125002","Oglesby ESD 125"]
["35050141002","Ottawa ESD 141",null,null,null,"35050140017","Ottawa Twp HSD 140"]
["35050150002","Marseilles ESD 150",null,null,null,"35050141002","Ottawa ESD 141"]
["35050160017","Seneca Twp HSD 160",null,null,null,"35050150002","Marseilles ESD 150"]
["35050170004","Seneca CCSD 170",null,null,null,"35050160017","Seneca Twp HSD 160"]
["35050185004","Waltham CCSD 185",null,null,null,"35050170004","Seneca CCSD 170"]
["35050195004","Wallace CCSD 195",null,null,null,"35050185004","Waltham CCSD 185"]
["35050210004","Miller Twp CCSD 210",null,null,null,"35050195004","Wallace CCSD 195"]
["35050230004","Rutland CCSD 230",null,null,null,"35050210004","Miller Twp CCSD 210"]
["35050280017","Mendota Twp HSD 280",null,null,null,"35050230004","Rutland CCSD 230"]
["35050289004","Mendota CCSD 289",null,null,null,"35050280017","Mendota Twp HSD 280"]
["35050425026","Lostant CUSD 425",null,null,null,"35050289004","Mendota CCSD 289"]
["35059005026","Henry-Senachwine CUSD 5",null,null,null,"35050425026","Lostant CUSD 425"]
["35059007026","Midland CUSD 7",null,null,null,"35059005026","Henry-Senachwine CUSD 5"]
["35078535026","Putnam County CUSD 535",null,null,null,"35059007026","Midland CUSD 7"]
["39055001026","Argenta-Oreana CUSD 1",null,null,null,"35078535026","Putnam County CUSD 535"]
["39055002026","Maroa Forsyth CUSD 2",null,null,null,"39055001026","Argenta-Oreana CUSD 1"]
["39055003026","Mt Zion CUSD 3",null,null,null,"39055002026","Maroa Forsyth CUSD 2"]
["39055009026","Sangamon Valley CUSD 9",null,null,null,"39055003026","Mt Zion CUSD 3"]
["39055011026","Warrensburg-Latham CUSD 11",null,null,null,"39055009026","Sangamon Valley CUSD 9"]
["39055015026","Meridian CUSD 15",null,null,null,"39055011026","Warrensburg-Latham CUSD 11"]
["39055061025","Decatur SD 61",null,null,null,"39055015026","Meridian CUSD 15"]
["39074005026","Bement CUSD 5",null,null,null,"39055061025","Decatur SD 61"]
["39074025026","Monticello CUSD 25",null,null,null,"39074005026","Bement CUSD 5"]
["39074057026","Deland-Weldon CUSD 57",null,null,null,"39074025026","Monticello CUSD 25"]
["39074100026","Cerro Gordo CUSD 100",null,null,null,"39074057026","Deland-Weldon CUSD 57"]
["40007040026","Calhoun CUSD 40",null,null,null,"39074100026","Cerro Gordo CUSD 100"]
["40007042026","Brussels CUSD 42",null,null,null,"40007040026","Calhoun CUSD 40"]
["40031001026","Carrollton CUSD 1",null,null,null,"40007042026","Brussels CUSD 42"]
["40031003026","North Greene CUSD 3",null,null,null,"40031001026","Carrollton CUSD 1"]
["40031010026","Greenfield CUSD 10",null,null,null,"40031003026","North Greene CUSD 3"]
["40042100026","Jersey CUSD 100",null,null,null,"40031010026","Greenfield CUSD 10"]
["40056001026","Carlinville CUSD 1",null,null,null,"40042100026","Jersey CUSD 100"]
["40056002026","Northwestern CUSD 2",null,null,null,"40056001026","Carlinville CUSD 1"]
["40056005026","Mount Olive CUSD 5",null,null,null,"40056002026","Northwestern CUSD 2"]
["40056006026","Staunton CUSD 6",null,null,null,"40056005026","Mount Olive CUSD 5"]
["40056007026","Gillespie CUSD 7",null,null,null,"40056006026","Staunton CUSD 6"]
["40056008026","Bunker Hill CUSD 8",null,null,null,"40056007026","Gillespie CUSD 7"]
["40056009026","Southwestern CUSD 9",null,null,null,"40056008026","Bunker Hill CUSD 8"]
["40056034026","North Mac CUSD 34",null,null,null,"40056009026","Southwestern CUSD 9"]
["41057001026","Roxana CUSD 1",null,null,null,"40056034026","North Mac CUSD 34"]
["41057002026","Triad CUSD 2",null,null,null,"41057001026","Roxana CUSD 1"]
["41057003026","Venice CUSD 3",null,null,null,"41057002026","Triad CUSD 2"]
["41057005026","Highland CUSD 5",null,null,null,"41057003026","Venice CUSD 3"]
["41057007026","Edwardsville CUSD 7",null,null,null,"41057005026","Highland CUSD 5"]
["41057008026","Bethalto CUSD 8",null,null,null,"41057007026","Edwardsville CUSD 7"]
["41057009026","Granite City CUSD 9",null,null,null,"41057008026","Bethalto CUSD 8"]
["41057010026","Collinsville CUSD 10",null,null,null,"41057009026","Granite City CUSD 9"]
["41057011026","Alton CUSD 11",null,null,null,"41057010026","Collinsville CUSD 10"]
["41057012026","Madison CUSD 12",null,null,null,"41057011026","Alton CUSD 11"]
["41057013002","East Alton SD 13",null,null,null,"41057012026","Madison CUSD 12"]
["41057014016","East Alton-Wood River CHSD 14",null,null,null,"41057013002","East Alton SD 13"]
["41057015003","Wood River-Hartford ESD 15",null,null,null,"41057014016","East Alton-Wood River CHSD 14"]
["44063002003","Nippersink SD 2",null,null,null,"41057015003","Wood River-Hartford ESD 15"]
["44063003003","Fox River Grove Cons SD 3",null,null,null,"44063002003","Nippersink SD 2"]
["44063012026","Johnsburg CUSD 12",null,null,null,"44063003003","Fox River Grove Cons SD 3"]
["44063015004","McHenry CCSD 15",null,null,null,"44063012026","Johnsburg CUSD 12"]
["44063018004","Riley CCSD 18",null,null,null,"44063015004","McHenry CCSD 15"]
["44063019024","Alden Hebron SD 19",null,null,null,"44063018004","Riley CCSD 18"]
["44063026004","Cary CCSD 26",null,null,null,"44063019024","Alden Hebron SD 19"]
["44063036002","Harrison SD 36",null,null,null,"44063026004","Cary CCSD 26"]
["44063046003","Prairie Grove CSD 46",null,null,null,"44063036002","Harrison SD 36"]
["44063047004","Crystal Lake CCSD 47",null,null,null,"44063046003","Prairie Grove CSD 46"]
["44063050026","Harvard CUSD 50",null,null,null,"44063047004","Crystal Lake CCSD 47"]
["44063154016","Marengo CHSD 154",null,null,null,"44063050026","Harvard CUSD 50"]
["44063155016","CHSD 155",null,null,null,"44063154016","Marengo CHSD 154"]
["44063156016","McHenry CHSD 156",null,null,null,"44063155016","CHSD 155"]
["44063157016","Richmond-Burton CHSD 157",null,null,null,"44063156016","McHenry CHSD 156"]
["44063158022","Huntley Comm Sch Dist 158",null,null,null,"44063157016","Richmond-Burton CHSD 157"]
["44063165003","Marengo-Union E Cons D 165",null,null,null,"44063158022","Huntley Comm Sch Dist 158"]
["44063200026","Woodstock CUSD 200",null,null,null,"44063165003","Marengo-Union E Cons D 165"]
["45067003026","Valmeyer CUSD 3",null,null,null,"44063200026","Woodstock CUSD 200"]
["45067004026","Columbia CUSD 4",null,null,null,"45067003026","Valmeyer CUSD 3"]
["45067005026","Waterloo CUSD 5",null,null,null,"45067004026","Columbia CUSD 4"]
["45079001022","Coulterville USD 1",null,null,null,"45067005026","Waterloo CUSD 5"]
["45079122019","Chester N HSD 122",null,null,null,"45079001022","Coulterville USD 1"]
["45079132026","Red Bud CUSD 132",null,null,null,"45079122019","Chester N HSD 122"]
["45079134004","Prairie Du Rocher CCSD 134",null,null,null,"45079132026","Red Bud CUSD 132"]
["45079138026","Steeleville CUSD 138",null,null,null,"45079134004","Prairie Du Rocher CCSD 134"]
["45079139026","Chester CUSD 139",null,null,null,"45079138026","Steeleville CUSD 138"]
["45079140026","Sparta CUSD 140",null,null,null,"45079139026","Chester CUSD 139"]
["47052170022","Dixon USD 170",null,null,null,"45079140026","Sparta CUSD 140"]
["47052220002","Steward ESD 220",null,null,null,"47052170022","Dixon USD 170"]
["47052271026","Paw Paw CUSD 271",null,null,null,"47052220002","Steward ESD 220"]
["47052272026","Amboy CUSD 272",null,null,null,"47052271026","Paw Paw CUSD 271"]
["47052275026","Ashton-Franklin Center CUSD 275",null,null,null,"47052272026","Amboy CUSD 272"]
["47071144003","Kings Cons SD 144",null,null,null,"47052275026","Ashton-Franklin Center CUSD 275"]
["47071161004","Creston CCSD 161",null,null,null,"47071144003","Kings Cons SD 144"]
["47071212017","Rochelle Twp HSD 212",null,null,null,"47071161004","Creston CCSD 161"]
["47071220026","Oregon CUSD 220",null,null,null,"47071212017","Rochelle Twp HSD 212"]
["47071221026","Forrestville Valley CUSD 221",null,null,null,"47071220026","Oregon CUSD 220"]
["47071222026","Polo CUSD 222",null,null,null,"47071221026","Forrestville Valley CUSD 221"]
["47071223026","Meridian CUSD 223",null,null,null,"47071222026","Polo CUSD 222"]
["47071226026","Byron CUSD 226",null,null,null,"47071223026","Meridian CUSD 223"]
["47071231004","Rochelle CCSD 231",null,null,null,"47071226026","Byron CUSD 226"]
["47071269004","Eswood CCSD 269",null,null,null,"47071231004","Rochelle CCSD 231"]
["47098001026","Erie CUSD 1",null,null,null,"47071269004","Eswood CCSD 269"]
["47098002026","River Bend CUSD 2",null,null,null,"47098001026","Erie CUSD 1"]
["47098003026","Prophetstown-Lyndon-Tampico CUSD3",null,null,null,"47098002026","River Bend CUSD 2"]
["47098005026","Sterling CUSD 5",null,null,null,"47098003026","Prophetstown-Lyndon-Tampico CUSD3"]
["47098006026","Morrison CUSD 6",null,null,null,"47098005026","Sterling CUSD 5"]
["47098013002","Rock Falls ESD 13",null,null,null,"47098006026","Morrison CUSD 6"]
["47098020002","East Coloma - Nelson CESD 20",null,null,null,"47098013002","Rock Falls ESD 13"]
["47098145004","Montmorency CCSD 145",null,null,null,"47098020002","East Coloma - Nelson CESD 20"]
["47098301017","Rock Falls Twp HSD 301",null,null,null,"47098145004","Montmorency CCSD 145"]
["48072062002","Pleasant Valley SD 62",null,null,null,"47098301017","Rock Falls Twp HSD 301"]
["48072063002","Norwood ESD 63",null,null,null,"48072062002","Pleasant Valley SD 62"]
["48072066002","Bartonville SD 66",null,null,null,"48072063002","Norwood ESD 63"]
["48072068002","Oak Grove SD 68  Bartonville",null,null,null,"48072066002","Bartonville SD 66"]
["48072069002","Pleasant Hill SD 69",null,null,null,"48072068002","Oak Grove SD 68  Bartonville"]
["48072070002","Monroe SD 70",null,null,null,"48072069002","Pleasant Hill SD 69"]
["48072150025","Peoria SD 150",null,null,null,"48072070002","Monroe SD 70"]
["48072265026","Farmington Central CUSD 265",null,null,null,"48072150025","Peoria SD 150"]
["48072309026","Brimfield CUSD 309",null,null,null,"48072265026","Farmington Central CUSD 265"]
["48072310016","Limestone CHSD 310",null,null,null,"48072309026","Brimfield CUSD 309"]
["48072316004","Limestone Walters CCSD 316",null,null,null,"48072310016","Limestone CHSD 310"]
["48072321026","Il Valley Central USD 321",null,null,null,"48072316004","Limestone Walters CCSD 316"]
["48072322026","Elmwood CUSD 322",null,null,null,"48072321026","Il Valley Central USD 321"]
["48072323026","Dunlap CUSD 323",null,null,null,"48072322026","Elmwood CUSD 322"]
["48072325026","Peoria Heights CUSD 325",null,null,null,"48072323026","Dunlap CUSD 323"]
["48072326026","Princeville CUSD 326",null,null,null,"48072325026","Peoria Heights CUSD 325"]
["48072327026","Illini Bluffs CUSD 327",null,null,null,"48072326026","Princeville CUSD 326"]
["48072328003","Hollis Cons SD 328",null,null,null,"48072327026","Illini Bluffs CUSD 327"]
["49081029002","Hampton SD 29",null,null,null,"48072328003","Hollis Cons SD 328"]
["49081030017","United Twp HSD 30",null,null,null,"49081029002","Hampton SD 29"]
["49081034002","Silvis SD 34",null,null,null,"49081030017","United Twp HSD 30"]
["49081036002","Carbon Cliff-Barstow SD 36",null,null,null,"49081034002","Silvis SD 34"]
["49081037002","East Moline SD 37",null,null,null,"49081036002","Carbon Cliff-Barstow SD 36"]
["49081040022","Moline-Coal Valley CUSD 40",null,null,null,"49081037002","East Moline SD 37"]
["49081041025","Rock Island SD 41",null,null,null,"49081040022","Moline-Coal Valley CUSD 40"]
["49081100026","Riverdale CUSD 100",null,null,null,"49081041025","Rock Island SD 41"]
["49081200026","Sherrard CUSD 200",null,null,null,"49081100026","Riverdale CUSD 100"]
["49081300026","Rockridge CUSD 300",null,null,null,"49081200026","Sherrard CUSD 200"]
["50082009026","Lebanon CUSD 9",null,null,null,"49081300026","Rockridge CUSD 300"]
["50082019026","Mascoutah CUD 19",null,null,null,"50082009026","Lebanon CUSD 9"]
["50082030003","St Libory Cons SD 30",null,null,null,"50082019026","Mascoutah CUD 19"]
["50082040026","Marissa CUSD 40",null,null,null,"50082030003","St Libory Cons SD 30"]
["50082060026","New Athens CUSD 60",null,null,null,"50082040026","Marissa CUSD 40"]
["50082070004","Freeburg CCSD 70",null,null,null,"50082060026","New Athens CUSD 60"]
["50082077016","Freeburg CHSD 77",null,null,null,"50082070004","Freeburg CCSD 70"]
["50082085002","Shiloh Village SD 85",null,null,null,"50082077016","Freeburg CHSD 77"]
["50082090004","O Fallon CCSD 90",null,null,null,"50082085002","Shiloh Village SD 85"]
["50082104002","Central SD 104",null,null,null,"50082090004","O Fallon CCSD 90"]
["50082105002","Pontiac-W Holliday SD 105",null,null,null,"50082104002","Central SD 104"]
["50082110004","Grant CCSD 110",null,null,null,"50082105002","Pontiac-W Holliday SD 105"]
["50082113002","Wolf Branch SD 113",null,null,null,"50082110004","Grant CCSD 110"]
["50082115002","Whiteside SD 115",null,null,null,"50082113002","Wolf Branch SD 113"]
["50082116002","High Mount SD 116",null,null,null,"50082115002","Whiteside SD 115"]
["50082118002","Belleville SD 118",null,null,null,"50082116002","High Mount SD 116"]
["50082119002","Belle Valley SD 119",null,null,null,"50082118002","Belleville SD 118"]
["50082130004","Smithton CCSD 130",null,null,null,"50082119002","Belle Valley SD 119"]
["50082160004","Millstadt CCSD 160",null,null,null,"50082130004","Smithton CCSD 130"]
["50082175002","Harmony Emge SD 175",null,null,null,"50082160004","Millstadt CCSD 160"]
["50082181002","Signal Hill SD 181",null,null,null,"50082175002","Harmony Emge SD 175"]
["50082187026","Cahokia CUSD 187",null,null,null,"50082181002","Signal Hill SD 181"]
["50082188022","Brooklyn UD 188",null,null,null,"50082187026","Cahokia CUSD 187"]
["50082189022","East St Louis SD 189",null,null,null,"50082188022","Brooklyn UD 188"]
["50082196026","Dupo CUSD 196",null,null,null,"50082189022","East St Louis SD 189"]
["50082201017","Belleville Twp HSD 201",null,null,null,"50082196026","Dupo CUSD 196"]
["50082203017","O Fallon Twp HSD 203",null,null,null,"50082201017","Belleville Twp HSD 201"]
["51065200026","Greenview CUSD 200",null,null,null,"50082203017","O Fallon Twp HSD 203"]
["51065202026","Porta CUSD 202",null,null,null,"51065200026","Greenview CUSD 200"]
["51065213026","Athens CUSD 213",null,null,null,"51065202026","Porta CUSD 202"]
["51084001026","Tri City CUSD 1",null,null,null,"51065213026","Athens CUSD 213"]
["51084003A26","Rochester CUSD 3A",null,null,null,"51084001026","Tri City CUSD 1"]
["51084005026","Ball Chatham CUSD 5",null,null,null,"51084003A26","Rochester CUSD 3A"]
["51084008026","Pleasant Plains CUSD 8",null,null,null,"51084005026","Ball Chatham CUSD 5"]
["51084010026","Auburn CUSD 10",null,null,null,"51084008026","Pleasant Plains CUSD 8"]
["51084011026","Pawnee CUSD 11",null,null,null,"51084010026","Auburn CUSD 10"]
["51084014026","Riverton CUSD 14",null,null,null,"51084011026","Pawnee CUSD 11"]
["51084015026","Williamsville CUSD 15",null,null,null,"51084014026","Riverton CUSD 14"]
["51084016026","New Berlin CUSD 16",null,null,null,"51084015026","Williamsville CUSD 15"]
["51084186025","Springfield SD 186",null,null,null,"51084016026","New Berlin CUSD 16"]
["53060126026","Havana CUSD 126",null,null,null,"51084186025","Springfield SD 186"]
["53060189026","Illini Central CUSD 189",null,null,null,"53060126026","Havana CUSD 126"]
["53060191026","Midwest Central CUSD 191",null,null,null,"53060189026","Illini Central CUSD 189"]
["53090050002","District 50 Schools",null,null,null,"53060191026","Midwest Central CUSD 191"]
["53090051002","Central SD 51",null,null,null,"53090050002","District 50 Schools"]
["53090052002","Washington SD 52",null,null,null,"53090051002","Central SD 51"]
["53090076002","Creve Coeur SD 76",null,null,null,"53090052002","Washington SD 52"]
["53090085002","Robein SD 85",null,null,null,"53090076002","Creve Coeur SD 76"]
["53090086002","East Peoria SD 86",null,null,null,"53090085002","Robein SD 85"]
["53090098002","Rankin CSD 98",null,null,null,"53090086002","East Peoria SD 86"]
["53090102002","N Pekin & Marquette Hght SD 102",null,null,null,"53090098002","Rankin CSD 98"]
["53090108002","Pekin PSD 108",null,null,null,"53090102002","N Pekin & Marquette Hght SD 102"]
["53090137002","South Pekin SD 137",null,null,null,"53090108002","Pekin PSD 108"]
["53090303016","Pekin CSD 303",null,null,null,"53090137002","South Pekin SD 137"]
["53090308016","Washington CHSD 308",null,null,null,"53090303016","Pekin CSD 303"]
["53090309016","East Peoria CHSD 309",null,null,null,"53090308016","Washington CHSD 308"]
["53090606004","Spring Lake CCSD 606",null,null,null,"53090309016","East Peoria CHSD 309"]
["53090701026","Deer Creek-Mackinaw CUSD 701",null,null,null,"53090606004","Spring Lake CCSD 606"]
["53090702026","Tremont CUSD 702",null,null,null,"53090701026","Deer Creek-Mackinaw CUSD 701"]
["53090703026","Delavan CUSD 703",null,null,null,"53090702026","Tremont CUSD 702"]
["53090709026","Morton CUSD 709",null,null,null,"53090703026","Delavan CUSD 703"]
["53102001004","Metamora CCSD 1",null,null,null,"53090709026","Morton CUSD 709"]
["53102002004","Riverview CCSD 2",null,null,null,"53102001004","Metamora CCSD 1"]
["53102006026","Fieldcrest CUSD 6",null,null,null,"53102002004","Riverview CCSD 2"]
["53102011026","El Paso-Gridley CUSD 11",null,null,null,"53102006026","Fieldcrest CUSD 6"]
["53102021026","Lowpoint-Washburn CUSD 21",null,null,null,"53102011026","El Paso-Gridley CUSD 11"]
["53102060026","Roanoke Benson CUSD 60",null,null,null,"53102021026","Lowpoint-Washburn CUSD 21"]
["53102069002","Germantown Hills SD 69",null,null,null,"53102060026","Roanoke Benson CUSD 60"]
["53102122017","County of Woodford School",null,null,null,"53102069002","Germantown Hills SD 69"]
["53102140026","Eureka CUD 140",null,null,null,"53102122017","County of Woodford School"]
["54092001026","Bismarck Henning CUSD",null,null,null,"53102140026","Eureka CUD 140"]
["54092002026","Westville CUSD 2",null,null,null,"54092001026","Bismarck Henning CUSD"]
["54092004026","Georgetown-Ridge Farm CUD 4",null,null,null,"54092002026","Westville CUSD 2"]
["54092007026","Rossville-Alvin CUSD 7",null,null,null,"54092004026","Georgetown-Ridge Farm CUD 4"]
["54092010026","Potomac CUSD 10",null,null,null,"54092007026","Rossville-Alvin CUSD 7"]
["54092011026","Hoopeston Area CUSD 11",null,null,null,"54092010026","Potomac CUSD 10"]
["54092061003","Armstrong-Ellis Cons SD 61",null,null,null,"54092011026","Hoopeston Area CUSD 11"]
["54092076026","Oakwood CUSD 76",null,null,null,"54092061003","Armstrong-Ellis Cons SD 61"]
["54092118024","Danville CCSD 118",null,null,null,"54092076026","Oakwood CUSD 76"]
["54092225017","Armstrong Twp HSD 225",null,null,null,"54092118024","Danville CCSD 118"]
["54092512026","Salt Fork CUSD 512",null,null,null,"54092225017","Armstrong Twp HSD 225"]
["56099017002","Channahon SD 17",null,null,null,"54092512026","Salt Fork CUSD 512"]
["56099030C04","Troy CCSD 30C",null,null,null,"56099017002","Channahon SD 17"]
["56099033C04","Homer CCSD 33C",null,null,null,"56099030C04","Troy CCSD 30C"]
["56099070C04","Laraway CCSD 70C",null,null,null,"56099033C04","Homer CCSD 33C"]
["56099081002","Union SD 81",null,null,null,"56099070C04","Laraway CCSD 70C"]
["56099084002","Rockdale SD 84",null,null,null,"56099081002","Union SD 81"]
["56099086005","Joliet PSD 86",null,null,null,"56099084002","Rockdale SD 84"]
["56099088002","Chaney-Monge SD 88",null,null,null,"56099086005","Joliet PSD 86"]
["56099088A02","Richland GSD 88A",null,null,null,"56099088002","Chaney-Monge SD 88"]
["56099089002","Fairmont SD 89",null,null,null,"56099088A02","Richland GSD 88A"]
["56099090002","Taft SD 90",null,null,null,"56099089002","Fairmont SD 89"]
["56099091002","Lockport SD 91",null,null,null,"56099090002","Taft SD 90"]
["56099092002","Will County SD 92",null,null,null,"56099091002","Lockport SD 91"]
["56099114002","Manhattan SD 114",null,null,null,"56099092002","Will County SD 92"]
["56099122002","New Lenox SD 122",null,null,null,"56099114002","Manhattan SD 114"]
["56099157C04","Frankfort CCSD 157C",null,null,null,"56099122002","New Lenox SD 122"]
["56099159002","Mokena SD 159",null,null,null,"56099157C04","Frankfort CCSD 157C"]
["56099161002","Summit Hill SD 161",null,null,null,"56099159002","Mokena SD 159"]
["56099200U26","Beecher CUSD 200U",null,null,null,"56099161002","Summit Hill SD 161"]
["56099201U26","Crete Monee CUSD 201U",null,null,null,"56099200U26","Beecher CUSD 200U"]
["56099202022","Plainfield SD 202",null,null,null,"56099201U26","Crete Monee CUSD 201U"]
["56099203004","Elwood CCSD 203",null,null,null,"56099202022","Plainfield SD 202"]
["56099204017","Joliet Twp HSD 204",null,null,null,"56099203004","Elwood CCSD 203"]
["56099205017","Lockport Twp HSD 205",null,null,null,"56099204017","Joliet Twp HSD 204"]
["56099207U26","Peotone CUSD 207U",null,null,null,"56099205017","Lockport Twp HSD 205"]
["56099209U26","Wilmington CUSD 209U",null,null,null,"56099207U26","Peotone CUSD 207U"]
["56099210016","Lincoln Way CHSD 210",null,null,null,"56099209U26","Wilmington CUSD 209U"]
["56099255U26","Reed Custer CUSD 255U",null,null,null,"56099210016","Lincoln Way CHSD 210"]
["56099365U26","Valley View CUSD 365U",null,null,null,"56099255U26","Reed Custer CUSD 255U"]
[null,null,null,null,null,"56099365U26","Valley View CUSD 365U"]

{"sheet":"Sheet5","index":19,"n_rows":3420,"n_cols":10,"rows_kept":3420,"cut":false,"hidden":true,"merged":[]}
["ChrAgreNum","4052","4061","4070","4075",null,null,null,"Field No","SumOf2018"]
["01001001026",1603274,5764461,1603274,4955576,null,null,null,"4052",6473039168.8000002]
["01001002026",1967629,6446888,1967629,6106252,null,null,null,"4061",29269321069.660004]
["01001003026",2921256,9242043,2921256,9021535,null,null,null,"4070",6473039168.8000002]
["01001004026",1922882,6948271,1922882,6236456,null,null,null,"4075",28030209428.369999]
["01001172022",19032643,71340438,19032643,68866630]
["01005001026",2400311,8033949,2400311,8299970]
["01009015026",4410108,18143988,4410108,15774694]
["01009064026",1310012,3510221,1310012,3381237]
["01009262026",1443021,5019438,1443021,4626845]
["01069001026",1205841,4122538,1205841,4137108]
["01069006026",184388,3896163,184388,3317503]
["01069011026",1011307,3239822,1011307,3383688]
["01069027026",1319875,4293083,1319875,4221719]
["01069117022",10777166,42717118,10777166,40356297]
["01075003026",1095783,3436528,1095783,3725145]
["01075004026",962910,4202801,962910,4132448]
["01075010026",3754074,13659512,3754074,12754737]
["01075012026",1546687,6108845,1546687,5848048]
["01086001026",2140197,6791343,2140197,6553866]
["01086002026",854952,2861765,854952,2817886]
["03003001026",709780,3900479,709780,3564849]
["03003002026",6295670,22177585,6295670,21074987]
["03011001026",1038391,3744969,1038391,3555858]
["03011003026",6491465,25618993,6491465,25404861]
["03011004026",717509,3099765,717509,2726123]
["03011008026",4304378,16041928,4304378,14734805]
["03011014024",877841,3781173,877841,3352866]
["03025010026",1336719,6928193,1336719,6788037]
["03025020026",1360517,4146012,1360517,3855885]
["03025030026",1567353,5072918,1567353,4713246]
["03025040026",4289530,23477736,4289530,22218327]
["03025050026",1719486,8872059,1719486,8263758]
["03026201026",1189996,5195847,1189996,4833225]
["03026202026",1688004,5290813,1688004,5147656]
["03026203026",5617358,18098094,5617358,17685144]
["03026204026",1439374,4937249,1439374,4761865]
["03068002026",1733292,6145895,1733292,5952633]
["03068003026",5441928,19004736,5441928,18716980]
["03068012026",4463621,15932472,4463621,15707539]
["03068022026",1750507,6976273,1750507,6416585]
["04004100026",31440722,110895902,31440722,104163537]
["04004200026",5631076,20820325,5631076,19738918]
["04101122022",30011705,96272449,30011705,96862202]
["04101131004",982303,17469153,982303,15260302]
["04101133004",403989,6273607,403989,5916284]
["04101134004",73589,1434180,73589,1369562]
["04101140004",781285,13419441,781285,12533026]
["04101205025",116600332,428911600,116600332,413532751]
["04101207016",7733780,29895789,7733780,29633277]
["04101320026",497664,9726926,497664,8815476]
["04101321026",3242398,11405022,3242398,11948223]
["04101322026",2590858,9806740,2590858,9461642]
["04101323026",5155387,18280148,5155387,17868967]
["05016015004",63898292,188480719,63898292,185682404]
["05016021004",38938828,126854114,38938828,120476416]
["05016023002",7662158,25762164,7662158,25423967]
["05016025002",28217385,90249671,28217385,89403944]
["05016026002",9249862,30342006,9249862,30423098]
["05016027002",11623026,34335276,11623026,34667596]
["05016028002",14073844,46170192,14073844,47350231]
["05016029002",4294352,16367111,4294352,15209076]
["05016030002",9812552,30335655,9812552,30623489]
["05016031002",6967783,22493149,6967783,22064545]
["05016034004",24518362,82739210,24518362,81462435]
["05016035002",8748337,31688615,8748337,29035969]
["05016036002",16554564,54449942,16554564,51870442]
["05016037002",6296530,18613653,6296530,19773987]
["05016038002",4656050,15356156,4656050,15617212]
["05016039002",14117237,62475086,14117237,61139151]
["05016054004",43627489,214747472,43627489,214578410]
["05016057002",10398181,30144861,10398181,32114303]
["05016059004",45106358,132108693,45106358,136091979]
["05016062004",18551136,87962198,18551136,84648199]
["05016063002",10273084,49781083,10273084,46781644]
["05016064004",18054149,79480065,18054149,78049482]
["05016065004",null,122756571,null,105190692]
["05016067002",3582301,12070780,3582301,11166765]
["05016068002",10882622,33968585,10882622,36261767]
["05016069002",5811348,28078427,5811348,26970200]
["05016070002",784461,12217222,784461,11940981]
["05016071002",3415332,11433746,3415332,11411135]
["05016072002",4793879,15115439,4793879,15407599]
["05016073002",3045433,10223557,3045433,10138932]
["05016073502",6247689,20010103,6247689,21500638]
["05016074002",9014262,29533497,9014262,28311537]
["05016202017",24308805,91109135,24308805,89224755]
["05016203017",21531835,114175188,21531835,110680582]
["05016207017",45678237,155313099,45678237,149263278]
["05016211017",79932635,279071210,79932635,270746276]
["05016214017",80863126,283875596,80863126,273972842]
["05016219017",35215118,152693472,35215118,130723896]
["05016225017",39625742,150108911,39625742,142627907]
["06016078002",1661730,6133674,1661730,5527010]
["06016079002",979779,4905511,979779,4775619]
["06016080002",2899045,13011391,2899045,13363746]
["06016081002",3858202,19685974,3858202,19243889]
["06016083002",15070779,52028867,15070779,49901412]
["06016084002",6142091,22630726,6142091,21341529]
["06016084502",3639260,13743893,3639260,11999011]
["06016085502",1615978,8767457,1615978,8008504]
["06016086002",463429,6939420,463429,6716567]
["06016087002",9071627,40609578,9071627,37800378]
["06016088002",6180017,34374179,6180017,32590597]
["06016089002",21060557,81197433,21060557,74745101]
["06016090002",9656034,30438265,9656034,29692460]
["06016091002",5465976,20412038,5465976,20421335]
["06016092002",null,6515313,null,6118142]
["06016092502",8793407,21594850,8793407,21252729]
["06016093002",2741906,9651131,2741906,8921294]
["06016094002",2367107,8617429,2367107,8461705]
["06016095002",4478688,15308142,4478688,14777772]
["06016096002",8860233,29741332,8860233,31014795]
["06016097002",33096463,115305502,33096463,107702469]
["06016098002",12212081,45739584,12212081,43256891]
["06016099002",49273942,193623721,49273942,174815117]
["06016100002",14469582,58771530,14469582,49569173]
["06016101002",8176636,22387732,8176636,22773784]
["06016102002",9369409,43564700,9369409,39721804]
["06016103002",11624726,37486128,11624726,39600950]
["06016105002",10743576,29818502,10743576,30367596]
["06016106002",5149482,16049129,5149482,15700855]
["06016107002",5878088,16374076,5878088,16631247]
["06016200013",19376475,83323777,19376475,84277371]
["06016201017",33159525,108887357,33159525,111406929]
["06016204017",24713606,85602094,24713606,85409155]
["06016208017",8592084,29847983,8592084,29308124]
["06016209017",19098221,90447330,19098221,80894520]
["06016212016",23047041,84832227,23047041,79859939]
["06016234016",4790542,18605795,4790542,17524694]
["06016401026",13617126,46956977,13617126,48015505]
["07016104002",4855793,25531749,4855793,26149940]
["07016108002",1695661,5968073,1695661,6873015]
["07016109002",10614978,42567282,10614978,40375805]
["07016110002",934790,5864321,934790,5396984]
["07016111002",5866350,44012093,5866350,41341812]
["07016113A02",7494897,28457943,7494897,26874982]
["07016117002",2114246,41664318,2114246,34379169]
["07016118004",5649201,26093675,5649201,26140399]
["07016122002",4898173,29036061,4898173,27520243]
["07016123002",8910103,42124318,8910103,42530287]
["07016124002",5204641,26549204,5204641,27883161]
["07016125002",2485386,9691435,2485386,9267400]
["07016126002",4003455,26427887,4003455,21225724]
["07016127002",4330512,16618936,4330512,15587530]
["07016127502",3209318,20440200,3209318,17176794]
["07016128002",477267,8695363,477267,8223390]
["07016130002",9175976,54023478,9175976,48622274]
["07016132002",2957484,14860577,2957484,13852134]
["07016133002",1455499,5668969,1455499,5342883]
["07016135002",25937301,89059829,25937301,86870595]
["07016140002",10834810,45885113,10834810,47955936]
["07016142002",750042,14148856,750042,13054547]
["07016143002",7275372,24611855,7275372,23744010]
["07016143502",5555409,22993898,5555409,22026646]
["07016144002",9216544,38172230,9216544,34831229]
["07016145002",4407376,16767768,4407376,15640581]
["07016146004",7822693,36952880,7822693,38003160]
["07016147002",4477497,19677574,4477497,18127722]
["07016148002",1782405,32155421,1782405,31290314]
["07016149002",7524223,40105887,7524223,36946281]
["07016150002",4270211,14358100,4270211,13827630]
["07016151002",6640103,26511618,6640103,24792854]
["07016152002",4739230,29072576,4739230,27781675]
["07016152502",3336693,14125658,3336693,14596951]
["07016153002",8618890,27700730,8618890,27370223]
["07016154002",1179287,3681427,1179287,3491294]
["07016154502",402149,2751374,402149,2329973]
["07016155002",3007932,16523691,3007932,16754262]
["07016156002",2091618,12752622,2091618,11639365]
["07016157002",2230524,12190218,2230524,12091138]
["07016158002",5565435,31974155,5565435,29826335]
["07016159002",5549853,30353441,5549853,30080915]
["07016160002",4943880,18515117,4943880,18934657]
["07016161002",10145725,35462169,10145725,35228640]
["07016162002",7513550,39200241,7513550,38537013]
["07016163002",8489957,30359826,8489957,28793974]
["07016167002",4431397,17844783,4431397,17301458]
["07016168004",6831041,23893346,6831041,23949303]
["07016169002",2116798,7551886,2116798,8072536]
["07016170002",14773706,53612877,14773706,50642098]
["07016171002",3681154,14743183,3681154,13815699]
["07016172002",1469295,5827521,1469295,5635855]
["07016194002",5513493,19379901,5513493,18429288]
["07016205017",31705093,122928812,31705093,117890851]
["07016206017",17960736,61184893,17960736,58557413]
["07016210017",8076289,28196081,8076289,26718775]
["07016215017",12294161,57940330,12294161,59261568]
["07016217016",11902867,41605712,11902867,41356334]
["07016218016",20570112,102630753,20570112,104709793]
["07016220017",6393731,32284505,6393731,32539081]
["07016227017",18153578,66821612,18153578,65492641]
["07016228016",29826590,103338584,29826590,104692498]
["07016229016",5824806,32027841,5824806,30844230]
["07016230013",50488672,165687682,50488672,154727200]
["07016231016",5200868,21698297,5200868,19488477]
["07016233016",16429486,59388942,16429486,56103335]
["08008308026",371849,6444351,371849,5652415]
["08008314026",543623,11024629,543623,10607609]
["08008399026",291069,4088840,291069,4089007]
["08043119022",328606,5793685,328606,5319074]
["08043120022",595866,10372135,595866,9560175]
["08043205026",226604,4318715,226604,4066534]
["08043206026",361220,6093694,361220,5667722]
["08043210026",448518,7004380,448518,6743296]
["08043211026",254430,4028737,254430,3726854]
["08089145022",15798516,56434538,15798516,56120846]
["08089200026",269168,4443082,269168,4565845]
["08089201026",2949271,10783131,2949271,10394358]
["08089202026",413679,7131219,413679,6714091]
["08089203026",213890,3632855,213890,3806792]
["09010001026",2107219,7239097,2107219,7089083]
["09010003026",1607866,24706693,1607866,24582288]
["09010004026",44751741,153948877,44751741,152382510]
["09010007026",5421944,17869044,5421944,17505999]
["09010008026",1561603,4851939,1561603,4750374]
["09010116022",19774825,70638492,19774825,71228264]
["09010130004",637444,2128502,637444,2179360]
["09010137002",3564224,21066836,3564224,20321728]
["09010142004",316418,1320172,316418,1196245]
["09010169004",2609822,8196890,2609822,8222749]
["09010188004",660348,2155658,660348,2115053]
["09010193017",3265585,12584044,3265585,11382825]
["09010197004",891044,2897701,891044,2861212]
["09010305016",1573667,4994475,1573667,4983032]
["09027005026",4207350,13222270,4207350,12754686]
["09027010026",4781045,15404233,4781045,16272682]
["11012002C26",643771,10366482,643771,9753076]
["11012003C26",1330448,4536099,1330448,4360566]
["11012004C26",2842226,8895304,2842226,8778081]
["11015001026",7822784,29303819,7822784,26828666]
["11015002026",13446268,41993688,13446268,40874779]
["11015005026",1132729,3324592,1132729,3279629]
["11018003026",1944520,6564433,1944520,5934326]
["11018077026",2949973,10028443,2949973,9223124]
["11021301026",2839165,9875738,2839165,9796743]
["11021302026",1833647,6547783,1833647,6209546]
["11021305026",4412462,13794842,4412462,13608473]
["11021306026",2755857,9509678,2755857,8448407]
["11023001026",1337907,5430983,1337907,4456511]
["11023003026",765425,2471328,765425,2290524]
["11023004026",209301,4610529,209301,4111931]
["11023006026",310640,3296902,310640,2843122]
["11023095025",2735002,12663784,2735002,11961619]
["11070300026",3185549,10731028,3185549,10063606]
["11070302026",1783131,5453731,1783131,5453577]
["11087001026",1278130,4242251,1278130,4029322]
["11087003A26",1306021,4700668,1306021,4247160]
["11087004026",4145104,13113759,4145104,12673896]
["11087005A26",995726,3496983,995726,3127170]
["11087021026",3191902,10437648.310000001,3191902,9802967.1699999999]
["12013010026",889467,3170760,889467,2936064]
["12013025026",1822172,6615920,1822172,6149478]
["12013035026",580134,10054896,580134,9769551]
["12017001026",935721,3476483,935721,3397637]
["12017002026",4918502,16614066,4918502,15943845]
["12017003026",906420,3438729,906420,3362037]
["12017004026",1673639,5901615,1673639,5837954]
["12040001026",3627037,12718756,3627037,12257011]
["12051010026",2561732,9566829,2561732,8694822]
["12051020026",3428888,12441185,3428888,11972014]
["12080001026",7527328,26456058,7527328,23425520]
["13014001026",3777434,11612530,3777434,11399534]
["13014003026",4768329,14257038,4768329,14171482]
["13014012004",818218,3999512,818218,4275083]
["13014021002",1021551,3050705,1021551,2908709]
["13014046002",409044,1673372,409044,1641605]
["13014057002",257402,1181813,257402,1139743]
["13014060002",382460,1760051,382460,1690975]
["13014062002",365963,1028497,365963,1008964]
["13014063002",278200,1457803,278200,1325701]
["13014071016",2592726,7235564,2592726,7316499]
["13014141502",616006,1672285,616006,1702104]
["13014186002",240292,1571943,240292,1236326]
["13041001026",1074162,4063363,1074162,3750681]
["13041002004",1027993,3560440,1027993,3374895]
["13041003004",792994,2629566,792994,2603339]
["13041005004",582019,2265639,582019,2278563]
["13041006004",131090,883479,131090,792721]
["13041012004",35732.83,645735.82999999996,35732.83,584584.82999999996]
["13041079002",119558,2132229,119558,1880709]
["13041080002",5873370,23824199,5873370,22425134]
["13041082002",536704,1901847,536704,1747963]
["13041099004",24550.14,586716.14,24550.14,429817.14]
["13041178004",842176,3030763,842176,2644609]
["13041201017",640278,14320477,640278,12429796]
["13041209027",1066970,5826337,1066970,5091559]
["13041318027",426720,3862203,426720,2953967]
["13058001003",118134,1837848,118134,1721574]
["13058002003",419238,1252201,419238,1300006]
["13058007004",758769,2549127,758769,2540513]
["13058010004",742494,2592871,742494,2504281]
["13058100026",591346,2813766,591346,2752357]
["13058111002",519561,8090680,519561,7698118]
["13058133002",721929,3052988,721929,2915342]
["13058135002",2545853,15184012,2545853,14611343]
["13058200017",1929251,12133335,1929251,11580710]
["13058401026",1120916,6344816,1120916,6172495]
["13058501026",929580,6900904,929580,6341107]
["13058600016",363797,6636419,363797,6014109]
["13058722026",521425,2876221,521425,2727518]
["13095001004",1357759,2018790,1357759,1922156]
["13095010026",1964609,6332829,1964609,6170909]
["13095011004",236284,862048,236284,879680]
["13095015004",220419,1312312.1599999999,220419,1151784.8500000001]
["13095049004",295147,4731855,295147,4229983]
["13095099016",1719475,4959199,1719475,4919185]
["15016299025",313816420,5451781242,313816420,5094439782]
["16019424026",4199312,20772219,4199312,19403818]
["16019425026",4195529,12953747,4195529,12063701]
["16019426026",1813599,6758638,1813599,6252903]
["16019427026",11230996,47422398,11230996,47348190]
["16019428026",17486969,88612933,17486969,83490094]
["16019429026",3115252,10778869,3115252,10338843]
["16019430026",1385466,22053413,1385466,21910421]
["16019432026",2940043,10996595,2940043,10054270]
["17020015026",6435563,21412513,6435563,21195522]
["17020018026",2841847,10405852,2841847,10053860]
["17053005026",1831094,6848268,1831094,6680966]
["17053006J26",1601182,4308894,1601182,5559788]
["17053008026",7827575,24638199,7827575,24504253]
["17053074027",24905,3601288,24905,3581299]
["17053090017",3932353,11541856,3932353,10971480]
["17053230017",1249128,5078707,1249128,4751708]
["17053232002",1534627,5621745,1534627,5561415]
["17053425004",47435,653995,47435,694167]
["17053426004",64902,1139797,64902,1040588]
["17053429004",4880498,16871710,4880498,16472421]
["17053435004",113140,1773842,113140,1771435]
["17053438004",453671,2079593.99,453671,1947774]
["17054021026",954113,3215276,954113,3049454]
["17054023026",2270051,7507079,2270051,6801536]
["17054027002",4500793,15579607,4500793,15015415]
["17054061004",931762,3262541,931762,2886939]
["17054088002",435010,1682227,435010,1443518]
["17054092004",926739,2798569,926739,3042667]
["17054404016",3174701,12471869,3174701,10884144]
["17064002026",2955425,9676401,2955425,9651295]
["17064003026",4057278,13451756,4057278,12643714]
["17064004026",3473315,11691076,3473315,11534264]
["17064005026",46845828,149818239,46845828,145164542]
["17064007026",2038111,6920816,2038111,6497624]
["17064016026",5666822,20159407,5666822,20018732]
["17064019026",2016795,7508358,2016795,7359108]
["17064087025",20669595,70187351,20669595,71026301]
["19022002002",6087329,34707977,6087329,32180062]
["19022004002",10425877,50443949,10425877,46551590]
["19022007002",4987491,18844315,4987491,18118633]
["19022010002",3811629,14746911,3811629,13885080]
["19022011002",2886310,11061185,2886310,10473903]
["19022012002",3187147,12183484,3187147,11862300]
["19022013002",5784011,20771543,5784011,20813365]
["19022015002",14231516,52609919,14231516,51820556]
["19022016002",1035753,23963439,1035753,23182950]
["19022020002",3775455,19961594,3775455,18156345]
["19022025002",3780952,13889281,3780952,12623365]
["19022033002",12568765,74602255,12568765,65831127]
["19022034002",1829746,6581059,1829746,6070732]
["19022041002",18985822,62293977,18985822,58544171]
["19022044002",20145804,64811195,20145804,65614576]
["19022045002",17758051,55276776,17758051,55629357]
["19022048002",3072667,12047054,3072667,10907292]
["19022053002",3706132,14765705,3706132,11923173]
["19022058002",27381894,80971376,27381894,82876048]
["19022060002",4751814,22249306,4751814,21526239]
["19022061002",8216379,24447355,8216379,24001979]
["19022062002",778625,12844607,778625,11849022]
["19022063002",3771588,13393864,3771588,12826249]
["19022066002",851043,12476444,851043,12437330]
["19022068002",17566786,55528876,17566786,52372667]
["19022086017",21909635,98757528,21909635,97149086]
["19022087017",49499834,174471313,49499834,166549800]
["19022088016",22737869,79042811,22737869,76242919]
["19022089004",27740415,51390926,27740415,53096434]
["19022093004",22657727,78003536,22657727,77824397]
["19022094016",9525276,34643272,9525276,33993756]
["19022099016",36144694,110409086,36144694,108579669]
["19022100016",10322352,36328664,10322352,35170960]
["19022108016",14759169,54445315,14759169,52167632]
["19022180004",538285,9996304,538285,10132273]
["19022181004",16123007,69990717,16123007,67976947]
["19022200026",72495264,215092012,72495264,209994403]
["19022201026",10349559,32195647,10349559,32979994]
["19022202026",10673226,38930871,10673226,37153459]
["19022203026",60110142,283521726,60110142,271781882]
["19022204026",80235508,365958395,80235508,352025893]
["19022205026",28507615,128548972,28507615,126009850]
["20024001026",2877083,9503664,2877083,9133652]
["20030007026",2385394,8719583,2385394,8235442]
["20033010026",3645404,14364935,3645404,12708003]
["20035001026",1431174,5906226,1431174,5090835]
["20076001026",1642402,5642702,1642402,5509269]
["20083001026",1426733,4540812,1426733,4321298]
["20083002026",1540484,5232213,1540484,4904790]
["20083003026",12773097,30046981,12773097,28251793]
["20083004026",3200631,13752159,3200631,12366029]
["20093017024",436080,1750710,436080,1687307]
["20093348026",null,10863572,null,10937296]
["20096006004",633097,1880278,633097,1780901]
["20096014004",414567,1145045,414567,1287688]
["20096017004",80624,1409553,80624,1460511]
["20096100026",258897,4640155,258897,4198502]
["20096112004",350705,5565686,350705,5554449]
["20096200026",1638605,5131513,1638605,4928638]
["20096225016",1383282,5015276,1383282,4653977]
["20097001026",949320,3527566,949320,3272783]
["20097003026",1895857,7203357,1895857,6667935]
["20097005026",4468821,16212045,4468821,14316254]
["21028047004",3596846,12607234,3596846,11625783]
["21028091004",476029,1612612,476029,1488775]
["21028099026",438050,7625879,438050,7214204]
["21028103013",388345,7035933,388345,5984306]
["21028115004",760621,2410931,760621,2418722]
["21028168026",901552,16153136,901552,15536680]
["21028174026",153079,2690620,153079,2337083]
["21028188026",338001,5345474,338001,5184067]
["21028196026",1181754,6189159,1181754,6065080]
["21044001026",2024036,6189279,2024036,6106637]
["21044032003",710268,2574714,710268,2519807]
["21044043003",241498,802709,241498,783278]
["21044055002",1244963,4452647,1244963,4127357]
["21044064002",400663,1347365,400663,1263815]
["21044133017",1131757,4155468,1131757,3835098]
["21061001026",7479915,23863672,7479915,22551007]
["21061038026",1022156,3244070,1022156,3792135]
["21100001026",2916954,11963035.4,2916954,11260237]
["21100002026",11853539,40720355,11853539,40262429]
["21100003026",1107333,4752597,1107333,4508637]
["21100004026",7196741,26743464,7196741,25460739]
["21100005026",745195,15044652,745195,14620363]
["24032001026",1496573,22822512,1496573,22933695]
["24032002C02",205584,3434220,205584,3315002]
["24032024C04",456507,1324512,456507,1415511]
["24032054002",546850,7746119,546850,9229230]
["24032060C04",395069,6038158,395069,5981310]
["24032072C04",98862,1648043,98862,1593595]
["24032073017",965817,3121444,965817,3137710]
["24032074003",50942,858991,50942,830171]
["24032075002",422370,1678443,422370,1565270]
["24032101016",584640,9513026,584640,11250059]
["24032111016",1707542,27885934,1707542,27958838]
["24032201004",14521700,47331517,14521700,45765681]
["24047018016",156374,2697184,156374,2626316]
["24047066004",110579,2413953,110579,2019359]
["24047088026",8088033,29688539,8088033,29135826]
["24047090004",67650,911479,67650,934479]
["24047115026",15531284,71290837,15531284,74132552]
["24047308026",174408509,334173523,174408509,339285526]
["26029001026",1149491,4332501,1149491,3735845]
["26029002026",1215547,4737564,1215547,4402373]
["26029003026",1622533,5525593,1622533,5430032]
["26029004026",1170689,4218886,1170689,4148719]
["26029066025",1153231,20101875,1153231,19014853]
["26029097026",2621231,8045474,2621231,7491300]
["26034307016",1176252,4255095,1176252,4121506]
["26034316026",1284390,5041269,1284390,4606480]
["26034317004",1135580,4089119,1135580,3937378]
["26034325026",833032,3582515,833032,3590639]
["26034327004",598436,2300450,598436,2294823]
["26034328024",1718434,6295519,1718434,5956749]
["26034337026",1621147,5932517,1621147,5764708]
["26034347004",785733,2931838,785733,2765276]
["26062103026",2238779,7956561,2238779,7392165]
["26062170026",2186370,8524055,2186370,7571531]
["26062185026",7885451,26206385,7885451,25737836]
["26085005026",3189018,11477076,3189018,10979510]
["28006017004",544238,1652725,544238,1548332]
["28006084004",345893,1258062,345893,1154087]
["28006094004",618920,2259339,618920,2234461]
["28006098002",202041,701403,202041,686284]
["28006099004",2243269,7617479,2243269,7175306]
["28006103022",1548187,5226516,1548187,5161839]
["28006115002",3929287,11737022,3929287,12386100]
["28006303026",1303853,3707436,1303853,4188472]
["28006340026",4013619,12640910,4013619,12583933]
["28006500015",2543433,6594711,2543433,7117316]
["28006502017",1684133,5757883,1684133,5438700]
["28006505016",389192,1253413,389192,1159922]
["28037190002",1398024,5039532,1398024,4510697]
["28037223026",3043935,11059400,3043935,10593043]
["28037224026",1887422,5752024,1887422,5939546]
["28037225026",1639754,5152569,1639754,5228547]
["28037226026",1456989,4424963,1456989,4491470]
["28037227026",1868914,5700448,1868914,5760625]
["28037228026",7439012,24305851,7439012,24496134]
["28037229026",5301489,20615033,5301489,20123284]
["28037230026",2030557,6511857,2030557,6425867]
["28088001026",530973,3004112,530973,2553408]
["28088100026",2735956,8981102,2735956,8935915]
["30002001022",1646236,7226721,1646236,6063119]
["30002005026",1558098,6413608,1558098,6114313]
["30039086003",129350,2140172,129350,1810577]
["30039095002",7696121,24402764,7696121,24390715]
["30039130004",110800,1851719,110800,1752964]
["30039140004",349455,5947811,349455,5819893]
["30039165016",736881,12735280,736881,12400414]
["30039176026",2902430,9411428,2902430,9329151]
["30039186026",1014317,26162310,1014317,25064608]
["30039196026",217090,3627735,217090,3684695]
["30073005002",65854.83,1014564.83,65854.83,958219.83]
["30073050002",1751603,5351189,1751603,5235603]
["30073101016",1479575,4919808,1479575,4561585]
["30073204004",84555,1121461,84555,1046372]
["30073300026",747365,12318487,747365,11689381]
["30077100026",1071143,4246505,1071143,4002577]
["30077101026",2013172,9554197,2013172,8149026]
["30091016004",381309,1282059,381309,1264097]
["30091017022",1889136,6480382,1889136,6183322]
["30091037004",2167619,7338772,2167619,7305377]
["30091043004",1187346,4229639,1187346,4100279]
["30091066022",726976,2879376,726976,2647327]
["30091081016",1696071,6019464,1696071,5710782]
["30091084026",1149505,4220801,1149505,4146226]
["31045046022",86890974,505875826,86890974,472745364]
["31045101022",17592747,87157899,17592747,85420456]
["31045129022",35377395,171341154,35377395,160289394]
["31045131022",32106395,180126495,32106395,174054572]
["31045300026",81647562,292515206,81647562,283270707]
["31045301026",15823586,59290538,15823586,55705487]
["31045302026",20399692,67384942,20399692,66602798]
["31045303026",36974429,181378328,36974429,169705658]
["31045304026",17090704,83200753,17090704,77260209]
["32038003026",1519009,4604651,1519009,4289604]
["32038004026",3757142,12296562,3757142,11704710]
["32038006026",1027101,3647862,1027101,3404032]
["32038009026",3604791,12842750,3604791,12198911]
["32038010026",2827827,13087213,2827827,12555617]
["32038124026",2263209,8648094,2263209,8042650]
["32038249026",896602,2356124,896602,2130974]
["32046001026",3582164,14742222,3582164,13381479]
["32046002026",6361786,21886048,6361786,20847747]
["32046005026",6763443,27488452,6763443,22003804]
["32046006026",1640562,5868867,1640562,5419845]
["32046053002",8895233,27755771,8895233,27325452]
["32046061002",5357063,21121511,5357063,19667208]
["32046111025",null,53017663,null,51391609]
["32046256004",1343681,4176995,1343681,4270078]
["32046258004",1173611,4445378,1173611,4166656]
["32046259004",977192,4081393,977192,4029617]
["32046302016",1052929,4375686,1052929,4144143]
["32046307016",7088808,26232350,7088808,24975669]
["33036235026",2853383,9701763,2853383,8887626]
["33048202026",3107824,11454820,3107824,11106622]
["33048205026",17775428,57148332,17775428,52863471]
["33048208026",2209468,7759088,2209468,7022789]
["33048210026",1177117,4907569,1177117,4520730]
["33048276026",2639497,11001342,2639497,9484062]
["33066404026",4242375,12199805,4242375,14185510]
["33094238026",4729710,18724358,4729710,16095702]
["33094304026",3291195,11204625,3291195,10949816]
["34049001002",2280595,8455905,2280595,7345906]
["34049003004",9433307,35676672,9433307,31129346]
["34049006002",12720989,45222235,12720989,46003036]
["34049024004",5234841,18794299,5234841,17739304]
["34049033002",1441307,5216004,1441307,4866094]
["34049034004",9908757,40062958,9908757,37660006]
["34049036002",971684,4007512,971684,4291412]
["34049037002",3037428,10949812,3037428,10575636]
["34049038002",3918789,18498551,3918789,16366539]
["34049041004",9404181,35157861,9404181,31716432]
["34049046004",15649218,53391920,15649218,52555353]
["34049050004",26874056,92676018,26874056,89578352]
["34049056002",9533791,32610806,9533791,31541781]
["34049060026",65455233,257191072,65455233,230586388]
["34049065002",6029840,19788298,6029840,19220948]
["34049067005",15361948,43141813,15361948,44176273]
["34049068002",5824566,19252574,5824566,17945346]
["34049070002",13204816,42480901,13204816,40942272]
["34049072002",1786872,5651326,1786872,5504639]
["34049073004",16738137,62979854,16738137,63172848]
["34049075002",7154442,24417068,7154442,23706638]
["34049076002",7920024,21593421,7920024,20022131]
["34049079002",8659516,33073609,8659516,31226949]
["34049095026",30385254,101001682,30385254,98782258]
["34049096004",17577364,65899881,17577364,58411054]
["34049102004",8371649,38072924,8371649,36947085]
["34049103002",10814652,41307291,10814652,35256029]
["34049106002",1394357,6216811,1394357,5361068]
["34049109002",18895272,62026259,18895272,61392461]
["34049112002",27575120,86875628,27575120,84571328]
["34049113017",31092886,105550031,31092886,106001409]
["34049114002",3490594,11127391,3490594,12408898]
["34049115016",16012503,50145968,16012503,50746548]
["34049116026",36171133,114957573,36171133,113236049]
["34049117016",12644053,51185923,12644053,47089458]
["34049118026",17702493,66828269,17702493,64158672]
["34049120013",13227439,43566985,13227439,43243678]
["34049121017",23313680,69714316,23313680,70846054]
["34049124016",8982055,30017326,8982055,30523033]
["34049125013",31835087,113233422,31835087,105804006]
["34049126017",11526600,48188667,11526600,41011359]
["34049127016",16860621,59924244,16860621,56949617]
["34049128016",31970216,98678302,31970216,98255088]
["34049187026",11806920,55138702,11806920,54482345]
["34049220026",48869853,166256955,48869853,163636962]
["35050001026",1089844,3923077,1089844,3701925]
["35050002026",3389369,10384951,3389369,10496336]
["35050009026",249527,4700737,249527,4085558]
["35050017504",686507,2448316,686507,2188026]
["35050040017",4238111,13473404,4238111,13084820]
["35050044002",5358887,20973151,5358887,19086674]
["35050065004",88359,1293926,88359,1356384]
["35050079004",681796,2525514,681796,2215696]
["35050082004",394462,1291720,394462,1377584]
["35050095004",1148567,3661779,1148567,3542485]
["35050120017",5557336,17325646,5557336,18354706]
["35050122002",3530784,12559632,3530784,11891618]
["35050124002",3427254,10614961,3427254,10885909]
["35050125002",1802611,6395570,1802611,6051756]
["35050140017",6016526,19268507,6016526,19858756]
["35050141002",7217162,25179515,7217162,24457612]
["35050150002",2072728,7472564,2072728,6883238]
["35050160017",3511196,11787027,3511196,11524359]
["35050170004",2947820,9622121,2947820,9130216]
["35050185004",819502,2762227,819502,2759716]
["35050195004",1613890,4950691,1613890,4856932]
["35050210004",99868,1461831,99868,1614376]
["35050230004",475049,1445742,475049,1472047]
["35050280017",2732750,8616100,2732750,8475093]
["35050289004",3625560,12403914,3625560,12572498]
["35050425026",369487,1879605,369487,1607734]
["35059005026",2466385,7668741,2466385,7665618]
["35059007026",2104022,7489903,2104022,7065743]
["35078535026",3420320,11130860,3420320,11403847]
["39055001026",3109704,9702448,3109704,9560757]
["39055002026",4158530,11579486,4158530,11328436]
["39055003026",7747636,24725391,7747636,24723437]
["39055009026",2460635,8321495,2460635,8411191]
["39055011026",3367131,10052910,3367131,10120006]
["39055015026",3393606,10449185,3393606,10119899]
["39055061025",4042308,85790661,4042308,90487819]
["39074005026",1253053,4273577,1253053,3898773]
["39074025026",6003386,18781661,6003386,18805748]
["39074057026",898639,3360731,898639,2938726]
["39074100026",1721224,5713914,1721224,5311600]
["40007040026",1648030,4879130,1648030,4976616]
["40007042026",540947,1763752,540947,1793286]
["40031001026",1954914,6401078,1954914,6174629]
["40031003026",1929319,10164071,1929319,8931475.8300000001]
["40031010026",1693125,5524352,1693125,5284090]
["40042100026",5350804,22647428,5350804,21989789]
["40056001026",3938038,14020984,3938038,13583495]
["40056002026",1449574,5125084,1449574,4948397]
["40056005026",1765319,5747022,1765319,5373713]
["40056006026",3474438,11971836,3474438,11473342]
["40056007026",4141704,17383689,4141704,14370847]
["40056008026",1767819,6768272,1767819,6496646]
["40056009026",4810278,15740549,4810278,15250174]
["40056034026",3723471,15031332,3723471,13292339]
["41057001026",8887230,26945564,8887230,26700825]
["41057002026",12915310,37967006,12915310,37256670]
["41057003026",552103,2914677,552103,2640385]
["41057005026",9287974,29595295,9287974,29565463]
["41057007026",22520994,70828441,22520994,71367991]
["41057008026",8158287,27110799,8158287,24742604]
["41057009026",null,52715754,null,49820270.039999999]
["41057010026",null,52976510,null,48577700]
["41057011026",21864235,75016968,21864235,74220616]
["41057012026",2745429,11846834,2745429,12119340]
["41057013002",3524886,11463259,3524886,11318780]
["41057014016",2240589,7376818,2240589,7683384]
["41057015003",2483696,8603557,2483696,7923131]
["44063002003",5531970,17574109,5531970,18057907]
["44063003003",2088177,7958934,2088177,7336440]
["44063012026",9397818,30266722,9397818,29178516]
["44063015004",21674591,75504240,21674591,73268984]
["44063018004",1361608,5053972,1361608,4477206]
["44063019024",1873865,6750621,1873865,6299927]
["44063026004",8865742,31076850,8865742,29711175]
["44063036002",1464155,5968208,1464155,5604860]
["44063046003",3234018,13140927,3234018,11831451]
["44063047004",19392730,93277716,19392730,92432094]
["44063050026",9817711,36063246,9817711,36073888]
["44063154016",3602774,13078844,3602774,12595827]
["44063155016",36515443,116602141,36515443,114533349]
["44063156016",10613568,39892356,10613568,36087788]
["44063157016",3498850,13897141,3498850,11936227]
["44063158022",34577643,116276026,34577643,114022941]
["44063165003",3230953,12264362,3230953,11074776]
["44063200026",27997254,100112048,27997254,94748196]
["45067003026",782437,3853646,782437,4182329]
["45067004026",6873495,20514497,6873495,19461460]
["45067005026",8450540,25608272,8450540,25237522]
["45079001022",876744,2826233,876744,2705830]
["45079122019",null,367506,null,439356]
["45079132026",3683086,11829530,3683086,11304750]
["45079134004",103512,1443932,103512,1455484]
["45079138026",1340461,4690907,1340461,4582008]
["45079139026",2689480,10220452,2689480,9680399]
["45079140026",532582,10618002,532582,10250404]
["47052170022",9118204,29701651,9118204,30436888]
["47052220002",422105,1148488,422105,1236101]
["47052271026",662839,2902829,662839,2733153]
["47052272026",2820453,9357575,2820453,9663252]
["47052275026",1897344,5980194,1897344,5907287]
["47071144003",482800,1456080,482800,1469854.68]
["47071161004",521346,1511611,521346,1389191]
["47071212017",4203568,13765663,4203568,13865020]
["47071220026",5448515,16795399,5448515,17053092]
["47071221026",2789333,8924484,2789333,8504605]
["47071222026",2175011,6685229,2175011,6606243]
["47071223026",846493,14743187,846493,13277206]
["47071226026",7901737,27676183,7901737,25299353]
["47071231004",6291530,19704216,6291530,19365087]
["47071269004",397354,1315666,397354,1169850]
["47098001026",4230273,17532411,4230273,14784570]
["47098002026",487293,7782293,487293,7298310]
["47098003026",2773917,9701655,2773917,9347153]
["47098005026",9803734,36200542,9803734,35367432]
["47098006026",3547740,10869870,3547740,11667355]
["47098013002",3538177,12665203,3538177,11570857]
["47098020002",1118840,3386458,1118840,3425373]
["47098145004",998281,3049581,998281,2960938]
["47098301017",2879525,10154804,2879525,9601793]
["48072062002",1332462,6403301,1332462,5710488]
["48072063002",1190629,4502698,1190629,4389978]
["48072066002",705027,2923053,705027,2560286]
["48072068002",1130165,4103709,1130165,4039658]
["48072069002",102066,2285123,102066,2247564]
["48072070002",843788,2838115,843788,2834175]
["48072150025",41440664,174272544,41440664,169189902]
["48072265026",3689990,13245599,3689990,13948033]
["48072309026",2313622,7596080,2313622,7182531]
["48072310016",4020624,13889264,4020624,14587487]
["48072316004",549509,2015957,549509,2029900]
["48072321026",6996257,22803051,6996257,22131807]
["48072322026",2264971,7732202,2264971,7357593]
["48072323026",14081811,47846579,14081811,44849733]
["48072325026",2298594,11760112,2298594,11318240]
["48072326026",2530207,9011256,2530207,8428648]
["48072327026",2418211,8851072,2418211,9105840]
["48072328003",534836,1801736,534836,1791390]
["49081029002",783911,2449881,783911,2631371]
["49081030017",6389619,20425789,6389619,19866823]
["49081034002",2114650,8188182,2114650,7400223]
["49081036002",1284352,4353765,1284352,4266196]
["49081037002",11004921,37265088,11004921,35224392]
["49081040022",4410879,69281714,4410879,66552565]
["49081041025",25838626,90012873,25838626,88430620]
["49081100026",3704065,11614897,3704065,11368734]
["49081200026",5030190,15051056,5030190,16082652]
["49081300026",5391649,13857113,5391649,12888141]
["50082009026",2649699,8344984,2649699,8019430]
["50082019026",13061086,50217501,13061086,41465975]
["50082030003",268815,982305,268815,850855]
["50082040026",2261385,7308901,2261385,6925607]
["50082060026",1791469,5147686,1791469,5339143]
["50082070004",2784405,6909436,2784405,7671328]
["50082077016",2470808,7465550,2470808,7099859]
["50082085002",1879859,6261823,1879859,6197918]
["50082090004",10034740,34594038,10034740,32183449]
["50082104002",2169495,7072611,2169495,6510156]
["50082105002",2739970,9301806,2739970,8538154]
["50082110004",2545930,7851656,2545930,8062398]
["50082113002",2843074,8311551,2843074,8628418]
["50082115002",4204203,13964706,4204203,13476225]
["50082116002",1445839,5408290,1445839,4780378]
["50082118002",14460674,52146425,14460674,49251286]
["50082119002",3361861,12869789,3361861,11329405]
["50082130004",1884175,5351831,1884175,5423767]
["50082160004",2877183,8920199,2877183,8894735]
["50082175002",2852290,10302499,2852290,9577900]
["50082181002",1465724,4867897,1465724,4540713]
["50082187026",13906740,53971461,13906740,53292672]
["50082188022",551474,2510525,551474,2531934]
["50082189022",20808522,96615086,20808522,89077154]
["50082196026",3739733,13021315,3739733,12153779]
["50082201017",18918074,61362445,18918074,61220500]
["50082203017",9464923,28427293,9464923,27963522]
["51065200026",976245,3279526,976245,3081444]
["51065202026",3077928,11853799,3077928,12288063]
["51065213026",3196173,11142186,3196173,10664484]
["51084001026",3168891,7101544,3168891,7180029]
["51084003A26",7449949,23457027,7449949,22695424]
["51084005026",2095367,38950884,2095367,34804151]
["51084008026",6548281,17015549,6548281,17178468]
["51084010026",4056646,13582998,4056646,12637058]
["51084011026",3059063,7529421,3059063,7662072]
["51084014026",643801,11972847,643801,10733187]
["51084015026",4451817,15359458,4451817,14363248]
["51084016026",2676577,10240200,2676577,9434945]
["51084186025",37440089,194379638,37440089,189810767]
["53060126026",3160809,11047889,3160809,10275199]
["53060189026",3070377,9922523,3070377,9489527]
["53060191026",3225651,10701995,3225651,10376698]
["53090050002",2198517,8890564,2198517,8340202]
["53090051002",3185852,11493139,3185852,10742949]
["53090052002",2481404,9374304,2481404,8971191]
["53090076002",2094461,7748857,2094461,7407718]
["53090085002",641728,2134839,641728,2155500]
["53090086002",5820944,20506146,5820944,19393552]
["53090098002",773734,3150756,773734,3025567]
["53090102002",1969377,6718944,1969377,6401672]
["53090108002",13303198,43508766,13303198,44052992]
["53090137002",729422,2776099,729422,2616181]
["53090303016",6187656,22674651,6187656,21569742]
["53090308016",5998541,20043162,5998541,19774709]
["53090309016",3966183,14023099,3966183,16014452]
["53090606004",182878,922138,182878,866939]
["53090701026",3612167,12087922,3612167,11387900]
["53090702026",3448430,10843284,3448430,11008662]
["53090703026",1892805,6144478,1892805,6045892]
["53090709026",10515557,37433925,10515557,36147927]
["53102001004",2247630,7461689,2247630,7604309]
["53102002004",575251,2093089,575251,2045111]
["53102006026",4161518,13636093,4161518,13625782]
["53102011026",4652341,15083661,4652341,14698208]
["53102021026",1347684,4645631,1347684,4587611]
["53102060026",1957775,6780885,1957775,6601221]
["53102069002",2564273,8359668,2564273,8046775]
["53102122017",4082034,14161539,4082034,13454695]
["53102140026",5330708,18011858,5330708,17825705]
["54092001026",2372970,8655303,2372970,8270532]
["54092002026",3481797,13183931,3481797,12072256]
["54092004026",3038477,11074067,3038477,10488427]
["54092007026",502534,4168315,502534,3576888]
["54092010026",242760,2093527,242760,1859007]
["54092011026",5013472,17309315,5013472,16214377]
["54092061003",522096,1466540,522096,1531034]
["54092076026",2273700,8980223,2273700,8642746]
["54092118024",23800323,82387514,23800323,82104093]
["54092225017",400004,2074086,400004,1926952]
["54092512026",6043712,13635927,6043712,13077632]
["56099017002",2593250,17359465,2593250,20721048]
["56099030C04",2403007,43232070,2403007,40419531]
["56099033C04",9201938,50832488,9201938,45530432]
["56099070C04",366747,8519489,366747,7061466]
["56099081002",443349,4139266,443349,3117447]
["56099084002",162585,3031424,162585,3164353]
["56099086005",44071261,155714515,44071261,152240361]
["56099088002",965532,5613131,965532,5119413]
["56099088A02",549388,8810260,549388,8429217]
["56099089002",1148245,5796243,1148245,5504421]
["56099090002",133824,3154248,133824,2718032]
["56099091002",326118,6200941,326118,5419708]
["56099092002",1211273,22613442,1211273,19990374]
["56099114002",4195970,17335786,4195970,14500946]
["56099122002",11305673,56426984,11305673,51670736]
["56099157C04",5448265,32338192,5448265,26712992]
["56099159002",5501163,21014529,5501163,19303146]
["56099161002",13108628,41887255,13108628,40134785]
["56099200U26",534447,10191743,534447,8898060]
["56099202022",61106259,292752761,61106259,278065586]
["56099203004",208552,3516558,208552,3798442]
["56099204017",32498350,108910186,32498350,104624168]
["56099205017",2628786,48103922,2628786,43361124]
["56099207U26",740289,13827138,740289,13298644]
["56099209U26",586808,12456892,586808,12546787]
["56099210016",34559843,102507989,34559843,97350351]
["56099255U26",7272441,28878983,7272441,24801972]
["56099365U26",80804456,283614870,80804456,272979548]
[null,{"$f":"SUM(B2:B851)","v":6473039168.7999992},{"$f":"SUM(C2:C851)","v":29269321069.660004},{"$f":"SUM(D2:D851)","v":6473039168.7999992},{"$f":"SUM(E2:E851)","v":28030209428.370003}]
[]
[]
[]
[]
[]
[]
[]
[]
[]
[]
[]
[]
[]
[]
[]
[]
[]
[]
[]
[]
[]
[]
[]
[]
[]
[]
[]
[]
[]
[]
[]
[]
[]
[]
[]
[]
[]
[]
[]
[]
[]
[]
[]
[]
[]
[]
[]
[]
[]
[]
[]
[]
[]
[]
[]
[]
[]
[]
[]
[]
[]
[]
[]
[]
[]
[]
[]
[]
[]
[]
[]
[]
[]
[]
[]
[]
[]
[]
[]
[]
[]
[]
[]
[]
[]
[]
[]
[]
[]
[]
[]
[]
[]
[]
[]
[]
[]
[]
[]
[]
[]
[]
[]
[]
[]
[]
[]
[]
[]
[]
[]
[]
[]
[]
[]
[]
[]
[]
[]
[]
[]
[]
[]
[]
[]
[]
[]
[]
[]
[]
[]
[]
[]
[]
[]
[]
[]
[]
[]
[]
[]
[]
[]
[]
[]
[]
[]
[]
[]
[]
[]
[]
[]
[]
[]
[]
[]
[]
[]
[]
[]
[]
[]
[]
[]
[]
[]
[]
[]
[]
[]
[]
[]
[]
[]
[]
[]
[]
[]
[]
[]
[]
[]
[]
[]
[]
[]
[]
[]
[]
[]
[]
[]
[]
[]
[]
[]
[]
[]
[]
[]
[]
[]
[]
[]
[]
[]
[]
[]
[]
[]
[]
[]
[]
[]
[]
[]
[]
[]
[]
[]
[]
[]
[]
[]
[]
[]
[]
[]
[]
[]
[]
[]
[]
[]
[]
[]
[]
[]
[]
[]
[]
[]
[]
[]
[]
[]
[]
[]
[]
[]
[]
[]
[]
[]
[]
[]
[]
[]
[]
[]
[]
[]
[]
[]
[]
[]
[]
[]
[]
[]
[]
[]
[]
[]
[]
[]
[]
[]
[]
[]
[]
[]
[]
[]
[]
[]
[]
[]
[]
[]
[]
[]
[]
[]
[]
[]
[]
[]
[]
[]
[]
[]
[]
[]
[]
[]
[]
[]
[]
[]
[]
[]
[]
[]
[]
[]
[]
[]
[]
[]
[]
[]
[]
[]
[]
[]
[]
[]
[]
[]
[]
[]
[]
[]
[]
[]
[]
[]
[]
[]
[]
[]
[]
[]
[]
[]
[]
[]
[]
[]
[]
[]
[]
[]
[]
[]
[]
[]
[]
[]
[]
[]
[]
[]
[]
[]
[]
[]
[]
[]
[]
[]
[]
[]
[]
[]
[]
[]
[]
[]
[]
[]
[]
[]
[]
[]
[]
[]
[]
[]
[]
[]
[]
[]
[]
[]
[]
[]
[]
[]
[]
[]
[]
[]
[]
[]
[]
[]
[]
[]
[]
[]
[]
[]
[]
[]
[]
[]
[]
[]
[]
[]
[]
[]
[]
[]
[]
[]
[]
[]
[]
[]
[]
[]
[]
[]
[]
[]
[]
[]
[]
[]
[]
[]
[]
[]
[]
[]
[]
[]
[]
[]
[]
[]
[]
[]
[]
[]
[]
[]
[]
[]
[]
[]
[]
[]
[]
[]
[]
[]
[]
[]
[]
[]
[]
[]
[]
[]
[]
[]
[]
[]
[]
[]
[]
[]
[]
[]
[]
[]
[]
[]
[]
[]
[]
[]
[]
[]
[]
[]
[]
[]
[]
[]
[]
[]
[]
[]
[]
[]
[]
[]
[]
[]
[]
[]
[]
[]
[]
[]
[]
[]
[]
[]
[]
[]
[]
[]
[]
[]
[]
[]
[]
[]
[]
[]
[]
[]
[]
[]
[]
[]
[]
[]
[]
[]
[]
[]
[]
[]
[]
[]
[]
[]
[]
[]
[]
[]
[]
[]
[]
[]
[]
[]
[]
[]
[]
[]
[]
[]
[]
[]
[]
[]
[]
[]
[]
[]
[]
[]
[]
[]
[]
[]
[]
[]
[]
[]
[]
[]
[]
[]
[]
[]
[]
[]
[]
[]
[]
[]
[]
[]
[]
[]
[]
[]
[]
[]
[]
[]
[]
[]
[]
[]
[]
[]
[]
[]
[]
[]
[]
[]
[]
[]
[]
[]
[]
[]
[]
[]
[]
[]
[]
[]
[]
[]
[]
[]
[]
[]
[]
[]
[]
[]
[]
[]
[]
[]
[]
[]
[]
[]
[]
[]
[]
[]
[]
[]
[]
[]
[]
[]
[]
[]
[]
[]
[]
[]
[]
[]
[]
[]
[]
[]
[]
[]
[]
[]
[]
[]
[]
[]
[]
[]
[]
[]
[]
[]
[]
[]
[]
[]
[]
[]
[]
[]
[]
[]
[]
[]
[]
[]
[]
[]
[]
[]
[]
[]
[]
[]
[]
[]
[]
[]
[]
[]
[]
[]
[]
[]
[]
[]
[]
[]
[]
[]
[]
[]
[]
[]
[]
[]
[]
[]
[]
[]
[]
[]
[]
[]
[]
[]
[]
[]
[]
[]
[]
[]
[]
[]
[]
[]
[]
[]
[]
[]
[]
[]
[]
[]
[]
[]
[]
[]
[]
[]
[]
[]
[]
[]
[]
[]
[]
[]
[]
[]
[]
[]
[]
[]
[]
[]
[]
[]
[]
[]
[]
[]
[]
[]
[]
[]
[]
[]
[]
[]
[]
[]
[]
[]
[]
[]
[]
[]
[]
[]
[]
[]
[]
[]
[]
[]
[]
[]
[]
[]
[]
[]
[]
[]
[]
[]
[]
[]
[]
[]
[]
[]
[]
[]
[]
[]
[]
[]
[]
[]
[]
[]
[]
[]
[]
[]
[]
[]
[]
[]
[]
[]
[]
[]
[]
[]
[]
[]
[]
[]
[]
[]
[]
[]
[]
[]
[]
[]
[]
[]
[]
[]
[]
[]
[]
[]
[]
[]
[]
[]
[]
[]
[]
[]
[]
[]
[]
[]
[]
[]
[]
[]
[]
[]
[]
[]
[]
[]
[]
[]
[]
[]
[]
[]
[]
[]
[]
[]
[]
[]
[]
[]
[]
[]
[]
[]
[]
[]
[]
[]
[]
[]
[]
[]
[]
[]
[]
[]
[]
[]
[]
[]
[]
[]
[]
[]
[]
[]
[]
[]
[]
[]
[]
[]
[]
[]
[]
[]
[]
[]
[]
[]
[]
[]
[]
[]
[]
[]
[]
[]
[]
[]
[]
[]
[]
[]
[]
[]
[]
[]
[]
[]
[]
[]
[]
[]
[]
[]
[]
[]
[]
[]
[]
[]
[]
[]
[]
[]
[]
[]
[]
[]
[]
[]
[]
[]
[]
[]
[]
[]
[]
[]
[]
[]
[]
[]
[]
[]
[]
[]
[]
[]
[]
[]
[]
[]
[]
[]
[]
[]
[]
[]
[]
[]
[]
[]
[]
[]
[]
[]
[]
[]
[]
[]
[]
[]
[]
[]
[]
[]
[]
[]
[]
[]
[]
[]
[]
[]
[]
[]
[]
[]
[]
[]
[]
[]
[]
[]
[]
[]
[]
[]
[]
[]
[]
[]
[]
[]
[]
[]
[]
[]
[]
[]
[]
[]
[]
[]
[]
[]
[]
[]
[]
[]
[]
[]
[]
[]
[]
[]
[]
[]
[]
[]
[]
[]
[]
[]
[]
[]
[]
[]
[]
[]
[]
[]
[]
[]
[]
[]
[]
[]
[]
[]
[]
[]
[]
[]
[]
[]
[]
[]
[]
[]
[]
[]
[]
[]
[]
[]
[]
[]
[]
[]
[]
[]
[]
[]
[]
[]
[]
[]
[]
[]
[]
[]
[]
[]
[]
[]
[]
[]
[]
[]
[]
[]
[]
[]
[]
[]
[]
[]
[]
[]
[]
[]
[]
[]
[]
[]
[]
[]
[]
[]
[]
[]
[]
[]
[]
[]
[]
[]
[]
[]
[]
[]
[]
[]
[]
[]
[]
[]
[]
[]
[]
[]
[]
[]
[]
[]
[]
[]
[]
[]
[]
[]
[]
[]
[]
[]
[]
[]
[]
[]
[]
[]
[]
[]
[]
[]
[]
[]
[]
[]
[]
[]
[]
[]
[]
[]
[]
[]
[]
[]
[]
[]
[]
[]
[]
[]
[]
[]
[]
[]
[]
[]
[]
[]
[]
[]
[]
[]
[]
[]
[]
[]
[]
[]
[]
[]
[]
[]
[]
[]
[]
[]
[]
[]
[]
[]
[]
[]
[]
[]
[]
[]
[]
[]
[]
[]
[]
[]
[]
[]
[]
[]
[]
[]
[]
[]
[]
[]
[]
[]
[]
[]
[]
[]
[]
[]
[]
[]
[]
[]
[]
[]
[]
[]
[]
[]
[]
[]
[]
[]
[]
[]
[]
[]
[]
[]
[]
[]
[]
[]
[]
[]
[]
[]
[]
[]
[]
[]
[]
[]
[]
[]
[]
[]
[]
[]
[]
[]
[]
[]
[]
[]
[]
[]
[]
[]
[]
[]
[]
[]
[]
[]
[]
[]
[]
[]
[]
[]
[]
[]
[]
[]
[]
[]
[]
[]
[]
[]
[]
[]
[]
[]
[]
[]
[]
[]
[]
[]
[]
[]
[]
[]
[]
[]
[]
[]
[]
[]
[]
[]
[]
[]
[]
[]
[]
[]
[]
[]
[]
[]
[]
[]
[]
[]
[]
[]
[]
[]
[]
[]
[]
[]
[]
[]
[]
[]
[]
[]
[]
[]
[]
[]
[]
[]
[]
[]
[]
[]
[]
[]
[]
[]
[]
[]
[]
[]
[]
[]
[]
[]
[]
[]
[]
[]
[]
[]
[]
[]
[]
[]
[]
[]
[]
[]
[]
[]
[]
[]
[]
[]
[]
[]
[]
[]
[]
[]
[]
[]
[]
[]
[]
[]
[]
[]
[]
[]
[]
[]
[]
[]
[]
[]
[]
[]
[]
[]
[]
[]
[]
[]
[]
[]
[]
[]
[]
[]
[]
[]
[]
[]
[]
[]
[]
[]
[]
[]
[]
[]
[]
[]
[]
[]
[]
[]
[]
[]
[]
[]
[]
[]
[]
[]
[]
[]
[]
[]
[]
[]
[]
[]
[]
[]
[]
[]
[]
[]
[]
[]
[]
[]
[]
[]
[]
[]
[]
[]
[]
[]
[]
[]
[]
[]
[]
[]
[]
[]
[]
[]
[]
[]
[]
[]
[]
[]
[]
[]
[]
[]
[]
[]
[]
[]
[]
[]
[]
[]
[]
[]
[]
[]
[]
[]
[]
[]
[]
[]
[]
[]
[]
[]
[]
[]
[]
[]
[]
[]
[]
[]
[]
[]
[]
[]
[]
[]
[]
[]
[]
[]
[]
[]
[]
[]
[]
[]
[]
[]
[]
[]
[]
[]
[]
[]
[]
[]
[]
[]
[]
[]
[]
[]
[]
[]
[]
[]
[]
[]
[]
[]
[]
[]
[]
[]
[]
[]
[]
[]
[]
[]
[]
[]
[]
[]
[]
[]
[]
[]
[]
[]
[]
[]
[]
[]
[]
[]
[]
[]
[]
[]
[]
[]
[]
[]
[]
[]
[]
[]
[]
[]
[]
[]
[]
[]
[]
[]
[]
[]
[]
[]
[]
[]
[]
[]
[]
[]
[]
[]
[]
[]
[]
[]
[]
[]
[]
[]
[]
[]
[]
[]
[]
[]
[]
[]
[]
[]
[]
[]
[]
[]
[]
[]
[]
[]
[]
[]
[]
[]
[]
[]
[]
[]
[]
[]
[]
[]
[]
[]
[]
[]
[]
[]
[]
[]
[]
[]
[]
[]
[]
[]
[]
[]
[]
[]
[]
[]
[]
[]
[]
[]
[]
[]
[]
[]
[]
[]
[]
[]
[]
[]
[]
[]
[]
[]
[]
[]
[]
[]
[]
[]
[]
[]
[]
[]
[]
[]
[]
[]
[]
[]
[]
[]
[]
[]
[]
[]
[]
[]
[]
[]
[]
[]
[]
[]
[]
[]
[]
[]
[]
[]
[]
[]
[]
[]
[]
[]
[]
[]
[]
[]
[]
[]
[]
[]
[]
[]
[]
[]
[]
[]
[]
[]
[]
[]
[]
[]
[]
[]
[]
[]
[]
[]
[]
[]
[]
[]
[]
[]
[]
[]
[]
[]
[]
[]
[]
[]
[]
[]
[]
[]
[]
[]
[]
[]
[]
[]
[]
[]
[]
[]
[]
[]
[]
[]
[]
[]
[]
[]
[]
[]
[]
[]
[]
[]
[]
[]
[]
[]
[]
[]
[]
[]
[]
[]
[]
[]
[]
[]
[]
[]
[]
[]
[]
[]
[]
[]
[]
[]
[]
[]
[]
[]
[]
[]
[]
[]
[]
[]
[]
[]
[]
[]
[]
[]
[]
[]
[]
[]
[]
[]
[]
[]
[]
[]
[]
[]
[]
[]
[]
[]
[]
[]
[]
[]
[]
[]
[]
[]
[]
[]
[]
[]
[]
[]
[]
[]
[]
[]
[]
[]
[]
[]
[]
[]
[]
[]
[]
[]
[]
[]
[]
[]
[]
[]
[]
[]
[]
[]
[]
[]
[]
[]
[]
[]
[]
[]
[]
[]
[]
[]
[]
[]
[]
[]
[]
[]
[]
[]
[]
[]
[]
[]
[]
[]
[]
[]
[]
[]
[]
[]
[]
[]
[]
[]
[]
[]
[]
[]
[]
[]
[]
[]
[]
[]
[]
[]
[]
[]
[]
[]
[]
[]
[]
[]
[]
[]
[]
[]
[]
[]
[]
[]
[]
[]
[]
[]
[]
[]
[]
[]
[]
[]
[]
[]
[]
[]
[]
[]
[]
[]
[]
[]
[]
[]
[]
[]
[]
[]
[]
[]
[]
[]
[]
[]
[]
[]
[]
[]
[]
[]
[]
[]
[]
[]
[]
[]
[]
[]
[]
[]
[]
[]
[]
[]
[]
[]
[]
[]
[]
[]
[]
[]
[]
[]
[]
[]
[]
[]
[]
[]
[]
[]
[]
[]
[]
[]
[]
[]
[]
[]
[]
[]
[]
[]
[]
[]
[]
[]
[]
[]
[]
[]
[]
[]
[]
[]
[]
[]
[]
[]
[]
[]
[]
[]
[]
[]
[]
[]
[]
[]
[]
[]
[]
[]
[]
[]
[]
[]
[]
[]
[]
[]
[]
[]
[]
[]
[]
[]
[]
[]
[]
[]
[]
[]
[]
[]
[]
[]
[]
[]
[]
[]
[]
[]
[]
[]
[]
[]
[]
[]
[]
[]
[]
[]
[]
[]
[]
[]
[]
[]
[]
[]
[]
[]
[]
[]
[]
[]
[]
[]
[]
[]
[]
[]
[]
[]
[]
[]
[]
[]
[]
[]
[]
[]
[]
[]
[]
[]
[]
[]
[]
[]
[]
[]
[]
[]
[]
[]
[]
[]
[]
[]
[]
[]
[]
[]
[]
[]
[]
[]
[]
[]
[]
[]
[]
[]
[]
[]
[]
[]
[]
[]
[]
[]
[]
[]
[]
[]
[]
[]
[]
[]
[]
[]
[]
[]
[]
[]
[]
[]
[]
[]
[]
[]
[]
[]
[]
[]
[]
[]
[]
[]
[]
[]
[]
[]
[]
[]
[]
[]
[]
[]
[]
[]
[]
[]
[]
[]
[]
[]
[]
[]
[]
[]
[]
[]
[]
[]
[]
[]
[]
[]
[]
[]
[]
[]
[]
[]
[]
[]
[]
[]
[]
[]
[]
[]
[]
[]
[]
[]
[]
[]
[]
[]
[]
[]
[]
[]
[]
[]
[]
[]
[]
[]
[]
[]
[]
[]
[]
[]
[]
[]
[]
[]
[]
[]
[]
[]
[]
[]
[]
[]
[]
[]
[]
[]
[]
[]
[]
[]
[]
[]
[]
[]
[]
[]
[]
[]
[]
[]
[]
[]
[]
[]
[]
[]
[]
[]
[]
[]
[]
[]
[]
[]
[]
[]
[]
[]
[]
[]
[]
[]
[]
[]
[]
[]
[]
[]
[]
[]
[]
[]
[]
[]
[]
[]
[]
[]
[]
[]
[]
[]
[]
[]
[]
[]
[]
[]
[]
[]
[]
[]
[]
[]
[]
[]
[]
[]
[]
[]
[]
[]
[]
[]
[]
[]
[]
[]
[]
[]
[]
[]
[]
[]
[]
[]
[]
[]
[]
[]
[]
[]
[]
[]
[]
[]
[]
[]
[]
[]
[]
[]
[]
[]
[]
[]
[]
[]
[]
[]
[]
[]
[]
[]
[]
[]
[]
[]
[]
[]
[]
[]
[]
[]
[]
[]
[]
[]
[]
[]
[]
[]
[]
[]
[]
[]
[]
[]
[]
[]
[]
[]
[]
[]
[]
[]
[]
[]
[]
[]
[]
[]
[]
[]
[]
[]
[]
[]
[]
[]
[]
[]
[]
[null,null,null,null,null,null,null,null,"4052",6473039168.8000002]
[null,null,null,null,null,null,null,null,"4061",29269321069.660004]
[null,null,null,null,null,null,null,null,"4070",6473039168.8000002]
[null,null,null,null,null,null,null,null,"4075",28030209428.369999]
[]
[]
[]
[]
[]
[]
[null,null,null,null,null,null,null,null,"4061",29269321069.660004]
[]
[]
[]
[]
[]
[]
[]
[]
[]
[null,null,null,null,null,null,null,null,"4070",6473039168.8000002]
[]
[]
[]
[]
[null,null,null,null,null,null,null,null,"4075",28030209428.369999]

{"sheet":"SDJA Field #'s","index":20,"n_rows":2408,"n_cols":14,"rows_kept":2408,"cut":false,"hidden":true,"merged":[]}
["txtFieldNum","2018",null,null,null,null,null,null,null,"ChrAgreNum","txtFieldNum","2018"]
[4,4449380884,null,null,null,null,null,null,null,"32000000047","4061  ",262098]
[11,10987732,null,null,null,null,null,null,null,"45079122019","4061  ",367506]
[12,2148438515,null,null,null,null,null,null,null,"12000000046","4061  ",402404]
[15,9075481,null,null,null,null,null,null,null,"01009700045","4061  ",456476]
[16,13905911007.32,null,null,null,null,null,null,null,"21100801046","4061  ",462618]
[25,114728242,null,null,null,null,null,null,null,"53102721045","4061  ",466102]
[27,4524419427,null,null,null,null,null,null,null,"17054404041","4061  ",502523]
[30,6161950946,null,null,null,null,null,null,null,"17054404046","4061  ",513263]
[31,7490098559.5900002,null,null,null,null,null,null,null,"13000000041","4061  ",550070]
[32,13905911007.589998,null,null,null,null,null,null,null,"33048205041","4061  ",575963]
[36,449091290,null,null,null,null,null,null,null,"13000000047","4061  ",586707]
[43,98822,null,null,null,null,null,null,null,"13041099004","4061  ",586716.14]
[44,349694184,null,null,null,null,null,null,null,"08000000046","4061  ",589040]
[47,809521,null,null,null,null,null,null,null,"40000000046","4061  ",599155]
[48,2013208786.2,null,null,null,null,null,null,null,"30000000046","4061  ",604885]
[56,382003,null,null,null,null,null,null,null,"17053090046","4061  ",605798]
[58,533223051,null,null,null,null,null,null,null,"12013035046","4061  ",625848]
[61,648260202,null,null,null,null,null,null,null,"13041012004","4061  ",645735.82999999996]
[62,1159053682.95,null,null,null,null,null,null,null,"17053425004","4061  ",653995]
[63,2013208785.95,null,null,null,null,null,null,null,"28006098002","4061  ",701403]
[65,453038975,null,null,null,null,null,null,null,"33094729045","4061  ",726797]
[68,192660768,null,null,null,null,null,null,null,"28006000000","4061  ",736095]
[69,13754738,null,null,null,null,null,null,null,"13000000046","4061  ",746371]
[70,2119237365,null,null,null,null,null,null,null,"45000000046","4061  ",750898]
[73,460348617,null,null,null,null,null,null,null,"54092740045","4061  ",766363]
[78,469306339,null,null,null,null,null,null,null,"21044043003","4061  ",802709]
[79,613024456.88,null,null,null,null,null,null,null,"24032074003","4061  ",858991]
[80,2119237364.8800001,null,null,null,null,null,null,null,"13095011004","4061  ",862048]
[84,159323034,null,null,null,null,null,null,null,"01001172041","4061  ",864562]
[92,210381344,null,null,null,null,null,null,null,"35050120040","4061  ",878691]
[95,188063,null,null,null,null,null,null,null,"17053090041","4061  ",881524]
[96,1214539779.4400001,null,null,null,null,null,null,null,"13041006004","4061  ",883479]
[103,802396,null,null,null,null,null,null,null,"48000000046","4061  ",886601]
[105,299084753,null,null,null,null,null,null,null,"26000000046","4061  ",887355]
[108,360433788,null,null,null,null,null,null,null,"01001172046","4061  ",893163]
[109,686773915.85000002,null,null,null,null,null,null,null,"24047090004","4061  ",911479]
[110,1214539778.8499999,null,null,null,null,null,null,null,"41057010041","4061  ",915681]
[112,158410779,null,null,null,null,null,null,null,"53090606004","4061  ",922138]
[116,109853870,null,null,null,null,null,null,null,"20000000046","4061  ",925822]
[118,22713,null,null,null,null,null,null,null,"50082746045","4061  ",930746]
[119,663696740.50999999,null,null,null,null,null,null,null,"08043790040","4061  ",941216]
[123,5439635,null,null,null,null,null,null,null,"50082030003","4061  ",982305]
[124,175026030,null,null,null,null,null,null,null,"30073005002","4061  ",1014564.83]
[127,195258946,null,null,null,null,null,null,null,"53000000046","4061  ",1021673]
[128,322545795.58000004,null,null,null,null,null,null,null,"13014062002","4061  ",1028497]
[129,663696740.58000004,null,null,null,null,null,null,null,"04004000051","4061  ",1049626]
[138,459294954,null,null,null,null,null,null,null,"07016790045","4061  ",1095703]
[141,34045,null,null,null,null,null,null,null,"30073204004","4061  ",1121461]
[142,2637165410,null,null,null,null,null,null,null,"17053426004","4061  ",1139797]
[145,9113,null,null,null,null,null,null,null,"08089723045","4061  ",1141918]
[147,17494828,null,null,null,null,null,null,null,"20096014004","4061  ",1145045]
[150,187253893,null,null,null,null,null,null,null,"47052220002","4061  ",1148488]
[151,1210250162,null,null,null,null,null,null,null,"35050720045","4061  ",1163712]
[152,2637165410,null,null,null,null,null,null,null,"13014057002","4061  ",1181813]
[212,1328601194,null,null,null,null,null,null,null,"05016039061","4061  ",1188880]
[213,35175375649.099998,null,null,null,null,null,null,null,"30002748045","4061  ",1252185]
[214,1990590766.51,null,null,null,null,null,null,null,"13058002003","4061  ",1252201]
[215,3803382597,null,null,null,null,null,null,null,"28006505016","4061  ",1253413]
[218,43361774809.610001,null,null,null,null,null,null,null,"28006084004","4061  ",1258062]
[219,43360339529.610001,null,null,null,null,null,null,null,"30091016004","4061  ",1282059]
[220,43360339529.610001,null,null,null,null,null,null,null,"35050082004","4061  ",1291720]
[221,1645399108,null,null,null,null,null,null,null,"35050065004","4061  ",1293926]
[222,19929913595,null,null,null,null,null,null,null,"44000000046","4061  ",1295270]
[223,21575312703,null,null,null,null,null,null,null,"13095015004","4061  ",1312312.1599999999]
[224,21576111783,null,null,null,null,null,null,null,"47071269004","4061  ",1315666]
[226,21576111783,null,null,null,null,null,null,null,"09010142004","4061  ",1320172]
[227,21576111783,null,null,null,null,null,null,null,"24032024C04","4061  ",1324512]
[259,19734469,null,null,null,null,null,null,null,"21044064002","4061  ",1347365]
[260,5656749,null,null,null,null,null,null,null,"17064087041","4061  ",1375186]
[262,13385462,null,null,null,null,null,null,null,"03026741045","4061  ",1396336]
[263,24190,null,null,null,null,null,null,null,"09010008046","4061  ",1399755]
[371,4568411,null,null,null,null,null,null,null,"20096017004","4061  ",1409553]
[439,116325619,null,null,null,null,null,null,null,"04101134004","4061  ",1434180]
[440,220808,null,null,null,null,null,null,null,"45079134004","4061  ",1443932]
[557,956982138,null,null,null,null,null,null,null,"35050230004","4061  ",1445742]
[558,41601698,null,null,null,null,null,null,null,"47071144003","4061  ",1456080]
[559,575570,null,null,null,null,null,null,null,"13014063002","4061  ",1457803]
[590,311901711,null,null,null,null,null,null,null,"35050210004","4061  ",1461831]
[591,7162087,null,null,null,null,null,null,null,"54092061003","4061  ",1466540]
[644,6744713630.6300001,null,null,null,null,null,null,null,"47071161004","4061  ",1511611]
[645,53496043,null,null,null,null,null,null,null,"32000000046","4061  ",1512260]
[651,357591986,null,null,null,null,null,null,null,"17064087046","4061  ",1541091]
[655,9563036,null,null,null,null,null,null,null,"51084731045","4061  ",1551147]
[656,190344821.82999998,null,null,null,null,null,null,null,"13014186002","4061  ",1571943]
[657,286870819.90999997,null,null,null,null,null,null,null,"04000000046","4061  ",1610758]
[658,52342635,null,null,null,null,null,null,null,"21028091004","4061  ",1612612]
[659,10302341030.52,null,null,null,null,null,null,null,"49081030041","4061  ",1634381]
[660,293179837,null,null,null,null,null,null,null,"03026203041","4061  ",1641090]
[661,307192926.84000003,null,null,null,null,null,null,null,"24032072C04","4061  ",1648043]
[662,202069750.16,null,null,null,null,null,null,null,"28006017004","4061  ",1652725]
[663,147490838,null,null,null,null,null,null,null,"13014141502","4061  ",1672285]
[664,228220846.88,null,null,null,null,null,null,null,"13014046002","4061  ",1673372]
[665,73107501,null,null,null,null,null,null,null,"24032075002","4061  ",1678443]
[666,1251261699.8800001,null,null,null,null,null,null,null,"17054088002","4061  ",1682227]
[667,292144165,null,null,null,null,null,null,null,"06016212046","4061  ",1683487]
[668,221686661.11000001,null,null,null,null,null,null,null,"20093017024","4061  ",1750710]
[669,15972675,null,null,null,null,null,null,null,"09027005061","4061  ",1754991]
[670,529803501.11000001,null,null,null,null,null,null,null,"13014060002","4061  ",1760051]
[671,32267130,null,null,null,null,null,null,null,"07016218046","4061  ",1761459]
[672,200887854.69,null,null,null,null,null,null,null,"40007042026","4061  ",1763752]
[673,319595879.69,null,null,null,null,null,null,null,"17053435004","4061  ",1773842]
[674,886967607.63999999,null,null,null,null,null,null,null,"48072328003","4061  ",1801736]
[675,43553785,null,null,null,null,null,null,null,"13058001003","4061  ",1837848]
[676,930521392.63999999,null,null,null,null,null,null,null,"30039130004","4061  ",1851719]
[677,52840391,null,null,null,null,null,null,null,"35050425026","4061  ",1879605]
[678,113534193.69,null,null,null,null,null,null,null,"20096006004","4061  ",1880278]
[679,93837510.159999996,null,null,null,null,null,null,null,"07016228046","4061  ",1890280]
[680,20446100,null,null,null,null,null,null,null,"13041082002","4061  ",1901847]
[681,216449522.12,null,null,null,null,null,null,null,"35059005061","4061  ",2015650]
[682,11104192,null,null,null,null,null,null,null,"48072316004","4061  ",2015957]
[684,508211908.96999997,null,null,null,null,null,null,null,"13095001004","4061  ",2018790]
[685,7879371,null,null,null,null,null,null,null,"41057745045","4061  ",2022597]
[686,16155839,null,null,null,null,null,null,null,"31045302041","4061  ",2022795]
[687,24880652,null,null,null,null,null,null,null,"11015735045","4061  ",2029490]
[688,61556675,null,null,null,null,null,null,null,"54092225017","4061  ",2074086]
[690,100858878.68000001,null,null,null,null,null,null,null,"17053438004","4061  ",2079593.99]
[692,211331415.68000001,null,null,null,null,null,null,null,"01001172061","4061  ",2091714]
[693,15234464,null,null,null,null,null,null,null,"53102002004","4061  ",2093089]
[694,3765960261.9700003,null,null,null,null,null,null,null,"54092010026","4061  ",2093527]
[695,73337542,null,null,null,null,null,null,null,"05016207046","4061  ",2105561]
[696,14141638834.49,null,null,null,null,null,null,null,"09010130004","4061  ",2128502]
[702,1821018202.8499999,null,null,null,null,null,null,null,"13041079002","4061  ",2132229]
[703,9978449,null,null,null,null,null,null,null,"53090085002","4061  ",2134839]
[709,77603853,null,null,null,null,null,null,null,"30039086003","4061  ",2140172]
[713,1115459,null,null,null,null,null,null,null,"09010188004","4061  ",2155658]
[714,39259201.590000004,null,null,null,null,null,null,null,"49081030046","4061  ",2163973]
[715,21007270.619999997,null,null,null,null,null,null,null,"39000000046","4061  ",2179146]
[716,2467821.77,null,null,null,null,null,null,null,"47098005046","4061  ",2224479]
[717,2612016768.9899998,null,null,null,null,null,null,null,"16019430040","4061  ",2232562]
[718,59836075,null,null,null,null,null,null,null,"16000000046","4061  ",2252480]
[719,63757003.75,null,null,null,null,null,null,null,"28006094004","4061  ",2259339]
[720,45912924.219999999,null,null,null,null,null,null,null,"13041005004","4061  ",2265639]
[721,27696557,null,null,null,null,null,null,null,"48072069002","4061  ",2285123]
[722,43046659.019999996,null,null,null,null,null,null,null,"26034327004","4061  ",2300450]
[723,13044376,null,null,null,null,null,null,null,"32038249026","4061  ",2356124]
[724,253293594.99000001,null,null,null,null,null,null,null,"31045046046","4061  ",2380611]
[725,63786797.57,null,null,null,null,null,null,null,"21028115004","4061  ",2410931]
[726,45101253,null,null,null,null,null,null,null,"24047066004","4061  ",2413953]
[727,2515869,null,null,null,null,null,null,null,"35050017504","4061  ",2448316]
[728,111403919.56999999,null,null,null,null,null,null,null,"49081029002","4061  ",2449881]
[729,25655500,null,null,null,null,null,null,null,"11023003026","4061  ",2471328]
[730,41455054,null,null,null,null,null,null,null,"50082188022","4061  ",2510525]
[731,88952075,null,null,null,null,null,null,null,"35050079004","4061  ",2525514]
[732,210254988.60000002,null,null,null,null,null,null,null,"13058007004","4061  ",2549127]
[733,10311244,null,null,null,null,null,null,null,"21044032003","4061  ",2574714]
[734,220566232.60000002,null,null,null,null,null,null,null,"13058010004","4061  ",2592871]
[735,10811716,null,null,null,null,null,null,null,"05016214046","4061  ",2608834]
[736,22176878,null,null,null,null,null,null,null,"13041003004","4061  ",2629566]
[737,19662012,null,null,null,null,null,null,null,"21028174026","4061  ",2690620]
[738,7385651,null,null,null,null,null,null,null,"24047018016","4061  ",2697184]
[739,55643356,null,null,null,null,null,null,null,"32046850060","4061  ",2714629]
[740,2292965,null,null,null,null,null,null,null,"07016154502","4061  ",2751374]
[742,117972578,null,null,null,null,null,null,null,"35050185004","4061  ",2762227]
[743,1679739,null,null,null,null,null,null,null,"24047000061","4061  ",2766034]
[744,2922069,null,null,null,null,null,null,null,"53090137002","4061  ",2776099]
[745,6133028,null,null,null,null,null,null,null,"17054092004","4061  ",2798569]
[746,29573396,null,null,null,null,null,null,null,"13058100026","4061  ",2813766]
[748,17613708,null,null,null,null,null,null,null,"45079001022","4061  ",2826233]
[750,57921940,null,null,null,null,null,null,null,"48072070002","4061  ",2838115]
[751,8051524,null,null,null,null,null,null,null,"01086002026","4061  ",2861765]
[752,858161864.15999997,null,null,null,null,null,null,null,"13058722026","4061  ",2876221]
[753,13351918,null,null,null,null,null,null,null,"30091066022","4061  ",2879376]
[754,3483530551.1500001,null,null,null,null,null,null,null,"31000000046","4061  ",2882990]
[760,118525163.58999999,null,null,null,null,null,null,null,"09010197004","4061  ",2897701]
[761,532417,null,null,null,null,null,null,null,"47052271026","4061  ",2902829]
[767,3006987,null,null,null,null,null,null,null,"41057003026","4061  ",2914677]
[771,1898957,null,null,null,null,null,null,null,"48072066002","4061  ",2923053]
[772,10715477,null,null,null,null,null,null,null,"26034347004","4061  ",2931838]
[773,45738459.879999995,null,null,null,null,null,null,null,"28088001026","4061  ",3004112]
[774,2278939,null,null,null,null,null,null,null,"13041178004","4061  ",3030763]
[775,1021348397.4799999,null,null,null,null,null,null,null,"56099084002","4061  ",3031424]
[776,13485960,null,null,null,null,null,null,null,"47098145004","4061  ",3049581]
[777,13800265,null,null,null,null,null,null,null,"13014021002","4061  ",3050705]
[778,44284405,null,null,null,null,null,null,null,"13058133002","4061  ",3052988]
[779,8709801,null,null,null,null,null,null,null,"03011004026","4061  ",3099765]
[780,30261076,null,null,null,null,null,null,null,"24032073017","4061  ",3121444]
[781,14200109,null,null,null,null,null,null,null,"24032790040","4061  ",3149808]
[782,124741616,null,null,null,null,null,null,null,"53090098002","4061  ",3150756]
[783,109199833.48,null,null,null,null,null,null,null,"47052170061","4061  ",3152105]
[784,40265620.620000005,null,null,null,null,null,null,null,"56099090002","4061  ",3154248]
[785,23117655,null,null,null,null,null,null,null,"12013010026","4061  ",3170760]
[786,172583109.09999999,null,null,null,null,null,null,null,"17054021026","4061  ",3215276]
[787,113476526.76000001,null,null,null,null,null,null,null,"54092800080","4061  ",3221511]
[788,18785116.880000003,null,null,null,null,null,null,null,"01069011026","4061  ",3239822]
[789,156640559.63999999,null,null,null,null,null,null,null,"21061038026","4061  ",3244070]
[790,22179495.329999998,null,null,null,null,null,null,null,"17054061004","4061  ",3262541]
[791,474795,null,null,null,null,null,null,null,"51065200026","4061  ",3279526]
[792,22654290.329999998,null,null,null,null,null,null,null,"11023006026","4061  ",3296902]
[793,6816044,null,null,null,null,null,null,null,"11015005026","4061  ",3324592]
[794,32605496.790000003,null,null,null,null,null,null,null,"39074057026","4061  ",3360731]
[795,81048192,null,null,null,null,null,null,null,"47098020002","4061  ",3386458]
[796,110441017,null,null,null,null,null,null,null,"24032002C02","4061  ",3434220]
[797,204594889.83000001,null,null,null,null,null,null,null,"01075003026","4061  ",3436528]
[798,10462403.629999999,null,null,null,null,null,null,null,"12017003026","4061  ",3438729]
[800,445968043.25,null,null,null,null,null,null,null,"12017001026","4061  ",3476483]
[801,2398128,null,null,null,null,null,null,null,"11087005A26","4061  ",3496983]
[802,5331482,null,null,null,null,null,null,null,"01009064026","4061  ",3510221]
[803,16981880,null,null,null,null,null,null,null,"56099203004","4061  ",3516558]
[804,15412692,null,null,null,null,null,null,null,"20097001026","4061  ",3527566]
[806,91801389,null,null,null,null,null,null,null,"30077801060","4061  ",3547645]
[808,131925571,null,null,null,null,null,null,null,"13041002004","4061  ",3560440]
[809,11713927,null,null,null,null,null,null,null,"26034325026","4061  ",3582515]
[810,1066227116.3200001,null,null,null,null,null,null,null,"17053074027","4061  ",3601288]
[811,51013318,null,null,null,null,null,null,null,"30039196026","4061  ",3627735]
[812,2353610228.21,null,null,null,null,null,null,null,"08089203026","4061  ",3632855]
[818,298030264.07000005,null,null,null,null,null,null,null,"32038006026","4061  ",3647862]
[819,550399,null,null,null,null,null,null,null,"35050095004","4061  ",3661779]
[825,7044214,null,null,null,null,null,null,null,"07016154002","4061  ",3681427]
[829,1397365,null,null,null,null,null,null,null,"28006303026","4061  ",3707436]
[830,23009529.240000002,null,null,null,null,null,null,null,"56099088061","4061  ",3724281]
[831,30235868.289999999,null,null,null,null,null,null,null,"03011001026","4061  ",3744969]
[832,2746068,null,null,null,null,null,null,null,"03011014024","4061  ",3781173]
[833,446935384.85000002,null,null,null,null,null,null,null,"45067003026","4061  ",3853646]
[834,5175837,null,null,null,null,null,null,null,"13041318027","4061  ",3862203]
[835,4353452,null,null,null,null,null,null,null,"01069006026","4061  ",3896163]
[836,3803360,null,null,null,null,null,null,null,"03003001026","4061  ",3900479]
[837,1624088,null,null,null,null,null,null,null,"35050001026","4061  ",3923077]
[838,1385785,null,null,null,null,null,null,null,"41057009061","4061  ",3939897]
[839,4672432.6899999995,null,null,null,null,null,null,null,"13014012004","4061  ",3999512]
[840,21014954.689999998,null,null,null,null,null,null,null,"34049036002","4061  ",4007512]
[841,35814773,null,null,null,null,null,null,null,"08043211026","4061  ",4028737]
[842,42753215,null,null,null,null,null,null,null,"13041001026","4061  ",4063363]
[843,6883334,null,null,null,null,null,null,null,"32046259004","4061  ",4081393]
[844,85451322,null,null,null,null,null,null,null,"08008399026","4061  ",4088840]
[845,6472487.5800000001,null,null,null,null,null,null,null,"26034317004","4061  ",4089119]
[846,4805317.45,null,null,null,null,null,null,null,"48072068002","4061  ",4103709]
[847,13056629.029999999,null,null,null,null,null,null,null,"01069001026","4061  ",4122538]
[848,17447019.149999999,null,null,null,null,null,null,null,"09010801060","4061  ",4129738]
[849,206244,null,null,null,null,null,null,null,"56099081002","4061  ",4139266]
[850,17653263.149999999,null,null,null,null,null,null,null,"56099711045","4061  ",4141717]
[851,1367365,null,null,null,null,null,null,null,"03025020026","4061  ",4146012]
[852,4674855.59,null,null,null,null,null,null,null,"40056801060","4061  ",4146538]
[853,34702592,null,null,null,null,null,null,null,"56000000040","4061  ",4146581]
[854,964352,null,null,null,null,null,null,null,"21044133017","4061  ",4155468]
[855,286123141.51999998,null,null,null,null,null,null,null,"54092007026","4061  ",4168315]
[856,4977650,null,null,null,null,null,null,null,"32046256004","4061  ",4176995]
[858,332809956.11000001,null,null,null,null,null,null,null,"01075004026","4061  ",4202801]
[859,262654,null,null,null,null,null,null,null,"26029004026","4061  ",4218886]
[860,824442,null,null,null,null,null,null,null,"30091084026","4061  ",4220801]
[861,6175522,null,null,null,null,null,null,null,"30091043004","4061  ",4229639]
[862,1713631,null,null,null,null,null,null,null,"11087001026","4061  ",4242251]
[864,45687305,null,null,null,null,null,null,null,"30077100026","4061  ",4246505]
[866,54663554,null,null,null,null,null,null,null,"26034307016","4061  ",4255095]
[867,7061826,null,null,null,null,null,null,null,"39074005026","4061  ",4273577]
[868,531711504.97999996,null,null,null,null,null,null,null,"01069027026","4061  ",4293083]
[869,10927448,null,null,null,null,null,null,null,"17053006J26","4061  ",4308894]
[870,989574337.83000004,null,null,null,null,null,null,null,"08043205026","4061  ",4318715]
[876,39916170.5,null,null,null,null,null,null,null,"26029001026","4061  ",4332501]
[877,5435,null,null,null,null,null,null,null,"45000000040","4061  ",4342820]
[883,98275,null,null,null,null,null,null,null,"49081036002","4061  ",4353765]
[887,79641,null,null,null,null,null,null,null,"32046302016","4061  ",4375686]
[888,10212076.91,null,null,null,null,null,null,null,"28037226026","4061  ",4424963]
[889,3269550,null,null,null,null,null,null,null,"08089200026","4061  ",4443082]
[890,19020,null,null,null,null,null,null,null,"32046258004","4061  ",4445378]
[891,65820853.68,null,null,null,null,null,null,null,"21044055002","4061  ",4452647]
[892,146114,null,null,null,null,null,null,null,"48072063002","4061  ",4502698]
[893,55387,null,null,null,null,null,null,null,"11012003C26","4061  ",4536099]
[894,564607,null,null,null,null,null,null,null,"20083001026","4061  ",4540812]
[895,11513,null,null,null,null,null,null,null,"33048801060","4061  ",4598717]
[896,326567,null,null,null,null,null,null,null,"32038003026","4061  ",4604651]
[897,787537,null,null,null,null,null,null,null,"11023004026","4061  ",4610529]
[898,1891725,null,null,null,null,null,null,null,"20096100026","4061  ",4640155]
[899,6935433,null,null,null,null,null,null,null,"53102021026","4061  ",4645631]
[900,25562691,null,null,null,null,null,null,null,"45079138026","4061  ",4690907]
[901,53753,null,null,null,null,null,null,null,"11087003A26","4061  ",4700668]
[902,32551877,null,null,null,null,null,null,null,"35050009026","4061  ",4700737]
[903,481435,null,null,null,null,null,null,null,"13095049004","4061  ",4731855]
[904,555303,null,null,null,null,null,null,null,"26029002026","4061  ",4737564]
[905,1158789,null,null,null,null,null,null,null,"21100003026","4061  ",4752597]
[906,1169574.3,null,null,null,null,null,null,null,"09010008026","4061  ",4851939]
[907,38433,null,null,null,null,null,null,null,"50082181002","4061  ",4867897]
[908,1208007.3,null,null,null,null,null,null,null,"40007040026","4061  ",4879130]
[909,417243,null,null,null,null,null,null,null,"06016079002","4061  ",4905511]
[910,2480332.8199999998,null,null,null,null,null,null,null,"33048210026","4061  ",4907569]
[911,16257855,null,null,null,null,null,null,null,"30073101016","4061  ",4919808]
[912,102303,null,null,null,null,null,null,null,"03026204026","4061  ",4937249]
[913,6027553.6600000001,null,null,null,null,null,null,null,"35050195004","4061  ",4950691]
[914,1733453,null,null,null,null,null,null,null,"13095099016","4061  ",4959199]
[916,27018740.48,null,null,null,null,null,null,null,"09010305016","4061  ",4994475]
[917,114135,null,null,null,null,null,null,null,"20096225016","4061  ",5015276]
[918,240238,null,null,null,null,null,null,null,"01009262026","4061  ",5019438]
[919,6328421,null,null,null,null,null,null,null,"28037190002","4061  ",5039532]
[920,236522,null,null,null,null,null,null,null,"26034316026","4061  ",5041269]
[922,45808745,null,null,null,null,null,null,null,"44063018004","4061  ",5053972]
[924,52728061,null,null,null,null,null,null,null,"03025030026","4061  ",5072918]
[925,1531515,null,null,null,null,null,null,null,"17053230017","4061  ",5078707]
[926,118088714.77999999,null,null,null,null,null,null,null,"40056002026","4061  ",5125084]
[927,1047683,null,null,null,null,null,null,null,"20096200026","4061  ",5131513]
[928,184957251.46000001,null,null,null,null,null,null,null,"50082060026","4061  ",5147686]
[934,9073443,null,null,null,null,null,null,null,"28037225026","4061  ",5152569]
[935,56094,null,null,null,null,null,null,null,"34049801060","4061  ",5157151]
[941,63945,null,null,null,null,null,null,null,"17053000061","4061  ",5190346]
[945,57291,null,null,null,null,null,null,null,"31045129061","4061  ",5194277]
[946,3296950,null,null,null,null,null,null,null,"03026201026","4061  ",5195847]
[947,9613361,null,null,null,null,null,null,null,"34049033002","4061  ",5216004]
[948,590017,null,null,null,null,null,null,null,"28006103022","4061  ",5226516]
[949,393090307,null,null,null,null,null,null,null,"20083002026","4061  ",5232213]
[950,74360,null,null,null,null,null,null,null,"03026202026","4061  ",5290813]
[951,775297,null,null,null,null,null,null,null,"24047088061","4061  ",5299071]
[952,174325,null,null,null,null,null,null,null,"21028188026","4061  ",5345474]
[953,37924,null,null,null,null,null,null,null,"30073050002","4061  ",5351189]
[954,64344,null,null,null,null,null,null,null,"50082130004","4061  ",5351831]
[955,284422,null,null,null,null,null,null,null,"50082116002","4061  ",5408290]
[956,1410672,null,null,null,null,null,null,null,"11023001026","4061  ",5430983]
[957,2607809,null,null,null,null,null,null,null,"11070302026","4061  ",5453731]
[958,981771,null,null,null,null,null,null,null,"40031010026","4061  ",5524352]
[959,92570,null,null,null,null,null,null,null,"26029003026","4061  ",5525593]
[960,3682150,null,null,null,null,null,null,null,"20096112004","4061  ",5565686]
[961,11519066.51,null,null,null,null,null,null,null,"56099088002","4061  ",5613131]
[962,3649322.63,null,null,null,null,null,null,null,"17053232002","4061  ",5621745]
[963,16967406.140000001,null,null,null,null,null,null,null,"20076001026","4061  ",5642702]
[964,2382020.7599999998,null,null,null,null,null,null,null,"34049072002","4061  ",5651326]
[965,23224,null,null,null,null,null,null,null,"07016133002","4061  ",5668969]
[966,2405244.7599999998,null,null,null,null,null,null,null,"28037227026","4061  ",5700448]
[967,756636,null,null,null,null,null,null,null,"39074100026","4061  ",5713914]
[968,3229271,null,null,null,null,null,null,null,"40056005026","4061  ",5747022]
[969,573833,null,null,null,null,null,null,null,"28037224026","4061  ",5752024]
[970,3962,null,null,null,null,null,null,null,"28006502017","4061  ",5757883]
[971,1372283,null,null,null,null,null,null,null,"11023800080","4061  ",5760602]
[972,166948,null,null,null,null,null,null,null,"01001001026","4061  ",5764461]
[974,6102933,null,null,null,null,null,null,null,"08043119022","4061  ",5793685]
[975,8040,null,null,null,null,null,null,null,"56099089002","4061  ",5796243]
[976,26411,null,null,null,null,null,null,null,"13041209027","4061  ",5826337]
[977,366135,null,null,null,null,null,null,null,"07016172002","4061  ",5827521]
[978,453440,null,null,null,null,null,null,null,"08043210061","4061  ",5830495]
[980,1257609,null,null,null,null,null,null,null,"07016110002","4061  ",5864321]
[982,2111635,null,null,null,null,null,null,null,"32046006026","4061  ",5868867]
[983,1012973,null,null,null,null,null,null,null,"12017004026","4061  ",5901615]
[984,33693013.900000006,null,null,null,null,null,null,null,"20035001026","4061  ",5906226]
[985,8091846,null,null,null,null,null,null,null,"26034337026","4061  ",5932517]
[986,728381458.52999997,null,null,null,null,null,null,null,"30039140004","4061  ",5947811]
[987,1013319,null,null,null,null,null,null,null,"07016108002","4061  ",5968073]
[988,130730,null,null,null,null,null,null,null,"44063036002","4061  ",5968208]
[990,293579,null,null,null,null,null,null,null,"47052275026","4061  ",5980194]
[992,32411920,null,null,null,null,null,null,null,"13041801060","4061  ",6000503]
[993,1197767820.4299998,null,null,null,null,null,null,null,"04101140061","4061  ",6011421]
[1032,9081232824.6399994,null,null,null,null,null,null,null,"30091081016","4061  ",6019464]
[1033,64631212,null,null,null,null,null,null,null,"24032060C04","4061  ",6038158]
[1039,445872432,null,null,null,null,null,null,null,"41057801060","4061  ",6063690]
[1043,14161172,null,null,null,null,null,null,null,"08043206026","4061  ",6093694]
[1044,281314174.56999999,null,null,null,null,null,null,null,"01075012026","4061  ",6108845]
[1045,398402288.69999999,null,null,null,null,null,null,null,"06016078002","4061  ",6133674]
[1046,60444500.770000003,null,null,null,null,null,null,null,"53090703026","4061  ",6144478]
[1047,14911230584.520002,null,null,null,null,null,null,null,"03068002026","4061  ",6145895]
[1048,372432464,null,null,null,null,null,null,null,"21028196026","4061  ",6189159]
[1049,390718470.58999997,null,null,null,null,null,null,null,"21044001026","4061  ",6189279]
[1050,297280064.38,null,null,null,null,null,null,null,"56099091002","4061  ",6200941]
[1051,185861554,null,null,null,null,null,null,null,"34049106002","4061  ",6216811]
[1052,303897945.89999998,null,null,null,null,null,null,null,"50082085002","4061  ",6261823]
[1053,106332236.69,null,null,null,null,null,null,null,"04101133004","4061  ",6273607]
[1054,1656522735.5599999,null,null,null,null,null,null,null,"26034328024","4061  ",6295519]
[1055,517132041.05000001,null,null,null,null,null,null,null,"13095010026","4061  ",6332829]
[1056,389113531.73000002,null,null,null,null,null,null,null,"13058401026","4061  ",6344816]
[1057,48972732,null,null,null,null,null,null,null,"35050125002","4061  ",6395570]
[1058,955218304.77999997,null,null,null,null,null,null,null,"40031001026","4061  ",6401078]
[1059,190936951.84999999,null,null,null,null,null,null,null,"48072062002","4061  ",6403301]
[1060,270494302.64999998,null,null,null,null,null,null,null,"30002005026","4061  ",6413608]
[1061,598014794.5,null,null,null,null,null,null,null,"08008308026","4061  ",6444351]
[1062,1144090877.78,null,null,null,null,null,null,null,"01001002026","4061  ",6446888]
[1063,54611952,null,null,null,null,null,null,null,"30091017022","4061  ",6480382]
[1064,1198702829.78,null,null,null,null,null,null,null,"28037230026","4061  ",6511857]
[1065,73131704,null,null,null,null,null,null,null,"06016092002","4061  ",6515313]
[1066,179148651.88999999,null,null,null,null,null,null,null,"11021302026","4061  ",6547783]
[1067,247543034.16,null,null,null,null,null,null,null,"11018003026","4061  ",6564433]
[1068,139488965,null,null,null,null,null,null,null,"19022034002","4061  ",6581059]
[1069,772429141.13,null,null,null,null,null,null,null,"28006500015","4061  ",6594711]
[1070,30832479.629999999,null,null,null,null,null,null,null,"12013025026","4061  ",6615920]
[1072,1442573975.8100002,null,null,null,null,null,null,null,"13058600016","4061  ",6636419]
[1073,12569722,null,null,null,null,null,null,null,"47071222026","4061  ",6685229]
[1074,25533694,null,null,null,null,null,null,null,"51084790040","4061  ",6718345]
[1075,63713873,null,null,null,null,null,null,null,"53090102002","4061  ",6718944]
[1076,111425290,null,null,null,null,null,null,null,"44063019024","4061  ",6750621]
[1078,322178648.68000001,null,null,null,null,null,null,null,"16019426026","4061  ",6758638]
[1080,535421227.68000001,null,null,null,null,null,null,null,"40056008026","4061  ",6768272]
[1081,45315351,null,null,null,null,null,null,null,"53102060026","4061  ",6780885]
[1082,6431769219.1100006,null,null,null,null,null,null,null,"01086001026","4061  ",6791343]
[1083,159111193,null,null,null,null,null,null,null,"17053005026","4061  ",6848268]
[1084,943402854.94000006,null,null,null,null,null,null,null,"13058501026","4061  ",6900904]
[1085,1013319,null,null,null,null,null,null,null,"50082070004","4061  ",6909436]
[1086,130730,null,null,null,null,null,null,null,"17064007026","4061  ",6920816]
[1088,293579,null,null,null,null,null,null,null,"03025010026","4061  ",6928193]
[1090,32411920,null,null,null,null,null,null,null,"06016086002","4061  ",6939420]
[1091,22480025046.57,null,null,null,null,null,null,null,"01001004026","4061  ",6948271]
[1092,1294766587.29,null,null,null,null,null,null,null,"03068022026","4061  ",6976273]
[1158,2729805,null,null,null,null,null,null,null,"08043210026","4061  ",7004380]
[1159,1045563,null,null,null,null,null,null,null,"21028103013","4061  ",7035933]
[1160,611190515.8599999,null,null,null,null,null,null,null,"50082104002","4061  ",7072611]
[1162,615029072.8599999,null,null,null,null,null,null,null,"51084001026","4061  ",7101544]
[1163,1113815,null,null,null,null,null,null,null,"08089202026","4061  ",7131219]
[1164,616245312.8599999,null,null,null,null,null,null,null,"47071801060","4061  ",7133933]
[1165,616559755.8599999,null,null,null,null,null,null,null,"54092801060","4061  ",7166970]
[1166,492107,null,null,null,null,null,null,null,"20097003026","4061  ",7203357]
[1167,150047,null,null,null,null,null,null,null,"32038801060","4061  ",7206415]
[1168,123597650.03,null,null,null,null,null,null,null,"30002001022","4061  ",7226721]
[1170,124253448.03,null,null,null,null,null,null,null,"13014071016","4061  ",7235564]
[1171,183731,null,null,null,null,null,null,null,"09010001026","4061  ",7239097]
[1172,124728443.03,null,null,null,null,null,null,null,"50082040026","4061  ",7308901]
[1173,124728462.03,null,null,null,null,null,null,null,"30091037004","4061  ",7338772]
[1174,1390461,null,null,null,null,null,null,null,"47098000061","4061  ",7353261]
[1175,13371166,null,null,null,null,null,null,null,"41057014016","4061  ",7376818]
[1176,639504428.98000002,null,null,null,null,null,null,null,"53102001004","4061  ",7461689]
[1178,654546298.09000003,null,null,null,null,null,null,null,"50082077016","4061  ",7465550]
[1179,1971924,null,null,null,null,null,null,null,"35050150002","4061  ",7472564]
[1180,656584695.09000003,null,null,null,null,null,null,null,"35059007026","4061  ",7489903]
[1181,659280870.09000003,null,null,null,null,null,null,null,"17054023026","4061  ",7507079]
[1182,49148,null,null,null,null,null,null,null,"17064019026","4061  ",7508358]
[1183,524525,null,null,null,null,null,null,null,"51084011026","4061  ",7529421]
[1184,470252490.32999998,null,null,null,null,null,null,null,"07016169002","4061  ",7551886]
[1186,470936841.32999998,null,null,null,null,null,null,null,"48072309026","4061  ",7596080]
[1187,88374,null,null,null,null,null,null,null,"28006099004","4061  ",7617479]
[1188,471028425.32999998,null,null,null,null,null,null,null,"21028099026","4061  ",7625879]
[1189,471038508.32999998,null,null,null,null,null,null,null,"35059005026","4061  ",7668741]
[1190,278746,null,null,null,null,null,null,null,"48072322026","4061  ",7732202]
[1191,118955390,null,null,null,null,null,null,null,"24032054002","4061  ",7746119]
[1192,182726622.59999999,null,null,null,null,null,null,null,"53090076002","4061  ",7748857]
[1193,331017,null,null,null,null,null,null,null,"33048208026","4061  ",7759088]
[1195,302395069.60000002,null,null,null,null,null,null,null,"47098002026","4061  ",7782293]
[1196,407229,null,null,null,null,null,null,null,"50082110004","4061  ",7851656]
[1197,302804052.60000002,null,null,null,null,null,null,null,"26062103026","4061  ",7956561]
[1198,302851223.60000002,null,null,null,null,null,null,null,"44063003003","4061  ",7958934]
[1199,49581,null,null,null,null,null,null,null,"01005001026","4061  ",8033949]
[1200,391513,null,null,null,null,null,null,null,"26029097026","4061  ",8045474]
[1201,2795184,null,null,null,null,null,null,null,"12017801060","4061  ",8065862]
[1203,3236278,null,null,null,null,null,null,null,"13058111002","4061  ",8090680]
[1204,7015,null,null,null,null,null,null,null,"49081034002","4061  ",8188182]
[1205,3243293,null,null,null,null,null,null,null,"45079132061","4061  ",8194280]
[1206,3315452,null,null,null,null,null,null,null,"09010169004","4061  ",8196890]
[1207,42020,null,null,null,null,null,null,null,"07016142061","4061  ",8289810]
[1209,52484,null,null,null,null,null,null,null,"50082113002","4061  ",8311551]
[1211,465579,null,null,null,null,null,null,null,"39055009026","4061  ",8321495]
[1212,8474324,null,null,null,null,null,null,null,"17064007061","4061  ",8332988]
[1213,4995879,null,null,null,null,null,null,null,"50082009026","4061  ",8344984]
[1214,135770801,null,null,null,null,null,null,null,"53102069002","4061  ",8359668]
[1215,2039233671.8000002,null,null,null,null,null,null,null,"34049001002","4061  ",8455905]
[1216,412408,null,null,null,null,null,null,null,"56099070C04","4061  ",8519489]
[1218,2180987109.9099998,null,null,null,null,null,null,null,"26062170026","4061  ",8524055]
[1219,3791478,null,null,null,null,null,null,null,"41057015003","4061  ",8603557]
[1220,2185243713.9099998,null,null,null,null,null,null,null,"35050280017","4061  ",8616100]
[1221,5956305,null,null,null,null,null,null,null,"06016094002","4061  ",8617429]
[1222,42020,null,null,null,null,null,null,null,"32038124026","4061  ",8648094]
[1224,52484,null,null,null,null,null,null,null,"54092001026","4061  ",8655303]
[1226,465579,null,null,null,null,null,null,null,"07016128002","4061  ",8695363]
[1227,2193543513.9099998,null,null,null,null,null,null,null,"20030007026","4061  ",8719583]
[1228,84553019.850000009,null,null,null,null,null,null,null,"06016085502","4061  ",8767457]
[1246,5177763,null,null,null,null,null,null,null,"56099088A02","4061  ",8810260]
[1247,5177763,null,null,null,null,null,null,null,"48072327026","4061  ",8851072]
[1248,5177763,null,null,null,null,null,null,null,"03025050026","4061  ",8872059]
[1249,17709,null,null,null,null,null,null,null,"01069801060","4061  ",8887363]
[1251,1017391044,null,null,null,null,null,null,null,"53090050002","4061  ",8890564]
[1252,616678,null,null,null,null,null,null,null,"11012004C26","4061  ",8895304]
[1253,2583817,null,null,null,null,null,null,null,"50082160004","4061  ",8920199]
[1254,1881023289,null,null,null,null,null,null,null,"47071221026","4061  ",8924484]
[1255,83882092,null,null,null,null,null,null,null,"54092076026","4061  ",8980223]
[1256,2984880242,null,null,null,null,null,null,null,"28088100026","4061  ",8981102]
[1257,2985025446,null,null,null,null,null,null,null,"20097801060","4061  ",8989646]
[1263,17709,null,null,null,null,null,null,null,"48072326026","4061  ",9011256]
[1265,1017391044,null,null,null,null,null,null,null,"06016083061","4061  ",9080218]
[1266,616678,null,null,null,null,null,null,null,"01001003026","4061  ",9242043]
[1267,2583817,null,null,null,null,null,null,null,"50082105002","4061  ",9301806]
[1268,1881023289,null,null,null,null,null,null,null,"47052272026","4061  ",9357575]
[1269,89059855,null,null,null,null,null,null,null,"53090052002","4061  ",9374304]
[1270,2990058005,null,null,null,null,null,null,null,"30039176026","4061  ",9411428]
[1271,2990203209,null,null,null,null,null,null,null,"20024001026","4061  ",9503664]
[1272,-791398608.20000005,null,null,null,null,null,null,null,"11021306026","4061  ",9509678]
[1274,252582124.88,null,null,null,null,null,null,null,"24032101016","4061  ",9513026]
[1277,1252696,null,null,null,null,null,null,null,"30077101026","4061  ",9554197]
[1278,254276978.88,null,null,null,null,null,null,null,"12051010026","4061  ",9566829]
[1279,254314642.88,null,null,null,null,null,null,null,"35050170004","4061  ",9622121]
[1280,44410321.32,null,null,null,null,null,null,null,"06016093002","4061  ",9651131]
[1283,283749,null,null,null,null,null,null,null,"17064002026","4061  ",9676401]
[1284,44740366.32,null,null,null,null,null,null,null,"07016125002","4061  ",9691435]
[1285,44741095.32,null,null,null,null,null,null,null,"47098003026","4061  ",9701655]
[1286,723703934.89999998,null,null,null,null,null,null,null,"33036235026","4061  ",9701763]
[1289,339444,null,null,null,null,null,null,null,"39055001026","4061  ",9702448]
[1290,726281712.89999998,null,null,null,null,null,null,null,"04101320026","4061  ",9726926]
[1291,14316313,null,null,null,null,null,null,null,"53102069061","4061  ",9787425]
[1292,740772201.89999998,null,null,null,null,null,null,null,"04101322026","4061  ",9806740]
[1293,67982449.349999994,null,null,null,null,null,null,null,"35050000061","4061  ",9829969]
[1296,75692,null,null,null,null,null,null,null,"44063801060","4061  ",9843383]
[1297,68085227.349999994,null,null,null,null,null,null,null,"11021301026","4061  ",9875738]
[1298,68088355.349999994,null,null,null,null,null,null,null,"53060189026","4061  ",9922523]
[1299,74399642.75,null,null,null,null,null,null,null,"19022180004","4061  ",9996304]
[1303,74399642.75,null,null,null,null,null,null,null,"11018077026","4061  ",10028443]
[1304,74399642.75,null,null,null,null,null,null,null,"39055011026","4061  ",10052910]
[1305,3013037,null,null,null,null,null,null,null,"12013035026","4061  ",10054896]
[1308,8731,null,null,null,null,null,null,null,"47098301017","4061  ",10154804]
[1309,3021768,null,null,null,null,null,null,null,"40031003026","4061  ",10164071]
[1310,10649,null,null,null,null,null,null,null,"56099200U26","4061  ",10191743]
[1312,173198,null,null,null,null,null,null,null,"45079139026","4061  ",10220452]
[1314,16375090,null,null,null,null,null,null,null,"05016073002","4061  ",10223557]
[1315,23566700,null,null,null,null,null,null,null,"51084016026","4061  ",10240200]
[1316,1167642761.1999998,null,null,null,null,null,null,null,"13058801060","4061  ",10265418]
[1319,1960312,null,null,null,null,null,null,null,"50082175002","4061  ",10302499]
[1320,1172356947.1999998,null,null,null,null,null,null,null,"11012002C26","4061  ",10366482]
[1321,17236155,null,null,null,null,null,null,null,"08043120022","4061  ",10372135]
[1322,10649,null,null,null,null,null,null,null,"35050002026","4061  ",10384951]
[1324,173198,null,null,null,null,null,null,null,"17020018026","4061  ",10405852]
[1326,16375090,null,null,null,null,null,null,null,"11087021026","4061  ",10437648.310000001]
[1327,1207433889.1999998,null,null,null,null,null,null,null,"39055015026","4061  ",10449185]
[1328,181546915.53999999,null,null,null,null,null,null,null,"35050124002","4061  ",10614961]
[1335,717612,null,null,null,null,null,null,null,"45079140026","4061  ",10618002]
[1341,7874022,null,null,null,null,null,null,null,"53060191026","4061  ",10701995]
[1345,705456,null,null,null,null,null,null,null,"11070300026","4061  ",10731028]
[1346,3032087.37,null,null,null,null,null,null,null,"16019429026","4061  ",10778869]
[1347,11780171.68,null,null,null,null,null,null,null,"08089201026","4061  ",10783131]
[1348,1912630.9,null,null,null,null,null,null,null,"53090702026","4061  ",10843284]
[1349,242674591.34000003,null,null,null,null,null,null,null,"20093348026","4061  ",10863572]
[1350,8226966,null,null,null,null,null,null,null,"47098006026","4061  ",10869870]
[1351,6851555,null,null,null,null,null,null,null,"34049037002","4061  ",10949812]
[1352,17924184.640000001,null,null,null,null,null,null,null,"16019432026","4061  ",10996595]
[1353,1830310,null,null,null,null,null,null,null,"33048276026","4061  ",11001342]
[1354,2848786,null,null,null,null,null,null,null,"08008314026","4061  ",11024629]
[1355,6745460,null,null,null,null,null,null,null,"53060126026","4061  ",11047889]
[1356,44427261.640000001,null,null,null,null,null,null,null,"28037223026","4061  ",11059400]
[1357,7913045.8200000003,null,null,null,null,null,null,null,"19022011002","4061  ",11061185]
[1358,17032737.75,null,null,null,null,null,null,null,"54092004026","4061  ",11074067]
[1359,653223,null,null,null,null,null,null,null,"34049114002","4061  ",11127391]
[1360,25599006.57,null,null,null,null,null,null,null,"35078535026","4061  ",11130860]
[1361,9615542,null,null,null,null,null,null,null,"51065213026","4061  ",11142186]
[1362,10019104.109999999,null,null,null,null,null,null,null,"53090309061","4061  ",11165866]
[1363,28057446.300000001,null,null,null,null,null,null,null,"33094304026","4061  ",11204625]
[1364,44856726.339999996,null,null,null,null,null,null,null,"04101321026","4061  ",11405022]
[1365,1970317,null,null,null,null,null,null,null,"05016071002","4061  ",11433746]
[1366,46827043.339999996,null,null,null,null,null,null,null,"33048202026","4061  ",11454820]
[1367,4115641,null,null,null,null,null,null,null,"41057013002","4061  ",11463259]
[1368,17318132.850000001,null,null,null,null,null,null,null,"26085005026","4061  ",11477076]
[1369,328662,null,null,null,null,null,null,null,"53090051002","4061  ",11493139]
[1370,113197488.76000001,null,null,null,null,null,null,null,"19022502046","4061  ",11533791]
[1371,42949160.640000001,null,null,null,null,null,null,null,"17053090017","4061  ",11541856]
[1372,22633425.460000001,null,null,null,null,null,null,null,"39055002026","4061  ",11579486]
[1373,1780978,null,null,null,null,null,null,null,"34049790046","4061  ",11611302]
[1375,202323488.71000001,null,null,null,null,null,null,null,"13014001026","4061  ",11612530]
[1376,400555,null,null,null,null,null,null,null,"49081100026","4061  ",11614897]
[1377,1186583,null,null,null,null,null,null,null,"26062000061","4061  ",11638908]
[1378,4151363,null,null,null,null,null,null,null,"28037801060","4061  ",11653350]
[1379,5343395,null,null,null,null,null,null,null,"17064004026","4061  ",11691076]
[1381,15242269,null,null,null,null,null,null,null,"28006115002","4061  ",11737022]
[1383,26324165,null,null,null,null,null,null,null,"48072325026","4061  ",11760112]
[1384,1486542,null,null,null,null,null,null,null,"35050160017","4061  ",11787027]
[1385,375044953.55999994,null,null,null,null,null,null,null,"45079132026","4061  ",11829530]
[1386,5727988,null,null,null,null,null,null,null,"41057012026","4061  ",11846834]
[1387,625971713.89999998,null,null,null,null,null,null,null,"51065202026","4061  ",11853799]
[1399,717612,null,null,null,null,null,null,null,"21100001026","4061  ",11963035.4]
[1405,7874022,null,null,null,null,null,null,null,"40056006026","4061  ",11971836]
[1409,705456,null,null,null,null,null,null,null,"51084014026","4061  ",11972847]
[1410,3032087.37,null,null,null,null,null,null,null,"19022048002","4061  ",12047054]
[1411,11780171.68,null,null,null,null,null,null,null,"05016067002","4061  ",12070780]
[1412,1912630.9,null,null,null,null,null,null,null,"53090701026","4061  ",12087922]
[1413,242674591.34000003,null,null,null,null,null,null,null,"13058200017","4061  ",12133335]
[1414,8226966,null,null,null,null,null,null,null,"19022012002","4061  ",12183484]
[1415,6851555,null,null,null,null,null,null,null,"07016157002","4061  ",12190218]
[1416,17924184.640000001,null,null,null,null,null,null,null,"33066404026","4061  ",12199805]
[1417,1830310,null,null,null,null,null,null,null,"05016070002","4061  ",12217222]
[1418,2848786,null,null,null,null,null,null,null,"44063165003","4061  ",12264362]
[1419,6745460,null,null,null,null,null,null,null,"32038004026","4061  ",12296562]
[1420,44427261.640000001,null,null,null,null,null,null,null,"30073300026","4061  ",12318487]
[1421,7913045.8200000003,null,null,null,null,null,null,null,"35050289004","4061  ",12403914]
[1422,17032737.75,null,null,null,null,null,null,null,"12051020026","4061  ",12441185]
[1423,653223,null,null,null,null,null,null,null,"24032101061","4061  ",12447239]
[1424,25599006.57,null,null,null,null,null,null,null,"56099209U26","4061  ",12456892]
[1425,9615542,null,null,null,null,null,null,null,"17054404016","4061  ",12471869]
[1426,10019104.109999999,null,null,null,null,null,null,null,"19022066002","4061  ",12476444]
[1427,28057446.300000001,null,null,null,null,null,null,null,"35050122002","4061  ",12559632]
[1428,44856726.339999996,null,null,null,null,null,null,null,"09010193017","4061  ",12584044]
[1429,1970317,null,null,null,null,null,null,null,"21028047004","4061  ",12607234]
[1430,46827043.339999996,null,null,null,null,null,null,null,"28006340026","4061  ",12640910]
[1431,4115641,null,null,null,null,null,null,null,"11023095025","4061  ",12663784]
[1432,17318132.850000001,null,null,null,null,null,null,null,"47098013002","4061  ",12665203]
[1433,328662,null,null,null,null,null,null,null,"12040001026","4061  ",12718756]
[1434,113197488.76000001,null,null,null,null,null,null,null,"30039165016","4061  ",12735280]
[1435,42949160.640000001,null,null,null,null,null,null,null,"07016156002","4061  ",12752622]
[1436,22633425.460000001,null,null,null,null,null,null,null,"32038009026","4061  ",12842750]
[1437,1780978,null,null,null,null,null,null,null,"19022062002","4061  ",12844607]
[1439,202323488.71000001,null,null,null,null,null,null,null,"50082119002","4061  ",12869789]
[1440,400555,null,null,null,null,null,null,null,"16019425026","4061  ",12953747]
[1441,1186583,null,null,null,null,null,null,null,"06016080002","4061  ",13011391]
[1442,4151363,null,null,null,null,null,null,null,"50082196026","4061  ",13021315]
[1443,5343395,null,null,null,null,null,null,null,"44063154016","4061  ",13078844]
[1445,15242269,null,null,null,null,null,null,null,"32038010026","4061  ",13087213]
[1447,26324165,null,null,null,null,null,null,null,"11087004026","4061  ",13113759]
[1448,1486542,null,null,null,null,null,null,null,"44063046003","4061  ",13140927]
[1449,375044953.55999994,null,null,null,null,null,null,null,"54092002026","4061  ",13183931]
[1450,5727988,null,null,null,null,null,null,null,"09027005026","4061  ",13222270]
[1456,625971713.89999998,null,null,null,null,null,null,null,"48072265026","4061  ",13245599]
[1457,25349559.439999998,null,null,null,null,null,null,null,"19022063002","4061  ",13393864]
[1458,1820904,null,null,null,null,null,null,null,"04101140004","4061  ",13419441]
[1461,4555,null,null,null,null,null,null,null,"17064003026","4061  ",13451756]
[1462,1825459,null,null,null,null,null,null,null,"35050040017","4061  ",13473404]
[1463,1825459,null,null,null,null,null,null,null,"51084010026","4061  ",13582998]
[1464,285260,null,null,null,null,null,null,null,"54092512026","4061  ",13635927]
[1467,585,null,null,null,null,null,null,null,"53102006026","4061  ",13636093]
[1468,285845,null,null,null,null,null,null,null,"01075010026","4061  ",13659512]
[1469,285845,null,null,null,null,null,null,null,"06016084502","4061  ",13743893]
[1470,82765593.819999993,null,null,null,null,null,null,null,"20083004026","4061  ",13752159]
[1473,1973468,null,null,null,null,null,null,null,"30039186061","4061  ",13754158]
[1474,84739061.819999993,null,null,null,null,null,null,null,"47071212017","4061  ",13765663]
[1475,84739061.819999993,null,null,null,null,null,null,null,"11021305026","4061  ",13794842]
[1476,4966729,null,null,null,null,null,null,null,"56099207U26","4061  ",13827138]
[1479,98732,null,null,null,null,null,null,null,"49081300026","4061  ",13857113]
[1480,5065461,null,null,null,null,null,null,null,"48072310016","4061  ",13889264]
[1481,5065461,null,null,null,null,null,null,null,"19022025002","4061  ",13889281]
[1482,1367529320.25,null,null,null,null,null,null,null,"44063157016","4061  ",13897141]
[1485,7254879,null,null,null,null,null,null,null,"50082115002","4061  ",13964706]
[1486,1374784199.25,null,null,null,null,null,null,null,"40056001026","4061  ",14020984]
[1487,1374784199.25,null,null,null,null,null,null,null,"53090309016","4061  ",14023099]
[1488,10834139,null,null,null,null,null,null,null,"07016152502","4061  ",14125658]
[1491,1465598,null,null,null,null,null,null,null,"07016142002","4061  ",14148856]
[1492,12299737,null,null,null,null,null,null,null,"53102122017","4061  ",14161539]
[1493,13167837,null,null,null,null,null,null,null,"13014003026","4061  ",14257038]
[1494,1495372705.0699999,null,null,null,null,null,null,null,"13041201017","4061  ",14320477]
[1497,10797817,null,null,null,null,null,null,null,"07016150002","4061  ",14358100]
[1498,1506170522.0699999,null,null,null,null,null,null,null,"20033010026","4061  ",14364935]
[1499,1507038622.0699999,null,null,null,null,null,null,null,"32046001026","4061  ",14742222]
[1500,-1266941967.46,null,null,null,null,null,null,null,"07016171002","4061  ",14743183]
[1556,6360383442.0100002,null,null,null,null,null,null,null,"47071223026","4061  ",14743187]
[1569,7752249872.3000002,null,null,null,null,null,null,null,"19022010002","4061  ",14746911]
[1570,1325850502,null,null,null,null,null,null,null,"19022053002","4061  ",14765705]
[1583,1364948583.8500001,null,null,null,null,null,null,null,"07016132002","4061  ",14860577]
[1584,1433192887,null,null,null,null,null,null,null,"40056034026","4061  ",15031332]
[1597,1649931025.8000002,null,null,null,null,null,null,null,"21100005026","4061  ",15044652]
[1598,729779786,null,null,null,null,null,null,null,"49081200026","4061  ",15051056]
[1611,854105990.54000008,null,null,null,null,null,null,null,"53102011026","4061  ",15083661]
[1612,442265063,null,null,null,null,null,null,null,"05016072002","4061  ",15115439]
[1625,468437794.44,null,null,null,null,null,null,null,"13058135002","4061  ",15184012]
[1626,2222340474,null,null,null,null,null,null,null,"06016095002","4061  ",15308142]
[1639,2449645922.54,null,null,null,null,null,null,null,"05016038002","4061  ",15356156]
[1683,11916802642.279999,null,null,null,null,null,null,null,"51084015026","4061  ",15359458]
[1684,1526534644.6700001,null,null,null,null,null,null,null,"56099843060","4061  ",15388661]
[1685,1572734829.8000002,null,null,null,null,null,null,null,"09027010026","4061  ",15404233]
[1686,627257205.68000007,null,null,null,null,null,null,null,"17054027002","4061  ",15579607]
[1687,273184982.84000003,null,null,null,null,null,null,null,"40056009026","4061  ",15740549]
[1688,68420027.560000002,null,null,null,null,null,null,null,"03068012026","4061  ",15932472]
[1690,9526435,null,null,null,null,null,null,null,"03011008026","4061  ",16041928]
[1691,336083725.00999999,null,null,null,null,null,null,null,"06016106002","4061  ",16049129]
[1692,54786329.559999995,null,null,null,null,null,null,null,"21028168026","4061  ",16153136]
[1693,485207705.32999998,null,null,null,null,null,null,null,"20097005026","4061  ",16212045]
[1698,17635445174.939999,null,null,null,null,null,null,null,"56099255U61","4061  ",16351900]
[1699,5183810080.1099997,null,null,null,null,null,null,null,"05016029002","4061  ",16367111]
[1700,855482885.44999993,null,null,null,null,null,null,null,"06016107002","4061  ",16374076]
[1701,876085790.13,null,null,null,null,null,null,null,"07016155002","4061  ",16523691]
[1702,377950810.68000001,null,null,null,null,null,null,null,"12017002026","4061  ",16614066]
[1703,166843496.93000001,null,null,null,null,null,null,null,"07016127002","4061  ",16618936]
[1704,45595914.100000001,null,null,null,null,null,null,null,"07016145002","4061  ",16767768]
[1706,1958956,null,null,null,null,null,null,null,"47071220026","4061  ",16795399]
[1707,226643430.05000001,null,null,null,null,null,null,null,"17053429004","4061  ",16871710]
[1708,37613606.009999998,null,null,null,null,null,null,null,"51084008026","4061  ",17015549]
[1709,251815893.64999998,null,null,null,null,null,null,null,"19022802060","4061  ",17045562]
[1711,-2146826273,null,null,null,null,null,null,null,"54092011026","4061  ",17309315]
[1714,6103893601.4499989,null,null,null,null,null,null,null,"35050120017","4061  ",17325646]
[1715,6732992562.170001,null,null,null,null,null,null,null,"56099114002","4061  ",17335786]
[1716,671051759.22000003,null,null,null,null,null,null,null,"56099017002","4061  ",17359465]
[1717,696649039.67000008,null,null,null,null,null,null,null,"40056007026","4061  ",17383689]
[1718,249306395,null,null,null,null,null,null,null,"04101131004","4061  ",17469153]
[1719,106341485.91000001,null,null,null,null,null,null,null,"47098001026","4061  ",17532411]
[1720,22824113.460000001,null,null,null,null,null,null,null,"44063002003","4061  ",17574109]
[1722,7567479,null,null,null,null,null,null,null,"07016167002","4061  ",17844783]
[1723,109440294.95999999,null,null,null,null,null,null,null,"09010007026","4061  ",17869044]
[1724,17172723.550000001,null,null,null,null,null,null,null,"07016127561","4061  ",17872904]
[1725,233391811.68000004,null,null,null,null,null,null,null,"53102140026","4061  ",18011858]
[1730,9384725301.4899998,null,null,null,null,null,null,null,"03026203026","4061  ",18098094]
[1731,5468522699.5782604,null,null,null,null,null,null,null,"01009015026","4061  ",18143988]
[1732,884735689.19574142,null,null,null,null,null,null,null,"04101323026","4061  ",18280148]
[1733,874727401.6945461,null,null,null,null,null,null,null,"05016807060","4061  ",18472138]
[1734,348079199.55578548,null,null,null,null,null,null,null,"34049038002","4061  ",18498551]
[1735,165094199.00204197,null,null,null,null,null,null,null,"07016160002","4061  ",18515117]
[1736,45604474.033277296,null,null,null,null,null,null,null,"51084010061","4061  ",18525814]
[1738,1491940,null,null,null,null,null,null,null,"06016234016","4061  ",18605795]
[1739,225386866.002776,null,null,null,null,null,null,null,"05016037002","4061  ",18613653]
[1740,38198839.587277301,null,null,null,null,null,null,null,"33094238026","4061  ",18724358]
[1741,259572610.34719247,null,null,null,null,null,null,null,"39074025026","4061  ",18781661]
[1746,8532942065.0455084,null,null,null,null,null,null,null,"34049024004","4061  ",18794299]
[1747,12201515261.74826,null,null,null,null,null,null,null,"19022007002","4061  ",18844315]
[1748,1555787448.4157414,null,null,null,null,null,null,null,"49081865060","4061  ",18905849]
[1749,1571376441.3645461,null,null,null,null,null,null,null,"03068003026","4061  ",19004736]
[1750,597385594.55578566,null,null,null,null,null,null,null,"34049068002","4061  ",19252574]
[1751,271435684.91204202,null,null,null,null,null,null,null,"35050140017","4061  ",19268507]
[1752,68428587.493277282,null,null,null,null,null,null,null,"11015801060","4061  ",19348953]
[1754,9059419,null,null,null,null,null,null,null,"07016194002","4061  ",19379901]
[1755,334827160.96277601,null,null,null,null,null,null,null,"07016147002","4061  ",19677574]
[1756,55371563.137277298,null,null,null,null,null,null,null,"06016081002","4061  ",19685974]
[1757,492964422.02719253,null,null,null,null,null,null,null,"47071231004","4061  ",19704216]
[1762,17917667366.535511,null,null,null,null,null,null,null,"31045303061","4061  ",19727157]
[1764,16924218,null,null,null,null,null,null,null,"34049065002","4061  ",19788298]
[1765,4000000,null,null,null,null,null,null,null,"19022020002","4061  ",19961594]
[1767,1000000,null,null,null,null,null,null,null,"05016073502","4061  ",20010103]
[1772,21924218,null,null,null,null,null,null,null,"53090308016","4061  ",20043162]
[1773,958017900,null,null,null,null,null,null,null,"26029066025","4061  ",20101875]
[1774,50000,null,null,null,null,null,null,null,"16019427061","4061  ",20157247]
[1776,958067900,null,null,null,null,null,null,null,"17064016026","4061  ",20159407]
[1778,80200000,null,null,null,null,null,null,null,"06016091002","4061  ",20412038]
[1779,200350,null,null,null,null,null,null,null,"49081030017","4061  ",20425789]
[1781,1000000,null,null,null,null,null,null,null,"07016127502","4061  ",20440200]
[1786,81400350,null,null,null,null,null,null,null,"53090086002","4061  ",20506146]
[1787,1206439050,null,null,null,null,null,null,null,"45067004026","4061  ",20514497]
[1788,80000,null,null,null,null,null,null,null,"28037229026","4061  ",20615033]
[1790,1206519050,null,null,null,null,null,null,null,"19022013002","4061  ",20771543]
[1792,87024218,null,null,null,null,null,null,null,"16019424026","4061  ",20772219]
[1793,4100000,null,null,null,null,null,null,null,"04004200026","4061  ",20820325]
[1795,1000000,null,null,null,null,null,null,null,"48072000061","4061  ",20948624]
[1800,92124218,null,null,null,null,null,null,null,"35050044002","4061  ",20973151]
[1801,1558106900,null,null,null,null,null,null,null,"56099159002","4061  ",21014529]
[1802,50000,null,null,null,null,null,null,null,"09010137002","4061  ",21066836]
[1804,1558156900,null,null,null,null,null,null,null,"32046061002","4061  ",21121511]
[1806,10100000,null,null,null,null,null,null,null,"17020015026","4061  ",21412513]
[1807,100350,null,null,null,null,null,null,null,"34049076002","4061  ",21593421]
[1809,1000000,null,null,null,null,null,null,null,"06016092502","4061  ",21594850]
[1814,11200350,null,null,null,null,null,null,null,"07016231016","4061  ",21698297]
[1815,606350050,null,null,null,null,null,null,null,"32046002026","4061  ",21886048]
[1816,80000,null,null,null,null,null,null,null,"16019430026","4061  ",22053413]
[1818,606430050,null,null,null,null,null,null,null,"03003002026","4061  ",22177585]
[1878,20992705318,null,null,null,null,null,null,null,"19022060002","4061  ",22249306]
[1879,4112600847,null,null,null,null,null,null,null,"50082801060","4061  ",22319892]
[1887,892197,null,null,null,null,null,null,null,"06016101002","4061  ",22387732]
[1889,158,null,null,null,null,null,null,null,"05016031002","4061  ",22493149]
[1892,158,null,null,null,null,null,null,null,"56099092002","4061  ",22613442]
[1894,99977,null,null,null,null,null,null,null,"06016084002","4061  ",22630726]
[1896,99977,null,null,null,null,null,null,null,"40042100026","4061  ",22647428]
[1897,792378,null,null,null,null,null,null,null,"53090303016","4061  ",22674651]
[1910,2437794,null,null,null,null,null,null,null,"48072321026","4061  ",22803051]
[1911,465361192.52999997,null,null,null,null,null,null,null,"24032001026","4061  ",22822512]
[1912,1010592.1,null,null,null,null,null,null,null,"39055061061","4061  ",22895179]
[1913,2509732,null,null,null,null,null,null,null,"07016143502","4061  ",22993898]
[1916,468881516.63,null,null,null,null,null,null,null,"51084003A26","4061  ",23457027]
[1918,1902417,null,null,null,null,null,null,null,"03025040026","4061  ",23477736]
[1919,14237679,null,null,null,null,null,null,null,"03011801060","4061  ",23659675]
[1921,465829365.52999997,null,null,null,null,null,null,null,"13041080002","4061  ",23824199]
[1922,5489945.1000000015,null,null,null,null,null,null,null,"21061001026","4061  ",23863672]
[1947,1273033656.05,null,null,null,null,null,null,null,"07016168004","4061  ",23893346]
[1948,40622487218.32,null,null,null,null,null,null,null,"19022016002","4061  ",23963439]
[1949,2183836512.3800001,null,null,null,null,null,null,null,"28037228026","4061  ",24305851]
[1950,3345591865.3199997,null,null,null,null,null,null,null,"30039095002","4061  ",24402764]
[1951,995444218.38999999,null,null,null,null,null,null,null,"34049075002","4061  ",24417068]
[1952,49608658535.650002,null,null,null,null,null,null,null,"19022061002","4061  ",24447355]
[1953,15644953,null,null,null,null,null,null,null,"07016143002","4061  ",24611855]
[1954,1446215384.3599999,null,null,null,null,null,null,null,"17053008026","4061  ",24638199]
[1955,160484446.47000003,null,null,null,null,null,null,null,"09010003026","4061  ",24706693]
[1956,208992348.22,null,null,null,null,null,null,null,"39055003026","4061  ",24725391]
[1957,78281220,null,null,null,null,null,null,null,"21100801060","4061  ",25092044.710000001]
[1958,3005085045.9999995,null,null,null,null,null,null,null,"35050141002","4061  ",25179515]
[1959,826989,null,null,null,null,null,null,null,"07016104002","4061  ",25531749]
[1960,153303352,null,null,null,null,null,null,null,"45067005026","4061  ",25608272]
[1961,4669280,null,null,null,null,null,null,null,"03011003026","4061  ",25618993]
[1962,92766892,null,null,null,null,null,null,null,"05016023002","4061  ",25762164]
[1963,101226815,null,null,null,null,null,null,null,"07016118004","4061  ",26093675]
[1964,1338562291,null,null,null,null,null,null,null,"30039186026","4061  ",26162310]
[1965,1287851620.05,null,null,null,null,null,null,null,"26062185026","4061  ",26206385]
[1966,41915399250.68,null,null,null,null,null,null,null,"32046307016","4061  ",26232350]
[1967,2339651678.8500004,null,null,null,null,null,null,null,"06016803060","4061  ",26275608]
[1968,3461817321.54,null,null,null,null,null,null,null,"07016126002","4061  ",26427887]
[1969,972498623.3900001,null,null,null,null,null,null,null,"12080001026","4061  ",26456058]
[1970,51275181290.650009,null,null,null,null,null,null,null,"07016151002","4061  ",26511618]
[1972,15632544420.540001,null,null,null,null,null,null,null,"07016124002","4061  ",26549204]
[1973,1014972229.1700001,null,null,null,null,null,null,null,"21100004026","4061  ",26743464]
[1974,2589011151.6199999,null,null,null,null,null,null,null,"41057001026","4061  ",26945564]
[1975,773018912.19000006,null,null,null,null,null,null,null,"41057008026","4061  ",27110799]
[1976,20113953376.360001,null,null,null,null,null,null,null,"32046005026","4061  ",27488452]
[1978,970915699.87,null,null,null,null,null,null,null,"47071226026","4061  ",27676183]
[1979,97756122.730000004,null,null,null,null,null,null,null,"07016153002","4061  ",27700730]
[1980,187938193.44999999,null,null,null,null,null,null,null,"32046053002","4061  ",27755771]
[1981,66132656.350000001,null,null,null,null,null,null,null,"24032111016","4061  ",27885934]
[1982,1331613155.95,null,null,null,null,null,null,null,"05016069002","4061  ",28078427]
[1984,63148282,null,null,null,null,null,null,null,"07016210017","4061  ",28196081]
[1985,4659742,null,null,null,null,null,null,null,"50082203017","4061  ",28427293]
[1986,73853202,null,null,null,null,null,null,null,"07016113A02","4061  ",28457943]
[1987,96234592,null,null,null,null,null,null,null,"56099255U26","4061  ",28878983]
[1988,239482044,null,null,null,null,null,null,null,"07016122002","4061  ",29036061]
[1990,16540311838.409998,null,null,null,null,null,null,null,"07016152002","4061  ",29072576]
[1991,1108068609.8999999,null,null,null,null,null,null,null,"11015001026","4061  ",29303819]
[1992,2703096143.0699997,null,null,null,null,null,null,null,"05016074002","4061  ",29533497]
[1993,742916976.53999996,null,null,null,null,null,null,null,"06016204061","4061  ",29562736]
[1994,21206084488.310005,null,null,null,null,null,null,null,"41057005026","4061  ",29595295]
[1995,1287851620.05,null,null,null,null,null,null,null,"24047088026","4061  ",29688539]
[1996,25375087412.27,null,null,null,null,null,null,null,"47052170022","4061  ",29701651]
[1997,1231583068.95,null,null,null,null,null,null,null,"06016096002","4061  ",29741332]
[1998,758721178.47000003,null,null,null,null,null,null,null,"06016105002","4061  ",29818502]
[1999,229581646.84999996,null,null,null,null,null,null,null,"06016208017","4061  ",29847983]
[2000,30069096802.34,null,null,null,null,null,null,null,"04101207016","4061  ",29895789]
[2020,367975546.52999997,null,null,null,null,null,null,null,"34049124016","4061  ",30017326]
[2027,582690626.94000006,null,null,null,null,null,null,null,"20083003026","4061  ",30046981]
[2028,296124308,null,null,null,null,null,null,null,"05016057002","4061  ",30144861]
[2030,3221537,null,null,null,null,null,null,null,"44063012026","4061  ",30266722]
[2031,93915,null,null,null,null,null,null,null,"05016030002","4061  ",30335655]
[2032,5862390,null,null,null,null,null,null,null,"05016026002","4061  ",30342006]
[2033,93915,null,null,null,null,null,null,null,"07016159002","4061  ",30353441]
[2041,868100,null,null,null,null,null,null,null,"07016163002","4061  ",30359826]
[2044,348701908,null,null,null,null,null,null,null,"06016090002","4061  ",30438265]
[2045,22886673,null,null,null,null,null,null,null,"07016802060","4061  ",30599905]
[2374,253861502,null,null,null,null,null,null,null,"44063026004","4061  ",31076850]
[2376,205894901,null,null,null,null,null,null,null,"05016035002","4061  ",31688615]
[2414,167332075,null,null,null,null,null,null,null,"07016158002","4061  ",31974155]
[2416,145891999,null,null,null,null,null,null,null,"19022015061","4061  ",31984698]
[2443,1036906569,null,null,null,null,null,null,null,"07016229016","4061  ",32027841]
[2474,1239661355,null,null,null,null,null,null,null,"07016148002","4061  ",32155421]
[2490,14831045719.91,null,null,null,null,null,null,null,"19022201026","4061  ",32195647]
[2492,6563429576.0099993,null,null,null,null,null,null,null,"07016220017","4061  ",32284505]
[2493,2245934624.9400001,null,null,null,null,null,null,null,"56099157C04","4061  ",32338192]
[2494,23774791633.859997,null,null,null,null,null,null,null,"34049056002","4061  ",32610806]
[2495,14911230584.520002,null,null,null,null,null,null,null,"34049079002","4061  ",33073609]
[2496,6431769219.1100006,null,null,null,null,null,null,null,"05016068002","4061  ",33968585]
[2497,159111193,null,null,null,null,null,null,null,"05016027002","4061  ",34335276]
[2498,943402854.94000006,null,null,null,null,null,null,null,"06016088002","4061  ",34374179]
[2499,34511195,null,null,null,null,null,null,null,"07016806060","4061  ",34383388]
[2500,22480025046.57,null,null,null,null,null,null,null,"50082090004","4061  ",34594038]
[2501,1294766587.29,null,null,null,null,null,null,null,"19022094016","4061  ",34643272]
[2502,2093917,null,null,null,null,null,null,null,"19022002002","4061  ",34707977]
[2503,1722405222.7600002,null,null,null,null,null,null,null,"34049041004","4061  ",35157861]
[2505,546124630,null,null,null,null,null,null,null,"07016161002","4061  ",35462169]
[2506,8450610,null,null,null,null,null,null,null,"34049003004","4061  ",35676672]
[2507,2278096533.7600002,null,null,null,null,null,null,null,"44063050026","4061  ",36063246]
[2508,2185243713.9099998,null,null,null,null,null,null,null,"47098005026","4061  ",36200542]
[2509,1877916,null,null,null,null,null,null,null,"19022100016","4061  ",36328664]
[2510,5956305,null,null,null,null,null,null,null,"07016146004","4061  ",36952880]
[2511,465579,null,null,null,null,null,null,null,"49081037002","4061  ",37265088]
[2512,2193543513.9099998,null,null,null,null,null,null,null,"53090709026","4061  ",37433925]
[2513,84553019.850000009,null,null,null,null,null,null,null,"06016103002","4061  ",37486128]
[2514,1692437,null,null,null,null,null,null,null,"41057002026","4061  ",37967006]
[2530,699364156.20000005,null,null,null,null,null,null,null,"34049102004","4061  ",38072924]
[2532,687814397.53999996,null,null,null,null,null,null,null,"07016144002","4061  ",38172230]
[2533,1726879,null,null,null,null,null,null,null,"19022202026","4061  ",38930871]
[2534,1388980804.74,null,null,null,null,null,null,null,"51084005026","4061  ",38950884]
[2535,1172356947.1999998,null,null,null,null,null,null,null,"07016162002","4061  ",39200241]
[2536,1465697,null,null,null,null,null,null,null,"44063156016","4061  ",39892356]
[2537,17236155,null,null,null,null,null,null,null,"34049034004","4061  ",40062958]
[2538,16375090,null,null,null,null,null,null,null,"07016149002","4061  ",40105887]
[2539,1207433889.1999998,null,null,null,null,null,null,null,"06016087002","4061  ",40609578]
[2540,181546915.53999999,null,null,null,null,null,null,null,"21100002026","4061  ",40720355]
[2541,-244177,null,null,null,null,null,null,null,"34049103002","4061  ",41307291]
[2542,635931362.33999991,null,null,null,null,null,null,null,"07016217016","4061  ",41605712]
[2543,13223355,null,null,null,null,null,null,null,"07016117002","4061  ",41664318]
[2544,2166556,null,null,null,null,null,null,null,"56099161002","4061  ",41887255]
[2545,651321273.33999991,null,null,null,null,null,null,null,"11015002026","4061  ",41993688]
[2546,242674591.34000003,null,null,null,null,null,null,null,"07016123002","4061  ",42124318]
[2547,375044953.55999994,null,null,null,null,null,null,null,"34049070002","4061  ",42480901]
[2548,5727988,null,null,null,null,null,null,null,"07016109002","4061  ",42567282]
[2551,625971713.89999998,null,null,null,null,null,null,null,"01069117022","4061  ",42717118]
[2552,25349559.439999998,null,null,null,null,null,null,null,"34049067005","4061  ",43141813]
[2553,37324,null,null,null,null,null,null,null,"56099030C04","4061  ",43232070]
[2569,1806948623.8000002,null,null,null,null,null,null,null,"53090108002","4061  ",43508766]
[2570,342932209,null,null,null,null,null,null,null,"06016102002","4061  ",43564700]
[2571,2198804600.8000002,null,null,null,null,null,null,null,"34049120013","4061  ",43566985]
[2572,145204,null,null,null,null,null,null,null,"07016111002","4061  ",44012093]
[2573,2990058005,null,null,null,null,null,null,null,"34049006002","4061  ",45222235]
[2574,2990203209,null,null,null,null,null,null,null,"06016098002","4061  ",45739584]
[2575,-791398608.20000005,null,null,null,null,null,null,null,"07016140002","4061  ",45885113]
[2576,-771344,null,null,null,null,null,null,null,"05016028002","4061  ",46170192]
[2594,183638287.61000001,null,null,null,null,null,null,null,"06016401026","4061  ",46956977]
[2595,55702920,null,null,null,null,null,null,null,"24032201004","4061  ",47331517]
[2596,755447,null,null,null,null,null,null,null,"16019427026","4061  ",47422398]
[2597,240096654.61000001,null,null,null,null,null,null,null,"48072323026","4061  ",47846579]
[2598,1506170522.0699999,null,null,null,null,null,null,null,"56099205017","4061  ",48103922]
[2599,868100,null,null,null,null,null,null,null,"34049126017","4061  ",48188667]
[2600,1507038622.0699999,null,null,null,null,null,null,null,"05016063002","4061  ",49781083]
[2601,-1266941967.46,null,null,null,null,null,null,null,"34049115016","4061  ",50145968]
[2602,-138403,null,null,null,null,null,null,null,"50082019026","4061  ",50217501]
[2657,84955610,null,null,null,null,null,null,null,"19022004002","4061  ",50443949]
[2658,19538348,null,null,null,null,null,null,null,"56099033C04","4061  ",50832488]
[2659,6892844,null,null,null,null,null,null,null,"34049117016","4061  ",51185923]
[2660,1773766,null,null,null,null,null,null,null,"19022089004","4061  ",51390926]
[2661,118707,null,null,null,null,null,null,null,"06016083002","4061  ",52028867]
[2662,527218,null,null,null,null,null,null,null,"50082118002","4061  ",52146425]
[2663,114028809,null,null,null,null,null,null,null,"19022015002","4061  ",52609919]
[2664,3510387,null,null,null,null,null,null,null,"41057009026","4061  ",52715754]
[2665,3510387,null,null,null,null,null,null,null,"41057010026","4061  ",52976510]
[2696,289340251,null,null,null,null,null,null,null,"32046111025","4061  ",53017663]
[2697,9339754,null,null,null,null,null,null,null,"34049046004","4061  ",53391920]
[2699,13646687,null,null,null,null,null,null,null,"07016170002","4061  ",53612877]
[2701,3415270,null,null,null,null,null,null,null,"50082187026","4061  ",53971461]
[2702,403684,null,null,null,null,null,null,null,"07016130002","4061  ",54023478]
[2705,47069,null,null,null,null,null,null,null,"34049804060","4061  ",54240100]
[2708,2365437,null,null,null,null,null,null,null,"19022108016","4061  ",54445315]
[2711,3316000,null,null,null,null,null,null,null,"05016036002","4061  ",54449942]
[2728,214715080.41,null,null,null,null,null,null,null,"19022803060","4061  ",54845498]
[2729,215021396.41,null,null,null,null,null,null,null,"34049187026","4061  ",55138702]
[2731,30974292,null,null,null,null,null,null,null,"05016805060","4061  ",55263524]
[2733,9327495,null,null,null,null,null,null,null,"19022045002","4061  ",55276776]
[2735,30974292,null,null,null,null,null,null,null,"19022068002","4061  ",55528876]
[2736,314443,null,null,null,null,null,null,null,"56099122002","4061  ",56426984]
[2737,19,null,null,null,null,null,null,null,"08089145022","4061  ",56434538]
[2738,55322,null,null,null,null,null,null,null,"33048205026","4061  ",57148332]
[2739,10083,null,null,null,null,null,null,null,"07016150061","4061  ",57875101]
[2740,47171,null,null,null,null,null,null,null,"07016215017","4061  ",57940330]
[2741,1450000,null,null,null,null,null,null,null,"06016100002","4061  ",58771530]
[2744,1877916,null,null,null,null,null,null,null,"31045301026","4061  ",59290538]
[2745,12043528,null,null,null,null,null,null,null,"07016233016","4061  ",59388942]
[2752,1949430,null,null,null,null,null,null,null,"34049127016","4061  ",59924244]
[2756,287290136,null,null,null,null,null,null,null,"07016206017","4061  ",61184893]
[2758,1949430,null,null,null,null,null,null,null,"50082201017","4061  ",61362445]
[2759,37664,null,null,null,null,null,null,null,"34049109002","4061  ",62026259]
[2760,729,null,null,null,null,null,null,null,"19022041002","4061  ",62293977]
[2761,174176,null,null,null,null,null,null,null,"05016039002","4061  ",62475086]
[2762,14316313,null,null,null,null,null,null,null,"34049073004","4061  ",62979854]
[2764,3128,null,null,null,null,null,null,null,"19022044002","4061  ",64811195]
[2766,1250000,null,null,null,null,null,null,null,"34049096004","4061  ",65899881]
[2767,2919842,null,null,null,null,null,null,null,"07016227017","4061  ",66821612]
[2769,2919842,null,null,null,null,null,null,null,"34049118026","4061  ",66828269]
[2775,1465697,null,null,null,null,null,null,null,"31045302026","4061  ",67384942]
[2776,17236155,null,null,null,null,null,null,null,"49081040022","4061  ",69281714]
[2779,3307350,null,null,null,null,null,null,null,"34049121017","4061  ",69714316]
[2787,3583747,null,null,null,null,null,null,null,"19022181004","4061  ",69990717]
[2793,276050,null,null,null,null,null,null,null,"17064087025","4061  ",70187351]
[2794,4115194.54,null,null,null,null,null,null,null,"09010116022","4061  ",70638492]
[2795,30937,null,null,null,null,null,null,null,"41057007026","4061  ",70828441]
[2797,10163931,null,null,null,null,null,null,null,"24047115026","4061  ",71290837]
[2799,1437572,null,null,null,null,null,null,null,"01001172022","4061  ",71340438]
[2801,31028800,null,null,null,null,null,null,null,"34049825060","4061  ",71767985]
[2803,1063642331,null,null,null,null,null,null,null,"19022033002","4061  ",74602255]
[2819,29552046,null,null,null,null,null,null,null,"41057011026","4061  ",75016968]
[2824,476588747,null,null,null,null,null,null,null,"44063015004","4061  ",75504240]
[2826,-28997,null,null,null,null,null,null,null,"19022093004","4061  ",78003536]
[2827,2272139796.5100002,null,null,null,null,null,null,null,"19022088016","4061  ",79042811]
[2831,38378660,null,null,null,null,null,null,null,"05016064004","4061  ",79480065]
[2833,2095061,null,null,null,null,null,null,null,"19022058002","4061  ",80971376]
[2834,254267484.57000002,null,null,null,null,null,null,null,"06016089002","4061  ",81197433]
[2847,16329068,null,null,null,null,null,null,null,"54092118024","4061  ",82387514]
[2849,17128910,null,null,null,null,null,null,null,"05016034004","4061  ",82739210]
[2850,97680018,null,null,null,null,null,null,null,"31045304026","4061  ",83200753]
[2851,2157330868.5900002,null,null,null,null,null,null,null,"06016200013","4061  ",83323777]
[2852,2272139796.5900002,null,null,null,null,null,null,null,"06016212016","4061  ",84832227]
[2853,208597291.57000002,null,null,null,null,null,null,null,"06016204017","4061  ",85602094]
[2855,208597291.57000002,null,null,null,null,null,null,null,"39055061025","4061  ",85790661]
[2856,254263284.57000002,null,null,null,null,null,null,null,"34049112002","4061  ",86875628]
[2886,910,null,null,null,null,null,null,null,"31045101022","4061  ",87157899]
[2888,74813674,null,null,null,null,null,null,null,"05016062004","4061  ",87962198]
[2889,122698070.41,null,null,null,null,null,null,null,"16019428026","4061  ",88612933]
[2890,136372,null,null,null,null,null,null,null,"07016135002","4061  ",89059829]
[2891,4403085,null,null,null,null,null,null,null,"49081041025","4061  ",90012873]
[2892,1206355,null,null,null,null,null,null,null,"05016025002","4061  ",90249671]
[2893,11457524,null,null,null,null,null,null,null,"06016209017","4061  ",90447330]
[2894,20570884,null,null,null,null,null,null,null,"05016202017","4061  ",91109135]
[2895,283240600.52999997,null,null,null,null,null,null,null,"34049050004","4061  ",92676018]
[2896,175788,null,null,null,null,null,null,null,"44063047004","4061  ",93277716]
[2897,30249603,null,null,null,null,null,null,null,"04101122022","4061  ",96272449]
[2898,584025,null,null,null,null,null,null,null,"50082189022","4061  ",96615086,null,"E STL"]
[2899,33154646,null,null,null,null,null,null,null,"34049128016","4061  ",98678302]
[2912,95384558,null,null,null,null,null,null,null,"19022086017","4061  ",98757528]
[2913,405938670.94000006,null,null,null,null,null,null,null,"44063200026","4061  ",100112048]
[2914,312160,null,null,null,null,null,null,null,"34049095026","4061  ",101001682]
[2915,34652688,null,null,null,null,null,null,null,"56099210016","4061  ",102507989]
[2916,1790380,null,null,null,null,null,null,null,"07016218016","4061  ",102630753]
[2917,44612170,null,null,null,null,null,null,null,"07016228016","4061  ",103338584]
[2918,870733,null,null,null,null,null,null,null,"34049113017","4061  ",105550031]
[2919,828936,null,null,null,null,null,null,null,"06016201017","4061  ",108887357]
[2920,1368312,null,null,null,null,null,null,null,"56099204017","4061  ",108910186]
[2925,2612231,null,null,null,null,null,null,null,"19022099016","4061  ",110409086]
[2926,1055665,null,null,null,null,null,null,null,"04004100026","4061  ",110895902]
[2927,1644374,null,null,null,null,null,null,null,"34049125013","4061  ",113233422]
[2928,5050951,null,null,null,null,null,null,null,"05016203017","4061  ",114175188]
[2929,9032825,null,null,null,null,null,null,null,"34049116026","4061  ",114957573]
[2931,18595,null,null,null,null,null,null,null,"06016097002","4061  ",115305502]
[2933,213942,null,null,null,null,null,null,null,"44063158022","4061  ",116276026]
[2934,930170,null,null,null,null,null,null,null,"44063155016","4061  ",116602141]
[2935,1115415,null,null,null,null,null,null,null,"05016065004","4061  ",122756571]
[2937,17023,null,null,null,null,null,null,null,"07016205017","4061  ",122928812]
[2939,857234,null,null,null,null,null,null,null,"05016021004","4061  ",126854114]
[2946,5981121,null,null,null,null,null,null,null,"19022205026","4061  ",128548972]
[2947,10148240,null,null,null,null,null,null,null,"05016059004","4061  ",132108693]
[2949,35618,null,null,null,null,null,null,null,"17064005026","4061  ",149818239]
[2951,1071176,null,null,null,null,null,null,null,"05016225017","4061  ",150108911]
[2994,156193767.56,null,null,null,null,null,null,null,"05016219017","4061  ",152693472]
[2995,36501474.439999998,null,null,null,null,null,null,null,"09010004026","4061  ",153948877]
[2996,21532425,null,null,null,null,null,null,null,"05016207017","4061  ",155313099]
[2997,47224432.100000001,null,null,null,null,null,null,null,"56099086005","4061  ",155714515]
[2998,5597606.2699999996,null,null,null,null,null,null,null,"07016230013","4061  ",165687682]
[2999,443445,null,null,null,null,null,null,null,"34049220026","4061  ",166256955]
[3001,271833365.37,null,null,null,null,null,null,null,"31045129022","4061  ",171341154]
[3003,7566508.8600000003,null,null,null,null,null,null,null,"48072150025","4061  ",174272544]
[3004,7566508.8600000003,null,null,null,null,null,null,null,"19022087017","4061  ",174471313]
[3010,40894188,null,null,null,null,null,null,null,"31045131022","4061  ",180126495]
[3011,4771805,null,null,null,null,null,null,null,"31045303026","4061  ",181378328]
[3017,13890615,null,null,null,null,null,null,null,"05016015004","4061  ",188480719]
[3018,444418,null,null,null,null,null,null,null,"06016099002","4061  ",193623721]
[3021,2656880773,null,null,null,null,null,null,null,"51084186025","4061  ",194379638]
[3022,7932465,null,null,null,null,null,null,null,"05016054004","4061  ",214747472]
[3100,7462720,null,null,null,null,null,null,null,"19022200026","4061  ",215092012]
[3109,7462720,null,null,null,null,null,null,null,"34049060026","4061  ",257191072]
[3164,92668658.310000002,null,null,null,null,null,null,null,"05016211017","4061  ",279071210]
[3165,92668658.310000002,null,null,null,null,null,null,null,"19022203026","4061  ",283521726]
[3166,92668658.310000002,null,null,null,null,null,null,null,"56099365U26","4061  ",283614870]
[3167,33873224,null,null,null,null,null,null,null,"05016214017","4061  ",283875596]
[3168,492720390,null,null,null,null,null,null,null,"31045300026","4061  ",292515206]
[3169,127923294,null,null,null,null,null,null,null,"56099202022","4061  ",292752761]
[3170,397714464,null,null,null,null,null,null,null,"24047308026","4061  ",334173523]
[3171,95005926,null,null,null,null,null,null,null,"19022204026","4061  ",365958395]
[3172,1389772513.29,null,null,null,null,null,null,null,"04101205025","4061  ",428911600]
[3173,21280735,null,null,null,null,null,null,null,"31045046022","4061  ",505875826]
[3174,419414033,null,null,null,null,null,null,null,"15016299025","4061  ",5451781242]
[3175,88363426]
[3176,466561408]
[3177,-47147375]
[3178,37405644.850000001]
[3190,14870822]
[3191,60420177]
[3192,10210782]
[3193,117396711]
[3194,-56976534]
[3195,124570381.53999999]
[3197,833358]
[3198,47510]
[3199,47510]
[3200,785848]
[3201,26135407.439999998]
[3212,173298231]
[3213,3094457899]
[3214,1798259672]
[3215,2085549808]
[3216,1008908091]
[3217,217509482.79999998]
[3234,112495370]
[3235,1560976727]
[3236,37519303]
[3237,66590908]
[3238,1494385819]
[3239,227443851.53999999]
[3255,1488458]
[3256,323868256]
[3257,418001221]
[3258,-94132965]
[3259,-1464306.6900000013]
[3260,2256425503]
[3261,49690]
[3262,2255010886.3099999]
[3305,2111084851.5799999]
[3306,19527088.539999999]
[3307,514890147.07999998]
[3308,4253887.91]
[3309,97761448.00999999]
[3310,2848617]
[3311,23752337.149999999]
[3312,418220]
[3313,3985212]
[3314,94699]
[3315,66814624]
[3316,2966979]
[3319,2823942856.8200002]
[3320,30145690.449999999]
[3326,104204070.84999999]
[3327,94573899.590000004]
[3328,764354]
[3329,104204070.84999999]
[3330,94573899.590000004]
[3331,764354]
[3344,134381713]
[3345,1116071]
[3347,75372]
[3350,6558620045.3199997]
[3353,1169107339.2]
[3356,1402808276]
[3358,697547845.44000006]
[3361,393456225.50999999]
[3364,2156488422]
[3366,1707673210.51]
[3374,210723807.56999999]
[3385,302610041.5]
[3386,178715504.63]
[3387,123894536.86999999]
[3388,185849381.29533258]
[3389,309743918.16533262]
[3390,956265217]
[3391,1087315558.8200002]
[3392,984450199]
[3393,1059130576.8199999]
[3398,1059130576.8199999]
[3421,63189]
[3422,13644]
[3423,280242.11]
[3424,110678]
[3425,103294]
[3427,574350.11]
[3429,1738]
[3431,85000]
[3432,9154948]
[3458,8781382]
[3469,918357]
[3470,1559377]
[3471,10866998]
[3473,14441016]
[3485,249498742.78999999]
[3487,11024911]
[3489,88053333]
[3490,17]
[3491,348798490.78999996]
[3500,-223]
[3501,12489342]
[3504,29592076]
[3505,74160835]
[3506,245045579.59]
[3507,348798490.59000003]
[3508,58250623.359999999]
[3509,500364]
[3510,58750987.359999999]
[3511,165652408.05000001]
[3512,238830]
[3513,741730]
[3514,166632968.05000001]
[3515,-107881980.69]
[3516,4557]
[3518,98166880]
[3519,3675955]
[3521,49338]
[3522,2623139]
[3523,111515424]
[3524,848251]
[3525,1048505]
[3526,110466919]
[3527,2584938.3100000005]
[3528,316422681]
[3529,238630]
[3530,319246249.31]
[3556,275252]
[3557,788477]
[3558,1063729]
[3559,22247]
[3560,1085976]
[3561,1085976]
[3563,42747]
[3564,131500]
[3565,174247]
[3567,174247]
[3568,174247]
[3570,17261804.780000001]
[3571,11634264]
[3572,28896068.780000001]
[3573,1530958]
[3574,30427026.780000001]
[3575,30427026.780000001]
[3577,229714]
[3578,789274]
[3579,1018988]
[3581,1018988]
[3582,1018988]
[3584,96689869.049999997]
[3585,35203020.219999999]
[3586,131892889.27]
[3588,131892889.27]
[3589,131892889.27]
[3591,550497]
[3592,337505]
[3593,888002]
[3594,26902]
[3595,914904]
[3599,1895464]
[3607,115158083.83]
[3608,48914217.219999999]
[3609,164072301.05000001]
[3610,1580107]
[3611,165652408.05000001]
[3617,166632968.05000001]
[3620,-107881980.69]
[3637,52950]
[3638,147304]
[3641,52950]
[3642,147304]
[3656,716428]
[3660,1739617]
[3661,2524181]
[3662,1739617]
[3663,2524181]
[3664,36774589.710000001]
[3665,28893788.710000001]
[3666,7880801]
[3667,27790682.593277302]
[3668,35671483.593277298]
[3669,231130265.96999997]
[4013,102425]
[4014,291264]
[4015,66473]
[4016,3210]
[4017,1754]
[4019,465126]
[4020,442158]
[4021,46296]
[4022,2238334]
[4023,27086]
[4026,2753874]
[4041,202]
[4042,425521815]
[4043,202]
[4044,19309516]
[4046,406212299]
[4048,7888082.1600000001]
[4050,414100381.16000003]
[4052,6640927960.5100002]
[4053,8409771]
[4055,829841]
[4057,19598113]
[4061,30415719594.370003]
[4062,2286506304.7600002]
[4063,2198804600.8000002]
[4064,1389810645.74]
[4065,651321273.33999991]
[4066,259694767.61000001]
[4067,92668658.310000002]
[4069,58750987.359999999]
[4070,6640927960.5100002]
[4071,8409771]
[4072,829841]
[4073,19598113]
[4075,29120953007.079994]
[4076,2201953284.9099998]
[4077,2990203209]
[4078,1208263730.1999998]
[4079,625971713.89999998]
[4080,1526636735.0699999]
[4083,166632968.05000001]
[4095,183847]
[4096,183847]
[4104,61745]
[4105,61745]
[4110,21576111783]
[4111,19929759595]
[4112,3258868413]
[4116,-270325969]
[4128,213723]
[4138,1741498]
[4139,226729]
[4140,276062]
[4141,2640853]
[4142,2640853]
[4149,14776035]
[4150,14776035]
[4166,1064529]
[4204,2090217.5980000005]
[4205,365132.63799999992]
[4206,167378.72269999998]
[4207,2622742]
[4208,12226315333]
[4209,8202034]
[4237,2321860]
[4239,1753385]
[4240,154636]
[4241,1804277]
[4242,489371]
[4243,30000]
[4244,392633]
[4246,144854]
[4248,298394]
[4251,142381]
[4255,8557]
[4256,26234]
[4266,219465]
[4267,2982381]
[4268,61379]
[4269,25000]
[4270,18781600]
[4271,16880299]
[4274,28]
[4275,693493]
[4277,1304]
[4279,198257]
[4283,18706127]
[4290,33097]
[4297,45908556.890000001]
[4298,3802]
[4299,86561]
[4301,124294436.93000001]
[4303,287900]
[4304,9775]
[4311,287900]
[4318,2156985.77]
[4319,14427]
[4330,150416]
[4334,2324191.77]
[4335,14427]
[4346,15319632]
[4348,160578]
[4349,35211]
[4350,21225355]
[4352,161882]
[4353,35370]
[4354,25145647]
[4355,48571]
[4356,2518]
[4357,72031016.99000001]
[4360,18747]
[4373,48923768]
[4376,49929.508999999976]
[4380,561491]
[4382,48923768]
[4385,4244]
[4386,193949]
[4700,34888352]
[4731,35255069]
[4732,1109824]
[4733,6560200]
[4734,31316]
[4735,3471]
[4736,15600820]
[4740,103241]
[4744,20730710]
[4745,19692]
[4752,5]
[4791,35363697]
[4792,175486]
[4794,102]
[4803,19564]
[4804,220938]
[4813,18449707]
[4814,651682]
[4821,1989157]
[4824,279]
[4854,2686]
[4855,4498]
[4857,8752]
[4883,335625]
[4889,9775]
[4934,479098511861]
[4935,46665308965.365059]
[4936,21576111783]
[4939,25000]
[4951,60488300]
[4952,214363963]
[4953,952242]
[4961,132025702]
[4962,39900224]
[4963,103878579]
[4965,28556306.710000001]
[4966,5983933]
[4995,122606950]
[5000,12252083920.279999]
[5002,480103035.32999998]
[5003,202]
[5004,172919]
[5005,12760916383.32]
[5006,1347483.27]
[5007,1456414]
[5008,429139083.54000002]
[5009,18579713]
[5010,450522693.80999994]
[5011,17250859]
[5012,12026128]
[5013,3324352.52]
[5014,16235487]
[5015,4266664]
[5016,668152]
[5017,863946]
[5018,28216409]
[5019,317907]
[5020,4309101]
[5021,362009742]
[5022,1169287]
[5023,5030702]
[5024,12360]
[5025,1385988]
[5026,457757451.51999998]
[5027,94393912.680000007]
[5028,-941736]
[5029,93452176.680000007]
[5030,2877141]
[5031,36694063]
[5032,8054907]
[5033,4415791.91]
[5034,14195443]
[5035,202957973.63]
[5036,20773956.780000001]
[5037,3169823]
[5038,69667234]
[5039,4924698]
[5040,18497168]
[5041,117032879.78]
[5042,98011009.289999992]
[5043,930339]
[5044,668033]
[5045,2747577]
[5046,2115734]
[5047,70650]
[5048,138870]
[5049,195277]
[5050,2472698]
[5051,107350187.29000001]
[5052,12185416]
[5053,24966995.25]
[5054,116002400]
[5055,41787315.239999995]
[5056,3160455]
[5057,53851304]
[5058,204332536.38999999]
[5059,641055973.88]
[5060,14831045719.91]
[5061,27196789]
[5062,107020556]
[5063,164368]
[5064,134381713]
[5065,5343591187.04]
[5066,2891798]
[5071,5366921849.04]
[5072,144007620]
[5073,75588289.340000004]
[5074,125287464.7]
[5076,51426924.729999997]
[5078,6538006]
[5081,4501046]
[5086,407647744.76999998]
[5087,1928358]
[5091,55561631]
[5092,161985]
[5100,60700651]
[5102,82862094]
[5103,451518]
[5104,83313612]
[5106,7277150.2000000002]
[5107,18613739]
[5110,3605207]
[5114,352805]
[5116,50046142]
[5117,50398947]
[5120,75580]
[5126,12813]
[5133,8986661]
[5135,396823343]
[5138,830080]
[5139,2669]
[5153,1196507726.9699998]
[5162,6563429576.0099993]
[5163,14097406]
[5164,14433031]
[5169,48134935]
[5171,68968886]
[5172,16790]
[5178,429997514.91000003]
[5179,1774077]
[5180,132759138.70999999]
[5181,3705697]
[5182,10003623]
[5185,602219929.62]
[5186,620751854]
[5187,2123307]
[5194,424331]
[5195,5212230]
[5199,640179791]
[5213,15613052.619999999]
[5214,4240779]
[5217,482341014.12]
[5218,39416357]
[5219,3336982]
[5225,545146441.74000001]
[5240,9678750]
[5243,28384877]
[5249,2015649]
[5251,1331582]
[5252,54013]
[5254,1851738]
[5256,1650086]
[5259,2162532707.9400001]
[5265,2245934624.9400001]
[5266,23774791633.859997]
[5267,1515792124.6700001]
[5269,8189083]
[5270,145750]
[5272,2296059]
[5273,1526423016.6700001]
[5274,224567.61]
[5275,208542]
[5276,79902948]
[5277,990609.7]
[5278,81326667.310000002]
[5279,13844780.029999999]
[5280,-635518]
[5281,13209262.029999999]
[5282,24252]
[5283,322758]
[5284,2298443]
[5286,228932]
[5287,2874385]
[5288,30642710.359999999]
[5289,6149286]
[5290,2218716]
[5291,3705813]
[5292,8165991]
[5293,31194527.25]
[5294,98571891.750000015]
[5295,1722405222.7600002]
[5296,605000]
[5298,511071]
[5299,1116071]
[5300,543668721]
[5306,544320403]
[5330,65000]
[5332,10000]
[5333,75000]
[5340,326020]
[5351,1804227]
[5360,546124630]
[5361,5084707]
[5362,5084707]
[5364,19692]
[5370,251]
[5383,251]
[5401,744226]
[5402,6211]
[5409,750437]
[5440,3346211]
[5446,8450610]
[5447,2278096533.7600002]
[5448,1569168206.8000002]
[5451,3614308]
[5452,1572782514.8000002]
[5453,230271.46]
[5454,50717]
[5455,63714897]
[5456,589190]
[5457,64585075.460000001]
[5458,12250112.539999999]
[5459,814098]
[5460,13064210.539999999]
[5461,1750000]
[5462,165796]
[5463,2737706]
[5464,106792657]
[5465,156516823]
[5466,1806948623.8000002]
[5467,336372009]
[5473,336372009]
[5476,6560200]
[5483,342932209]
[5491,2198804600.8000002]
[5492,623839199.68000007]
[5495,2902022]
[5496,626741221.68000007]
[5497,87591.52]
[5498,14725]
[5499,9073520]
[5500,386976]
[5501,9562812.5199999996]
[5502,6794708]
[5503,14900627]
[5504,990977]
[5505,5114422]
[5506,259775]
[5507,59325]
[5508,8000]
[5509,52017]
[5510,47341]
[5511,11321]
[5512,133200]
[5513,9387331]
[5514,472642]
[5517,15171]
[5518,38289040]
[5519,7652941]
[5520,-317679]
[5521,7335262]
[5522,102723]
[5523,705899]
[5524,3196144]
[5525,7077174]
[5526,17435820]
[5527,699364156.20000005]
[5528,45553]
[5529,29339]
[5530,480]
[5531,75372]
[5532,47765156]
[5533,1574961]
[5538,49340396]
[5539,4038]
[5540,5625]
[5541,122141]
[5543,183563]
[5553,315367]
[5554,276447577.91999996]
[5556,355204079.62]
[5557,631660214.53999996]
[5564,320]
[5566,6343913]
[5569,114119]
[5583,638474001.53999996]
[5592,687814397.53999996]
[5593,200000]
[5594,200000]
[5603,768092]
[5616,768092]
[5634,55571]
[5635,1498]
[5642,57069]
[5647,12534]
[5652,1526879]
[5658,1726879]
[5659,1388980804.74]
[5660,264930632.84]
[5661,1812761]
[5662,307673998.5]
[5663,1606190]
[5664,576023582.33999991]
[5665,126232]
[5666,46992]
[5667,50437566]
[5668,113249]
[5669,50724039]
[5670,5127167]
[5671,-296936]
[5672,4830231]
[5673,15764]
[5674,70677]
[5675,908622]
[5676,4353510]
[5681,12636095]
[5687,12636095]
[5688,5193]
[5691,10205]
[5693,2031]
[5695,2031]
[5702,5972]
[5704,565581]
[5709,587260]
[5717,13223355]
[5723,5]
[5729,1011938]
[5730,154]
[5738,159]
[5742,1012120]
[5756,37316]
[5760,1012852]
[5761,634]
[5768,1050802]
[5783,24]
[5786,24]
[5802,2166551]
[5808,2166556]
[5809,651321273.33999991]
[5810,9526435]
[5811,37018]
[5812,9563453]
[5813,1380]
[5815,2858909]
[5816,2022291]
[5817,4882580]
[5818,23263158.82]
[5819,-785625]
[5820,22477533.82]
[5821,11422388.300000001]
[5822,661907]
[5823,30276]
[5824,40249172]
[5825,146714720.79000002]
[5826,36938304]
[5832,36938304]
[5838,18764616]
[5845,55702920]
[5846,184181]
[5847,184181]
[5853,755447]
[5854,240096654.61000001]
[5855,68447906.560000002]
[5856,200731]
[5857,68648637.560000002]
[5858,15237.8]
[5859,2799]
[5860,353851]
[5861,3344]
[5862,375231.8]
[5863,24237748.949999999]
[5864,-763506]
[5865,23474242.949999999]
[5866,59999]
[5868,610]
[5869,170546]
[5885,92668658.310000002]
[5924,54994108.559999995]
[5925,230168]
[5926,55224276.559999995]
[5927,15424.8]
[5928,2940]
[5929,10000]
[5930,22591]
[5931,50955.8]
[5932,2918162]
[5933,-173153]
[5934,2745009]
[5936,16098]
[5937,54407]
[5938,230382]
[5939,475364]
[5945,475364]
[5953,500364]
[5962,58750987.359999999]
[5963,635931362.33999991]
[5964,183638287.61000001]
[5965,92668658.310000002]
[5967,58250623.359999999]
[5970,136720627.72]
[5971,2524181]
[5974,55693649.50999999]
[6013,1796276.4699999981]
[6015,399054414]
[6016,7013000]
[6017,397865380]
[6018,8202034]
[6020,63791216]
[6021,32891331]
[6022,586973]
[6023,3408503]
[6024,569641]
[6025,615768]
[6026,42282890]
[6027,308635]
[6028,98208]
[6029,574058852]
[6030,6309522]
[6031,46274563]
[6032,134547974]
[6033,842754]
[6034,7919945]
[6035,13233739]
[6036,26]
[6038,62815788]
[6039,4023393]
[6040,833494]
[6041,6298497]
[6042,483460]
[6043,3880069]
[6044,2838161]
[6045,36397]
[6046,123279]
[6047,3069956]
[6049,223]
[6052,28742494]
[6053,1183384]
[6054,9279578]
[6055,2844519]
[6056,57075]
[6057,150825]
[6059,2546242]
[6062,691]
[6063,321614844.94]
[6064,41360849]
[6065,18940613]
[6066,4530630]
[6067,27284797]
[6068,5618948]
[6069,14605891]
[6070,35301878]
[6071,2056950]
[6072,19118443]
[6073,1034517]
[6075,821248]
[6076,51743]
[6077,8973820]
[6078,2603]
[6081,733307556]
[6082,84116261]
[6083,4361003]
[6084,25530063]
[6085,2602943]
[6086,126351350]
[6087,797239]
[6088,5300146]
[6089,14911041]
[6090,20088315]
[6091,5866323]
[6092,1250]
[6093,914806]
[6094,196148]
[6095,14975533]
[6097,19510]
[6098,120250]
[6099,13787050]
[6100,2183]
[6101,64839]
[6102,3618075]
[6104,4826350]
[6108,646924908]
[6109,3195251]
[6111,2377650]
[6112,6323499]
[6113,17008]
[6115,692857]
[6116,14716]
[6119,34076]
[6120,57898759]
[6121,48216156]
[6122,1500000]
[6130,99247226]
[6153,75903320]
[6154,146464298.78]
[6155,321614844.77999997]
[6156,197177094.94]
[6157,56347587]
[6158,65198172]
[6159,344663037.02999991]
[6160,5513371]
[6162,350176408.02999991]
[6163,7417186]
[6164,357593594.02999991]
[6165,31029]
[6166,367009955.16999996]
[6167,7417186]
[6168,374427141.16999996]
[6169,-16833547.140000001]
[6171,7793]
[6172,1000197]
[6176,17908]
[6177,1892798]
[6178,2866909]
[6179,11537228]
[6180,3153335]
[6181,3470287]
[6182,1140727]
[6183,398105]
[6184,670231]
[6185,2231032]
[6186,3207546]
[6187,1048241]
[6188,4850284]
[6190,500000]
[6191,687190]
[6192,14127]
[6198,46412640]
[6199,2602928]
[6200,5469837]
[6201,-3577039]
[6202,-20410586.140000001]
[6203,242175023]
[6204,603182]
[6205,222367618.86000001]
[6206,1391866430.29]
[6207,39098081.850000001]
[6208,216738138.79999998]
[6209,124326204.53999999]
[6210,26172731.439999998]
[6211,227305448.53999999]
[6212,-1414616.6900000013]
[6213,-19807404.140000001]
[6214,2823568.3100000005]
[6215,-6440478648.1151905]
[6216,-242591368712.25793]
[6217,-412190702001.16022]
[6218,-255472327246.04758]
[6219,-287674721998.91266]
[6220,-826528132143.74951]
[6221,-377841425608.49432]
[6222,-558174833241.32373]
[6223,-603258192918.44177]
[6224,63657582]
[6225,4073256]
[6226,37408089]
[6227,16170342]
[6228,350706755]
[6229,2228850]
[6231,377894]
[6236,182272]
[6237,336663561.00999999]
[6239,415238]
[6240,337078799.00999999]
[6241,117082.29]
[6242,19439]
[6243,1617577]
[6244,35743]
[6245,1789841.29]
[6246,444886]
[6249,50790]
[6250,174691]
[6251,42183]
[6255,2107206]
[6256,-124706]
[6257,1982500]
[6258,2802]
[6259,1407073]
[6260,2740217.14]
[6261,520000]
[6262,7087]
[6264,7744323]
[6268,1677598]
[6269,138774696]
[6270,8329878]
[6271,2645511]
[6272,180208]
[6273,184603]
[6274,9933371]
[6275,109937]
[6276,128260]
[6277,124975]
[6278,7466317]
[6279,2233114]
[6280,2677362]
[6281,173305]
[6284,104244]
[6288,3141121]
[6289,2002797.7300000002]
[6290,3811896.73]
[6291,344663037.02999991]
[6292,5512259]
[6296,5512259]
[6297,4923]
[6298,1849768]
[6300,89]
[6301,46798]
[6304,87582]
[6321,1681]
[6327,151432]
[6328,8041]
[6334,1112]
[6335,1112]
[6336,5513371]
[6340,188604]
[6353,1414796]
[6605,14557]
[6651,1162753]
[6652,193446]
[6653,1380914]
[6660,2204118]
[6661,11321650]
[6666,187009664.94]
[6670,1770463]
[6676,342813]
[6678,34162841]
[6681,340553]
[6772,1520123]
[6773,2397564]
[6774,48635868]
[6777,340553]
[6780,9684]
[6783,32710308]
[6784,17245642]
[6785,2644749]
[6786,260368]
[6787,265047648.94]
[6788,2227131]
[6789,3427106]
[6790,55873]
[6791,51187]
[6792,109667095.37]
[6793,4328450]
[6794,11765]
[6795,4530]
[6797,13787086]
[6798,43385]
[6799,6038]
[6800,4322202]
[6801,153916]
[6802,1626475]
[6803,40484]
[6806,5564]
[6807,6811]
[6808,456]
[6809,6031]
[6810,47262930.890000001]
[6811,65477]
[6812,397695]
[6813,18807]
[6814,17392]
[6815,5189]
[6816,5189]
[6817,9363481]
[6818,9363481]
[6819,284219283]
[6820,284219283]
[6821,1743072]
[6822,1743072]
[6823,255270]
[6824,255270]
[6827,37515]
[6828,37515]
[6829,1575209]
[6830,1575209]
[6833,978527]
[6834,978527]
[6835,18386]
[6836,18386]
[6839,1128041]
[6840,1128041]
[6841,48053407]
[6842,21624435]
[6843,128082]
[6844,406199]
[6845,70465]
[6846,713674]
[6847,293387]
[6848,177306]
[6849,38804]
[6850,252029]
[6851,340047]
[6852,252621]
[6853,125688]
[6854,110171]
[6855,996473]
[6856,1912000]
[6857,5988667]
[6858,654563]
[6859,12523318]
[6860,239002]
[6861,327713]
[6862,9163]
[6863,18839698]
[6864,902728]
[6865,92023]
[6866,972783]
[6867,268228]
[6868,88106]
[6869,166243]
[6870,56073]
[6871,1485285]
[6872,2303173]
[6873,17486072]
[6874,5058]
[6875,3344]
[6876,1271799]
[6879,22554731]
[6880,22252795]
[6881,526494]
[6882,1116962]
[6883,1940308]
[6884,1749864]
[6885,1144]
[6886,3083]
[6887,1941452]
[6888,1752947]
[6889,62229]
[6890,60080]
[6891,123161]
[6892,324463]
[6893,1305916]
[6894,155124]
[6895,3182]
[6896,142398]
[6897,1669912]
[6898,548483]
[6899,46799]
[6900,3212469]
[6901,1277347]
[6902,212058]
[6903,15597]
[6904,4228]
[6905,28985]
[6906,2821776]
[6907,26459]
[6908,35541]
[6909,2443393]
[6910,19076487]
[6911,74527]
[6912,22150090]
[6913,2588961]
[6914,358096]
[6915,351026]
[6916,48024772]
[6917,9901971]
[6918,1298134]
[6919,43304]
[6920,7805979]
[6921,7805979]
[6922,269500088]
[6923,269500088]
[6924,205900]
[6925,205900]
[6926,14913376]
[6927,14913376]
[6928,674054]
[6929,674054]
[6930,1306529]
[6931,1306529]
[6932,1718382]
[6933,1718382]
[6934,296124308]
[6935,2189597]
[6936,2189597]
[6937,46595335]
[6938,46595335]
[6939,812417]
[6940,812417]
[6941,11745439]
[6942,11745439]
[6943,61960]
[6944,61960]
[6945,711771]
[6946,711771]
[6947,305406]
[6948,2023210]
[6949,2328616]
[6950,305406]
[6951,64139729]
[6952,64445135]
[6953,141875]
[6954,142785]
[6955,2099275]
[6956,2099275]
[6957,34511195]
[6958,34511195]
[6959,97376313]
[6960,31569710]
[6964,6031]
[6965,1330499]
[6966,2098]
[6967,8555097]
[6968,611683]
[6969,3303]
[6971,81391]
[6972,9970290]
[6973,619812]
[6974,19390]
[6976,9989680]
[6977,619812]
[6978,878]
[6981,366481090.16999996]
[6983,2747391]
[6984,6425679]
[6985,182652]
[6986,94504]
[6987,94504]
[6988,371075]
[6989,371075]
[6990,9990558]
[6991,619812]
[6994,350176408.02999991]
[6998,1506826]
[6999,44425]
[7002,1506826]
[7003,44425]
[7006,1098343]
[7007,1098343]
[7008,316865]
[7009,316865]
[7010,1506826]
[7011,44425]
[7012,4790197.09]
[7013,4790197.09]
[7014,3636456]
[7015,3636456]
[7016,600478]
[7017,600478]
[7018,516647]
[7019,516647]
[7020,84192]
[7021,84192]
[7022,6009]
[7023,6009]
[7028,606313]
[7029,606313]
[7030,47458]
[7031,47458]
[7032,4089306.19]
[7033,4089306.19]
[7036,79135]
[7037,79135]
[7038,27164243]
[7039,6516]
[7042,27164243]
[7043,6516]
[7045,151672]
[7046,151672]
[7052,716428]
[7054,868100]
[7055,27164243]
[7056,6516]
[7057,238588]
[7059,670532]
[7060,37396]
[7062,58265]
[7065,1004781]
[7066,121440]
[7067,1941905]
[7068,65027654]
[7069,74545]
[7070,2588]
[7071,638403]
[7073,74]
[7074,67806609]
[7075,15497]
[7076,279931]
[7077,4246481.7200000007]
[7080,56501]
[7083,4598410.7200000007]
[7084,69702]
[7085,291996]
[7086,51649695]
[7087,238689]
[7088,25314]
[7089,326947]
[7092,52602343]
[7093,16602104]
[7094,1210991]
[7095,12175220]
[7096,160120]
[7097,1741072]
[7098,218148]
[7099,71537]
[7101,32179192]
[7102,55764]
[7103,41629]
[7104,832826]
[7107,826885]
[7110,1757104]
[7111,122148929.06]
[7112,24802396.579999998]
[7113,28429933.189999998]
[7114,599296.37]
[7115,1987937]
[7116,675684]
[7117,242830]
[7118,377416]
[7119,179264422.19999999]
[7122,23134]
[7128,23134]
[7129,204679]
[7130,64896]
[7131,11239215.25]
[7132,43294]
[7133,27126]
[7134,123154]
[7137,11702364.25]
[7138,139479103.06]
[7139,28633744.579999998]
[7140,189752963.16]
[7141,1161692.3700000001]
[7142,3837743]
[7143,2923987]
[7144,314367]
[7145,377490]
[7146,366481090.16999996]
[7147,30962]
[7148,30962]
[7151,67]
[7152,67]
[7153,31029]
[7154,31029]
[7155,139479103.06]
[7156,28633744.579999998]
[7157,189752963.16]
[7158,1161692.3700000001]
[7159,3837743]
[7160,3452852]
[7161,314367]
[7162,377490]
[7163,367009955.16999996]
[7164,-16833547.140000001]
[7165,108200]
[7167,30177]
[7169,138377]
[7173,138377]
[7179,180239]
[7180,180239]
[7181,741730]
[7182,741730]
[7183,138377]
[7185,54347810]
[7186,9415912]
[7187,9604799]
[7188,1235980]
[7189,528366]
[7190,85373016.819999993]
[7191,21330056.550000001]
[7192,1236122]
[7193,1412351]
[7194,41129]
[7195,167360]
[7196,10428749]
[7197,2182358]
[7198,254676]
[7199,693133]
[7200,215730]
[7201,7910]
[7202,37800919.710000001]
[7203,6060777.1799999997]
[7204,1441464]
[7205,816405]
[7206,1050329]
[7207,86549]
[7530,1414796]
[7531,2380]
[7532,1190]
[7534,3570]
[7535,1411226]
[7536,29527838]
[7537,289617]
[7538,11295]
[7539,29806160]
[7540,9630545]
[7541,576811]
[7542,11295]
[7543,10196061]
[7544,19610099]
[7545,154248989.25999999]
[7546,2441057.44]
[7548,156690046.69999999]
[7549,54060313.890000001]
[7550,4377901.55]
[7552,58438215.439999998]
[7553,98251831.25999999]
[7554,46808224.93]
[7555,5420460.6899999995]
[7556,1307469]
[7557,50921216.620000005]
[7558,40713423.950000003]
[7559,3914581]
[7560,1574931]
[7561,43053073.950000003]
[7562,7868142.6699999999]
[7563,136490684]
[7564,13649068.399999997]
[7570,1345262224.3500001]
[7575,32723]
[7576,1545417]
[7577,439]
[7578,34902]
[7590,286379]
[7593,8911150]
[7594,1784421]
[7595,17000]
[7596,17136081]
[7597,3531133]
[7598,13830568]
[7599,90923]
[7602,353175]
[7603,48687]
[7605,521244]
[7606,813112]
[7607,37052]
[7608,795000]
[7609,410400]
[7610,1664755]
[7611,3230016]
[7612,14103898]
[7613,11765442]
[7614,903175]
[7616,288908]
[7617,2185264]
[7618,2143075]
[7619,4751395]
[7620,40433]
[7621,40311]
[7622,175000]
[7623,36348180]
[7624,64380359]
[7625,249222472]
[7626,5009675]
[7629,14200740]
[7630,95]
[7631,53706]
[7635,14254541]
[7636,22400]
[7638,1257532]
[7639,8257]
[7644,1288189]
[7645,181415]
[7646,48069]
[7647,51885609]
[7648,3517061]
[7649,2663537.23]
[7650,97435.09]
[7651,7306904.46]
[7652,92268617.579999998]
[7653,16457373.93]
[7654,3103613]
[7655,419190]
[7656,14575787]
[7657,112611554.81]
[7658,24280903.48]
[7659,449689269.52999997]
[7660,20956661.91]
[7661,51379545.140000001]
[7662,114416]
[7663,17078070.77]
[7664,24612084]
[7665,24085]
[7666,41714239.769999996]
[7667,35306169]
[7668,431118]
[7669,94314060.909999996]
[7670,75023622.49000001]
[7671,70183102.900000006]
[7672,6295768.5700000003]
[7673,331748]
[7674,360408]
[7676,27022763]
[7677,252151]
[7678,460630]
[7679,5129537.1000000015]
[7681,43160339.900000006]
[7682,6043617.5700000003]
[7684,561491]
[7685,561491]
[7686,48635868]
[7687,67070538]
[7688,146451090]
[7689,12249576]
[7690,21978696]
[7691,701289]
[7692,72653795]
[7693,866900]
[7694,6995555]
[7695,14028967.1]
[7697,87431860.129999995]
[7698,56000650.009999998]
[7699,143432510.13999999]
[7700,54797]
[7701,704161333]
[7702,704161333]
[7704,11607372]
[7707,198119]
[7708,27406]
[7712,1220276]
[7713,396564]
[7714,153556]
[7715,550120]
[7716,6559]
[7717,6559]
[7718,95572]
[7719,95572]
[7720,43073]
[7721,43073]
[7722,722819]
[7723,722819]
[7724,203421]
[7725,203421]
[7726,294415]
[7727,294415]
[7728,497836]
[7729,497836]
[7735,497836]

{"sheet":"worksheet","index":21,"n_rows":2406,"n_cols":6,"rows_kept":2406,"cut":false,"hidden":true,"merged":[]}
["All SD's (- Crete Monee)",null,"East STL","City of Clay","Lake Park","All SD's (-CM & ESTL, & revisions for City of Clay and Lake Park)"]
["txtFieldNum","2018","2018","2018","2018"]
[4,4449380884,1317518,0,0,4448063366]
[11,10965222,0,0,0,10965222]
[12,2085627941,0,0,0,2085627941]
[15,8487467,0,0,0,8487467]
[16,13604323264.32,53962316,0,0,13550360948.32]
[25,113203890,0,0,0,113203890]
[27,4516526967,2900055,0,0,4513626912]
[30,6103904165,7739318,0,0,6096164847]
[31,7255290591.5900002,43452423,0,0,7211838168.5900002]
[32,13604323264.589998,53962316,0,0,13550360948.589998]
[36,449091290,329379,0,0,448761911]
[43,98822,0,0,0,98822]
[44,352727831,0,0,0,352727831]
[47,809521,0,0,0,809521]
[48,2004389425.2,1694294,0,0,2002695131.2]
[56,109272,0,0,0,109272]
[58,532996778,210583,0,0,532786195]
[61,645406398,383022,0,0,645023376]
[62,1153151307.95,0,0,0,1153151307.95]
[63,2004389424.95,1694294,0,0,2002695130.95]
[65,453038975,1138861,0,0,451900114]
[68,192660768,0,0,0,192660768]
[69,13754738,570310,0,0,13184428]
[70,2118999902,7370322,0,0,2111629580]
[73,460348617,728106,0,0,459620511]
[78,469306339,728106,0,0,468578233]
[79,612786993.88,1757627,0,0,611029366.88]
[80,2118999901.8800001,7370322,0,0,2111629579.8800001]
[84,159323034,131752,0,0,159191282]
[92,210291838,0,0,0,210291838]
[95,188063,0,0,0,188063]
[96,1208901307.4400001,2519922,0,0,1206381385.4400001]
[103,660741,0,0,0,660741]
[105,298210918,733927,0,0,297476991]
[108,357072463,858330,0,0,356214133]
[109,684573002.85000002,0,0,0,684573002.85000002]
[110,1208901306.8499999,2519922,0,0,1206381384.8499999]
[112,158410779,1526804,0,0,156883975]
[116,109853870,0,0,0,109853870]
[118,22713,0,0,0,22713]
[119,661600222.50999999,4937924,0,0,656662298.50999999]
[123,5439635,0,0,0,5439635]
[124,175026030,976129,0,0,174049901]
[127,194799093,976129,0,0,193822964]
[128,320909130.58000004,2040364,0,0,318868766.58000004]
[129,661600222.58000004,4937924,0,0,656662298.58000004]
[138,459294954,0,0,0,459294954]
[141,34045,0,0,0,34045]
[142,2636761886,1386767,0,0,2635375119]
[145,9113,0,0,0,9113]
[147,17494828,0,0,0,17494828]
[150,187253893,0,0,0,187253893]
[151,1209846638,0,0,0,1209846638]
[152,2636761886,1386767,0,0,2635375119]
[212,1322298013,815300,0,0,1321482713]
[213,34925647029.099998,214644813,0,0,34711002216.099998]
[214,1971193145.51,4604112,0,0,1966589033.51]
[215,3710974507,20966469,0,0,3690008038]
[218,42992052441.610001,241030694,0,0,42751021747.610001]
[219,42992052441.610001,241030694,0,0,42751021747.610001]
[220,42992052441.610001,241030694,0,0,42751021747.610001]
[221,1645160085,6642216,0,0,1638517869]
[222,19912185421,23577784,0,0,19888607637]
[223,21557345506,30220000,0,0,21527125506]
[224,21557256289,30220000,0,0,21527036289]
[226,21557256289,30220000,0,0,21527036289]
[227,21557256289,30220000,0,0,21527036289]
[259,19734469,0,0,0,19734469]
[260,5656749,0,0,0,5656749]
[262,13385462,0,0,0,13385462]
[263,24190,0,0,0,24190]
[371,4568411,0,0,0,4568411]
[439,116325619,0,0,0,116325619]
[440,220808,0,0,0,220808]
[557,956982138,0,0,0,956982138]
[558,41601698,0,0,0,41601698]
[559,575570,0,0,0,575570]
[590,311901711,0,0,0,311901711]
[591,7162087,0,0,0,7162087]
[644,6741171854.6300001,15183063,0,0,6725988791.6300001]
[645,53496043,0,0,0,53496043]
[651,357544899,181439,0,0,357363460]
[655,8234532,0,0,0,8234532]
[656,169299761.82999998,535228,0,0,168764533.82999998]
[657,286601372.90999997,194052,0,0,286407320.90999997]
[658,47627036,0,0,0,47627036]
[659,10052281006.52,26930010,0,0,10025350996.52]
[660,267877815,1720517,0,0,266157298]
[661,305511212.84000003,558433,0,0,304952779.84000003]
[662,153858708.16,314722,0,0,153543986.16]
[663,124376076,488843,0,0,123887233]
[664,197865876.88,348066,0,0,197517810.88]
[665,70251496,75937,0,0,70175559]
[666,1119741184.8800001,3506518,0,0,1116234666.8800001]
[667,279910784,2480594,0,0,277430190]
[668,220632626.11000001,434427,0,0,220198199.11000001]
[669,13958619,10300,0,0,13948319]
[670,514502029.11000001,2925321,0,0,511576708.11000001]
[671,31051748,0,0,0,31051748]
[672,177937895.69,990976,0,0,176946919.69]
[673,282991242.69,1609578,0,0,281381664.69]
[674,874404091.63999999,2894209,0,0,871509882.63999999]
[675,42342730,91313,0,0,42251417]
[676,916746821.63999999,2985522,0,0,913761299.63999999]
[677,50098057,0,0,0,50098057]
[678,109019241.69,625775,0,0,108393466.69]
[679,89779274.159999996,2615,0,0,89776659.159999996]
[680,19237105,27796,0,0,19209309]
[681,215621257.12,77657,0,0,215543600.12]
[682,10997332,231731,0,0,10765601]
[684,494752266.96999997,965574,0,0,493786692.96999997]
[685,7546862,750447,0,0,6796415]
[686,15955554,369632,0,0,15585922]
[687,24210062,0,0,0,24210062]
[688,60814347,382838,0,0,60431509]
[690,99617794.680000007,501145,0,0,99116649.680000007]
[692,208144619.68000001,2004062,0,0,206140557.68000001]
[693,13142507,577912,0,0,12564595]
[694,3550020671.9700003,14574487,0,0,3535446184.9700003]
[695,71914890,183519,0,0,71731371]
[696,13674216568.49,41688016,0,0,13632528552.49]
[702,1820198463.8499999,2345912,0,0,1817852551.8499999]
[703,9978449,0,0,0,9978449]
[709,77589893,43022,0,0,77546871]
[713,757212,0,0,0,757212]
[714,34246764.590000004,102377,0,0,34144387.590000004]
[715,20977445.619999997,19566,0,0,20957879.619999997]
[716,2033666.77,0,0,0,2033666.77]
[717,2539185408.9899998,5352930,0,0,2533832478.9899998]
[718,55138428,377350,0,0,54761078]
[719,63325892.75,108203,0,0,63217689.75]
[720,31792513.219999999,90123,0,0,31702390.219999999]
[721,23313846,102847,0,0,23210999]
[722,37425100.019999996,67669,0,0,37357431.019999996]
[723,12299869,10592,0,0,12289277]
[724,223295648.99000001,756784,0,0,222538864.99000001]
[725,60661474.57,529034,0,0,60132440.57]
[726,44815372,89681,0,0,44725691]
[727,1940491,0,0,0,1940491]
[728,107417337.56999999,618715,0,0,106798622.56999999]
[729,24908300,2192,0,0,24906108]
[730,34813147,146992,0,0,34666155]
[731,78375357,268727,0,0,78106630]
[732,206706118.60000002,481585,0,0,206224533.60000002]
[733,10022096,12003,0,0,10010093]
[734,216728214.60000002,493588,0,0,216234626.60000002]
[735,10015932,0,0,0,10015932]
[736,20666413,78236,0,0,20588177]
[737,18154691,42155,0,0,18112536]
[738,6861872,2401,0,0,6859471]
[739,55331968,0,0,0,55331968]
[740,2285625,36161,0,0,2249464]
[742,113316501,158953,0,0,113157548]
[743,1527345,145202,0,0,1382143]
[744,2884336,66772,0,0,2817564]
[745,5786704,0,0,0,5786704]
[746,29291752,59224,0,0,29232528]
[748,17161311,95182,0,0,17066129]
[750,56651448,366380,0,0,56285068]
[751,7489563,51441,0,0,7438122]
[752,803274070.15999997,2714588,0,0,800559482.15999997]
[753,12852816,35840,0,0,12816976]
[754,3355312295.1500001,8103358,0,0,3347208937.1500001]
[760,118163391.58999999,708049,0,0,117455342.58999999]
[761,532417,0,0,0,532417]
[767,3004843,0,0,0,3004843]
[771,1571457,0,0,0,1571457]
[772,7573657,58842,0,0,7514815]
[773,45674846.879999995,450543,0,0,45224303.879999995]
[774,1843734,0,0,0,1843734]
[775,1000923412.4799999,3303205,0,0,997620207.4799999]
[776,12748405,35613,0,0,12712792]
[777,12949838,6489,0,0,12943349]
[778,34796077,318234,0,0,34477843]
[779,7532428,5016,0,0,7527412]
[780,24515469,0,0,0,24515469]
[781,12962938,0,0,0,12962938]
[782,105505155,365352,0,0,105139803]
[783,101648199.48,880056,0,0,100768143.48]
[784,39746237.620000005,134,0,0,39746103.620000005]
[785,22858547,22633,0,0,22835914]
[786,164252984.09999999,902823,0,0,163350161.09999999]
[787,111071387.76000001,112939,0,0,110958448.76000001]
[788,12253329.879999999,251399,0,0,12001930.879999999]
[789,144089490.63999999,373094,0,0,143716396.63999999]
[790,21803884.329999998,141352,0,0,21662532.329999998]
[791,382088,0,0,0,382088]
[792,22185972.329999998,141352,0,0,22044620.329999998]
[793,5858787,0,0,0,5858787]
[794,31426012.790000003,85822,0,0,31340190.790000003]
[795,72299634,159359,0,0,72140275]
[796,109471562,0,-148798,0,109620360]
[797,202610553.83000001,2811494,148798,0,199650261.83000001]
[798,9997150.629999999,17436,0,0,9979714.629999999]
[800,431663700.25,3074111,0,0,428589589.25]
[801,2264478,32634,0,0,2231844]
[802,5319354,331919,0,0,4987435]
[803,16360688,38755,0,0,16321933]
[804,15273675,157860,0,0,15115815]
[806,90140542,302801,0,0,89837741]
[808,129358737,863969,0,0,128494768]
[809,11016685,9086,0,0,11007599]
[810,1008072724.3200001,5729787,0,0,1002342937.3200001]
[811,50831000,429726,0,0,50401274]
[812,2268101357.21,10059830,0,0,2258041527.21]
[818,297520179.07000005,446414,0,0,297073765.07000005]
[819,550399,0,0,0,550399]
[825,7044036,405,0,0,7043631]
[829,1015158,0,0,0,1015158]
[830,16213497.24,87048,0,0,16126449.24]
[831,30125009.289999999,271102,0,0,29853907.289999999]
[832,2687696,0,0,0,2687696]
[833,435256640.85000002,1072898,0,0,434183742.85000002]
[834,5075524,45536,0,0,5029988]
[835,4133977,0,0,0,4133977]
[836,3415821,1532,0,0,3414289]
[837,1336324,0,0,0,1336324]
[838,1115060,0,0,0,1115060]
[839,4604410.6899999995,0,0,0,4604410.6899999995]
[840,19681116.689999998,47068,0,0,19634048.689999998]
[841,34712371,100059,0,0,34612312]
[842,42502413,0,0,0,42502413]
[843,6800010,0,0,0,6800010]
[844,84014794,100059,0,0,83914735]
[845,6219037.5800000001,3504,0,0,6215533.5800000001]
[846,4053846.45,64582,0,0,3989264.45]
[847,11737291.029999999,90583,0,0,11646708.029999999]
[848,17254295.149999999,26120,0,0,17228175.149999999]
[849,203287,0,0,0,203287]
[850,17457582.149999999,26120,0,0,17431462.149999999]
[851,1288781,0,0,0,1288781]
[852,4525110.59,51037,0,0,4474073.59]
[853,31151116,57374,0,0,31093742]
[854,930489,0,-1470,0,931959]
[855,285160147.51999998,30624,1470,0,285128053.51999998]
[856,4915671,39748,0,0,4875923]
[858,327971315.11000001,178783,0,0,327792532.11000001]
[859,261901,2091,0,0,259810]
[860,824442,49445,0,0,774997]
[861,6140093,128922,0,0,6011171]
[862,1664938,11138,0,0,1653800]
[864,45195536,232235,0,0,44963301]
[866,54086910,423831,0,0,53663079]
[867,6818210,8409,0,0,6809801]
[868,521767218.97999996,874853,0,0,520892365.97999996]
[869,10815167,46222,0,0,10768945]
[870,967839026.83000004,1993973,0,0,965845053.83000004]
[876,39634963.5,8623,0,0,39626340.5]
[877,5435,0,0,0,5435]
[883,98275,0,0,0,98275]
[887,48943,0,0,0,48943]
[888,5440346.9100000001,27381,0,0,5412965.9100000001]
[889,3265589,0,0,0,3265589]
[890,19020,0,0,0,19020]
[891,59814062.68,151108,0,0,59662954.68]
[892,128225,0,0,0,128225]
[893,52906,0,0,0,52906]
[894,406625,0,0,0,406625]
[895,5340,0,0,0,5340]
[896,181147,0,0,0,181147]
[897,787537,0,0,0,787537]
[898,1561780,0,0,0,1561780]
[899,6827680,0,0,0,6827680]
[900,25432965,0,0,0,25432965]
[901,53753,0,0,0,53753]
[902,32314398,0,0,0,32314398]
[903,473715,0,0,0,473715]
[904,362208,0,0,0,362208]
[905,904985,1310,0,0,903675]
[906,1114046.3,0,0,0,1114046.3]
[907,38433,0,0,0,38433]
[908,1152479.3,0,0,0,1152479.3]
[909,279262,0,0,0,279262]
[910,1177269.8199999998,0,0,0,1177269.8199999998]
[911,13290712,240893,0,0,13049819]
[912,100303,0,-7488,0,107791]
[913,6014640.6600000001,9327,7488,0,5997825.6600000001]
[914,1726802,0,0,0,1726802]
[916,22588989.48,250220,0,0,22338769.48]
[917,111124,0,0,0,111124]
[918,240238,0,0,0,240238]
[919,6321928,0,0,0,6321928]
[920,236522,0,0,0,236522]
[922,45553582,79193,0,0,45474389]
[924,52463394,79193,0,0,52384201]
[925,1433450,3000,0,0,1430450]
[926,112419475.77999999,333723,0,0,112085752.77999999]
[927,1035297,22336,0,0,1012961]
[928,173268835.46000001,507167,0,0,172761668.46000001]
[934,9064881,0,0,0,9064881]
[935,56094,0,0,0,56094]
[941,63945,0,0,0,63945]
[945,37750,0,0,0,37750]
[946,2902198,0,0,0,2902198]
[947,9607627,27275,0,0,9580352]
[948,590017,0,0,0,590017]
[949,385228947,5105578,0,0,380123369]
[950,71519,0,0,0,71519]
[951,774353,0,0,0,774353]
[952,148404,0,0,0,148404]
[953,36736,0,0,0,36736]
[954,43115,0,0,0,43115]
[955,273263,0,0,0,273263]
[956,1347390,0,0,0,1347390]
[957,2535252,176,0,0,2535076]
[958,978494,0,0,0,978494]
[959,88172,0,0,0,88172]
[960,3601918,176,0,0,3601742]
[961,11278611.51,11796,0,0,11266815.51]
[962,3337293.63,27974,0,0,3309319.63]
[963,16309803.140000001,111749,0,0,16198054.140000001]
[964,2369403.7599999998,0,0,0,2369403.7599999998]
[965,22530,0,0,0,22530]
[966,2391933.7599999998,0,0,0,2391933.7599999998]
[967,735663,0,0,0,735663]
[968,3208027,88388,0,0,3119639]
[969,286836,0,0,0,286836]
[970,3962,0,0,0,3962]
[971,1365851,0,0,0,1365851]
[972,131205,0,0,0,131205]
[974,5731544,88388,0,0,5643156]
[975,8040,0,0,0,8040]
[976,24896,0,0,0,24896]
[977,363670,0,0,0,363670]
[978,453245,32844,0,0,420401]
[980,1257609,0,0,0,1257609]
[982,2107460,32844,0,0,2074616]
[983,835808,0,0,0,835808]
[984,32325856.900000002,233157,0,0,32092699.900000002]
[985,8088731,0,0,0,8088731]
[986,531742710.52999997,139422,0,0,531603288.52999997]
[987,996434,0,0,0,996434]
[988,130730,0,0,0,130730]
[990,293196,0,0,0,293196]
[992,32394652,0,0,0,32394652]
[993,991535639.42999995,5478157,0,0,986057482.42999995]
[1032,9075709683.6399994,18791945,0,0,9056917738.6399994]
[1033,64631212,0,0,0,64631212]
[1039,445809063,224866,0,0,445584197]
[1043,11680729,0,0,0,11680729]
[1044,239618620.56999999,810876,0,0,238807744.56999999]
[1045,397918849.69999999,962538,0,0,396956311.69999999]
[1046,54801169.770000003,0,0,0,54801169.770000003]
[1047,14541444952.520002,42137763,0,0,14499307189.520002]
[1048,341572857,2239058,0,0,339333799]
[1049,387529829.58999997,673125,0,0,386856704.58999997]
[1050,224822471.38,724611,0,0,224097860.38]
[1051,156876887,658977,0,0,156217910]
[1052,261468500.90000001,415735,0,0,261052765.90000001]
[1053,101415372.69,86529,0,0,101328843.69]
[1054,1473685918.5599999,4798035,0,0,1468887883.5599999]
[1055,492911153.05000001,4030127,0,0,488881026.05000001]
[1056,386767939.73000002,564450,0,0,386203489.73000002]
[1057,46036468,32933,0,0,46003535]
[1058,925715560.77999997,4627510,0,0,921088050.77999997]
[1059,186064475.84999999,130431,0,0,185934044.84999999]
[1060,233049235.65000001,1481923,0,0,231567312.65000001]
[1061,535971728.5,2455041,0,0,533516687.5]
[1062,1127334366.78,3543266,0,0,1123791100.78]
[1063,53015391,103316,0,0,52912075]
[1064,1180349757.78,3646582,0,0,1176703175.78]
[1065,68398561,0,0,0,68398561]
[1066,170469698.88999999,929258,0,0,169540440.88999999]
[1067,226293150.16,502396,0,0,225790754.16]
[1068,136750057,30197,-157756,0,136877616]
[1069,768322813.13,2929102,157756,0,765235955.13]
[1070,30148653.629999999,338444,0,0,29810209.629999999]
[1072,1400382933.8100002,4729397,0,0,1395653536.8100002]
[1073,11947405,930374,0,0,11017031]
[1074,25282033,817768,0,0,24464265]
[1075,61966351,167677,0,0,61798674]
[1076,110213413,643904,0,0,109569509]
[1078,317778156.68000001,1210556,0,0,316567600.68000001]
[1080,527187358.68000001,3770279,0,0,523417079.68000001]
[1081,41386385,649848,0,0,40736537]
[1082,6084679643.1100006,24676692,0,0,6060002951.1100006]
[1083,156879339,717643,0,0,156161696]
[1084,740016930.94000006,736534,0,0,739280396.94000006]
[1085,996434,0,0,0,996434]
[1086,130730,0,0,0,130730]
[1088,293196,0,0,0,293196]
[1090,32394652,0,0,0,32394652]
[1091,21557170259.57,68268632,0,0,21488901627.57]
[1092,1239111641.29,7537932,0,0,1231573709.29]
[1158,2729805,0,0,0,2729805]
[1159,1045563,0,0,0,1045563]
[1160,608958625.8599999,2621285,0,0,606337340.8599999]
[1162,612797182.8599999,2621285,0,0,610175897.8599999]
[1163,1113815,0,0,0,1113815]
[1164,614013422.8599999,2621285,0,0,611392137.8599999]
[1165,614327865.8599999,2621285,0,0,611706580.8599999]
[1166,492107,0,0,0,492107]
[1167,150047,0,0,0,150047]
[1168,122882561.03,487053,0,0,122395508.03]
[1170,123538359.03,487053,0,0,123051306.03]
[1171,183731,0,0,0,183731]
[1172,124013354.03,487053,0,0,123526301.03]
[1173,124013373.03,487053,0,0,123526320.03]
[1174,1390461,0,0,0,1390461]
[1175,13249969,0,0,0,13249969]
[1176,636376223.98000002,1782914,0,0,634593309.98000002]
[1178,651294168.09000003,1782914,0,0,649511254.09000003]
[1179,1971924,0,0,0,1971924]
[1180,653332565.09000003,1782914,0,0,651549651.09000003]
[1181,655744913.09000003,1782914,0,0,653961999.09000003]
[1182,49148,0,0,0,49148]
[1183,524525,0,0,0,524525]
[1184,468480695.32999998,2201259,0,0,466279436.32999998]
[1186,469165046.32999998,2201259,0,0,466963787.32999998]
[1187,88374,0,0,0,88374]
[1188,469256630.32999998,2201259,0,0,467055371.32999998]
[1189,469266713.32999998,2201259,0,0,467065454.32999998]
[1190,278746,0,0,0,278746]
[1191,118952872,0,0,0,118952872]
[1192,178846791.59999999,66024,0,0,178780767.59999999]
[1193,331017,0,0,0,331017]
[1195,298512720.60000002,66024,0,0,298446696.60000002]
[1196,407229,0,0,0,407229]
[1197,298921703.60000002,66024,0,0,298855679.60000002]
[1198,298968874.60000002,66024,0,0,298902850.60000002]
[1199,49581,0,0,0,49581]
[1200,391513,0,0,0,391513]
[1201,2784801,0,0,0,2784801]
[1203,3225895,0,0,0,3225895]
[1204,7015,0,0,0,7015]
[1205,3232910,0,0,0,3232910]
[1206,3315452,0,0,0,3315452]
[1207,42020,0,0,0,42020]
[1209,52484,0,0,0,52484]
[1211,465579,0,0,0,465579]
[1212,8463941,0,0,0,8463941]
[1213,4995879,0,0,0,4995879]
[1214,135647086,0,0,0,135647086]
[1215,2027387323.8000002,7160645,0,0,2020226678.8000002]
[1216,412408,0,0,0,412408]
[1218,2169014318.9099998,7160645,0,0,2161853673.9099998]
[1219,3791478,0,0,0,3791478]
[1220,2173270922.9099998,7160645,0,0,2166110277.9099998]
[1221,5672478,0,0,0,5672478]
[1222,42020,0,0,0,42020]
[1224,52484,0,0,0,52484]
[1226,465579,0,0,0,465579]
[1227,2181286895.9099998,7160645,0,0,2174126250.9099998]
[1228,87166833.850000009,-1678656,0,0,88845489.850000009]
[1246,5177763,0,0,0,5177763]
[1247,5177763,0,0,0,5177763]
[1248,5177763,0,0,0,5177763]
[1249,17709,0,0,0,17709]
[1251,1016798227,1652074,0,0,1015146153]
[1252,616678,0,0,0,616678]
[1253,2583817,0,0,0,2583817]
[1254,1878853134,3180000,0,0,1875673134]
[1255,83881742,2284,0,0,83879458]
[1256,2982116920,4834358,0,0,2977282562]
[1257,2982256903,4834358,0,0,2977422545]
[1263,17709,0,0,0,17709]
[1265,1016798227,1652074,0,0,1015146153]
[1266,616678,0,0,0,616678]
[1267,2583817,0,0,0,2583817]
[1268,1878853134,3180000,0,0,1875673134]
[1269,89059505,2284,0,0,89057221]
[1270,2987294683,4834358,0,0,2982460325]
[1271,2987434666,4834358,0,0,2982600308]
[1272,-790602762.20000005,-70171,0,0,-790532591.20000005]
[1274,250016007.88,585809,0,0,249430198.88]
[1277,1252696,0,0,0,1252696]
[1278,251710861.88,585809,0,0,251125052.88]
[1279,251748525.88,585809,0,0,251162716.88]
[1280,43418761.32,9799,0,0,43408962.32]
[1283,283749,0,0,0,283749]
[1284,43748806.32,9799,0,0,43739007.32]
[1285,43749535.32,9799,0,0,43739736.32]
[1286,715321719.89999998,4247337,0,0,711074382.89999998]
[1289,339444,0,0,0,339444]
[1290,717899497.89999998,4247337,0,0,713652160.89999998]
[1291,12729286,0,0,0,12729286]
[1292,730802959.89999998,4247337,0,0,726555622.89999998]
[1293,67522247.349999994,2389,0,0,67519858.349999994]
[1296,75692,0,0,0,75692]
[1297,67625025.349999994,2389,0,0,67622636.349999994]
[1298,67628153.349999994,2389,0,0,67625764.349999994]
[1299,74031959.75,0,0,0,74031959.75]
[1303,74031959.75,0,0,0,74031959.75]
[1304,74031959.75,0,0,0,74031959.75]
[1305,3008866,0,0,0,3008866]
[1308,8731,0,0,0,8731]
[1309,3017597,0,0,0,3017597]
[1310,10649,0,0,0,10649]
[1312,173198,0,0,0,173198]
[1314,16375090,0,0,0,16375090]
[1315,23480545,0,0,0,23480545]
[1316,1154868314.1999998,4845334,0,0,1150022980.1999998]
[1319,1960312,0,0,0,1960312]
[1320,1159582500.1999998,4845334,0,0,1154737166.1999998]
[1321,15567144,0,0,0,15567144]
[1322,10649,0,0,0,10649]
[1324,173198,0,0,0,173198]
[1326,16375090,0,0,0,16375090]
[1327,1192990431.1999998,4845334,0,0,1188145097.1999998]
[1328,182088027.53999999,-269490,0,0,182357517.53999999]
[1335,717612,0,0,0,717612]
[1341,7874022,8218,0,0,7865804]
[1345,705456,0,0,0,705456]
[1346,2906697.37,7912,0,0,2898785.37]
[1347,11771219.68,16031,0,0,11755188.68]
[1348,1889701.9,0,0,0,1889701.9]
[1349,241591398.34000003,832148,0,0,240759250.34000003]
[1350,8208506,101029,0,0,8107477]
[1351,6844075,16155,0,0,6827920]
[1352,17314096.640000001,31461,0,0,17282635.640000001]
[1353,1820188,31124,0,0,1789064]
[1354,2742701,5808,0,0,2736893]
[1355,6745460,9586,0,0,6735874]
[1356,43675026.640000001,195163,0,0,43479863.640000001]
[1357,7899295.8200000003,52939,0,0,7846356.8200000003]
[1358,17017865.75,43703,0,0,16974162.75]
[1359,653223,0,0,0,653223]
[1360,25570384.57,96642,0,0,25473742.57]
[1361,9615542,24513,0,0,9591029]
[1362,9975373.1099999994,57580,0,0,9917793.1099999994]
[1363,28010783.300000001,224670,0,0,27786113.300000001]
[1364,44795060.339999996,121354,0,0,44673706.339999996]
[1365,1963541,1303,0,0,1962238]
[1366,46758601.339999996,122657,0,0,46635944.339999996]
[1367,4115641,0,0,0,4115641]
[1368,17278398.850000001,71934,0,0,17206464.850000001]
[1369,328662,0,0,0,328662]
[1370,113063750.76000001,320998,0,0,112742752.76000001]
[1371,42940120.640000001,71790,0,0,42868330.640000001]
[1372,22622775.460000001,6088,0,0,22616687.460000001]
[1373,1763853,30125,0,0,1733728]
[1375,202113201.71000001,500935,0,0,201612266.71000001]
[1376,400555,30013,0,0,370542]
[1377,1186583,31767,0,0,1154816]
[1378,4151363,0,0,0,4151363]
[1379,5343395,36510,0,0,5306885]
[1381,15235260,58090,0,0,15177170]
[1383,26317156,156380,0,0,26160776]
[1384,1486542,55736,0,0,1430806]
[1385,373931695.55999994,1352183,0,0,372579512.55999994]
[1386,5727988,19371,0,0,5708617]
[1387,623771613.89999998,2203702,0,0,621567911.89999998]
[1399,717612,0,0,0,717612]
[1405,7874022,8218,0,0,7865804]
[1409,705456,0,0,0,705456]
[1410,2906697.37,7912,0,0,2898785.37]
[1411,11771219.68,16031,0,0,11755188.68]
[1412,1889701.9,0,0,0,1889701.9]
[1413,241591398.34000003,832148,0,0,240759250.34000003]
[1414,8208506,101029,0,0,8107477]
[1415,6844075,16155,0,0,6827920]
[1416,17314096.640000001,31461,0,0,17282635.640000001]
[1417,1820188,31124,0,0,1789064]
[1418,2742701,5808,0,0,2736893]
[1419,6745460,9586,0,0,6735874]
[1420,43675026.640000001,195163,0,0,43479863.640000001]
[1421,7899295.8200000003,52939,0,0,7846356.8200000003]
[1422,17017865.75,43703,0,0,16974162.75]
[1423,653223,0,0,0,653223]
[1424,25570384.57,96642,0,0,25473742.57]
[1425,9615542,24513,0,0,9591029]
[1426,9975373.1099999994,57580,0,0,9917793.1099999994]
[1427,28010783.300000001,224670,0,0,27786113.300000001]
[1428,44795060.339999996,121354,0,0,44673706.339999996]
[1429,1963541,1303,0,0,1962238]
[1430,46758601.339999996,122657,0,0,46635944.339999996]
[1431,4115641,0,0,0,4115641]
[1432,17278398.850000001,71934,0,0,17206464.850000001]
[1433,328662,0,0,0,328662]
[1434,113063750.76000001,320998,0,0,112742752.76000001]
[1435,42940120.640000001,71790,0,0,42868330.640000001]
[1436,22622775.460000001,6088,0,0,22616687.460000001]
[1437,1763853,30125,0,0,1733728]
[1439,202113201.71000001,500935,0,0,201612266.71000001]
[1440,400555,30013,0,0,370542]
[1441,1186583,31767,0,0,1154816]
[1442,4151363,0,0,0,4151363]
[1443,5343395,36510,0,0,5306885]
[1445,15235260,58090,0,0,15177170]
[1447,26317156,156380,0,0,26160776]
[1448,1486542,55736,0,0,1430806]
[1449,373931695.55999994,1352183,0,0,372579512.55999994]
[1450,5727988,19371,0,0,5708617]
[1456,623771613.89999998,2203702,0,0,621567911.89999998]
[1457,24628771.439999998,98529,0,0,24530242.439999998]
[1458,1820904,0,0,0,1820904]
[1461,4555,0,0,0,4555]
[1462,1825459,0,0,0,1825459]
[1463,1825459,0,0,0,1825459]
[1464,285260,0,0,0,285260]
[1467,585,0,0,0,585]
[1468,285845,0,0,0,285845]
[1469,285845,0,0,0,285845]
[1470,82499477.819999993,0,0,0,82499477.819999993]
[1473,1973468,0,0,0,1973468]
[1474,84472945.819999993,0,0,0,84472945.819999993]
[1475,84472945.819999993,0,0,0,84472945.819999993]
[1476,4909856,0,0,0,4909856]
[1479,98732,0,0,0,98732]
[1480,5008588,0,0,0,5008588]
[1481,5008588,0,0,0,5008588]
[1482,1367276613.25,0,0,0,1367276613.25]
[1485,7254879,0,0,0,7254879]
[1486,1374531492.25,0,0,0,1374531492.25]
[1487,1374531492.25,0,0,0,1374531492.25]
[1488,10834139,1337,0,0,10832802]
[1491,1465588,0,0,0,1465588]
[1492,12299727,1337,0,0,12298390]
[1493,13167827,1337,0,0,13166490]
[1494,1494797009.0699999,1337,0,0,1494795672.0699999]
[1497,10797807,0,0,0,10797807]
[1498,1505594816.0699999,1337,0,0,1505593479.0699999]
[1499,1506462916.0699999,1337,0,0,1506461579.0699999]
[1500,-1266594855.46,7007,0,0,-1266601862.46]
[1556,6158665302.0100002,38685066,0,0,6119980236.0100002]
[1569,7500419100.3000002,46222998,0,0,7454196102.3000002]
[1570,1318454314,2989928,0,0,1315464386]
[1583,1358983026.8500001,1311272,0,0,1357671754.8500001]
[1584,1432923189,6712387,0,0,1426210802]
[1597,1649693562.8000002,6642216,0,0,1643051346.8000002]
[1598,727228544,1931082,0,0,725297462]
[1611,851828843.54000008,1661592,0,0,850167251.54000008]
[1612,441349186,3863266,0,0,437485920]
[1625,466801129.44,3961795,0,0,462839334.44]
[1626,2221889838,1379760,0,0,2220510078]
[1639,2449242398.54,1386767,0,0,2447855631.54]
[1683,11916802642.279999,1632157,0,0,11915170485.279999]
[1684,1526534644.6700001,427265,0,0,1526107379.6700001]
[1685,1572734829.8000002,1570884,0,0,1571163945.8000002]
[1686,627257205.68000007,170908,0,0,627086297.68000007]
[1687,273184982.84000003,545259,0,0,272639723.84000003]
[1688,68420027.560000002,42725,0,0,68377302.560000002]
[1690,9526435,0,0,0,9526435]
[1691,336083725.00999999,3361526,0,0,332722199.00999999]
[1692,54786329.559999995,42725,0,0,54743604.559999995]
[1693,485207705.32999998,34186,0,0,485173519.32999998]
[1698,17635445174.939999,9259332,0,0,17626185842.939999]
[1699,5183810080.1099997,820569,0,0,5182989511.1099997]
[1700,855482885.44999993,214807,0,0,855268078.44999993]
[1701,876085790.13,836290,0,0,875249500.13]
[1702,377950810.68000001,85925,0,0,377864885.68000001]
[1703,166843496.93000001,267935,0,0,166575561.93000001]
[1704,45595914.100000001,21479,0,0,45574435.100000001]
[1706,1958956,0,0,0,1958956]
[1707,226643430.05000001,1667727,0,0,224975703.05000001]
[1708,37613606.009999998,21479,0,0,37592127.009999998]
[1709,251815893.64999998,17189,0,0,251798704.64999998]
[1714,8250719874.4499979,4656348,0,0,8246063526.4499979]
[1715,6732992562.170001,811588,0,0,6732180974.170001]
[1716,671051759.22000003,212458,0,0,670839301.22000003]
[1717,696649039.67000008,734594,0,0,695914445.67000008]
[1718,249306395,84983,0,0,249221412]
[1719,106341485.91000001,277324,0,0,106064161.91000001]
[1720,22824113.460000001,21246,0,0,22802867.460000001]
[1722,7567479,0,0,0,7567479]
[1723,109440294.95999999,1693799,0,0,107746495.95999999]
[1724,17172723.550000001,21246,0,0,17151477.550000001]
[1725,233391811.68000004,16997,0,0,233374814.68000004]
[1730,9384725301.4899998,4602984,0,0,9380122317.4899998]
[1731,5468522699.5782604,1012412,0,0,5467510287.5782604]
[1732,884735689.19574142,265029,0,0,884470660.19574142]
[1733,874727401.6945461,916365,0,0,873811036.6945461]
[1734,348079199.55578548,106012,0,0,347973187.55578548]
[1735,165094199.00204197,345987,0,0,164748212.00204197]
[1736,45604474.033277296,26503,0,0,45577971.033277296]
[1738,1491940,0,0,0,1491940]
[1739,225386866.002776,2112918,0,0,223273948.002776]
[1740,38198839.587277301,26503,0,0,38172336.587277301]
[1741,259572610.34719247,21202,0,0,259551408.34719247]
[1746,8532942065.0455084,5741962,0,0,8527200103.0455084]
[1747,12201515261.74826,1824000,0,0,12199691261.74826]
[1748,1555787448.4157414,477487,0,0,1555309961.4157414]
[1749,1571376441.3645461,1650959,0,0,1569725482.3645461]
[1750,597385594.55578566,190995,0,0,597194599.55578566]
[1751,271435684.91204202,623311,0,0,270812373.91204202]
[1752,68428587.493277282,47749,0,0,68380838.493277282]
[1754,9059419,0,0,0,9059419]
[1755,334827160.96277601,3806717,0,0,331020443.96277601]
[1756,55371563.137277298,47749,0,0,55323814.137277298]
[1757,492964422.02719253,38199,0,0,492926223.02719253]
[1762,17917667366.535511,10344946,0,0,17907322420.535511]
[1764,16924218,0,0,0,16924218]
[1765,4000000,0,0,0,4000000]
[1767,1000000,0,0,0,1000000]
[1772,21924218,0,0,0,21924218]
[1773,958017900,0,0,0,958017900]
[1774,50000,0,0,0,50000]
[1776,958067900,0,0,0,958067900]
[1778,80200000,0,0,0,80200000]
[1779,200350,0,0,0,200350]
[1781,1000000,0,0,0,1000000]
[1786,81400350,0,0,0,81400350]
[1787,1206439050,0,0,0,1206439050]
[1788,80000,0,0,0,80000]
[1790,1206519050,0,0,0,1206519050]
[1792,87024218,0,0,0,87024218]
[1793,4100000,0,0,0,4100000]
[1795,1000000,0,0,0,1000000]
[1800,92124218,0,0,0,92124218]
[1801,1558106900,0,0,0,1558106900]
[1802,50000,0,0,0,50000]
[1804,1558156900,0,0,0,1558156900]
[1806,10100000,0,0,0,10100000]
[1807,100350,0,0,0,100350]
[1809,1000000,0,0,0,1000000]
[1814,11200350,0,0,0,11200350]
[1815,606350050,0,0,0,606350050]
[1816,80000,0,0,0,80000]
[1818,606430050,0,0,0,606430050]
[1878,20972105712,33400000,0,0,20938705712]
[1879,4112600847,0,0,0,4112600847]
[1887,892197,0,0,0,892197]
[1889,158,0,0,0,158]
[1892,158,0,0,0,158]
[1894,99977,0,0,0,99977]
[1896,99977,0,0,0,99977]
[1897,792378,0,0,0,792378]
[1910,2437794,0,0,0,2437794]
[1911,465361192.52999997,34186,0,0,465327006.52999997]
[1912,1010592.1,0,0,0,1010592.1]
[1913,2509732,0,0,0,2509732]
[1916,468881516.63,34186,0,0,468847330.63]
[1918,1902417,0,0,0,1902417]
[1919,14237679,0,0,0,14237679]
[1921,465829365.52999997,34186,0,0,465795179.52999997]
[1922,5489945.1000000015,0,0,0,5489945.1000000015]
[1947,1266377224.05,815300,0,0,1265561924.05]
[1948,40341653585.32,214554508,0,0,40127099077.32]
[1949,2164509294.3800001,4604112,0,0,2159905182.3800001]
[1950,3252357949.3200002,20514670,0,0,3231843279.3200002]
[1951,978673734.38999999,0,0,0,978673734.38999999]
[1952,49188145867.650002,240488590,0,0,48947657277.650002]
[1953,15644953,0,0,0,15644953]
[1954,1440211076.3599999,90305,0,0,1440120771.3599999]
[1955,154897093.47000003,0,0,0,154897093.47000003]
[1956,204169065.22,451799,0,0,203717266.22]
[1957,76854245,0,0,0,76854245]
[1958,2982466565.9999995,542104,0,0,2981924461.9999995]
[1959,826989,0,0,0,826989]
[1960,152934606,0,0,0,152934606]
[1961,3885967,0,0,0,3885967]
[1962,89832747,0,0,0,89832747]
[1963,100908480,0,0,0,100908480]
[1964,1327949386,0,0,0,1327949386]
[1965,1281195188.05,815300,0,0,1280379888.05]
[1966,41628930055.68,214644813,0,0,41414285242.68]
[1967,2315520420.8499999,4604112,0,0,2310916308.8499999]
[1968,3366694267.54,20966469,0,0,3345727798.54]
[1969,954619499.3900001,0,0,0,954619499.3900001]
[1970,50842663047.650009,241030694,0,0,50601632353.650009]
[1972,15529091449.540001,56599140,0,0,15472492309.540001]
[1973,1005882395.1700001,3774989,0,0,1002107406.1700001]
[1974,2519478594.6199999,20366595,0,0,2499111999.6199999]
[1975,759351754.19000006,0,0,0,759351754.19000006]
[1976,19917533509.360001,80740724,0,0,19836792785.360001]
[1978,965097850.87,4292896,0,0,960804954.87]
[1979,96669103.730000004,230206,0,0,96438897.730000004]
[1980,182802621.44999999,599874,0,0,182202747.44999999]
[1981,65158203.350000001,0,0,0,65158203.350000001]
[1982,1318502879.95,5122976,0,0,1313379903.95]
[1984,63008512,0,0,0,63008512]
[1985,3904355,0,0,0,3904355]
[1986,71357899,0,0,0,71357899]
[1987,95916570,0,0,0,95916570]
[1988,235773562,0,0,0,235773562]
[1990,16431180788.409998,60892036,0,0,16370288752.409998]
[1991,1098647143.8999999,4005195,0,0,1094641948.8999999]
[1992,2630923317.0700002,20966469,0,0,2609956848.0700002]
[1993,728593387.53999996,0,0,0,728593387.53999996]
[1994,21000262827.310005,85863700,0,0,20914399127.310005]
[1995,1281195188.05,815300,0,0,1280379888.05]
[1996,25197749267.27,153752777,0,0,25043996490.27]
[1997,1216873276.95,598917,0,0,1216274359.95]
[1998,735770950.47000003,0,0,0,735770950.47000003]
[1999,226026111.84999996,0,0,0,226026111.84999996]
[2000,29842400220.34,155166994,0,0,29687233226.34]
[2020,231691953.53,0,0,0,231691953.53]
[2027,439659857.94000006,597112,0,0,439062745.94000006]
[2028,295490894,139422,0,0,295351472]
[2030,3221537,0,0,0,3221537]
[2031,93915,0,0,0,93915]
[2032,5578563,0,0,0,5578563]
[2033,93915,0,0,0,93915]
[2041,868100,0,0,0,868100]
[2044,348701908,0,0,0,348701908]
[2045,22886673,0,0,0,22886673]
[2374,245128508,2770575,0,0,242357933]
[2376,205831719,1311272,0,0,204520447]
[2414,167255841,1661592,0,0,165594249]
[2416,145891999,1921431,0,0,143970568]
[2443,1036906569,4884589,0,0,1032021980]
[2474,1239661355,1386767,0,0,1238274588]
[2490,14294675241.91,5803010,0,0,14288872231.91]
[2492,6430140893.0099993,52694565,0,0,6377446328.0099993]
[2493,2058525513.9400001,17308989,0,0,2041216524.9400001]
[2494,22796281900.859997,75806564,0,0,22720475336.859997]
[2495,14541444952.520002,42137763,0,0,14499307189.520002]
[2496,6084679643.1100006,24676692,0,0,6060002951.1100006]
[2497,156879339,717643,0,0,156161696]
[2498,740016930.94000006,736534,0,0,739280396.94000006]
[2499,34149394,0,0,0,34149394]
[2500,21557170259.57,68268632,0,0,21488901627.57]
[2501,1239111641.29,7537932,0,0,1231573709.29]
[2502,1276757,0,0,0,1276757]
[2503,1713365072.7600002,481989,0,0,1712883083.7600002]
[2505,546116589,5000000,0,0,541116589]
[2506,7855997,0,0,0,7855997]
[2507,2268453729.7600002,5481989,0,0,2262971740.7600002]
[2508,2173270922.9099998,7160645,0,0,2166110277.9099998]
[2509,1877916,0,0,0,1877916]
[2510,5672478,0,0,0,5672478]
[2511,465579,0,0,0,465579]
[2512,2181286895.9099998,7160645,0,0,2174126250.9099998]
[2513,87166833.850000009,-1678656,0,0,88845489.850000009]
[2514,1692437,0,0,0,1692437]
[2530,689509105.20000005,170908,0,0,689338197.20000005]
[2532,683785411.53999996,4404936,0,0,679380475.53999996]
[2533,1708570,0,0,0,1708570]
[2534,1375078458.74,4575844,0,0,1370502614.74]
[2535,1159582500.1999998,4845334,0,0,1154737166.1999998]
[2536,1465697,0,0,0,1465697]
[2537,15567144,0,0,0,15567144]
[2538,16375090,0,0,0,16375090]
[2539,1192990431.1999998,4845334,0,0,1188145097.1999998]
[2540,182088027.53999999,-269490,0,0,182357517.53999999]
[2541,-244177,0,0,0,-244177]
[2542,633010474.33999991,2302231,0,0,630708243.33999991]
[2543,13223355,0,0,0,13223355]
[2544,2166556,0,0,0,2166556]
[2545,648400385.33999991,2302231,0,0,646098154.33999991]
[2546,241591398.34000003,832148,0,0,240759250.34000003]
[2547,373931695.55999994,1352183,0,0,372579512.55999994]
[2548,5727988,19371,0,0,5708617]
[2551,623771613.89999998,2203702,0,0,621567911.89999998]
[2552,24628771.439999998,98529,0,0,24530242.439999998]
[2553,37324,0,0,0,37324]
[2569,1804975926.8000002,1570887,0,0,1803405039.8000002]
[2570,342932209,3193300,0,0,339738909]
[2571,2196831903.8000002,4764187,0,0,2192067716.8000002]
[2572,139983,0,0,0,139983]
[2573,2987294683,4834358,0,0,2982460325]
[2574,2987434666,4834358,0,0,2982600308]
[2575,-790602762.20000005,-70171,0,0,-790532591.20000005]
[2576,-771344,0,0,0,-771344]
[2594,183439983.61000001,8344,0,0,183431639.61000001]
[2595,55672630,0,0,0,55672630]
[2596,755447,0,0,0,755447]
[2597,239868060.61000001,8344,0,0,239859716.61000001]
[2598,1505594816.0699999,1337,0,0,1505593479.0699999]
[2599,868100,0,0,0,868100]
[2600,1506462916.0699999,1337,0,0,1506461579.0699999]
[2601,-1266594855.46,7007,0,0,-1266601862.46]
[2602,-138403,0,0,0,-138403]
[2657,72516314,618602,0,0,71897712]
[2658,16368267,119543,0,0,16248724]
[2659,4964028,8756,0,0,4955272]
[2660,1459349,22497,0,0,1436852]
[2661,65718,1310,0,0,64408]
[2662,422099,0,0,0,422099]
[2663,96006143,770708,0,0,95235435]
[2664,3507910,27805,0,0,3480105]
[2665,3507910,27805,0,0,3480105]
[2696,289340251,0,0,0,289340251]
[2697,9311959,0,0,0,9311959]
[2699,13646687,0,0,0,13646687]
[2701,3415270,0,0,0,3415270]
[2702,403684,0,0,0,403684]
[2705,47069,0,0,0,47069]
[2708,2365437,0,0,0,2365437]
[2711,3316000,0,0,0,3316000]
[2728,207967904.41,597112,0,0,207370792.41]
[2729,208274220.41,597112,0,0,207677108.41]
[2731,30974292,0,0,0,30974292]
[2733,9299700,0,0,0,9299700]
[2735,30974292,0,0,0,30974292]
[2736,314443,0,0,0,314443]
[2737,19,0,0,0,19]
[2738,55322,0,0,0,55322]
[2739,10083,0,0,0,10083]
[2740,47171,0,0,0,47171]
[2741,1450000,0,0,0,1450000]
[2744,1877916,0,0,0,1877916]
[2745,12043528,0,0,0,12043528]
[2752,1949430,0,0,0,1949430]
[2756,287290136,0,0,0,287290136]
[2758,1949430,0,0,0,1949430]
[2759,37664,0,0,0,37664]
[2760,729,0,0,0,729]
[2761,174176,0,0,0,174176]
[2762,12729286,0,0,0,12729286]
[2764,3128,0,0,0,3128]
[2766,1250000,0,0,0,1250000]
[2767,2837858,0,0,0,2837858]
[2769,2837858,0,0,0,2837858]
[2775,1465697,0,0,0,1465697]
[2776,15567144,0,0,0,15567144]
[2779,3307350,0,0,0,3307350]
[2787,3583747,0,0,0,3583747]
[2793,105042,0,0,0,105042]
[2794,3538042.54,0,0,0,3538042.54]
[2795,11717,0,0,0,11717]
[2797,10161469,0,0,0,10161469]
[2799,1106319,0,0,0,1106319]
[2801,30260289,0,0,0,30260289]
[2803,1061757475,0,0,0,1061757475]
[2819,29552046,32938,0,0,29519108]
[2824,476588747,0,0,0,476588747]
[2826,-28997,0,0,0,-28997]
[2827,2272139796.5100002,435592,0,0,2271704204.5100002]
[2831,38351905,0,0,0,38351905]
[2833,2055945,0,0,0,2055945]
[2834,252875061.57000002,103105,0,0,252771956.57000002]
[2847,16329068,21058,0,0,16308010]
[2849,17128910,21058,0,0,17107852]
[2850,97680018,0,0,0,97680018]
[2851,2157330868.5900002,414534,0,0,2156916334.5900002]
[2852,2272139796.5900002,435592,0,0,2271704204.5900002]
[2853,207332785.57000002,103105,0,0,207229680.57000002]
[2855,207332785.57000002,103105,0,0,207229680.57000002]
[2856,252870861.57000002,103105,0,0,252767756.57000002]
[2886,910,0,0,0,910]
[2888,74590518,0,0,0,74590518]
[2889,118626014.41,7574,0,0,118618440.41]
[2890,136372,0,0,0,136372]
[2891,2204583,0,0,0,2204583]
[2892,1206355,0,0,0,1206355]
[2893,11204062,589538,0,0,10614524]
[2894,19978808,0,0,0,19978808]
[2895,195518279.53,0,0,0,195518279.53]
[2896,175788,0,0,0,175788]
[2897,10350179,0,0,0,10350179]
[2898,584025,0,0,0,584025]
[2899,5084874,0,0,0,5084874]
[2912,94569326,0,0,0,94569326]
[2913,314144293.94,7574,0,0,314136719.94]
[2914,312160,0,0,0,312160]
[2915,12554762,0,0,0,12554762]
[2916,1790380,0,0,0,1790380]
[2917,16288936,589538,0,0,15699398]
[2918,870733,0,0,0,870733]
[2919,828936,0,0,0,828936]
[2920,1368312,0,0,0,1368312]
[2925,2457130,0,0,0,2457130]
[2926,948503,0,0,0,948503]
[2927,1629374,0,0,0,1629374]
[2928,5050951,0,0,0,5050951]
[2929,7449484,0,0,0,7449484]
[2931,14909,0,0,0,14909]
[2933,213942,0,0,0,213942]
[2934,930170,0,0,0,930170]
[2935,1115415,0,0,0,1115415]
[2937,17023,0,0,0,17023]
[2939,775250,0,0,0,775250]
[2946,5981121,0,0,0,5981121]
[2947,8564899,0,0,0,8564899]
[2949,31932,0,0,0,31932]
[2951,989192,0,0,0,989192]
[2994,155581382.56,3422254,0,0,152159128.56]
[2995,36357165.439999998,1083092,0,0,35274073.439999998]
[2996,21506939,533849,0,0,20973090]
[2997,47202360.100000001,144081,0,0,47058279.100000001]
[2998,5580026.2699999996,0,0,0,5580026.2699999996]
[2999,443445,0,0,0,443445]
[3001,271010638.37,5183276,0,0,265827362.37]
[3003,7566508.8600000003,133082,0,0,7433426.8600000003]
[3004,7566508.8600000003,133082,0,0,7433426.8600000003]
[3010,40766271,0,0,0,40766271]
[3011,4771805,0,0,0,4771805]
[3017,13890615,0,0,0,13890615]
[3018,444418,0,0,0,444418]
[3021,2656880773,0,0,0,2656880773]
[3022,7932465,0,0,0,7932465]
[3100,7462720,0,0,0,7462720]
[3109,7462720,0,0,0,7462720]
[3164,92668658.310000002,42725,0,0,92625933.310000002]
[3165,92668658.310000002,42725,0,0,92625933.310000002]
[3166,92668658.310000002,42725,0,0,92625933.310000002]
[3167,33869368,0,0,0,33869368]
[3168,492689946,0,0,0,492689946]
[3169,123178562,0,0,0,123178562]
[3170,391324546,0,0,0,391324546]
[3171,101365400,0,0,0,101365400]
[3172,1340477041.29,7537932,0,0,1332939109.29]
[3173,21280735,0,0,0,21280735]
[3174,418035742,0,0,0,418035742]
[3175,88363426,0,0,0,88363426]
[3176,466366300,0,0,0,466366300]
[3177,-48330558,0,0,0,-48330558]
[3178,38836275.850000001,-1678656,0,0,40514931.850000001]
[3190,14870822,0,0,0,14870822]
[3191,60153160,0,0,0,60153160]
[3192,10210782,0,0,0,10210782]
[3193,117396711,0,0,0,117396711]
[3194,-57243551,0,0,0,-57243551]
[3195,124844476.53999999,-269490,0,0,125113966.53999999]
[3197,833358,0,0,0,833358]
[3198,47510,0,0,0,47510]
[3199,47510,0,0,0,47510]
[3200,785848,0,0,0,785848]
[3201,25414619.439999998,98529,0,0,25316090.439999998]
[3212,172726040,0,0,0,172726040]
[3213,3093694288,0,0,0,3093694288]
[3214,1798259672,0,0,0,1798259672]
[3215,2085549808,0,0,0,2085549808]
[3216,1008144480,0,0,0,1008144480]
[3217,217541717.79999998,-70171,0,0,217611888.79999998]
[3234,112195370,0,0,0,112195370]
[3235,1560676727,0,0,0,1560676727]
[3236,37519303,0,0,0,37519303]
[3237,66590908,0,0,0,66590908]
[3238,1494085819,0,0,0,1494085819]
[3239,227490963.53999999,7007,0,0,227483956.53999999]
[3255,1488458,0,0,0,1488458]
[3256,323868256,0,0,0,323868256]
[3257,418001221,0,0,0,418001221]
[3258,-94132965,0,0,0,-94132965]
[3259,-1464306.6900000013,42725,0,0,-1507031.6900000013]
[3260,2256425503,371809,0,0,2256053694]
[3261,49690,0,0,0,49690]
[3262,2255010886.3099999,414534,0,0,2254596352.3099999]
[3305,1900301857.5799999,5058287,0,0,1895243570.5799999]
[3306,18549915.539999999,0,0,0,18549915.539999999]
[3307,451035594.07999998,1263178,0,0,449772416.07999998]
[3308,3943165.91,0,0,0,3943165.91]
[3309,82769563.00999999,7975,0,0,82761588.00999999]
[3310,2109903,0,0,0,2109903]
[3311,20241161.149999999,59490,0,0,20181671.149999999]
[3312,339230,0,0,0,339230]
[3313,3096769,0,0,0,3096769]
[3314,94699,0,0,0,94699]
[3315,61381968,0,0,0,61381968]
[3316,2966979,0,0,0,2966979]
[3319,2524153535.8200002,6511080,0,0,2517642455.8200002]
[3320,28028800.449999999,0,0,0,28028800.449999999]
[3326,104177180.84999999,265577,0,0,103911603.84999999]
[3327,93712044.590000004,277407,0,0,93434637.590000004]
[3328,763978,0,0,0,763978]
[3329,104177180.84999999,265577,0,0,103911603.84999999]
[3330,93712044.590000004,277407,0,0,93434637.590000004]
[3331,763978,0,0,0,763978]
[3344,12940252,0,0,0,12940252]
[3345,1116071,0,0,0,1116071]
[3347,75372,0,0,0,75372]
[3350,6379387847.3199997,43619272,0,0,6335768575.3199997]
[3353,1157395148.2,1364915,0,0,1156030233.2]
[3356,1402570813,5107342,0,0,1397463471]
[3358,694514031.44000006,1738477,0,0,692775554.44000006]
[3361,391362208.50999999,3411120,0,0,387951088.50999999]
[3364,2156084898,1386767,0,0,2154698131]
[3366,1707673210.51,402654,0,0,1707270556.51]
[3374,209422340.56999999,103105,0,0,209319235.56999999]
[3385,302610041.5,1388972,0,0,301221069.5]
[3386,178715504.63,681469,0,0,178034035.63]
[3387,123894536.86999999,707503,0,0,123187033.86999999]
[3388,185849381.29533258,882529,0,0,184966852.29533258]
[3389,309743918.16533262,1590032,0,0,308153886.16533262]
[3390,953569586,0,0,0,953569586]
[3391,1082582720.8200002,0,0,0,1082582720.8200002]
[3392,978241833,0,0,0,978241833]
[3393,1057910473.8199999,0,0,0,1057910473.8199999]
[3398,1057910473.8199999,0,0,0,1057910473.8199999]
[3421,63189,0,0,0,63189]
[3422,13644,0,0,0,13644]
[3423,277514.11,0,0,0,277514.11]
[3424,110678,0,0,0,110678]
[3425,103294,0,0,0,103294]
[3427,571622.11,0,0,0,571622.11]
[3429,1738,0,0,0,1738]
[3431,85000,0,0,0,85000]
[3432,9154948,0,0,0,9154948]
[3458,8781382,0,0,0,8781382]
[3469,895457,0,0,0,895457]
[3470,1559255,0,0,0,1559255]
[3471,10866998,0,0,0,10866998]
[3473,14441016,0,0,0,14441016]
[3485,249498742.78999999,876417,0,0,248622325.78999999]
[3487,11024911,32939,0,0,10991972]
[3489,88053333,0,0,0,88053333]
[3490,17,0,0,0,17]
[3491,348798490.78999996,909356,0,0,347889134.78999996]
[3500,-223,0,0,0,-223]
[3501,12489342,21058,0,0,12468284]
[3504,29592076,21058,0,0,29571018]
[3505,74160835,0,0,0,74160835]
[3506,245045579.59,888298,0,0,244157281.59]
[3507,348798490.59000003,909356,0,0,347889134.59000003]
[3508,58250623.359999999,42725,0,0,58207898.359999999]
[3509,500364,0,0,0,500364]
[3510,58750987.359999999,42725,0,0,58708262.359999999]
[3511,165652408.05000001,0,0,0,165652408.05000001]
[3512,238830,0,0,0,238830]
[3513,741730,0,0,0,741730]
[3514,166632968.05000001,0,0,0,166632968.05000001]
[3515,-107881980.69,42725,0,0,-107924705.69]
[3516,4557,0,0,0,4557]
[3518,98166880,0,0,0,98166880]
[3519,3675955,0,0,0,3675955]
[3521,49338,0,0,0,49338]
[3522,2623139,0,0,0,2623139]
[3523,111515424,0,0,0,111515424]
[3524,848251,0,0,0,848251]
[3525,1048505,0,0,0,1048505]
[3526,110466919,0,0,0,110466919]
[3527,2584938.3100000005,42725,0,0,2542213.3100000005]
[3528,316422681,845573,0,0,315577108]
[3529,238630,0,0,0,238630]
[3530,319246249.31,888298,0,0,318357951.31]
[3556,275252,0,0,0,275252]
[3557,788477,0,0,0,788477]
[3558,1063729,0,0,0,1063729]
[3559,22247,0,0,0,22247]
[3560,1085976,0,0,0,1085976]
[3561,1085976,0,0,0,1085976]
[3563,42747,0,0,0,42747]
[3564,131500,0,0,0,131500]
[3565,174247,0,0,0,174247]
[3567,174247,0,0,0,174247]
[3568,174247,0,0,0,174247]
[3570,17261804.780000001,0,0,0,17261804.780000001]
[3571,11634264,0,0,0,11634264]
[3572,28896068.780000001,0,0,0,28896068.780000001]
[3573,1530958,0,0,0,1530958]
[3574,30427026.780000001,0,0,0,30427026.780000001]
[3575,30427026.780000001,0,0,0,30427026.780000001]
[3577,229714,0,0,0,229714]
[3578,789274,0,0,0,789274]
[3579,1018988,0,0,0,1018988]
[3581,1018988,0,0,0,1018988]
[3582,1018988,0,0,0,1018988]
[3584,96689869.049999997,0,0,0,96689869.049999997]
[3585,35203020.219999999,0,0,0,35203020.219999999]
[3586,131892889.27,0,0,0,131892889.27]
[3588,131892889.27,0,0,0,131892889.27]
[3589,131892889.27,0,0,0,131892889.27]
[3591,550497,0,0,0,550497]
[3592,337505,0,0,0,337505]
[3593,888002,0,0,0,888002]
[3594,26902,0,0,0,26902]
[3595,914904,0,0,0,914904]
[3599,1895464,0,0,0,1895464]
[3607,115158083.83,0,0,0,115158083.83]
[3608,48914217.219999999,0,0,0,48914217.219999999]
[3609,164072301.05000001,0,0,0,164072301.05000001]
[3610,1580107,0,0,0,1580107]
[3611,165652408.05000001,0,0,0,165652408.05000001]
[3617,166632968.05000001,0,0,0,166632968.05000001]
[3620,-107881980.69,42725,0,0,-107924705.69]
[3637,52950,0,0,0,52950]
[3638,147304,0,0,0,147304]
[3641,52950,0,0,0,52950]
[3642,147304,0,0,0,147304]
[3656,716428,0,0,0,716428]
[3660,1739617,0,0,0,1739617]
[3661,2520532,0,0,0,2520532]
[3662,1739617,0,0,0,1739617]
[3663,2520532,0,0,0,2520532]
[3664,36774589.710000001,42725,0,0,36731864.710000001]
[3665,28893788.710000001,21479,0,0,28872309.710000001]
[3666,7880801,21246,0,0,7859555]
[3667,27790682.593277302,26502,0,0,27764180.593277302]
[3668,35671483.593277298,47748,0,0,35623735.593277298]
[3669,228954581.96999997,0,0,0,228954581.96999997]
[4013,102425,0,0,0,102425]
[4014,291264,0,0,0,291264]
[4015,66473,0,0,0,66473]
[4016,3210,0,0,0,3210]
[4017,1754,0,0,0,1754]
[4019,465126,0,0,0,465126]
[4020,442158,0,0,0,442158]
[4021,46296,0,0,0,46296]
[4022,2238334,0,0,0,2238334]
[4023,27086,0,0,0,27086]
[4026,2753874,0,0,0,2753874]
[4041,202,0,0,0,202]
[4042,425521815,0,0,0,425521815]
[4043,202,0,0,0,202]
[4044,19309516,0,0,0,19309516]
[4046,406212299,0,0,0,406212299]
[4048,7888082.1600000001,0,0,0,7888082.1600000001]
[4050,414100381.16000003,0,0,0,414100381.16000003]
[4052,6473039168.8000002,20808522,0,29518338,6422712308.8000002]
[4053,8409771,0,0,0,8409771]
[4055,829841,0,0,0,829841]
[4057,19598113,0,0,0,19598113]
[4061,29269321069.660004,96615086,0,29518338,29143187645.660004]
[4062,2276863500.7600002,5481989,0,0,2271381511.7600002]
[4063,2196831903.8000002,4764187,0,0,2192067716.8000002]
[4064,1375908299.74,4575844,0,0,1371332455.74]
[4065,648400385.33999991,2302231,0,0,646098154.33999991]
[4066,259466173.61000001,8344,0,0,259457829.61000001]
[4067,92668658.310000002,42725,0,0,92625933.310000002]
[4069,58750987.359999999,42725,0,0,58708262.359999999]
[4070,6473039168.8000002,20808522,0,29518338,6422712308.8000002]
[4071,8409771,0,0,0,8409771]
[4072,829841,0,0,0,829841]
[4073,19598113,0,0,0,19598113]
[4075,28030209428.369999,89077154,0,29518338,27911613936.369999]
[4076,2189696666.9099998,7160645,0,0,2182536021.9099998]
[4077,2987434666,4834358,0,0,2982600308]
[4078,1193820272.1999998,4845334,0,0,1188974938.1999998]
[4079,623771613.89999998,2203702,0,0,621567911.89999998]
[4080,1526061029.0699999,1337,0,0,1526059692.0699999]
[4083,166632968.05000001,0,0,0,166632968.05000001]
[4095,183847,0,0,0,183847]
[4096,183847,0,0,0,183847]
[4104,61745,0,0,0,61745]
[4105,61745,0,0,0,61745]
[4110,21557256289,30220000,0,0,21527036289]
[4111,19912031421,23577784,0,0,19888453637]
[4112,3256361735,3180000,0,0,3253181735]
[4116,-271088535,0,0,0,-271088535]
[4128,213723,0,0,0,213723]
[4138,1586397,0,0,0,1586397]
[4139,119567,0,0,0,119567]
[4140,261062,0,0,0,261062]
[4141,2357026,0,0,0,2357026]
[4142,2357026,0,0,0,2357026]
[4149,14776035,0,0,0,14776035]
[4150,14776035,0,0,0,14776035]
[4166,1032831,0,0,0,1032831]
[4204,2090217.5980000007,1910,0,0,2088307.5980000007]
[4205,365132.63799999992,500,0,0,364632.63799999992]
[4206,167378.72269999998,200,0,0,167178.72269999998]
[4207,2622742,2610,0,0,2620132]
[4208,11966241857,49610396,0,0,11916631461]
[4209,7677204,0,0,0,7677204]
[4237,2321860,0,0,0,2321860]
[4239,1742547,0,0,0,1742547]
[4240,154636,0,0,0,154636]
[4241,1785941,0,0,0,1785941]
[4242,489371,0,0,0,489371]
[4243,30000,0,0,0,30000]
[4244,392633,0,0,0,392633]
[4246,144854,0,0,0,144854]
[4248,273421,0,0,0,273421]
[4251,142381,0,0,0,142381]
[4255,8557,0,0,0,8557]
[4256,26234,0,0,0,26234]
[4266,219465,0,0,0,219465]
[4267,2982381,0,0,0,2982381]
[4268,61379,0,0,0,61379]
[4269,25000,0,0,0,25000]
[4270,18764922,292061,0,0,18472861]
[4271,16880299,0,0,0,16880299]
[4274,28,0,0,0,28]
[4275,531755,0,0,0,531755]
[4277,1304,0,0,0,1304]
[4279,198257,0,0,0,198257]
[4283,9672877,0,0,0,9672877]
[4290,33097,0,0,0,33097]
[4297,39535882.890000001,95345,0,0,39440537.890000001]
[4298,3802,0,0,0,3802]
[4299,86561,0,0,0,86561]
[4301,108331588.93000001,77569,0,0,108254019.93000001]
[4303,287900,0,0,0,287900]
[4304,9775,0,0,0,9775]
[4311,287900,0,0,0,287900]
[4318,2156985.77,0,0,0,2156985.77]
[4319,14427,0,0,0,14427]
[4330,150416,0,0,0,150416]
[4334,2324191.77,0,0,0,2324191.77]
[4335,14427,0,0,0,14427]
[4346,15319632,845844,0,0,14473788]
[4348,160578,0,0,0,160578]
[4349,35211,0,0,0,35211]
[4350,21063617,845844,0,0,20217773]
[4352,161882,0,0,0,161882]
[4353,35370,0,0,0,35370]
[4354,25145647,0,0,0,25145647]
[4355,48571,0,0,0,48571]
[4356,2518,0,0,0,2518]
[4357,72031016.99000001,520248,0,0,71510768.99000001]
[4360,18747,0,0,0,18747]
[4373,48923768,0,0,0,48923768]
[4376,49929.508999999976,50,0,0,49879.508999999976]
[4380,561491,0,0,0,561491]
[4382,48923768,0,0,0,48923768]
[4385,4244,0,0,0,4244]
[4386,175640,0,0,0,175640]
[4700,4862869,0,0,0,4862869]
[4731,31711636,556989,0,0,31154647]
[4732,1109824,0,0,0,1109824]
[4733,6560200,3193300,0,0,3366900]
[4734,31316,0,0,0,31316]
[4735,3471,0,0,0,3471]
[4736,15570530,0,0,0,15570530]
[4740,103241,0,0,0,103241]
[4744,19810593,0,0,0,19810593]
[4745,19692,0,0,0,19692]
[4752,5,0,0,0,5]
[4791,31127021,3787685,0,0,27339336]
[4792,175486,0,0,0,175486]
[4794,102,0,0,0,102]
[4803,19564,0,0,0,19564]
[4804,220938,0,0,0,220938]
[4813,18449707,0,0,0,18449707]
[4814,651682,0,0,0,651682]
[4821,1988407,0,0,0,1988407]
[4824,279,0,0,0,279]
[4854,2686,0,0,0,2686]
[4855,4498,0,0,0,4498]
[4857,8752,0,0,0,8752]
[4883,335625,0,0,0,335625]
[4889,9775,0,0,0,9775]
[4934,479098511861,95497393,0,0,479003014468]
[4935,46665308965.365059,13178640.233999999,0,0,46652130325.131058]
[4936,21557256289,30220000,0,0,21527036289]
[4939,25000,0,0,0,25000]
[4951,60484612,0,0,0,60484612]
[4952,213013589,0,0,0,213013589]
[4953,685225,0,0,0,685225]
[4961,130408311,0,0,0,130408311]
[4962,39896536,0,0,0,39896536]
[4963,103878579,0,0,0,103878579]
[4965,28556306.710000001,42725,0,0,28513581.710000001]
[4966,1661788,0,0,0,1661788]
[4995,122606950,0,0,0,122606950]
[5000,12252083920.279999,1632157,0,0,12250451763.279999]
[5002,480103035.32999998,34186,0,0,480068849.32999998]
[5003,202,0,0,0,202]
[5004,172919,0,0,0,172919]
[5005,12760916383.32,1709068,0,0,12759207315.32]
[5006,1347483.27,0,0,0,1347483.27]
[5007,1456414,0,0,0,1456414]
[5008,429139083.54000002,2507147,0,0,426631936.54000002]
[5009,18579713,14841,0,0,18564872]
[5010,450522693.80999994,2521988,0,0,448000705.80999994]
[5011,17250859,200848,0,0,17050011]
[5012,4092120,0,0,0,4092120]
[5013,3305114.52,0,0,0,3305114.52]
[5014,16089575,0,0,0,16089575]
[5015,416252,0,0,0,416252]
[5016,668152,0,0,0,668152]
[5017,94779,0,0,0,94779]
[5018,287538,0,0,0,287538]
[5020,4219602,20000,0,0,4199602]
[5021,25169238,0,0,0,25169238]
[5022,351167,0,0,0,351167]
[5023,3645479,0,0,0,3645479]
[5024,2360,0,0,0,2360]
[5025,615343,0,0,0,615343]
[5026,76877945.520000011,220848,0,0,76657097.520000011]
[5027,92393570.680000007,535526,0,0,91858044.680000007]
[5028,-944805,0,0,0,-944805]
[5029,91448765.680000007,535526,0,0,90913239.680000007]
[5030,2876457,0,0,0,2876457]
[5031,36610244,0,0,0,36610244]
[5032,8054753,0,0,0,8054753]
[5033,4351472.91,0,0,0,4351472.91]
[5034,14131487,103358,0,0,14028129]
[5035,202573879.63,103358,0,0,202470521.63]
[5036,20707284.780000001,18191,0,0,20689093.780000001]
[5037,3169823,73017,0,0,3096806]
[5038,69031493,0,0,0,69031493]
[5039,4895864,0,0,0,4895864]
[5040,18307977,0,0,0,18307977]
[5041,116112441.78,91208,0,0,116021233.78]
[5042,97974708.289999992,0,0,0,97974708.289999992]
[5043,928974,0,0,0,928974]
[5044,668033,0,0,0,668033]
[5045,2680360,0,0,0,2680360]
[5046,2101789,0,0,0,2101789]
[5047,70650,0,0,0,70650]
[5048,34664,0,0,0,34664]
[5049,126647,0,0,0,126647]
[5050,2472347,0,0,0,2472347]
[5051,107058172.29000001,0,0,0,107058172.29000001]
[5052,11025312,0,0,0,11025312]
[5053,23642234.25,0,0,0,23642234.25]
[5054,12034366,0,0,0,12034366]
[5055,39914463.239999995,1184,0,0,39913279.239999995]
[5056,2231649,0,0,0,2231649]
[5057,46485943,0,0,0,46485943]
[5058,199097735.38999999,619830,0,0,198477905.38999999]
[5059,489164959.88,621014,0,0,488543945.88]
[5060,14294675241.91,5803010,0,0,14288872231.91]
[5061,10335828,0,0,0,10335828]
[5062,2447361,0,0,0,2447361]
[5063,157063,0,0,0,157063]
[5064,12940252,0,0,0,12940252]
[5065,5288907211.04,44295536,0,0,5244611675.04]
[5066,2891798,0,0,0,2891798]
[5071,5312237123.04,44295536,0,0,5267941587.04]
[5072,143988242,1432902,0,0,142555340]
[5073,74146985.340000004,223842,0,0,73923143.340000004]
[5074,102700466.7,271782,0,0,102428684.7]
[5076,49465577.729999997,679016,0,0,48786561.729999997]
[5078,6507956,97470,0,0,6410486]
[5081,4501046,147075,0,0,4353971]
[5086,381583694.76999998,2852087,0,0,378731607.76999998]
[5087,1140963,0,0,0,1140963]
[5091,17250525,-3069,0,0,17253594]
[5092,161985,0,0,0,161985]
[5100,21557001,-3069,0,0,21560070]
[5102,82862094,22414,0,0,82839680]
[5103,451518,0,0,0,451518]
[5104,83313612,22414,0,0,83291198]
[5106,7232853.2000000002,57165,0,0,7175688.2000000002]
[5107,18605581,25855,0,0,18579726]
[5110,3605207,0,0,0,3605207]
[5114,296180,0,0,0,296180]
[5116,48843314,0,0,0,48843314]
[5117,49139494,0,0,0,49139494]
[5120,75580,0,0,0,75580]
[5126,12813,0,0,0,12813]
[5133,8861289,180314,0,0,8680975]
[5135,388407799,4707274,0,0,383700525]
[5138,830080,0,0,0,830080]
[5139,2669,0,0,0,2669]
[5153,1117903769.9699998,8399029,0,0,1109504740.9699998]
[5162,6430140893.0099993,52694565,0,0,6377446328.0099993]
[5163,14097406,0,0,0,14097406]
[5164,14433031,0,0,0,14433031]
[5169,48134935,0,0,0,48134935]
[5171,68048769,0,0,0,68048769]
[5172,16790,0,0,0,16790]
[5178,428075709.91000003,2410674,0,0,425665035.91000003]
[5179,1757513,0,0,0,1757513]
[5180,131833079.70999999,874343,0,0,130958736.70999999]
[5181,3705697,76492,0,0,3629205]
[5182,10003623,171862,0,0,9831761]
[5185,599323326.62,3999737,0,0,595323589.62]
[5186,620751854,6316668,0,0,614435186]
[5187,2123307,138,0,0,2123169]
[5194,424331,0,0,0,424331]
[5195,5212230,0,0,0,5212230]
[5199,640179791,6316806,0,0,633862985]
[5213,10130134.620000001,66181,0,0,10063953.620000001]
[5214,3476037,0,0,0,3476037]
[5217,349820359.12,1593126,0,0,348227233.12]
[5218,38023088,6448,0,0,38016640]
[5219,47137,0,0,0,47137]
[5225,401695012.74000001,1665755,0,0,400029257.74000001]
[5240,5748521,0,0,0,5748521]
[5243,15421398,0,0,0,15421398]
[5249,1577535,0,0,0,1577535]
[5251,1331582,0,0,0,1331582]
[5252,54013,0,0,0,54013]
[5254,1851738,0,0,0,1851738]
[5256,1650086,0,0,0,1650086]
[5259,1976043713.9400001,17308989,0,0,1958734724.9400001]
[5265,2058525513.9400001,17308989,0,0,2041216524.9400001]
[5266,22796281900.859997,75806564,0,0,22720475336.859997]
[5267,1515792124.6700001,427265,0,0,1515364859.6700001]
[5269,8189083,0,0,0,8189083]
[5270,145750,0,0,0,145750]
[5272,2296059,0,0,0,2296059]
[5273,1526423016.6700001,427265,0,0,1525995751.6700001]
[5274,224567.61,0,0,0,224567.61]
[5275,208542,0,0,0,208542]
[5276,79902948,0,0,0,79902948]
[5277,990609.7,0,0,0,990609.7]
[5278,81326667.310000002,0,0,0,81326667.310000002]
[5279,13843042.029999999,0,0,0,13843042.029999999]
[5280,-635518,0,0,0,-635518]
[5281,13207524.029999999,0,0,0,13207524.029999999]
[5282,24252,0,0,0,24252]
[5283,322758,0,0,0,322758]
[5284,2298443,0,0,0,2298443]
[5286,228932,0,0,0,228932]
[5287,2874385,0,0,0,2874385]
[5288,30579381.359999999,21388,0,0,30557993.359999999]
[5289,6114286,0,0,0,6114286]
[5290,1079759,0,0,0,1079759]
[5291,3705813,0,0,0,3705813]
[5292,876630,0,0,0,876630]
[5293,30683162.25,33336,0,0,30649826.25]
[5294,89533479.750000015,54724,0,0,89478755.750000015]
[5295,1713365072.7600002,481989,0,0,1712883083.7600002]
[5296,605000,0,0,0,605000]
[5298,511071,0,0,0,511071]
[5299,1116071,0,0,0,1116071]
[5300,543668721,5000000,0,0,538668721]
[5306,544320403,5000000,0,0,539320403]
[5330,65000,0,0,0,65000]
[5332,10000,0,0,0,10000]
[5333,75000,0,0,0,75000]
[5340,326020,0,0,0,326020]
[5351,1796186,0,0,0,1796186]
[5360,546116589,5000000,0,0,541116589]
[5361,5084707,0,0,0,5084707]
[5362,5084707,0,0,0,5084707]
[5364,19692,0,0,0,19692]
[5370,251,0,0,0,251]
[5383,251,0,0,0,251]
[5401,149613,0,0,0,149613]
[5402,6211,0,0,0,6211]
[5409,155824,0,0,0,155824]
[5440,2751598,0,0,0,2751598]
[5446,7855997,0,0,0,7855997]
[5447,2268453729.7600002,5481989,0,0,2262971740.7600002]
[5448,1569168206.8000002,1570884,0,0,1567597322.8000002]
[5451,3614308,0,0,0,3614308]
[5452,1572782514.8000002,1570884,0,0,1571211630.8000002]
[5453,230271.46,0,0,0,230271.46]
[5454,50717,0,0,0,50717]
[5455,63714897,0,0,0,63714897]
[5456,589190,0,0,0,589190]
[5457,64585075.460000001,0,0,0,64585075.460000001]
[5458,12248506.539999999,0,0,0,12248506.539999999]
[5459,814098,0,0,0,814098]
[5460,13062604.539999999,0,0,0,13062604.539999999]
[5461,1750000,0,0,0,1750000]
[5462,165796,0,0,0,165796]
[5463,766615,0,0,0,766615]
[5464,106792657,3,0,0,106792654]
[5465,154545732,3,0,0,154545729]
[5466,1804975926.8000002,1570887,0,0,1803405039.8000002]
[5467,336372009,0,0,0,336372009]
[5473,336372009,0,0,0,336372009]
[5476,6560200,3193300,0,0,3366900]
[5483,342932209,3193300,0,0,339738909]
[5491,2196831903.8000002,4764187,0,0,2192067716.8000002]
[5492,623839199.68000007,170908,0,0,623668291.68000007]
[5495,2902022,0,0,0,2902022]
[5496,626741221.68000007,170908,0,0,626570313.68000007]
[5497,87591.52,0,0,0,87591.52]
[5498,14725,0,0,0,14725]
[5499,9073520,0,0,0,9073520]
[5500,386976,0,0,0,386976]
[5501,9562812.5199999996,0,0,0,9562812.5199999996]
[5502,6794708,0,0,0,6794708]
[5503,14900627,0,0,0,14900627]
[5504,990977,0,0,0,990977]
[5505,5114422,0,0,0,5114422]
[5506,259775,0,0,0,259775]
[5507,59325,0,0,0,59325]
[5508,8000,0,0,0,8000]
[5509,52017,0,0,0,52017]
[5510,16511,0,0,0,16511]
[5511,11321,0,0,0,11321]
[5512,133200,0,0,0,133200]
[5513,4217175,0,0,0,4217175]
[5514,187716,0,0,0,187716]
[5517,15171,0,0,0,15171]
[5518,32803128,0,0,0,32803128]
[5519,7627729,0,0,0,7627729]
[5520,-317679,0,0,0,-317679]
[5521,7310050,0,0,0,7310050]
[5522,101579,0,0,0,101579]
[5523,705899,0,0,0,705899]
[5524,3196144,0,0,0,3196144]
[5525,7056536,0,0,0,7056536]
[5526,13091893,0,0,0,13091893]
[5527,689509105.20000005,170908,0,0,689338197.20000005]
[5528,45553,0,0,0,45553]
[5529,29339,0,0,0,29339]
[5530,480,0,0,0,480]
[5531,75372,0,0,0,75372]
[5532,47718521,1800000,0,0,45918521]
[5533,1574961,0,0,0,1574961]
[5538,49293761,1800000,0,0,47493761]
[5539,4038,0,0,0,4038]
[5540,5625,0,0,0,5625]
[5541,121780,0,0,0,121780]
[5543,183563,0,0,0,183563]
[5553,315006,0,0,0,315006]
[5554,276270265.91999996,1388440,0,0,274881825.91999996]
[5556,351399401.62,1216496,0,0,350182905.62]
[5557,627678224.53999996,2604936,0,0,625073288.53999996]
[5564,320,0,0,0,320]
[5566,6343913,0,0,0,6343913]
[5569,114119,0,0,0,114119]
[5583,634491650.53999996,2604936,0,0,631886714.53999996]
[5592,683785411.53999996,4404936,0,0,679380475.53999996]
[5593,200000,0,0,0,200000]
[5594,200000,0,0,0,200000]
[5603,768092,0,0,0,768092]
[5616,768092,0,0,0,768092]
[5634,55571,0,0,0,55571]
[5635,1498,0,0,0,1498]
[5642,57069,0,0,0,57069]
[5647,12534,0,0,0,12534]
[5652,1508570,0,0,0,1508570]
[5658,1708570,0,0,0,1708570]
[5659,1375078458.74,4575844,0,0,1370502614.74]
[5660,264930632.84,545259,0,0,264385373.84]
[5661,1812761,0,0,0,1812761]
[5662,307673998.5,1388972,0,0,306285026.5]
[5663,1606190,0,0,0,1606190]
[5664,576023582.33999991,1934231,0,0,574089351.33999991]
[5665,126232,0,0,0,126232]
[5666,46992,0,0,0,46992]
[5667,50437566,368000,0,0,50069566]
[5668,113249,0,0,0,113249]
[5669,50724039,368000,0,0,50356039]
[5670,5112665,0,0,0,5112665]
[5671,-296936,0,0,0,-296936]
[5672,4815729,0,0,0,4815729]
[5673,15764,0,0,0,15764]
[5674,70677,0,0,0,70677]
[5675,908622,0,0,0,908622]
[5676,1447124,0,0,0,1447124]
[5681,12636095,0,0,0,12636095]
[5687,12636095,0,0,0,12636095]
[5688,5193,0,0,0,5193]
[5691,10205,0,0,0,10205]
[5693,2031,0,0,0,2031]
[5695,2031,0,0,0,2031]
[5702,5972,0,0,0,5972]
[5704,565581,0,0,0,565581]
[5709,587260,0,0,0,587260]
[5717,13223355,0,0,0,13223355]
[5723,5,0,0,0,5]
[5729,1011938,0,0,0,1011938]
[5730,154,0,0,0,154]
[5738,159,0,0,0,159]
[5742,1012120,0,0,0,1012120]
[5756,37316,0,0,0,37316]
[5760,1012852,0,0,0,1012852]
[5761,634,0,0,0,634]
[5768,1050802,0,0,0,1050802]
[5783,24,0,0,0,24]
[5786,24,0,0,0,24]
[5802,2166551,0,0,0,2166551]
[5808,2166556,0,0,0,2166556]
[5809,648400385.33999991,2302231,0,0,646098154.33999991]
[5810,9526435,0,0,0,9526435]
[5811,37018,0,0,0,37018]
[5812,9563453,0,0,0,9563453]
[5813,1380,0,0,0,1380]
[5815,2858909,0,0,0,2858909]
[5816,2022291,0,0,0,2022291]
[5817,4882580,0,0,0,4882580]
[5818,23256979.82,8344,0,0,23248635.82]
[5819,-785625,0,0,0,-785625]
[5820,22471354.82,8344,0,0,22463010.82]
[5821,11322363.300000001,0,0,0,11322363.300000001]
[5822,657360,0,0,0,657360]
[5823,30276,0,0,0,30276]
[5824,40167058,0,0,0,40167058]
[5825,146522595.79000002,0,0,0,146522595.79000002]
[5826,36938304,0,0,0,36938304]
[5832,36938304,0,0,0,36938304]
[5838,18734326,0,0,0,18734326]
[5845,55672630,0,0,0,55672630]
[5846,184181,0,0,0,184181]
[5847,184181,0,0,0,184181]
[5853,755447,0,0,0,755447]
[5854,239868060.61000001,8344,0,0,239859716.61000001]
[5855,68447906.560000002,42725,0,0,68405181.560000002]
[5856,200731,0,0,0,200731]
[5857,68648637.560000002,42725,0,0,68605912.560000002]
[5858,15237.8,0,0,0,15237.8]
[5859,2799,0,0,0,2799]
[5860,353851,0,0,0,353851]
[5861,3344,0,0,0,3344]
[5862,375231.8,0,0,0,375231.8]
[5863,24237748.949999999,0,0,0,24237748.949999999]
[5864,-763506,0,0,0,-763506]
[5865,23474242.949999999,0,0,0,23474242.949999999]
[5866,59999,0,0,0,59999]
[5868,610,0,0,0,610]
[5869,170546,0,0,0,170546]
[5885,92668658.310000002,42725,0,0,92625933.310000002]
[5924,54994108.559999995,42725,0,0,54951383.559999995]
[5925,230168,0,0,0,230168]
[5926,55224276.559999995,42725,0,0,55181551.559999995]
[5927,15424.8,0,0,0,15424.8]
[5928,2940,0,0,0,2940]
[5929,10000,0,0,0,10000]
[5930,22591,0,0,0,22591]
[5931,50955.8,0,0,0,50955.8]
[5932,2918162,0,0,0,2918162]
[5933,-173153,0,0,0,-173153]
[5934,2745009,0,0,0,2745009]
[5936,16098,0,0,0,16098]
[5937,54407,0,0,0,54407]
[5938,230382,0,0,0,230382]
[5939,475364,0,0,0,475364]
[5945,475364,0,0,0,475364]
[5953,500364,0,0,0,500364]
[5962,58750987.359999999,42725,0,0,58708262.359999999]
[5963,633010474.33999991,2302231,0,0,630708243.33999991]
[5964,183439983.61000001,8344,0,0,183431639.61000001]
[5965,92668658.310000002,42725,0,0,92625933.310000002]
[5967,58250623.359999999,42725,0,0,58207898.359999999]
[5970,136549465.72,0,0,0,136549465.72]
[5971,2520532,0,0,0,2520532]
[5974,55542506.499999993,260837.61,0,0,55281668.889999993]
[6013,1791546.2299999981,4504.88,0,0,1787041.3499999982]
[6015,396099891,0,0,0,396099891]
[6016,6074500,0,0,0,6074500]
[6017,394497187,0,0,0,394497187]
[6018,7677204,0,0,0,7677204]
[6020,59419409,0,0,0,59419409]
[6021,32891331,0,0,0,32891331]
[6022,586973,0,0,0,586973]
[6023,3408503,0,0,0,3408503]
[6024,569641,0,0,0,569641]
[6025,615768,0,0,0,615768]
[6026,42282890,0,0,0,42282890]
[6027,308635,0,0,0,308635]
[6028,98208,0,0,0,98208]
[6029,540682293,5037299,0,0,535644994]
[6030,6168796,0,0,0,6168796]
[6031,46274563,0,0,0,46274563]
[6032,133835657,649693,0,0,133185964]
[6033,842754,0,0,0,842754]
[6034,7919945,0,0,0,7919945]
[6035,13233739,0,0,0,13233739]
[6036,26,0,0,0,26]
[6038,43408202,3988227,0,0,39419975]
[6039,4023302,0,0,0,4023302]
[6040,833494,0,0,0,833494]
[6041,4532239,0,0,0,4532239]
[6042,480959,0,0,0,480959]
[6043,3880069,0,0,0,3880069]
[6044,2838161,0,0,0,2838161]
[6045,36397,0,0,0,36397]
[6046,123279,0,0,0,123279]
[6047,3044871,0,0,0,3044871]
[6049,223,0,0,0,223]
[6052,26963999,0,0,0,26963999]
[6053,1183384,0,0,0,1183384]
[6054,9279578,553809,0,0,8725769]
[6055,2807942,0,0,0,2807942]
[6056,57075,0,0,0,57075]
[6057,150825,0,0,0,150825]
[6059,2546242,306251,0,0,2239991]
[6062,691,0,0,0,691]
[6063,321514964.94,6280958,0,0,315234006.94]
[6064,41244931,0,0,0,41244931]
[6065,16661191,0,0,0,16661191]
[6066,4530630,0,0,0,4530630]
[6067,25468142,0,0,0,25468142]
[6068,5349622,0,0,0,5349622]
[6069,14605891,0,0,0,14605891]
[6070,35295475,0,0,0,35295475]
[6071,2056950,0,0,0,2056950]
[6072,6940274,0,0,0,6940274]
[6073,1005135,0,0,0,1005135]
[6075,795076,0,0,0,795076]
[6076,51743,0,0,0,51743]
[6077,8973820,0,0,0,8973820]
[6078,2603,0,0,0,2603]
[6081,718625141,1048940,0,0,717576201]
[6082,84055034,172439,0,0,83882595]
[6083,4361003,0,0,0,4361003]
[6084,25516415,124403,0,0,25392012]
[6085,2602943,0,0,0,2602943]
[6086,126351350,0,0,0,126351350]
[6087,797239,0,0,0,797239]
[6088,5300146,13360,0,0,5286786]
[6089,14911041,0,0,0,14911041]
[6090,17909637,0,0,0,17909637]
[6091,5886022,0,0,0,5886022]
[6092,1250,0,0,0,1250]
[6093,937785,0,0,0,937785]
[6094,196148,0,0,0,196148]
[6095,14975533,0,0,0,14975533]
[6097,19510,0,0,0,19510]
[6098,120250,0,0,0,120250]
[6099,13787050,0,0,0,13787050]
[6100,2183,0,0,0,2183]
[6101,64839,0,0,0,64839]
[6102,3114575,0,0,0,3114575]
[6104,4826350,0,0,0,4826350]
[6108,627450119,3790323,0,0,623659796]
[6109,3190783,0,0,0,3190783]
[6111,2368811,0,0,0,2368811]
[6112,6132972,0,0,0,6132972]
[6113,17008,0,0,0,17008]
[6115,692857,0,0,0,692857]
[6116,14716,0,0,0,14716]
[6119,34076,0,0,0,34076]
[6120,57898759,1678839,0,0,56219920]
[6121,48216156,0,0,0,48216156]
[6122,1500000,0,0,0,1500000]
[6130,99240823,1692199,0,0,97548624]
[6153,75903320,4588759,0,0,71314561]
[6154,146370821.78,0,0,0,146370821.78]
[6155,321514964.77999997,6280958,0,0,315234006.77999997]
[6156,197077214.94,3348765,0,0,193728449.94]
[6157,56347587,0,0,0,56347587]
[6158,65198172,2625942,0,0,62572230]
[6159,344492569.02999991,3361526,0,0,341131043.02999991]
[6160,5513371,0,0,0,5513371]
[6162,350005940.02999991,3361526,0,0,346644414.02999991]
[6163,7417186,0,0,0,7417186]
[6164,357423126.02999991,3361526,0,0,354061600.02999991]
[6165,31029,0,0,0,31029]
[6166,366851717.16999996,3353519,0,0,363498198.16999996]
[6167,7417186,0,0,0,7417186]
[6168,374268903.16999996,3353519,0,0,370915384.16999996]
[6169,-16845777.140000001,8007,0,0,-16853784.140000001]
[6171,7793,0,0,0,7793]
[6172,1000197,0,0,0,1000197]
[6176,17908,0,0,0,17908]
[6177,1892798,0,0,0,1892798]
[6178,2866909,0,0,0,2866909]
[6179,11537228,0,0,0,11537228]
[6180,3153335,0,0,0,3153335]
[6181,3470287,0,0,0,3470287]
[6182,1140727,0,0,0,1140727]
[6183,398105,0,0,0,398105]
[6184,670231,0,0,0,670231]
[6185,2231032,0,0,0,2231032]
[6186,3207546,0,0,0,3207546]
[6187,1048241,0,0,0,1048241]
[6188,4850284,0,0,0,4850284]
[6190,500000,0,0,0,500000]
[6191,687190,0,0,0,687190]
[6192,14127,0,0,0,14127]
[6198,46412640,0,0,0,46412640]
[6199,2602928,0,0,0,2602928]
[6200,5469837,0,0,0,5469837]
[6201,-3577039,0,0,0,-3577039]
[6202,-20422816.140000001,8007,0,0,-20430823.140000001]
[6203,242093776,4580752,0,0,237513024]
[6204,603182,0,0,0,603182]
[6205,222274141.86000001,4588759,0,0,217685382.86000001]
[6206,1341753798.29,7537932,0,0,1334215866.29]
[6207,40528712.850000001,-1678656,0,0,42207368.850000001]
[6208,216770373.79999998,-70171,0,0,216840544.79999998]
[6209,124600299.53999999,-269490,0,0,124869789.53999999]
[6210,25451943.439999998,98529,0,0,25353414.439999998]
[6211,227352560.53999999,7007,0,0,227345553.53999999]
[6212,-1414616.6900000013,42725,0,0,-1457341.6900000013]
[6213,-19819634.140000001,8007,0,0,-19827641.140000001]
[6214,2823568.3100000005,42725,0,0,2780843.3100000005]
[6215,172.98246073629457,0.16307752257869601,0,0,172.81938321371587]
[6216,-8587304094.0978708,-1.2801737549493899,0,0,-8587304092.8176975]
[6217,-128809632907.81458,-1.0564395978691399E-2,0,0,-128809632907.80402]
[6218,-6440478646.0384264,-0.16218782950327201,0,0,-6440478645.8762388]
[6219,-6440479191.7716751,2.4869787558417299E-2,0,0,-6440479191.796545]
[6220,-543147063037.39252,5.0527594037066102E-3,0,0,-543147063037.39758]
[6221,-85873051392.494553,0.10306754090134899,0,0,-85873051392.597626]
[6222,-270500111588.50998,1.7449162180885899E-3,0,0,-270500111588.51172]
[6223,-311289818702.44122,4.8097597878189499E-2,0,0,-311289818702.48932]
[6224,63657582,0,0,0,63657582]
[6225,4073256,0,0,0,4073256]
[6226,37253089,0,0,0,37253089]
[6227,16133922,0,0,0,16133922]
[6228,350706755,0,0,0,350706755]
[6229,2228850,0,0,0,2228850]
[6231,377894,0,0,0,377894]
[6236,182272,0,0,0,182272]
[6237,336663561.00999999,3361526,0,0,333302035.00999999]
[6239,415238,0,0,0,415238]
[6240,337078799.00999999,3361526,0,0,333717273.00999999]
[6241,117082.29,0,0,0,117082.29]
[6242,19439,0,0,0,19439]
[6243,1617577,0,0,0,1617577]
[6244,35743,0,0,0,35743]
[6245,1789841.29,0,0,0,1789841.29]
[6246,444886,0,0,0,444886]
[6249,50790,0,0,0,50790]
[6250,174691,0,0,0,174691]
[6251,42183,0,0,0,42183]
[6255,2106532,0,0,0,2106532]
[6256,-124706,0,0,0,-124706]
[6257,1981826,0,0,0,1981826]
[6258,2802,0,0,0,2802]
[6259,1407073,0,0,0,1407073]
[6260,2740217.14,0,0,0,2740217.14]
[6261,520000,0,0,0,520000]
[6262,7087,0,0,0,7087]
[6264,7744323,0,0,0,7744323]
[6268,1677598,0,0,0,1677598]
[6269,138774696,0,0,0,138774696]
[6270,8329878,0,0,0,8329878]
[6271,2645511,0,0,0,2645511]
[6272,180208,0,0,0,180208]
[6273,184603,0,0,0,184603]
[6274,9933371,0,0,0,9933371]
[6275,109937,0,0,0,109937]
[6276,128260,0,0,0,128260]
[6277,124975,0,0,0,124975]
[6278,7456717,0,0,0,7456717]
[6279,2231902,0,0,0,2231902]
[6280,2676962,0,0,0,2676962]
[6281,173305,0,0,0,173305]
[6284,104244,0,0,0,104244]
[6288,234735,0,0,0,234735]
[6289,1833003.7300000002,0,0,0,1833003.7300000002]
[6290,3642102.73,0,0,0,3642102.73]
[6291,344492569.02999991,3361526,0,0,341131043.02999991]
[6292,5512259,0,0,0,5512259]
[6296,5512259,0,0,0,5512259]
[6297,4923,0,0,0,4923]
[6298,1836317,0,0,0,1836317]
[6300,89,0,0,0,89]
[6301,46798,0,0,0,46798]
[6304,87582,0,0,0,87582]
[6321,1681,0,0,0,1681]
[6327,151432,0,0,0,151432]
[6334,1112,0,0,0,1112]
[6335,1112,0,0,0,1112]
[6336,5513371,0,0,0,5513371]
[6340,188604,0,0,0,188604]
[6353,1414796,0,0,0,1414796]
[6605,14557,0,0,0,14557]
[6651,1162753,0,0,0,1162753]
[6652,193446,0,0,0,193446]
[6653,1380914,0,0,0,1380914]
[6660,2204118,0,0,0,2204118]
[6661,11321650,0,0,0,11321650]
[6666,185326188.94,2038077,0,0,183288111.94]
[6670,1770463,0,0,0,1770463]
[6676,342813,0,0,0,342813]
[6678,34162841,0,0,0,34162841]
[6681,340553,0,0,0,340553]
[6772,1520123,0,0,0,1520123]
[6773,2397564,0,0,0,2397564]
[6774,48635868,0,0,0,48635868]
[6777,340553,0,0,0,340553]
[6780,9684,0,0,0,9684]
[6783,32710308,0,0,0,32710308]
[6784,17245642,99884,0,0,17145758]
[6785,2644749,0,0,0,2644749]
[6786,260368,0,0,0,260368]
[6787,262259824.94,2781763,0,0,259478061.94]
[6788,1900230,0,0,0,1900230]
[6789,3426393,122150,0,0,3304243]
[6790,40774,0,0,0,40774]
[6791,51187,0,0,0,51187]
[6792,102867175.37,184281,0,0,102682894.37]
[6793,4327555,0,0,0,4327555]
[6794,11765,0,0,0,11765]
[6795,4530,0,0,0,4530]
[6797,13787086,0,0,0,13787086]
[6798,9639,0,0,0,9639]
[6799,6038,0,0,0,6038]
[6800,3807079,0,0,0,3807079]
[6801,135316,0,0,0,135316]
[6802,1626475,0,0,0,1626475]
[6803,40484,0,0,0,40484]
[6806,5564,0,0,0,5564]
[6807,6811,0,0,0,6811]
[6808,456,0,0,0,456]
[6809,6031,0,0,0,6031]
[6810,47262930.890000001,180647,0,0,47082283.890000001]
[6811,65477,0,0,0,65477]
[6812,397695,0,0,0,397695]
[6813,7516,0,0,0,7516]
[6814,17392,0,0,0,17392]
[6815,5189,0,0,0,5189]
[6816,5189,0,0,0,5189]
[6817,9363481,0,0,0,9363481]
[6818,9363481,0,0,0,9363481]
[6819,282740286,5078303,0,0,277661983]
[6820,282740286,5078303,0,0,277661983]
[6821,1743072,0,0,0,1743072]
[6822,1743072,0,0,0,1743072]
[6823,255270,0,0,0,255270]
[6824,255270,0,0,0,255270]
[6827,37515,0,0,0,37515]
[6828,37515,0,0,0,37515]
[6829,1474533,0,0,0,1474533]
[6830,1474533,0,0,0,1474533]
[6833,978527,0,0,0,978527]
[6834,978527,0,0,0,978527]
[6835,18386,0,0,0,18386]
[6836,18386,0,0,0,18386]
[6839,1128041,0,0,0,1128041]
[6840,1128041,0,0,0,1128041]
[6841,47150352,0,0,0,47150352]
[6842,21605122,222034,0,0,21383088]
[6843,126742,0,0,0,126742]
[6844,406199,60042,0,0,346157]
[6845,67976,0,0,0,67976]
[6846,713674,0,0,0,713674]
[6847,227017,0,0,0,227017]
[6848,177306,0,0,0,177306]
[6849,24108,0,0,0,24108]
[6850,252029,62271,0,0,189758]
[6851,70112,0,0,0,70112]
[6852,252621,0,0,0,252621]
[6853,125688,0,0,0,125688]
[6854,110171,0,0,0,110171]
[6855,641643,0,0,0,641643]
[6856,1912000,122313,0,0,1789687]
[6857,5960829,0,0,0,5960829]
[6858,654563,40208,0,0,614355]
[6859,12420830,0,0,0,12420830]
[6860,239002,40208,0,0,198794]
[6861,327713,0,0,0,327713]
[6862,9163,0,0,0,9163]
[6863,18709372,0,0,0,18709372]
[6864,902728,80416,0,0,822312]
[6865,88893,0,0,0,88893]
[6866,972783,0,0,0,972783]
[6867,203409,0,0,0,203409]
[6868,88106,0,0,0,88106]
[6869,154295,0,0,0,154295]
[6870,56073,0,0,0,56073]
[6871,1485285,0,0,0,1485285]
[6872,2285643,0,0,0,2285643]
[6873,15800745,0,0,0,15800745]
[6874,5058,0,0,0,5058]
[6875,3344,0,0,0,3344]
[6876,1271799,71979,0,0,1199820]
[6879,20851874,71979,0,0,20779895]
[6880,20515454,0,0,0,20515454]
[6881,446597,0,0,0,446597]
[6882,1116962,0,0,0,1116962]
[6883,1932663,0,0,0,1932663]
[6884,1749864,0,0,0,1749864]
[6885,1144,0,0,0,1144]
[6886,3083,0,0,0,3083]
[6887,1933807,0,0,0,1933807]
[6888,1752947,0,0,0,1752947]
[6889,61999,0,0,0,61999]
[6890,60080,0,0,0,60080]
[6891,123161,0,0,0,123161]
[6892,324463,0,0,0,324463]
[6893,1175763,0,0,0,1175763]
[6894,155124,0,0,0,155124]
[6895,2366,0,0,0,2366]
[6896,142398,0,0,0,142398]
[6897,1669912,0,0,0,1669912]
[6898,548483,0,0,0,548483]
[6899,46799,13368,0,0,33431]
[6900,3081270,0,0,0,3081270]
[6901,1277347,13368,0,0,1263979]
[6902,212058,0,0,0,212058]
[6903,15597,0,0,0,15597]
[6904,4228,0,0,0,4228]
[6905,28985,0,0,0,28985]
[6906,2756747,0,0,0,2756747]
[6907,26459,0,0,0,26459]
[6908,35541,0,0,0,35541]
[6909,2443393,0,0,0,2443393]
[6910,18777255,0,0,0,18777255]
[6911,74527,0,0,0,74527]
[6912,21785829,0,0,0,21785829]
[6913,2588961,0,0,0,2588961]
[6914,299136,0,0,0,299136]
[6915,351026,0,0,0,351026]
[6916,46897654,0,0,0,46897654]
[6917,9901971,216097,0,0,9685874]
[6918,1298134,0,0,0,1298134]
[6919,43304,0,0,0,43304]
[6920,7805979,0,0,0,7805979]
[6921,7805979,0,0,0,7805979]
[6922,269359188,0,0,0,269359188]
[6923,269359188,0,0,0,269359188]
[6924,205900,0,0,0,205900]
[6925,205900,0,0,0,205900]
[6926,14638511,0,0,0,14638511]
[6927,14638511,0,0,0,14638511]
[6928,456405,139422,0,0,316983]
[6929,456405,139422,0,0,316983]
[6930,1306529,0,0,0,1306529]
[6931,1306529,0,0,0,1306529]
[6932,1718382,0,0,0,1718382]
[6933,1718382,0,0,0,1718382]
[6934,295490894,139422,0,0,295351472]
[6935,525020,0,0,0,525020]
[6936,525020,0,0,0,525020]
[6937,2029848,0,0,0,2029848]
[6938,2029848,0,0,0,2029848]
[6941,700020,0,0,0,700020]
[6942,700020,0,0,0,700020]
[6943,61960,0,0,0,61960]
[6944,61960,0,0,0,61960]
[6945,15369,0,0,0,15369]
[6946,15369,0,0,0,15369]
[6947,305406,0,0,0,305406]
[6948,1085771,0,0,0,1085771]
[6949,1391177,0,0,0,1391177]
[6950,305406,0,0,0,305406]
[6951,4417988,0,0,0,4417988]
[6952,4723394,0,0,0,4723394]
[6953,141875,0,0,0,141875]
[6954,142785,0,0,0,142785]
[6955,1754742,0,0,0,1754742]
[6956,1754742,0,0,0,1754742]
[6957,34149394,0,0,0,34149394]
[6958,34149394,0,0,0,34149394]
[6959,95346140,0,0,0,95346140]
[6960,31550397,438131,0,0,31112266]
[6964,6031,0,0,0,6031]
[6965,1330499,0,0,0,1330499]
[6966,2098,0,0,0,2098]
[6967,8445942,0,0,0,8445942]
[6968,611683,2110,0,0,609573]
[6969,3303,0,0,0,3303]
[6971,81391,0,0,0,81391]
[6972,9861135,0,0,0,9861135]
[6973,619812,2110,0,0,617702]
[6974,19390,0,0,0,19390]
[6976,9880525,0,0,0,9880525]
[6977,619812,2110,0,0,617702]
[6978,878,0,0,0,878]
[6981,366322852.16999996,3353519,0,0,362969333.16999996]
[6983,2747391,0,0,0,2747391]
[6984,6425679,0,0,0,6425679]
[6985,182652,0,0,0,182652]
[6986,94504,0,0,0,94504]
[6987,94504,0,0,0,94504]
[6988,371075,0,0,0,371075]
[6989,371075,0,0,0,371075]
[6990,9881403,0,0,0,9881403]
[6991,619812,2110,0,0,617702]
[6994,350005940.02999991,3361526,0,0,346644414.02999991]
[6998,1504327,0,0,0,1504327]
[6999,44425,0,0,0,44425]
[7002,1504327,0,0,0,1504327]
[7003,44425,0,0,0,44425]
[7006,1098343,0,0,0,1098343]
[7007,1098343,0,0,0,1098343]
[7008,316865,0,0,0,316865]
[7009,316865,0,0,0,316865]
[7010,1504327,0,0,0,1504327]
[7011,44425,0,0,0,44425]
[7012,4790197.09,119040,0,0,4671157.09]
[7013,4790197.09,119040,0,0,4671157.09]
[7014,3599655,2324,0,0,3597331]
[7015,3599655,2324,0,0,3597331]
[7016,600478,0,0,0,600478]
[7017,600478,0,0,0,600478]
[7018,516647,2557,0,0,514090]
[7019,516647,2557,0,0,514090]
[7020,84192,0,0,0,84192]
[7021,84192,0,0,0,84192]
[7022,6009,0,0,0,6009]
[7023,6009,0,0,0,6009]
[7028,606313,0,0,0,606313]
[7029,606313,0,0,0,606313]
[7030,47458,0,0,0,47458]
[7031,47458,0,0,0,47458]
[7032,4088851.19,114772,0,0,3974079.19]
[7033,4088851.19,114772,0,0,3974079.19]
[7036,79135,0,0,0,79135]
[7037,79135,0,0,0,79135]
[7038,27164243,0,0,0,27164243]
[7039,6516,0,0,0,6516]
[7042,27164243,0,0,0,27164243]
[7043,6516,0,0,0,6516]
[7045,151672,0,0,0,151672]
[7046,151672,0,0,0,151672]
[7052,716428,0,0,0,716428]
[7054,868100,0,0,0,868100]
[7055,27164243,0,0,0,27164243]
[7056,6516,0,0,0,6516]
[7057,238588,0,0,0,238588]
[7059,670532,0,0,0,670532]
[7060,37396,0,0,0,37396]
[7062,58265,0,0,0,58265]
[7065,1004781,0,0,0,1004781]
[7066,121440,0,0,0,121440]
[7067,1941905,0,0,0,1941905]
[7068,64991014,1213333,0,0,63777681]
[7069,74545,0,0,0,74545]
[7070,2588,0,0,0,2588]
[7071,638403,399523,0,0,238880]
[7073,74,0,0,0,74]
[7074,67769969,1612856,0,0,66157113]
[7075,15497,0,0,0,15497]
[7076,279931,0,0,0,279931]
[7077,4245504.7200000007,230310,0,0,4015194.7200000007]
[7080,56501,0,0,0,56501]
[7083,4597433.7200000007,230310,0,0,4367123.7200000007]
[7084,69702,0,0,0,69702]
[7085,291996,0,0,0,291996]
[7086,51584854,132048,0,0,51452806]
[7087,238689,0,0,0,238689]
[7088,25314,0,0,0,25314]
[7089,326947,0,0,0,326947]
[7092,52537502,132048,0,0,52405454]
[7093,16602104,0,0,0,16602104]
[7094,1210991,0,0,0,1210991]
[7095,12175220,10000,0,0,12165220]
[7096,160120,0,0,0,160120]
[7097,1741072,0,0,0,1741072]
[7098,218148,0,0,0,218148]
[7099,71537,0,0,0,71537]
[7101,32179192,10000,0,0,32169192]
[7102,55764,0,0,0,55764]
[7103,41629,0,0,0,41629]
[7104,832826,0,0,0,832826]
[7107,826885,4483,0,0,822402]
[7110,1757104,4483,0,0,1752621]
[7111,122117538.06,963254,0,0,121154284.06]
[7112,24799266.579999998,231924,0,0,24567342.579999998]
[7113,28411568.189999998,26932,0,0,28384636.189999998]
[7114,599296.37,0,0,0,599296.37]
[7115,1987937,0,0,0,1987937]
[7116,675684,0,0,0,675684]
[7117,242830,0,0,0,242830]
[7118,377416,0,0,0,377416]
[7119,179211536.19999999,1222110,0,0,177989426.19999999]
[7122,23134,0,0,0,23134]
[7128,23134,0,0,0,23134]
[7129,204679,0,0,0,204679]
[7130,64896,0,0,0,64896]
[7131,11236321.25,141712,0,0,11094609.25]
[7132,43294,0,0,0,43294]
[7133,27126,0,0,0,27126]
[7134,123154,0,0,0,123154]
[7137,11699470.25,141712,0,0,11557758.25]
[7138,139447712.06,963254,0,0,138484458.06]
[7139,28630614.579999998,231924,0,0,28398690.579999998]
[7140,189629246.16,1754335,0,0,187874911.16]
[7141,1161692.3700000001,0,0,0,1161692.3700000001]
[7142,3837743,0,0,0,3837743]
[7143,2923987,404006,0,0,2519981]
[7144,314367,0,0,0,314367]
[7145,377490,0,0,0,377490]
[7146,366322852.16999996,3353519,0,0,362969333.16999996]
[7147,30962,0,0,0,30962]
[7148,30962,0,0,0,30962]
[7151,67,0,0,0,67]
[7152,67,0,0,0,67]
[7153,31029,0,0,0,31029]
[7154,31029,0,0,0,31029]
[7155,139447712.06,963254,0,0,138484458.06]
[7156,28630614.579999998,231924,0,0,28398690.579999998]
[7157,189629246.16,1754335,0,0,187874911.16]
[7158,1161692.3700000001,0,0,0,1161692.3700000001]
[7159,3837743,0,0,0,3837743]
[7160,3452852,404006,0,0,3048846]
[7161,314367,0,0,0,314367]
[7162,377490,0,0,0,377490]
[7163,366851717.16999996,3353519,0,0,363498198.16999996]
[7164,-16845777.140000001,8007,0,0,-16853784.140000001]
[7165,108200,0,0,0,108200]
[7167,30177,0,0,0,30177]
[7169,138377,0,0,0,138377]
[7173,138377,0,0,0,138377]
[7175,238830,0,0,0,238830]
[7176,238830,0,0,0,238830]
[7179,180239,0,0,0,180239]
[7180,180239,0,0,0,180239]
[7181,741730,0,0,0,741730]
[7182,741730,0,0,0,741730]
[7183,138377,0,0,0,138377]
[7185,53824927,449309,0,0,53375618]
[7186,9331071,114915,0,0,9216156]
[7187,9459239,64358,0,0,9394881]
[7188,1222808,115104,0,0,1107704]
[7189,190474,0,0,0,190474]
[7190,80316493.819999993,160832,0,0,80155661.819999993]
[7191,19999526.550000001,23449,0,0,19976077.550000001]
[7192,984117,0,0,0,984117]
[7193,1349138,0,0,0,1349138]
[7194,41129,0,0,0,41129]
[7195,84810,0,0,0,84810]
[7196,10428749,0,0,0,10428749]
[7197,2182358,0,0,0,2182358]
[7198,254676,0,0,0,254676]
[7199,693133,0,0,0,693133]
[7200,215730,0,0,0,215730]
[7201,7910,0,0,0,7910]
[7202,37800919.710000001,156778,0,0,37644141.710000001]
[7203,6060777.1799999997,23025,0,0,6037752.1799999997]
[7204,1441464,844,0,0,1440620]
[7205,816405,0,0,0,816405]
[7206,1050329,0,0,0,1050329]
[7207,86549,0,0,0,86549]
[7530,1414796,0,0,0,1414796]
[7531,2380,0,0,0,2380]
[7532,1190,0,0,0,1190]
[7534,3570,0,0,0,3570]
[7535,1411226,0,0,0,1411226]
[7536,28925765,0,0,0,28925765]
[7537,289617,0,0,0,289617]
[7538,11295,0,0,0,11295]
[7539,29204087,0,0,0,29204087]
[7540,9374779,0,0,0,9374779]
[7541,545442,0,0,0,545442]
[7542,11295,0,0,0,11295]
[7543,9908926,0,0,0,9908926]
[7544,19295161,0,0,0,19295161]
[7545,154248989.25999999,0,0,0,154248989.25999999]
[7546,2441057.44,0,0,0,2441057.44]
[7548,156690046.69999999,0,0,0,156690046.69999999]
[7549,54060313.890000001,0,0,0,54060313.890000001]
[7550,4377901.55,0,0,0,4377901.55]
[7552,58438215.439999998,0,0,0,58438215.439999998]
[7553,98251831.25999999,0,0,0,98251831.25999999]
[7554,46414943.93,0,0,0,46414943.93]
[7555,5376737.6899999995,0,0,0,5376737.6899999995]
[7556,1307469,0,0,0,1307469]
[7557,50484212.620000005,0,0,0,50484212.620000005]
[7558,40291842.950000003,0,0,0,40291842.950000003]
[7559,3850567,0,0,0,3850567]
[7560,1574931,0,0,0,1574931]
[7561,42567478.950000003,0,0,0,42567478.950000003]
[7562,7916733.6699999999,0,0,0,7916733.6699999999]
[7563,134348857,0,0,0,134348857]
[7564,13434885.699999996,0,0,0,13434885.699999996]
[7570,1331937765.6500001,5122976,0,0,1326814789.6500001]
[7575,32723,0,0,0,32723]
[7576,1539978,0,0,0,1539978]
[7577,439,0,0,0,439]
[7578,34902,0,0,0,34902]
[7590,286379,0,0,0,286379]
[7593,8911150,0,0,0,8911150]
[7594,1784421,0,0,0,1784421]
[7595,17000,0,0,0,17000]
[7596,17136081,0,0,0,17136081]
[7597,3531133,0,0,0,3531133]
[7598,13830568,0,0,0,13830568]
[7599,90923,0,0,0,90923]
[7602,353175,0,0,0,353175]
[7603,48687,0,0,0,48687]
[7605,521244,0,0,0,521244]
[7606,813112,0,0,0,813112]
[7607,37052,0,0,0,37052]
[7608,795000,0,0,0,795000]
[7609,410400,0,0,0,410400]
[7610,1664755,0,0,0,1664755]
[7611,3075016,0,0,0,3075016]
[7612,14103898,0,0,0,14103898]
[7613,11765442,0,0,0,11765442]
[7614,903175,0,0,0,903175]
[7616,288908,0,0,0,288908]
[7617,2148844,0,0,0,2148844]
[7618,2143075,0,0,0,2143075]
[7619,4751395,0,0,0,4751395]
[7620,40433,0,0,0,40433]
[7621,40311,0,0,0,40311]
[7622,175000,0,0,0,175000]
[7623,36348180,0,0,0,36348180]
[7624,64380359,0,0,0,64380359]
[7625,249222472,0,0,0,249222472]
[7626,4994178,174305,0,0,4819873]
[7629,14200740,0,0,0,14200740]
[7630,95,0,0,0,95]
[7631,53706,0,0,0,53706]
[7635,14254541,0,0,0,14254541]
[7636,22400,0,0,0,22400]
[7638,1257532,0,0,0,1257532]
[7639,8257,0,0,0,8257]
[7644,1288189,0,0,0,1288189]
[7645,181415,0,0,0,181415]
[7646,48069,0,0,0,48069]
[7647,51885609,0,0,0,51885609]
[7648,3517061,0,0,0,3517061]
[7649,2663537.23,0,0,0,2663537.23]
[7650,97435.09,0,0,0,97435.09]
[7651,7306904.46,0,0,0,7306904.46]
[7652,92268617.579999998,0,0,0,92268617.579999998]
[7653,16457373.93,25855,0,0,16431518.93]
[7654,3103613,0,0,0,3103613]
[7655,419190,0,0,0,419190]
[7656,14575787,0,0,0,14575787]
[7657,112611554.81,0,0,0,112611554.81]
[7658,24280903.48,25855,0,0,24255048.48]
[7659,449689269.52999997,34186,0,0,449655083.52999997]
[7660,20956661.91,25855,0,0,20930806.91]
[7661,51379545.140000001,0,0,0,51379545.140000001]
[7662,114416,0,0,0,114416]
[7663,17078070.77,0,0,0,17078070.77]
[7664,24612084,0,0,0,24612084]
[7665,24085,0,0,0,24085]
[7666,41714239.769999996,0,0,0,41714239.769999996]
[7667,35306169,0,0,0,35306169]
[7668,431118,0,0,0,431118]
[7669,94314060.909999996,0,0,0,94314060.909999996]
[7670,75023622.49000001,0,0,0,75023622.49000001]
[7671,70183102.900000006,0,0,0,70183102.900000006]
[7672,6295768.5700000003,0,0,0,6295768.5700000003]
[7673,331748,0,0,0,331748]
[7674,360408,0,0,0,360408]
[7676,27022763,0,0,0,27022763]
[7677,252151,0,0,0,252151]
[7678,460630,0,0,0,460630]
[7679,5129537.1000000015,0,0,0,5129537.1000000015]
[7681,43160339.900000006,0,0,0,43160339.900000006]
[7682,6043617.5700000003,0,0,0,6043617.5700000003]
[7684,561491,0,0,0,561491]
[7685,561491,0,0,0,561491]
[7686,48635868,0,0,0,48635868]
[7687,67070538,0,0,0,67070538]
[7688,146451090,0,0,0,146451090]
[7689,12249576,0,0,0,12249576]
[7690,21978696,0,0,0,21978696]
[7691,701289,0,0,0,701289]
[7692,72653795,0,0,0,72653795]
[7693,866900,0,0,0,866900]
[7694,6995555,0,0,0,6995555]
[7695,14028967.1,0,0,0,14028967.1]
[7697,87060037.129999995,991794,0,0,86068243.129999995]
[7698,55532953.009999998,0,0,0,55532953.009999998]
[7699,142592990.13999999,991794,0,0,141601196.13999999]
[7700,54797,0,0,0,54797]
[7701,704161333,1428188,0,0,702733145]
[7702,704161333,1428188,0,0,702733145]
[7704,11601939,0,0,0,11601939]
[7707,198119,0,0,0,198119]
[7708,27406,0,0,0,27406]
[7712,1220276,0,0,0,1220276]
[7713,390000,0,0,0,390000]
[7714,153556,0,0,0,153556]
[7715,543556,0,0,0,543556]
[7716,6559,0,0,0,6559]
[7717,6559,0,0,0,6559]
[7718,95572,0,0,0,95572]
[7719,95572,0,0,0,95572]
[7720,37852,0,0,0,37852]
[7721,37852,0,0,0,37852]
[7722,719170,0,0,0,719170]
[7723,719170,0,0,0,719170]
[7724,203421,0,0,0,203421]
[7725,203421,0,0,0,203421]
[7726,294415,0,0,0,294415]
[7727,294415,0,0,0,294415]
[7728,497836,0,0,0,497836]
[7729,497836,0,0,0,497836]
[7735,497836,0,0,0,497836]

{"sheet":"Data pull 5-1-19","index":22,"n_rows":2405,"n_cols":2,"rows_kept":2405,"cut":false,"hidden":true,"merged":[]}
["txtFieldNum","2018"]
[4,4449380884]
[11,10965222]
[12,2085627941]
[15,8487467]
[16,13604323264.32]
[25,113203890]
[27,4516526967]
[30,6103904165]
[31,7255290591.5900002]
[32,13604323264.589998]
[36,449091290]
[43,98822]
[44,352727831]
[47,809521]
[48,2004389425.2]
[56,109272]
[58,532996778]
[61,645406398]
[62,1153151307.95]
[63,2004389424.95]
[65,453038975]
[68,192660768]
[69,13754738]
[70,2118999902]
[73,460348617]
[78,469306339]
[79,612786993.88]
[80,2118999901.8800001]
[84,159323034]
[92,210291838]
[95,188063]
[96,1208901307.4400001]
[103,660741]
[105,298210918]
[108,357072463]
[109,684573002.85000002]
[110,1208901306.8499999]
[112,158410779]
[116,109853870]
[118,22713]
[119,661600222.50999999]
[123,5439635]
[124,175026030]
[127,194799093]
[128,320909130.58000004]
[129,661600222.58000004]
[138,459294954]
[141,34045]
[142,2636761886]
[145,9113]
[147,17494828]
[150,187253893]
[151,1209846638]
[152,2636761886]
[212,1322298013]
[213,34925647029.099998]
[214,1971193145.51]
[215,3710974507]
[218,42992052441.610001]
[219,42992052441.610001]
[220,42992052441.610001]
[221,1645160085]
[222,19912185421]
[223,21557345506]
[224,21557256289]
[226,21557256289]
[227,21557256289]
[259,19734469]
[260,5656749]
[262,13385462]
[263,24190]
[371,4568411]
[439,116325619]
[440,220808]
[557,956982138]
[558,41601698]
[559,575570]
[590,311901711]
[591,7162087]
[644,6741171854.6300001]
[645,53496043]
[651,357544899]
[655,8234532]
[656,169299761.82999998]
[657,286601372.90999997]
[658,47627036]
[659,10052281006.52]
[660,267877815]
[661,305511212.84000003]
[662,153858708.16]
[663,124376076]
[664,197865876.88]
[665,70251496]
[666,1119741184.8800001]
[667,279910784]
[668,220632626.11000001]
[669,13958619]
[670,514502029.11000001]
[671,31051748]
[672,177937895.69]
[673,282991242.69]
[674,874404091.63999999]
[675,42342730]
[676,916746821.63999999]
[677,50098057]
[678,109019241.69]
[679,89779274.159999996]
[680,19237105]
[681,215621257.12]
[682,10997332]
[684,494752266.96999997]
[685,7546862]
[686,15955554]
[687,24210062]
[688,60814347]
[690,99617794.680000007]
[692,208144619.68000001]
[693,13142507]
[694,3550020671.9700003]
[695,71914890]
[696,13674216568.49]
[702,1820198463.8499999]
[703,9978449]
[709,77589893]
[713,757212]
[714,34246764.590000004]
[715,20977445.619999997]
[716,2033666.77]
[717,2539185408.9899998]
[718,55138428]
[719,63325892.75]
[720,31792513.219999999]
[721,23313846]
[722,37425100.019999996]
[723,12299869]
[724,223295648.99000001]
[725,60661474.57]
[726,44815372]
[727,1940491]
[728,107417337.56999999]
[729,24908300]
[730,34813147]
[731,78375357]
[732,206706118.60000002]
[733,10022096]
[734,216728214.60000002]
[735,10015932]
[736,20666413]
[737,18154691]
[738,6861872]
[739,55331968]
[740,2285625]
[742,113316501]
[743,1527345]
[744,2884336]
[745,5786704]
[746,29291752]
[748,17161311]
[750,56651448]
[751,7489563]
[752,803274070.15999997]
[753,12852816]
[754,3355312295.1500001]
[760,118163391.58999999]
[761,532417]
[767,3004843]
[771,1571457]
[772,7573657]
[773,45674846.879999995]
[774,1843734]
[775,1000923412.4799999]
[776,12748405]
[777,12949838]
[778,34796077]
[779,7532428]
[780,24515469]
[781,12962938]
[782,105505155]
[783,101648199.48]
[784,39746237.620000005]
[785,22858547]
[786,164252984.09999999]
[787,111071387.76000001]
[788,12253329.879999999]
[789,144089490.63999999]
[790,21803884.329999998]
[791,382088]
[792,22185972.329999998]
[793,5858787]
[794,31426012.790000003]
[795,72299634]
[796,109471562]
[797,202610553.83000001]
[798,9997150.629999999]
[800,431663700.25]
[801,2264478]
[802,5319354]
[803,16360688]
[804,15273675]
[806,90140542]
[808,129358737]
[809,11016685]
[810,1008072724.3200001]
[811,50831000]
[812,2268101357.21]
[818,297520179.07000005]
[819,550399]
[825,7044036]
[829,1015158]
[830,16213497.24]
[831,30125009.289999999]
[832,2687696]
[833,435256640.85000002]
[834,5075524]
[835,4133977]
[836,3415821]
[837,1336324]
[838,1115060]
[839,4604410.6899999995]
[840,19681116.689999998]
[841,34712371]
[842,42502413]
[843,6800010]
[844,84014794]
[845,6219037.5800000001]
[846,4053846.45]
[847,11737291.029999999]
[848,17254295.149999999]
[849,203287]
[850,17457582.149999999]
[851,1288781]
[852,4525110.59]
[853,31151116]
[854,930489]
[855,285160147.51999998]
[856,4915671]
[858,327971315.11000001]
[859,261901]
[860,824442]
[861,6140093]
[862,1664938]
[864,45195536]
[866,54086910]
[867,6818210]
[868,521767218.97999996]
[869,10815167]
[870,967839026.83000004]
[876,39634963.5]
[877,5435]
[883,98275]
[887,48943]
[888,5440346.9100000001]
[889,3265589]
[890,19020]
[891,59814062.68]
[892,128225]
[893,52906]
[894,406625]
[895,5340]
[896,181147]
[897,787537]
[898,1561780]
[899,6827680]
[900,25432965]
[901,53753]
[902,32314398]
[903,473715]
[904,362208]
[905,904985]
[906,1114046.3]
[907,38433]
[908,1152479.3]
[909,279262]
[910,1177269.8199999998]
[911,13290712]
[912,100303]
[913,6014640.6600000001]
[914,1726802]
[916,22588989.48]
[917,111124]
[918,240238]
[919,6321928]
[920,236522]
[922,45553582]
[924,52463394]
[925,1433450]
[926,112419475.77999999]
[927,1035297]
[928,173268835.46000001]
[934,9064881]
[935,56094]
[941,63945]
[945,37750]
[946,2902198]
[947,9607627]
[948,590017]
[949,385228947]
[950,71519]
[951,774353]
[952,148404]
[953,36736]
[954,43115]
[955,273263]
[956,1347390]
[957,2535252]
[958,978494]
[959,88172]
[960,3601918]
[961,11278611.51]
[962,3337293.63]
[963,16309803.140000001]
[964,2369403.7599999998]
[965,22530]
[966,2391933.7599999998]
[967,735663]
[968,3208027]
[969,286836]
[970,3962]
[971,1365851]
[972,131205]
[974,5731544]
[975,8040]
[976,24896]
[977,363670]
[978,453245]
[980,1257609]
[982,2107460]
[983,835808]
[984,32325856.900000002]
[985,8088731]
[986,531742710.52999997]
[987,996434]
[988,130730]
[990,293196]
[992,32394652]
[993,991535639.42999995]
[1032,9075709683.6399994]
[1033,64631212]
[1039,445809063]
[1043,11680729]
[1044,239618620.56999999]
[1045,397918849.69999999]
[1046,54801169.770000003]
[1047,14541444952.520002]
[1048,341572857]
[1049,387529829.58999997]
[1050,224822471.38]
[1051,156876887]
[1052,261468500.90000001]
[1053,101415372.69]
[1054,1473685918.5599999]
[1055,492911153.05000001]
[1056,386767939.73000002]
[1057,46036468]
[1058,925715560.77999997]
[1059,186064475.84999999]
[1060,233049235.65000001]
[1061,535971728.5]
[1062,1127334366.78]
[1063,53015391]
[1064,1180349757.78]
[1065,68398561]
[1066,170469698.88999999]
[1067,226293150.16]
[1068,136750057]
[1069,768322813.13]
[1070,30148653.629999999]
[1072,1400382933.8100002]
[1073,11947405]
[1074,25282033]
[1075,61966351]
[1076,110213413]
[1078,317778156.68000001]
[1080,527187358.68000001]
[1081,41386385]
[1082,6084679643.1100006]
[1083,156879339]
[1084,740016930.94000006]
[1085,996434]
[1086,130730]
[1088,293196]
[1090,32394652]
[1091,21557170259.57]
[1092,1239111641.29]
[1158,2729805]
[1159,1045563]
[1160,608958625.8599999]
[1162,612797182.8599999]
[1163,1113815]
[1164,614013422.8599999]
[1165,614327865.8599999]
[1166,492107]
[1167,150047]
[1168,122882561.03]
[1170,123538359.03]
[1171,183731]
[1172,124013354.03]
[1173,124013373.03]
[1174,1390461]
[1175,13249969]
[1176,636376223.98000002]
[1178,651294168.09000003]
[1179,1971924]
[1180,653332565.09000003]
[1181,655744913.09000003]
[1182,49148]
[1183,524525]
[1184,468480695.32999998]
[1186,469165046.32999998]
[1187,88374]
[1188,469256630.32999998]
[1189,469266713.32999998]
[1190,278746]
[1191,118952872]
[1192,178846791.59999999]
[1193,331017]
[1195,298512720.60000002]
[1196,407229]
[1197,298921703.60000002]
[1198,298968874.60000002]
[1199,49581]
[1200,391513]
[1201,2784801]
[1203,3225895]
[1204,7015]
[1205,3232910]
[1206,3315452]
[1207,42020]
[1209,52484]
[1211,465579]
[1212,8463941]
[1213,4995879]
[1214,135647086]
[1215,2027387323.8000002]
[1216,412408]
[1218,2169014318.9099998]
[1219,3791478]
[1220,2173270922.9099998]
[1221,5672478]
[1222,42020]
[1224,52484]
[1226,465579]
[1227,2181286895.9099998]
[1228,87166833.850000009]
[1246,5177763]
[1247,5177763]
[1248,5177763]
[1249,17709]
[1251,1016798227]
[1252,616678]
[1253,2583817]
[1254,1878853134]
[1255,83881742]
[1256,2982116920]
[1257,2982256903]
[1263,17709]
[1265,1016798227]
[1266,616678]
[1267,2583817]
[1268,1878853134]
[1269,89059505]
[1270,2987294683]
[1271,2987434666]
[1272,-790602762.20000005]
[1274,250016007.88]
[1277,1252696]
[1278,251710861.88]
[1279,251748525.88]
[1280,43418761.32]
[1283,283749]
[1284,43748806.32]
[1285,43749535.32]
[1286,715321719.89999998]
[1289,339444]
[1290,717899497.89999998]
[1291,12729286]
[1292,730802959.89999998]
[1293,67522247.349999994]
[1296,75692]
[1297,67625025.349999994]
[1298,67628153.349999994]
[1299,74031959.75]
[1303,74031959.75]
[1304,74031959.75]
[1305,3008866]
[1308,8731]
[1309,3017597]
[1310,10649]
[1312,173198]
[1314,16375090]
[1315,23480545]
[1316,1154868314.1999998]
[1319,1960312]
[1320,1159582500.1999998]
[1321,15567144]
[1322,10649]
[1324,173198]
[1326,16375090]
[1327,1192990431.1999998]
[1328,182088027.53999999]
[1335,717612]
[1341,7874022]
[1345,705456]
[1346,2906697.37]
[1347,11771219.68]
[1348,1889701.9]
[1349,241591398.34000003]
[1350,8208506]
[1351,6844075]
[1352,17314096.640000001]
[1353,1820188]
[1354,2742701]
[1355,6745460]
[1356,43675026.640000001]
[1357,7899295.8200000003]
[1358,17017865.75]
[1359,653223]
[1360,25570384.57]
[1361,9615542]
[1362,9975373.1099999994]
[1363,28010783.300000001]
[1364,44795060.339999996]
[1365,1963541]
[1366,46758601.339999996]
[1367,4115641]
[1368,17278398.850000001]
[1369,328662]
[1370,113063750.76000001]
[1371,42940120.640000001]
[1372,22622775.460000001]
[1373,1763853]
[1375,202113201.71000001]
[1376,400555]
[1377,1186583]
[1378,4151363]
[1379,5343395]
[1381,15235260]
[1383,26317156]
[1384,1486542]
[1385,373931695.55999994]
[1386,5727988]
[1387,623771613.89999998]
[1399,717612]
[1405,7874022]
[1409,705456]
[1410,2906697.37]
[1411,11771219.68]
[1412,1889701.9]
[1413,241591398.34000003]
[1414,8208506]
[1415,6844075]
[1416,17314096.640000001]
[1417,1820188]
[1418,2742701]
[1419,6745460]
[1420,43675026.640000001]
[1421,7899295.8200000003]
[1422,17017865.75]
[1423,653223]
[1424,25570384.57]
[1425,9615542]
[1426,9975373.1099999994]
[1427,28010783.300000001]
[1428,44795060.339999996]
[1429,1963541]
[1430,46758601.339999996]
[1431,4115641]
[1432,17278398.850000001]
[1433,328662]
[1434,113063750.76000001]
[1435,42940120.640000001]
[1436,22622775.460000001]
[1437,1763853]
[1439,202113201.71000001]
[1440,400555]
[1441,1186583]
[1442,4151363]
[1443,5343395]
[1445,15235260]
[1447,26317156]
[1448,1486542]
[1449,373931695.55999994]
[1450,5727988]
[1456,623771613.89999998]
[1457,24628771.439999998]
[1458,1820904]
[1461,4555]
[1462,1825459]
[1463,1825459]
[1464,285260]
[1467,585]
[1468,285845]
[1469,285845]
[1470,82499477.819999993]
[1473,1973468]
[1474,84472945.819999993]
[1475,84472945.819999993]
[1476,4909856]
[1479,98732]
[1480,5008588]
[1481,5008588]
[1482,1367276613.25]
[1485,7254879]
[1486,1374531492.25]
[1487,1374531492.25]
[1488,10834139]
[1491,1465588]
[1492,12299727]
[1493,13167827]
[1494,1494797009.0699999]
[1497,10797807]
[1498,1505594816.0699999]
[1499,1506462916.0699999]
[1500,-1266594855.46]
[1556,6158665302.0100002]
[1569,7500419100.3000002]
[1570,1318454314]
[1583,1358983026.8500001]
[1584,1432923189]
[1597,1649693562.8000002]
[1598,727228544]
[1611,851828843.54000008]
[1612,441349186]
[1625,466801129.44]
[1626,2221889838]
[1639,2449242398.54]
[1683,11916802642.279999]
[1684,1526534644.6700001]
[1685,1572734829.8000002]
[1686,627257205.68000007]
[1687,273184982.84000003]
[1688,68420027.560000002]
[1690,9526435]
[1691,336083725.00999999]
[1692,54786329.559999995]
[1693,485207705.32999998]
[1698,17635445174.939999]
[1699,5183810080.1099997]
[1700,855482885.44999993]
[1701,876085790.13]
[1702,377950810.68000001]
[1703,166843496.93000001]
[1704,45595914.100000001]
[1706,1958956]
[1707,226643430.05000001]
[1708,37613606.009999998]
[1709,251815893.64999998]
[1714,8250719874.4499979]
[1715,6732992562.170001]
[1716,671051759.22000003]
[1717,696649039.67000008]
[1718,249306395]
[1719,106341485.91000001]
[1720,22824113.460000001]
[1722,7567479]
[1723,109440294.95999999]
[1724,17172723.550000001]
[1725,233391811.68000004]
[1730,9384725301.4899998]
[1731,5468522699.5782604]
[1732,884735689.19574142]
[1733,874727401.6945461]
[1734,348079199.55578548]
[1735,165094199.00204197]
[1736,45604474.033277296]
[1738,1491940]
[1739,225386866.002776]
[1740,38198839.587277301]
[1741,259572610.34719247]
[1746,8532942065.0455084]
[1747,12201515261.74826]
[1748,1555787448.4157414]
[1749,1571376441.3645461]
[1750,597385594.55578566]
[1751,271435684.91204202]
[1752,68428587.493277282]
[1754,9059419]
[1755,334827160.96277601]
[1756,55371563.137277298]
[1757,492964422.02719253]
[1762,17917667366.535511]
[1764,16924218]
[1765,4000000]
[1767,1000000]
[1772,21924218]
[1773,958017900]
[1774,50000]
[1776,958067900]
[1778,80200000]
[1779,200350]
[1781,1000000]
[1786,81400350]
[1787,1206439050]
[1788,80000]
[1790,1206519050]
[1792,87024218]
[1793,4100000]
[1795,1000000]
[1800,92124218]
[1801,1558106900]
[1802,50000]
[1804,1558156900]
[1806,10100000]
[1807,100350]
[1809,1000000]
[1814,11200350]
[1815,606350050]
[1816,80000]
[1818,606430050]
[1878,20972105712]
[1879,4112600847]
[1887,892197]
[1889,158]
[1892,158]
[1894,99977]
[1896,99977]
[1897,792378]
[1910,2437794]
[1911,465361192.52999997]
[1912,1010592.1]
[1913,2509732]
[1916,468881516.63]
[1918,1902417]
[1919,14237679]
[1921,465829365.52999997]
[1922,5489945.1000000015]
[1947,1266377224.05]
[1948,40341653585.32]
[1949,2164509294.3800001]
[1950,3252357949.3200002]
[1951,978673734.38999999]
[1952,49188145867.650002]
[1953,15644953]
[1954,1440211076.3599999]
[1955,154897093.47000003]
[1956,204169065.22]
[1957,76854245]
[1958,2982466565.9999995]
[1959,826989]
[1960,152934606]
[1961,3885967]
[1962,89832747]
[1963,100908480]
[1964,1327949386]
[1965,1281195188.05]
[1966,41628930055.68]
[1967,2315520420.8499999]
[1968,3366694267.54]
[1969,954619499.3900001]
[1970,50842663047.650009]
[1972,15529091449.540001]
[1973,1005882395.1700001]
[1974,2519478594.6199999]
[1975,759351754.19000006]
[1976,19917533509.360001]
[1978,965097850.87]
[1979,96669103.730000004]
[1980,182802621.44999999]
[1981,65158203.350000001]
[1982,1318502879.95]
[1984,63008512]
[1985,3904355]
[1986,71357899]
[1987,95916570]
[1988,235773562]
[1990,16431180788.409998]
[1991,1098647143.8999999]
[1992,2630923317.0700002]
[1993,728593387.53999996]
[1994,21000262827.310005]
[1995,1281195188.05]
[1996,25197749267.27]
[1997,1216873276.95]
[1998,735770950.47000003]
[1999,226026111.84999996]
[2000,29842400220.34]
[2020,231691953.53]
[2027,439659857.94000006]
[2028,295490894]
[2030,3221537]
[2031,93915]
[2032,5578563]
[2033,93915]
[2041,868100]
[2044,348701908]
[2045,22886673]
[2374,245128508]
[2376,205831719]
[2414,167255841]
[2416,145891999]
[2443,1036906569]
[2474,1239661355]
[2490,14294675241.91]
[2492,6430140893.0099993]
[2493,2058525513.9400001]
[2494,22796281900.859997]
[2495,14541444952.520002]
[2496,6084679643.1100006]
[2497,156879339]
[2498,740016930.94000006]
[2499,34149394]
[2500,21557170259.57]
[2501,1239111641.29]
[2502,1276757]
[2503,1713365072.7600002]
[2505,546116589]
[2506,7855997]
[2507,2268453729.7600002]
[2508,2173270922.9099998]
[2509,1877916]
[2510,5672478]
[2511,465579]
[2512,2181286895.9099998]
[2513,87166833.850000009]
[2514,1692437]
[2530,689509105.20000005]
[2532,683785411.53999996]
[2533,1708570]
[2534,1375078458.74]
[2535,1159582500.1999998]
[2536,1465697]
[2537,15567144]
[2538,16375090]
[2539,1192990431.1999998]
[2540,182088027.53999999]
[2541,-244177]
[2542,633010474.33999991]
[2543,13223355]
[2544,2166556]
[2545,648400385.33999991]
[2546,241591398.34000003]
[2547,373931695.55999994]
[2548,5727988]
[2551,623771613.89999998]
[2552,24628771.439999998]
[2553,37324]
[2569,1804975926.8000002]
[2570,342932209]
[2571,2196831903.8000002]
[2572,139983]
[2573,2987294683]
[2574,2987434666]
[2575,-790602762.20000005]
[2576,-771344]
[2594,183439983.61000001]
[2595,55672630]
[2596,755447]
[2597,239868060.61000001]
[2598,1505594816.0699999]
[2599,868100]
[2600,1506462916.0699999]
[2601,-1266594855.46]
[2602,-138403]
[2657,72516314]
[2658,16368267]
[2659,4964028]
[2660,1459349]
[2661,65718]
[2662,422099]
[2663,96006143]
[2664,3507910]
[2665,3507910]
[2696,289340251]
[2697,9311959]
[2699,13646687]
[2701,3415270]
[2702,403684]
[2705,47069]
[2708,2365437]
[2711,3316000]
[2728,207967904.41]
[2729,208274220.41]
[2731,30974292]
[2733,9299700]
[2735,30974292]
[2736,314443]
[2737,19]
[2738,55322]
[2739,10083]
[2740,47171]
[2741,1450000]
[2744,1877916]
[2745,12043528]
[2752,1949430]
[2756,287290136]
[2758,1949430]
[2759,37664]
[2760,729]
[2761,174176]
[2762,12729286]
[2764,3128]
[2766,1250000]
[2767,2837858]
[2769,2837858]
[2775,1465697]
[2776,15567144]
[2779,3307350]
[2787,3583747]
[2793,105042]
[2794,3538042.54]
[2795,11717]
[2797,10161469]
[2799,1106319]
[2801,30260289]
[2803,1061757475]
[2819,29552046]
[2824,476588747]
[2826,-28997]
[2827,2272139796.5100002]
[2831,38351905]
[2833,2055945]
[2834,252875061.57000002]
[2847,16329068]
[2849,17128910]
[2850,97680018]
[2851,2157330868.5900002]
[2852,2272139796.5900002]
[2853,207332785.57000002]
[2855,207332785.57000002]
[2856,252870861.57000002]
[2886,910]
[2888,74590518]
[2889,118626014.41]
[2890,136372]
[2891,2204583]
[2892,1206355]
[2893,11204062]
[2894,19978808]
[2895,195518279.53]
[2896,175788]
[2897,10350179]
[2898,584025]
[2899,5084874]
[2912,94569326]
[2913,314144293.94]
[2914,312160]
[2915,12554762]
[2916,1790380]
[2917,16288936]
[2918,870733]
[2919,828936]
[2920,1368312]
[2925,2457130]
[2926,948503]
[2927,1629374]
[2928,5050951]
[2929,7449484]
[2931,14909]
[2933,213942]
[2934,930170]
[2935,1115415]
[2937,17023]
[2939,775250]
[2946,5981121]
[2947,8564899]
[2949,31932]
[2951,989192]
[2994,155581382.56]
[2995,36357165.439999998]
[2996,21506939]
[2997,47202360.100000001]
[2998,5580026.2699999996]
[2999,443445]
[3001,271010638.37]
[3003,7566508.8600000003]
[3004,7566508.8600000003]
[3010,40766271]
[3011,4771805]
[3017,13890615]
[3018,444418]
[3021,2656880773]
[3022,7932465]
[3100,7462720]
[3109,7462720]
[3164,92668658.310000002]
[3165,92668658.310000002]
[3166,92668658.310000002]
[3167,33869368]
[3168,492689946]
[3169,123178562]
[3170,391324546]
[3171,101365400]
[3172,1340477041.29]
[3173,21280735]
[3174,418035742]
[3175,88363426]
[3176,466366300]
[3177,-48330558]
[3178,38836275.850000001]
[3190,14870822]
[3191,60153160]
[3192,10210782]
[3193,117396711]
[3194,-57243551]
[3195,124844476.53999999]
[3197,833358]
[3198,47510]
[3199,47510]
[3200,785848]
[3201,25414619.439999998]
[3212,172726040]
[3213,3093694288]
[3214,1798259672]
[3215,2085549808]
[3216,1008144480]
[3217,217541717.79999998]
[3234,112195370]
[3235,1560676727]
[3236,37519303]
[3237,66590908]
[3238,1494085819]
[3239,227490963.53999999]
[3255,1488458]
[3256,323868256]
[3257,418001221]
[3258,-94132965]
[3259,-1464306.6900000013]
[3260,2256425503]
[3261,49690]
[3262,2255010886.3099999]
[3305,1900301857.5799999]
[3306,18549915.539999999]
[3307,451035594.07999998]
[3308,3943165.91]
[3309,82769563.00999999]
[3310,2109903]
[3311,20241161.149999999]
[3312,339230]
[3313,3096769]
[3314,94699]
[3315,61381968]
[3316,2966979]
[3319,2524153535.8200002]
[3320,28028800.449999999]
[3326,104177180.84999999]
[3327,93712044.590000004]
[3328,763978]
[3329,104177180.84999999]
[3330,93712044.590000004]
[3331,763978]
[3344,12940252]
[3345,1116071]
[3347,75372]
[3350,6379387847.3199997]
[3353,1157395148.2]
[3356,1402570813]
[3358,694514031.44000006]
[3361,391362208.50999999]
[3364,2156084898]
[3366,1707673210.51]
[3374,209422340.56999999]
[3385,302610041.5]
[3386,178715504.63]
[3387,123894536.86999999]
[3388,185849381.29533258]
[3389,309743918.16533262]
[3390,953569586]
[3391,1082582720.8200002]
[3392,978241833]
[3393,1057910473.8199999]
[3398,1057910473.8199999]
[3421,63189]
[3422,13644]
[3423,277514.11]
[3424,110678]
[3425,103294]
[3427,571622.11]
[3429,1738]
[3431,85000]
[3432,9154948]
[3458,8781382]
[3469,895457]
[3470,1559255]
[3471,10866998]
[3473,14441016]
[3485,249498742.78999999]
[3487,11024911]
[3489,88053333]
[3490,17]
[3491,348798490.78999996]
[3500,-223]
[3501,12489342]
[3504,29592076]
[3505,74160835]
[3506,245045579.59]
[3507,348798490.59000003]
[3508,58250623.359999999]
[3509,500364]
[3510,58750987.359999999]
[3511,165652408.05000001]
[3512,238830]
[3513,741730]
[3514,166632968.05000001]
[3515,-107881980.69]
[3516,4557]
[3518,98166880]
[3519,3675955]
[3521,49338]
[3522,2623139]
[3523,111515424]
[3524,848251]
[3525,1048505]
[3526,110466919]
[3527,2584938.3100000005]
[3528,316422681]
[3529,238630]
[3530,319246249.31]
[3556,275252]
[3557,788477]
[3558,1063729]
[3559,22247]
[3560,1085976]
[3561,1085976]
[3563,42747]
[3564,131500]
[3565,174247]
[3567,174247]
[3568,174247]
[3570,17261804.780000001]
[3571,11634264]
[3572,28896068.780000001]
[3573,1530958]
[3574,30427026.780000001]
[3575,30427026.780000001]
[3577,229714]
[3578,789274]
[3579,1018988]
[3581,1018988]
[3582,1018988]
[3584,96689869.049999997]
[3585,35203020.219999999]
[3586,131892889.27]
[3588,131892889.27]
[3589,131892889.27]
[3591,550497]
[3592,337505]
[3593,888002]
[3594,26902]
[3595,914904]
[3599,1895464]
[3607,115158083.83]
[3608,48914217.219999999]
[3609,164072301.05000001]
[3610,1580107]
[3611,165652408.05000001]
[3617,166632968.05000001]
[3620,-107881980.69]
[3637,52950]
[3638,147304]
[3641,52950]
[3642,147304]
[3656,716428]
[3660,1739617]
[3661,2520532]
[3662,1739617]
[3663,2520532]
[3664,36774589.710000001]
[3665,28893788.710000001]
[3666,7880801]
[3667,27790682.593277302]
[3668,35671483.593277298]
[3669,228954581.96999997]
[4013,102425]
[4014,291264]
[4015,66473]
[4016,3210]
[4017,1754]
[4019,465126]
[4020,442158]
[4021,46296]
[4022,2238334]
[4023,27086]
[4026,2753874]
[4041,202]
[4042,425521815]
[4043,202]
[4044,19309516]
[4046,406212299]
[4048,7888082.1600000001]
[4050,414100381.16000003]
[4052,6473039168.8000002]
[4053,8409771]
[4055,829841]
[4057,19598113]
[4061,29269321069.660004]
[4062,2276863500.7600002]
[4063,2196831903.8000002]
[4064,1375908299.74]
[4065,648400385.33999991]
[4066,259466173.61000001]
[4067,92668658.310000002]
[4069,58750987.359999999]
[4070,6473039168.8000002]
[4071,8409771]
[4072,829841]
[4073,19598113]
[4075,28030209428.369999]
[4076,2189696666.9099998]
[4077,2987434666]
[4078,1193820272.1999998]
[4079,623771613.89999998]
[4080,1526061029.0699999]
[4083,166632968.05000001]
[4095,183847]
[4096,183847]
[4104,61745]
[4105,61745]
[4110,21557256289]
[4111,19912031421]
[4112,3256361735]
[4116,-271088535]
[4128,213723]
[4138,1586397]
[4139,119567]
[4140,261062]
[4141,2357026]
[4142,2357026]
[4149,14776035]
[4150,14776035]
[4166,1032831]
[4204,2090217.5980000007]
[4205,365132.63799999992]
[4206,167378.72269999998]
[4207,2622742]
[4208,11966241857]
[4209,7677204]
[4237,2321860]
[4239,1742547]
[4240,154636]
[4241,1785941]
[4242,489371]
[4243,30000]
[4244,392633]
[4246,144854]
[4248,273421]
[4251,142381]
[4255,8557]
[4256,26234]
[4266,219465]
[4267,2982381]
[4268,61379]
[4269,25000]
[4270,18764922]
[4271,16880299]
[4274,28]
[4275,531755]
[4277,1304]
[4279,198257]
[4283,9672877]
[4290,33097]
[4297,39535882.890000001]
[4298,3802]
[4299,86561]
[4301,108331588.93000001]
[4303,287900]
[4304,9775]
[4311,287900]
[4318,2156985.77]
[4319,14427]
[4330,150416]
[4334,2324191.77]
[4335,14427]
[4346,15319632]
[4348,160578]
[4349,35211]
[4350,21063617]
[4352,161882]
[4353,35370]
[4354,25145647]
[4355,48571]
[4356,2518]
[4357,72031016.99000001]
[4360,18747]
[4373,48923768]
[4376,49929.508999999976]
[4380,561491]
[4382,48923768]
[4385,4244]
[4386,175640]
[4700,4862869]
[4731,31711636]
[4732,1109824]
[4733,6560200]
[4734,31316]
[4735,3471]
[4736,15570530]
[4740,103241]
[4744,19810593]
[4745,19692]
[4752,5]
[4791,31127021]
[4792,175486]
[4794,102]
[4803,19564]
[4804,220938]
[4813,18449707]
[4814,651682]
[4821,1988407]
[4824,279]
[4854,2686]
[4855,4498]
[4857,8752]
[4883,335625]
[4889,9775]
[4934,479098511861]
[4935,46665308965.365059]
[4936,21557256289]
[4939,25000]
[4951,60484612]
[4952,213013589]
[4953,685225]
[4961,130408311]
[4962,39896536]
[4963,103878579]
[4965,28556306.710000001]
[4966,1661788]
[4995,122606950]
[5000,12252083920.279999]
[5002,480103035.32999998]
[5003,202]
[5004,172919]
[5005,12760916383.32]
[5006,1347483.27]
[5007,1456414]
[5008,429139083.54000002]
[5009,18579713]
[5010,450522693.80999994]
[5011,17250859]
[5012,4092120]
[5013,3305114.52]
[5014,16089575]
[5015,416252]
[5016,668152]
[5017,94779]
[5018,287538]
[5020,4219602]
[5021,25169238]
[5022,351167]
[5023,3645479]
[5024,2360]
[5025,615343]
[5026,76877945.520000011]
[5027,92393570.680000007]
[5028,-944805]
[5029,91448765.680000007]
[5030,2876457]
[5031,36610244]
[5032,8054753]
[5033,4351472.91]
[5034,14131487]
[5035,202573879.63]
[5036,20707284.780000001]
[5037,3169823]
[5038,69031493]
[5039,4895864]
[5040,18307977]
[5041,116112441.78]
[5042,97974708.289999992]
[5043,928974]
[5044,668033]
[5045,2680360]
[5046,2101789]
[5047,70650]
[5048,34664]
[5049,126647]
[5050,2472347]
[5051,107058172.29000001]
[5052,11025312]
[5053,23642234.25]
[5054,12034366]
[5055,39914463.239999995]
[5056,2231649]
[5057,46485943]
[5058,199097735.38999999]
[5059,489164959.88]
[5060,14294675241.91]
[5061,10335828]
[5062,2447361]
[5063,157063]
[5064,12940252]
[5065,5288907211.04]
[5066,2891798]
[5071,5312237123.04]
[5072,143988242]
[5073,74146985.340000004]
[5074,102700466.7]
[5076,49465577.729999997]
[5078,6507956]
[5081,4501046]
[5086,381583694.76999998]
[5087,1140963]
[5091,17250525]
[5092,161985]
[5100,21557001]
[5102,82862094]
[5103,451518]
[5104,83313612]
[5106,7232853.2000000002]
[5107,18605581]
[5110,3605207]
[5114,296180]
[5116,48843314]
[5117,49139494]
[5120,75580]
[5126,12813]
[5133,8861289]
[5135,388407799]
[5138,830080]
[5139,2669]
[5153,1117903769.9699998]
[5162,6430140893.0099993]
[5163,14097406]
[5164,14433031]
[5169,48134935]
[5171,68048769]
[5172,16790]
[5178,428075709.91000003]
[5179,1757513]
[5180,131833079.70999999]
[5181,3705697]
[5182,10003623]
[5185,599323326.62]
[5186,620751854]
[5187,2123307]
[5194,424331]
[5195,5212230]
[5199,640179791]
[5213,10130134.620000001]
[5214,3476037]
[5217,349820359.12]
[5218,38023088]
[5219,47137]
[5225,401695012.74000001]
[5240,5748521]
[5243,15421398]
[5249,1577535]
[5251,1331582]
[5252,54013]
[5254,1851738]
[5256,1650086]
[5259,1976043713.9400001]
[5265,2058525513.9400001]
[5266,22796281900.859997]
[5267,1515792124.6700001]
[5269,8189083]
[5270,145750]
[5272,2296059]
[5273,1526423016.6700001]
[5274,224567.61]
[5275,208542]
[5276,79902948]
[5277,990609.7]
[5278,81326667.310000002]
[5279,13843042.029999999]
[5280,-635518]
[5281,13207524.029999999]
[5282,24252]
[5283,322758]
[5284,2298443]
[5286,228932]
[5287,2874385]
[5288,30579381.359999999]
[5289,6114286]
[5290,1079759]
[5291,3705813]
[5292,876630]
[5293,30683162.25]
[5294,89533479.750000015]
[5295,1713365072.7600002]
[5296,605000]
[5298,511071]
[5299,1116071]
[5300,543668721]
[5306,544320403]
[5330,65000]
[5332,10000]
[5333,75000]
[5340,326020]
[5351,1796186]
[5360,546116589]
[5361,5084707]
[5362,5084707]
[5364,19692]
[5370,251]
[5383,251]
[5401,149613]
[5402,6211]
[5409,155824]
[5440,2751598]
[5446,7855997]
[5447,2268453729.7600002]
[5448,1569168206.8000002]
[5451,3614308]
[5452,1572782514.8000002]
[5453,230271.46]
[5454,50717]
[5455,63714897]
[5456,589190]
[5457,64585075.460000001]
[5458,12248506.539999999]
[5459,814098]
[5460,13062604.539999999]
[5461,1750000]
[5462,165796]
[5463,766615]
[5464,106792657]
[5465,154545732]
[5466,1804975926.8000002]
[5467,336372009]
[5473,336372009]
[5476,6560200]
[5483,342932209]
[5491,2196831903.8000002]
[5492,623839199.68000007]
[5495,2902022]
[5496,626741221.68000007]
[5497,87591.52]
[5498,14725]
[5499,9073520]
[5500,386976]
[5501,9562812.5199999996]
[5502,6794708]
[5503,14900627]
[5504,990977]
[5505,5114422]
[5506,259775]
[5507,59325]
[5508,8000]
[5509,52017]
[5510,16511]
[5511,11321]
[5512,133200]
[5513,4217175]
[5514,187716]
[5517,15171]
[5518,32803128]
[5519,7627729]
[5520,-317679]
[5521,7310050]
[5522,101579]
[5523,705899]
[5524,3196144]
[5525,7056536]
[5526,13091893]
[5527,689509105.20000005]
[5528,45553]
[5529,29339]
[5530,480]
[5531,75372]
[5532,47718521]
[5533,1574961]
[5538,49293761]
[5539,4038]
[5540,5625]
[5541,121780]
[5543,183563]
[5553,315006]
[5554,276270265.91999996]
[5556,351399401.62]
[5557,627678224.53999996]
[5564,320]
[5566,6343913]
[5569,114119]
[5583,634491650.53999996]
[5592,683785411.53999996]
[5593,200000]
[5594,200000]
[5603,768092]
[5616,768092]
[5634,55571]
[5635,1498]
[5642,57069]
[5647,12534]
[5652,1508570]
[5658,1708570]
[5659,1375078458.74]
[5660,264930632.84]
[5661,1812761]
[5662,307673998.5]
[5663,1606190]
[5664,576023582.33999991]
[5665,126232]
[5666,46992]
[5667,50437566]
[5668,113249]
[5669,50724039]
[5670,5112665]
[5671,-296936]
[5672,4815729]
[5673,15764]
[5674,70677]
[5675,908622]
[5676,1447124]
[5681,12636095]
[5687,12636095]
[5688,5193]
[5691,10205]
[5693,2031]
[5695,2031]
[5702,5972]
[5704,565581]
[5709,587260]
[5717,13223355]
[5723,5]
[5729,1011938]
[5730,154]
[5738,159]
[5742,1012120]
[5756,37316]
[5760,1012852]
[5761,634]
[5768,1050802]
[5783,24]
[5786,24]
[5802,2166551]
[5808,2166556]
[5809,648400385.33999991]
[5810,9526435]
[5811,37018]
[5812,9563453]
[5813,1380]
[5815,2858909]
[5816,2022291]
[5817,4882580]
[5818,23256979.82]
[5819,-785625]
[5820,22471354.82]
[5821,11322363.300000001]
[5822,657360]
[5823,30276]
[5824,40167058]
[5825,146522595.79000002]
[5826,36938304]
[5832,36938304]
[5838,18734326]
[5845,55672630]
[5846,184181]
[5847,184181]
[5853,755447]
[5854,239868060.61000001]
[5855,68447906.560000002]
[5856,200731]
[5857,68648637.560000002]
[5858,15237.8]
[5859,2799]
[5860,353851]
[5861,3344]
[5862,375231.8]
[5863,24237748.949999999]
[5864,-763506]
[5865,23474242.949999999]
[5866,59999]
[5868,610]
[5869,170546]
[5885,92668658.310000002]
[5924,54994108.559999995]
[5925,230168]
[5926,55224276.559999995]
[5927,15424.8]
[5928,2940]
[5929,10000]
[5930,22591]
[5931,50955.8]
[5932,2918162]
[5933,-173153]
[5934,2745009]
[5936,16098]
[5937,54407]
[5938,230382]
[5939,475364]
[5945,475364]
[5953,500364]
[5962,58750987.359999999]
[5963,633010474.33999991]
[5964,183439983.61000001]
[5965,92668658.310000002]
[5967,58250623.359999999]
[5970,136549465.72]
[5971,2520532]
[5974,55542506.499999993]
[6013,1791546.2299999981]
[6015,396099891]
[6016,6074500]
[6017,394497187]
[6018,7677204]
[6020,59419409]
[6021,32891331]
[6022,586973]
[6023,3408503]
[6024,569641]
[6025,615768]
[6026,42282890]
[6027,308635]
[6028,98208]
[6029,540682293]
[6030,6168796]
[6031,46274563]
[6032,133835657]
[6033,842754]
[6034,7919945]
[6035,13233739]
[6036,26]
[6038,43408202]
[6039,4023302]
[6040,833494]
[6041,4532239]
[6042,480959]
[6043,3880069]
[6044,2838161]
[6045,36397]
[6046,123279]
[6047,3044871]
[6049,223]
[6052,26963999]
[6053,1183384]
[6054,9279578]
[6055,2807942]
[6056,57075]
[6057,150825]
[6059,2546242]
[6062,691]
[6063,321514964.94]
[6064,41244931]
[6065,16661191]
[6066,4530630]
[6067,25468142]
[6068,5349622]
[6069,14605891]
[6070,35295475]
[6071,2056950]
[6072,6940274]
[6073,1005135]
[6075,795076]
[6076,51743]
[6077,8973820]
[6078,2603]
[6081,718625141]
[6082,84055034]
[6083,4361003]
[6084,25516415]
[6085,2602943]
[6086,126351350]
[6087,797239]
[6088,5300146]
[6089,14911041]
[6090,17909637]
[6091,5886022]
[6092,1250]
[6093,937785]
[6094,196148]
[6095,14975533]
[6097,19510]
[6098,120250]
[6099,13787050]
[6100,2183]
[6101,64839]
[6102,3114575]
[6104,4826350]
[6108,627450119]
[6109,3190783]
[6111,2368811]
[6112,6132972]
[6113,17008]
[6115,692857]
[6116,14716]
[6119,34076]
[6120,57898759]
[6121,48216156]
[6122,1500000]
[6130,99240823]
[6153,75903320]
[6154,146370821.78]
[6155,321514964.77999997]
[6156,197077214.94]
[6157,56347587]
[6158,65198172]
[6159,344492569.02999991]
[6160,5513371]
[6162,350005940.02999991]
[6163,7417186]
[6164,357423126.02999991]
[6165,31029]
[6166,366851717.16999996]
[6167,7417186]
[6168,374268903.16999996]
[6169,-16845777.140000001]
[6171,7793]
[6172,1000197]
[6176,17908]
[6177,1892798]
[6178,2866909]
[6179,11537228]
[6180,3153335]
[6181,3470287]
[6182,1140727]
[6183,398105]
[6184,670231]
[6185,2231032]
[6186,3207546]
[6187,1048241]
[6188,4850284]
[6190,500000]
[6191,687190]
[6192,14127]
[6198,46412640]
[6199,2602928]
[6200,5469837]
[6201,-3577039]
[6202,-20422816.140000001]
[6203,242093776]
[6204,603182]
[6205,222274141.86000001]
[6206,1341753798.29]
[6207,40528712.850000001]
[6208,216770373.79999998]
[6209,124600299.53999999]
[6210,25451943.439999998]
[6211,227352560.53999999]
[6212,-1414616.6900000013]
[6213,-19819634.140000001]
[6214,2823568.3100000005]
[6215,172.98246073629457]
[6216,-8587304094.0978708]
[6217,-128809632907.81458]
[6218,-6440478646.0384264]
[6219,-6440479191.7716751]
[6220,-543147063037.39252]
[6221,-85873051392.494553]
[6222,-270500111588.50998]
[6223,-311289818702.44122]
[6224,63657582]
[6225,4073256]
[6226,37253089]
[6227,16133922]
[6228,350706755]
[6229,2228850]
[6231,377894]
[6236,182272]
[6237,336663561.00999999]
[6239,415238]
[6240,337078799.00999999]
[6241,117082.29]
[6242,19439]
[6243,1617577]
[6244,35743]
[6245,1789841.29]
[6246,444886]
[6249,50790]
[6250,174691]
[6251,42183]
[6255,2106532]
[6256,-124706]
[6257,1981826]
[6258,2802]
[6259,1407073]
[6260,2740217.14]
[6261,520000]
[6262,7087]
[6264,7744323]
[6268,1677598]
[6269,138774696]
[6270,8329878]
[6271,2645511]
[6272,180208]
[6273,184603]
[6274,9933371]
[6275,109937]
[6276,128260]
[6277,124975]
[6278,7456717]
[6279,2231902]
[6280,2676962]
[6281,173305]
[6284,104244]
[6288,234735]
[6289,1833003.7300000002]
[6290,3642102.73]
[6291,344492569.02999991]
[6292,5512259]
[6296,5512259]
[6297,4923]
[6298,1836317]
[6300,89]
[6301,46798]
[6304,87582]
[6321,1681]
[6327,151432]
[6334,1112]
[6335,1112]
[6336,5513371]
[6340,188604]
[6353,1414796]
[6605,14557]
[6651,1162753]
[6652,193446]
[6653,1380914]
[6660,2204118]
[6661,11321650]
[6666,185326188.94]
[6670,1770463]
[6676,342813]
[6678,34162841]
[6681,340553]
[6772,1520123]
[6773,2397564]
[6774,48635868]
[6777,340553]
[6780,9684]
[6783,32710308]
[6784,17245642]
[6785,2644749]
[6786,260368]
[6787,262259824.94]
[6788,1900230]
[6789,3426393]
[6790,40774]
[6791,51187]
[6792,102867175.37]
[6793,4327555]
[6794,11765]
[6795,4530]
[6797,13787086]
[6798,9639]
[6799,6038]
[6800,3807079]
[6801,135316]
[6802,1626475]
[6803,40484]
[6806,5564]
[6807,6811]
[6808,456]
[6809,6031]
[6810,47262930.890000001]
[6811,65477]
[6812,397695]
[6813,7516]
[6814,17392]
[6815,5189]
[6816,5189]
[6817,9363481]
[6818,9363481]
[6819,282740286]
[6820,282740286]
[6821,1743072]
[6822,1743072]
[6823,255270]
[6824,255270]
[6827,37515]
[6828,37515]
[6829,1474533]
[6830,1474533]
[6833,978527]
[6834,978527]
[6835,18386]
[6836,18386]
[6839,1128041]
[6840,1128041]
[6841,47150352]
[6842,21605122]
[6843,126742]
[6844,406199]
[6845,67976]
[6846,713674]
[6847,227017]
[6848,177306]
[6849,24108]
[6850,252029]
[6851,70112]
[6852,252621]
[6853,125688]
[6854,110171]
[6855,641643]
[6856,1912000]
[6857,5960829]
[6858,654563]
[6859,12420830]
[6860,239002]
[6861,327713]
[6862,9163]
[6863,18709372]
[6864,902728]
[6865,88893]
[6866,972783]
[6867,203409]
[6868,88106]
[6869,154295]
[6870,56073]
[6871,1485285]
[6872,2285643]
[6873,15800745]
[6874,5058]
[6875,3344]
[6876,1271799]
[6879,20851874]
[6880,20515454]
[6881,446597]
[6882,1116962]
[6883,1932663]
[6884,1749864]
[6885,1144]
[6886,3083]
[6887,1933807]
[6888,1752947]
[6889,61999]
[6890,60080]
[6891,123161]
[6892,324463]
[6893,1175763]
[6894,155124]
[6895,2366]
[6896,142398]
[6897,1669912]
[6898,548483]
[6899,46799]
[6900,3081270]
[6901,1277347]
[6902,212058]
[6903,15597]
[6904,4228]
[6905,28985]
[6906,2756747]
[6907,26459]
[6908,35541]
[6909,2443393]
[6910,18777255]
[6911,74527]
[6912,21785829]
[6913,2588961]
[6914,299136]
[6915,351026]
[6916,46897654]
[6917,9901971]
[6918,1298134]
[6919,43304]
[6920,7805979]
[6921,7805979]
[6922,269359188]
[6923,269359188]
[6924,205900]
[6925,205900]
[6926,14638511]
[6927,14638511]
[6928,456405]
[6929,456405]
[6930,1306529]
[6931,1306529]
[6932,1718382]
[6933,1718382]
[6934,295490894]
[6935,525020]
[6936,525020]
[6937,2029848]
[6938,2029848]
[6941,700020]
[6942,700020]
[6943,61960]
[6944,61960]
[6945,15369]
[6946,15369]
[6947,305406]
[6948,1085771]
[6949,1391177]
[6950,305406]
[6951,4417988]
[6952,4723394]
[6953,141875]
[6954,142785]
[6955,1754742]
[6956,1754742]
[6957,34149394]
[6958,34149394]
[6959,95346140]
[6960,31550397]
[6964,6031]
[6965,1330499]
[6966,2098]
[6967,8445942]
[6968,611683]
[6969,3303]
[6971,81391]
[6972,9861135]
[6973,619812]
[6974,19390]
[6976,9880525]
[6977,619812]
[6978,878]
[6981,366322852.16999996]
[6983,2747391]
[6984,6425679]
[6985,182652]
[6986,94504]
[6987,94504]
[6988,371075]
[6989,371075]
[6990,9881403]
[6991,619812]
[6994,350005940.02999991]
[6998,1504327]
[6999,44425]
[7002,1504327]
[7003,44425]
[7006,1098343]
[7007,1098343]
[7008,316865]
[7009,316865]
[7010,1504327]
[7011,44425]
[7012,4790197.09]
[7013,4790197.09]
[7014,3599655]
[7015,3599655]
[7016,600478]
[7017,600478]
[7018,516647]
[7019,516647]
[7020,84192]
[7021,84192]
[7022,6009]
[7023,6009]
[7028,606313]
[7029,606313]
[7030,47458]
[7031,47458]
[7032,4088851.19]
[7033,4088851.19]
[7036,79135]
[7037,79135]
[7038,27164243]
[7039,6516]
[7042,27164243]
[7043,6516]
[7045,151672]
[7046,151672]
[7052,716428]
[7054,868100]
[7055,27164243]
[7056,6516]
[7057,238588]
[7059,670532]
[7060,37396]
[7062,58265]
[7065,1004781]
[7066,121440]
[7067,1941905]
[7068,64991014]
[7069,74545]
[7070,2588]
[7071,638403]
[7073,74]
[7074,67769969]
[7075,15497]
[7076,279931]
[7077,4245504.7200000007]
[7080,56501]
[7083,4597433.7200000007]
[7084,69702]
[7085,291996]
[7086,51584854]
[7087,238689]
[7088,25314]
[7089,326947]
[7092,52537502]
[7093,16602104]
[7094,1210991]
[7095,12175220]
[7096,160120]
[7097,1741072]
[7098,218148]
[7099,71537]
[7101,32179192]
[7102,55764]
[7103,41629]
[7104,832826]
[7107,826885]
[7110,1757104]
[7111,122117538.06]
[7112,24799266.579999998]
[7113,28411568.189999998]
[7114,599296.37]
[7115,1987937]
[7116,675684]
[7117,242830]
[7118,377416]
[7119,179211536.19999999]
[7122,23134]
[7128,23134]
[7129,204679]
[7130,64896]
[7131,11236321.25]
[7132,43294]
[7133,27126]
[7134,123154]
[7137,11699470.25]
[7138,139447712.06]
[7139,28630614.579999998]
[7140,189629246.16]
[7141,1161692.3700000001]
[7142,3837743]
[7143,2923987]
[7144,314367]
[7145,377490]
[7146,366322852.16999996]
[7147,30962]
[7148,30962]
[7151,67]
[7152,67]
[7153,31029]
[7154,31029]
[7155,139447712.06]
[7156,28630614.579999998]
[7157,189629246.16]
[7158,1161692.3700000001]
[7159,3837743]
[7160,3452852]
[7161,314367]
[7162,377490]
[7163,366851717.16999996]
[7164,-16845777.140000001]
[7165,108200]
[7167,30177]
[7169,138377]
[7173,138377]
[7175,238830]
[7176,238830]
[7179,180239]
[7180,180239]
[7181,741730]
[7182,741730]
[7183,138377]
[7185,53824927]
[7186,9331071]
[7187,9459239]
[7188,1222808]
[7189,190474]
[7190,80316493.819999993]
[7191,19999526.550000001]
[7192,984117]
[7193,1349138]
[7194,41129]
[7195,84810]
[7196,10428749]
[7197,2182358]
[7198,254676]
[7199,693133]
[7200,215730]
[7201,7910]
[7202,37800919.710000001]
[7203,6060777.1799999997]
[7204,1441464]
[7205,816405]
[7206,1050329]
[7207,86549]
[7530,1414796]
[7531,2380]
[7532,1190]
[7534,3570]
[7535,1411226]
[7536,28925765]
[7537,289617]
[7538,11295]
[7539,29204087]
[7540,9374779]
[7541,545442]
[7542,11295]
[7543,9908926]
[7544,19295161]
[7545,154248989.25999999]
[7546,2441057.44]
[7548,156690046.69999999]
[7549,54060313.890000001]
[7550,4377901.55]
[7552,58438215.439999998]
[7553,98251831.25999999]
[7554,46414943.93]
[7555,5376737.6899999995]
[7556,1307469]
[7557,50484212.620000005]
[7558,40291842.950000003]
[7559,3850567]
[7560,1574931]
[7561,42567478.950000003]
[7562,7916733.6699999999]
[7563,134348857]
[7564,13434885.699999996]
[7570,1331937765.6500001]
[7575,32723]
[7576,1539978]
[7577,439]
[7578,34902]
[7590,286379]
[7593,8911150]
[7594,1784421]
[7595,17000]
[7596,17136081]
[7597,3531133]
[7598,13830568]
[7599,90923]
[7602,353175]
[7603,48687]
[7605,521244]
[7606,813112]
[7607,37052]
[7608,795000]
[7609,410400]
[7610,1664755]
[7611,3075016]
[7612,14103898]
[7613,11765442]
[7614,903175]
[7616,288908]
[7617,2148844]
[7618,2143075]
[7619,4751395]
[7620,40433]
[7621,40311]
[7622,175000]
[7623,36348180]
[7624,64380359]
[7625,249222472]
[7626,4994178]
[7629,14200740]
[7630,95]
[7631,53706]
[7635,14254541]
[7636,22400]
[7638,1257532]
[7639,8257]
[7644,1288189]
[7645,181415]
[7646,48069]
[7647,51885609]
[7648,3517061]
[7649,2663537.23]
[7650,97435.09]
[7651,7306904.46]
[7652,92268617.579999998]
[7653,16457373.93]
[7654,3103613]
[7655,419190]
[7656,14575787]
[7657,112611554.81]
[7658,24280903.48]
[7659,449689269.52999997]
[7660,20956661.91]
[7661,51379545.140000001]
[7662,114416]
[7663,17078070.77]
[7664,24612084]
[7665,24085]
[7666,41714239.769999996]
[7667,35306169]
[7668,431118]
[7669,94314060.909999996]
[7670,75023622.49000001]
[7671,70183102.900000006]
[7672,6295768.5700000003]
[7673,331748]
[7674,360408]
[7676,27022763]
[7677,252151]
[7678,460630]
[7679,5129537.1000000015]
[7681,43160339.900000006]
[7682,6043617.5700000003]
[7684,561491]
[7685,561491]
[7686,48635868]
[7687,67070538]
[7688,146451090]
[7689,12249576]
[7690,21978696]
[7691,701289]
[7692,72653795]
[7693,866900]
[7694,6995555]
[7695,14028967.1]
[7697,87060037.129999995]
[7698,55532953.009999998]
[7699,142592990.13999999]
[7700,54797]
[7701,704161333]
[7702,704161333]
[7704,11601939]
[7707,198119]
[7708,27406]
[7712,1220276]
[7713,390000]
[7714,153556]
[7715,543556]
[7716,6559]
[7717,6559]
[7718,95572]
[7719,95572]
[7720,37852]
[7721,37852]
[7722,719170]
[7723,719170]
[7724,203421]
[7725,203421]
[7726,294415]
[7727,294415]
[7728,497836]
[7729,497836]
[7735,497836]

{"sheet":"5-7-19 Data Pull","index":23,"n_rows":2408,"n_cols":2,"rows_kept":2408,"cut":false,"hidden":true,"merged":[]}
["All SD's (- Crete Monee)","5/7 Data Pull"]
["txtFieldNum","2018"]
[4,4449380884]
[11,10965222]
[12,2085627941]
[15,8487467]
[16,13604323264.32]
[25,113203890]
[27,4516526967]
[30,6103904165]
[31,7255290591.5900002]
[32,13604323264.589998]
[36,449091290]
[43,98822]
[44,352727831]
[47,809521]
[48,2004389425.2]
[56,109272]
[58,532996778]
[61,645406398]
[62,1153151307.95]
[63,2004389424.95]
[65,453038975]
[68,192660768]
[69,13754738]
[70,2118999902]
[73,460348617]
[78,469306339]
[79,612786993.88]
[80,2118999901.8800001]
[84,159323034]
[92,210291838]
[95,188063]
[96,1208901307.4400001]
[103,660741]
[105,298210918]
[108,357072463]
[109,684573002.85000002]
[110,1208901306.8499999]
[112,158410779]
[116,109853870]
[118,22713]
[119,661600222.50999999]
[123,5439635]
[124,175026030]
[127,194799093]
[128,320909130.58000004]
[129,661600222.58000004]
[138,459294954]
[141,34045]
[142,2636761886]
[145,9113]
[147,17494828]
[150,187253893]
[151,1209846638]
[152,2636761886]
[212,1322298013]
[213,34925647029.099998]
[214,1971193145.51]
[215,3710974507]
[218,42992052441.610001]
[219,42992052441.610001]
[220,42992052441.610001]
[221,1645160085]
[222,19912185421]
[223,21557345506]
[224,21557256289]
[226,21557256289]
[227,21557256289]
[259,19734469]
[260,5656749]
[262,13385462]
[263,24190]
[371,4568411]
[439,116325619]
[440,220808]
[557,956982138]
[558,41601698]
[559,575570]
[590,311901711]
[591,7162087]
[644,6741171854.6300001]
[645,53496043]
[651,357544899]
[655,8234532]
[656,169299761.82999998]
[657,286601372.90999997]
[658,47627036]
[659,10052281006.52]
[660,267877815]
[661,305511212.84000003]
[662,153858708.16]
[663,124376076]
[664,197865876.88]
[665,70251496]
[666,1119741184.8800001]
[667,279910784]
[668,220632626.11000001]
[669,13958619]
[670,514502029.11000001]
[671,31051748]
[672,177937895.69]
[673,282991242.69]
[674,874404091.63999999]
[675,42342730]
[676,916746821.63999999]
[677,50098057]
[678,109019241.69]
[679,89779274.159999996]
[680,19237105]
[681,215621257.12]
[682,10997332]
[684,494752266.96999997]
[685,7546862]
[686,15955554]
[687,24210062]
[688,60814347]
[690,99617794.680000007]
[692,208144619.68000001]
[693,13142507]
[694,3550020671.9700003]
[695,71914890]
[696,13674216568.49]
[702,1820198463.8499999]
[703,9978449]
[709,77589893]
[713,757212]
[714,34246764.590000004]
[715,20977445.619999997]
[716,2033666.77]
[717,2539185408.9899998]
[718,55138428]
[719,63325892.75]
[720,31792513.219999999]
[721,23313846]
[722,37425100.019999996]
[723,12299869]
[724,223295648.99000001]
[725,60661474.57]
[726,44815372]
[727,1940491]
[728,107417337.56999999]
[729,24908300]
[730,34813147]
[731,78375357]
[732,206706118.60000002]
[733,10022096]
[734,216728214.60000002]
[735,10015932]
[736,20666413]
[737,18154691]
[738,6861872]
[739,55331968]
[740,2285625]
[742,113316501]
[743,1527345]
[744,2884336]
[745,5786704]
[746,29291752]
[748,17161311]
[750,56651448]
[751,7489563]
[752,803274070.15999997]
[753,12852816]
[754,3355312295.1500001]
[760,118163391.58999999]
[761,532417]
[767,3004843]
[771,1571457]
[772,7573657]
[773,45674846.879999995]
[774,1843734]
[775,1000923412.4799999]
[776,12748405]
[777,12949838]
[778,34796077]
[779,7532428]
[780,24515469]
[781,12962938]
[782,105505155]
[783,101648199.48]
[784,39746237.620000005]
[785,22858547]
[786,164252984.09999999]
[787,111071387.76000001]
[788,12253329.879999999]
[789,144089490.63999999]
[790,21803884.329999998]
[791,382088]
[792,22185972.329999998]
[793,5858787]
[794,31426012.790000003]
[795,72299634]
[796,109471562]
[797,202610553.83000001]
[798,9997150.629999999]
[800,431663700.25]
[801,2264478]
[802,5319354]
[803,16360688]
[804,15273675]
[806,90140542]
[808,129358737]
[809,11016685]
[810,1008072724.3200001]
[811,50831000]
[812,2268101357.21]
[818,297520179.07000005]
[819,550399]
[825,7044036]
[829,1015158]
[830,16213497.24]
[831,30125009.289999999]
[832,2687696]
[833,435256640.85000002]
[834,5075524]
[835,4133977]
[836,3415821]
[837,1336324]
[838,1115060]
[839,4604410.6899999995]
[840,19681116.689999998]
[841,34712371]
[842,42502413]
[843,6800010]
[844,84014794]
[845,6219037.5800000001]
[846,4053846.45]
[847,11737291.029999999]
[848,17254295.149999999]
[849,203287]
[850,17457582.149999999]
[851,1288781]
[852,4525110.59]
[853,31151116]
[854,930489]
[855,285160147.51999998]
[856,4915671]
[858,327971315.11000001]
[859,261901]
[860,824442]
[861,6140093]
[862,1664938]
[864,45195536]
[866,54086910]
[867,6818210]
[868,521767218.97999996]
[869,10815167]
[870,967839026.83000004]
[876,39634963.5]
[877,5435]
[883,98275]
[887,48943]
[888,5440346.9100000001]
[889,3265589]
[890,19020]
[891,59814062.68]
[892,128225]
[893,52906]
[894,406625]
[895,5340]
[896,181147]
[897,787537]
[898,1561780]
[899,6827680]
[900,25432965]
[901,53753]
[902,32314398]
[903,473715]
[904,362208]
[905,904985]
[906,1114046.3]
[907,38433]
[908,1152479.3]
[909,279262]
[910,1177269.8199999998]
[911,13290712]
[912,100303]
[913,6014640.6600000001]
[914,1726802]
[916,22588989.48]
[917,111124]
[918,240238]
[919,6321928]
[920,236522]
[922,45553582]
[924,52463394]
[925,1433450]
[926,112419475.77999999]
[927,1035297]
[928,173268835.46000001]
[934,9064881]
[935,56094]
[941,63945]
[945,37750]
[946,2902198]
[947,9607627]
[948,590017]
[949,385228947]
[950,71519]
[951,774353]
[952,148404]
[953,36736]
[954,43115]
[955,273263]
[956,1347390]
[957,2535252]
[958,978494]
[959,88172]
[960,3601918]
[961,11278611.51]
[962,3337293.63]
[963,16309803.140000001]
[964,2369403.7599999998]
[965,22530]
[966,2391933.7599999998]
[967,735663]
[968,3208027]
[969,286836]
[970,3962]
[971,1365851]
[972,131205]
[974,5731544]
[975,8040]
[976,24896]
[977,363670]
[978,453245]
[980,1257609]
[982,2107460]
[983,835808]
[984,32325856.900000002]
[985,8088731]
[986,531742710.52999997]
[987,996434]
[988,130730]
[990,293196]
[992,32394652]
[993,991535639.42999995]
[1032,9075709683.6399994]
[1033,64631212]
[1039,445809063]
[1043,11680729]
[1044,239618620.56999999]
[1045,397918849.69999999]
[1046,54801169.770000003]
[1047,14541444952.520002]
[1048,341572857]
[1049,387529829.58999997]
[1050,224822471.38]
[1051,156876887]
[1052,261468500.90000001]
[1053,101415372.69]
[1054,1473685918.5599999]
[1055,492911153.05000001]
[1056,386767939.73000002]
[1057,46036468]
[1058,925715560.77999997]
[1059,186064475.84999999]
[1060,233049235.65000001]
[1061,535971728.5]
[1062,1127334366.78]
[1063,53015391]
[1064,1180349757.78]
[1065,68398561]
[1066,170469698.88999999]
[1067,226293150.16]
[1068,136750057]
[1069,768322813.13]
[1070,30148653.629999999]
[1072,1400382933.8100002]
[1073,11947405]
[1074,25282033]
[1075,61966351]
[1076,110213413]
[1078,317778156.68000001]
[1080,527187358.68000001]
[1081,41386385]
[1082,6084679643.1100006]
[1083,156879339]
[1084,740016930.94000006]
[1085,996434]
[1086,130730]
[1088,293196]
[1090,32394652]
[1091,21557170259.57]
[1092,1239111641.29]
[1158,2729805]
[1159,1045563]
[1160,608958625.8599999]
[1162,612797182.8599999]
[1163,1113815]
[1164,614013422.8599999]
[1165,614327865.8599999]
[1166,492107]
[1167,150047]
[1168,122882561.03]
[1170,123538359.03]
[1171,183731]
[1172,124013354.03]
[1173,124013373.03]
[1174,1390461]
[1175,13249969]
[1176,636376223.98000002]
[1178,651294168.09000003]
[1179,1971924]
[1180,653332565.09000003]
[1181,655744913.09000003]
[1182,49148]
[1183,524525]
[1184,468480695.32999998]
[1186,469165046.32999998]
[1187,88374]
[1188,469256630.32999998]
[1189,469266713.32999998]
[1190,278746]
[1191,118952872]
[1192,178846791.59999999]
[1193,331017]
[1195,298512720.60000002]
[1196,407229]
[1197,298921703.60000002]
[1198,298968874.60000002]
[1199,49581]
[1200,391513]
[1201,2784801]
[1203,3225895]
[1204,7015]
[1205,3232910]
[1206,3315452]
[1207,42020]
[1209,52484]
[1211,465579]
[1212,8463941]
[1213,4995879]
[1214,135647086]
[1215,2027387323.8000002]
[1216,412408]
[1218,2169014318.9099998]
[1219,3791478]
[1220,2173270922.9099998]
[1221,5672478]
[1222,42020]
[1224,52484]
[1226,465579]
[1227,2181286895.9099998]
[1228,87166833.850000009]
[1246,5177763]
[1247,5177763]
[1248,5177763]
[1249,17709]
[1251,1016798227]
[1252,616678]
[1253,2583817]
[1254,1878853134]
[1255,83881742]
[1256,2982116920]
[1257,2982256903]
[1263,17709]
[1265,1016798227]
[1266,616678]
[1267,2583817]
[1268,1878853134]
[1269,89059505]
[1270,2987294683]
[1271,2987434666]
[1272,-790602762.20000005]
[1274,250016007.88]
[1277,1252696]
[1278,251710861.88]
[1279,251748525.88]
[1280,43418761.32]
[1283,283749]
[1284,43748806.32]
[1285,43749535.32]
[1286,715321719.89999998]
[1289,339444]
[1290,717899497.89999998]
[1291,12729286]
[1292,730802959.89999998]
[1293,67522247.349999994]
[1296,75692]
[1297,67625025.349999994]
[1298,67628153.349999994]
[1299,74031959.75]
[1303,74031959.75]
[1304,74031959.75]
[1305,3008866]
[1308,8731]
[1309,3017597]
[1310,10649]
[1312,173198]
[1314,16375090]
[1315,23480545]
[1316,1154868314.1999998]
[1319,1960312]
[1320,1159582500.1999998]
[1321,15567144]
[1322,10649]
[1324,173198]
[1326,16375090]
[1327,1192990431.1999998]
[1328,182088027.53999999]
[1335,717612]
[1341,7874022]
[1345,705456]
[1346,2906697.37]
[1347,11771219.68]
[1348,1889701.9]
[1349,241591398.34000003]
[1350,8208506]
[1351,6844075]
[1352,17314096.640000001]
[1353,1820188]
[1354,2742701]
[1355,6745460]
[1356,43675026.640000001]
[1357,7899295.8200000003]
[1358,17017865.75]
[1359,653223]
[1360,25570384.57]
[1361,9615542]
[1362,9975373.1099999994]
[1363,28010783.300000001]
[1364,44795060.339999996]
[1365,1963541]
[1366,46758601.339999996]
[1367,4115641]
[1368,17278398.850000001]
[1369,328662]
[1370,113063750.76000001]
[1371,42940120.640000001]
[1372,22622775.460000001]
[1373,1763853]
[1375,202113201.71000001]
[1376,400555]
[1377,1186583]
[1378,4151363]
[1379,5343395]
[1381,15235260]
[1383,26317156]
[1384,1486542]
[1385,373931695.55999994]
[1386,5727988]
[1387,623771613.89999998]
[1399,717612]
[1405,7874022]
[1409,705456]
[1410,2906697.37]
[1411,11771219.68]
[1412,1889701.9]
[1413,241591398.34000003]
[1414,8208506]
[1415,6844075]
[1416,17314096.640000001]
[1417,1820188]
[1418,2742701]
[1419,6745460]
[1420,43675026.640000001]
[1421,7899295.8200000003]
[1422,17017865.75]
[1423,653223]
[1424,25570384.57]
[1425,9615542]
[1426,9975373.1099999994]
[1427,28010783.300000001]
[1428,44795060.339999996]
[1429,1963541]
[1430,46758601.339999996]
[1431,4115641]
[1432,17278398.850000001]
[1433,328662]
[1434,113063750.76000001]
[1435,42940120.640000001]
[1436,22622775.460000001]
[1437,1763853]
[1439,202113201.71000001]
[1440,400555]
[1441,1186583]
[1442,4151363]
[1443,5343395]
[1445,15235260]
[1447,26317156]
[1448,1486542]
[1449,373931695.55999994]
[1450,5727988]
[1456,623771613.89999998]
[1457,24628771.439999998]
[1458,1820904]
[1461,4555]
[1462,1825459]
[1463,1825459]
[1464,285260]
[1467,585]
[1468,285845]
[1469,285845]
[1470,82499477.819999993]
[1473,1973468]
[1474,84472945.819999993]
[1475,84472945.819999993]
[1476,4909856]
[1479,98732]
[1480,5008588]
[1481,5008588]
[1482,1367276613.25]
[1485,7254879]
[1486,1374531492.25]
[1487,1374531492.25]
[1488,10834139]
[1491,1465588]
[1492,12299727]
[1493,13167827]
[1494,1494797009.0699999]
[1497,10797807]
[1498,1505594816.0699999]
[1499,1506462916.0699999]
[1500,-1266594855.46]
[1556,6158665302.0100002]
[1569,7500419100.3000002]
[1570,1318454314]
[1583,1358983026.8500001]
[1584,1432923189]
[1597,1649693562.8000002]
[1598,727228544]
[1611,851828843.54000008]
[1612,441349186]
[1625,466801129.44]
[1626,2221889838]
[1639,2449242398.54]
[1683,11916802642.279999]
[1684,1526534644.6700001]
[1685,1572734829.8000002]
[1686,627257205.68000007]
[1687,273184982.84000003]
[1688,68420027.560000002]
[1690,9526435]
[1691,336083725.00999999]
[1692,54786329.559999995]
[1693,485207705.32999998]
[1698,17635445174.939999]
[1699,5183810080.1099997]
[1700,855482885.44999993]
[1701,876085790.13]
[1702,377950810.68000001]
[1703,166843496.93000001]
[1704,45595914.100000001]
[1706,1958956]
[1707,226643430.05000001]
[1708,37613606.009999998]
[1709,251815893.64999998]
[1714,8250719874.4499979]
[1715,6732992562.170001]
[1716,671051759.22000003]
[1717,696649039.67000008]
[1718,249306395]
[1719,106341485.91000001]
[1720,22824113.460000001]
[1722,7567479]
[1723,109440294.95999999]
[1724,17172723.550000001]
[1725,233391811.68000004]
[1730,9384725301.4899998]
[1731,5468522699.5782604]
[1732,884735689.19574142]
[1733,874727401.6945461]
[1734,348079199.55578548]
[1735,165094199.00204197]
[1736,45604474.033277296]
[1738,1491940]
[1739,225386866.002776]
[1740,38198839.587277301]
[1741,259572610.34719247]
[1746,8532942065.0455084]
[1747,12201515261.74826]
[1748,1555787448.4157414]
[1749,1571376441.3645461]
[1750,597385594.55578566]
[1751,271435684.91204202]
[1752,68428587.493277282]
[1754,9059419]
[1755,334827160.96277601]
[1756,55371563.137277298]
[1757,492964422.02719253]
[1762,17917667366.535511]
[1764,16924218]
[1765,4000000]
[1767,1000000]
[1772,21924218]
[1773,958017900]
[1774,50000]
[1776,958067900]
[1778,80200000]
[1779,200350]
[1781,1000000]
[1786,81400350]
[1787,1206439050]
[1788,80000]
[1790,1206519050]
[1792,87024218]
[1793,4100000]
[1795,1000000]
[1800,92124218]
[1801,1558106900]
[1802,50000]
[1804,1558156900]
[1806,10100000]
[1807,100350]
[1809,1000000]
[1814,11200350]
[1815,606350050]
[1816,80000]
[1818,606430050]
[1878,20972105712]
[1879,4112600847]
[1887,892197]
[1889,158]
[1892,158]
[1894,99977]
[1896,99977]
[1897,792378]
[1910,2437794]
[1911,465361192.52999997]
[1912,1010592.1]
[1913,2509732]
[1916,468881516.63]
[1918,1902417]
[1919,14237679]
[1921,465829365.52999997]
[1922,5489945.1000000015]
[1947,1266377224.05]
[1948,40341653585.32]
[1949,2164509294.3800001]
[1950,3252357949.3200002]
[1951,978673734.38999999]
[1952,49188145867.650002]
[1953,15644953]
[1954,1440211076.3599999]
[1955,154897093.47000003]
[1956,204169065.22]
[1957,76854245]
[1958,2982466565.9999995]
[1959,826989]
[1960,152934606]
[1961,3885967]
[1962,89832747]
[1963,100908480]
[1964,1327949386]
[1965,1281195188.05]
[1966,41628930055.68]
[1967,2315520420.8499999]
[1968,3366694267.54]
[1969,954619499.3900001]
[1970,50842663047.650009]
[1972,15529091449.540001]
[1973,1005882395.1700001]
[1974,2519478594.6199999]
[1975,759351754.19000006]
[1976,19917533509.360001]
[1978,965097850.87]
[1979,96669103.730000004]
[1980,182802621.44999999]
[1981,65158203.350000001]
[1982,1318502879.95]
[1984,63008512]
[1985,3904355]
[1986,71357899]
[1987,95916570]
[1988,235773562]
[1990,16431180788.409998]
[1991,1098647143.8999999]
[1992,2630923317.0700002]
[1993,728593387.53999996]
[1994,21000262827.310005]
[1995,1281195188.05]
[1996,25197749267.27]
[1997,1216873276.95]
[1998,735770950.47000003]
[1999,226026111.84999996]
[2000,29842400220.34]
[2020,231691953.53]
[2027,439659857.94000006]
[2028,295490894]
[2030,3221537]
[2031,93915]
[2032,5578563]
[2033,93915]
[2041,868100]
[2044,348701908]
[2045,22886673]
[2374,245128508]
[2376,205831719]
[2414,167255841]
[2416,145891999]
[2443,1036906569]
[2474,1239661355]
[2490,14294675241.91]
[2492,6430140893.0099993]
[2493,2058525513.9400001]
[2494,22796281900.859997]
[2495,14541444952.520002]
[2496,6084679643.1100006]
[2497,156879339]
[2498,740016930.94000006]
[2499,34149394]
[2500,21557170259.57]
[2501,1239111641.29]
[2502,1276757]
[2503,1713365072.7600002]
[2505,546116589]
[2506,7855997]
[2507,2268453729.7600002]
[2508,2173270922.9099998]
[2509,1877916]
[2510,5672478]
[2511,465579]
[2512,2181286895.9099998]
[2513,87166833.850000009]
[2514,1692437]
[2530,689509105.20000005]
[2532,683785411.53999996]
[2533,1708570]
[2534,1375078458.74]
[2535,1159582500.1999998]
[2536,1465697]
[2537,15567144]
[2538,16375090]
[2539,1192990431.1999998]
[2540,182088027.53999999]
[2541,-244177]
[2542,633010474.33999991]
[2543,13223355]
[2544,2166556]
[2545,648400385.33999991]
[2546,241591398.34000003]
[2547,373931695.55999994]
[2548,5727988]
[2551,623771613.89999998]
[2552,24628771.439999998]
[2553,37324]
[2569,1804975926.8000002]
[2570,342932209]
[2571,2196831903.8000002]
[2572,139983]
[2573,2987294683]
[2574,2987434666]
[2575,-790602762.20000005]
[2576,-771344]
[2594,183439983.61000001]
[2595,55672630]
[2596,755447]
[2597,239868060.61000001]
[2598,1505594816.0699999]
[2599,868100]
[2600,1506462916.0699999]
[2601,-1266594855.46]
[2602,-138403]
[2657,72516314]
[2658,16368267]
[2659,4964028]
[2660,1459349]
[2661,65718]
[2662,422099]
[2663,96006143]
[2664,3507910]
[2665,3507910]
[2696,289340251]
[2697,9311959]
[2699,13646687]
[2701,3415270]
[2702,403684]
[2705,47069]
[2708,2365437]
[2711,3316000]
[2728,207967904.41]
[2729,208274220.41]
[2731,30974292]
[2733,9299700]
[2735,30974292]
[2736,314443]
[2737,19]
[2738,55322]
[2739,10083]
[2740,47171]
[2741,1450000]
[2744,1877916]
[2745,12043528]
[2752,1949430]
[2756,287290136]
[2758,1949430]
[2759,37664]
[2760,729]
[2761,174176]
[2762,12729286]
[2764,3128]
[2766,1250000]
[2767,2837858]
[2769,2837858]
[2775,1465697]
[2776,15567144]
[2779,3307350]
[2787,3583747]
[2793,105042]
[2794,3538042.54]
[2795,11717]
[2797,10161469]
[2799,1106319]
[2801,30260289]
[2803,1061757475]
[2819,29552046]
[2824,476588747]
[2826,-28997]
[2827,2272139796.5100002]
[2831,38351905]
[2833,2055945]
[2834,252875061.57000002]
[2847,16329068]
[2849,17128910]
[2850,97680018]
[2851,2157330868.5900002]
[2852,2272139796.5900002]
[2853,207332785.57000002]
[2855,207332785.57000002]
[2856,252870861.57000002]
[2886,910]
[2888,74590518]
[2889,118626014.41]
[2890,136372]
[2891,2204583]
[2892,1206355]
[2893,11204062]
[2894,19978808]
[2895,195518279.53]
[2896,175788]
[2897,10350179]
[2898,584025]
[2899,5084874]
[2912,94569326]
[2913,314144293.94]
[2914,312160]
[2915,12554762]
[2916,1790380]
[2917,16288936]
[2918,870733]
[2919,828936]
[2920,1368312]
[2925,2457130]
[2926,948503]
[2927,1629374]
[2928,5050951]
[2929,7449484]
[2931,14909]
[2933,213942]
[2934,930170]
[2935,1115415]
[2937,17023]
[2939,775250]
[2946,5981121]
[2947,8564899]
[2949,31932]
[2951,989192]
[2994,155581382.56]
[2995,36357165.439999998]
[2996,21506939]
[2997,47202360.100000001]
[2998,5580026.2699999996]
[2999,443445]
[3001,271010638.37]
[3003,7566508.8600000003]
[3004,7566508.8600000003]
[3010,40766271]
[3011,4771805]
[3017,13890615]
[3018,444418]
[3021,2656880773]
[3022,7932465]
[3100,7462720]
[3109,7462720]
[3164,92668658.310000002]
[3165,92668658.310000002]
[3166,92668658.310000002]
[3167,33869368]
[3168,492689946]
[3169,123178562]
[3170,391324546]
[3171,101365400]
[3172,1340477041.29]
[3173,21280735]
[3174,418035742]
[3175,88363426]
[3176,466366300]
[3177,-48330558]
[3178,38836275.850000001]
[3190,14870822]
[3191,60153160]
[3192,10210782]
[3193,117396711]
[3194,-57243551]
[3195,124844476.53999999]
[3197,833358]
[3198,47510]
[3199,47510]
[3200,785848]
[3201,25414619.439999998]
[3212,172726040]
[3213,3093694288]
[3214,1798259672]
[3215,2085549808]
[3216,1008144480]
[3217,217541717.79999998]
[3234,112195370]
[3235,1560676727]
[3236,37519303]
[3237,66590908]
[3238,1494085819]
[3239,227490963.53999999]
[3255,1488458]
[3256,323868256]
[3257,418001221]
[3258,-94132965]
[3259,-1464306.6900000013]
[3260,2256425503]
[3261,49690]
[3262,2255010886.3099999]
[3305,1900301857.5799999]
[3306,18549915.539999999]
[3307,451035594.07999998]
[3308,3943165.91]
[3309,82769563.00999999]
[3310,2109903]
[3311,20241161.149999999]
[3312,339230]
[3313,3096769]
[3314,94699]
[3315,61381968]
[3316,2966979]
[3319,2524153535.8200002]
[3320,28028800.449999999]
[3326,104177180.84999999]
[3327,93712044.590000004]
[3328,763978]
[3329,104177180.84999999]
[3330,93712044.590000004]
[3331,763978]
[3344,12940252]
[3345,1116071]
[3347,75372]
[3350,6379387847.3199997]
[3353,1157395148.2]
[3356,1402570813]
[3358,694514031.44000006]
[3361,391362208.50999999]
[3364,2156084898]
[3366,1707673210.51]
[3374,209422340.56999999]
[3385,302610041.5]
[3386,178715504.63]
[3387,123894536.86999999]
[3388,185849381.29533258]
[3389,309743918.16533262]
[3390,953569586]
[3391,1082582720.8200002]
[3392,978241833]
[3393,1057910473.8199999]
[3398,1057910473.8199999]
[3421,63189]
[3422,13644]
[3423,277514.11]
[3424,110678]
[3425,103294]
[3427,571622.11]
[3429,1738]
[3431,85000]
[3432,9154948]
[3458,8781382]
[3469,895457]
[3470,1559255]
[3471,10866998]
[3473,14441016]
[3485,249498742.78999999]
[3487,11024911]
[3489,88053333]
[3490,17]
[3491,348798490.78999996]
[3500,-223]
[3501,12489342]
[3504,29592076]
[3505,74160835]
[3506,245045579.59]
[3507,348798490.59000003]
[3508,58250623.359999999]
[3509,500364]
[3510,58750987.359999999]
[3511,165652408.05000001]
[3512,238830]
[3513,741730]
[3514,166632968.05000001]
[3515,-107881980.69]
[3516,4557]
[3518,98166880]
[3519,3675955]
[3521,49338]
[3522,2623139]
[3523,111515424]
[3524,848251]
[3525,1048505]
[3526,110466919]
[3527,2584938.3100000005]
[3528,316422681]
[3529,238630]
[3530,319246249.31]
[3556,275252]
[3557,788477]
[3558,1063729]
[3559,22247]
[3560,1085976]
[3561,1085976]
[3563,42747]
[3564,131500]
[3565,174247]
[3567,174247]
[3568,174247]
[3570,17261804.780000001]
[3571,11634264]
[3572,28896068.780000001]
[3573,1530958]
[3574,30427026.780000001]
[3575,30427026.780000001]
[3577,229714]
[3578,789274]
[3579,1018988]
[3581,1018988]
[3582,1018988]
[3584,96689869.049999997]
[3585,35203020.219999999]
[3586,131892889.27]
[3588,131892889.27]
[3589,131892889.27]
[3591,550497]
[3592,337505]
[3593,888002]
[3594,26902]
[3595,914904]
[3599,1895464]
[3607,115158083.83]
[3608,48914217.219999999]
[3609,164072301.05000001]
[3610,1580107]
[3611,165652408.05000001]
[3612,238830]
[3613,238830]
[3617,166632968.05000001]
[3620,-107881980.69]
[3637,52950]
[3638,147304]
[3641,52950]
[3642,147304]
[3656,716428]
[3660,1739617]
[3661,2520532]
[3662,1739617]
[3663,2520532]
[3664,36774589.710000001]
[3665,28893788.710000001]
[3666,7880801]
[3667,27790682.593277302]
[3668,35671483.593277298]
[3669,228954581.96999997]
[4013,102425]
[4014,291264]
[4015,66473]
[4016,3210]
[4017,1754]
[4019,465126]
[4020,442158]
[4021,46296]
[4022,2238334]
[4023,27086]
[4026,2753874]
[4041,202]
[4042,425521815]
[4043,202]
[4044,19309516]
[4046,406212299]
[4048,7888082.1600000001]
[4050,414100381.16000003]
[4052,6473039168.8000002]
[4053,8409771]
[4055,829841]
[4057,19598113]
[4061,29269321069.660004]
[4062,2276863500.7600002]
[4063,2196831903.8000002]
[4064,1375908299.74]
[4065,648400385.33999991]
[4066,259466173.61000001]
[4067,92668658.310000002]
[4069,58750987.359999999]
[4070,6473039168.8000002]
[4071,8409771]
[4072,829841]
[4073,19598113]
[4075,28030209428.369999]
[4076,2189696666.9099998]
[4077,2987434666]
[4078,1193820272.1999998]
[4079,623771613.89999998]
[4080,1526061029.0699999]
[4083,166632968.05000001]
[4095,183847]
[4096,183847]
[4104,61745]
[4105,61745]
[4110,21557256289]
[4111,19912031421]
[4112,3256361735]
[4116,-271088535]
[4128,213723]
[4138,1586397]
[4139,119567]
[4140,261062]
[4141,2357026]
[4142,2357026]
[4149,14776035]
[4150,14776035]
[4166,1032831]
[4204,2090217.5980000007]
[4205,365132.63799999992]
[4206,167378.72269999998]
[4207,2622742]
[4208,11966241857]
[4209,7677204]
[4237,2321860]
[4239,1742547]
[4240,154636]
[4241,1785941]
[4242,489371]
[4243,30000]
[4244,392633]
[4246,144854]
[4248,273421]
[4251,142381]
[4255,8557]
[4256,26234]
[4266,219465]
[4267,2982381]
[4268,61379]
[4269,25000]
[4270,18764922]
[4271,16880299]
[4274,28]
[4275,531755]
[4277,1304]
[4279,198257]
[4283,9672877]
[4290,33097]
[4297,39535882.890000001]
[4298,3802]
[4299,86561]
[4301,108331588.93000001]
[4303,287900]
[4304,9775]
[4311,287900]
[4318,2156985.77]
[4319,14427]
[4330,150416]
[4334,2324191.77]
[4335,14427]
[4346,15319632]
[4348,160578]
[4349,35211]
[4350,21063617]
[4352,161882]
[4353,35370]
[4354,25145647]
[4355,48571]
[4356,2518]
[4357,72031016.99000001]
[4360,18747]
[4373,48923768]
[4376,49929.508999999976]
[4380,561491]
[4382,48923768]
[4385,4244]
[4386,175640]
[4700,4862869]
[4731,31711636]
[4732,1109824]
[4733,6560200]
[4734,31316]
[4735,3471]
[4736,15570530]
[4740,103241]
[4744,19810593]
[4745,19692]
[4752,5]
[4791,31127021]
[4792,175486]
[4794,102]
[4803,19564]
[4804,220938]
[4813,18449707]
[4814,651682]
[4821,1988407]
[4824,279]
[4854,2686]
[4855,4498]
[4857,8752]
[4883,335625]
[4889,9775]
[4934,479098511861]
[4935,46665308965.365059]
[4936,21557256289]
[4939,25000]
[4951,60484612]
[4952,213013589]
[4953,685225]
[4961,130408311]
[4962,39896536]
[4963,103878579]
[4965,28556306.710000001]
[4966,1661788]
[4995,122606950]
[5000,12252083920.279999]
[5002,480103035.32999998]
[5003,202]
[5004,172919]
[5005,12760916383.32]
[5006,1347483.27]
[5007,1456414]
[5008,429139083.54000002]
[5009,18579713]
[5010,450522693.80999994]
[5011,17250859]
[5012,4092120]
[5013,3305114.52]
[5014,16089575]
[5015,416252]
[5016,668152]
[5017,94779]
[5018,287538]
[5020,4219602]
[5021,25169238]
[5022,351167]
[5023,3645479]
[5024,2360]
[5025,615343]
[5026,76877945.520000011]
[5027,92393570.680000007]
[5028,-944805]
[5029,91448765.680000007]
[5030,2876457]
[5031,36610244]
[5032,8054753]
[5033,4351472.91]
[5034,14131487]
[5035,202573879.63]
[5036,20707284.780000001]
[5037,3169823]
[5038,69031493]
[5039,4895864]
[5040,18307977]
[5041,116112441.78]
[5042,97974708.289999992]
[5043,928974]
[5044,668033]
[5045,2680360]
[5046,2101789]
[5047,70650]
[5048,34664]
[5049,126647]
[5050,2472347]
[5051,107058172.29000001]
[5052,11025312]
[5053,23642234.25]
[5054,12034366]
[5055,39914463.239999995]
[5056,2231649]
[5057,46485943]
[5058,199097735.38999999]
[5059,489164959.88]
[5060,14294675241.91]
[5061,10335828]
[5062,2447361]
[5063,157063]
[5064,12940252]
[5065,5288907211.04]
[5066,2891798]
[5071,5312237123.04]
[5072,143988242]
[5073,74146985.340000004]
[5074,102700466.7]
[5076,49465577.729999997]
[5078,6507956]
[5081,4501046]
[5086,381583694.76999998]
[5087,1140963]
[5091,17250525]
[5092,161985]
[5100,21557001]
[5102,82862094]
[5103,451518]
[5104,83313612]
[5106,7232853.2000000002]
[5107,18605581]
[5110,3605207]
[5114,296180]
[5116,48843314]
[5117,49139494]
[5120,75580]
[5126,12813]
[5133,8861289]
[5135,388407799]
[5138,830080]
[5139,2669]
[5153,1117903769.9699998]
[5162,6430140893.0099993]
[5163,14097406]
[5164,14433031]
[5169,48134935]
[5171,68048769]
[5172,16790]
[5178,428075709.91000003]
[5179,1757513]
[5180,131833079.70999999]
[5181,3705697]
[5182,10003623]
[5185,599323326.62]
[5186,620751854]
[5187,2123307]
[5194,424331]
[5195,5212230]
[5199,640179791]
[5213,10130134.620000001]
[5214,3476037]
[5217,349820359.12]
[5218,38023088]
[5219,47137]
[5225,401695012.74000001]
[5240,5748521]
[5243,15421398]
[5249,1577535]
[5251,1331582]
[5252,54013]
[5254,1851738]
[5256,1650086]
[5259,1976043713.9400001]
[5265,2058525513.9400001]
[5266,22796281900.859997]
[5267,1515792124.6700001]
[5269,8189083]
[5270,145750]
[5272,2296059]
[5273,1526423016.6700001]
[5274,224567.61]
[5275,208542]
[5276,79902948]
[5277,990609.7]
[5278,81326667.310000002]
[5279,13843042.029999999]
[5280,-635518]
[5281,13207524.029999999]
[5282,24252]
[5283,322758]
[5284,2298443]
[5286,228932]
[5287,2874385]
[5288,30579381.359999999]
[5289,6114286]
[5290,1079759]
[5291,3705813]
[5292,876630]
[5293,30683162.25]
[5294,89533479.750000015]
[5295,1713365072.7600002]
[5296,605000]
[5298,511071]
[5299,1116071]
[5300,543668721]
[5306,544320403]
[5330,65000]
[5332,10000]
[5333,75000]
[5340,326020]
[5351,1796186]
[5360,546116589]
[5361,5084707]
[5362,5084707]
[5364,19692]
[5370,251]
[5383,251]
[5401,149613]
[5402,6211]
[5409,155824]
[5440,2751598]
[5446,7855997]
[5447,2268453729.7600002]
[5448,1569168206.8000002]
[5451,3614308]
[5452,1572782514.8000002]
[5453,230271.46]
[5454,50717]
[5455,63714897]
[5456,589190]
[5457,64585075.460000001]
[5458,12248506.539999999]
[5459,814098]
[5460,13062604.539999999]
[5461,1750000]
[5462,165796]
[5463,766615]
[5464,106792657]
[5465,154545732]
[5466,1804975926.8000002]
[5467,336372009]
[5473,336372009]
[5476,6560200]
[5483,342932209]
[5491,2196831903.8000002]
[5492,623839199.68000007]
[5495,2902022]
[5496,626741221.68000007]
[5497,87591.52]
[5498,14725]
[5499,9073520]
[5500,386976]
[5501,9562812.5199999996]
[5502,6794708]
[5503,14900627]
[5504,990977]
[5505,5114422]
[5506,259775]
[5507,59325]
[5508,8000]
[5509,52017]
[5510,16511]
[5511,11321]
[5512,133200]
[5513,4217175]
[5514,187716]
[5517,15171]
[5518,32803128]
[5519,7627729]
[5520,-317679]
[5521,7310050]
[5522,101579]
[5523,705899]
[5524,3196144]
[5525,7056536]
[5526,13091893]
[5527,689509105.20000005]
[5528,45553]
[5529,29339]
[5530,480]
[5531,75372]
[5532,47718521]
[5533,1574961]
[5538,49293761]
[5539,4038]
[5540,5625]
[5541,121780]
[5543,183563]
[5553,315006]
[5554,276270265.91999996]
[5556,351399401.62]
[5557,627678224.53999996]
[5564,320]
[5566,6343913]
[5569,114119]
[5583,634491650.53999996]
[5592,683785411.53999996]
[5593,200000]
[5594,200000]
[5603,768092]
[5616,768092]
[5634,55571]
[5635,1498]
[5642,57069]
[5647,12534]
[5652,1508570]
[5658,1708570]
[5659,1375078458.74]
[5660,264930632.84]
[5661,1812761]
[5662,307673998.5]
[5663,1606190]
[5664,576023582.33999991]
[5665,126232]
[5666,46992]
[5667,50437566]
[5668,113249]
[5669,50724039]
[5670,5112665]
[5671,-296936]
[5672,4815729]
[5673,15764]
[5674,70677]
[5675,908622]
[5676,1447124]
[5681,12636095]
[5687,12636095]
[5688,5193]
[5691,10205]
[5693,2031]
[5695,2031]
[5702,5972]
[5704,565581]
[5709,587260]
[5717,13223355]
[5723,5]
[5729,1011938]
[5730,154]
[5738,159]
[5742,1012120]
[5756,37316]
[5760,1012852]
[5761,634]
[5768,1050802]
[5783,24]
[5786,24]
[5802,2166551]
[5808,2166556]
[5809,648400385.33999991]
[5810,9526435]
[5811,37018]
[5812,9563453]
[5813,1380]
[5815,2858909]
[5816,2022291]
[5817,4882580]
[5818,23256979.82]
[5819,-785625]
[5820,22471354.82]
[5821,11322363.300000001]
[5822,657360]
[5823,30276]
[5824,40167058]
[5825,146522595.79000002]
[5826,36938304]
[5832,36938304]
[5838,18734326]
[5845,55672630]
[5846,184181]
[5847,184181]
[5853,755447]
[5854,239868060.61000001]
[5855,68447906.560000002]
[5856,200731]
[5857,68648637.560000002]
[5858,15237.8]
[5859,2799]
[5860,353851]
[5861,3344]
[5862,375231.8]
[5863,24237748.949999999]
[5864,-763506]
[5865,23474242.949999999]
[5866,59999]
[5868,610]
[5869,170546]
[5885,92668658.310000002]
[5924,54994108.559999995]
[5925,230168]
[5926,55224276.559999995]
[5927,15424.8]
[5928,2940]
[5929,10000]
[5930,22591]
[5931,50955.8]
[5932,2918162]
[5933,-173153]
[5934,2745009]
[5936,16098]
[5937,54407]
[5938,230382]
[5939,475364]
[5945,475364]
[5953,500364]
[5962,58750987.359999999]
[5963,633010474.33999991]
[5964,183439983.61000001]
[5965,92668658.310000002]
[5967,58250623.359999999]
[5970,136549465.72]
[5971,2520532]
[5974,55542506.499999993]
[6013,1791546.2299999981]
[6015,396099891]
[6016,6074500]
[6017,394497187]
[6018,7677204]
[6020,59419409]
[6021,32891331]
[6022,586973]
[6023,3408503]
[6024,569641]
[6025,615768]
[6026,42282890]
[6027,308635]
[6028,98208]
[6029,540682293]
[6030,6168796]
[6031,46274563]
[6032,133835657]
[6033,842754]
[6034,7919945]
[6035,13233739]
[6036,26]
[6038,43408202]
[6039,4023302]
[6040,833494]
[6041,4532239]
[6042,480959]
[6043,3880069]
[6044,2838161]
[6045,36397]
[6046,123279]
[6047,3044871]
[6049,223]
[6052,26963999]
[6053,1183384]
[6054,9279578]
[6055,2807942]
[6056,57075]
[6057,150825]
[6059,2546242]
[6062,691]
[6063,321514964.94]
[6064,41244931]
[6065,16661191]
[6066,4530630]
[6067,25468142]
[6068,5349622]
[6069,14605891]
[6070,35295475]
[6071,2056950]
[6072,6940274]
[6073,1005135]
[6075,795076]
[6076,51743]
[6077,8973820]
[6078,2603]
[6081,718625141]
[6082,84055034]
[6083,4361003]
[6084,25516415]
[6085,2602943]
[6086,126351350]
[6087,797239]
[6088,5300146]
[6089,14911041]
[6090,17909637]
[6091,5886022]
[6092,1250]
[6093,937785]
[6094,196148]
[6095,14975533]
[6097,19510]
[6098,120250]
[6099,13787050]
[6100,2183]
[6101,64839]
[6102,3114575]
[6104,4826350]
[6108,627450119]
[6109,3190783]
[6111,2368811]
[6112,6132972]
[6113,17008]
[6115,692857]
[6116,14716]
[6119,34076]
[6120,57898759]
[6121,48216156]
[6122,1500000]
[6130,99240823]
[6153,75903320]
[6154,146370821.78]
[6155,321514964.77999997]
[6156,197077214.94]
[6157,56347587]
[6158,65198172]
[6159,344492569.02999991]
[6160,5513371]
[6162,350005940.02999991]
[6163,7417186]
[6164,357423126.02999991]
[6165,31029]
[6166,366851717.16999996]
[6167,7417186]
[6168,374268903.16999996]
[6169,-16845777.140000001]
[6171,7793]
[6172,1000197]
[6176,17908]
[6177,1892798]
[6178,2866909]
[6179,11537228]
[6180,3153335]
[6181,3470287]
[6182,1140727]
[6183,398105]
[6184,670231]
[6185,2231032]
[6186,3207546]
[6187,1048241]
[6188,4850284]
[6190,500000]
[6191,687190]
[6192,14127]
[6198,46412640]
[6199,2602928]
[6200,5469837]
[6201,-3577039]
[6202,-20422816.140000001]
[6203,242093776]
[6204,603182]
[6205,222274141.86000001]
[6206,1341753798.29]
[6207,40528712.850000001]
[6208,216770373.79999998]
[6209,124600299.53999999]
[6210,25451943.439999998]
[6211,227352560.53999999]
[6212,-1414616.6900000013]
[6213,-19819634.140000001]
[6214,2823568.3100000005]
[6215,172.98246073629457]
[6216,-8587304094.0978708]
[6217,-128809632907.81458]
[6218,-6440478646.0384264]
[6219,-6440479191.7716751]
[6220,-543147063037.39252]
[6221,-85873051392.494553]
[6222,-270500111588.50998]
[6223,-311289818702.44122]
[6224,63657582]
[6225,4073256]
[6226,37253089]
[6227,16133922]
[6228,350706755]
[6229,2228850]
[6231,377894]
[6236,182272]
[6237,336663561.00999999]
[6239,415238]
[6240,337078799.00999999]
[6241,117082.29]
[6242,19439]
[6243,1617577]
[6244,35743]
[6245,1789841.29]
[6246,444886]
[6249,50790]
[6250,174691]
[6251,42183]
[6255,2106532]
[6256,-124706]
[6257,1981826]
[6258,2802]
[6259,1407073]
[6260,2740217.14]
[6261,520000]
[6262,7087]
[6264,7744323]
[6268,1677598]
[6269,138774696]
[6270,8329878]
[6271,2645511]
[6272,180208]
[6273,184603]
[6274,9933371]
[6275,109937]
[6276,128260]
[6277,124975]
[6278,7456717]
[6279,2231902]
[6280,2676962]
[6281,173305]
[6284,104244]
[6288,234735]
[6289,1833003.7300000002]
[6290,3642102.73]
[6291,344492569.02999991]
[6292,5512259]
[6296,5512259]
[6297,4923]
[6298,1836317]
[6300,89]
[6301,46798]
[6304,87582]
[6321,1681]
[6327,151432]
[6334,1112]
[6335,1112]
[6336,5513371]
[6340,188604]
[6353,1414796]
[6605,14557]
[6651,1162753]
[6652,193446]
[6653,1380914]
[6660,2204118]
[6661,11321650]
[6666,185326188.94]
[6670,1770463]
[6676,342813]
[6678,34162841]
[6681,340553]
[6772,1520123]
[6773,2397564]
[6774,48635868]
[6777,340553]
[6780,9684]
[6783,32710308]
[6784,17245642]
[6785,2644749]
[6786,260368]
[6787,262259824.94]
[6788,1900230]
[6789,3426393]
[6790,40774]
[6791,51187]
[6792,102867175.37]
[6793,4327555]
[6794,11765]
[6795,4530]
[6797,13787086]
[6798,9639]
[6799,6038]
[6800,3807079]
[6801,135316]
[6802,1626475]
[6803,40484]
[6806,5564]
[6807,6811]
[6808,456]
[6809,6031]
[6810,47262930.890000001]
[6811,65477]
[6812,397695]
[6813,7516]
[6814,17392]
[6815,5189]
[6816,5189]
[6817,9363481]
[6818,9363481]
[6819,282740286]
[6820,282740286]
[6821,1743072]
[6822,1743072]
[6823,255270]
[6824,255270]
[6827,37515]
[6828,37515]
[6829,1474533]
[6830,1474533]
[6833,978527]
[6834,978527]
[6835,18386]
[6836,18386]
[6839,1128041]
[6840,1128041]
[6841,47150352]
[6842,21605122]
[6843,126742]
[6844,406199]
[6845,67976]
[6846,713674]
[6847,227017]
[6848,177306]
[6849,24108]
[6850,252029]
[6851,70112]
[6852,252621]
[6853,125688]
[6854,110171]
[6855,641643]
[6856,1912000]
[6857,5960829]
[6858,654563]
[6859,12420830]
[6860,239002]
[6861,327713]
[6862,9163]
[6863,18709372]
[6864,902728]
[6865,88893]
[6866,972783]
[6867,203409]
[6868,88106]
[6869,154295]
[6870,56073]
[6871,1485285]
[6872,2285643]
[6873,15800745]
[6874,5058]
[6875,3344]
[6876,1271799]
[6879,20851874]
[6880,20515454]
[6881,446597]
[6882,1116962]
[6883,1932663]
[6884,1749864]
[6885,1144]
[6886,3083]
[6887,1933807]
[6888,1752947]
[6889,61999]
[6890,60080]
[6891,123161]
[6892,324463]
[6893,1175763]
[6894,155124]
[6895,2366]
[6896,142398]
[6897,1669912]
[6898,548483]
[6899,46799]
[6900,3081270]
[6901,1277347]
[6902,212058]
[6903,15597]
[6904,4228]
[6905,28985]
[6906,2756747]
[6907,26459]
[6908,35541]
[6909,2443393]
[6910,18777255]
[6911,74527]
[6912,21785829]
[6913,2588961]
[6914,299136]
[6915,351026]
[6916,46897654]
[6917,9901971]
[6918,1298134]
[6919,43304]
[6920,7805979]
[6921,7805979]
[6922,269359188]
[6923,269359188]
[6924,205900]
[6925,205900]
[6926,14638511]
[6927,14638511]
[6928,456405]
[6929,456405]
[6930,1306529]
[6931,1306529]
[6932,1718382]
[6933,1718382]
[6934,295490894]
[6935,525020]
[6936,525020]
[6937,2029848]
[6938,2029848]
[6941,700020]
[6942,700020]
[6943,61960]
[6944,61960]
[6945,15369]
[6946,15369]
[6947,305406]
[6948,1085771]
[6949,1391177]
[6950,305406]
[6951,4417988]
[6952,4723394]
[6953,141875]
[6954,142785]
[6955,1754742]
[6956,1754742]
[6957,34149394]
[6958,34149394]
[6959,95346140]
[6960,31550397]
[6964,6031]
[6965,1330499]
[6966,2098]
[6967,8445942]
[6968,611683]
[6969,3303]
[6971,81391]
[6972,9861135]
[6973,619812]
[6974,19390]
[6976,9880525]
[6977,619812]
[6978,878]
[6981,366322852.16999996]
[6983,2747391]
[6984,6425679]
[6985,182652]
[6986,94504]
[6987,94504]
[6988,371075]
[6989,371075]
[6990,9881403]
[6991,619812]
[6994,350005940.02999991]
[6998,1504327]
[6999,44425]
[7002,1504327]
[7003,44425]
[7006,1098343]
[7007,1098343]
[7008,316865]
[7009,316865]
[7010,1504327]
[7011,44425]
[7012,4790197.09]
[7013,4790197.09]
[7014,3599655]
[7015,3599655]
[7016,600478]
[7017,600478]
[7018,516647]
[7019,516647]
[7020,84192]
[7021,84192]
[7022,6009]
[7023,6009]
[7028,606313]
[7029,606313]
[7030,47458]
[7031,47458]
[7032,4088851.19]
[7033,4088851.19]
[7036,79135]
[7037,79135]
[7038,27164243]
[7039,6516]
[7042,27164243]
[7043,6516]
[7045,151672]
[7046,151672]
[7052,716428]
[7054,868100]
[7055,27164243]
[7056,6516]
[7057,238588]
[7059,670532]
[7060,37396]
[7062,58265]
[7065,1004781]
[7066,121440]
[7067,1941905]
[7068,64991014]
[7069,74545]
[7070,2588]
[7071,638403]
[7073,74]
[7074,67769969]
[7075,15497]
[7076,279931]
[7077,4245504.7200000007]
[7080,56501]
[7083,4597433.7200000007]
[7084,69702]
[7085,291996]
[7086,51584854]
[7087,238689]
[7088,25314]
[7089,326947]
[7092,52537502]
[7093,16602104]
[7094,1210991]
[7095,12175220]
[7096,160120]
[7097,1741072]
[7098,218148]
[7099,71537]
[7101,32179192]
[7102,55764]
[7103,41629]
[7104,832826]
[7107,826885]
[7110,1757104]
[7111,122117538.06]
[7112,24799266.579999998]
[7113,28411568.189999998]
[7114,599296.37]
[7115,1987937]
[7116,675684]
[7117,242830]
[7118,377416]
[7119,179211536.19999999]
[7122,23134]
[7128,23134]
[7129,204679]
[7130,64896]
[7131,11236321.25]
[7132,43294]
[7133,27126]
[7134,123154]
[7137,11699470.25]
[7138,139447712.06]
[7139,28630614.579999998]
[7140,189629246.16]
[7141,1161692.3700000001]
[7142,3837743]
[7143,2923987]
[7144,314367]
[7145,377490]
[7146,366322852.16999996]
[7147,30962]
[7148,30962]
[7151,67]
[7152,67]
[7153,31029]
[7154,31029]
[7155,139447712.06]
[7156,28630614.579999998]
[7157,189629246.16]
[7158,1161692.3700000001]
[7159,3837743]
[7160,3452852]
[7161,314367]
[7162,377490]
[7163,366851717.16999996]
[7164,-16845777.140000001]
[7165,108200]
[7167,30177]
[7169,138377]
[7173,138377]
[7175,238830]
[7176,238830]
[7179,180239]
[7180,180239]
[7181,741730]
[7182,741730]
[7183,138377]
[7185,53824927]
[7186,9331071]
[7187,9459239]
[7188,1222808]
[7189,190474]
[7190,80316493.819999993]
[7191,19999526.550000001]
[7192,984117]
[7193,1349138]
[7194,41129]
[7195,84810]
[7196,10428749]
[7197,2182358]
[7198,254676]
[7199,693133]
[7200,215730]
[7201,7910]
[7202,37800919.710000001]
[7203,6060777.1799999997]
[7204,1441464]
[7205,816405]
[7206,1050329]
[7207,86549]
[7530,1414796]
[7531,2380]
[7532,1190]
[7534,3570]
[7535,1411226]
[7536,28925765]
[7537,289617]
[7538,11295]
[7539,29204087]
[7540,9374779]
[7541,545442]
[7542,11295]
[7543,9908926]
[7544,19295161]
[7545,154248989.25999999]
[7546,2441057.44]
[7548,156690046.69999999]
[7549,54060313.890000001]
[7550,4377901.55]
[7552,58438215.439999998]
[7553,98251831.25999999]
[7554,46414943.93]
[7555,5376737.6899999995]
[7556,1307469]
[7557,50484212.620000005]
[7558,40291842.950000003]
[7559,3850567]
[7560,1574931]
[7561,42567478.950000003]
[7562,7916733.6699999999]
[7563,134348857]
[7564,13434885.699999996]
[7570,1331937765.6500001]
[7575,32723]
[7576,1539978]
[7577,439]
[7578,34902]
[7590,286379]
[7593,8911150]
[7594,1784421]
[7595,17000]
[7596,17136081]
[7597,3531133]
[7598,13830568]
[7599,90923]
[7602,353175]
[7603,48687]
[7605,521244]
[7606,813112]
[7607,37052]
[7608,795000]
[7609,410400]
[7610,1664755]
[7611,3075016]
[7612,14103898]
[7613,11765442]
[7614,903175]
[7616,288908]
[7617,2148844]
[7618,2143075]
[7619,4751395]
[7620,40433]
[7621,40311]
[7622,175000]
[7623,36348180]
[7624,64380359]
[7625,249222472]
[7626,4994178]
[7629,14200740]
[7630,95]
[7631,53706]
[7635,14254541]
[7636,22400]
[7638,1257532]
[7639,8257]
[7644,1288189]
[7645,181415]
[7646,48069]
[7647,51885609]
[7648,3517061]
[7649,2663537.23]
[7650,97435.09]
[7651,7306904.46]
[7652,92268617.579999998]
[7653,16457373.93]
[7654,3103613]
[7655,419190]
[7656,14575787]
[7657,112611554.81]
[7658,24280903.48]
[7659,449689269.52999997]
[7660,20956661.91]
[7661,51379545.140000001]
[7662,114416]
[7663,17078070.77]
[7664,24612084]
[7665,24085]
[7666,41714239.769999996]
[7667,35306169]
[7668,431118]
[7669,94314060.909999996]
[7670,75023622.49000001]
[7671,70183102.900000006]
[7672,6295768.5700000003]
[7673,331748]
[7674,360408]
[7676,27022763]
[7677,252151]
[7678,460630]
[7679,5129537.1000000015]
[7681,43160339.900000006]
[7682,6043617.5700000003]
[7684,561491]
[7685,561491]
[7686,48635868]
[7687,67070538]
[7688,146451090]
[7689,12249576]
[7690,21978696]
[7691,701289]
[7692,72653795]
[7693,866900]
[7694,6995555]
[7695,14028967.1]
[7697,87060037.129999995]
[7698,55532953.009999998]
[7699,142592990.13999999]
[7700,54797]
[7701,704161333]
[7702,704161333]
[7704,11601939]
[7707,198119]
[7708,27406]
[7712,1220276]
[7713,390000]
[7714,153556]
[7715,543556]
[7716,6559]
[7717,6559]
[7718,95572]
[7719,95572]
[7720,37852]
[7721,37852]
[7722,719170]
[7723,719170]
[7724,203421]
[7725,203421]
[7726,294415]
[7727,294415]
[7728,497836]
[7729,497836]
[7735,497836]

{"sheet":"ESTL,CoC,LkPk ttls 5-1-19","index":24,"n_rows":1191,"n_cols":5,"rows_kept":1191,"cut":false,"hidden":true,"merged":[]}
["txtFieldNum","City of Clay","Lake Park","East STL","adjusted"]
[4,null,0,1317518,1317518]
[12,null,0,null,0]
[16,null,0,53962316,53962316]
[25,null,0,null,0]
[27,null,0,2900055,2900055]
[30,null,0,7739318,7739318]
[31,null,0,43452423,43452423]
[32,null,0,53962316,53962316]
[36,null,0,329379,329379]
[44,null,0,null,0]
[48,null,0,1694294,1694294]
[56,null,0,null,0]
[58,null,0,210583,210583]
[61,null,0,383022,383022]
[62,null,0,null,0]
[63,null,0,1694294,1694294]
[65,null,0,1138861,1138861]
[68,null,0,null,0]
[69,null,0,570310,570310]
[70,null,0,7370322,7370322]
[73,null,0,728106,728106]
[78,null,0,728106,728106]
[79,null,0,1757627,1757627]
[80,null,0,7370322,7370322]
[84,null,0,131752,131752]
[92,null,0,null,0]
[96,null,0,2519922,2519922]
[103,null,0,null,0]
[105,null,0,733927,733927]
[108,null,0,858330,858330]
[109,null,0,null,0]
[110,null,0,2519922,2519922]
[112,null,0,1526804,1526804]
[116,null,0,null,0]
[119,null,0,4937924,4937924]
[123,null,0,null,0]
[124,null,0,976129,976129]
[127,null,0,976129,976129]
[128,null,0,2040364,2040364]
[129,null,0,4937924,4937924]
[138,null,0,null,0]
[142,null,0,1386767,1386767]
[147,null,0,null,0]
[150,null,0,null,0]
[151,null,0,null,0]
[152,null,0,1386767,1386767]
[212,null,0,815300,815300]
[213,null,0,214644813,214644813]
[214,null,0,4604112,4604112]
[215,null,0,20966469,20966469]
[218,null,0,241030694,241030694]
[219,null,0,241030694,241030694]
[220,null,0,241030694,241030694]
[221,null,0,6642216,6642216]
[222,null,0,23577784,23577784]
[223,null,0,30220000,30220000]
[224,null,0,30220000,30220000]
[226,null,0,30220000,30220000]
[227,null,0,30220000,30220000]
[259,null,0,null,0]
[644,null,0,15183063,15183063]
[645,null,0,null,0]
[651,null,0,181439,181439]
[656,null,0,535228,535228]
[657,null,0,194052,194052]
[658,null,0,null,0]
[659,null,0,26930010,26930010]
[660,null,0,1720517,1720517]
[661,null,0,558433,558433]
[662,null,0,314722,314722]
[663,null,0,488843,488843]
[664,null,0,348066,348066]
[665,null,0,75937,75937]
[666,null,0,3506518,3506518]
[667,null,0,2480594,2480594]
[668,null,0,434427,434427]
[669,null,0,10300,10300]
[670,null,0,2925321,2925321]
[671,null,0,null,0]
[672,null,0,990976,990976]
[673,null,0,1609578,1609578]
[674,null,0,2894209,2894209]
[675,null,0,91313,91313]
[676,null,0,2985522,2985522]
[677,null,0,null,0]
[678,null,0,625775,625775]
[679,null,0,2615,2615]
[680,null,0,27796,27796]
[681,null,0,77657,77657]
[682,null,0,231731,231731]
[684,null,0,965574,965574]
[685,null,0,750447,750447]
[686,null,0,369632,369632]
[687,null,0,null,0]
[688,null,0,382838,382838]
[690,null,0,501145,501145]
[692,null,0,2004062,2004062]
[693,null,0,577912,577912]
[694,null,0,14574487,14574487]
[695,null,0,183519,183519]
[696,null,0,41688016,41688016]
[702,null,0,2345912,2345912]
[703,null,0,null,0]
[709,null,0,43022,43022]
[714,null,0,102377,102377]
[715,null,0,19566,19566]
[716,null,0,null,0]
[717,null,0,5352930,5352930]
[718,null,0,377350,377350]
[719,null,0,108203,108203]
[720,null,0,90123,90123]
[721,null,0,102847,102847]
[722,null,0,67669,67669]
[723,null,0,10592,10592]
[724,null,0,756784,756784]
[725,null,0,529034,529034]
[726,null,0,89681,89681]
[727,null,0,null,0]
[728,null,0,618715,618715]
[729,null,0,2192,2192]
[730,null,0,146992,146992]
[731,null,0,268727,268727]
[732,null,0,481585,481585]
[733,null,0,12003,12003]
[734,null,0,493588,493588]
[735,null,0,null,0]
[736,null,0,78236,78236]
[737,null,0,42155,42155]
[738,null,0,2401,2401]
[740,null,0,36161,36161]
[742,null,0,158953,158953]
[743,null,0,145202,145202]
[744,null,0,66772,66772]
[745,null,0,null,0]
[746,null,0,59224,59224]
[748,null,0,95182,95182]
[750,null,0,366380,366380]
[751,null,0,51441,51441]
[752,null,0,2714588,2714588]
[753,null,0,35840,35840]
[754,null,0,8103358,8103358]
[760,null,0,708049,708049]
[772,null,0,58842,58842]
[773,null,0,450543,450543]
[775,null,0,3303205,3303205]
[776,null,0,35613,35613]
[777,null,0,6489,6489]
[778,null,0,318234,318234]
[779,null,0,5016,5016]
[780,null,0,null,0]
[781,null,0,null,0]
[782,null,0,365352,365352]
[783,null,0,880056,880056]
[784,null,0,134,134]
[785,null,0,22633,22633]
[786,null,0,902823,902823]
[787,null,0,112939,112939]
[788,null,0,251399,251399]
[789,null,0,373094,373094]
[790,null,0,141352,141352]
[792,null,0,141352,141352]
[793,null,0,null,0]
[794,null,0,85822,85822]
[795,null,0,159359,159359]
[796,-148798,0,0,-148798]
[797,148798,0,2811494,2960292]
[798,null,0,17436,17436]
[800,null,0,3074111,3074111]
[801,null,0,32634,32634]
[802,null,0,331919,331919]
[803,null,0,38755,38755]
[804,null,0,157860,157860]
[806,null,0,302801,302801]
[808,null,0,863969,863969]
[809,null,0,9086,9086]
[810,null,0,5729787,5729787]
[811,null,0,429726,429726]
[812,null,0,10059830,10059830]
[818,null,0,446414,446414]
[819,null,0,null,0]
[825,null,0,405,405]
[830,null,0,87048,87048]
[831,null,0,271102,271102]
[832,null,0,null,0]
[833,null,0,1072898,1072898]
[834,null,0,45536,45536]
[835,null,0,null,0]
[836,null,0,1532,1532]
[837,null,0,null,0]
[838,null,0,null,0]
[839,null,0,null,0]
[840,null,0,47068,47068]
[841,null,0,100059,100059]
[842,null,0,null,0]
[843,null,0,null,0]
[844,null,0,100059,100059]
[845,null,0,3504,3504]
[846,null,0,64582,64582]
[847,null,0,90583,90583]
[848,null,0,26120,26120]
[850,null,0,26120,26120]
[851,null,0,null,0]
[852,null,0,51037,51037]
[853,null,0,57374,57374]
[854,-1470,null,null,-1470]
[855,1470,0,30624,32094]
[856,null,0,39748,39748]
[858,null,0,178783,178783]
[859,null,0,2091,2091]
[860,null,0,49445,49445]
[861,null,0,128922,128922]
[862,null,0,11138,11138]
[864,null,0,232235,232235]
[866,null,0,423831,423831]
[867,null,0,8409,8409]
[868,null,0,874853,874853]
[869,null,0,46222,46222]
[870,null,0,1993973,1993973]
[876,null,0,8623,8623]
[888,null,0,27381,27381]
[889,null,0,null,0]
[891,null,0,151108,151108]
[899,null,0,null,0]
[900,null,0,null,0]
[902,null,0,null,0]
[903,null,0,null,0]
[904,null,0,null,0]
[905,null,0,1310,1310]
[906,null,0,null,0]
[908,null,0,null,0]
[909,null,0,null,0]
[910,null,0,null,0]
[911,null,0,240893,240893]
[912,-7488,null,null,-7488]
[913,7488,0,9327,16815]
[914,null,0,null,0]
[916,null,0,250220,250220]
[920,null,0,null,0]
[922,null,0,79193,79193]
[924,null,0,79193,79193]
[925,null,0,3000,3000]
[926,null,0,333723,333723]
[927,null,0,22336,22336]
[928,null,0,507167,507167]
[934,null,0,null,0]
[935,null,0,null,0]
[946,null,0,null,0]
[947,null,0,27275,27275]
[948,null,0,null,0]
[949,null,0,5105578,5105578]
[957,null,0,176,176]
[958,null,0,null,0]
[960,null,0,176,176]
[961,null,0,11796,11796]
[962,null,0,27974,27974]
[963,null,0,111749,111749]
[964,null,0,null,0]
[966,null,0,null,0]
[967,null,0,null,0]
[968,null,0,88388,88388]
[971,null,0,null,0]
[974,null,0,88388,88388]
[977,null,0,null,0]
[978,null,0,32844,32844]
[980,null,0,null,0]
[982,null,0,32844,32844]
[984,null,0,233157,233157]
[986,null,0,139422,139422]
[993,null,0,5478157,5478157]
[1032,null,0,18791945,18791945]
[1033,null,0,null,0]
[1039,null,0,224866,224866]
[1044,null,0,810876,810876]
[1045,null,0,962538,962538]
[1046,null,0,null,0]
[1047,null,0,42137763,42137763]
[1048,null,0,2239058,2239058]
[1049,null,0,673125,673125]
[1050,null,0,724611,724611]
[1051,null,0,658977,658977]
[1052,null,0,415735,415735]
[1053,null,0,86529,86529]
[1054,null,0,4798035,4798035]
[1055,null,0,4030127,4030127]
[1056,null,0,564450,564450]
[1057,null,0,32933,32933]
[1058,null,0,4627510,4627510]
[1059,null,0,130431,130431]
[1060,null,0,1481923,1481923]
[1061,null,0,2455041,2455041]
[1062,null,0,3543266,3543266]
[1063,null,0,103316,103316]
[1064,null,0,3646582,3646582]
[1065,null,0,null,0]
[1066,null,0,929258,929258]
[1067,null,0,502396,502396]
[1068,-157756,0,30197,-127559]
[1069,157756,0,2929102,3086858]
[1070,null,0,338444,338444]
[1072,null,0,4729397,4729397]
[1073,null,0,930374,930374]
[1074,null,0,817768,817768]
[1075,null,0,167677,167677]
[1076,null,0,643904,643904]
[1078,null,0,1210556,1210556]
[1080,null,0,3770279,3770279]
[1081,null,0,649848,649848]
[1082,null,0,24676692,24676692]
[1083,null,0,717643,717643]
[1084,null,0,736534,736534]
[1091,null,0,68268632,68268632]
[1092,null,0,7537932,7537932]
[1160,null,0,2621285,2621285]
[1162,null,0,2621285,2621285]
[1164,null,0,2621285,2621285]
[1165,null,0,2621285,2621285]
[1168,null,0,487053,487053]
[1170,null,0,487053,487053]
[1172,null,0,487053,487053]
[1173,null,0,487053,487053]
[1176,null,0,1782914,1782914]
[1178,null,0,1782914,1782914]
[1179,null,0,null,0]
[1180,null,0,1782914,1782914]
[1181,null,0,1782914,1782914]
[1184,null,0,2201259,2201259]
[1186,null,0,2201259,2201259]
[1188,null,0,2201259,2201259]
[1189,null,0,2201259,2201259]
[1191,null,0,null,0]
[1192,null,0,66024,66024]
[1193,null,0,null,0]
[1195,null,0,66024,66024]
[1197,null,0,66024,66024]
[1198,null,0,66024,66024]
[1201,null,0,null,0]
[1203,null,0,null,0]
[1205,null,0,null,0]
[1206,null,0,null,0]
[1212,null,0,null,0]
[1214,null,0,null,0]
[1215,null,0,7160645,7160645]
[1216,null,0,null,0]
[1218,null,0,7160645,7160645]
[1219,null,0,null,0]
[1220,null,0,7160645,7160645]
[1221,null,0,null,0]
[1227,null,0,7160645,7160645]
[1228,null,0,-1678656,-1678656]
[1246,null,0,null,0]
[1247,null,0,null,0]
[1248,null,0,null,0]
[1251,null,0,1652074,1652074]
[1254,null,0,3180000,3180000]
[1255,null,0,2284,2284]
[1256,null,0,4834358,4834358]
[1257,null,0,4834358,4834358]
[1265,null,0,1652074,1652074]
[1268,null,0,3180000,3180000]
[1269,null,0,2284,2284]
[1270,null,0,4834358,4834358]
[1271,null,0,4834358,4834358]
[1272,null,0,-70171,-70171]
[1274,null,0,585809,585809]
[1278,null,0,585809,585809]
[1279,null,0,585809,585809]
[1280,null,0,9799,9799]
[1284,null,0,9799,9799]
[1285,null,0,9799,9799]
[1286,null,0,4247337,4247337]
[1290,null,0,4247337,4247337]
[1292,null,0,4247337,4247337]
[1293,null,0,2389,2389]
[1297,null,0,2389,2389]
[1298,null,0,2389,2389]
[1299,null,0,null,0]
[1303,null,0,null,0]
[1304,null,0,null,0]
[1305,null,0,null,0]
[1309,null,0,null,0]
[1314,null,0,null,0]
[1315,null,0,null,0]
[1316,null,0,4845334,4845334]
[1320,null,0,4845334,4845334]
[1326,null,0,null,0]
[1327,null,0,4845334,4845334]
[1328,null,0,-269490,-269490]
[1335,null,0,null,0]
[1341,null,0,8218,8218]
[1346,null,0,7912,7912]
[1347,null,0,16031,16031]
[1348,null,0,null,0]
[1349,null,0,832148,832148]
[1350,null,0,101029,101029]
[1351,null,0,16155,16155]
[1352,null,0,31461,31461]
[1353,null,0,31124,31124]
[1354,null,0,5808,5808]
[1355,null,0,9586,9586]
[1356,null,0,195163,195163]
[1357,null,0,52939,52939]
[1358,null,0,43703,43703]
[1359,null,0,null,0]
[1360,null,0,96642,96642]
[1361,null,0,24513,24513]
[1362,null,0,57580,57580]
[1363,null,0,224670,224670]
[1364,null,0,121354,121354]
[1365,null,0,1303,1303]
[1366,null,0,122657,122657]
[1367,null,0,null,0]
[1368,null,0,71934,71934]
[1370,null,0,320998,320998]
[1371,null,0,71790,71790]
[1372,null,0,6088,6088]
[1373,null,0,30125,30125]
[1375,null,0,500935,500935]
[1376,null,0,30013,30013]
[1377,null,0,31767,31767]
[1378,null,0,null,0]
[1379,null,0,36510,36510]
[1381,null,0,58090,58090]
[1383,null,0,156380,156380]
[1384,null,0,55736,55736]
[1385,null,0,1352183,1352183]
[1386,null,0,19371,19371]
[1387,null,0,2203702,2203702]
[1399,null,0,null,0]
[1405,null,0,8218,8218]
[1410,null,0,7912,7912]
[1411,null,0,16031,16031]
[1412,null,0,null,0]
[1413,null,0,832148,832148]
[1414,null,0,101029,101029]
[1415,null,0,16155,16155]
[1416,null,0,31461,31461]
[1417,null,0,31124,31124]
[1418,null,0,5808,5808]
[1419,null,0,9586,9586]
[1420,null,0,195163,195163]
[1421,null,0,52939,52939]
[1422,null,0,43703,43703]
[1423,null,0,null,0]
[1424,null,0,96642,96642]
[1425,null,0,24513,24513]
[1426,null,0,57580,57580]
[1427,null,0,224670,224670]
[1428,null,0,121354,121354]
[1429,null,0,1303,1303]
[1430,null,0,122657,122657]
[1431,null,0,null,0]
[1432,null,0,71934,71934]
[1434,null,0,320998,320998]
[1435,null,0,71790,71790]
[1436,null,0,6088,6088]
[1437,null,0,30125,30125]
[1439,null,0,500935,500935]
[1440,null,0,30013,30013]
[1441,null,0,31767,31767]
[1442,null,0,null,0]
[1443,null,0,36510,36510]
[1445,null,0,58090,58090]
[1447,null,0,156380,156380]
[1448,null,0,55736,55736]
[1449,null,0,1352183,1352183]
[1450,null,0,19371,19371]
[1456,null,0,2203702,2203702]
[1457,null,0,98529,98529]
[1470,null,0,null,0]
[1474,null,0,null,0]
[1475,null,0,null,0]
[1482,null,0,null,0]
[1486,null,0,null,0]
[1487,null,0,null,0]
[1488,null,0,1337,1337]
[1492,null,0,1337,1337]
[1493,null,0,1337,1337]
[1494,null,0,1337,1337]
[1498,null,0,1337,1337]
[1499,null,0,1337,1337]
[1500,null,0,7007,7007]
[1556,null,0,38685066,38685066]
[1569,null,0,46222998,46222998]
[1570,null,0,2989928,2989928]
[1583,null,0,1311272,1311272]
[1584,null,0,6712387,6712387]
[1597,null,0,6642216,6642216]
[1598,null,0,1931082,1931082]
[1611,null,0,1661592,1661592]
[1612,null,0,3863266,3863266]
[1625,null,0,3961795,3961795]
[1626,null,0,1379760,1379760]
[1639,null,0,1386767,1386767]
[1683,null,0,1632157,1632157]
[1684,null,0,427265,427265]
[1685,null,0,1570884,1570884]
[1686,null,0,170908,170908]
[1687,null,0,545259,545259]
[1688,null,0,42725,42725]
[1691,null,0,3361526,3361526]
[1692,null,0,42725,42725]
[1693,null,0,34186,34186]
[1698,null,0,9259332,9259332]
[1699,null,0,820569,820569]
[1700,null,0,214807,214807]
[1701,null,0,836290,836290]
[1702,null,0,85925,85925]
[1703,null,0,267935,267935]
[1704,null,0,21479,21479]
[1707,null,0,1667727,1667727]
[1708,null,0,21479,21479]
[1709,null,0,17189,17189]
[1714,null,0,4656348,4656348]
[1715,null,0,811588,811588]
[1716,null,0,212458,212458]
[1717,null,0,734594,734594]
[1718,null,0,84983,84983]
[1719,null,0,277324,277324]
[1720,null,0,21246,21246]
[1723,null,0,1693799,1693799]
[1724,null,0,21246,21246]
[1725,null,0,16997,16997]
[1730,null,0,4602984,4602984]
[1731,null,0,1012412,1012412]
[1732,null,0,265029,265029]
[1733,null,0,916365,916365]
[1734,null,0,106012,106012]
[1735,null,0,345987,345987]
[1736,null,0,26503,26503]
[1739,null,0,2112918,2112918]
[1740,null,0,26503,26503]
[1741,null,0,21202,21202]
[1746,null,0,5741962,5741962]
[1747,null,0,1824000,1824000]
[1748,null,0,477487,477487]
[1749,null,0,1650959,1650959]
[1750,null,0,190995,190995]
[1751,null,0,623311,623311]
[1752,null,0,47749,47749]
[1755,null,0,3806717,3806717]
[1756,null,0,47749,47749]
[1757,null,0,38199,38199]
[1762,null,0,10344946,10344946]
[1878,null,0,33400000,33400000]
[1911,null,0,34186,34186]
[1916,null,0,34186,34186]
[1921,null,0,34186,34186]
[1947,null,0,815300,815300]
[1948,null,0,214554508,214554508]
[1949,null,0,4604112,4604112]
[1950,null,0,20514670,20514670]
[1951,null,0,null,0]
[1952,null,0,240488590,240488590]
[1954,null,0,90305,90305]
[1955,null,0,null,0]
[1956,null,0,451799,451799]
[1957,null,0,null,0]
[1958,null,0,542104,542104]
[1960,null,0,null,0]
[1963,null,0,null,0]
[1964,null,0,null,0]
[1965,null,0,815300,815300]
[1966,null,0,214644813,214644813]
[1967,null,0,4604112,4604112]
[1968,null,0,20966469,20966469]
[1969,null,0,null,0]
[1970,null,0,241030694,241030694]
[1972,null,0,56599140,56599140]
[1973,null,0,3774989,3774989]
[1974,null,0,20366595,20366595]
[1975,null,0,null,0]
[1976,null,0,80740724,80740724]
[1978,null,0,4292896,4292896]
[1979,null,0,230206,230206]
[1980,null,0,599874,599874]
[1981,null,0,null,0]
[1982,null,0,5122976,5122976]
[1984,null,0,null,0]
[1987,null,0,null,0]
[1988,null,0,null,0]
[1990,null,0,60892036,60892036]
[1991,null,0,4005195,4005195]
[1992,null,0,20966469,20966469]
[1993,null,0,null,0]
[1994,null,0,85863700,85863700]
[1995,null,0,815300,815300]
[1996,null,0,153752777,153752777]
[1997,null,0,598917,598917]
[1998,null,0,null,0]
[1999,null,0,null,0]
[2000,null,0,155166994,155166994]
[2020,null,0,null,0]
[2027,null,0,597112,597112]
[2028,null,0,139422,139422]
[2030,null,0,null,0]
[2032,null,0,null,0]
[2044,null,0,null,0]
[2374,null,0,2770575,2770575]
[2376,null,0,1311272,1311272]
[2414,null,0,1661592,1661592]
[2416,null,0,1921431,1921431]
[2443,null,0,4884589,4884589]
[2474,null,0,1386767,1386767]
[2490,null,0,5803010,5803010]
[2492,null,0,52694565,52694565]
[2493,null,0,17308989,17308989]
[2494,null,0,75806564,75806564]
[2495,null,0,42137763,42137763]
[2496,null,0,24676692,24676692]
[2497,null,0,717643,717643]
[2498,null,0,736534,736534]
[2500,null,0,68268632,68268632]
[2501,null,0,7537932,7537932]
[2503,null,0,481989,481989]
[2505,null,0,5000000,5000000]
[2507,null,0,5481989,5481989]
[2508,null,0,7160645,7160645]
[2510,null,0,null,0]
[2512,null,0,7160645,7160645]
[2513,null,0,-1678656,-1678656]
[2530,null,0,170908,170908]
[2532,null,0,4404936,4404936]
[2534,null,0,4575844,4575844]
[2535,null,0,4845334,4845334]
[2538,null,0,null,0]
[2539,null,0,4845334,4845334]
[2540,null,0,-269490,-269490]
[2542,null,0,2302231,2302231]
[2544,null,0,null,0]
[2545,null,0,2302231,2302231]
[2546,null,0,832148,832148]
[2547,null,0,1352183,1352183]
[2548,null,0,19371,19371]
[2551,null,0,2203702,2203702]
[2552,null,0,98529,98529]
[2569,null,0,1570887,1570887]
[2570,null,0,3193300,3193300]
[2571,null,0,4764187,4764187]
[2573,null,0,4834358,4834358]
[2574,null,0,4834358,4834358]
[2575,null,0,-70171,-70171]
[2594,null,0,8344,8344]
[2595,null,0,null,0]
[2597,null,0,8344,8344]
[2598,null,0,1337,1337]
[2600,null,0,1337,1337]
[2601,null,0,7007,7007]
[2657,null,0,618602,618602]
[2658,null,0,119543,119543]
[2659,null,0,8756,8756]
[2660,null,0,22497,22497]
[2661,null,0,1310,1310]
[2663,null,0,770708,770708]
[2664,null,0,27805,27805]
[2665,null,0,27805,27805]
[2728,null,0,597112,597112]
[2729,null,0,597112,597112]
[2803,null,0,null,0]
[2819,null,0,32938,32938]
[2824,null,0,null,0]
[2827,null,0,435592,435592]
[2831,null,0,null,0]
[2834,null,0,103105,103105]
[2847,null,0,21058,21058]
[2849,null,0,21058,21058]
[2851,null,0,414534,414534]
[2852,null,0,435592,435592]
[2853,null,0,103105,103105]
[2855,null,0,103105,103105]
[2856,null,0,103105,103105]
[2888,null,0,null,0]
[2889,null,0,7574,7574]
[2893,null,0,589538,589538]
[2895,null,0,null,0]
[2912,null,0,null,0]
[2913,null,0,7574,7574]
[2917,null,0,589538,589538]
[2920,null,0,null,0]
[2927,null,0,null,0]
[2994,null,0,3422254,3422254]
[2995,null,0,1083092,1083092]
[2996,null,0,533849,533849]
[2997,null,0,144081,144081]
[3001,null,0,5183276,5183276]
[3003,null,0,133082,133082]
[3004,null,0,133082,133082]
[3164,null,0,42725,42725]
[3165,null,0,42725,42725]
[3166,null,0,42725,42725]
[3168,null,0,null,0]
[3170,null,0,null,0]
[3171,null,0,null,0]
[3172,null,0,7537932,7537932]
[3175,null,0,null,0]
[3176,null,0,null,0]
[3177,null,0,null,0]
[3178,null,0,-1678656,-1678656]
[3195,null,0,-269490,-269490]
[3201,null,0,98529,98529]
[3212,null,0,null,0]
[3213,null,0,null,0]
[3216,null,0,null,0]
[3217,null,0,-70171,-70171]
[3235,null,0,null,0]
[3238,null,0,null,0]
[3239,null,0,7007,7007]
[3257,null,0,null,0]
[3258,null,0,null,0]
[3259,null,0,42725,42725]
[3260,null,0,371809,371809]
[3262,null,0,414534,414534]
[3305,null,0,5058287,5058287]
[3307,null,0,1263178,1263178]
[3309,null,0,7975,7975]
[3311,null,0,59490,59490]
[3313,null,0,null,0]
[3315,null,0,null,0]
[3319,null,0,6511080,6511080]
[3326,null,0,265577,265577]
[3327,null,0,277407,277407]
[3329,null,0,265577,265577]
[3330,null,0,277407,277407]
[3350,null,0,43619272,43619272]
[3353,null,0,1364915,1364915]
[3356,null,0,5107342,5107342]
[3358,null,0,1738477,1738477]
[3361,null,0,3411120,3411120]
[3364,null,0,1386767,1386767]
[3366,null,0,402654,402654]
[3374,null,0,103105,103105]
[3385,null,0,1388972,1388972]
[3386,null,0,681469,681469]
[3387,null,0,707503,707503]
[3388,null,0,882529,882529]
[3389,null,0,1590032,1590032]
[3390,null,0,null,0]
[3391,null,0,null,0]
[3392,null,0,null,0]
[3393,null,0,null,0]
[3398,null,0,null,0]
[3485,null,0,876417,876417]
[3487,null,0,32939,32939]
[3491,null,0,909356,909356]
[3501,null,0,21058,21058]
[3504,null,0,21058,21058]
[3506,null,0,888298,888298]
[3507,null,0,909356,909356]
[3508,null,0,42725,42725]
[3510,null,0,42725,42725]
[3515,null,0,42725,42725]
[3527,null,0,42725,42725]
[3528,null,0,845573,845573]
[3530,null,0,888298,888298]
[3620,null,0,42725,42725]
[3664,null,0,42725,42725]
[3665,null,0,21479,21479]
[3666,null,0,21246,21246]
[3667,null,0,26502,26502]
[3668,null,0,47748,47748]
[3669,null,0,null,0]
[4052,null,29518338,20808522,50326860]
[4061,null,29518338,96615086,126133424]
[4062,null,0,5481989,5481989]
[4063,null,0,4764187,4764187]
[4064,null,0,4575844,4575844]
[4065,null,0,2302231,2302231]
[4066,null,0,8344,8344]
[4067,null,0,42725,42725]
[4069,null,0,42725,42725]
[4070,null,29518338,20808522,50326860]
[4075,null,29518338,89077154,118595492]
[4076,null,0,7160645,7160645]
[4077,null,0,4834358,4834358]
[4078,null,0,4845334,4845334]
[4079,null,0,2203702,2203702]
[4080,null,0,1337,1337]
[4110,null,0,30220000,30220000]
[4111,null,0,23577784,23577784]
[4112,null,0,3180000,3180000]
[4149,null,0,null,0]
[4150,null,0,null,0]
[4204,null,0,1910,1910]
[4205,null,0,500,500]
[4206,null,0,200,200]
[4207,null,0,2610,2610]
[4208,null,0,49610396,49610396]
[4270,null,0,292061,292061]
[4283,null,0,null,0]
[4297,null,0,95345,95345]
[4301,null,0,77569,77569]
[4346,null,0,845844,845844]
[4350,null,0,845844,845844]
[4357,null,0,520248,520248]
[4360,null,0,null,0]
[4376,null,0,50,50]
[4731,null,0,556989,556989]
[4733,null,0,3193300,3193300]
[4791,null,0,3787685,3787685]
[4883,null,0,null,0]
[4934,null,0,95497393,95497393]
[4935,null,0,13178640.233999999,13178640.233999999]
[4936,null,0,30220000,30220000]
[4965,null,0,42725,42725]
[5000,null,0,1632157,1632157]
[5002,null,0,34186,34186]
[5005,null,0,1709068,1709068]
[5006,null,0,null,0]
[5007,null,0,null,0]
[5008,null,0,2507147,2507147]
[5009,null,0,14841,14841]
[5010,null,0,2521988,2521988]
[5011,null,0,200848,200848]
[5014,null,0,null,0]
[5015,null,0,null,0]
[5020,null,0,20000,20000]
[5021,null,0,null,0]
[5026,null,0,220848,220848]
[5027,null,0,535526,535526]
[5029,null,0,535526,535526]
[5031,null,0,null,0]
[5032,null,0,null,0]
[5033,null,0,null,0]
[5034,null,0,103358,103358]
[5035,null,0,103358,103358]
[5036,null,0,18191,18191]
[5037,null,0,73017,73017]
[5038,null,0,null,0]
[5039,null,0,null,0]
[5040,null,0,null,0]
[5041,null,0,91208,91208]
[5042,null,0,null,0]
[5043,null,0,null,0]
[5049,null,0,null,0]
[5051,null,0,null,0]
[5052,null,0,null,0]
[5053,null,0,null,0]
[5055,null,0,1184,1184]
[5057,null,0,null,0]
[5058,null,0,619830,619830]
[5059,null,0,621014,621014]
[5060,null,0,5803010,5803010]
[5065,null,0,44295536,44295536]
[5071,null,0,44295536,44295536]
[5072,null,0,1432902,1432902]
[5073,null,0,223842,223842]
[5074,null,0,271782,271782]
[5076,null,0,679016,679016]
[5078,null,0,97470,97470]
[5081,null,0,147075,147075]
[5086,null,0,2852087,2852087]
[5087,null,0,null,0]
[5091,null,0,-3069,-3069]
[5100,null,0,-3069,-3069]
[5102,null,0,22414,22414]
[5104,null,0,22414,22414]
[5106,null,0,57165,57165]
[5107,null,0,25855,25855]
[5133,null,0,180314,180314]
[5135,null,0,4707274,4707274]
[5153,null,0,8399029,8399029]
[5162,null,0,52694565,52694565]
[5164,null,0,null,0]
[5178,null,0,2410674,2410674]
[5179,null,0,null,0]
[5180,null,0,874343,874343]
[5181,null,0,76492,76492]
[5182,null,0,171862,171862]
[5185,null,0,3999737,3999737]
[5186,null,0,6316668,6316668]
[5187,null,0,138,138]
[5195,null,0,null,0]
[5199,null,0,6316806,6316806]
[5213,null,0,66181,66181]
[5217,null,0,1593126,1593126]
[5218,null,0,6448,6448]
[5225,null,0,1665755,1665755]
[5240,null,0,null,0]
[5243,null,0,null,0]
[5259,null,0,17308989,17308989]
[5265,null,0,17308989,17308989]
[5266,null,0,75806564,75806564]
[5267,null,0,427265,427265]
[5273,null,0,427265,427265]
[5274,null,0,null,0]
[5275,null,0,null,0]
[5278,null,0,null,0]
[5279,null,0,null,0]
[5281,null,0,null,0]
[5288,null,0,21388,21388]
[5289,null,0,null,0]
[5291,null,0,null,0]
[5293,null,0,33336,33336]
[5294,null,0,54724,54724]
[5295,null,0,481989,481989]
[5300,null,0,5000000,5000000]
[5306,null,0,5000000,5000000]
[5360,null,0,5000000,5000000]
[5447,null,0,5481989,5481989]
[5448,null,0,1570884,1570884]
[5452,null,0,1570884,1570884]
[5453,null,0,null,0]
[5454,null,0,null,0]
[5457,null,0,null,0]
[5458,null,0,null,0]
[5460,null,0,null,0]
[5464,null,0,3,3]
[5465,null,0,3,3]
[5466,null,0,1570887,1570887]
[5476,null,0,3193300,3193300]
[5483,null,0,3193300,3193300]
[5491,null,0,4764187,4764187]
[5492,null,0,170908,170908]
[5496,null,0,170908,170908]
[5497,null,0,null,0]
[5498,null,0,null,0]
[5501,null,0,null,0]
[5502,null,0,null,0]
[5505,null,0,null,0]
[5506,null,0,null,0]
[5518,null,0,null,0]
[5519,null,0,null,0]
[5521,null,0,null,0]
[5525,null,0,null,0]
[5526,null,0,null,0]
[5527,null,0,170908,170908]
[5532,null,0,1800000,1800000]
[5538,null,0,1800000,1800000]
[5554,null,0,1388440,1388440]
[5556,null,0,1216496,1216496]
[5557,null,0,2604936,2604936]
[5583,null,0,2604936,2604936]
[5592,null,0,4404936,4404936]
[5659,null,0,4575844,4575844]
[5660,null,0,545259,545259]
[5662,null,0,1388972,1388972]
[5664,null,0,1934231,1934231]
[5665,null,0,null,0]
[5666,null,0,null,0]
[5667,null,0,368000,368000]
[5669,null,0,368000,368000]
[5670,null,0,null,0]
[5672,null,0,null,0]
[5729,null,0,null,0]
[5742,null,0,null,0]
[5802,null,0,null,0]
[5808,null,0,null,0]
[5809,null,0,2302231,2302231]
[5815,null,0,null,0]
[5817,null,0,null,0]
[5818,null,0,8344,8344]
[5820,null,0,8344,8344]
[5824,null,0,null,0]
[5825,null,0,null,0]
[5826,null,0,null,0]
[5832,null,0,null,0]
[5845,null,0,null,0]
[5854,null,0,8344,8344]
[5855,null,0,42725,42725]
[5857,null,0,42725,42725]
[5858,null,0,null,0]
[5859,null,0,null,0]
[5862,null,0,null,0]
[5863,null,0,null,0]
[5865,null,0,null,0]
[5885,null,0,42725,42725]
[5924,null,0,42725,42725]
[5926,null,0,42725,42725]
[5927,null,0,null,0]
[5928,null,0,null,0]
[5931,null,0,null,0]
[5932,null,0,null,0]
[5934,null,0,null,0]
[5962,null,0,42725,42725]
[5963,null,0,2302231,2302231]
[5964,null,0,8344,8344]
[5965,null,0,42725,42725]
[5967,null,0,42725,42725]
[5970,null,0,null,0]
[5974,null,0,260837.61,260837.61]
[6013,null,0,4504.88,4504.88]
[6020,null,0,null,0]
[6029,null,0,5037299,5037299]
[6032,null,0,649693,649693]
[6033,null,0,null,0]
[6034,null,0,null,0]
[6038,null,0,3988227,3988227]
[6039,null,0,null,0]
[6040,null,0,null,0]
[6041,null,0,null,0]
[6042,null,0,null,0]
[6043,null,0,null,0]
[6044,null,0,null,0]
[6052,null,0,null,0]
[6053,null,0,null,0]
[6054,null,0,553809,553809]
[6056,null,0,null,0]
[6059,null,0,306251,306251]
[6063,null,0,6280958,6280958]
[6065,null,0,null,0]
[6081,null,0,1048940,1048940]
[6082,null,0,172439,172439]
[6084,null,0,124403,124403]
[6086,null,0,null,0]
[6088,null,0,13360,13360]
[6108,null,0,3790323,3790323]
[6109,null,0,null,0]
[6112,null,0,null,0]
[6120,null,0,1678839,1678839]
[6130,null,0,1692199,1692199]
[6153,null,0,4588759,4588759]
[6154,null,0,null,0]
[6155,null,0,6280958,6280958]
[6156,null,0,3348765,3348765]
[6158,null,0,2625942,2625942]
[6159,null,0,3361526,3361526]
[6162,null,0,3361526,3361526]
[6164,null,0,3361526,3361526]
[6166,null,0,3353519,3353519]
[6168,null,0,3353519,3353519]
[6169,null,0,8007,8007]
[6202,null,0,8007,8007]
[6203,null,0,4580752,4580752]
[6205,null,0,4588759,4588759]
[6206,null,0,7537932,7537932]
[6207,null,0,-1678656,-1678656]
[6208,null,0,-70171,-70171]
[6209,null,0,-269490,-269490]
[6210,null,0,98529,98529]
[6211,null,0,7007,7007]
[6212,null,0,42725,42725]
[6213,null,0,8007,8007]
[6214,null,0,42725,42725]
[6215,null,0,0.16307752257869601,0.16307752257869601]
[6216,null,0,-1.2801737549493899,-1.2801737549493899]
[6217,null,0,-1.0564395978691399E-2,-1.0564395978691399E-2]
[6218,null,0,-0.16218782950327201,-0.16218782950327201]
[6219,null,0,2.4869787558417299E-2,2.4869787558417299E-2]
[6220,null,0,5.0527594037066102E-3,5.0527594037066102E-3]
[6221,null,0,0.10306754090134899,0.10306754090134899]
[6222,null,0,1.7449162180885899E-3,1.7449162180885899E-3]
[6223,null,0,4.8097597878189499E-2,4.8097597878189499E-2]
[6224,null,0,null,0]
[6225,null,0,null,0]
[6228,null,0,null,0]
[6237,null,0,3361526,3361526]
[6240,null,0,3361526,3361526]
[6241,null,0,null,0]
[6242,null,0,null,0]
[6245,null,0,null,0]
[6255,null,0,null,0]
[6257,null,0,null,0]
[6278,null,0,null,0]
[6279,null,0,null,0]
[6291,null,0,3361526,3361526]
[6298,null,0,null,0]
[6666,null,0,2038077,2038077]
[6783,null,0,null,0]
[6784,null,0,99884,99884]
[6787,null,0,2781763,2781763]
[6788,null,0,null,0]
[6789,null,0,122150,122150]
[6792,null,0,184281,184281]
[6793,null,0,null,0]
[6800,null,0,null,0]
[6802,null,0,null,0]
[6810,null,0,180647,180647]
[6817,null,0,null,0]
[6818,null,0,null,0]
[6819,null,0,5078303,5078303]
[6820,null,0,5078303,5078303]
[6841,null,0,null,0]
[6842,null,0,222034,222034]
[6844,null,0,60042,60042]
[6850,null,0,62271,62271]
[6856,null,0,122313,122313]
[6857,null,0,null,0]
[6858,null,0,40208,40208]
[6859,null,0,null,0]
[6860,null,0,40208,40208]
[6863,null,0,null,0]
[6864,null,0,80416,80416]
[6865,null,0,null,0]
[6868,null,0,null,0]
[6873,null,0,null,0]
[6876,null,0,71979,71979]
[6879,null,0,71979,71979]
[6880,null,0,null,0]
[6881,null,0,null,0]
[6882,null,0,null,0]
[6897,null,0,null,0]
[6899,null,0,13368,13368]
[6900,null,0,null,0]
[6901,null,0,13368,13368]
[6916,null,0,null,0]
[6917,null,0,216097,216097]
[6920,null,0,null,0]
[6921,null,0,null,0]
[6922,null,0,null,0]
[6923,null,0,null,0]
[6926,null,0,null,0]
[6927,null,0,null,0]
[6928,null,0,139422,139422]
[6929,null,0,139422,139422]
[6934,null,0,139422,139422]
[6959,null,0,null,0]
[6960,null,0,438131,438131]
[6967,null,0,null,0]
[6968,null,0,2110,2110]
[6972,null,0,null,0]
[6973,null,0,2110,2110]
[6976,null,0,null,0]
[6977,null,0,2110,2110]
[6981,null,0,3353519,3353519]
[6990,null,0,null,0]
[6991,null,0,2110,2110]
[6994,null,0,3361526,3361526]
[7006,null,0,null,0]
[7007,null,0,null,0]
[7012,null,0,119040,119040]
[7013,null,0,119040,119040]
[7014,null,0,2324,2324]
[7015,null,0,2324,2324]
[7018,null,0,2557,2557]
[7019,null,0,2557,2557]
[7032,null,0,114772,114772]
[7033,null,0,114772,114772]
[7068,null,0,1213333,1213333]
[7071,null,0,399523,399523]
[7074,null,0,1612856,1612856]
[7077,null,0,230310,230310]
[7083,null,0,230310,230310]
[7086,null,0,132048,132048]
[7092,null,0,132048,132048]
[7095,null,0,10000,10000]
[7101,null,0,10000,10000]
[7107,null,0,4483,4483]
[7110,null,0,4483,4483]
[7111,null,0,963254,963254]
[7112,null,0,231924,231924]
[7113,null,0,26932,26932]
[7114,null,0,null,0]
[7119,null,0,1222110,1222110]
[7131,null,0,141712,141712]
[7137,null,0,141712,141712]
[7138,null,0,963254,963254]
[7139,null,0,231924,231924]
[7140,null,0,1754335,1754335]
[7141,null,0,null,0]
[7143,null,0,404006,404006]
[7146,null,0,3353519,3353519]
[7155,null,0,963254,963254]
[7156,null,0,231924,231924]
[7157,null,0,1754335,1754335]
[7158,null,0,null,0]
[7160,null,0,404006,404006]
[7163,null,0,3353519,3353519]
[7164,null,0,8007,8007]
[7185,null,0,449309,449309]
[7186,null,0,114915,114915]
[7187,null,0,64358,64358]
[7188,null,0,115104,115104]
[7190,null,0,160832,160832]
[7191,null,0,23449,23449]
[7193,null,0,null,0]
[7195,null,0,null,0]
[7202,null,0,156778,156778]
[7203,null,0,23025,23025]
[7204,null,0,844,844]
[7205,null,0,null,0]
[7206,null,0,null,0]
[7207,null,0,null,0]
[7563,null,0,null,0]
[7564,null,0,null,0]
[7570,null,0,5122976,5122976]
[7593,null,0,null,0]
[7596,null,0,null,0]
[7602,null,0,null,0]
[7605,null,0,null,0]
[7625,null,0,null,0]
[7626,null,0,174305,174305]
[7650,null,0,null,0]
[7653,null,0,25855,25855]
[7658,null,0,25855,25855]
[7659,null,0,34186,34186]
[7660,null,0,25855,25855]
[7697,null,0,991794,991794]
[7698,null,0,null,0]
[7699,null,0,991794,991794]
[7701,null,0,1428188,1428188]
[7702,null,0,1428188,1428188]