{"text_format":"1","workbook":"xlsx","n_sheets":25,"sheets":["AFR_Down","COVER","Assets-Liab 5-6","Acct Summary 7-8","Revenues 9-14","Expenditures 15-22","ARRA Sched 23","Tax Sched 24","Short-Term Long-Term Debt 25","Rest Tax Levies-Tort Im 26","Cap Outlay Deprec 27","PCTC-OEPP 28-29","Close Files","LoadData","Exit","AFR18","Crete Monee Totals 5-8","Data Pull totals 5-8","Sheet4","Sheet5","SDJA Field #'s","worksheet","Data pull 5-1-19","5-7-19 Data Pull","ESTL,CoC,LkPk ttls 5-1-19"],"not_rendered":{"charts":0,"images":0,"macros":1,"external_links":0,"defined_names":28,"comments":3,"pivot_tables":0},"unopened":[{"sheet":"Close Files","index":12,"reason":"part_missing"},{"sheet":"LoadData","index":13,"reason":"part_missing"},{"sheet":"Exit","index":14,"reason":"part_missing"}],"bounds":{"document_bytes":16777216,"sheet_cells":100000,"rows_first":2000,"rows_last":500,"rows_between":2000,"halvings":0,"cell_chars":16384,"cell_head_chars":4096},"cells_cut":0,"cells_raw":0,"read":"whole","date_system":"1900"}

{"sheet":"AFR_Down","index":0,"n_rows":0,"n_cols":0,"rows_kept":0,"cut":false,"hidden":true,"merged":[]}

{"sheet":"COVER","index":1,"n_rows":47,"n_cols":25,"rows_kept":47,"cut":false,"hidden":false,"merged":[[22,0,22,6],[20,7,20,17],[21,7,21,17],[41,3,41,6],[24,0,24,6],[41,0,41,2],[38,0,38,1],[43,18,43,25],[26,7,26,17],[24,18,24,25],[41,22,41,25],[20,18,20,21],[20,23,20,25],[22,18,22,25],[34,14,34,16],[41,14,41,17],[41,18,41,21],[43,7,43,17],[39,7,39,17],[38,7,38,11],[0,7,0,17],[1,7,1,17],[6,7,6,17],[8,7,8,17],[5,7,5,17],[2,7,2,17],[3,7,3,17],[4,7,4,17],[10,0,10,6],[20,0,20,6],[18,0,18,6],[12,0,12,6],[14,0,14,6],[16,0,16,6],[43,0,43,6],[8,18,10,25],[18,18,18,21],[17,7,17,17],[37,18,37,25],[39,18,39,25],[37,7,37,17],[12,18,12,25],[14,18,14,25],[18,24,18,25],[18,22,18,23],[16,18,16,25],[9,0,9,6],[37,0,37,6],[39,0,39,6],[41,7,41,13]]}
["Due to ROE on October 15th",null,null,null,null,null,null,"ILLINOIS STATE BOARD OF EDUCATION"]
["Due to ISBE on November 16th",null,null,null,null,null,null,"School Business Services Division"]
["SD/JA17",null,null,null,null,null,null,"100 North First Street, Springfield, Illinois  62777-0001"]
[null,null,null,null,null,null,null,"217/785-8779"]
[null,null,"   School District",null,null,null,null,"Illinois School District/Joint Agreement"]
[null,null,"   Joint Agreement",null,null,null,null,"Annual Financial Report *"]
[null,null,null,null,null,null,null,"2018-06-30"]
[]
[null,null,null,null,null,null,null,"Accounting Basis:",null,null,null,null,null,null,null,null,null,null,"Certified Public Accountant Information"]
["School District/Joint Agreement Information"]
["(See instructions on inside of this page.)",null,null,null,null,null,null,null,null,null,null,null,null,null,"CASH"]
["School District/Joint Agreement Number:",null,null,null,null,null,null,null,null,null,null,null,null,null,"ACCRUAL",null,null,null,"Name of Auditing Firm:"]
[{"$f":"'AFR18'!B2","v":"99-999-9999-99"}]
["County Name:",null,null,null,null,null,null,null,null,null,null,null,null,null,null,null,null,null,"Name of Audit Supervisor:"]
[]
["Name of School District/Joint Agreement:",null,null,null,null,null,null,null,null,null,null,null,null,null,null,null,null,null,"Address:"]
[{"$f":"'AFR18'!B3","v":"2017-18 State Totals - SD Only"}]
["Address:",null,null,null,null,null,null,"Filing Status:",null,null,null,null,null,null,null,null,null,null,"City:",null,null,null,"State:",null,"Zip Code:"]
[null,null,null,null,null,null,null,null,null,null,null,"Submit electronic AFR directly to ISBE"]
["City:",null,null,null,null,null,null,null,null,null,null,null,null,null,null,null,null,null,"Phone Number:",null,null,null,null,"Fax Number:"]
[null,null,null,null,null,null,null,"  Click on the Link to Submit:"]
["Email Address:",null,null,null,null,null,null,"     www.isbe.net/sfms/afr/afr.htm",null,null,null,null,null,null,null,null,null,null,"IL Registration Number:"]
[]
["Zip Code:",null,null,null,null,null,null,null,null,null,null,null,null,null,null,null,null,null,"Email Address:"]
[]
[]
[null,null,"Annual Financial Report",null,null,null,null,"Single Audit Status:"]
[null,null,"Type of Auditor's Report Issued:",null,null,null,null,null,null,null,null,null,null,null,null,null,null,null,null,null,null,"ISBE Use Only"]
[null,null,"Qualified",null,null,null,null,null,null,"  YES",null,"NO","Are Federal expenditures greater than $750,000?"]
[null,null,"Adverse",null,null,null,null,null,null,"  YES",null,"NO","Is all Single Audit Information completed and attached?"]
[null,null,"Disclaimer",null,null,null,null,null,null,"YES",null,"NO","Were any financial Statement or federal awards findings issued?"]
[]
[]
[null,null,"  Reviewed by District Superintendent/Administrator",null,null,null,null,null,null,null,null,"Reviewed by Township Treasurer (Cook County only)",null,null,null,null,null,null,null,"x","  Reviewed by Regional Superintendent"]
[null,null,null,null,null,null,null,null,null,null,"Name of Township:"]
[]
["District Superintendent/Administrator Name (Type or Print):",null,null,null,null,null,null,"Township Treasurer Name (type or print)",null,null,null,null,null,null,null,null,null,null,"Regional Superintendent Name (Type or Print):"]
[]
["Email Address:",null,null,null,null,null,null,"Email Address:",null,null,null,null,null,null,null,null,null,null,"Email Address:"]
[]
["Telephone:",null,null,"Fax Number:",null,null,null,"Telephone:",null,null,null,null,null,null,"Fax Number:",null,null,null,"Telephone:",null,null,null,"Fax Number:"]
[]
["Signature & Date:",null,null,null,null,null,null,"Signature & Date:",null,null,null,null,null,null,null,null,null,null,"Signature & Date:"]
[]
["* This form is based on 23 Illinois Administrative Code 100, Subtitle A, Chapter I, Subchapter C (Part 100)."]
["   ISBE Form SD50-35/JA50-60 (2/17)"]
["Revised 5/8"]

{"sheet":"Assets-Liab 5-6","index":2,"n_rows":41,"n_cols":14,"rows_kept":41,"cut":false,"hidden":false,"merged":[]}
[null,null,"(10)","(20)","(30)","(40)","(50)","(60)","(70)","(80)","(90)",null,"Account Groups"]
["ASSETS","Acct. #","Educational","Operations & Maintenance","Debt Services","Transportation","Municipal Retirement/Social Security","Capital Projects","Working Cash","Tort","Fire Prevention & Safety","Agency Fund","General Fixed Assets","General Long-Term Debt"]
["CURRENT ASSETS (100)"]
["Cash (Accounts 111 through 115)",null,{"$f":"'AFR18'!B3357","v":6394854601.3199997},{"$f":"'AFR18'!B3360","v":1161745795.2},{"$f":"'AFR18'!B3363","v":1406996759},{"$f":"'AFR18'!B3365","v":702483027.44000006},{"$f":"'AFR18'!B3368","v":392872202.50999999},{"$f":"'AFR18'!B3371","v":2159598583},{"$f":"'AFR18'!B3373","v":1708898616.51},{"$f":"'AFR18'!B6163","v":197077214.94},{"$f":"'AFR18'!B3492","v":249518443.78999999},{"$f":"'AFR18'!B3381","v":209725158.56999999}]
["Investments",120,{"$f":"'AFR18'!B19","v":2085627941},{"$f":"'AFR18'!B51","v":352727831},{"$f":"'AFR18'!B75","v":192660768},{"$f":"'AFR18'!B99","v":210291838},{"$f":"'AFR18'!B123","v":109853870},{"$f":"'AFR18'!B145","v":459294954},{"$f":"'AFR18'!B2831","v":476588747},{"$f":"'AFR18'!B6164","v":56347587},{"$f":"'AFR18'!B3496","v":88053333},{"$f":"'AFR18'!B2838","v":38351905}]
["Taxes Receivable",130,{"$f":"'AFR18'!B11","v":4463715231},{"$f":"'AFR18'!B43","v":451223371},{"$f":"'AFR18'!B72","v":458957980},{"$f":"'AFR18'!B91","v":161275392},{"$f":"'AFR18'!B119","v":159360043},{"$f":"'AFR18'!B3465","v":8781382},{"$f":"'AFR18'!B2826","v":29635396},{"$f":"'AFR18'!B6165","v":65198172},{"$f":"'AFR18'!B3494","v":11028094}]
["Interfund Receivables",140,{"$f":"'AFR18'!B6027","v":59419409},{"$f":"'AFR18'!B6028","v":32891331},{"$f":"'AFR18'!B6029","v":586973},{"$f":"'AFR18'!B6030","v":3408503},{"$f":"'AFR18'!B6031","v":569641},{"$f":"'AFR18'!B6032","v":615768},{"$f":"'AFR18'!B6033","v":42282890},{"$f":"'AFR18'!B6034","v":308635},{"$f":"'AFR18'!B6035","v":98208}]
["Intergovernmental Accounts Receivable",150,{"$f":"'AFR18'!B6036","v":541440282},{"$f":"'AFR18'!B6037","v":6168796},{"$f":"'AFR18'!B6038","v":46274563},{"$f":"'AFR18'!B6039","v":134818430},{"$f":"'AFR18'!B6040","v":842754},{"$f":"'AFR18'!B6041","v":7919945},{"$f":"'AFR18'!B6042","v":13233739},{"$f":"'AFR18'!B6043","v":26},{"$f":"'AFR18'!B6044","v":0}]
["Other Receivables",160,{"$f":"'AFR18'!B6045","v":43408202},{"$f":"'AFR18'!B6046","v":4023302},{"$f":"'AFR18'!B6047","v":833494},{"$f":"'AFR18'!B6048","v":4532239},{"$f":"'AFR18'!B6049","v":480959},{"$f":"'AFR18'!B6050","v":3880069},{"$f":"'AFR18'!B6051","v":2838161},{"$f":"'AFR18'!B6052","v":36397},{"$f":"'AFR18'!B6053","v":123279},{"$f":"'AFR18'!B6054","v":3044871}]
["Inventory",170,{"$f":"'AFR18'!B18","v":10965222},{"$f":"'AFR18'!B50","v":98822},{"$f":"'AFR18'!B6055","v":0},{"$f":"'AFR18'!B98","v":0},{"$f":"'AFR18'!B6056","v":223},{"$f":"'AFR18'!B144","v":0},{"$f":"'AFR18'!B6057","v":0},{"$f":"'AFR18'!B6058","v":0},{"$f":"'AFR18'!B3495","v":0},{"$f":"'AFR18'!B2837","v":0}]
["Prepaid Items",180,{"$f":"'AFR18'!B6059","v":27033910},{"$f":"'AFR18'!B6060","v":1183384},{"$f":"'AFR18'!B6061","v":9279578},{"$f":"'AFR18'!B6062","v":2807942},{"$f":"'AFR18'!B6063","v":57075},{"$f":"'AFR18'!B6064","v":150825},{"$f":"'AFR18'!B6065","v":0},{"$f":"'AFR18'!B6066","v":2546242},{"$f":"'AFR18'!B6067","v":0},{"$f":"'AFR18'!B6068","v":0}]
["Other Current Assets (Describe & Itemize)",190,{"$f":"'AFR18'!B22","v":8487467},{"$f":"'AFR18'!B54","v":817216},{"$f":"'AFR18'!B76","v":13754738},{"$f":"'AFR18'!B102","v":188063},{"$f":"'AFR18'!B125","v":22713},{"$f":"'AFR18'!B148","v":34045},{"$f":"'AFR18'!B2833","v":-28997},{"$f":"'AFR18'!B6069","v":691},{"$f":"'AFR18'!B3497","v":17},{"$f":"'AFR18'!B2840","v":2055945}]
["Total Current Assets",null,{"$f":"SUM(C4:C12)","v":13634952265.32},{"$f":"SUM(D4:D12)","v":2010879848.2},2129344853,1219805434.4400001,664059480.50999999,2640275571,2273448552.5100002,321514964.94,348821374.78999996,253177879.56999999]
["CAPITAL ASSETS (200)"]
["Works of Art & Historical Treasures",210,null,null,null,null,null,null,null,null,null,null,{"$f":"'AFR18'!B6243","v":182272}]
["Land",220,null,null,null,null,null,null,null,null,null,null,{"$f":"'AFR18'!B219","v":1324789248}]
["Building & Building Improvements",230,null,null,null,null,null,null,null,null,null,null,{"$f":"'AFR18'!B220","v":35041727478.099998}]
["Site Improvements & Infrastructure",240,null,null,null,null,null,null,null,null,null,null,{"$f":"'AFR18'!B221","v":1971193145.51}]
["Capitalized Equipment",250,null,null,null,null,null,null,null,null,null,null,{"$f":"'AFR18'!B222","v":3714249063}]
["Construction in Progress",260,null,null,null,null,null,null,null,null,null,null,{"$f":"'AFR18'!B2810","v":1061757475}]
["Amount Available in Debt Service Funds",340,null,null,null,null,null,null,null,null,null,null,null,{"$f":"'AFR18'!B228","v":1649628613}]
["Amount to be Provided for Payment on Bonds",350,null,null,null,null,null,null,null,null,null,null,null,{"$f":"'AFR18'!B229","v":20000728898}]
["Total Capital Assets",null,null,null,null,null,null,null,null,null,null,null,{"$f":"SUM(M15:M20)","v":43113898681.610001},{"$f":"SUM(N21:N22)","v":21650357511}]
["CURRENT LIABILITIES (400)"]
["Interfund Payables",410,{"$f":"'AFR18'!B6071","v":41244931},{"$f":"'AFR18'!B6072","v":16661191},{"$f":"'AFR18'!B6073","v":4530630},{"$f":"'AFR18'!B6074","v":25468142},{"$f":"'AFR18'!B6075","v":5349622},{"$f":"'AFR18'!B6076","v":14605891},null,{"$f":"'AFR18'!B6077","v":35295475},{"$f":"'AFR18'!B6078","v":2056950}]
["Intergovernmental Accounts Payable",420,{"$f":"'AFR18'!B6079","v":6940274},{"$f":"'AFR18'!B6080","v":1005135},{"$f":"'AFR18'!B6081","v":0},{"$f":"'AFR18'!B6082","v":795076},{"$f":"'AFR18'!B6083","v":51743},{"$f":"'AFR18'!B6084","v":8973820},{"$f":"'AFR18'!B6085","v":2603},{"$f":"'AFR18'!B6086","v":0},{"$f":"'AFR18'!B6087","v":0}]
["Other Payables",430,{"$f":"'AFR18'!B6088","v":719768648},{"$f":"'AFR18'!B6089","v":84346179},{"$f":"'AFR18'!B6090","v":4361003},{"$f":"'AFR18'!B6091","v":25650569},{"$f":"'AFR18'!B6092","v":2602990},{"$f":"'AFR18'!B6093","v":127441372},{"$f":"'AFR18'!B6094","v":797239},{"$f":"'AFR18'!B6095","v":5300146},{"$f":"'AFR18'!B6096","v":14911041}]
["Contracts Payable",440,{"$f":"'AFR18'!B6097","v":17909637},{"$f":"'AFR18'!B6098","v":5886022},{"$f":"'AFR18'!B6099","v":1250},{"$f":"'AFR18'!B6100","v":937785},{"$f":"'AFR18'!B6101","v":196148},{"$f":"'AFR18'!B6102","v":14975533},{"$f":"'AFR18'!B6103","v":0},{"$f":"'AFR18'!B6104","v":19510},{"$f":"'AFR18'!B6105","v":120250}]
["Loans Payable",460,{"$f":"'AFR18'!B6106","v":13787050},{"$f":"'AFR18'!B6107","v":2183},{"$f":"'AFR18'!B6108","v":64839},{"$f":"'AFR18'!B6109","v":3114575},{"$f":"'AFR18'!B6110","v":0},{"$f":"'AFR18'!B6111","v":4826350},{"$f":"'AFR18'!B6112","v":0},{"$f":"'AFR18'!B6113","v":0},{"$f":"'AFR18'!B6114","v":0}]
["Salaries & Benefits Payable",470,{"$f":"'AFR18'!B6115","v":630064834},{"$f":"'AFR18'!B6116","v":3194984},{"$f":"'AFR18'!B6117","v":0},{"$f":"'AFR18'!B6118","v":2368819},{"$f":"'AFR18'!B6119","v":6132972},{"$f":"'AFR18'!B6120","v":17008},{"$f":"'AFR18'!B6121","v":0},{"$f":"'AFR18'!B6122","v":692857},{"$f":"'AFR18'!B6123","v":14716}]
["Payroll Deductions & Withholdings",480,{"$f":"'AFR18'!B32","v":114934456},{"$f":"'AFR18'!B63","v":109272},{"$f":"'AFR18'!B6124","v":0},{"$f":"'AFR18'!B110","v":661028},{"$f":"'AFR18'!B130","v":5603839},{"$f":"'AFR18'!B152","v":9113},{"$f":"'AFR18'!B6125","v":0},{"$f":"'AFR18'!B6126","v":34076},{"$f":"'AFR18'!B3507","v":-223}]
["Deferred Revenues & Other Current Liabilities",490,{"$f":"'AFR18'!B34","v":4530643413},{"$f":"'AFR18'!B65","v":535113520},{"$f":"'AFR18'!B80","v":466225040},{"$f":"'AFR18'!B112","v":300149230},{"$f":"'AFR18'!B131","v":175968464},{"$f":"'AFR18'!B154","v":17494828},{"$f":"'AFR18'!B2854","v":16411818},{"$f":"'AFR18'!B6127","v":57898759},{"$f":"'AFR18'!B3508","v":12492502}]
["Due to Activity Fund Organizations",493,{"$f":"'AFR18'!B6128","v":48216156},{"$f":"'AFR18'!B6129","v":1500000},{"$f":"'AFR18'!B6130","v":0},{"$f":"'AFR18'!B6131","v":0},{"$f":"'AFR18'!B6132","v":0},{"$f":"'AFR18'!B6133","v":0},{"$f":"'AFR18'!B6134","v":0},{"$f":"'AFR18'!B6135","v":0},{"$f":"'AFR18'!B6136","v":0},{"$f":"'AFR18'!B2860","v":207635603.57000002}]
["Total Current Liabilities",null,{"$f":"SUM(C25:C33)","v":6123509399},{"$f":"SUM(D25:D33)","v":647818486},475182762,359145224,195905778,188343915,17211660,99240823,29595236,{"$f":"L33","v":207635603.57000002}]
["LONG-TERM LIABILITIES (500)"]
["Long-Term Debt Payable (General Obligation, Revenue, Other)",511,null,null,null,null,null,null,null,null,null,null,null,{"$f":"'AFR18'!B231","v":21650268294}]
["Total Long-Term Liabilities",null,null,null,null,null,null,null,null,null,null,null,null,{"$f":"N36","v":21650268294}]
["Reserved Fund Balance",714,{"$f":"'AFR18'!B2381","v":245198419},{"$f":"'AFR18'!B2383","v":205831719},{"$f":"'AFR18'!B2450","v":1036906569},{"$f":"'AFR18'!B2421","v":167255841},{"$f":"'AFR18'!B2423","v":145891999},{"$f":"'AFR18'!B2481","v":1239661355},{"$f":"'AFR18'!B2857","v":97680018},{"$f":"'AFR18'!B6160","v":75903320},{"$f":"'AFR18'!B3512","v":74160835},{"$f":"'AFR18'!B3017","v":40766271}]
["Unreserved Fund balance",730,{"$f":"'AFR18'!B38","v":7266244447.5900002},{"$f":"'AFR18'!B69","v":1157229642.95},{"$f":"'AFR18'!B86","v":617255521.88},{"$f":"'AFR18'!B116","v":693404368.85000002},{"$f":"'AFR18'!B135","v":322261703.58000004},{"$f":"'AFR18'!B158","v":1212270301},{"$f":"'AFR18'!B2858","v":2158556874.5900002},{"$f":"'AFR18'!B6161","v":146370821.78},{"$f":"'AFR18'!B3513","v":245065303.59},{"$f":"'AFR18'!B3018","v":4771805}]
["Investment in General Fixed Assets",null,null,null,null,null,null,null,null,null,null,null,{"$f":"'AFR18'!B226","v":43113898681.610001}]
["Total Liabilities and Fund Balance",null,{"$f":"SUM(C34,C38:C39)","v":13634952265.59},{"$f":"SUM(D34,D38:D39)","v":2010879847.95},2129344852.8800001,1219805433.8499999,664059480.58000004,2640275571,2273448552.5900002,321514964.77999997,348821374.59000003,253173679.57000002,{"$f":"M40","v":43113898681.610001},{"$f":"N37","v":21650268294}]

{"sheet":"Acct Summary 7-8","index":3,"n_rows":81,"n_cols":11,"rows_kept":81,"cut":false,"hidden":false,"merged":[[77,0,77,1]]}
[null,null,"(10)","(20)","(30)","(40)","(50)","(60)","(70)","(80)","(90)"]
["Description","Acct #","Educational","Operations & Maintenance","Debt Services","Transportation","Municipal Retirement/ Social Security","Capital Projects","Working Cash","Tort","Fire Prevention & Safety"]
["RECEIPTS/REVENUES"]
["Local Sources",1000,{"$f":"'Revenues 9-14'!C109","v":14324719366.909998},{"$f":"'Revenues 9-14'!D109","v":1717672246.76},{"$f":"'Revenues 9-14'!E109","v":1816697759.8000002},{"$f":"'Revenues 9-14'!F109","v":693611509.20000005},{"$f":"'Revenues 9-14'!G109","v":634963075.34000003},{"$f":"'Revenues 9-14'!H109","v":183466992.61000001},{"$f":"'Revenues 9-14'!I109","v":92905180.310000002},{"$f":"'Revenues 9-14'!J109","v":344492569.03000003},{"$f":"'Revenues 9-14'!K109","v":58257138.359999992}]
["Flow-Through Receipts/Revenues from One District to                                          Another District",2000,{"$f":"'Revenues 9-14'!C114","v":12940252},{"$f":"'Revenues 9-14'!D114","v":1116071},null,{"$f":"'Revenues 9-14'!F114","v":75372},{"$f":"'Revenues 9-14'!G114","v":0}," "," "," "," "]
["State Sources",3000,{"$f":"'Revenues 9-14'!C173","v":6447581623.0100002},{"$f":"'Revenues 9-14'!D173","v":546116589},{"$f":"'Revenues 9-14'!E173","v":342932209},{"$f":"'Revenues 9-14'!F173","v":687642458.53999996},{"$f":"'Revenues 9-14'!G173","v":13223355},{"$f":"'Revenues 9-14'!H173","v":55672630},{"$f":"'Revenues 9-14'!I173","v":0},{"$f":"'Revenues 9-14'!J173","v":5513371},{"$f":"'Revenues 9-14'!K173","v":500364}]
["Federal Sources",4000,{"$f":"'Revenues 9-14'!C274","v":2063186078.9400001},{"$f":"'Revenues 9-14'!D274","v":7855997},{"$f":"'Revenues 9-14'!E274","v":48923768},{"$f":"'Revenues 9-14'!F274","v":1708570},{"$f":"'Revenues 9-14'!G274","v":2166556},{"$f":"'AFR18'!B2603","v":755447},{"$f":"'Revenues 9-14'!I274","v":0},{"$f":"'Revenues 9-14'!J274","v":0},{"$f":"'Revenues 9-14'!K274","v":0}]
["Total Direct Receipts/Revenues",null,{"$f":"SUM(C4:C7)","v":22848427320.859997},{"$f":"SUM(D4:D7)","v":2272760903.7600002},2208553736.8000002,1383037909.74,650352986.34000003,239895069.61000001,92905180.310000002,350005940.03000003,58757502.359999992]
["Receipts/Revenues for \"On Behalf\" Payments  2",3998,{"$f":"'AFR18'!B4059","v":6495681800.8000002},{"$f":"'AFR18'!B4060","v":8409771},{"$f":"'AFR18'!B4061","v":0},{"$f":"'AFR18'!B4062","v":829841},{"$f":"'AFR18'!B4063","v":0},{"$f":"'AFR18'!B4064","v":19598113}," ",{"$f":"'AFR18'!B6170","v":7417186},{"$f":"'AFR18'!B4067","v":0}]
["Total Receipts/Revenues",null,{"$f":"SUM(C8:C9)","v":29344109121.659996},{"$f":"SUM(D8:D9)","v":2281170674.7600002},2208553736.8000002,1383867750.74,650352986.34000003,259493182.61000001,92905180.310000002,357423126.03000003,58757502.359999992]
["DISBURSEMENTS/EXPENDITURES"]
["Instruction",1000,{"$f":"'Expenditures 15-22'!K33","v":14575394777.520002}," "," "," ",{"$f":"'Expenditures 15-22'!K229","v":242327922.34000003},null," "," "," "]
["Support Services",2000,{"$f":"'Expenditures 15-22'!K74","v":6104729135.1100006},{"$f":"'Expenditures 15-22'!K129","v":2177573154.9099998}," ",{"$f":"'Expenditures 15-22'!K184","v":1165802950.1999998},{"$f":"'Expenditures 15-22'!K279","v":375052639.56},{"$f":"'Expenditures 15-22'!K303","v":1506014787.0699999}," ",{"$f":"'Expenditures 15-22'!K330","v":366322852.16999996},{"$f":"'Expenditures 15-22'!K352","v":165652408.05000001}]
["Community Services",3000,{"$f":"'Expenditures 15-22'!K75","v":157232594},{"$f":"'Expenditures 15-22'!K130","v":1877916}," ",{"$f":"'Expenditures 15-22'!K185","v":1465697},{"$f":"'Expenditures 15-22'!K280","v":5728822},null," "," "," "]
["Payments to Other Districts & Govermental Units",4000,{"$f":"'Expenditures 15-22'!K102","v":741197906.94000006},{"$f":"'Expenditures 15-22'!K139","v":5672478},{"$f":"'Expenditures 15-22'!K160","v":139983},{"$f":"'Expenditures 15-22'!K196","v":15567144},{"$f":"'Expenditures 15-22'!K285","v":2520532},{"$f":"'Expenditures 15-22'!K310","v":868100}," ",{"$f":"'Expenditures 15-22'!K334","v":497836},{"$f":"'Expenditures 15-22'!K357","v":238830}]
["Debt Service",5000,{"$f":"'Expenditures 15-22'!K112","v":34149433},{"$f":"'Expenditures 15-22'!K149","v":465579},{"$f":"'Expenditures 15-22'!K172","v":2998987778},{"$f":"'Expenditures 15-22'!K208","v":16375090},{"$f":"'Expenditures 15-22'!K293","v":0},null," ",{"$f":"'Expenditures 15-22'!K340","v":31029},{"$f":"'Expenditures 15-22'!K365","v":741730}]
["Total Direct Disbursements/Expenditures",null,{"$f":"SUM(C12:C16)","v":21612703846.570004},2185589127.9099998,2999127761,1199210881.1999998,625629915.9000001,1506882887.0699999,null,{"$f":"SUM(J12:J16)","v":366851717.16999996},{"$f":"SUM(K12:K16)","v":166632968.05000001}]
["Disbursements/Expenditures for \"On Behalf\" Payments 2",4180,{"$f":"'AFR18'!B4077","v":6495681800.8000002},{"$f":"'AFR18'!B4078","v":8409771},{"$f":"'AFR18'!B4121","v":0},{"$f":"'AFR18'!B4079","v":829841},{"$f":"'AFR18'!B4122","v":0},{"$f":"'AFR18'!B4080","v":19598113},null,{"$f":"'AFR18'!B6174","v":7417186},{"$f":"'AFR18'!B4081","v":0}]
["Total Disbursements/Expenditures",null,{"$f":"SUM(C17:C18)","v":28108385647.370003},2193998898.9099998,2999127761,1200040722.1999998,625629915.9000001,1526481000.0699999,null,{"$f":"SUM(J17:J18)","v":374268903.16999996},{"$f":"SUM(K17:K18)","v":166632968.05000001}]
["Excess of Direct Receipts/Revenues Over (Under) Direct Disbursements/Expenditures  3",null,{"$f":"C8-C17","v":1235723474.2899933},{"$f":"D8-D17","v":87171775.850000381},-790574024.19999981,183827028.5400002,24723070.439999938,-1266987817.46,92905180.310000002,-16845777.139999926,-107875465.69000003]
["OTHER SOURCES/USES OF FUNDS"]
["OTHER SOURCES OF FUNDS  (7000)"]
["PERMANENT TRANSFER FROM VARIOUS FUNDS"]
["Abolishment of Working Cash Fund",7110,{"$f":"'AFR18'!B266","v":19734469}]
["Abatement of Working Cash Fund",null,{"$f":"'AFR18'!B7694","v":67070538},{"$f":"'AFR18'!B7695","v":146451090},{"$f":"'AFR18'!B7696","v":12249576},{"$f":"'AFR18'!B7697","v":21978696},{"$f":"'AFR18'!B7698","v":701289},{"$f":"'AFR18'!B7699","v":72653795},null,{"$f":"'AFR18'!B7700","v":866900},{"$f":"'AFR18'!B7701","v":6995555}]
["Transfer of Working Cash Fund Interest",7120,{"$f":"'AFR18'!B267","v":5656749},{"$f":"'AFR18'!B378","v":4568411},{"$f":"'AFR18'!B3436","v":1738},{"$f":"'AFR18'!B2708","v":3415270},{"$f":"'AFR18'!B3438","v":85000},{"$f":"'AFR18'!B3439","v":9154948},null,{"$f":"'AFR18'!B6177","v":0},{"$f":"'AFR18'!B3523","v":4557}]
["Transfer Among Funds",7130,{"$f":"'AFR18'!B4958","v":60484612},{"$f":"'AFR18'!B4959","v":213013589},null,{"$f":"'AFR18'!B4960","v":685225}]
["Transfer of Interest",7140,{"$f":"'AFR18'!B2703","v":289340251},{"$f":"'AFR18'!B2704","v":9311959},{"$f":"'AFR18'!B2706","v":13646687},{"$f":"'AFR18'!B2709","v":403684},{"$f":"'AFR18'!B2712","v":47069},{"$f":"'AFR18'!B2715","v":2365437},{"$f":"'AFR18'!B2718","v":3316000},{"$f":"'AFR18'!B6178","v":7793},{"$f":"'AFR18'!B3524","v":0}]
["Transfer from Capital Project Fund to O&M Fund",7150,null,{"$f":"'AFR18'!B3107","v":7462720}]
["Transfer of Excess Fire Prevention & Safety Tax and Interest Proceeds to Debt Service Fund 4",7160,null,{"$f":"'AFR18'!B3644","v":52950}]
["Transfer to Excess Fire Prevention & Safety Bond and Interest Proceeds to Debt Service Fund 4 ",7170,null,null,{"$f":"'AFR18'!B3645","v":147304}]
["SALE OF BONDS (7200)"]
["Principal on Bonds Sold",7210,{"$f":"'AFR18'!B269","v":13385462},{"$f":"'AFR18'!B3024","v":13890615},{"$f":"'AFR18'!B3028","v":2656880773},{"$f":"'AFR18'!B3029","v":7932465},null,{"$f":"'AFR18'!B564","v":956982138},{"$f":"'AFR18'!B597","v":311901711},{"$f":"'AFR18'!B6179","v":1000197},{"$f":"'AFR18'!B3525","v":98166880}]
["Premium on Bonds Sold",7220,{"$f":"'AFR18'!B270","v":24190},{"$f":"'AFR18'!B3025","v":444418},{"$f":"'AFR18'!B446","v":116325619},{"$f":"'AFR18'!B3030","v":0},null,{"$f":"'AFR18'!B565","v":41601698},{"$f":"'AFR18'!B598","v":7162087},{"$f":"'AFR18'!B6180","v":0},{"$f":"'AFR18'!B3526","v":3675955}]
["Accrued Interest on Bonds Sold",7230,{"$f":"'AFR18'!B271","v":0},{"$f":"'AFR18'!B3026","v":0},{"$f":"'AFR18'!B447","v":220808},{"$f":"'AFR18'!B3031","v":0},null,{"$f":"'AFR18'!B566","v":575570},{"$f":"'AFR18'!B599","v":0},{"$f":"'AFR18'!B6181","v":0},{"$f":"'AFR18'!B3527","v":0}]
["Sale or Compensation for Fixed Assets 5",7300,{"$f":"'AFR18'!B3476","v":895457},{"$f":"'AFR18'!B3477","v":1559255},{"$f":"'AFR18'!B4163","v":0},{"$f":"'AFR18'!B3478","v":10866998},{"$f":"'AFR18'!B3479","v":0},{"$f":"'AFR18'!B3480","v":14441016},null,{"$f":"'AFR18'!B6182","v":0},{"$f":"'AFR18'!B3528","v":49338}]
["Transfer to Debt Service to Pay Principal on Capital Leases",7400,null,null,{"$f":"SUM(C54:D57,H54:H57)","v":63657582}]
["Transfer to Debt Service to Pay Interest on Capital Leases",7500,null,null,{"$f":"SUM(C58:D61,H58:H61)","v":4073256}]
["Transfer to Debt Service to Pay Principal on Revenue Bonds",7600,null,null,{"$f":"SUM(C62:D65)","v":37253089}]
["Transfer to Debt Service Fund to Pay Interest on Revenue Bonds",7700,null,null,{"$f":"SUM(C66:D69)","v":16133922}]
["Transfer to Capital Projects Fund",7800,null,null,null,null,null,{"$f":"SUM(C70:D73)","v":350706755}]
["ISBE Loan Proceeds",7900,{"$f":"'AFR18'!B6236","v":2228850},{"$f":"'AFR18'!B6237","v":0},{"$f":"'AFR18'!B6238","v":377894},{"$f":"'AFR18'!B6239","v":0},{"$f":"'AFR18'!B6240","v":0},{"$f":"'AFR18'!B6241","v":0},null,null,{"$f":"'AFR18'!B6242","v":0}]
["Other Sources Not Classified Elsewhere",7990,{"$f":"'AFR18'!B3174","v":33869368},{"$f":"'AFR18'!B3180","v":21280735},{"$f":"'AFR18'!B3219","v":172821616},{"$f":"'AFR18'!B3197","v":14870822},{"$f":"'AFR18'!B3203","v":0},{"$f":"'AFR18'!B3241","v":112195370},{"$f":"'AFR18'!B3262","v":1488458},{"$f":"'AFR18'!B6183","v":17908},{"$f":"'AFR18'!B3529","v":2623139}]
["Total Other Sources of Funds",null,{"$f":"SUM(C24:C43)","v":492689946},418035742,3093789864,60153160,833358,1560676727,323868256,1892798,111515424]
["OTHER USES OF FUNDS (8000)"]
["PERMANENT TRANSFER TO VARIOUS OTHER FUNDS (8100)"]
["Abolishment or Abatement of the Working Cash Fund",8110,null,null,null,null,null,null,{"$f":"SUM(C24,C25:H25,J25:K25)","v":348701908}]
["Transfer of Working Cash Fund Interest",8120,null,null,null,null,null,null,{"$f":"SUM(C26:H26,J26,K26)","v":22886673}]
["Transfer Among Funds",8130,{"$f":"'AFR18'!B4968","v":130408311},{"$f":"'AFR18'!B4969","v":39896536},null,{"$f":"'AFR18'!B4970","v":103878579}]
["Transfer of Interest",8140,{"$f":"'AFR18'!B2740","v":9299700},{"$f":"'AFR18'!B2752","v":12043528},{"$f":"'AFR18'!B2763","v":287290136},{"$f":"'AFR18'!B2786","v":3307350},{"$f":"'AFR18'!B3205","v":47510},{"$f":"'AFR18'!B2794","v":3583747},null,{"$f":"'AFR18'!B6185","v":2866909}]
["Transfer from Capital Project Fund to O&M Fund",8150,null,null,null,null,null,{"$f":"D29","v":7462720}]
["Transfer of Excess Fire Prevention & Safety Tax & Interest Proceeds to O&M Fund",8160,null,null,null,null,null,null,null,null,{"$f":"D30","v":52950}]
["Transfer of Excess Fire Prevention & Safety Bond and Interest Proceeds to Debt Service Fund",8170,null,null,null,null,null,null,null,null,{"$f":"E31","v":147304}]
["Taxes Pledged to pay Prinicipal on Capital Leases",8410,{"$f":"'AFR18'!B6186","v":11537228},{"$f":"'AFR18'!B6187","v":3153335},null,null,null,{"$f":"'AFR18'!B6188","v":3470287}]
["Grants/Reimbursements Pledged to Pay Principal on Capital Leases",8420,{"$f":"'AFR18'!B7597","v":286379},{"$f":"'AFR18'!B7598","v":0},null,null,null,{"$f":"'AFR18'!B7599","v":0}]
["Other Revenues Pledged to Pay Principal on Capital Leases",8430,{"$f":"'AFR18'!B7600","v":8911150},{"$f":"'AFR18'!B7601","v":1784421},null,null,null,{"$f":"'AFR18'!B7602","v":17000}]
["Fund Balances Transfers Pledged to Pay Principal on Capital Leases",8440,{"$f":"'AFR18'!B7603","v":17136081},{"$f":"'AFR18'!B7604","v":3531133},null,null,null,{"$f":"'AFR18'!B7605","v":13830568}]
["Taxes Pledged to Pay Interest on Capital Leases",8510,{"$f":"'AFR18'!B6189","v":1140727},{"$f":"'AFR18'!B6190","v":398105},null,null,null,{"$f":"'AFR18'!B6191","v":670231}]
["Grants/Reimbursements Pledged to Pay Interest on Capital Leases",8520,{"$f":"'AFR18'!B7606","v":90923},{"$f":"'AFR18'!B7607","v":0},null,null,null,{"$f":"'AFR18'!B7608","v":0}]
["Other Revenues Pledged to Pay Interest on Capital Leases",8530,{"$f":"'AFR18'!B7609","v":353175},{"$f":"'AFR18'!B7610","v":48687},null,null,null,{"$f":"'AFR18'!B7611","v":0}]
["Fund Balances Transfers Pledged to Pay Interest on Capital Leases",8540,{"$f":"'AFR18'!B7612","v":521244},{"$f":"'AFR18'!B7613","v":813112},null,null,null,{"$f":"'AFR18'!B7614","v":37052}]
["Taxes Pledged to Pay Prinicipal on Revenue Bonds",8610,{"$f":"'AFR18'!B6192","v":2231032},{"$f":"'AFR18'!B6193","v":3207546}]
["Grants/Reimbursements Pledged to Pay Principal on Revenue Bonds",8620,{"$f":"'AFR18'!B7615","v":795000},{"$f":"'AFR18'!B7616","v":410400}]
["Other Revenues Pledged to Pay Principal on Revenue Bonds",8630,{"$f":"'AFR18'!B7617","v":1664755},{"$f":"'AFR18'!B7618","v":3075016}]
["Fund Balance Transfers Pledged to Pay Principal on Revenue Bonds",8640,{"$f":"'AFR18'!B7619","v":14103898},{"$f":"'AFR18'!B7620","v":11765442}]
["Taxes Pledged to Pay Interest on Revenue Bonds",8710,{"$f":"'AFR18'!B6194","v":1048241},{"$f":"'AFR18'!B6195","v":4850284}]
["Grants/Reimbursements Pledged to Pay Interest on Revenue Bonds",8720,{"$f":"'AFR18'!B7621","v":903175},{"$f":"'AFR18'!B7622","v":0}]
["Other Revenues Pledged to Pay Interest on Revenue Bonds",8730,{"$f":"'AFR18'!B7623","v":288908},{"$f":"'AFR18'!B7624","v":2148844}]
["Fund Balance Transfers Pledged to Pay Interest on Revenue Bonds",8740,{"$f":"'AFR18'!B7625","v":2143075},{"$f":"'AFR18'!B7626","v":4751395}]
["Taxes Transferred to Pay for Capital Projects",8810,{"$f":"'AFR18'!B6196","v":0},{"$f":"'AFR18'!B6197","v":500000}]
["Grants/Reimbursements Pledged to Pay for Capital Projects",8820,{"$f":"'AFR18'!B7627","v":40433},{"$f":"'AFR18'!B7628","v":40311}]
["Other Revenues Pledged for Capital Projects",8830,{"$f":"'AFR18'!B7629","v":175000},{"$f":"'AFR18'!B7630","v":36348180}]
["Fund Balance Transfers Pledged to Pay for Capital Projects",8840,{"$f":"'AFR18'!B7631","v":64380359},{"$f":"'AFR18'!B7632","v":249222472}]
["Transfer to Debt Service Fund to Pay Principal on ISBE Loans",8910,{"$f":"'AFR18'!B6198","v":782766},{"$f":"'AFR18'!B6199","v":14127},null,{"$f":"'AFR18'!B6200","v":0},{"$f":"'AFR18'!B6201","v":0},{"$f":"'AFR18'!B6202","v":0},null,null,{"$f":"'AFR18'!B6203","v":0}]
["Other Uses Not Classified Elsewhere",8990,{"$f":"'AFR18'!B3176","v":123178562},{"$f":"'AFR18'!B3182","v":88363426},{"$f":"'AFR18'!B3221","v":1798259672},{"$f":"'AFR18'!B3199","v":10210782},{"$f":"'AFR18'!B6204","v":0},{"$f":"'AFR18'!B3243","v":37519303},{"$f":"'AFR18'!B6205","v":46412640},{"$f":"'AFR18'!B6206","v":2602928},{"$f":"'AFR18'!B3531","v":848251}]
["Total Other Uses of Funds",null,{"$f":"SUM(C47:C75)","v":391420122},{"$f":"SUM(D47:D75)","v":466366300},2085549808,117396711,47510,66590908,418001221,5469837,1048505]
["Total Other Sources/Uses of Funds 6",null,{"$f":"(C44-C76)","v":101269824},{"$f":"(D44-D76)","v":-48330558},1008240056,-57243551,785848,1494085819,-94132965,-3577039,110466919]
["Excess of Receipts/Revenues and Other Sources of Funds (Over/Under) Expenditures/Disbursements and Other Uses of Funds",null,{"$f":"SUM(C20+C77)","v":1336993298.2899933},{"$f":"SUM(D20+D77)","v":38841217.850000381},{"$f":"SUM(E20+E77)","v":217666031.80000019},126583477.5400002,25508918.439999938,227098001.53999996,-1227784.6899999976,-20422816.139999926,2591453.3099999726]
["Fund Balances - July 1, 2017",null,{"$f":"'AFR18'!B1563","v":6173172812.0100002},{"$f":"'AFR18'!B1577","v":1322527707},{"$f":"'AFR18'!B1591","v":1437267403},{"$f":"'AFR18'!B1605","v":734320909},{"$f":"'AFR18'!B1619","v":442554093},{"$f":"'AFR18'!B1633","v":2224706463},{"$f":"'AFR18'!B3267","v":2257414987},{"$f":"'AFR18'!B6210","v":242093776},{"$f":"'AFR18'!B3535","v":316435890}]
["Other Changes in Fund Balances - Increases (Decreases)                                   (Describe & Itemize)",null,{"$f":"'AFR18'!B2509","v":1276757},{"$f":"'AFR18'!B2521","v":1692437},{"$f":"'AFR18'!B2583","v":-771344},{"$f":"'AFR18'!B2548","v":-244177},{"$f":"'AFR18'!B2560","v":90691},{"$f":"'AFR18'!B2609","v":-138403},{"$f":"'AFR18'!B3268","v":49690},{"$f":"'AFR18'!B6211","v":603182},{"$f":"'AFR18'!B3536","v":238630}]
["Fund Balances - June 30, 2018",null,{"$f":"SUM(C78:C80)","v":7511442867.2999935},{"$f":"SUM(D78:D80)","v":1363061361.8500004},1654162090.8000002,860660209.5400002,468153702.43999994,2451666061.54,2256236892.3099999,222274141.86000007,319265973.30999994]

{"sheet":"Revenues 9-14","index":4,"n_rows":275,"n_cols":11,"rows_kept":275,"cut":false,"hidden":false,"merged":[[171,0,171,1],[174,0,174,1],[109,0,109,1],[272,0,272,1],[184,0,184,1],[177,0,177,1],[183,0,183,1],[178,0,178,1],[114,0,114,1],[173,0,173,1]]}
[null,null,"(10)","(20)","(30)","(40)","(50)","(60)","(70)","(80)","(90)"]
["Description","Acct #","Educational","Operations & Maintenance","Debt Services","Transportation","Municipal Retirement/ Social Security","Capital Projects","Working Cash","Tort","Fire Prevention & Safety"]
["RECEIPTS/REVENUES FROM LOCAL SOURCES (1000)"]
["AD VALOREM TAXES LEVIED BY LOCAL EDUCATION AGENCY"]
["Designated Purposes Levies 7",null,{"$f":"'AFR18'!B5007","v":12275292688.279999},{"$f":"'AFR18'!B5274","v":1520014414.6700001},{"$f":"'AFR18'!B5455","v":1580829141.8000002},{"$f":"'AFR18'!B5499","v":627846419.68000007},{"$f":"'AFR18'!B5667","v":265871329.84},{"$f":"'AFR18'!B5817","v":9526435},{"$f":"'AFR18'!B5862","v":68670218.560000002},{"$f":"'AFR18'!B6244","v":336663561.00999999},{"$f":"'AFR18'!B5931","v":54998681.559999995}]
["Leasing Purposes Levy 8    ",1130,{"$f":"'AFR18'!B4972","v":28556306.710000001},{"$f":"'AFR18'!B5276","v":8189083}]
["Special Education Purposes Levy",1140,{"$f":"'AFR18'!B5009","v":484315829.32999998},{"$f":"'AFR18'!B5277","v":145750},null,{"$f":"'AFR18'!B5501","v":0},{"$f":"'AFR18'!B5668","v":1812761},{"$f":"'AFR18'!B6245","v":0}]
["FICA/Medicare Only Purposes Levies",1150,null,null,null,null,{"$f":"'AFR18'!B5669","v":308614694.5}]
["Area Vocational Construction Purposes Levy",1160,null,{"$f":"'AFR18'!B5278","v":0},{"$f":"'AFR18'!B5457","v":0},null,null,{"$f":"'AFR18'!B6989","v":0}]
["Summer School Purposes Levy ",1170,{"$f":"'AFR18'!B5010","v":202}]
["Other Tax Levies (Describe & Itemize)",1190,{"$f":"'AFR18'!B5011","v":172919},{"$f":"'AFR18'!B5279","v":2296059},{"$f":"'AFR18'!B5458","v":3614308},{"$f":"'AFR18'!B5502","v":2902022},{"$f":"'AFR18'!B5670","v":1606190},{"$f":"'AFR18'!B5818","v":37018},{"$f":"'AFR18'!B5863","v":200731},{"$f":"'AFR18'!B6246","v":415238},{"$f":"'AFR18'!B5932","v":230168}]
["Total Ad Valorem Taxes Levied By District",null,{"$f":"SUM(C5:C11)","v":12788337945.319998},{"$f":"SUM(D5:D11)","v":1530645306.6700001},1584443449.8000002,630748441.68000007,577904975.34000003,9563453,68870949.560000002,337078799.00999999,55228849.559999995]
["PAYMENTS IN LIEU OF TAXES"]
["Mobile Home Privilege Tax",1210,{"$f":"'AFR18'!B5013","v":1384224.27},{"$f":"'AFR18'!B5281","v":230371.61},{"$f":"'AFR18'!B5460","v":246213.46},{"$f":"'AFR18'!B5504","v":93301.52},{"$f":"'AFR18'!B5672","v":127526},{"$f":"'AFR18'!B5820","v":1380},{"$f":"'AFR18'!B5865","v":15244.8},{"$f":"'AFR18'!B6248","v":117082.29},{"$f":"'AFR18'!B5934","v":17107.8}]
["Payments from Local Housing Authorities",1220,{"$f":"'AFR18'!B5014","v":1456414},{"$f":"'AFR18'!B5282","v":208542},{"$f":"'AFR18'!B5461","v":50717},{"$f":"'AFR18'!B5505","v":14725},{"$f":"'AFR18'!B5673","v":46992},{"$f":"'AFR18'!B5821","v":0},{"$f":"'AFR18'!B5866","v":2799},{"$f":"'AFR18'!B6249","v":19439},{"$f":"'AFR18'!B5935","v":2940}]
["Corporate Personal Property Replacement Taxes 9",1230,{"$f":"'AFR18'!B5015","v":429992057.54000002},{"$f":"'AFR18'!B5283","v":79902948},{"$f":"'AFR18'!B5462","v":63714897},{"$f":"'AFR18'!B5506","v":9073520},{"$f":"'AFR18'!B5674","v":50487566},{"$f":"'AFR18'!B5822","v":2858909},{"$f":"'AFR18'!B5867","v":353851},{"$f":"'AFR18'!B6250","v":1617577},{"$f":"'AFR18'!B5936","v":10000}]
["Other Payments in Lieu of Taxes (Describe & Itemize)",1290,{"$f":"'AFR18'!B5016","v":18579713},{"$f":"'AFR18'!B5284","v":990609.7},{"$f":"'AFR18'!B5463","v":589190},{"$f":"'AFR18'!B5507","v":386976},{"$f":"'AFR18'!B5675","v":113249},{"$f":"'AFR18'!B5823","v":2022291},{"$f":"'AFR18'!B5868","v":3344},{"$f":"'AFR18'!B6251","v":35743},{"$f":"'AFR18'!B5937","v":22591}]
["Total Payments in Lieu of Taxes ",null,{"$f":"SUM(C14:C17)","v":451412408.81},{"$f":"SUM(D14:D17)","v":81332471.310000002},64601017.460000001,9568522.5199999996,50775333,4882580,375238.8,1789841.29,52638.8]
["Tuition"]
["Regular - Tuition from Pupils or Parents (In State)",1311,{"$f":"'AFR18'!B5018","v":17250859}]
["Regular - Tuition from Other Districts (In State)",1312,{"$f":"'AFR18'!B5019","v":4092120}]
["Regular - Tuition from Other Sources (In State)",1313,{"$f":"'AFR18'!B5020","v":3305114.52}]
["Regular - Tuition from Other Sources (Out of State)",1314,{"$f":"'AFR18'!B6253","v":444886}]
["Summer Sch - Tuition from Pupils or Parents (In State)",1321,{"$f":"'AFR18'!B5021","v":16093527}]
["Summer Sch - Tuition from Other Districts (In State)",1322,{"$f":"'AFR18'!B5022","v":416252}]
["Summer Sch - Tuition from Other Sources (In State)",1323,{"$f":"'AFR18'!B5023","v":668152}]
["Summer Sch - Tuition from Other Sources (Out of State)",1324,{"$f":"'AFR18'!B6254","v":0}]
["CTE - Tuition from Pupils or Parents (In State)",1331,{"$f":"'AFR18'!B5024","v":94779}]
["CTE - Tuition from Other Districts (In State)",1332,{"$f":"'AFR18'!B5025","v":287538}]
["CTE - Tuition from Other Sources (In State)",1333,{"$f":"'AFR18'!B5026","v":0}]
["CTE - Tuition from Other Sources (Out of State)",1334,{"$f":"'AFR18'!B6255","v":0}]
["Special Ed - Tuition from Pupils or Parents (In State)",1341,{"$f":"'AFR18'!B5027","v":4219602}]
["Special Ed - Tuition from Other Districts (In State)",1342,{"$f":"'AFR18'!B5028","v":25169238}]
["Special Ed - Tuition from Other Sources (In State)",1343,{"$f":"'AFR18'!B5029","v":351167}]
["Special Ed - Tuition from Other Sources (Out of State)",1344,{"$f":"'AFR18'!B6256","v":50790}]
["Adult - Tuition from Pupils or Parents (In State)",1351,{"$f":"'AFR18'!B5030","v":3645479}]
["Adult - Tuition from Other Districts (In State)",1352,{"$f":"'AFR18'!B5031","v":2360}]
["Adult - Tuition from Other Sources (In State)",1353,{"$f":"'AFR18'!B5032","v":615343}]
["Adult - Tuition from Other Sources (Out of State)",1354,{"$f":"'AFR18'!B6257","v":174691}]
["Total Tuition",null,{"$f":"SUM(C20:C39)","v":76881897.519999996}]
["TRANSPORTATION FEES"]
["Regular -Transp Fees from Pupils or Parents (In State)",1411,null,null,null,{"$f":"'AFR18'!B5509","v":6794979}]
["Regular - Transp Fees from Other Districts (In State)",1412,null,null,null,{"$f":"'AFR18'!B5510","v":14908598}]
["Regular - Transp Fees from Other Sources (In State)",1413,null,null,null,{"$f":"'AFR18'!B5511","v":990977}]
["Regular - Transp Fees from Co-curricular Activities (In State)",1415,null,null,null,{"$f":"'AFR18'!B5512","v":5114422}]
["Regular Transp Fees from Other Sources (Out of State)",1416,null,null,null,{"$f":"'AFR18'!B6258","v":42183}]
["Summer Sch - Transp. Fees from Pupils or Parents (In State)",1421,null,null,null,{"$f":"'AFR18'!B5513","v":259775}]
["Summer Sch - Transp. Fees from Other Districts (In State)",1422,null,null,null,{"$f":"'AFR18'!B5514","v":59325}]
["Summer Sch - Transp. Fees from Other Sources (In State)",1423,null,null,null,{"$f":"'AFR18'!B5515","v":8000}]
["Summer Sch - Transp. Fees from Other Sources (Out of State)",1424,null,null,null,{"$f":"'AFR18'!B6259","v":0}]
["CTE - Transp Fees from Pupils or Parents (In State)",1431,null,null,null,{"$f":"'AFR18'!B5516","v":52017}]
["CTE - Transp Fees from Other Districts (In State)",1432,null,null,null,{"$f":"'AFR18'!B5517","v":16511}]
["CTE - Transp Fees from Other Sources (In State)",1433,null,null,null,{"$f":"'AFR18'!B5518","v":11321}]
["CTE - Transp Fees from Other Sources (Out of State)",1434,null,null,null,{"$f":"'AFR18'!B6260","v":0}]
["Special Ed - Transp Fees from Pupils or Parents (In State)",1441,null,null,null,{"$f":"'AFR18'!B5519","v":133200}]
["Special Ed - Transp Fees from Other Districts (In State)",1442,null,null,null,{"$f":"'AFR18'!B5520","v":4217175}]
["Special Ed - Transp Fees from Other Sources (In State)",1443,null,null,null,{"$f":"'AFR18'!B5521","v":187716}]
["Special Ed - Transp Fees from Other Sources (Out of State)",1444,null,null,null,{"$f":"'AFR18'!B7710","v":0}]
["Adult - Transp Fees from Pupils or Parents (In State)",1451,null,null,null,{"$f":"'AFR18'!B5522","v":0}]
["Adult - Transp Fees from Other Districts (In State)",1452,null,null,null,{"$f":"'AFR18'!B5523","v":0}]
["Adult - Transp Fees from Other Sources (In State)",1453,null,null,null,{"$f":"'AFR18'!B5524","v":15171}]
["Adult - Transp Fees from Other Sources (Out of State)",1454,null,null,null,{"$f":"'AFR18'!B6261","v":0}]
["Total Transportation Fees",null,null,null,null,{"$f":"SUM(F42:F62)","v":32811370}]
["EARNINGS ON INVESTMENTS"]
["Interest on Investments",1510,{"$f":"'AFR18'!B5034","v":92528063.680000007},{"$f":"'AFR18'!B5286","v":13863731.029999999},{"$f":"'AFR18'!B5465","v":12293462.539999999},{"$f":"'AFR18'!B5526","v":7708961},{"$f":"'AFR18'!B5677","v":5132579},{"$f":"'AFR18'!B5825","v":23261024.82},{"$f":"'AFR18'!B5870","v":24251951.949999999},{"$f":"'AFR18'!B6262","v":2106532},{"$f":"'AFR18'!B5939","v":2918421}]
["Gain or Loss on Sale of Investments",1520,{"$f":"'AFR18'!B5035","v":-944805},{"$f":"'AFR18'!B5287","v":-635518},{"$f":"'AFR18'!B5466","v":814098},{"$f":"'AFR18'!B5527","v":-317679},{"$f":"'AFR18'!B5678","v":-296936},{"$f":"'AFR18'!B5826","v":-785625},{"$f":"'AFR18'!B5871","v":-763506},{"$f":"'AFR18'!B6263","v":-124706},{"$f":"'AFR18'!B5940","v":-173153}]
["Total Earnings on Investments",null,{"$f":"SUM(C65:C66)","v":91583258.680000007},{"$f":"SUM(D65:D66)","v":13228213.029999999},13107560.539999999,7391282,4835643,22475399.82,23488445.949999999,1981826,2745268]
["FOOD SERVICE"]
["Sales to Pupils - Lunch",1611,{"$f":"'AFR18'!B5977","v":137024027.72}]
["Sales to Pupils - Breakfast",1612,{"$f":"'AFR18'!B5037","v":2876457}]
["Sales to Pupils - A la Carte",1613,{"$f":"'AFR18'!B5038","v":36610244}]
["Sales to Pupils - Other (Describe & Itemize)",1614,{"$f":"'AFR18'!B5039","v":8054753}]
["Sales to Adults",1620,{"$f":"'AFR18'!B5040","v":4351472.91}]
["Other Food Service (Describe & Itemize)",1690,{"$f":"'AFR18'!B5041","v":14148177}]
["Total Food Service",null,{"$f":"SUM(C69:C74)","v":203065131.63}]
["DISTRICT/SCHOOL ACTIVITY INCOME"]
["Admissions - Athletic",1711,{"$f":"'AFR18'!B5043","v":20724459.780000001},{"$f":"'AFR18'!B5289","v":24252}]
["Admissions - Other (Describe & Itemize)",1719,{"$f":"'AFR18'!B5044","v":3169823},{"$f":"'AFR18'!B5290","v":322758}]
["Fees",1720,{"$f":"'AFR18'!B5045","v":69074689},{"$f":"'AFR18'!B5291","v":2298443}]
["Book Store Sales",1730,{"$f":"'AFR18'!B5046","v":4895864},{"$f":"'AFR18'!B5292","v":0}]
["Other District/School Activity Revenue (Describe & Itemize)",1790,{"$f":"'AFR18'!B5047","v":18308761},{"$f":"'AFR18'!B5293","v":228932}]
["Total District/School Activity Income",null,{"$f":"SUM(C77:C81)","v":116173596.78},{"$f":"SUM(D77:D81)","v":2874385}]
["TEXTBOOK INCOME"]
["Rentals - Regular Textbooks",1811,{"$f":"'AFR18'!B5049","v":98284857.289999992}]
["Rentals - Summer School Textbooks",1812,{"$f":"'AFR18'!B5050","v":928974}]
["Rentals - Adult/Continuing Education Textbooks",1813,{"$f":"'AFR18'!B5051","v":668033}]
["Rentals - Other (Describe & Itemize)",1819,{"$f":"'AFR18'!B5052","v":2683545}]
["Sales - Regular Textbooks",1821,{"$f":"'AFR18'!B5053","v":2101789}]
["Sales - Summer School Textbooks",1822,{"$f":"'AFR18'!B5054","v":70650}]
["Sales - Adult/Continuing Education Textbooks",1823,{"$f":"'AFR18'!B5055","v":34664}]
["Sales - Other (Describe & Itemize)",1829,{"$f":"'AFR18'!B5056","v":135061}]
["Other (Describe & Itemize)",1890,{"$f":"'AFR18'!B5057","v":2472347}," "]
["Total Textbook Income",null,{"$f":"SUM(C84:C92)","v":107379920.28999999}]
["OTHER REVENUE FROM LOCAL SOURCES"]
["Rentals",1910,{"$f":"'AFR18'!B5059","v":11025312},{"$f":"'AFR18'!B5295","v":30604051.359999999}]
["Contributions and Donations from Private Sources",1920,{"$f":"'AFR18'!B5060","v":23642234.25},{"$f":"'AFR18'!B5296","v":6114286},{"$f":"'AFR18'!B5468","v":1750000},{"$f":"'AFR18'!B5529","v":101579},{"$f":"'AFR18'!B5680","v":15764},{"$f":"'AFR18'!B5828","v":11322363.300000001},{"$f":"'AFR18'!B5873","v":59999},{"$f":"'AFR18'!B6265","v":2802},{"$f":"'AFR18'!B5942","v":0}]
["Impact Fees from Municipal or County Governments",1930,{"$f":"'AFR18'!B6266","v":1407073},{"$f":"'AFR18'!B6267","v":2740217.14},{"$f":"'AFR18'!B6268","v":520000},{"$f":"'AFR18'!B6269","v":7087},{"$f":"'AFR18'!B6270","v":0},{"$f":"'AFR18'!B6271","v":7767287},{"$f":"'AFR18'!B6272","v":0},{"$f":"'AFR18'!B6273","v":0},{"$f":"'AFR18'!B6274","v":0}]
["Services Provided Other Districts",1940,{"$f":"'AFR18'!B5061","v":12034366},{"$f":"'AFR18'!B5297","v":1079759},null,{"$f":"'AFR18'!B5530","v":705899}]
["Refund of Prior Years' Expenditures",1950,{"$f":"'AFR18'!B5062","v":40603746.239999995},{"$f":"'AFR18'!B5298","v":3705813},{"$f":"'AFR18'!B5469","v":165796},{"$f":"'AFR18'!B5531","v":3196144},{"$f":"'AFR18'!B5681","v":70677},{"$f":"'AFR18'!B5829","v":657360},null,{"$f":"'AFR18'!B6275","v":1677598},{"$f":"'AFR18'!B5943","v":16098}]
["Payments of Surplus Moneys from TIF Districts",1960,{"$f":"'AFR18'!B6276","v":138774696},{"$f":"'AFR18'!B6277","v":8329878},{"$f":"'AFR18'!B6278","v":2645511},{"$f":"'AFR18'!B6279","v":180208},{"$f":"'AFR18'!B6280","v":184603},{"$f":"'AFR18'!B6281","v":9933371},{"$f":"'AFR18'!B6282","v":109937},{"$f":"'AFR18'!B6283","v":128260},{"$f":"'AFR18'!B6284","v":124975}]
["Drivers' Education Fees",1970,{"$f":"'AFR18'!B6285","v":7478192}]
["Proceeds from Vendors' Contracts",1980,{"$f":"'AFR18'!B6286","v":2231902},{"$f":"'AFR18'!B6287","v":2676962},{"$f":"'AFR18'!B6288","v":173305},{"$f":"'AFR18'!B6289","v":0},{"$f":"'AFR18'!B6290","v":0},{"$f":"'AFR18'!B6291","v":104244},{"$f":"'AFR18'!B6292","v":0},{"$f":"'AFR18'!B6293","v":0},{"$f":"'AFR18'!B6294","v":0}]
["School Facility Occupation Tax Proceeds",1983,null,null,{"$f":"'AFR18'!B7674","v":35306169},null,null,{"$f":"'AFR18'!B7677","v":75023622.49000001}]
["Payment from Other Districts",1991,{"$f":"'AFR18'!B4707","v":4862869},{"$f":"'AFR18'!B5299","v":876630},{"$f":"'AFR18'!B5470","v":766615},{"$f":"'AFR18'!B4973","v":1661788},{"$f":"'AFR18'!B6295","v":234735},{"$f":"'AFR18'!B5830","v":30276}]
["Sale of Vocational Projects",1992,{"$f":"'AFR18'!B5063","v":2231649}]
["Other Local Fees",1993,{"$f":"'AFR18'!B5064","v":46485943},{"$f":"'AFR18'!B6990","v":2747391},{"$f":"'AFR18'!B6991","v":6425679},{"$f":"'AFR18'!B6992","v":182652},{"$f":"'AFR18'!B7582","v":32723},{"$f":"'AFR18'!B7583","v":1539978},null,{"$f":"'AFR18'!B7584","v":439},{"$f":"'AFR18'!B7585","v":34902}]
["Other Local Revenues (Describe & Itemize)",1999,{"$f":"'AFR18'!B5065","v":199107225.38999999},{"$f":"'AFR18'!B5300","v":30716883.25},{"$f":"'AFR18'!B5471","v":106792657},{"$f":"'AFR18'!B5532","v":7056536},{"$f":"'AFR18'!B5682","v":908622},{"$f":"'AFR18'!B5831","v":40167058},{"$f":"'AFR18'!B5875","v":610},{"$f":"'AFR18'!B6296","v":1833003.7300000002},{"$f":"'AFR18'!B5944","v":54407}]
["Total Other Revenue from Local Sources",null,{"$f":"SUM(C95:C107)","v":489885207.88},{"$f":"SUM(D95:D107)","v":89591870.75},{"$f":"SUM(E95:E107)","v":154545732},13091893,1447124,146545559.79000002,170546,3642102.7300000004,230382]
["Total Receipts/Revenues from Local Sources","1000",{"$f":"SUM(C12,C18,C40,C63,C67,C75,C82,C93,C108)","v":14324719366.909998},1717672246.76,1816697759.8000002,693611509.20000005,634963075.34000003,183466992.61000001,92905180.310000002,344492569.03000003,58257138.359999992]
["FLOW-THROUGH RECEIPTS/REVENUES                                                               FROM ONE DISTRICT TO ANOTHER DISTRICT (2000)"]
["Flow-through Revenue from State Sources",2100,{"$f":"'AFR18'!B5068","v":10335828},{"$f":"'AFR18'!B5303","v":605000},null,{"$f":"'AFR18'!B5535","v":45553},{"$f":"'AFR18'!B5684","v":0}]
["Flow-through Revenue from Federal Sources",2200,{"$f":"'AFR18'!B5069","v":2447361},{"$f":"'AFR18'!B5304","v":0},null,{"$f":"'AFR18'!B5536","v":29339},{"$f":"'AFR18'!B5685","v":0}]
["Other Flow-Through (Describe & Itemize)",2300,{"$f":"'AFR18'!B5070","v":157063},{"$f":"'AFR18'!B5305","v":511071},null,{"$f":"'AFR18'!B5537","v":480},{"$f":"'AFR18'!B5686","v":0}]
["Total Flow-Through Receipts/Revenues from One District to Another District","2000",{"$f":"SUM(C111:C113)","v":12940252},{"$f":"SUM(D111:D113)","v":1116071}," ",{"$f":"SUM(F111:F113)","v":75372},{"$f":"SUM(G111:G113)","v":0}]
["RECEIPTS/REVENUES FROM STATE SOURCES (3000)"]
["UNRESTRICTED GRANTS-IN-AID"]
["Evidence-Based Funding Formula (Section 18-8.15)",3001,{"$f":"'AFR18'!B5072","v":5304504837.04},{"$f":"'AFR18'!B5307","v":543668721},{"$f":"'AFR18'!B5474","v":336372009},{"$f":"'AFR18'!B5539","v":47718521},{"$f":"'AFR18'!B5688","v":12636095},{"$f":"'AFR18'!B5833","v":36938304},null,{"$f":"'AFR18'!B6299","v":5512259},{"$f":"'AFR18'!B5946","v":475364}]
["General State Aid - Hold Harmless/Supplemental",3002,{"$f":"'AFR18'!B4820","v":18449707},{"$f":"'AFR18'!B4821","v":651682},{"$f":"'AFR18'!B4822","v":0},{"$f":"'AFR18'!B4823","v":0},{"$f":"'AFR18'!B4824","v":0},{"$f":"'AFR18'!B4825","v":0},null,{"$f":"'AFR18'!B6300","v":0},{"$f":"'AFR18'!B4827","v":0}]
["Reorganization Incentives (Accounts 3005-3021)",3005,{"$f":"'AFR18'!B5073","v":2891798},{"$f":"'AFR18'!B5308","v":0},{"$f":"'AFR18'!B5475","v":0},{"$f":"'AFR18'!B5540","v":1574961},{"$f":"'AFR18'!B5689","v":0},{"$f":"'AFR18'!B5834","v":0},null,{"$f":"'AFR18'!B6301","v":0},{"$f":"'AFR18'!B5947","v":0}]
["Other Unrestricted Grants-In-Aid from State Sources                                             (Describe & Itemize)",3099,{"$f":"'AFR18'!B4828","v":1988407},{"$f":"'AFR18'!B4829","v":0},{"$f":"'AFR18'!B4830","v":0},{"$f":"'AFR18'!B4831","v":279},{"$f":"'AFR18'!B4832","v":0},{"$f":"'AFR18'!B4833","v":0},null,{"$f":"'AFR18'!B6302","v":0},{"$f":"'AFR18'!B4835","v":0}]
["Total Unrestricted Grants-In-Aid",null,{"$f":"SUM(C117:C120)","v":5327834749.04},544320403,336372009,49293761,12636095,36938304,null,{"$f":"SUM(J117:J120)","v":5512259},{"$f":"SUM(K117:K120)","v":475364}]
["RESTRICTED GRANTS-IN-AID"]
["SPECIAL EDUCATION"]
["Special Education - Private Facility Tuition",3100,{"$f":"'AFR18'!B5079","v":144532030},null,null,{"$f":"'AFR18'!B5546","v":4038}]
["Special Education - Extraordinary",3105,{"$f":"'AFR18'!B5080","v":74146985.340000004},null,null,{"$f":"'AFR18'!B5547","v":5625}]
["Special Education - Personnel",3110,{"$f":"'AFR18'!B5081","v":102700466.7},{"$f":"'AFR18'!B5314","v":0},null,{"$f":"'AFR18'!B5548","v":121780}]
["Special Education - Orphanage - Individual",3120,{"$f":"'AFR18'!B5083","v":50199936.729999997},null,null,{"$f":"'AFR18'!B5550","v":183563}]
["Special Education - Orphanage - Summer ",3130,{"$f":"'AFR18'!B5085","v":6525702},null,null,{"$f":"'AFR18'!B5552","v":0}]
["Special Education - Summer School",3145,{"$f":"'AFR18'!B5088","v":4501046},null,null,{"$f":"'AFR18'!B5555","v":0}]
["Special Education - Other (Describe & Itemize)",3199,{"$f":"'AFR18'!B4255","v":273421},{"$f":"'AFR18'!B4256","v":0},null,{"$f":"'AFR18'!B4257","v":0}]
["Total Special Education",null,{"$f":"SUM(C124:C130)","v":382879587.77000004},{"$f":"SUM(D124:D130)","v":0}," ",{"$f":"SUM(F124:F130)","v":315006}," "," "," "," "," "]
["CAREER AND TECHNICAL EDUCATION (CTE)"]
["CTE - Technical Education - Tech Prep",3200,{"$f":"'AFR18'!B5094","v":1140963},{"$f":"'AFR18'!B5316","v":0},null,null,{"$f":"'AFR18'!B5695","v":5193}]
["CTE - Secondary Program Improvement (CTEI)",3220,{"$f":"'AFR18'!B5098","v":17298662},{"$f":"'AFR18'!B5320","v":0},null,null,{"$f":"'AFR18'!B6304","v":4923}]
["CTE - WECEP",3225,{"$f":"'AFR18'!B5099","v":161985},{"$f":"'AFR18'!B5321","v":0},null,null,{"$f":"'AFR18'!B4717","v":0}]
["CTE - Agriculture Education",3235,{"$f":"'AFR18'!B6305","v":1836317},{"$f":"'AFR18'!B6306","v":0},null,null,{"$f":"'AFR18'!B6307","v":89}]
["CTE - Instructor Practicum",3240,{"$f":"'AFR18'!B6308","v":46798},{"$f":"'AFR18'!B6309","v":0},null,null,{"$f":"'AFR18'!B6310","v":0}]
["CTE - Student Organizations",3270,{"$f":"'AFR18'!B6311","v":87582},{"$f":"'AFR18'!B6312","v":0},null,null,{"$f":"'AFR18'!B6313","v":0}]
["CTE - Other (Describe & Itemize)",3299,{"$f":"'AFR18'!B4173","v":1032831},{"$f":"'AFR18'!B4174","v":0},null,null,{"$f":"'AFR18'!B4176","v":0}]
["Total Career and Technical Education",null,{"$f":"SUM(C133:C139)","v":21605138},{"$f":"SUM(D133:D139)","v":0}," ",null,{"$f":"SUM(G133:G139)","v":10205}," "," "," "," "]
["BILINGUAL EDUCATION"]
["Bilingual Ed - Downstate - TPI and TBE",3305,{"$f":"'AFR18'!B5109","v":82880458},null,null,null,{"$f":"'AFR18'!B5700","v":2031}]
["Bilingual Education - Transitional Bilingual Education",3310,{"$f":"'AFR18'!B5110","v":451518},null,null,null,{"$f":"'AFR18'!B5701","v":0}]
["Total Bilingual Ed",null,{"$f":"SUM(C142:C143)","v":83331976},null,null,null,{"$f":"SUM(G142:G143)","v":2031}]
["State Free Lunch & Breakfast",3360,{"$f":"'AFR18'!B5113","v":7254315.2000000002}]
["School Breakfast Initiative",3365,{"$f":"'AFR18'!B4297","v":33097},{"$f":"'AFR18'!B4298","v":0},null,null,{"$f":"'AFR18'!B4299","v":0}]
["Driver Education",3370,{"$f":"'AFR18'!B5114","v":18661339},{"$f":"'AFR18'!B5330","v":0}]
["Adult Ed (from ICCB)",3410,{"$f":"'AFR18'!B5117","v":3605207},{"$f":"'AFR18'!B5333","v":0},{"$f":"'AFR18'!B6314","v":0},{"$f":"'AFR18'!B6315","v":0},{"$f":"'AFR18'!B6316","v":0},{"$f":"'AFR18'!B6317","v":0},{"$f":"'AFR18'!B6318","v":0},{"$f":"'AFR18'!B6319","v":0},{"$f":"'AFR18'!B6320","v":0}]
["Adult Ed - Other (Describe & Itemize)",3499,{"$f":"'AFR18'!B4258","v":142381},{"$f":"'AFR18'!B4259","v":0},{"$f":"'AFR18'!B6321","v":0},{"$f":"'AFR18'!B4300","v":0},{"$f":"'AFR18'!B4301","v":0},{"$f":"'AFR18'!B6322","v":0},{"$f":"'AFR18'!B6323","v":0},{"$f":"'AFR18'!B6324","v":0},{"$f":"'AFR18'!B6325","v":0}]
["TRANSPORTATION"]
["Transportation - Regular/Vocational",3500,{"$f":"'AFR18'!B5121","v":296180},{"$f":"'AFR18'!B5337","v":65000},null,{"$f":"'AFR18'!B5561","v":278137337.91999996},{"$f":"'AFR18'!B6326","v":0}]
["Transportation - Special Education",3510,{"$f":"'AFR18'!B5123","v":48843314},{"$f":"'AFR18'!B5339","v":10000},null,{"$f":"'AFR18'!B5563","v":353389376.62},{"$f":"'AFR18'!B6327","v":0}]
["Transportation - Other (Describe & Itemize)",3599,{"$f":"'AFR18'!B4260","v":0},{"$f":"'AFR18'!B4261","v":0},null,{"$f":"'AFR18'!B4262","v":8557},{"$f":"'AFR18'!B4302","v":0}]
["Total Transportation",null,{"$f":"SUM(C151:C153)","v":49139494},{"$f":"SUM(D151:D153)","v":75000},null,{"$f":"SUM(F151:F153)","v":631535271.53999996},{"$f":"SUM(G151:G153)","v":0}]
["Learning Improvement - Change Grants",3610,{"$f":"'AFR18'!B5127","v":75580}]
["Scientific Literacy",3660,{"$f":"'AFR18'!B5133","v":12813},{"$f":"'AFR18'!B5341","v":0},null,{"$f":"'AFR18'!B5565","v":0},{"$f":"'AFR18'!B5703","v":0}]
["Truant Alternative/Optional Education",3695,{"$f":"'AFR18'!B5140","v":8861289},null,null,{"$f":"'AFR18'!B5571","v":320},{"$f":"'AFR18'!B5709","v":5972}]
["Early Childhood - Block Grant",3705,{"$f":"'AFR18'!B5142","v":388808276},{"$f":"'AFR18'!B5347","v":326020},null,{"$f":"'AFR18'!B5573","v":6343913},{"$f":"'AFR18'!B5711","v":565581}]
["Reading Improvement Block Grant",3715,{"$f":"'AFR18'!B5145","v":830080},null,null,{"$f":"'AFR18'!B5576","v":114119},{"$f":"'AFR18'!B5713","v":0}]
["Reading Improvement Block Grant - Reading Recovery",3720,{"$f":"'AFR18'!B5146","v":2669},null,null,{"$f":"'AFR18'!B5577","v":0},{"$f":"'AFR18'!B5714","v":0}]
["Continued Reading Improvement Block Grant",3725,{"$f":"'AFR18'!B6328","v":1681},null,null,{"$f":"'AFR18'!B6329","v":0},{"$f":"'AFR18'!B6330","v":0}]
["Continued Reading Improvement Block Grant (2% Set Aside)",3726,{"$f":"'AFR18'!B6331","v":0},null,null,{"$f":"'AFR18'!B6332","v":0},{"$f":"'AFR18'!B6333","v":0}]
["Chicago General Education Block Grant",3766,{"$f":"'AFR18'!B5002","v":122606950},{"$f":"'AFR18'!B5003","v":0},null,{"$f":"'AFR18'!B5004","v":0},{"$f":"'AFR18'!B5005","v":0}]
["Chicago Educational Services Block Grant",3767,{"$f":"'AFR18'!B5006","v":0},{"$f":"'AFR18'!B4125","v":0},null,{"$f":"'AFR18'!B4126","v":0},{"$f":"'AFR18'!B4127","v":0}]
["School Safety & Educational Improvement Block Grant",3775,{"$f":"'AFR18'!B4861","v":2686},{"$f":"'AFR18'!B4862","v":4498},{"$f":"'AFR18'!B4863","v":0},{"$f":"'AFR18'!B4864","v":8752},{"$f":"'AFR18'!B4865","v":0},{"$f":"'AFR18'!B4866","v":0},null,null,{"$f":"'AFR18'!B4868","v":0}]
["Technology - Learning Technology Centers",3780,{"$f":"'AFR18'!B6334","v":151432},{"$f":"'AFR18'!B6335","v":0},{"$f":"'AFR18'!B6336","v":0},{"$f":"'AFR18'!B6337","v":0},{"$f":"'AFR18'!B6338","v":0},{"$f":"'AFR18'!B6339","v":0},null,null,{"$f":"'AFR18'!B6340","v":0}]
["State Charter Schools",3815,{"$f":"'AFR18'!B4263","v":26234},null,null,{"$f":"'AFR18'!B4264","v":0}]
["Extended Learning Opportunities - Summer Bridges",3825,{"$f":"'AFR18'!B4267","v":0},null,null,{"$f":"'AFR18'!B4268","v":0}]
["Infrastructure Improvements - Construction",3920,null,{"$f":"'AFR18'!B4273","v":219465},null,null,null,{"$f":"'AFR18'!B4274","v":2982381}]
["School Infrastructure - Maintenance",3925,null,{"$f":"'AFR18'!B4275","v":61379},null,null,null,{"$f":"'AFR18'!B7652","v":181415},null,null,{"$f":"'AFR18'!B4276","v":25000}]
["Other Restricted Revenue from State Sources (Describe & Itemize)",3999,{"$f":"'AFR18'!B4738","v":31714649},{"$f":"'AFR18'!B4739","v":1109824},{"$f":"'AFR18'!B4740","v":6560200},{"$f":"'AFR18'!B4741","v":31316},{"$f":"'AFR18'!B4742","v":3471},{"$f":"'AFR18'!B4743","v":15570530},{"$f":"'AFR18'!B4161","v":0},{"$f":"'AFR18'!B6341","v":1112},{"$f":"'AFR18'!B4745","v":0}]
["Total Restricted Grants-In-Aid",null,{"$f":"SUM(C131,C140,C144,C145:C149,C154,C155:C171)","v":1119746873.97},{"$f":"SUM(D131,D140,D144,D145:D149,D154,D155:D171)","v":1796186},6560200,638348697.53999996,587260,18734326,0,1112,25000]
["Total Receipts from State Sources","3000",{"$f":"SUM(C121,C172)","v":6447581623.0100002},{"$f":"SUM(D121,D172)","v":546116589},342932209,687642458.53999996,13223355,55672630,0,5513371,500364]
["RECEIPTS/REVENUES FROM FEDERAL SOURCES (4000)"]
["UNRESTRICTED GRANTS-IN-AID RECEIVED DIRECTLY FROM FEDERAL GOVT"]
["Federal Impact Aid",4001,{"$f":"'AFR18'!B5170","v":14097406},{"$f":"'AFR18'!B5368","v":5084707},{"$f":"'AFR18'!B4310","v":287900},{"$f":"'AFR18'!B5600","v":200000},{"$f":"'AFR18'!B5725","v":0},{"$f":"'AFR18'!B4311","v":9775},{"$f":"'AFR18'!B4312","v":0},{"$f":"'AFR18'!B6344","v":0},{"$f":"'AFR18'!B4314","v":0}]
["Other Unrestricted Grants-In-Aid Received Directly from the Fed Govt (Describe & Itemize)",4009,{"$f":"'AFR18'!B4890","v":335625},{"$f":"'AFR18'!B4891","v":0},{"$f":"'AFR18'!B4315","v":0},{"$f":"'AFR18'!B4892","v":0},{"$f":"'AFR18'!B4893","v":0},{"$f":"'AFR18'!B4894","v":0},{"$f":"'AFR18'!B4316","v":0},{"$f":"'AFR18'!B6345","v":0},{"$f":"'AFR18'!B4895","v":0}]
["Total Unrestricted  Grants-In-Aid Received Directly                                     from the Federal Govt",null,{"$f":"SUM(C176:C177)","v":14433031},{"$f":"SUM(D176:D177)","v":5084707},287900,200000,0,9775,0,0,0]
["RESTRICTED GRANTS-IN-AID RECEIVED DIRECTLY FROM FEDERAL GOVT"]
["Head Start",4045,{"$f":"'AFR18'!B5176","v":48134935}]
["Construction (Impact Aid)",4050,{"$f":"'AFR18'!B5177","v":0},{"$f":"'AFR18'!B5370","v":0},null,null,null,{"$f":"'AFR18'!B5853","v":184181}]
["MAGNET",4060,{"$f":"'AFR18'!B4747","v":103241},{"$f":"'AFR18'!B4748","v":0},null,{"$f":"'AFR18'!B4750","v":0},{"$f":"'AFR18'!B4756","v":0},{"$f":"'AFR18'!B4757","v":0}]
["Other Restricted Grants-In-Aid Received Directly from the Federal Govt (Describe & Itemize)",4090,{"$f":"'AFR18'!B4751","v":19810593},{"$f":"'AFR18'!B4752","v":19692},null,{"$f":"'AFR18'!B4754","v":0},{"$f":"'AFR18'!B4759","v":5},{"$f":"'AFR18'!B4760","v":0},null,null,{"$f":"'AFR18'!B4762","v":0}]
["Total Restricted Grants-In-Aid Received Directly from Federal Govt",null,{"$f":"SUM(C180:C183)","v":68048769},{"$f":"SUM(D180:D183)","v":19692},null,{"$f":"SUM(F180:F183)","v":0},{"$f":"SUM(G180:G183)","v":5},{"$f":"SUM(H180:H183)","v":184181},null,null,{"$f":"SUM(K180:K183)","v":0}]
["RESTRICTED GRANTS-IN-AID RECEIVED FROM FEDERAL GOVT                         THRU THE STATE"]
["TITLE V"]
["Title V - Innovation and Flexibility Formula",4100,{"$f":"'AFR18'!B5179","v":16790},{"$f":"'AFR18'!B5372","v":0},null,{"$f":"'AFR18'!B5605","v":0},{"$f":"'AFR18'!B5731","v":0}]
["Title V - District Projects",4105,{"$f":"'AFR18'!B4321","v":0},{"$f":"'AFR18'!B4322","v":0},null,{"$f":"'AFR18'!B4323","v":0},{"$f":"'AFR18'!B4324","v":0}]
["Title V - Rural & Low Income Schools",4107,{"$f":"'AFR18'!B4325","v":2156985.77},{"$f":"'AFR18'!B4326","v":14427},null,{"$f":"'AFR18'!B4327","v":0},{"$f":"'AFR18'!B4328","v":0}]
["Title V - Other (Describe & Itemize)",4199,{"$f":"'AFR18'!B4337","v":150416},{"$f":"'AFR18'!B4338","v":0},null,{"$f":"'AFR18'!B4339","v":0},{"$f":"'AFR18'!B4340","v":0}]
["Total Title V",null,{"$f":"SUM(C187:C190)","v":2324191.77},{"$f":"SUM(D187:D190)","v":14427},null,{"$f":"SUM(F187:F190)","v":0},{"$f":"SUM(G187:G190)","v":0}]
["FOOD SERVICE"]
["Breakfast Start-Up",4200,{"$f":"'AFR18'!B6347","v":188604},null,null,null,{"$f":"'AFR18'!B6348","v":0}]
["National School Lunch Program",4210,{"$f":"'AFR18'!B5185","v":429563014.91000003},null,null,null,{"$f":"'AFR18'!B6349","v":0}]
["Special Milk Program",4215,{"$f":"'AFR18'!B5186","v":1757513},null,null,null,{"$f":"'AFR18'!B6350","v":0}]
["School Breakfast Program",4220,{"$f":"'AFR18'!B5187","v":132267442.70999999},null,null,null,{"$f":"'AFR18'!B6351","v":0}]
["Summer Food Service Admin/Program",4225,{"$f":"'AFR18'!B5188","v":3705697},null,null,null,{"$f":"'AFR18'!B6352","v":0}]
["Child Care Commodity/SFS 13-Adult Day Care",4226,{"$f":"'AFR18'!B5189","v":10003623},null,null,null,{"$f":"'AFR18'!B6353","v":0}]
["Fresh Fruits & Vegetables",4240,{"$f":"'AFR18'!B7633","v":4994178}]
["Food Service - Other (Describe & Itemize)",4299,{"$f":"'AFR18'!B4277","v":18774327},null,null,null,{"$f":"'AFR18'!B6354","v":0}]
["Total Food Service",null,{"$f":"SUM(C193:C200)","v":601254399.62},null,null,null,{"$f":"SUM(G193:G200)","v":0}]
["TITLE I"]
["Title I - Low Income",4300,{"$f":"'AFR18'!B5193","v":621959431},{"$f":"'AFR18'!B5377","v":251},null,{"$f":"'AFR18'!B5610","v":768092},{"$f":"'AFR18'!B5736","v":1011938}]
["Title I - Low Income - Neglected,  Private",4305,{"$f":"'AFR18'!B5194","v":2123307},{"$f":"'AFR18'!B5378","v":0},null,{"$f":"'AFR18'!B5611","v":0},{"$f":"'AFR18'!B5737","v":154}]
["Title I - Comprehensive School Reform",4332,{"$f":"'AFR18'!B4181","v":0},{"$f":"'AFR18'!B4182","v":0},null,{"$f":"'AFR18'!B4183","v":0},{"$f":"'AFR18'!B4184","v":0}]
["Title I - Reading First",4334,{"$f":"'AFR18'!B4345","v":0},{"$f":"'AFR18'!B4346","v":0},null,{"$f":"'AFR18'!B4347","v":0},{"$f":"'AFR18'!B4348","v":0}]
["Title I - Even Start",4335,{"$f":"'AFR18'!B5200","v":0},{"$f":"'AFR18'!B5384","v":0},null,{"$f":"'AFR18'!B5617","v":0},{"$f":"'AFR18'!B5743","v":0}]
["Title I - Reading First SEA Funds",4337,{"$f":"'AFR18'!B6356","v":0},{"$f":"'AFR18'!B6357","v":0},null,{"$f":"'AFR18'!B6358","v":0},{"$f":"'AFR18'!B6359","v":0}]
["Title I - Migrant Education",4340,{"$f":"'AFR18'!B5201","v":424331},{"$f":"'AFR18'!B5385","v":0},null,{"$f":"'AFR18'!B5618","v":0},{"$f":"'AFR18'!B5744","v":0}]
["Title I - Other (Describe & Itemize)",4399,{"$f":"'AFR18'!B4278","v":16880299},{"$f":"'AFR18'!B4279","v":0},null,{"$f":"'AFR18'!B4280","v":0},{"$f":"'AFR18'!B4281","v":28}]
["Total Title I",null,{"$f":"SUM(C203:C210)","v":641387368},{"$f":"SUM(D203:D210)","v":251},null,{"$f":"SUM(F203:F210)","v":768092},{"$f":"SUM(G203:G210)","v":1012120}]
["TITLE IV"]
["Title IV - Safe & Drug Free Schools - Formula",4400,{"$f":"'AFR18'!B5202","v":5212230},{"$f":"'AFR18'!B5386","v":0},null,{"$f":"'AFR18'!B5619","v":0},{"$f":"'AFR18'!B5745","v":159}]
["Title IV - 21st Century",4421,{"$f":"'AFR18'!B4353","v":15319632},{"$f":"'AFR18'!B4354","v":0},null,{"$f":"'AFR18'!B4355","v":160578},{"$f":"'AFR18'!B4356","v":35211}]
["Title IV - Other (Describe & Itemize)",4499,{"$f":"'AFR18'!B4282","v":531755},{"$f":"'AFR18'!B4283","v":0},null,{"$f":"'AFR18'!B4284","v":1304},{"$f":"'AFR18'!B4285","v":0}]
["Total Title IV",null,{"$f":"SUM(C213:C215)","v":21063617},{"$f":"SUM(D213:D215)","v":0}," ",{"$f":"SUM(F213:F215)","v":161882},{"$f":"SUM(G213:G215)","v":35370}]
["FEDERAL - SPECIAL EDUCATION"]
["Fed - Spec Education - Preschool Flow-Through",4600,{"$f":"'AFR18'!B5220","v":10172642.620000001},{"$f":"'AFR18'!B5404","v":0},null,{"$f":"'AFR18'!B5637","v":0},{"$f":"'AFR18'!B5763","v":37316}]
["Fed - Spec Education - Preschool Discretionary",4605,{"$f":"'AFR18'!B5221","v":3476037},{"$f":"'AFR18'!B5405","v":0},null,{"$f":"'AFR18'!B5638","v":0},{"$f":"'AFR18'!B5764","v":0}]
["Fed - Spec Education - IDEA - Flow Through/Low Incidence",4620,{"$f":"'AFR18'!B5224","v":350631523.12},{"$f":"'AFR18'!B5408","v":149613},null,{"$f":"'AFR18'!B5641","v":55571},{"$f":"'AFR18'!B5767","v":1012852}]
["Fed - Spec Education - IDEA - Room & Board",4625,{"$f":"'AFR18'!B5225","v":38051804},{"$f":"'AFR18'!B5409","v":6211},null,{"$f":"'AFR18'!B5642","v":1498},{"$f":"'AFR18'!B5768","v":634}]
["Fed - Spec Education - IDEA - Discretionary",4630,{"$f":"'AFR18'!B5226","v":47137},{"$f":"'AFR18'!B5410","v":0},null,{"$f":"'AFR18'!B5643","v":0},{"$f":"'AFR18'!B5769","v":0}]
["Fed - Spec Education - IDEA - Other (Describe & Itemize)",4699,{"$f":"'AFR18'!B4286","v":198257},{"$f":"'AFR18'!B4287","v":0},null,{"$f":"'AFR18'!B4288","v":0},{"$f":"'AFR18'!B4289","v":0}]
["Total Federal - Special Education",null,{"$f":"SUM(C218:C223)","v":402577400.74000001},{"$f":"SUM(D218:D223)","v":155824},null,{"$f":"SUM(F218:F223)","v":57069},{"$f":"SUM(G218:G223)","v":1050802}]
["CTE - PERKINS"]
["CTE - Perkins - Title IIIE - Tech Prep",4770,{"$f":"'AFR18'!B5247","v":5748521},{"$f":"'AFR18'!B5431","v":0},null,null,{"$f":"'AFR18'!B5790","v":24}]
["CTE - Other (Describe & Itemize)",4799,{"$f":"'AFR18'!B4290","v":9699577},{"$f":"'AFR18'!B4291","v":0},null,null,{"$f":"'AFR18'!B4292","v":0}]
["Total CTE - Perkins",null,{"$f":"SUM(C226:C227)","v":15448098},{"$f":"SUM(D226:D227)","v":0},null,null,{"$f":"SUM(G226:G227)","v":24}]
["Federal - Adult Education",4810,{"$f":"'AFR18'!B5256","v":1577535},{"$f":"'AFR18'!B5440","v":0},null,null,{"$f":"'AFR18'!B5799","v":0}]
["ARRA - General State Aid - Education Stabilization",4850,{"$f":"'AFR18'!B6560","v":0},{"$f":"'AFR18'!B6561","v":0},{"$f":"'AFR18'!B6562","v":0},{"$f":"'AFR18'!B6563","v":0},{"$f":"'AFR18'!B6564","v":0},{"$f":"'AFR18'!B6565","v":0},null,{"$f":"'AFR18'!B6566","v":0},{"$f":"'AFR18'!B6567","v":0}]
["ARRA - Title I - Low Income",4851,{"$f":"'AFR18'!B6568","v":0},{"$f":"'AFR18'!B6569","v":0},null,{"$f":"'AFR18'!B6570","v":0},{"$f":"'AFR18'!B6571","v":0}]
["ARRA - Title I - Neglected, Private",4852,{"$f":"'AFR18'!B6572","v":0},{"$f":"'AFR18'!B6573","v":0},{"$f":"'AFR18'!B6574","v":0},{"$f":"'AFR18'!B6575","v":0},{"$f":"'AFR18'!B6576","v":0},{"$f":"'AFR18'!B6577","v":0},null,{"$f":"'AFR18'!B6578","v":0},{"$f":"'AFR18'!B6579","v":0}]
["ARRA - Title I - Delinquent, Private",4853,{"$f":"'AFR18'!B6580","v":0},{"$f":"'AFR18'!B6581","v":0},{"$f":"'AFR18'!B6582","v":0},{"$f":"'AFR18'!B6583","v":0},{"$f":"'AFR18'!B6584","v":0},{"$f":"'AFR18'!B6585","v":0},null,{"$f":"'AFR18'!B6586","v":0},{"$f":"'AFR18'!B6587","v":0}]
["ARRA A- Title I - School Improvement (Part A)",4854,{"$f":"'AFR18'!B6588","v":0},{"$f":"'AFR18'!B6589","v":0},{"$f":"'AFR18'!B6590","v":0},{"$f":"'AFR18'!B6591","v":0},{"$f":"'AFR18'!B6592","v":0},{"$f":"'AFR18'!B6593","v":0},null,{"$f":"'AFR18'!B6594","v":0},{"$f":"'AFR18'!B6595","v":0}]
["ARRA - Title I - School Improvement (Part G)",4855,{"$f":"'AFR18'!B6596","v":0},{"$f":"'AFR18'!B6597","v":0},{"$f":"'AFR18'!B6598","v":0},{"$f":"'AFR18'!B6599","v":0},{"$f":"'AFR18'!B6600","v":0},{"$f":"'AFR18'!B6601","v":0},null,{"$f":"'AFR18'!B6602","v":0},{"$f":"'AFR18'!B6603","v":0}]
["ARRA - IDEA - Part B - Preschool",4856,{"$f":"'AFR18'!B6604","v":0},{"$f":"'AFR18'!B6605","v":0},{"$f":"'AFR18'!B6606","v":0},{"$f":"'AFR18'!B6607","v":0},{"$f":"'AFR18'!B6608","v":0},{"$f":"'AFR18'!B6609","v":0},null,{"$f":"'AFR18'!B6610","v":0},{"$f":"'AFR18'!B6611","v":0}]
["ARRA - IDEA - Part B - Flow-Through",4857,{"$f":"'AFR18'!B6612","v":14557},{"$f":"'AFR18'!B6613","v":0},{"$f":"'AFR18'!B6614","v":0},{"$f":"'AFR18'!B6615","v":0},{"$f":"'AFR18'!B6616","v":0},{"$f":"'AFR18'!B6617","v":0},null,{"$f":"'AFR18'!B6618","v":0},{"$f":"'AFR18'!B6619","v":0}]
["ARRA - Title IID - Technology-Formula",4860,{"$f":"'AFR18'!B6620","v":0},{"$f":"'AFR18'!B6621","v":0},{"$f":"'AFR18'!B6622","v":0},{"$f":"'AFR18'!B6623","v":0},{"$f":"'AFR18'!B6624","v":0},{"$f":"'AFR18'!B6625","v":0},null,{"$f":"'AFR18'!B6626","v":0},{"$f":"'AFR18'!B6627","v":0}]
["ARRA - Title IID - Technology-Competitive",4861,{"$f":"'AFR18'!B6628","v":0},{"$f":"'AFR18'!B6629","v":0},{"$f":"'AFR18'!B6630","v":0},{"$f":"'AFR18'!B6631","v":0},{"$f":"'AFR18'!B6632","v":0},{"$f":"'AFR18'!B6633","v":0},null,{"$f":"'AFR18'!B6634","v":0},{"$f":"'AFR18'!B6635","v":0}]
["ARRA - McKinney - Vento Homeless Education",4862,{"$f":"'AFR18'!B6636","v":0},{"$f":"'AFR18'!B6637","v":0},null,{"$f":"'AFR18'!B6638","v":0},{"$f":"'AFR18'!B6639","v":0}]
["ARRA - Child Nutrition Equipment Assistance",4863,{"$f":"'AFR18'!B6640","v":0},{"$f":"'AFR18'!B6641","v":0}]
["Impact Aid Formula Grants",4864,{"$f":"'AFR18'!B6642","v":0},{"$f":"'AFR18'!B6643","v":0},{"$f":"'AFR18'!B6644","v":0},{"$f":"'AFR18'!B6645","v":0},{"$f":"'AFR18'!B6646","v":0},{"$f":"'AFR18'!B6647","v":0},null,{"$f":"'AFR18'!B6648","v":0},{"$f":"'AFR18'!B6649","v":0}]
["Impact Aid Competitive Grants",4865,{"$f":"'AFR18'!B6650","v":0},{"$f":"'AFR18'!B6651","v":0},{"$f":"'AFR18'!B6652","v":0},{"$f":"'AFR18'!B6653","v":0},{"$f":"'AFR18'!B6654","v":0},{"$f":"'AFR18'!B6655","v":0},null,{"$f":"'AFR18'!B6656","v":0},{"$f":"'AFR18'!B6657","v":0}]
["Qualified Zone Academy Bond Tax Credits",4866,{"$f":"'AFR18'!B6658","v":1162753},{"$f":"'AFR18'!B6659","v":193446},{"$f":"'AFR18'!B6660","v":1380914},{"$f":"'AFR18'!B6661","v":0},{"$f":"'AFR18'!B6662","v":0},{"$f":"'AFR18'!B6663","v":0},null,{"$f":"'AFR18'!B6664","v":0},{"$f":"'AFR18'!B6665","v":0}]
["Qualified School Construction Bond Credits",4867,{"$f":"'AFR18'!B6666","v":0},{"$f":"'AFR18'!B6667","v":2204118},{"$f":"'AFR18'!B6668","v":11321650},{"$f":"'AFR18'!B6669","v":0},{"$f":"'AFR18'!B6670","v":0},{"$f":"'AFR18'!B6671","v":0},null,{"$f":"'AFR18'!B6672","v":0},{"$f":"'AFR18'!B6674","v":0}]
["Build America Bond Tax Credits",4868,{"$f":"'AFR18'!B6675","v":0},{"$f":"'AFR18'!B6676","v":0},{"$f":"'AFR18'!B6677","v":1770463},{"$f":"'AFR18'!B6678","v":0},{"$f":"'AFR18'!B6679","v":0},{"$f":"'AFR18'!B6680","v":0},null,{"$f":"'AFR18'!B6681","v":0},{"$f":"'AFR18'!B6682","v":0}]
["Build America Bond Interest Reimbursement",4869,{"$f":"'AFR18'!B6683","v":342813},{"$f":"'AFR18'!B6684","v":0},{"$f":"'AFR18'!B6685","v":34162841},{"$f":"'AFR18'!B6686","v":0},{"$f":"'AFR18'!B6687","v":0},{"$f":"'AFR18'!B6688","v":340553},null,{"$f":"'AFR18'!B6689","v":0},{"$f":"'AFR18'!B6690","v":0}]
["ARRA - General State Aid - Other Govt Services Stabilization",4870,{"$f":"'AFR18'!B6691","v":0},{"$f":"'AFR18'!B6692","v":0},{"$f":"'AFR18'!B6693","v":0},{"$f":"'AFR18'!B6694","v":0},{"$f":"'AFR18'!B6695","v":0},{"$f":"'AFR18'!B6696","v":0},null,{"$f":"'AFR18'!B6697","v":0},{"$f":"'AFR18'!B6698","v":0}]
["Other ARRA Funds - II",4871,{"$f":"'AFR18'!B6699","v":0},{"$f":"'AFR18'!B6700","v":0},{"$f":"'AFR18'!B6701","v":0},{"$f":"'AFR18'!B6702","v":0},{"$f":"'AFR18'!B6703","v":0},{"$f":"'AFR18'!B6704","v":0},null,{"$f":"'AFR18'!B6705","v":0},{"$f":"'AFR18'!B6706","v":0}]
["Other ARRA Funds - III",4872,{"$f":"'AFR18'!B6707","v":0},{"$f":"'AFR18'!B6708","v":0},{"$f":"'AFR18'!B6709","v":0},{"$f":"'AFR18'!B6710","v":0},{"$f":"'AFR18'!B6711","v":0},{"$f":"'AFR18'!B6712","v":0},null,{"$f":"'AFR18'!B6713","v":0},{"$f":"'AFR18'!B6714","v":0}]
["Other ARRA Funds - IV",4873,{"$f":"'AFR18'!B6715","v":0},{"$f":"'AFR18'!B6716","v":0},{"$f":"'AFR18'!B6717","v":0},{"$f":"'AFR18'!B6718","v":0},{"$f":"'AFR18'!B6719","v":0},{"$f":"'AFR18'!B6720","v":0},null,{"$f":"'AFR18'!B6721","v":0},{"$f":"'AFR18'!B6722","v":0}]
["Other ARRA Funds - V",4874,{"$f":"'AFR18'!B6723","v":0},{"$f":"'AFR18'!B6724","v":0},{"$f":"'AFR18'!B6725","v":0},{"$f":"'AFR18'!B6726","v":0},{"$f":"'AFR18'!B6727","v":0},{"$f":"'AFR18'!B6728","v":0},null,{"$f":"'AFR18'!B6729","v":0},{"$f":"'AFR18'!B6730","v":0}]
["ARRA - Early Childhood",4875,{"$f":"'AFR18'!B6731","v":0},{"$f":"'AFR18'!B6732","v":0},{"$f":"'AFR18'!B6733","v":0},{"$f":"'AFR18'!B6734","v":0},{"$f":"'AFR18'!B6735","v":0},{"$f":"'AFR18'!B6736","v":0},null,{"$f":"'AFR18'!B6737","v":0},{"$f":"'AFR18'!B6738","v":0}]
["Other ARRA Funds VII",4876,{"$f":"'AFR18'!B6739","v":0},{"$f":"'AFR18'!B6740","v":0},{"$f":"'AFR18'!B6741","v":0},{"$f":"'AFR18'!B6742","v":0},{"$f":"'AFR18'!B6743","v":0},{"$f":"'AFR18'!B6744","v":0},null,{"$f":"'AFR18'!B6745","v":0},{"$f":"'AFR18'!B6746","v":0}]
["Other ARRA Funds VIII",4877,{"$f":"'AFR18'!B6747","v":0},{"$f":"'AFR18'!B6748","v":0},{"$f":"'AFR18'!B6749","v":0},{"$f":"'AFR18'!B6750","v":0},{"$f":"'AFR18'!B6751","v":0},{"$f":"'AFR18'!B6752","v":0},null,{"$f":"'AFR18'!B6753","v":0},{"$f":"'AFR18'!B6754","v":0}]
["Other ARRA Funds IX",4878,{"$f":"'AFR18'!B6755","v":0},{"$f":"'AFR18'!B6756","v":0},{"$f":"'AFR18'!B6757","v":0},{"$f":"'AFR18'!B6758","v":0},{"$f":"'AFR18'!B6759","v":0},{"$f":"'AFR18'!B6760","v":0},null,{"$f":"'AFR18'!B6761","v":0},{"$f":"'AFR18'!B6762","v":0}]
["Other ARRA Funds X",4879,{"$f":"'AFR18'!B6763","v":0},{"$f":"'AFR18'!B6764","v":0},{"$f":"'AFR18'!B6765","v":0},{"$f":"'AFR18'!B6766","v":0},{"$f":"'AFR18'!B6767","v":0},{"$f":"'AFR18'!B6768","v":0},null,{"$f":"'AFR18'!B6769","v":0},{"$f":"'AFR18'!B6770","v":0}]
["Other ARRA Funds XI",4880,{"$f":"'AFR18'!B6771","v":0},{"$f":"'AFR18'!B6772","v":0},{"$f":"'AFR18'!B6773","v":0},{"$f":"'AFR18'!B6774","v":0},{"$f":"'AFR18'!B6775","v":0},{"$f":"'AFR18'!B6776","v":0},null,{"$f":"'AFR18'!B6777","v":0},{"$f":"'AFR18'!B6778","v":0}]
["Total Stimulus Programs",null,{"$f":"SUM(C230:C258)","v":1520123},2397564,48635868,0,0,340553,null,{"$f":"SUM(J230:J258)","v":0},{"$f":"SUM(K230:K258)","v":0}]
["Race To The Top",4901,{"$f":"'AFR18'!B7707","v":54797}]
["Race To The Top - Preschool Expansion Grant",4902,{"$f":"'AFR18'!B7711","v":11601939},{"$f":"'AFR18'!B7712","v":0},null,{"$f":"'AFR18'!B7714","v":198119},{"$f":"'AFR18'!B7715","v":27406}]
["Advanced Placement Fee/International Baccalaureate",4904,{"$f":"'AFR18'!B6787","v":9684},{"$f":"'AFR18'!B6788","v":0},null,null,{"$f":"'AFR18'!B6789","v":0}]
["Emergency Immigrant Assistance",4905,{"$f":"'AFR18'!B5258","v":1331582},null,null,{"$f":"'AFR18'!B5651","v":0},{"$f":"'AFR18'!B5801","v":0}]
["Title III - English Language Acquisition",4909,{"$f":"'AFR18'!B4361","v":25156647},null,null,{"$f":"'AFR18'!B4362","v":48571},{"$f":"'AFR18'!B4363","v":2518}]
["Learn & Serve America",4910,{"$f":"'AFR18'!B5259","v":54013},null,null,{"$f":"'AFR18'!B5652","v":0},{"$f":"'AFR18'!B5802","v":0}]
["McKinney Education for Homeless Children",4920,{"$f":"'AFR18'!B5261","v":1851738},{"$f":"'AFR18'!B5442","v":0},null,{"$f":"'AFR18'!B5654","v":12534},{"$f":"'AFR18'!B5804","v":0}]
["Title II - Eisenhower Professional Development Formula",4930,{"$f":"'AFR18'!B5263","v":1650086},{"$f":"'AFR18'!B5444","v":0},null,{"$f":"'AFR18'!B5656","v":0},{"$f":"'AFR18'!B5806","v":0}]
["Title II - Teacher Quality",4932,{"$f":"'AFR18'!B4364","v":72128165.99000001},{"$f":"'AFR18'!B4365","v":0},null,{"$f":"'AFR18'!B4366","v":0},{"$f":"'AFR18'!B4367","v":18747}]
["Federal Charter Schools",4960,{"$f":"'AFR18'!B4135","v":213723},{"$f":"'AFR18'!B4136","v":0},null,{"$f":"'AFR18'!B4137","v":0},{"$f":"'AFR18'!B4138","v":0}]
["Medicaid Matching Funds - Administrative Outreach",4991,{"$f":"'AFR18'!B4304","v":39707912.890000001},{"$f":"'AFR18'!B4305","v":3802},null,{"$f":"'AFR18'!B4306","v":86561},{"$f":"'AFR18'!B4307","v":0}]
["Medicaid Matching Funds - Fee-for-Service Program",4992,{"$f":"'AFR18'!B4308","v":108664236.93000001},{"$f":"'AFR18'!B4392","v":4244},null,{"$f":"'AFR18'!B4393","v":175640},{"$f":"'AFR18'!B4394","v":0}]
["Other Restricted Revenue from Federal Sources (Describe & Itemize)",4999,{"$f":"'AFR18'!B4798","v":31127021},{"$f":"'AFR18'!B4799","v":175486},null,{"$f":"'AFR18'!B4801","v":102},{"$f":"'AFR18'!B4810","v":19564},{"$f":"'AFR18'!B4811","v":220938},null,null,{"$f":"'AFR18'!B4814","v":0}]
["Total Restricted Grants-In-Aid Received from the Fedederal                                      Govt Thru the State ",null,{"$f":"SUM(C191,C201,C211,C216,C224,C228,C229,C259,C260:C272)","v":1980704278.9400001},{"$f":"SUM(D191,D201,D211,D216,D224,D228,D229,D259,D261:D272)","v":2751598},{"$f":"SUM(E191,E201,E211,E216,E224,E228,E229,E259,E261:E272)","v":48635868},{"$f":"SUM(F191,F201,F211,F216,F224,F228,F229,F259,F261:F272)","v":1508570},{"$f":"SUM(G191,G201,G211,G216,G224,G228,G229,G259,G261:G272)","v":2166551},{"$f":"SUM(H191,H201,H211,H216,H224,H228,H229,H259,H261:H272)","v":561491},null,{"$f":"SUM(J191,J201,J211,J216,J224,J228,J229,J259,J261:J272)","v":0},{"$f":"SUM(K191,K201,K211,K216,K224,K228,K229,K259,K261:K272)","v":0}]
["Total Receipts/Revenues from Federal Sources","4000",{"$f":"SUM(C178,C184,C273)","v":2063186078.9400001},{"$f":"SUM(D178,D184,D273)","v":7855997},48923768,1708570,2166556,755447,0,0,0]
["Total Direct Receipts/Revenues",null,{"$f":"SUM(C109,C114,C173,C274)","v":22848427320.859997},2272760903.7600002,2208553736.8000002,1383037909.74,650352986.34000003,239895069.61000001,{"$f":"SUM(I109,I114,I173,I274)","v":92905180.310000002},350005940.03000003,58757502.359999992]

{"sheet":"Expenditures 15-22","index":5,"n_rows":368,"n_cols":12,"rows_kept":368,"cut":false,"hidden":false,"merged":[[344,0,344,1],[342,0,342,1],[311,0,311,1],[150,0,150,1],[294,0,294,1],[151,0,151,1],[212,0,212,1],[314,0,314,1],[316,0,316,1],[116,0,116,1],[153,0,153,1],[2,0,2,1],[297,0,297,1],[312,0,312,1]]}
[null,null,"(100)","(200)","(300)","(400)","(500)","(600)","(700)","(800)","(900)"]
["Description","Funct #","Salaries","Employee Benefits","Purchased Services","Supplies & Materials","Capital Outlay","Other Objects","Non-Capitalized Equipment","Termination Benefits","Total","Budget"]
["10 - EDUCATIONAL FUND (ED)"]
["INSTRUCTION (ED)"]
["Regular Programs",1100,{"$f":"'AFR18'!B651","v":6756811393.6300001},{"$f":"'AFR18'!B709","v":1822034676.8499999},{"$f":"'AFR18'!B767","v":118216857.58999999},{"$f":"'AFR18'!B825","v":298254392.07000005},{"$f":"'AFR18'!B883","v":39678418.5},{"$f":"'AFR18'!B941","v":9069295},{"$f":"'AFR18'!B6790","v":32723468},{"$f":"'AFR18'!B6791","v":17257721},{"$f":"SUM(C5:J5)","v":9094046222.6399994}]
["Tuition Payment to Charter School","1115",null,null,{"$f":"'AFR18'!B7708","v":704161333},null,null,null,null,null,{"$f":"SUM(C6:J6)","v":704161333}]
["Pre-K Programs","1125",{"$f":"'AFR18'!B6673","v":185428654.94},{"$f":"'AFR18'!B7192","v":53840702},{"$f":"'AFR18'!B7193","v":9331138},{"$f":"'AFR18'!B7194","v":9460143},{"$f":"'AFR18'!B7195","v":1222808},{"$f":"'AFR18'!B7196","v":190474},{"$f":"'AFR18'!B6792","v":2644749},{"$f":"'AFR18'!B6793","v":260368},262379036.94]
["Special Education Programs (Functions 1200-1220)",1200,{"$f":"'AFR18'!B3312","v":1906783290.5799999},{"$f":"'AFR18'!B3314","v":453122754.07999998},{"$f":"'AFR18'!B3316","v":83354350.00999999},{"$f":"'AFR18'!B3318","v":20277189.149999999},{"$f":"'AFR18'!B3320","v":3096769},{"$f":"'AFR18'!B3322","v":61427811},{"$f":"'AFR18'!B6795","v":1915071},{"$f":"'AFR18'!B6796","v":3426393},2533403627.8200002]
["Special Education Programs Pre-K","1225",{"$f":"'AFR18'!B7197","v":80776336.819999993},{"$f":"'AFR18'!B7198","v":20088561.550000001},{"$f":"'AFR18'!B7199","v":1025585},{"$f":"'AFR18'!B7200","v":1379946},{"$f":"'AFR18'!B7201","v":41129},{"$f":"'AFR18'!B7202","v":84810},{"$f":"'AFR18'!B6797","v":40845},{"$f":"'AFR18'!B6798","v":51187},103488400.36999999]
["Remedial and Supplemental Programs K-12",1250,{"$f":"'AFR18'!B3001","v":155676132.56},{"$f":"'AFR18'!B3002","v":36379694.439999998},{"$f":"'AFR18'!B3003","v":21655519},{"$f":"'AFR18'!B3004","v":47886033.100000001},{"$f":"'AFR18'!B3005","v":5580026.2699999996},{"$f":"'AFR18'!B3006","v":443445},{"$f":"'AFR18'!B6800","v":4395861},{"$f":"'AFR18'!B6801","v":11765},272028476.37]
["Remedial and Support Programs Pre-K","1275",{"$f":"'AFR18'!B7203","v":10428749},{"$f":"'AFR18'!B7204","v":2182358},{"$f":"'AFR18'!B7205","v":254676},{"$f":"'AFR18'!B7206","v":693133},{"$f":"'AFR18'!B7207","v":215730},{"$f":"'AFR18'!B7208","v":7910},{"$f":"'AFR18'!B6802","v":4530},{"$f":"'AFR18'!B6803","v":0},13787086]
["Adult/Continuing Education Programs",1300,{"$f":"'AFR18'!B662","v":8234532},{"$f":"'AFR18'!B720","v":757212},{"$f":"'AFR18'!B778","v":1571457},{"$f":"'AFR18'!B836","v":1015158},{"$f":"'AFR18'!B894","v":48943},{"$f":"'AFR18'!B952","v":37750},{"$f":"'AFR18'!B6805","v":9639},{"$f":"'AFR18'!B6806","v":6038},11680729]
["CTE Programs",1400,{"$f":"'AFR18'!B663","v":169314023.82999998},{"$f":"'AFR18'!B721","v":34246764.590000004},{"$f":"'AFR18'!B779","v":7573657},{"$f":"'AFR18'!B837","v":16213497.24},{"$f":"'AFR18'!B895","v":5440346.9100000001},{"$f":"'AFR18'!B953","v":2902198},{"$f":"'AFR18'!B6807","v":3807079},{"$f":"'AFR18'!B6808","v":135316},239632882.56999999]
["Interscholastic Programs",1500,{"$f":"'AFR18'!B664","v":287818934.90999997},{"$f":"'AFR18'!B722","v":20992610.619999997},{"$f":"'AFR18'!B780","v":45814149.879999995},{"$f":"'AFR18'!B838","v":30232898.289999999},{"$f":"'AFR18'!B896","v":3285849},{"$f":"'AFR18'!B954","v":9645390},{"$f":"'AFR18'!B6809","v":1626475},{"$f":"'AFR18'!B6810","v":42055},399458362.69999999]
["Summer School Programs",1600,{"$f":"'AFR18'!B665","v":47699758},{"$f":"'AFR18'!B723","v":2035049.77},{"$f":"'AFR18'!B781","v":1843734},{"$f":"'AFR18'!B839","v":2687911},{"$f":"'AFR18'!B897","v":19020},{"$f":"'AFR18'!B955","v":590017},{"$f":"'AFR18'!B6811","v":0},{"$f":"'AFR18'!B6812","v":0},54875489.770000003]
["Gifted Programs","1650",{"$f":"'AFR18'!B652","v":53496043},{"$f":"'AFR18'!B710","v":9978449},{"$f":"'AFR18'!B768","v":532417},{"$f":"'AFR18'!B826","v":550399},{"$f":"'AFR18'!B884","v":5435},{"$f":"'AFR18'!B942","v":56094},{"$f":"'AFR18'!B6813","v":5564},{"$f":"'AFR18'!B6814","v":6811},64631212]
["Driver's Education Programs","1700",{"$f":"'AFR18'!B7209","v":37927537.710000001},{"$f":"'AFR18'!B7210","v":6068059.1799999997},{"$f":"'AFR18'!B7211","v":1443876},{"$f":"'AFR18'!B7212","v":819255},{"$f":"'AFR18'!B7213","v":1066382},{"$f":"'AFR18'!B7214","v":86549},{"$f":"'AFR18'!B6815","v":456},{"$f":"'AFR18'!B6816","v":6031},47418145.890000001]
["Bilingual Programs",1800,{"$f":"'AFR18'!B658","v":357544899},{"$f":"'AFR18'!B716","v":77589893},{"$f":"'AFR18'!B774","v":3006103},{"$f":"'AFR18'!B832","v":7046593},{"$f":"'AFR18'!B890","v":98275},{"$f":"'AFR18'!B948","v":63945},{"$f":"'AFR18'!B6818","v":65477},{"$f":"'AFR18'!B6819","v":397695},445812880]
["Truant Alternative & Optional Programs",1900,{"$f":"'AFR18'!B3313","v":18857468.539999999},{"$f":"'AFR18'!B3315","v":4006045.91},{"$f":"'AFR18'!B3317","v":2109903},{"$f":"'AFR18'!B3319","v":339230},{"$f":"'AFR18'!B3321","v":94699},{"$f":"'AFR18'!B3323","v":2966979},{"$f":"'AFR18'!B6820","v":7516},{"$f":"'AFR18'!B6821","v":17392},28399233.449999999]
["Rentals","1910",null,null,null,null,null,{"$f":"'AFR18'!B6822","v":5189},null,null,5189]
["Regular K-12 Programs - Private Tuition","1911",null,null,null,null,null,{"$f":"'AFR18'!B6824","v":9363481},null,null,9363481]
["Special Education Programs K-12 - Private Tuition","1912",null,null,null,null,null,{"$f":"'AFR18'!B6826","v":285187645},null,null,285187645]
["Special Education Programs Pre-K - Tuition","1913",null,null,null,null,null,{"$f":"'AFR18'!B6828","v":1743072},null,null,1743072]
["Remedial/Supplemental Programs K-12 - Private Tuition","1914",null,null,null,null,null,{"$f":"'AFR18'!B6830","v":255270},null,null,255270]
["Remedial/Supplemental Programs Pre-K - Private Tuition","1915",null,null,null,null,null,{"$f":"'AFR18'!B6832","v":0},null,null,0]
["Adult/Continuing Education Programs - Private Tuition","1916",null,null,null,null,null,{"$f":"'AFR18'!B6834","v":37515},null,null,37515]
["CTE Programs - Private Tuition","1917",null,null,null,null,null,{"$f":"'AFR18'!B6836","v":1474533},null,null,1474533]
["Interscholastic Programs - Private Tuition","1918",null,null,null,null,null,{"$f":"'AFR18'!B6838","v":0},null,null,0]
["Summer School Programs - Private Tuition","1919",null,null,null,null,null,{"$f":"'AFR18'!B6840","v":978527},null,null,978527]
["Gifted Programs - Private Tuition","1920",null,null,null,null,null,{"$f":"'AFR18'!B6842","v":18386},null,null,18386]
["Bilingual Programs - Private Tuition","1921",null,null,null,null,null,{"$f":"'AFR18'!B6844","v":0},null,null,0]
["Truants Alternative/Optional Ed Programs - Private Tuition","1922",null,null,null,null,null,{"$f":"'AFR18'!B6846","v":1128041},null,null,1128041]
["Total Instruction","1000",{"$f":"SUM(C5:C32)","v":10076797754.519999},{"$f":"SUM(D5:D32)","v":2543322830.9899998},1001894755.48,436855777.85000008,59893830.679999992,387764326,47246730,21618772,{"$f":"SUM(K5:K32)","v":14575394777.520002}]
["SUPPORT SERVICES (ED)"]
["SUPPORT SERVICES - PUPILS"]
["Attendance & Social Work Services",2110,{"$f":"'AFR18'!B667","v":268594515},{"$f":"'AFR18'!B725","v":55238225},{"$f":"'AFR18'!B783","v":12748405},{"$f":"'AFR18'!B841","v":5102169},{"$f":"'AFR18'!B899","v":128225},{"$f":"'AFR18'!B957","v":71519},{"$f":"'AFR18'!B6850","v":126742},{"$f":"'AFR18'!B6851","v":406199},{"$f":"SUM(C36:J36)","v":342415999}]
["Guidance Services",2120,{"$f":"'AFR18'!B668","v":306056886.84000003},{"$f":"'AFR18'!B726","v":63411190.75},{"$f":"'AFR18'!B784","v":12952764},{"$f":"'AFR18'!B842","v":4145442},{"$f":"'AFR18'!B900","v":52906},{"$f":"'AFR18'!B958","v":774353},{"$f":"'AFR18'!B6852","v":67976},{"$f":"'AFR18'!B6853","v":713674},388175192.59000003]
["Health Services",2130,{"$f":"'AFR18'!B669","v":154266626.16},{"$f":"'AFR18'!B727","v":31869492.219999999},{"$f":"'AFR18'!B785","v":34798615},{"$f":"'AFR18'!B843","v":3419864},{"$f":"'AFR18'!B901","v":406625},{"$f":"'AFR18'!B959","v":148404},{"$f":"'AFR18'!B6854","v":265861},{"$f":"'AFR18'!B6855","v":177306},225352793.38]
["Psychological Services",2140,{"$f":"'AFR18'!B670","v":124928753},{"$f":"'AFR18'!B728","v":23346906},{"$f":"'AFR18'!B786","v":7533541},{"$f":"'AFR18'!B844","v":1356824},{"$f":"'AFR18'!B902","v":5340},{"$f":"'AFR18'!B960","v":36736},{"$f":"'AFR18'!B6856","v":24108},{"$f":"'AFR18'!B6857","v":252029},157484237]
["Speech Pathology & Audiology Services",2150,{"$f":"'AFR18'!B671","v":198791209.88},{"$f":"'AFR18'!B729","v":37521044.019999996},{"$f":"'AFR18'!B787","v":24515647},{"$f":"'AFR18'!B845","v":1115060},{"$f":"'AFR18'!B903","v":181147},{"$f":"'AFR18'!B961","v":43115},{"$f":"'AFR18'!B6858","v":70112},{"$f":"'AFR18'!B6859","v":252621},262489955.89999998]
["Other Support Services - Pupils (Describe & Itemize)",2190,{"$f":"'AFR18'!B672","v":70374127},{"$f":"'AFR18'!B730","v":12308047},{"$f":"'AFR18'!B788","v":12962938},{"$f":"'AFR18'!B846","v":4604410.6899999995},{"$f":"'AFR18'!B904","v":787537},{"$f":"'AFR18'!B962","v":273263},{"$f":"'AFR18'!B6860","v":125688},{"$f":"'AFR18'!B6861","v":110171},101546181.69]
["Total Support Services - Pupils","2100",{"$f":"SUM(C36:C41)","v":1123012117.8800001},{"$f":"SUM(D36:D41)","v":223694904.99000001},105511910,19743769.689999998,1561780,1347390,680487,1912000,1477464359.5599999]
["SUPPORT SERVICES - INSTRUCTIONAL STAFF"]
["Improvement of Instruction Services",2210,{"$f":"'AFR18'!B674","v":280447313},{"$f":"'AFR18'!B732","v":60734288.57},{"$f":"'AFR18'!B790","v":101939249.48},{"$f":"'AFR18'!B848","v":34733575},{"$f":"'AFR18'!B906","v":6827680},{"$f":"'AFR18'!B964","v":2537993},{"$f":"'AFR18'!B6864","v":5960829},{"$f":"'AFR18'!B6865","v":654563},{"$f":"SUM(C44:J44)","v":493835491.05000001}]
["Educational Media Services",2220,{"$f":"'AFR18'!B675","v":220799197.11000001},{"$f":"'AFR18'!B733","v":44852028},{"$f":"'AFR18'!B791","v":39760327.620000005},{"$f":"'AFR18'!B849","v":42511124},{"$f":"'AFR18'!B907","v":25432965},{"$f":"'AFR18'!B965","v":978494},{"$f":"'AFR18'!B6866","v":12420830},{"$f":"'AFR18'!B6867","v":239002},{"$f":"SUM(C45:J45)","v":386993967.73000002}]
["Assessment & Testing",2230,{"$f":"'AFR18'!B676","v":13958619},{"$f":"'AFR18'!B734","v":1940491},{"$f":"'AFR18'!B792","v":22975295},{"$f":"'AFR18'!B850","v":6844940},{"$f":"'AFR18'!B908","v":53753},{"$f":"'AFR18'!B966","v":88172},{"$f":"'AFR18'!B6868","v":327713},{"$f":"'AFR18'!B6869","v":9163},{"$f":"SUM(C46:J46)","v":46198146}]
["Total Support Services - Instructional Staff","2200",{"$f":"SUM(C44:C46)","v":515205129.11000001},{"$f":"SUM(D44:D46)","v":107526807.56999999},164674872.10000002,84089639,32314398,3604659,18709372,902728,927027604.77999997]
["SUPPORT SERVICES - GENERAL ADMINISTRATION"]
["Board of Education Services",2310,{"$f":"'AFR18'!B678","v":31051748},{"$f":"'AFR18'!B736","v":24918387},{"$f":"'AFR18'!B794","v":111483481.76000001},{"$f":"'AFR18'!B852","v":6242114.5800000001},{"$f":"'AFR18'!B910","v":473715},{"$f":"'AFR18'!B968","v":11298552.51},{"$f":"'AFR18'!B6872","v":88893},{"$f":"'AFR18'!B6873","v":972783},{"$f":"SUM(C49:J49)","v":186529674.84999999}]
["Executive Administration Services",2320,{"$f":"'AFR18'!B679","v":178360664.69},{"$f":"'AFR18'!B737","v":34872831},{"$f":"'AFR18'!B795","v":12258202.879999999},{"$f":"'AFR18'!B853","v":4057871.45},{"$f":"'AFR18'!B911","v":362208},{"$f":"'AFR18'!B969","v":3332787.63},{"$f":"'AFR18'!B6874","v":203409},{"$f":"'AFR18'!B6875","v":88106},{"$f":"SUM(C50:J50)","v":233536080.64999998}]
["Special Area Administration Services",2330,{"$f":"'AFR18'!B2664","v":72516314},{"$f":"'AFR18'!B2665","v":16368267},{"$f":"'AFR18'!B2666","v":4964028},{"$f":"'AFR18'!B2667","v":1459349},{"$f":"'AFR18'!B2668","v":65718},{"$f":"'AFR18'!B2669","v":422099},{"$f":"'AFR18'!B6876","v":154295},{"$f":"'AFR18'!B6877","v":56073},{"$f":"SUM(C51:J51)","v":96006143}]
["Tort Immunity Services","2360 - 2370",{"$f":"'AFR18'!B6878","v":1485285},{"$f":"'AFR18'!B6879","v":2427614},{"$f":"'AFR18'!B6880","v":16488900},{"$f":"'AFR18'!B6881","v":5058},{"$f":"'AFR18'!B6882","v":3344},{"$f":"'AFR18'!B6883","v":1271799},{"$f":"'AFR18'!B6884","v":0},{"$f":"'AFR18'!B6885","v":0},{"$f":"SUM(C52:J52)","v":21682000}]
["Total Support Services - General Administration","2300",{"$f":"SUM(C49:C52)","v":283414011.69},{"$f":"SUM(D49:D52)","v":78587099},145194612.63999999,11764393.030000001,904985,16325238.140000001,446597,1116962,537753898.5]
["SUPPORT SERVICES - SCHOOL ADMINISTRATION"]
["Office of the Principal Services",2410,{"$f":"'AFR18'!B681","v":876687573.63999999},{"$f":"'AFR18'!B739","v":207302324.60000002},{"$f":"'AFR18'!B797","v":21808064.329999998},{"$f":"'AFR18'!B855","v":17287270.149999999},{"$f":"'AFR18'!B913","v":1114046.3},{"$f":"'AFR18'!B971","v":2373609.7599999998},{"$f":"'AFR18'!B6890","v":1932663},{"$f":"'AFR18'!B6891","v":1750685},{"$f":"SUM(C55:J55)","v":1130256236.78}]
["Other Support Services - School Admin (Describe & Itemize)",2490,{"$f":"'AFR18'!B682","v":43318310},{"$f":"'AFR18'!B740","v":10293320},{"$f":"'AFR18'!B798","v":382388},{"$f":"'AFR18'!B856","v":208142},{"$f":"'AFR18'!B914","v":38433},{"$f":"'AFR18'!B972","v":22530},{"$f":"'AFR18'!B6892","v":1144},{"$f":"'AFR18'!B6893","v":3083},{"$f":"SUM(C56:J56)","v":54267350}]
["Total Support Services - School Administration","2400",{"$f":"SUM(C55:C56)","v":920005883.63999999},{"$f":"SUM(D55:D56)","v":217595644.60000002},22190452.329999998,17495412.149999999,1152479.3,2396139.7599999998,1933807,1753768,1184523586.78]
["SUPPORT SERVICES - BUSINESS"]
["Direction of Business Support Services",2510,{"$f":"'AFR18'!B684","v":50308998},{"$f":"'AFR18'!B742","v":10062588},{"$f":"'AFR18'!B800","v":5915267},{"$f":"'AFR18'!B858","v":1332507},{"$f":"'AFR18'!B916","v":279262},{"$f":"'AFR18'!B974","v":736033},{"$f":"'AFR18'!B6896","v":358835},{"$f":"'AFR18'!B6897","v":60080},{"$f":"SUM(C59:J59)","v":69053570}]
["Fiscal Services",2520,{"$f":"'AFR18'!B685","v":109376132.69},{"$f":"'AFR18'!B743","v":20705644},{"$f":"'AFR18'!B801","v":31438751.790000003},{"$f":"'AFR18'!B859","v":4536208.59},{"$f":"'AFR18'!B917","v":1177269.8199999998},{"$f":"'AFR18'!B975","v":3208027},{"$f":"'AFR18'!B6898","v":123161},{"$f":"'AFR18'!B6899","v":327116},170892310.88999999]
["Operation & Maintenance of Plant Services",2540,{"$f":"'AFR18'!B686","v":90233291.159999996},{"$f":"'AFR18'!B744","v":18275345},{"$f":"'AFR18'!B802","v":72429514},{"$f":"'AFR18'!B860","v":31151230},{"$f":"'AFR18'!B918","v":13290712},{"$f":"'AFR18'!B976","v":286836},{"$f":"'AFR18'!B6900","v":1175763},{"$f":"'AFR18'!B6901","v":155124},226997815.16]
["Pupil Transportation Services",2550,{"$f":"'AFR18'!B687","v":19237105},{"$f":"'AFR18'!B745","v":6861872},{"$f":"'AFR18'!B803","v":109471562},{"$f":"'AFR18'!B861","v":930489},{"$f":"'AFR18'!B919","v":162356},{"$f":"'AFR18'!B977","v":3962},{"$f":"'AFR18'!B6902","v":2366},{"$f":"'AFR18'!B6903","v":142398},136812110]
["Food Services",2560,{"$f":"'AFR18'!B688","v":216404843.12},{"$f":"'AFR18'!B746","v":55493635},{"$f":"'AFR18'!B804","v":202617370.83000001},{"$f":"'AFR18'!B862","v":286163744.51999998},{"$f":"'AFR18'!B920","v":6014640.6600000001},{"$f":"'AFR18'!B978","v":1369384},{"$f":"'AFR18'!B6904","v":1700647},{"$f":"'AFR18'!B6905","v":548483},770312748.13]
["Internal Services",2570,{"$f":"'AFR18'!B689","v":10997332},{"$f":"'AFR18'!B747","v":2285625},{"$f":"'AFR18'!B805","v":9997150.629999999},{"$f":"'AFR18'!B863","v":4915671},{"$f":"'AFR18'!B921","v":1726802},{"$f":"'AFR18'!B979","v":131205},{"$f":"'AFR18'!B7653","v":48069},{"$f":"'AFR18'!B6906","v":46799},30148653.629999999]
["Total Support Services - Business","2500",{"$f":"SUM(C59:C64)","v":496557701.97000003},{"$f":"SUM(D59:D64)","v":113684709},431869616.25,329029850.11000001,22651042.48,5735447,3408841,1280000,1404217207.8099999]
["SUPPORT SERVICES - CENTRAL"]
["Direction of Central Support Services",2610,{"$f":"'AFR18'!B692","v":7546862},{"$f":"'AFR18'!B750","v":1527345},{"$f":"'AFR18'!B808","v":2264478},{"$f":"'AFR18'!B866","v":261901},{"$f":"'AFR18'!B924","v":111124},{"$f":"'AFR18'!B982","v":8040},{"$f":"'AFR18'!B6909","v":212058},{"$f":"'AFR18'!B6910","v":15597},{"$f":"SUM(C67:J67)","v":11947405}]
["Planning, Research, Development, & Evaluation Services",2620,{"$f":"'AFR18'!B693","v":16081191},{"$f":"'AFR18'!B751","v":2905211},{"$f":"'AFR18'!B809","v":5319354},{"$f":"'AFR18'!B867","v":824442},{"$f":"'AFR18'!B925","v":240238},{"$f":"'AFR18'!B983","v":24896},{"$f":"'AFR18'!B6911","v":4228},{"$f":"'AFR18'!B6912","v":28985},{"$f":"SUM(C68:J68)","v":25428545}]
["Information Services",2630,{"$f":"'AFR18'!B694","v":24489881},{"$f":"'AFR18'!B752","v":5828418},{"$f":"'AFR18'!B810","v":16403015},{"$f":"'AFR18'!B868","v":6163384},{"$f":"'AFR18'!B926","v":6321928},{"$f":"'AFR18'!B984","v":364460},{"$f":"'AFR18'!B6913","v":2756747},{"$f":"'AFR18'!B6914","v":26459},{"$f":"SUM(C69:J69)","v":62354292}]
["Staff Services",2640,{"$f":"'AFR18'!B695","v":61265263},{"$f":"'AFR18'!B753","v":29363741},{"$f":"'AFR18'!B811","v":15391306},{"$f":"'AFR18'!B869","v":1757397},{"$f":"'AFR18'!B927","v":236522},{"$f":"'AFR18'!B985","v":457091},{"$f":"'AFR18'!B6915","v":35541},{"$f":"'AFR18'!B6916","v":2445206},{"$f":"SUM(C70:J70)","v":110952067}]
["Data Processing Services",2660,{"$f":"'AFR18'!B697","v":100263695.68000001},{"$f":"'AFR18'!B755","v":17265193},{"$f":"'AFR18'!B813","v":91617766},{"$f":"'AFR18'!B871","v":45671959},{"$f":"'AFR18'!B929","v":45564329},{"$f":"'AFR18'!B987","v":1258165},{"$f":"'AFR18'!B6917","v":19932744},{"$f":"'AFR18'!B6918","v":81267},{"$f":"SUM(C71:J71)","v":321655118.68000001}]
["Total Support Services - Central","2600",{"$f":"SUM(C67:C71)","v":209646892.68000001},{"$f":"SUM(D67:D71)","v":56889908},130995919,54679083,52474141,2112652,22941318,2597514,532337427.68000001]
["Other Support Services (Describe & Itemize)","2900",{"$f":"'AFR18'!B700","v":13160841},{"$f":"'AFR18'!B758","v":7489563},{"$f":"'AFR18'!B816","v":11016685},{"$f":"'AFR18'!B874","v":6818541},{"$f":"'AFR18'!B932","v":1433450},{"$f":"'AFR18'!B990","v":835808},{"$f":"'AFR18'!B6921","v":299136},{"$f":"'AFR18'!B6922","v":351026},{"$f":"SUM(C73:J73)","v":41405050}]
["Total Support Services",2000,{"$f":"SUM(C42,C47,C53,C57,C65,C72,C73)","v":3561002577.9699998},805468636.16000009,1011454067.3199999,523620687.98000002,112492275.78,32357333.899999999,48419558,9913998,6104729135.1100006]
["COMMUNITY SERVICES (ED)","3000",{"$f":"'AFR18'!B702","v":71949497},{"$f":"'AFR18'!B760","v":12853444},{"$f":"'AFR18'!B818","v":51094488},{"$f":"'AFR18'!B876","v":10866848},{"$f":"'AFR18'!B934","v":1035297},{"$f":"'AFR18'!B992","v":8089812},{"$f":"'AFR18'!B6925","v":1299904},{"$f":"'AFR18'!B6926","v":43304},{"$f":"SUM(C75:J75)","v":157232594}]
["PAYMENTS TO OTHER DISTRICTS & GOVT UNITS (ED)"]
["PAYMENTS TO OTHER GOVT UNITS (IN-STATE)"]
["Payments for Regular Programs",4110,null,null,{"$f":"'AFR18'!B2895","v":74590518},null,null,{"$f":"'AFR18'!B2901","v":19978808},null,null,{"$f":"SUM(E78,H78)","v":94569326}]
["Payments for Special Education Programs",4120,null,null,{"$f":"'AFR18'!B2896","v":118626014.41},null,null,{"$f":"'AFR18'!B2902","v":195518279.53},null,null,314144293.94]
["Payments for Adult/Continuing Education Programs",4130,null,null,{"$f":"'AFR18'!B2897","v":136372},null,null,{"$f":"'AFR18'!B2903","v":175788},null,null,312160]
["Payments for CTE Programs",4140,null,null,{"$f":"'AFR18'!B2898","v":2204583},null,null,{"$f":"'AFR18'!B2904","v":10350179},null,null,12554762]
["Payments for Community College Programs",4170,null,null,{"$f":"'AFR18'!B2899","v":1206355},null,null,{"$f":"'AFR18'!B2905","v":584025},null,null,1790380]
["Other Payments to In-State Govt. Units (Describe & Itemize)",4190,null,null,{"$f":"'AFR18'!B2900","v":11204062},null,null,{"$f":"'AFR18'!B2906","v":5084874},null,null,16288936]
["Total Payments to Dist & Other Govt Units                                    (In-State)",4100,null,null,{"$f":"SUM(E78:E83)","v":207967904.41},null,null,{"$f":"SUM(H78:H83)","v":231691953.53},null,null,{"$f":"'AFR18'!B2034","v":439659857.94000006}]
["Payments for Regular Programs - Tuition",4210,null,null,null,null,null,{"$f":"'AFR18'!B6927","v":7805979},null,null,{"$f":"SUM(E85,H85)","v":7805979}]
["Payments for Special Education Programs - Tuition",4220,null,null,null,null,null,{"$f":"'AFR18'!B6929","v":270146748},null,null,{"$f":"SUM(E86,H86)","v":270146748}]
["Payments for Adult/Continuing Education Programs - Tuition",4230,null,null,null,null,null,{"$f":"'AFR18'!B6931","v":205900},null,null,205900]
["Payments for CTE Programs - Tuition",4240,null,null,null,null,null,{"$f":"'AFR18'!B6933","v":14796011},null,null,14796011]
["Payments for Community College Programs - Tuition",4270,null,null,null,null,null,{"$f":"'AFR18'!B6935","v":692321},null,null,692321]
["Payments for Other Programs - Tuition",4280,null,null,null,null,null,{"$f":"'AFR18'!B6937","v":1306529},null,null,1306529]
["Other Payments to In-State Govt Units",4290,null,null,null,null,null,{"$f":"'AFR18'!B6939","v":1718382},null,null,1718382]
["Total Payments to Other District & Govt Units -Tuition (In State)",4200,null,null,null,null,null,{"$f":"SUM(H85:H91)","v":296671870},null,null,{"$f":"SUM(K85:K91)","v":296671870}]
["Payments for Regular Programs - Transfers",4310,null,null,null,null,null,{"$f":"'AFR18'!B6942","v":525020},null,null,{"$f":"SUM(E93,H93)","v":525020}]
["Payments for Special Education Programs - Transfers",4320,null,null,null,null,null,{"$f":"'AFR18'!B6944","v":2029848},null,null,2029848]
["Payments for Adult/Continuing Ed Programs - Transfers",4330,null,null,null,null,null,{"$f":"'AFR18'!B6946","v":0},null,null,0]
["Payments for CTE Programs - Transfers",4340,null,null,null,null,null,{"$f":"'AFR18'!B6948","v":700020},null,null,700020]
["Payments for Community College Program - Transfers",4370,null,null,null,null,null,{"$f":"'AFR18'!B6950","v":61960},null,null,61960]
["Payments for Other Programs - Transfers",4380,null,null,null,null,null,{"$f":"'AFR18'!B6952","v":15369},null,null,15369]
["Other Payments to In-State Govt Units - Transfers",4390,null,null,{"$f":"'AFR18'!B6954","v":305406},null,null,{"$f":"'AFR18'!B6955","v":1085771},null,null,1391177]
["Total Payments to Other District & Govt Units -                                     Transfers (In-State)",4300,null,null,{"$f":"SUM(E99)","v":305406},null,null,{"$f":"SUM(H93:H99)","v":4417988},null,null,{"$f":"SUM(K93:K99)","v":4723394}]
["Payments to Other Dist & Govt Units (Out-of-State)","4400",null,null,{"$f":"'AFR18'!B2893","v":910},null,null,{"$f":"'AFR18'!B6960","v":141875},null,null,{"$f":"SUM(E101,H101)","v":142785}]
["Total Payments to Other District & Govt Units",4000,null,null,{"$f":"SUM(E84,E100:E101)","v":208274220.41},null,null,{"$f":"SUM(H84,H92,H100:H101)","v":532923686.52999997},null,null,{"$f":"SUM(K84,K92,K100:K101)","v":741197906.94000006}]
["DEBT SERVICES (ED)"]
["DEBT SERVICES - INTEREST ON SHORT-TERM DEBT"]
["Tax Anticipation Warrants",5110,null,null,null,null,null,{"$f":"'AFR18'!B994","v":996434},null,null,{"$f":"SUM(H105)","v":996434}]
["Tax Anticipation Notes",5120,null,null,null,null,null,{"$f":"'AFR18'!B995","v":130730},null,null,{"$f":"SUM(H106)","v":130730}]
["Corporate Personal Prop. Repl. Tax Anticipation Notes",5130,null,null,null,null,null,{"$f":"'AFR18'!B2737","v":0},null,null,{"$f":"SUM(H107)","v":0}]
["State Aid Anticipation Certificates","5140",null,null,null,null,null,{"$f":"'AFR18'!B2738","v":30974292},null,null,{"$f":"SUM(H108)","v":30974292}]
["Other Interest on Short-Term Debt",5150,null,null,null,null,null,{"$f":"'AFR18'!B997","v":293196},null,null,{"$f":"SUM(H109)","v":293196}]
["Total Interest on Short-Term Debt","5100",null,null,null,null,null,{"$f":"SUM(H105:H109)","v":32394652},null,null,{"$f":"SUM(K105:K109)","v":32394652}]
["Debt Services - Interest on Long-Term Debt","5200",null,null,null,null,null,{"$f":"'AFR18'!B6962","v":1754781},null,null,{"$f":"SUM(H111)","v":1754781}]
["Total Debt Services","5000",null,null,null,null,null,{"$f":"SUM(H110:H111)","v":34149433},null,null,{"$f":"SUM(K110:K111)","v":34149433}]
["PROVISIONS FOR CONTINGENCIES (ED)","6000"]
["Total Direct Disbursements/Expenditures",null,{"$f":"SUM(C33,C74,C75,C102,C112,C113)","v":13709749829.489998},{"$f":"SUM(D33,D74,D75,D102,D112,D113)","v":3361644911.1499996},{"$f":"SUM(E33,E74,E75,E102,E112,E113)","v":2272717531.21},971343313.83000016,173421403.45999998,995284591.42999995,96966192,31576074,{"$f":"SUM(K33,K74,K75,K102,K112,K113)","v":21612703846.570004}]
["Excess (Deficiency) of Receipts/Revenues Over Disbursements/Expenditures",null,null,null,null,null,null,null,null,null,{"$f":"SUM('Revenues 9-14'!C275-'Expenditures 15-22'!K114)","v":1235723474.2899933}]
[]
["20 - OPERATIONS & MAINTENANCE FUND (O&M)"]
["SUPPORT SERVICES (O&M)"]
["SUPPORT SERVICES - PUPILS"]
["Other Support Services - Pupils (Describe & Itemize)",2190,{"$f":"'AFR18'!B4020","v":102425},{"$f":"'AFR18'!B4021","v":291264},{"$f":"'AFR18'!B4022","v":66473},{"$f":"'AFR18'!B4023","v":3210},{"$f":"'AFR18'!B4024","v":1754},{"$f":"'AFR18'!B4025","v":0},{"$f":"'AFR18'!B6968","v":0},{"$f":"'AFR18'!B6969","v":0},{"$f":"SUM(C120:J120)","v":465126}]
["SUPPORT SERVICES - BUSINESS"]
["Direction of Business Support Services",2510,{"$f":"'AFR18'!B1165","v":2729805},{"$f":"'AFR18'!B1173","v":492107},{"$f":"'AFR18'!B1181","v":1390461},{"$f":"'AFR18'!B1189","v":49148},{"$f":"'AFR18'!B1197","v":278746},{"$f":"'AFR18'!B1206","v":49581},{"$f":"'AFR18'!B6970","v":0},{"$f":"'AFR18'!B6971","v":6031},{"$f":"SUM(C122:J122)","v":4995879}]
["Facilities Acquisition & Construction Services",2530,{"$f":"'AFR18'!B1166","v":1045563},{"$f":"'AFR18'!B1174","v":150047},{"$f":"'AFR18'!B1182","v":13249969},{"$f":"'AFR18'!B1190","v":524525},{"$f":"'AFR18'!B1198","v":118952872},{"$f":"'AFR18'!B1207","v":391513},{"$f":"'AFR18'!B6972","v":1330499},{"$f":"'AFR18'!B6973","v":2098},{"$f":"SUM(C123:J123)","v":135647086}]
["Operation & Maintenance of Plant Services",2540,{"$f":"'AFR18'!B1167","v":610675508.8599999},{"$f":"'AFR18'!B1175","v":123255576.03},{"$f":"'AFR18'!B1183","v":637259012.98000002},{"$f":"'AFR18'!B1191","v":469630568.32999998},{"$f":"'AFR18'!B1199","v":178997104.59999999},{"$f":"'AFR18'!B1208","v":2786918},{"$f":"'AFR18'!B6974","v":8471517},{"$f":"'AFR18'!B6975","v":613350},{"$f":"SUM(C124:J124)","v":2031689555.7999997}]
["Pupil Transportation Services",2550,{"$f":"'AFR18'!B3428","v":63189},{"$f":"'AFR18'!B3429","v":13644},{"$f":"'AFR18'!B3430","v":277514.11},{"$f":"'AFR18'!B3431","v":110678},{"$f":"'AFR18'!B3432","v":103294},{"$f":"'AFR18'!B3433","v":0},{"$f":"'AFR18'!B6976","v":3303},{"$f":"'AFR18'!B6977","v":0},{"$f":"SUM(C125:J125)","v":571622.11}]
["Food Services",2560,null,null,null,null,{"$f":"'AFR18'!B1200","v":331017},null,{"$f":"'AFR18'!B6978","v":81391},null,{"$f":"SUM(C126:J126)","v":412408}]
["Total Support Services - Business","2500",{"$f":"SUM(C122:C126)","v":614514065.8599999},{"$f":"SUM(D122:D126)","v":123911374.03},652176957.09000003,470314919.32999998,298663033.60000002,3228012,9886710,621479,2173316550.9099998]
["Other Support Services (Describe & Itemize)","2900",{"$f":"'AFR18'!B1170","v":1113815},{"$f":"'AFR18'!B1178","v":183731},{"$f":"'AFR18'!B1186","v":1971924},{"$f":"'AFR18'!B1194","v":88374},{"$f":"'AFR18'!B1203","v":407229},{"$f":"'AFR18'!B1211","v":7015},{"$f":"'AFR18'!B6981","v":19390},{"$f":"'AFR18'!B6982","v":0},{"$f":"SUM(C128:J128)","v":3791478}]
["Total Support Services","2000",{"$f":"SUM(C120,C127:C128)","v":615730305.8599999},{"$f":"SUM(D120,D127:D128)","v":124386369.03},654215354.09000003,470406503.32999998,299072016.60000002,3235027,9906100,621479,2177573154.9099998]
["COMMUNITY SERVICES (O&M)","3000",{"$f":"'AFR18'!B2743","v":314443},{"$f":"'AFR18'!B2744","v":19},{"$f":"'AFR18'!B2745","v":55322},{"$f":"'AFR18'!B2746","v":10083},{"$f":"'AFR18'!B2747","v":47171},{"$f":"'AFR18'!B2748","v":1450000},{"$f":"'AFR18'!B6985","v":878},{"$f":"'AFR18'!B6986","v":0},{"$f":"SUM(C130:J130)","v":1877916}]
["PAYMENTS TO OTHER DIST & GOVT UNITS (O&M)"]
["PAYMENTS TO OTHER GOVT UNITS (IN-STATE)"]
["Payments for Regular Programs","4110",null,null,{"$f":"'AFR18'!B7720","v":390000},null,null,{"$f":"'AFR18'!B7721","v":153556},null,null,{"$f":"SUM(E133,H133)","v":543556}]
["Payments for Special Education Programs",4120,null,null,{"$f":"'AFR18'!B4145","v":1586397},null,null,{"$f":"'AFR18'!B2925","v":870733},null,null,{"$f":"SUM(E134,H134)","v":2457130}]
["Payments for CTE Programs",4140,null,null,{"$f":"'AFR18'!B4146","v":119567},null,null,{"$f":"'AFR18'!B2926","v":828936},null,null,{"$f":"SUM(E135,H135)","v":948503}]
["Other Payments to In-State Govt. Units                                    (Describe & Itemize)",4190,null,null,{"$f":"'AFR18'!B4147","v":261062},null,null,{"$f":"'AFR18'!B2927","v":1368312},null,null,{"$f":"SUM(E136,H136)","v":1629374}]
["Total Payments to Other Govt. Units (In-State)",4100,null,null,{"$f":"SUM(E133:E136)","v":2357026},null,null,{"$f":"SUM(H133:H136)","v":3221537},null,null,{"$f":"SUM(K133:K136)","v":5578563}]
["Payments to Other Govt. Units (Out of State)","4400",null,null,null,null,null,{"$f":"'AFR18'!B2038","v":93915},null,null,{"$f":"SUM(E138,H138)","v":93915}]
["Total Payments to Other Dist & Govt Units",4000,null,null,{"$f":"E137","v":2357026},null,null,{"$f":"SUM(H137:H138)","v":3315452},null,null,{"$f":"SUM(K137:K138)","v":5672478}]
["DEBT SERVICES (O&M)","5000"]
["DEBT SERVICES - INTEREST ON SHORT-TERM DEBT"]
["Tax Anticipation Warrants",5110,null,null,null,null,null,{"$f":"'AFR18'!B1214","v":42020},null,null,{"$f":"H142","v":42020}]
["Tax Anticipation Notes",5120,null,null,null,null,null,{"$f":"'AFR18'!B1215","v":0},null,null,{"$f":"H143","v":0}]
["Corporate Personal Prop. Repl. Tax Anticipation Notes","5130",null,null,null,null,null,{"$f":"'AFR18'!B2753","v":0},null,null,{"$f":"H144","v":0}]
["State Aid Anticipation Certificates","5140",null,null,null,null,null,{"$f":"'AFR18'!B2754","v":0},null,null,{"$f":"H145","v":0}]
["Other Interest on Short-Term Debt (Describe & Itemize)","5150",null,null,null,null,null,{"$f":"'AFR18'!B1216","v":52484},null,null,{"$f":"H146","v":52484}]
["Total Debt Service - Interest on Short-Term Debt","5100",null,null,null,null,null,{"$f":"SUM(H142:H146)","v":94504},null,null,{"$f":"SUM(K142:K146)","v":94504}]
["DEBT SERVICE - INTERST ON LONG-TERM DEBT","5200",null,null,null,null,null,{"$f":"'AFR18'!B6995","v":371075},null,null,{"$f":"'AFR18'!B6996","v":371075}]
["Total Debt Services","5000",null,null,null,null,null,{"$f":"SUM(H147:H148)","v":465579},null,null,{"$f":"SUM(K147:K148)","v":465579}]
["PROVISIONS FOR CONTINGENCIES (O&M)","6000"]
["Total Direct Disbursements/Expenditures ",null,{"$f":"SUM(C129,C130,C139,C149,C150)","v":616044748.8599999},124386388.03,656627702.09000003,470416586.32999998,299119187.60000002,8466058,9906978,621479,2185589127.9099998]
["Excess (Deficiency) of Receipts/Revenues\\Over Disbursements/ Expenditures",null,null,null,null,null,null,null,null,null,{"$f":"SUM('Revenues 9-14'!D275-'Expenditures 15-22'!K151)","v":87171775.850000381}]
[]
["30 - DEBT SERVICES (DS)"]
["PAYMENTS TO OTHER DIST & GOVT UNITS (DS)","4000",null,null,null,null,null,{"$f":"'AFR18'!B6999","v":0},null,null,{"$f":"SUM(H155)","v":0}]
["Payments to Other Dist & Govt Units (In State)"]
["Payments for Regular Programs",4110,null,null,null,null,null,{"$f":"'AFR18'!B7723","v":6559},null,null,{"$f":"H157","v":6559}]
["Payments for Special Education Programs",4120,null,null,null,null,null,{"$f":"'AFR18'!B7725","v":95572},null,null,{"$f":"H158","v":95572}]
["Other Payments to In-State Gov't. Units (Describe & Itemize)",4190,null,null,null,null,null,{"$f":"'AFR18'!B7727","v":37852},null,null,{"$f":"H159","v":37852}]
["Total Payments to Other Dist & Govt Units (In-State)","4000",null,null,null,null,null,{"$f":"SUM(H157:H159)","v":139983},null,null,{"$f":"SUM(K157:K159)","v":139983}]
["DEBT SERVICES (DS)","5000"]
["DEBT SERVICES - INTEREST ON SHORT-TERM DEBT"]
["Tax Anticipation Warrants",5110,null,null,null,null,null,{"$f":"'AFR18'!B1256","v":17709},null,null,{"$f":"SUM(H163)","v":17709}]
["Tax Anticipation Notes",5120,null,null,null,null,null,{"$f":"'AFR18'!B1257","v":0},null,null,{"$f":"SUM(H164)","v":0}]
["Corporate Personal Prop. Repl. Tax Anticipation Notes","5130",null,null,null,null,null,{"$f":"'AFR18'!B2758","v":0},null,null,{"$f":"SUM(H165)","v":0}]
["State Aid Anticipation Certificates","5140",null,null,null,null,null,{"$f":"'AFR18'!B2759","v":1949430},null,null,{"$f":"SUM(H166)","v":1949430}]
["Other Interest on Short-Term Debt (Describe & Itemize)","5150",null,null,null,null,null,{"$f":"'AFR18'!B1259","v":616678},null,null,{"$f":"SUM(H167)","v":616678}]
["Total Debt Services - Interest On Short-Term Debt","5100",null,null,null,null,null,{"$f":"SUM(H163:H167)","v":2583817},null,null,{"$f":"SUM(K163:K167)","v":2583817}]
["DEBT SERVICES - INTEREST ON LONG-TERM DEBT","5200",null,null,null,null,null,{"$f":"'AFR18'!B1258","v":1017999205},null,null,{"$f":"H169","v":1017999205}]
["DEBT SERVICES - PAYMENTS OF PRINCIPAL ON LONG-TERM DEBT (Lease/Purchase Principal Retired) 11","5300",null,null,null,null,null,{"$f":"'AFR18'!B1261","v":1889344526},null,null,{"$f":"H170","v":1889344526}]
["DEBT SERVICES - OTHER (Describe & Itemize)","5400",null,null,{"$f":"'AFR18'!B1253","v":5178488},null,null,{"$f":"'AFR18'!B1262","v":83881742},null,null,{"$f":"SUM(E171,H171)","v":89060230}]
["Total Debt Services","5000",null,null,{"$f":"E171","v":5178488},null,null,{"$f":"SUM(H168:H171)","v":2993809290},null,null,{"$f":"SUM(K168:K171)","v":2998987778}]
["PROVISION FOR CONTINGENCIES (DS)","6000"]
["Total Disbursements/ Expenditures",null,null,null,{"$f":"SUM(E172)","v":5178488},null,null,{"$f":"SUM(H155,H160,H172:H173)","v":2993949273},null,null,{"$f":"SUM(K155,K160,K172:K173)","v":2999127761}]
["Excess (Deficiency) of Receipts/Revenues Over Disbursements/Expenditures",null,null,null,null,null,null,null,null,null,{"$f":"'AFR18'!B1279","v":-790574024.20000005}]
[]
["40 - TRANSPORTATION FUND (TR)"]
["SUPPORT SERVICES (TR)"]
["SUPPORT SERVICES - PUPILS"]
["Other Support Services - Pupils (Describe & Itemize)",2190,{"$f":"'AFR18'!B4027","v":442158},{"$f":"'AFR18'!B4028","v":46296},{"$f":"'AFR18'!B4029","v":2238334},{"$f":"'AFR18'!B4030","v":27086},{"$f":"'AFR18'!B4031","v":0},{"$f":"'AFR18'!B4032","v":0},{"$f":"'AFR18'!B7003","v":0},{"$f":"'AFR18'!B7004","v":0},{"$f":"SUM(C180:J180)","v":2753874}]
["SUPPORT SERVICES - BUSINESS"]
["Pupil Transportation Services",2550,{"$f":"'AFR18'!B1281","v":250349814.88},{"$f":"'AFR18'!B1287","v":43444975.32},{"$f":"'AFR18'!B1293","v":721182148.89999998},{"$f":"'AFR18'!B1300","v":67522247.349999994},{"$f":"'AFR18'!B1306","v":74031959.75},{"$f":"'AFR18'!B1312","v":3008866},{"$f":"'AFR18'!B7005","v":1504327},{"$f":"'AFR18'!B7006","v":44425},{"$f":"SUM(C182:J182)","v":1161088764.1999998}]
["Other Support Services (Describe & Itemize)",2900,{"$f":"'AFR18'!B1284","v":1252696},{"$f":"'AFR18'!B1290","v":283749},{"$f":"'AFR18'!B1296","v":339444},{"$f":"'AFR18'!B1303","v":75692},{"$f":"'AFR18'!B1309","v":0},{"$f":"'AFR18'!B1315","v":8731},{"$f":"'AFR18'!B7007","v":0},{"$f":"'AFR18'!B7008","v":0},{"$f":"SUM(C183:J183)","v":1960312}]
["Total Support Services","2000",{"$f":"SUM(C180,C182:C183)","v":252044668.88},{"$f":"SUM(D180,D182:D183)","v":43775020.32},723759926.89999998,67625025.349999994,74031959.75,3017597,1504327,44425,{"$f":"SUM(K180,K182:K183)","v":1165802950.1999998}]
["COMMUNITY SERVICES (TR)",3000,{"$f":"'AFR18'!B2766","v":37664},{"$f":"'AFR18'!B2767","v":729},{"$f":"'AFR18'!B2768","v":174176},{"$f":"'AFR18'!B2771","v":3128},{"$f":"'AFR18'!B2772","v":0},{"$f":"'AFR18'!B2773","v":1250000},{"$f":"'AFR18'!B7011","v":0},{"$f":"'AFR18'!B7012","v":0},{"$f":"SUM(C185:J185)","v":1465697}]
["PAYMENTS TO OTHER DIST & GOVT UNITS (TR)"]
["PAYMENTS TO OTHER DIST & GOVT UNITS  (IN-STATE)"]
["Payments for Regular Programs",4110,null,null,{"$f":"'AFR18'!B2935","v":5050951},null,null,{"$f":"'AFR18'!B2941","v":930170},null,null,{"$f":"SUM(E188,H188)","v":5981121}]
["Payments for Special Education Programs",4120,null,null,{"$f":"'AFR18'!B2936","v":7449484},null,null,{"$f":"'AFR18'!B2942","v":1115415},null,null,8564899]
["Payments for Adult/Continuing Education Programs",4130,null,null,{"$f":"'AFR18'!B2937","v":0},null,null,{"$f":"'AFR18'!B2943","v":0},null,null,0]
["Payments for CTE Programs",4140,null,null,{"$f":"'AFR18'!B2938","v":14909},null,null,{"$f":"'AFR18'!B2944","v":17023},null,null,31932]
["Payments for Community College Programs",4170,null,null,{"$f":"'AFR18'!B2939","v":0},null,null,{"$f":"'AFR18'!B2945","v":0},null,null,0]
["Other Payments to In-State Govt. Units                                (Describe & Itemize)",4190,null,null,{"$f":"'AFR18'!B2940","v":213942},null,null,{"$f":"'AFR18'!B2946","v":775250},null,null,989192]
["Total Payments to Other Govt. Units (In-State) ","4100",null,null,{"$f":"SUM(E188:E193)","v":12729286},null,null,{"$f":"SUM(H188:H193)","v":2837858},null,null,{"$f":"SUM(K188:K193)","v":15567144}]
["PAYMENTS TO OTHER GOVT UNITS (OUT-OF-STATE)","4400",null,null,{"$f":"'AFR18'!B2770","v":0},null,null,{"$f":"'AFR18'!B2775","v":0},null,null,{"$f":"SUM(E195,H195)","v":0}]
["Total Payments to Other Dist & Govt Units","4000",null,null,{"$f":"SUM(E194:E195)","v":12729286},null,null,{"$f":"SUM(H194:H195)","v":2837858},null,null,{"$f":"SUM(K194:K195)","v":15567144}]
["DEBT SERVICES (TR)"]
["DEBT SERVICE - INTEREST ON SHORT-TERM DEBT"]
["Tax Anticipation Warrants",5110,null,null,null,null,null,{"$f":"'AFR18'!B1317","v":10649},null,null,{"$f":"SUM(H199)","v":10649}]
["Tax Anticipation Notes",5120,null,null,null,null,null,{"$f":"'AFR18'!B1318","v":0},null,null,{"$f":"SUM(H200)","v":0}]
["Corporate Personal Prop. Repl. Tax Anticipation Notes","5130",null,null,null,null,null,{"$f":"'AFR18'!B2777","v":0},null,null,{"$f":"SUM(H201)","v":0}]
["State Aid Anticipation Certificates","5140",null,null,null,null,null,{"$f":"'AFR18'!B2778","v":0},null,null,{"$f":"SUM(H202)","v":0}]
["Other (Describe & Itemize)","5150",null,null,null,null,null,{"$f":"'AFR18'!B1319","v":173198},null,null,{"$f":"SUM(H203)","v":173198}]
["Total Debt Services - Interest On Short-Term Debt","5100",null,null,null,null,null,{"$f":"SUM(H199:H203)","v":183847},null,null,{"$f":"SUM(K199:K203)","v":183847}]
["DEBT SERVICES - INTEREST ON LONG-TERM DEBT","5200",null,null,null,null,null,{"$f":"'AFR18'!B7013","v":1098343},null,null,{"$f":"SUM(H205)","v":1098343}]
["DEBT SERVICE - PAYMENTS OF PRINCIPAL ON LONG-TERM DEBT (Lease/Purchase Principal Retired) 11","5300",null,null,null,null,null,{"$f":"'AFR18'!B4156","v":14776035},null,null,{"$f":"SUM(H206)","v":14776035}]
["DEBT SERVICES - OTHER (Describe & Itemize)","5400",null,null,null,null,null,{"$f":"'AFR18'!B7015","v":316865},null,null,{"$f":"SUM(H207)","v":316865}]
["Total Debt Services",null,null,null,null,null,null,{"$f":"SUM(H204:H207)","v":16375090},null,null,{"$f":"SUM(K204:K207)","v":16375090}]
["PROVISION FOR CONTINGENCIES (TR)","6000"]
["Total Disbursements/ Expenditures ",null,{"$f":"SUM(C184,C185,C196,C208,C209)","v":252082332.88},43775749.32,736663388.89999998,67628153.349999994,74031959.75,23480545,1504327,44425,1199210881.1999998]
["Excess (Deficiency) of Receipts/Revenues Over Disbursements/Expenditures",null,null,null,null,null,null,null,null,null,{"$f":"SUM('Revenues 9-14'!F275-'Expenditures 15-22'!K210)","v":183827028.5400002}]
[]
["50 - MUNICIPAL RETIREMENT/SS FUND (MR/SS)"]
["INSTRUCTION (MR/SS)"]
["Regular Programs",1100,null,{"$f":"'AFR18'!B3333","v":104417628.84999999},null,null,null,null,null,null,{"$f":"D215","v":104417628.84999999}]
["Pre-K Programs","1125",null,{"$f":"'AFR18'!B7019","v":4791616.09},null,null,null,null,null,null,{"$f":"D216","v":4791616.09}]
["Special Education Programs (Functions 1200-1220)",1200,null,{"$f":"'AFR18'!B3334","v":94115003.590000004},null,null,null,null,null,null,94115003.590000004]
["Special Education Programs - Pre-K","1225",null,{"$f":"'AFR18'!B7021","v":3627222},null,null,null,null,null,null,3627222]
["Remedial and Supplemental Programs - K-12",1250,null,{"$f":"'AFR18'!B3010","v":7567892.8600000003},null,null,null,null,null,null,7567892.8600000003]
["Remedial and Supplemental Programs - Pre-K","1275",null,{"$f":"'AFR18'!B7023","v":600478},null,null,null,null,null,null,600478]
["Adult/Continuing Education Programs",1300,null,{"$f":"'AFR18'!B1352","v":705456},null,null,null,null,null,null,705456]
["CTE Programs",1400,null,{"$f":"'AFR18'!B1353","v":2907885.37},null,null,null,null,null,null,2907885.37]
["Interscholastic Programs",1500,null,{"$f":"'AFR18'!B1354","v":11813419.68},null,null,null,null,null,null,11813419.68]
["Summer School Programs",1600,null,{"$f":"'AFR18'!B1355","v":1893851.9},null,null,null,null,null,null,1893851.9]
["Gifted Programs",1650,null,{"$f":"'AFR18'!B1342","v":717612},null,null,null,null,null,null,717612]
["Driver's Education Programs","1700",null,{"$f":"'AFR18'!B7025","v":518360},null,null,null,null,null,null,518360]
["Bilingual Programs",1800,null,{"$f":"'AFR18'!B1348","v":7874022},null,null,null,null,null,null,7874022]
["Truants' Alternative & Optional Programs",1900,null,{"$f":"'AFR18'!B3335","v":777474},null,null,null,null,null,null,777474]
["Total Instruction","1000",null,{"$f":"SUM(D215:D228)","v":242327922.34000003},null,null,null,null,null,null,{"$f":"SUM(K215:K228)","v":242327922.34000003}]
["SUPPORT SERVICES (MR/SS)","2000"]
["SUPPORT SERVICES - PUPILS"]
["Attendance & Social Work Services",2110,null,{"$f":"'AFR18'!B1357","v":8227412},null,null,null,null,null,null,{"$f":"D232","v":8227412}]
["Guidance Services",2120,null,{"$f":"'AFR18'!B1358","v":6860757},null,null,null,null,null,null,6860757]
["Health Services",2130,null,{"$f":"'AFR18'!B1359","v":17380207.640000001},null,null,null,null,null,null,17380207.640000001]
["Psychological Services",2140,null,{"$f":"'AFR18'!B1360","v":1826358},null,null,null,null,null,null,1826358]
["Speech Pathology & Audiology Services",2150,null,{"$f":"'AFR18'!B1361","v":2755530},null,null,null,null,null,null,2755530]
["Other Support Services - Pupils (Describe & Itemize)",2190,null,{"$f":"'AFR18'!B1362","v":6761330},null,null,null,null,null,null,6761330]
["Total Support Services - Pupils","2100",null,{"$f":"SUM(D232:D237)","v":43811594.640000001},null,null,null,null,null,null,{"$f":"SUM(K232:K237)","v":43811594.640000001}]
["SUPPORT SERVICES - INSTRUCTIONAL STAFF"]
["Improvement of Instruction Services",2210,null,{"$f":"'AFR18'!B1364","v":7933295.8200000003},null,null,null,null,null,null,{"$f":"D240","v":7933295.8200000003}]
["Educational Media Services",2220,null,{"$f":"'AFR18'!B1365","v":17036872.75},null,null,null,null,null,null,{"$f":"D241","v":17036872.75}]
["Assessment & Testing",2230,null,{"$f":"'AFR18'!B1366","v":653223},null,null,null,null,null,null,{"$f":"D242","v":653223}]
["Total Support Services - Instructional Staff",2200,null,{"$f":"SUM(D240:D242)","v":25623391.57},null,null,null,null,null,null,{"$f":"SUM(K240:K242)","v":25623391.57}]
["SUPPORT SERVICES - GENERAL ADMINISTRATION"]
["Board of Education Services",2310,null,{"$f":"'AFR18'!B1368","v":9615542},null,null,null,null,null,null,{"$f":"D245","v":9615542}]
["Executive Administration Services",2320,null,{"$f":"'AFR18'!B1369","v":9993548.1099999994},null,null,null,null,null,null,{"$f":"D246","v":9993548.1099999994}]
["Service Area Administrative Services",2330,null,{"$f":"'AFR18'!B2671","v":3507910},null,null,null,null,null,null,3507910]
["Claims Paid from Self Insurance Fund","2361",null,{"$f":"'AFR18'!B7027","v":84192},null,null,null,null,null,null,84192]
["Workers' Compensation or Workers' Occupation Disease Acts Payments","2362",null,{"$f":"'AFR18'!B7029","v":6009},null,null,null,null,null,null,6009]
["Unemployment Insurance Payments","2363",null,{"$f":"'AFR18'!B7031","v":0},null,null,null,null,null,null,0]
["Insurance Payments (Regular or Self-Insurance)","2364",null,{"$f":"'AFR18'!B7033","v":0},null,null,null,null,null,null,0]
["Risk Management and Claims Services Payments","2365",null,{"$f":"'AFR18'!B7035","v":606313},null,null,null,null,null,null,606313]
["Judgment and Settlements","2366",null,{"$f":"'AFR18'!B7037","v":47458},null,null,null,null,null,null,47458]
["Educational, Inspectional, Supervisory Services Related to Loss Prevention or Reduction","2367",null,{"$f":"'AFR18'!B7039","v":4088851.19},null,null,null,null,null,null,4088851.19]
["Reciprocal Insurance Payments","2368",null,{"$f":"'AFR18'!B7041","v":0},null,null,null,null,null,null,0]
["Legal Services","2369",null,{"$f":"'AFR18'!B7043","v":79135},null,null,null,null,null,null,79135]
["Total Support Services - General Administration",2300,null,{"$f":"SUM(D245:D256)","v":28028958.300000001},null,null,null,null,null,null,{"$f":"SUM(K245:K256)","v":28028958.300000001}]
["SUPPORT SERVICES - SCHOOL ADMINISTRATION"]
["Office of the Principal Services",2410,null,{"$f":"'AFR18'!B1371","v":44929378.339999996},null,null,null,null,null,null,{"$f":"D259","v":44929378.339999996}]
["Other Support Services - School Administration                                      (Describe & Itemize)",2490,null,{"$f":"'AFR18'!B1372","v":1977560},null,null,null,null,null,null,{"$f":"D260","v":1977560}]
["Total Support Services - School Administration","2400",null,{"$f":"SUM(D259:D260)","v":46906938.339999996},null,null,null,null,null,null,{"$f":"SUM(K259:K260)","v":46906938.339999996}]
["SUPPORT SERVICES - BUSINESS"]
["Direction of Business Support Services",2510,null,{"$f":"'AFR18'!B1374","v":4126938},null,null,null,null,null,null,{"$f":"D263","v":4126938}]
["Fiscal Services",2520,null,{"$f":"'AFR18'!B1375","v":17336980.850000001},null,null,null,null,null,null,17336980.850000001]
["Facilities Acquisition & Construction Services",2530,null,{"$f":"'AFR18'!B1376","v":328662},null,null,null,null,null,null,328662]
["Operation & Maintenance of Plant Services",2540,null,{"$f":"'AFR18'!B1377","v":113409003.76000001},null,null,null,null,null,null,113409003.76000001]
["Pupil Transportation Services",2550,null,{"$f":"'AFR18'!B1378","v":42957400.640000001},null,null,null,null,null,null,42957400.640000001]
["Food Services",2560,null,{"$f":"'AFR18'!B1379","v":22751663.460000001},null,null,null,null,null,null,22751663.460000001]
["Internal Services",2570,null,{"$f":"'AFR18'!B1380","v":1763853},null,null,null,null,null,null,1763853]
["Total Support Services - Business","2500",null,{"$f":"SUM(D263:D269)","v":202674501.71000001},null,null,null,null,null,null,{"$f":"SUM(K263:K269)","v":202674501.71000001}]
["SUPPORT SERVICES - CENTRAL"]
["Direction of Central Support Services",2610,null,{"$f":"'AFR18'!B1383","v":400555},null,null,null,null,null,null,{"$f":"D272","v":400555}]
["Planning, Research, Development, & Evaluation Services",2620,null,{"$f":"'AFR18'!B1384","v":1188401},null,null,null,null,null,null,{"$f":"D273","v":1188401}]
["Information Services",2630,null,{"$f":"'AFR18'!B1385","v":4194119},null,null,null,null,null,null,{"$f":"D274","v":4194119}]
["Staff Services",2640,null,{"$f":"'AFR18'!B1386","v":5393397},null,null,null,null,null,null,{"$f":"D275","v":5393397}]
["Data Processing Services",2660,null,{"$f":"'AFR18'!B1388","v":15341270},null,null,null,null,null,null,{"$f":"D276","v":15341270}]
["Total Support Services - Central","2600",null,{"$f":"SUM(D272:D276)","v":26517742},null,null,null,null,null,null,{"$f":"SUM(K272:K276)","v":26517742}]
["OTHER SUPPORT SERVICES  (Describe & Itemize)",null,null,{"$f":"'AFR18'!B1391","v":1489513},null,null,null,null,null,null,{"$f":"D278","v":1489513}]
["Total Support Services",2000,null,{"$f":"SUM(D238,D243,D257,D261,D270,D277,D278)","v":375052639.56},null,null,null,null,null,null,{"$f":"SUM(K238,K243,K257,K261,K270,K277,K278)","v":375052639.56}]
[" ",3000,null,{"$f":"'AFR18'!B1393","v":5728822},null,null,null,null,null,null,{"$f":"D280","v":5728822}]
["PAYMENTS TO OTHER DIST & GOVT UNITS (MR/SS)"]
["Payments for Regular Programs","4110",null,{"$f":"'AFR18'!B7729","v":719170},null,null,null,null,null,null,{"$f":"D282","v":719170}]
["Payments for Special Education Programs",4120,null,{"$f":"'AFR18'!B3667","v":1739617},null,null,null,null,null,null,{"$f":"D283","v":1739617}]
["Payments for CTE Programs",4140,null,{"$f":"'AFR18'!B4111","v":61745},null,null,null,null,null,null,{"$f":"D284","v":61745}]
["Total Payments to Other Dist & Govt Units","4000",null,{"$f":"SUM(D282:D284)","v":2520532},null,null,null,null,null,null,{"$f":"SUM(K282:K284)","v":2520532}]
["DEBT SERVICES (MR/SS)"]
["DEBT SERVICE - INTEREST ON SHORT-TERM DEBT"]
["Tax Anticipation Warrants",5110,null,null,null,null,null,{"$f":"'AFR18'!B1395","v":0},null,null,{"$f":"H288","v":0}]
["Tax Anticipation Notes",5120,null,null,null,null,null,{"$f":"'AFR18'!B1396","v":0},null,null,{"$f":"H289","v":0}]
["Corporate Personal Prop. Repl. Tax Anticipation Notes","5130",null,null,null,null,null,{"$f":"'AFR18'!B2789","v":0},null,null,{"$f":"H290","v":0}]
["State Aid Anticipation Certificates","5140",null,null,null,null,null,{"$f":"'AFR18'!B2790","v":0},null,null,{"$f":"H291","v":0}]
["Other (Describe & Itemize)","5150",null,null,null,null,null,{"$f":"'AFR18'!B1397","v":0},null,null,{"$f":"H292","v":0}]
["Total Debt Services - Interest","5000",null,null,null,null,null,{"$f":"SUM(H288:H292)","v":0},null,null,{"$f":"SUM(K288:K292)","v":0}]
["PROVISION FOR CONTINGENCIES (MR/SS)","6000"]
["Total Disbursements/Expenditures",null,null,{"$f":"SUM(D229,D279,D280,D285,D293,D294)","v":625629915.9000001},null,null,null,{"$f":"SUM(H229,H279,H280,H285,H293,H294)","v":0},null,null,{"$f":"SUM(K229,K279,K280,K285,K293,K294)","v":625629915.9000001}]
["Excess (Deficiency) of Receipts/Revenues Over Disbursements/Expenditures",null,null,null,null,null,null,null,null,null,{"$f":"'Revenues 9-14'!G275-'Expenditures 15-22'!K295","v":24723070.439999938}]
[]
["60 - CAPITAL PROJECTS (CP)"]
["   SUPPORT SERVICES (CP)"]
["SUPPORT SERVICES - BUSINESS"]
["Facilities Acquisition and Construction Services",2530,{"$f":"'AFR18'!B1465","v":1820904},{"$f":"'AFR18'!B1471","v":285260},{"$f":"'AFR18'!B1477","v":82732503.819999993},{"$f":"'AFR18'!B1483","v":4909856},{"$f":"'AFR18'!B1489","v":1367463558.25},{"$f":"'AFR18'!B1495","v":10834139},{"$f":"'AFR18'!B7045","v":27164243},{"$f":"'AFR18'!B7046","v":6516},{"$f":"SUM(C301:J301)","v":1495216980.0699999}]
["Other Support Services (Describe & Itemize)","2900",{"$f":"'AFR18'!B1468","v":4555},{"$f":"'AFR18'!B1474","v":585},{"$f":"'AFR18'!B1480","v":1973468},{"$f":"'AFR18'!B1486","v":98732},{"$f":"'AFR18'!B1492","v":7254879},{"$f":"'AFR18'!B1498","v":1465588},{"$f":"'AFR18'!B7047","v":0},{"$f":"'AFR18'!B7048","v":0},{"$f":"SUM(C302:J302)","v":10797807}]
["Total Support Services","2000",{"$f":"SUM(C301:C302)","v":1825459},{"$f":"SUM(D301:D302)","v":285845},84705971.819999993,5008588,1374718437.25,12299727,27164243,6516,1506014787.0699999]
["PAYMENTS TO OTHER DIST & GOVT UNITS (CP)"]
["PAYMENTS TO OTHER GOVT UNITS (In-State)"]
["Payments for Regular Programs","4110",null,null,{"$f":"'AFR18'!B7051","v":0},null,null,{"$f":"'AFR18'!B7052","v":151672},null,null,{"$f":"SUM(E306,H306)","v":151672}]
["Payments for Special Education Programs",4120,null,null,{"$f":"'AFR18'!B7054","v":0},null,null,{"$f":"'AFR18'!B7055","v":0},null,null,{"$f":"SUM(E307,H307)","v":0}]
["Payments for CTE Programs",4140,null,null,{"$f":"'AFR18'!B7056","v":0},null,null,{"$f":"'AFR18'!B7057","v":0},null,null,{"$f":"SUM(E308,H308)","v":0}]
["Other Payments to In-State Govt. Units (Describe & Itemize)",4190,null,null,{"$f":"'AFR18'!B7058","v":0},null,null,{"$f":"'AFR18'!B7059","v":716428},null,null,{"$f":"SUM(E309,H309)","v":716428}]
["Total Payments to Other Dist & Govt Units","4000",null,null,{"$f":"SUM(E306:E309)","v":0},null,null,{"$f":"SUM(H306:H309)","v":868100},null,null,{"$f":"SUM(K306:K309)","v":868100}]
["PROVISION FOR CONTINGENCIES (S&C/CI)","6000"]
["Total Disbursements/ Expenditures ",null,{"$f":"SUM(C303,C310,C311)","v":1825459},{"$f":"SUM(D303,D310,D311)","v":285845},84705971.819999993,5008588,1374718437.25,13167827,27164243,6516,1506882887.0699999]
["Excess (Deficiency) of Receipts/Revenues Over Disbursements/Expenditures",null,null,null,null,null,null,null,null,null,{"$f":"'Revenues 9-14'!H275-'Expenditures 15-22'!K312","v":-1266987817.46}]
[]
["70 - WORKING CASH (WC)"]
[]
["80 - TORT FUND (TF)"]
["SUPPORT SERVICES - GENERAL ADMINISTRATION"]
["Claims Paid from Self Insurance Fund","2361",{"$f":"'AFR18'!B7064","v":238588},{"$f":"'AFR18'!B7065","v":0},{"$f":"'AFR18'!B7066","v":670532},{"$f":"'AFR18'!B7067","v":37396},{"$f":"'AFR18'!B7068","v":0},{"$f":"'AFR18'!B7069","v":58265},{"$f":"'AFR18'!B7070","v":0},{"$f":"'AFR18'!B7071","v":0},{"$f":"SUM(C319:J319)","v":1004781}]
["Workers' Compensation or Workers' Occupation Disease Acts Payments","2362",{"$f":"'AFR18'!B7073","v":121440},{"$f":"'AFR18'!B7074","v":1941905},{"$f":"'AFR18'!B7075","v":64991014},{"$f":"'AFR18'!B7076","v":74545},{"$f":"'AFR18'!B7077","v":2588},{"$f":"'AFR18'!B7078","v":638403},{"$f":"'AFR18'!B7079","v":0},{"$f":"'AFR18'!B7080","v":74},{"$f":"SUM(C320:J320)","v":67769969}]
["Unemployment Insurance Payments","2363",{"$f":"'AFR18'!B7082","v":15497},{"$f":"'AFR18'!B7083","v":279931},{"$f":"'AFR18'!B7084","v":4245504.7200000007},{"$f":"'AFR18'!B7085","v":0},{"$f":"'AFR18'!B7086","v":0},{"$f":"'AFR18'!B7087","v":56501},{"$f":"'AFR18'!B7088","v":0},{"$f":"'AFR18'!B7089","v":0},4597433.7200000007]
["Insurance Payments (Regular or Self-Insurance)","2364",{"$f":"'AFR18'!B7091","v":69702},{"$f":"'AFR18'!B7092","v":291996},{"$f":"'AFR18'!B7093","v":51584854},{"$f":"'AFR18'!B7094","v":238689},{"$f":"'AFR18'!B7095","v":25314},{"$f":"'AFR18'!B7096","v":326947},{"$f":"'AFR18'!B7097","v":0},{"$f":"'AFR18'!B7098","v":0},52537502]
["Risk Management and Claims Services Payments","2365",{"$f":"'AFR18'!B7100","v":16602104},{"$f":"'AFR18'!B7101","v":1210991},{"$f":"'AFR18'!B7102","v":12175220},{"$f":"'AFR18'!B7103","v":160120},{"$f":"'AFR18'!B7104","v":1741072},{"$f":"'AFR18'!B7105","v":218148},{"$f":"'AFR18'!B7106","v":71537},{"$f":"'AFR18'!B7107","v":0},32179192]
["Judgment and Settlements","2366",{"$f":"'AFR18'!B7109","v":55764},{"$f":"'AFR18'!B7110","v":41629},{"$f":"'AFR18'!B7111","v":832826},{"$f":"'AFR18'!B7112","v":0},{"$f":"'AFR18'!B7113","v":0},{"$f":"'AFR18'!B7114","v":826885},{"$f":"'AFR18'!B7115","v":0},{"$f":"'AFR18'!B7116","v":0},1757104]
["Educational, Inspectional, Supervisory Services Related to Loss Prevention or Reduction","2367",{"$f":"'AFR18'!B7118","v":122117538.06},{"$f":"'AFR18'!B7119","v":24799266.579999998},{"$f":"'AFR18'!B7120","v":28411568.189999998},{"$f":"'AFR18'!B7121","v":599296.37},{"$f":"'AFR18'!B7122","v":1987937},{"$f":"'AFR18'!B7123","v":675684},{"$f":"'AFR18'!B7124","v":242830},{"$f":"'AFR18'!B7125","v":377416},179211536.19999999]
["Reciprocal Insurance Payments","2368",{"$f":"'AFR18'!B7127","v":0},{"$f":"'AFR18'!B7128","v":0},{"$f":"'AFR18'!B7129","v":23134},{"$f":"'AFR18'!B7130","v":0},{"$f":"'AFR18'!B7131","v":0},{"$f":"'AFR18'!B7132","v":0},{"$f":"'AFR18'!B7133","v":0},{"$f":"'AFR18'!B7134","v":0},23134]
["Legal Services","2369",{"$f":"'AFR18'!B7136","v":204679},{"$f":"'AFR18'!B7137","v":64896},{"$f":"'AFR18'!B7138","v":11236321.25},{"$f":"'AFR18'!B7139","v":43294},{"$f":"'AFR18'!B7140","v":27126},{"$f":"'AFR18'!B7141","v":123154},{"$f":"'AFR18'!B7142","v":0},{"$f":"'AFR18'!B7143","v":0},11699470.25]
["Property Insurance (Buildings & Grounds)","2371",{"$f":"'AFR18'!B7634","v":0},{"$f":"'AFR18'!B7635","v":0},{"$f":"'AFR18'!B7636","v":14200740},{"$f":"'AFR18'!B7637","v":95},{"$f":"'AFR18'!B7638","v":53706},{"$f":"'AFR18'!B7639","v":0},{"$f":"'AFR18'!B7640","v":0},{"$f":"'AFR18'!B7641","v":0},14254541]
["Vehicle Insurance (Transportation)","2372",{"$f":"'AFR18'!B7643","v":22400},{"$f":"'AFR18'!B7644","v":0},{"$f":"'AFR18'!B7645","v":1257532},{"$f":"'AFR18'!B7646","v":8257},{"$f":"'AFR18'!B7647","v":0},{"$f":"'AFR18'!B7648","v":0},{"$f":"'AFR18'!B7649","v":0},{"$f":"'AFR18'!B7650","v":0},1288189]
["Total Support Services - General Administration","2000",{"$f":"SUM(C319:C329)","v":139447712.06},{"$f":"SUM(D319:D329)","v":28630614.579999998},189629246.16,1161692.3700000001,3837743,2923987,314367,377490,366322852.16999996]
["Payments to Other Dist & Govt Units (TF)","4000"]
["Payments for Regular Programs","4110",null,null,null,null,null,{"$f":"'AFR18'!B7731","v":203421},null,null,{"$f":"H332","v":203421}]
["Payments for Special Education Programs","4120",null,null,null,null,null,{"$f":"'AFR18'!B7733","v":294415},null,null,{"$f":"H333","v":294415}]
["Total Payments to Other Dist & Govt Units","4000",null,null,null,null,null,{"$f":"SUM(H332:H333)","v":497836},null,null,{"$f":"SUM(K332:K333)","v":497836}]
["DEBT SERVICES (TF)","5000"]
["DEBT SERVICES - INTEREST ON SHORT-TERM DEBT"]
["Tax Anticipation Warrants","5110",null,null,null,null,null,{"$f":"'AFR18'!B7154","v":30962},null,null,{"$f":"H337","v":30962}]
["Corporate Personal Prop. Repl. Tax Anticipation Notes","5130",null,null,null,null,null,{"$f":"'AFR18'!B7156","v":0},null,null,{"$f":"H338","v":0}]
["Other Interest or Short-Term Debt",5150,null,null,null,null,null,{"$f":"'AFR18'!B7158","v":67},null,null,{"$f":"H339","v":67}]
["Total Debt Services - Interest on Short-Term Debt","5000",null,null,null,null,null,{"$f":"SUM(H337:H339)","v":31029},null,null,{"$f":"SUM(K337:K339)","v":31029}]
["PROVISIONS FOR CONTINGENCIES (TF)","6000"]
["Total Disbursements/Expenditures",null,{"$f":"SUM(C330,C340:C341)","v":139447712.06},{"$f":"SUM(D330,D340:D341)","v":28630614.579999998},189629246.16,1161692.3700000001,3837743,{"$f":"SUM(H330,H334,H340:H341)","v":3452852},314367,377490,{"$f":"SUM(K330,K334,K340:K341)","v":366851717.16999996}]
["Excess (Deficiency) of Receipts/Revenues Over Disbursements/Expenditures",null,null,null,null,null,null,null,null,null,{"$f":"SUM('Revenues 9-14'!J275-'Expenditures 15-22'!K342)","v":-16845777.139999926}]
[]
["90 - FIRE PREVENTION & SAFETY FUND (FP&S)"]
["SUPPORT SERVICES (FP&S)"]
["SUPPORT SERVICES - BUSINESS"]
["Facilities Acquisition & Construction Services",2530,{"$f":"'AFR18'!B3563","v":275252},{"$f":"'AFR18'!B3570","v":42747},{"$f":"'AFR18'!B3577","v":17261804.780000001},{"$f":"'AFR18'!B3584","v":229714},{"$f":"'AFR18'!B3591","v":96689869.049999997},{"$f":"'AFR18'!B3598","v":550497},{"$f":"'AFR18'!B7172","v":108200},{"$f":"'AFR18'!B7173","v":0},{"$f":"SUM(C348:J348)","v":115158083.83}]
["Operation & Maintenance of Plant Services",2540,{"$f":"'AFR18'!B3564","v":788477},{"$f":"'AFR18'!B3571","v":131500},{"$f":"'AFR18'!B3578","v":11634264},{"$f":"'AFR18'!B3585","v":789274},{"$f":"'AFR18'!B3592","v":35203020.219999999},{"$f":"'AFR18'!B3599","v":337505},{"$f":"'AFR18'!B7174","v":30177},{"$f":"'AFR18'!B7175","v":0},{"$f":"SUM(C349:J349)","v":48914217.219999999}]
["Total Support Services - Business","2500",{"$f":"SUM(C348:C349)","v":1063729},{"$f":"SUM(D348:D349)","v":174247},28896068.780000001,1018988,131892889.27,888002,138377,0,164072301.05000001]
["Other Support Services (Describe & Itemize)","2900",{"$f":"'AFR18'!B3566","v":22247},{"$f":"'AFR18'!B3573","v":0},{"$f":"'AFR18'!B3580","v":1530958},{"$f":"'AFR18'!B3587","v":0},{"$f":"'AFR18'!B3594","v":0},{"$f":"'AFR18'!B3601","v":26902},{"$f":"'AFR18'!B7178","v":0},{"$f":"'AFR18'!B7179","v":0},{"$f":"SUM(C351:J351)","v":1580107}]
["Total Support Services","2000",{"$f":"SUM(C350:C351)","v":1085976},{"$f":"SUM(D350:D351)","v":174247},30427026.780000001,1018988,131892889.27,914904,138377,0,165652408.05000001]
["PAYMENTS TO OTHER DIST & GOVT UNITS (FP&S)"]
["Payments for Regular Programs","4110",null,null,null,null,null,{"$f":"'AFR18'!B7737","v":0},null,null,{"$f":"H354","v":0}]
["Payments for Special Education Programs",4120,null,null,null,null,null,{"$f":"'AFR18'!B7739","v":0},null,null,{"$f":"H355","v":0}]
["Other Payments to In-State Govt. Units (Describe & Itemize)","4190",null,null,null,null,null,{"$f":"'AFR18'!B7182","v":238830},null,null,{"$f":"H356","v":238830}]
["Total Payments to Other Dist & Govt Units","4000",null,null,null,null,null,{"$f":"SUM(H354:H356)","v":238830},null,null,{"$f":"SUM(K354:K356)","v":238830}]
["DEBT SERVICES (FP&S)"]
["DEBT SERVICES- INTEREST ON SHORT-TERM DEBT"]
["Tax Anticipation Warrants",5110,null,null,null,null,null,{"$f":"'AFR18'!B3603","v":0},null,null,{"$f":"H360","v":0}]
["Other Interest on Short-Term Debt (Describe & Itemize)","5150",null,null,null,null,null,{"$f":"'AFR18'!B7184","v":0},null,null,{"$f":"H361","v":0}]
["Total Debt Service - Interest on Short-Term Debt","5100",null,null,null,null,null,{"$f":"SUM(H360:H361)","v":0},null,null,{"$f":"SUM(K360:K361)","v":0}]
["DEBT SERVICES - INTEREST ON LONG-TERM DEBT","5200",null,null,null,null,null,{"$f":"'AFR18'!B7186","v":180239},null,null,{"$f":"H363","v":180239}]
["Debt Service - Payments of Principal on Long-Term Debt (Lease/Purchase Principal Retired)","5300",null,null,null,null,null,{"$f":"'AFR18'!B7691","v":561491},null,null,{"$f":"H364","v":561491}]
["Total Debt Service","5000",null,null,null,null,null,{"$f":"SUM(H362:H364)","v":741730},null,null,{"$f":"SUM(K362:K364)","v":741730}]
["PROVISION FOR CONTINGENCIES (FP&S)","6000"]
["Total Disbursements/Expenditures",null,{"$f":"SUM(C352,C357,C365,C366)","v":1085976},{"$f":"SUM(D352,D357,D365,D366)","v":174247},30427026.780000001,1018988,131892889.27,1895464,138377,0,166632968.05000001]
["Excess (Deficiency) of Receipts/Revenues Over Disbursements/Expenditures",null,null,null,null,null,null,null,null,null,{"$f":"SUM('Revenues 9-14'!K275-'Expenditures 15-22'!K367)","v":-107875465.69000003}]

{"sheet":"ARRA Sched 23","index":6,"n_rows":56,"n_cols":14,"rows_kept":56,"cut":false,"hidden":true,"merged":[[0,3,0,11],[0,12,0,13],[0,0,1,1],[49,1,54,11]]}
[null,null,"----RECEIPTS----","-------------------------------------------------------------------------------------------DISBURSEMENTS------------------------------------------------------------------------------------",null,null,null,null,null,null,null,null,"-----------STAFFING------------"]
[null,null,null,"(100)","(200)","(300)","(400)","(500)","(600)","(700)","(800)","(900)"]
["ARRA Revenue Source Code","Acct #","ARRA Receipts","Salaries","Employee Benefits","Purchased Services","Supplies & Materials","Capital Outlay","Other","Non-Capitalized Equipment","Termination Benefits","Total Expenditures","# of Staff Impacted by Salary & Benefits"," FTE Staff Impacted by Salary & Benefits"]
["Beginning Balance July 1, 2015",null,{"$f":"'AFR18'!B7215","v":0}]
["ARRA -General State Aid 13",4850,{"$f":"'AFR18'!B7216","v":0},{"$f":"'AFR18'!B7246","v":0},{"$f":"'AFR18'!B7275","v":0},{"$f":"'AFR18'!B7304","v":0},{"$f":"'AFR18'!B7333","v":0},{"$f":"'AFR18'!B7362","v":0},{"$f":"'AFR18'!B7391","v":0},{"$f":"'AFR18'!B7420","v":0},null,{"$f":"'AFR18'!B7449","v":0},7471,7500]
["ARRA - Title I Low Income",4851,{"$f":"'AFR18'!B7217","v":0},{"$f":"'AFR18'!B7247","v":0},{"$f":"'AFR18'!B7276","v":0},{"$f":"'AFR18'!B7305","v":0},{"$f":"'AFR18'!B7334","v":0},{"$f":"'AFR18'!B7363","v":0},{"$f":"'AFR18'!B7392","v":0},{"$f":"'AFR18'!B7421","v":0},null,{"$f":"'AFR18'!B7450","v":0},7472,7501]
["ARRA - Title I Neglected - Private",4852,{"$f":"'AFR18'!B7218","v":0},{"$f":"'AFR18'!B7248","v":0},{"$f":"'AFR18'!B7277","v":0},{"$f":"'AFR18'!B7306","v":0},{"$f":"'AFR18'!B7335","v":0},42916,{"$f":"'AFR18'!B7393","v":0},{"$f":"'AFR18'!B7422","v":0},null,{"$f":"'AFR18'!B7451","v":0},7473,7502]
["ARRA - Title I Delinquent - Private",4853,{"$f":"'AFR18'!B7219","v":0},{"$f":"'AFR18'!B7249","v":0},{"$f":"'AFR18'!B7278","v":0},{"$f":"'AFR18'!B7307","v":0},{"$f":"'AFR18'!B7336","v":0},{"$f":"'AFR18'!B7365","v":0},{"$f":"'AFR18'!B7394","v":0},{"$f":"'AFR18'!B7423","v":0},null,{"$f":"'AFR18'!B7452","v":0},7474,7503]
["ARRA - Title I School Improvement (Part A)",4854,{"$f":"'AFR18'!B7220","v":0},{"$f":"'AFR18'!B7250","v":0},{"$f":"'AFR18'!B7279","v":0},{"$f":"'AFR18'!B7308","v":0},{"$f":"'AFR18'!B7337","v":0},{"$f":"'AFR18'!B7366","v":0},{"$f":"'AFR18'!B7395","v":0},{"$f":"'AFR18'!B7424","v":0},null,{"$f":"'AFR18'!B7453","v":0},7475,7504]
["ARRA - Title I School Improvement (Part G)",4855,{"$f":"'AFR18'!B7221","v":0},{"$f":"'AFR18'!B7251","v":0},{"$f":"'AFR18'!B7280","v":0},{"$f":"'AFR18'!B7309","v":0},{"$f":"'AFR18'!B7338","v":0},{"$f":"'AFR18'!B7367","v":0},{"$f":"'AFR18'!B7396","v":0},{"$f":"'AFR18'!B7425","v":0},null,{"$f":"'AFR18'!B7454","v":0},7476,7505]
["ARRA - IDEA Part B Preschool",4856,{"$f":"'AFR18'!B7222","v":0},{"$f":"'AFR18'!B7252","v":0},{"$f":"'AFR18'!B7281","v":0},{"$f":"'AFR18'!B7310","v":0},{"$f":"'AFR18'!B7339","v":0},{"$f":"'AFR18'!B7368","v":0},{"$f":"'AFR18'!B7397","v":0},{"$f":"'AFR18'!B7426","v":0},null,{"$f":"'AFR18'!B7455","v":0},7477,7506]
["ARRA - IDEA Part B Flow Through",4857,{"$f":"'AFR18'!B7223","v":0},{"$f":"'AFR18'!B7253","v":0},{"$f":"'AFR18'!B7282","v":0},{"$f":"'AFR18'!B7311","v":0},{"$f":"'AFR18'!B7340","v":0},{"$f":"'AFR18'!B7369","v":0},{"$f":"'AFR18'!B7398","v":0},{"$f":"'AFR18'!B7427","v":0},null,{"$f":"'AFR18'!B7456","v":0},7478,7507]
["ARRA - Title II D Technology Formula",4860,{"$f":"'AFR18'!B7224","v":0},{"$f":"'AFR18'!B7254","v":0},{"$f":"'AFR18'!B7283","v":0},{"$f":"'AFR18'!B7312","v":0},{"$f":"'AFR18'!B7341","v":0},{"$f":"'AFR18'!B7370","v":0},{"$f":"'AFR18'!B7399","v":0},{"$f":"'AFR18'!B7428","v":0},null,{"$f":"'AFR18'!B7457","v":0},7479,7508]
["ARRA - Title II D Technology Competitive",4861,{"$f":"'AFR18'!B7225","v":0},{"$f":"'AFR18'!B7255","v":0},{"$f":"'AFR18'!B7284","v":0},{"$f":"'AFR18'!B7313","v":0},{"$f":"'AFR18'!B7342","v":0},{"$f":"'AFR18'!B7371","v":0},{"$f":"'AFR18'!B7400","v":0},{"$f":"'AFR18'!B7429","v":0},null,{"$f":"'AFR18'!B7458","v":0},7480,7509]
["ARRA - McKenney - Vento Homeless Education",4862,{"$f":"'AFR18'!B7226","v":0},{"$f":"'AFR18'!B7256","v":0},{"$f":"'AFR18'!B7285","v":0},{"$f":"'AFR18'!B7314","v":0},{"$f":"'AFR18'!B7343","v":0},{"$f":"'AFR18'!B7372","v":0},{"$f":"'AFR18'!B7401","v":0},{"$f":"'AFR18'!B7430","v":0},null,{"$f":"'AFR18'!B7459","v":0},7481,7510]
["ARRA - Child Nutrition Equipment Assistance",4863,{"$f":"'AFR18'!B7227","v":0},{"$f":"'AFR18'!B7257","v":0},{"$f":"'AFR18'!B7286","v":0},{"$f":"'AFR18'!B7315","v":0},{"$f":"'AFR18'!B7344","v":0},{"$f":"'AFR18'!B7373","v":0},{"$f":"'AFR18'!B7402","v":0},{"$f":"'AFR18'!B7431","v":0},null,{"$f":"'AFR18'!B7460","v":0},7482,7511]
["Impact Aid Construction Formula ",4864,{"$f":"'AFR18'!B7228","v":0},{"$f":"'AFR18'!B7258","v":0},{"$f":"'AFR18'!B7287","v":0},{"$f":"'AFR18'!B7316","v":0},{"$f":"'AFR18'!B7345","v":0},{"$f":"'AFR18'!B7374","v":0},{"$f":"'AFR18'!B7403","v":0},{"$f":"'AFR18'!B7432","v":0},null,{"$f":"'AFR18'!B7461","v":0},7483,7512]
["Impact Aid Construction Competitive",4865,{"$f":"'AFR18'!B7229","v":0},{"$f":"'AFR18'!B7259","v":0},{"$f":"'AFR18'!B7288","v":0},{"$f":"'AFR18'!B7317","v":0},{"$f":"'AFR18'!B7346","v":0},{"$f":"'AFR18'!B7375","v":0},{"$f":"'AFR18'!B7404","v":0},{"$f":"'AFR18'!B7433","v":0},null,{"$f":"'AFR18'!B7462","v":0},7484,7513]
["No Address",4866,{"$f":"'AFR18'!B7230","v":0},{"$f":"'AFR18'!B7260","v":0},{"$f":"'AFR18'!B7289","v":0},{"$f":"'AFR18'!B7318","v":0},{"$f":"'AFR18'!B7347","v":0},{"$f":"'AFR18'!B7376","v":0},{"$f":"'AFR18'!B7405","v":0},{"$f":"'AFR18'!B7434","v":0},null,{"$f":"'AFR18'!B7463","v":0},7485,7514]
["QSCB Tax Credits",4867,{"$f":"'AFR18'!B7231","v":0},{"$f":"'AFR18'!B7261","v":0},{"$f":"'AFR18'!B7290","v":0},{"$f":"'AFR18'!B7319","v":0},{"$f":"'AFR18'!B7348","v":0},{"$f":"'AFR18'!B7377","v":0},{"$f":"'AFR18'!B7406","v":0},{"$f":"'AFR18'!B7435","v":0},null,{"$f":"'AFR18'!B7464","v":0},7486,7515]
["Build America Bonds Tax Credits",4868,{"$f":"'AFR18'!B7232","v":0},{"$f":"'AFR18'!B7262","v":0},{"$f":"'AFR18'!B7291","v":0},{"$f":"'AFR18'!B7320","v":0},{"$f":"'AFR18'!B7349","v":0},{"$f":"'AFR18'!B7378","v":0},{"$f":"'AFR18'!B7407","v":0},{"$f":"'AFR18'!B7436","v":0},null,{"$f":"'AFR18'!B7465","v":0},7487,7516]
["Build America Bonds Interest Reimbursement",4869,{"$f":"'AFR18'!B7233","v":0},{"$f":"'AFR18'!B7263","v":0},{"$f":"'AFR18'!B7292","v":0},{"$f":"'AFR18'!B7321","v":0},{"$f":"'AFR18'!B7350","v":0},{"$f":"'AFR18'!B7379","v":0},{"$f":"'AFR18'!B7408","v":0},{"$f":"'AFR18'!B7437","v":0},null,{"$f":"'AFR18'!B7466","v":0},7488,7517]
["ARRA - General State Aid-Other Govt Services Stabilization",4870,{"$f":"'AFR18'!B7234","v":0},{"$f":"'AFR18'!B7264","v":0},{"$f":"'AFR18'!B7293","v":0},{"$f":"'AFR18'!B7322","v":0},{"$f":"'AFR18'!B7351","v":0},{"$f":"'AFR18'!B7380","v":0},{"$f":"'AFR18'!B7409","v":0},{"$f":"'AFR18'!B7438","v":0},null,{"$f":"'AFR18'!B7467","v":0},7489,7518]
["ARRA Other II",4871,{"$f":"'AFR18'!B7235","v":0},{"$f":"'AFR18'!B7265","v":0},{"$f":"'AFR18'!B7294","v":0},{"$f":"'AFR18'!B7323","v":0},{"$f":"'AFR18'!B7352","v":0},{"$f":"'AFR18'!B7381","v":0},{"$f":"'AFR18'!B7410","v":0},{"$f":"'AFR18'!B7439","v":0},null,{"$f":"'AFR18'!B7468","v":0},7490,7519]
["ARRA Other III",4872,{"$f":"'AFR18'!B7236","v":0},{"$f":"'AFR18'!B7266","v":0},{"$f":"'AFR18'!B7295","v":0},{"$f":"'AFR18'!B7324","v":0},{"$f":"'AFR18'!B7353","v":0},{"$f":"'AFR18'!B7382","v":0},{"$f":"'AFR18'!B7411","v":0},{"$f":"'AFR18'!B7440","v":0},null,{"$f":"'AFR18'!B7469","v":0},7491,7520]
["ARRA Other IV",4873,{"$f":"'AFR18'!B7237","v":0},{"$f":"'AFR18'!B7267","v":0},{"$f":"'AFR18'!B7296","v":0},{"$f":"'AFR18'!B7325","v":0},{"$f":"'AFR18'!B7354","v":0},{"$f":"'AFR18'!B7383","v":0},{"$f":"'AFR18'!B7412","v":0},{"$f":"'AFR18'!B7441","v":0},null,{"$f":"'AFR18'!B7470","v":0},7492,7521]
["ARRA Other V",4874,{"$f":"'AFR18'!B7238","v":0},{"$f":"'AFR18'!B7268","v":0},{"$f":"'AFR18'!B7297","v":0},{"$f":"'AFR18'!B7326","v":0},{"$f":"'AFR18'!B7355","v":0},{"$f":"'AFR18'!B7384","v":0},{"$f":"'AFR18'!B7413","v":0},{"$f":"'AFR18'!B7442","v":0},null,{"$f":"'AFR18'!B7471","v":0},7493,7522]
["ARRA - Early Childhood",4875,{"$f":"'AFR18'!B7239","v":0},{"$f":"'AFR18'!B7269","v":0},{"$f":"'AFR18'!B7298","v":0},{"$f":"'AFR18'!B7327","v":0},{"$f":"'AFR18'!B7356","v":0},{"$f":"'AFR18'!B7385","v":0},{"$f":"'AFR18'!B7414","v":0},{"$f":"'AFR18'!B7443","v":0},null,{"$f":"'AFR18'!B7472","v":0},7494,7523]
["ARRA Other VII",4876,{"$f":"'AFR18'!B7240","v":0},{"$f":"'AFR18'!B7270","v":0},{"$f":"'AFR18'!B7299","v":0},{"$f":"'AFR18'!B7328","v":0},{"$f":"'AFR18'!B7357","v":0},{"$f":"'AFR18'!B7386","v":0},{"$f":"'AFR18'!B7415","v":0},{"$f":"'AFR18'!B7444","v":0},null,{"$f":"'AFR18'!B7473","v":0},7495,7524]
["ARRA Other VIII",4877,{"$f":"'AFR18'!B7241","v":0},{"$f":"'AFR18'!B7271","v":0},{"$f":"'AFR18'!B7300","v":0},{"$f":"'AFR18'!B7329","v":0},{"$f":"'AFR18'!B7358","v":0},{"$f":"'AFR18'!B7387","v":0},{"$f":"'AFR18'!B7416","v":0},{"$f":"'AFR18'!B7445","v":0},null,{"$f":"'AFR18'!B7474","v":0},7496,7525]
["ARRA Other IX",4878,{"$f":"'AFR18'!B7242","v":0},{"$f":"'AFR18'!B7272","v":0},{"$f":"'AFR18'!B7301","v":0},{"$f":"'AFR18'!B7330","v":0},{"$f":"'AFR18'!B7359","v":0},{"$f":"'AFR18'!B7388","v":0},{"$f":"'AFR18'!B7417","v":0},{"$f":"'AFR18'!B7446","v":0},null,{"$f":"'AFR18'!B7475","v":0},7497,7526]
["ARRA Other X",4879,{"$f":"'AFR18'!B7243","v":0},{"$f":"'AFR18'!B7273","v":0},{"$f":"'AFR18'!B7302","v":0},{"$f":"'AFR18'!B7331","v":0},{"$f":"'AFR18'!B7360","v":0},{"$f":"'AFR18'!B7389","v":0},{"$f":"'AFR18'!B7418","v":0},{"$f":"'AFR18'!B7447","v":0},null,{"$f":"'AFR18'!B7476","v":0},7498,7527]
["ARRA Other XI",4880,{"$f":"'AFR18'!B7586","v":0},{"$f":"'AFR18'!B7587","v":0},{"$f":"'AFR18'!B7588","v":0},{"$f":"'AFR18'!B7589","v":0},{"$f":"'AFR18'!B7590","v":0},{"$f":"'AFR18'!B7591","v":0},{"$f":"'AFR18'!B7592","v":0},{"$f":"'AFR18'!B7593","v":0},null,{"$f":"'AFR18'!B7594","v":0},7588,7589]
["Total ARRA Programs",null,{"$f":"SUM(C5:C33)","v":0},{"$f":"SUM(D5:D33)","v":0},0,0,0,42916,0,0,null,{"$f":"SUM(L5:L33)","v":0},7499,7528]
["Ending Balance June 30, 2016",null,{"$f":"C4+C34-L34","v":0}]
[]
[1,"Were any funds from the State Fiscal Stabilization Fund Program (SFSF) General State-Aid (Account 4850, line 5)"]
[null,"used for the following non-allowable purposes:"]
[null,null,"Payments of maintenance costs;"]
[null,null,"Stadiums or other facilities used for athletic contests, exhibitions or other events for which admission is charged to the general public;"]
[null,null,"Purchase or upgrade of vehicles;"]
[null,null,"Improvements of stand-alone facilities whose purpose is not the education of children such as central office administrative buildings; "]
[null,null,"Financial assistance to students to attend private elementary or secondary schools unless the funds are used to provide special "]
[null,null,"    education and related services to children with disabilities as authorized by the IDEA Act;"]
[null,null,"School modernization, renovation, or repair that is inconsistent with State Law."]
[]
[2,"If any above boxes are checked provide the total amount"]
[null,"of questioned costs and provide an explanation below:",null,null,null,null,7574]
[]
[]
[]
[]
[]
[]
[]
["       "]

{"sheet":"Tax Sched 24","index":7,"n_rows":22,"n_cols":6,"rows_kept":22,"cut":false,"hidden":false,"merged":[]}
["SCHEDULE OF AD VALOREM TAX RECEIPTS"]
["Description","Taxes Received                             7-1-16 Thru 6-30-17 (from 2016 Levy & Prior Levies)  *","Taxes Received (from the 2016 Levy)","Taxes Received                             (from 2015 & Prior Levies)          (Column B - C)","Total Estimated Taxes (from the 2016 Levy)                            ","Estimated Taxes Due                             (from the 2016 Levy)                    (Column E - C)"]
[]
["Educational",{"$f":"'AFR18'!B1690","v":11940011410.279999},{"$f":"'AFR18'!B1722","v":6745121630.170001},{"$f":"B4-C4","v":5194889780.1099977},{"$f":"'AFR18'!B1754","v":12225946897.74826},{"$f":"E4-C4","v":5480825267.5782595}]
["Operations & Maintenance",{"$f":"'AFR18'!B1691","v":1530756934.6700001},{"$f":"'AFR18'!B1723","v":673196361.22000003},{"$f":"B5-C5","v":857560573.45000005},{"$f":"'AFR18'!B1755","v":1560107329.4157414},{"$f":"E5-C5","v":886910968.19574142}]
["Debt Services  **",{"$f":"'AFR18'!B1692","v":1584395764.8000002},{"$f":"'AFR18'!B1724","v":702602806.67000008},881792958.13000011,{"$f":"'AFR18'!B1756","v":1583369140.3645461},880766333.69454598]
["Transportation",{"$f":"'AFR18'!B1693","v":631264425.68000007},{"$f":"'AFR18'!B1725","v":251270218},379994207.68000007,{"$f":"'AFR18'!B1757","v":601341332.55578566},350071114.55578566]
["Municipal Retirement/Social Security",{"$f":"'AFR18'!B1694","v":274125679.84000003},{"$f":"'AFR18'!B1726","v":106818904.91000001},167306774.93000001,{"$f":"'AFR18'!B1758","v":272397352.91204202},165578448.002042]
["Capital Improvements",{"$f":"'AFR18'!B1697","v":9526435},{"$f":"'AFR18'!B1729","v":7567479},1958956,{"$f":"'AFR18'!B1761","v":9059419},1491940]
["Working Cash",{"$f":"'AFR18'!B1695","v":68642339.560000002},{"$f":"'AFR18'!B1727","v":22907952.460000001},45734387.100000001,{"$f":"'AFR18'!B1759","v":68597465.493277282},45689513.033277281]
["Tort Immunity",{"$f":"'AFR18'!B1698","v":336083725.00999999},{"$f":"'AFR18'!B1730","v":109440294.95999999},226643430.05000001,{"$f":"'AFR18'!B1762","v":334827160.96277601},225386866.00277603]
["Fire Prevention & Safety",{"$f":"'AFR18'!B1699","v":54790902.559999995},{"$f":"'AFR18'!B1731","v":17175925.550000001},37614977.00999999,{"$f":"'AFR18'!B1763","v":55378013.137277298},38202087.587277293]
["Leasing Levy",{"$f":"'AFR18'!B3671","v":36774589.710000001},{"$f":"'AFR18'!B3673","v":7880801},28893788.710000001,{"$f":"'AFR18'!B3675","v":35671483.593277298},27790682.593277298]
["Special Education",{"$f":"'AFR18'!B1700","v":489420499.32999998},{"$f":"'AFR18'!B1732","v":235526515.68000004},253893983.64999995,{"$f":"'AFR18'!B1764","v":497264366.02719253},261737850.3471925]
["Area Vocational Construction",{"$f":"'AFR18'!B1702","v":0},{"$f":"'AFR18'!B1734","v":0},0,{"$f":"'AFR18'!B1766","v":0},0]
["Social Security/Medicare Only",{"$f":"'AFR18'!B3392","v":303550737.5},{"$f":"'AFR18'!B3394","v":124371955.86999999},179178781.63,{"$f":"'AFR18'!B3396","v":310705586.16533262},186333630.29533261]
["Summer School",{"$f":"'AFR18'!B4048","v":202},{"$f":"'AFR18'!B4052","v":0},202,{"$f":"'AFR18'!B4056","v":0},0]
["Other (Describe & Itemize)",{"$f":"'AFR18'!B4049","v":425521815},{"$f":"'AFR18'!B4053","v":406212299},19309516,{"$f":"'AFR18'!B4057","v":414100381.16000003},7888082.1600000262]
["No Address",{"$f":"'AFR18'!B1705","v":17684865459.939999},{"$f":"'AFR18'!B1737","v":9410093144.4899998},8274772315.4499989,{"$f":"'AFR18'!B1769","v":17968765928.535511},8558672784.0455112]
[]
["*   The formulas in column B are unprotected to be overidden when reporting on a ACCRUAL basis."]
["**  All tax receipts for debt service payments on bonds must be recorded on line 6 (Debt Services)."]

{"sheet":"Short-Term Long-Term Debt 25","index":8,"n_rows":58,"n_cols":10,"rows_kept":58,"cut":false,"hidden":false,"merged":[[51,1,51,3],[0,0,0,1],[2,2,2,5],[4,2,4,5],[15,2,15,5],[15,0,15,1],[1,0,1,1],[3,0,3,1],[4,0,4,1],[14,0,14,1],[2,0,2,1],[51,5,51,6],[52,5,52,6],[53,5,53,6],[16,0,16,1],[17,0,17,1],[18,0,18,1],[21,2,21,5],[23,2,23,5],[19,0,19,1],[20,0,20,1],[21,0,21,1],[22,0,22,1],[28,0,28,1],[23,0,23,1],[24,0,24,1],[25,0,25,1],[26,0,26,1]]}
["SCHEDULE OF SHORT-TERM DEBT"]
["Description",null,"Outstanding        Beginning 7/01/16","Issued 7/01/16 Through 6/30/17","Retired 7/01/16 Through 6/30/17","Outstanding          Ending 6/30/17"]
["CORPORATE PERSONAL PROPERTY REPLACEMENT TAX ANTICIPATION NOTES (CPPRT)"]
["Total CPPRT Notes",null,{"$f":"'AFR18'!B2673","v":0},{"$f":"'AFR18'!B2675","v":0},{"$f":"'AFR18'!B2677","v":0},{"$f":"'AFR18'!B2679","v":0}]
["TAX ANTICIPATION WARRANTS (TAW)"]
["Educational Fund",null,{"$f":"'AFR18'!B1771","v":16924218},{"$f":"'AFR18'!B1785","v":80200000},{"$f":"'AFR18'!B1799","v":87024218},{"$f":"C6+D6-E6","v":10100000}]
["Operations & Maintenance Fund",null,{"$f":"'AFR18'!B1772","v":4000000},{"$f":"'AFR18'!B1786","v":200350},{"$f":"'AFR18'!B1800","v":4100000},{"$f":"C7+D7-E7","v":100350}]
["Debt Services - Construction",null,{"$f":"'AFR18'!B1775","v":0},{"$f":"'AFR18'!B1789","v":0},{"$f":"'AFR18'!B1803","v":0},{"$f":"C8+D8-E8","v":0}]
["Debt Services - Working Cash",null,{"$f":"'AFR18'!B1776","v":0},{"$f":"'AFR18'!B1790","v":0},{"$f":"'AFR18'!B1804","v":0},0]
["Debt Services - Refunding Bonds",null,{"$f":"'AFR18'!B1777","v":0},{"$f":"'AFR18'!B1791","v":0},{"$f":"'AFR18'!B1805","v":0},0]
["Transportation Fund",null,{"$f":"'AFR18'!B1774","v":1000000},{"$f":"'AFR18'!B1788","v":1000000},{"$f":"'AFR18'!B1802","v":1000000},1000000]
["Municipal Retirement/Social Security Fund",null,{"$f":"'AFR18'!B1773","v":0},{"$f":"'AFR18'!B1787","v":0},{"$f":"'AFR18'!B1801","v":0},0]
["Fire Prevention & Safety Fund",null,{"$f":"'AFR18'!B3628","v":0},{"$f":"'AFR18'!B3630","v":0},{"$f":"'AFR18'!B3632","v":0},0]
["Other - (Describe & Itemize)",null,{"$f":"'AFR18'!B1778","v":0},{"$f":"'AFR18'!B1792","v":0},{"$f":"'AFR18'!B1806","v":0},0]
["Total TAWs",null,{"$f":"SUM(C6:C14)","v":21924218},{"$f":"SUM(D6:D14)","v":81400350},{"$f":"SUM(E6:E14)","v":92124218},{"$f":"C15+D15-E15","v":11200350}]
["TAX ANTICIPATION NOTES (TAN)"]
["Educational Fund",null,{"$f":"'AFR18'!B1780","v":958017900},{"$f":"'AFR18'!B1794","v":1206439050},{"$f":"'AFR18'!B1808","v":1558106900},{"$f":"C17+D17-E17","v":606350050}]
["Operations & Maintenance Fund",null,{"$f":"'AFR18'!B1781","v":50000},{"$f":"'AFR18'!B1795","v":80000},{"$f":"'AFR18'!B1809","v":50000},80000]
["Fire Prevention & Safety Fund",null,{"$f":"'AFR18'!B3629","v":0},{"$f":"'AFR18'!B3631","v":0},{"$f":"'AFR18'!B3633","v":0},0]
["Other - (Describe & Itemize)",null,{"$f":"'AFR18'!B1782","v":0},{"$f":"'AFR18'!B1796","v":0},{"$f":"'AFR18'!B1810","v":0},0]
["Total TANs",null,{"$f":"SUM(C17:C20)","v":958067900},{"$f":"SUM(D17:D20)","v":1206519050},{"$f":"SUM(E17:E20)","v":1558156900},606430050]
["TEACHERS'/EMPLOYEES' ORDERS (T/EO)"]
["Total T/EOs (Educational, Operations & Maintenance, & Transportation Funds)",null,{"$f":"'AFR18'!B1784","v":0},{"$f":"'AFR18'!B1798","v":0},{"$f":"'AFR18'!B1812","v":0},0]
["GENERAL STATE-AID ANTICIPATION CERTIFICATES (GSAAC)"]
["Total GSAACs (All Funds)",null,{"$f":"'AFR18'!B2674","v":0},{"$f":"'AFR18'!B2676","v":0},{"$f":"'AFR18'!B2678","v":0},0]
["OTHER SHORT-TERM BORROWING"]
["Total Other Short-Term Borrowing (Describe & Itemize)",null,{"$f":"'AFR18'!B6022","v":396099891},{"$f":"'AFR18'!B6023","v":6074500},{"$f":"'AFR18'!B6024","v":394497187},7677204]
[]
["SCHEDULE OF LONG-TERM DEBT"]
["Identification or Name of Issue","Date of Issue (mm/dd/yy)","Amount of Original Issue","Type of Issue *","Bonds Outstanding 7/1/16","Bonds Issued 7/01/16 thru 6/30/17","All Differences With page 8, line 25","Bonds Retired 7/1/16 thru 6/30/17","Bonds Outstanding 6/30/17","Amount to be Provided for Retirement of Bonds"]
[null,null,null,null,null,null,null,null,{"$f":"SUM(E31:G31)-H31","v":0}]
[null,null,null,null,null,null,null,null,{"$f":"SUM(E32:G32)-H32","v":0}]
[null,null,null,null,null,null,null,null,0]
[null,null,null,null,null,null,null,null,0]
[null,null,null,null,null,null,null,null,0]
[null,null,null,null,null,null,null,null,0]
[null,null,null,null,null,null,null,null,0]
[null,null,null,null,null,null,null,null,0,""]
[null,null,null,null,null,null,null,null,0]
[null,null,null,null,null,null,null,null,0]
[null,null,null,null,null,null,null,null,0]
[null,null,null,null,null,null,null,null,0]
[null,null,null,null,null,null,null,null,0]
[null,null,null,null,null,null,null,null,0]
[null,null,null,null,null,null,null,null,0]
[null,null,null,null,null,null,null,null,0]
[null," ",null,null,null,null,null,null,0]
[null,null,null,null,null,null,null,null,0]
[null,null,{"$f":"SUM(C31:C48)","v":0},null,{"$f":"'AFR18'!B1885","v":21070770001},{"$f":"'AFR18'!B1886","v":4112600847},{"$f":"'AFR18'!B4123","v":-266249427},{"$f":"'AFR18'!B4119","v":3266853127},21650268294,{"$f":"'AFR18'!B4118","v":20000574898}]
[]
["*   Each type of bond issue must be identified separately with the amount:"]
["1.  Working Cash Fund Bonds","4.  Fire Prevent, Safety, Environmental and Energy Bonds",null,null,"7.  Other "]
["2.  Funding Bonds","5.  Tort Judgment Bonds",null,null,"  8.  Other "]
["3.  Refunding Bonds","6.  Building Bonds",null,null,"9.  Other "]
[]
["**  This total must agree with Page 24, Line 8, 6/30/17 Annual Financial Report for all Local Education Agencies according to 23 Illinois Administrative Code - Part 100"]
["     If more than one type of an individual bond issue, indicate percent of original issue that relates to each type."]
["***  This total must equal the amount on Page 6, Line 22.  "]

{"sheet":"Rest Tax Levies-Tort Im 26","index":9,"n_rows":48,"n_cols":11,"rows_kept":48,"cut":false,"hidden":false,"merged":[[40,0,40,5],[17,0,17,4],[14,0,14,4],[15,0,15,4],[13,0,13,4],[18,0,18,4],[19,0,19,4],[21,0,21,4],[30,7,32,10],[10,0,10,4],[12,0,12,4],[0,0,0,6],[1,0,1,4],[2,0,2,4],[3,0,3,4],[4,0,4,4],[9,0,9,4]]}
["SCHEDULE OF RESTRICTED LOCAL TAX LEVIES AND SELECTED REVENUE SOURCES"]
["Description",null,null,null,null,"Account No","Tort Immunity a","Special Education","Area Vocational Construction","School Facility Occupation               Taxes b","Driver Education"]
["Cash Basis Fund Balance as of July 1, 2016",null,null,null,null,null,{"$f":"'AFR18'!B1894","v":892197},{"$f":"'AFR18'!B1917","v":2437794},{"$f":"'AFR18'!B1930","v":0},{"$f":"'AFR18'!B7654","v":51885609},{"$f":"'AFR18'!B7655","v":3517061}]
["RECEIPTS:"]
["Ad Valorem Taxes Received by District",null,null,null,null,"10, 20, 40 or 50-1100",null,{"$f":"'AFR18'!B1918","v":465361192.52999997},{"$f":"'AFR18'!B1931","v":0}]
["Earnings on Investments",null,null,null,null,"10, 20, 40, 50 or 60-1500",{"$f":"'AFR18'!B1896","v":158},{"$f":"'AFR18'!B1919","v":5223386.0999999996},{"$f":"'AFR18'!B1932","v":0},{"$f":"'AFR18'!B7656","v":2663537.23},{"$f":"'AFR18'!B7657","v":97435.09}]
["Drivers' Education Fees",null,null,null,null,"10-1970",null,null,null,null,{"$f":"'AFR18'!B7658","v":7328379.46}]
["School Facility Occupation Tax Proceeds",null,null,null,null,"30 or 60-1983",null,null,null,{"$f":"'AFR18'!B7659","v":92268617.579999998}]
["Driver Education",null,null,null,null,"10 or 20-3370",null,null,null,null,{"$f":"'AFR18'!B7660","v":16513131.93}]
["Other Receipts (Describe & Itemize on tab \"Itemization 32\")",null,null,null,null,"--",null,{"$f":"'AFR18'!B1920","v":2509732},{"$f":"'AFR18'!B1934","v":0},{"$f":"'AFR18'!B7661","v":3103613},{"$f":"'AFR18'!B7662","v":419190}]
["Sale of Bonds",null,null,null,null,"10, 20, 40 or 60-7200",null,{"$f":"'AFR18'!B2053","v":0},{"$f":"'AFR18'!B1933","v":0},{"$f":"'AFR18'!B7663","v":14575787}]
["Total Receipts",null,null,null,null,null,{"$f":"SUM(G5:G11)","v":158},{"$f":"SUM(H5:H11)","v":473094310.63},{"$f":"SUM(I5:I11)","v":0},{"$f":"SUM(J5:J11)","v":112611554.81},{"$f":"SUM(K5:K11)","v":24358136.48}]
["DISBURSEMENTS:"]
["Instruction",null,null,null,null,"10 or 50-1000",null,{"$f":"'AFR18'!B7666","v":453902063.52999997},null,null,{"$f":"'AFR18'!B7667","v":21033894.91}]
["Facilities Acquisition & Construction Services",null,null,null,null,"20 or 60-2530",null,{"$f":"'AFR18'!B1925","v":1902417},{"$f":"'AFR18'!B1938","v":0},{"$f":"'AFR18'!B7668","v":51379545.140000001},{"$f":"'AFR18'!B7669","v":114416}]
["Tort Immunity Services",null,null,null,null,"10, 20, 40-2360-2370",{"$f":"'AFR18'!B1901","v":99977}]
["DEBT SERVICE"]
["Debt Services - Interest on Long-Term Debt",null,null,null,null,"30-5200",null,null,null,{"$f":"'AFR18'!B7670","v":17078070.77}]
["Debt Services - Payments of Principal on Long-Term Debt                                             (Lease/Purchase Principal Retired)",null,null,null,null,"30-5300",null,null,null,{"$f":"'AFR18'!B7671","v":24612084}]
["Debt Services Other  (Describe & Itemize on tab \"Itemization 32\")",null,null,null,null,"30-5400",null,null,null,{"$f":"'AFR18'!B7672","v":24085}]
["Total Debt Services",null,null,null,null,null,null,null,null,{"$f":"SUM(J18:J20)","v":41714239.769999996}]
["Other Disbursements (Describe & Itemize on tab \"Itemization 32\")",null,null,null,null,"--",null,{"$f":"'AFR18'!B1926","v":14237679},{"$f":"'AFR18'!B1939","v":0},{"$f":"'AFR18'!B7719","v":1220276},{"$f":"'AFR18'!B7675","v":431118}]
["Total Disbursements",null,null,null,null,null,{"$f":"SUM(G14:G22)","v":99977},{"$f":"SUM(H14:H22)","v":470042159.52999997},{"$f":"SUM(I14:I22)","v":0},{"$f":"SUM(J15,J21,J22)","v":94314060.909999996},{"$f":"SUM(K14:K22)","v":21579428.91}]
["Ending Cash Basis Fund Balance as of June 30, 2017",null,null,null,null,null,{"$f":"SUM(G3+G12)-G23","v":792378},{"$f":"(H3+H12)-H23","v":5489945.1000000238},{"$f":"(I3+I12)-I23","v":0},{"$f":"(J3+J12)-J23","v":70183102.900000006},{"$f":"(K3+K12)-K23","v":6295768.5700000003}]
["Reserved Fund Balance",null,null,null,null,714,{"$f":"'AFR18'!B7680","v":331748},{"$f":"'AFR18'!B7681","v":360408},{"$f":"'AFR18'!B7682","v":0},{"$f":"'AFR18'!B7683","v":27022763},{"$f":"'AFR18'!B7684","v":252151}]
["Unreserved Fund Balance",null,null,null,null,730,{"$f":"G24-G25","v":460630},{"$f":"H24-H25","v":5129537.1000000238},{"$f":"I24-I25","v":0},{"$f":"J24-J25","v":43160339.900000006},{"$f":"K24-K25","v":6043617.5700000003}]
[]
["SCHEDULE OF TORT IMMUNITY EXPENDITURES a"]
[]
["Yes",null,"No",null,"Has the entity established an insurance reserve pursuant to 745 ILCS 10/9-103?"]
[null,null,null,null,"If yes, list in the aggregate the following:","Total Claims Payments:",{"$f":"'AFR18'!B4244","v":2321860}]
[null,null,null,null,null,"Total Reserve Remaining:",{"$f":"'AFR18'!B4245","v":0}]
["  Using the following categories, list all other Tort Immunity expenditures not "]
["  included in line 30 above.  Include the total dollar amount for each category."]
["Expenditures:"]
["Workers' Compensation Act and/or Workers' Occupational Disease Act",null,null,null,null,null,{"$f":"'AFR18'!B4246","v":1742547}]
["Unemployment Insurance Act",null,null,null,null,null,{"$f":"'AFR18'!B4247","v":154636}]
["Insurance (Regular or Self-Insurance)",null,null,null,null,null,{"$f":"'AFR18'!B4248","v":1785941}]
["Risk Management and Claims Service",null,null,null,null,null,{"$f":"'AFR18'!B4249","v":489371}]
["Judgments/Settlements",null,null,null,null,null,{"$f":"'AFR18'!B4250","v":30000}]
["Educational, Inspectional, Supervisory Services Related to Loss Prevention and/or Reduction",null,null,null,null,null,{"$f":"'AFR18'!B4251","v":392633}]
["Reciprocal Insurance Payments (Insurance Code 72, 76, and 81)",null,null,null,null,null,{"$f":"'AFR18'!B4252","v":0}]
["Legal Services",null,null,null,null,null,{"$f":"'AFR18'!B4253","v":144854}]
["Principal and Interest on Tort Bonds",null,null,null,null,null,{"$f":"'AFR18'!B4254","v":0}]
[]
["a   ","Schedules for Tort Immunity are to be completed only if expenditures have been reported in any fund other than the Tort Immunity Fund (80) during FY10 as a result of existing (restricted) fund balances"]
[null,"in those other funds that are being spent down.  Cell G6 above should include interest earnings only from these restricted tort immunity monies and only if reported in a fund other than Tort Immunity Fund (80)."]
["b  ","55 ILCS 5/5-1006.7"]

{"sheet":"Cap Outlay Deprec 27","index":10,"n_rows":24,"n_cols":12,"rows_kept":24,"cut":false,"hidden":false,"merged":[[0,9,0,11]]}
["Schedule of Capital Outlay and Depreciation",null,null,"* Statistical Information (This schedule must be completed)"]
["Description of Assets","Acct #","Beginning Cost             7/01/16","Additions:  July 1, 2016 through June 30, 2017","Deletions 7/01/16 through 6/30/2017","Ending Cost        6/30/17","Life In Years"," Beginning  Accumulated       Depreciation               7/01/16","Additions: Depreciation Allowable 7/01/2016 through 06/30/2017       ","Deletions:  Depreciation Deletions 7/01/2016 through 6/30/2017","Accumulated Depreciation               6-30-17","Ending Balance Undepreciated           6-30-17"]
["Works of Art & Historical Treasures",210,{"$f":"'AFR18'!B6360","v":1414796},{"$f":"'AFR18'!B6361","v":0},{"$f":"'AFR18'!B7536","v":0},{"$f":"C3+D3-E3","v":1414796},null,{"$f":"'AFR18'!B7538","v":2380},{"$f":"'AFR18'!B7539","v":1190},{"$f":"'AFR18'!B7540","v":0},{"$f":"H3+I3-J3","v":3570},{"$f":"F3-K3","v":1411226}]
["Land",220]
["Non-Depreciable Land",221,{"$f":"'AFR18'!B1954","v":1268868459.05},{"$f":"'AFR18'!B1960","v":15644953},{"$f":"'AFR18'!B1966","v":826989},{"$f":"C5+D5-E5","v":1283686423.05},null,null,null,null,null,{"$f":"F5-K5","v":1283686423.05}]
["Depreciable Land",222,{"$f":"'AFR18'!B7543","v":28925765},{"$f":"'AFR18'!B7544","v":289617},{"$f":"'AFR18'!B7545","v":11295},{"$f":"C6+D6-E6","v":29204087},50,{"$f":"'AFR18'!B7547","v":9374779},{"$f":"'AFR18'!B7548","v":545442},{"$f":"'AFR18'!B7549","v":11295},{"$f":"H6+I6-J6","v":9908926},{"$f":"F6-K6","v":19295161}]
["Buildings",230]
["Permanent Buildings",231,{"$f":"'AFR18'!B1955","v":40453047292.32},{"$f":"'AFR18'!B1961","v":1440700500.3599999},{"$f":"'AFR18'!B1967","v":152934606},{"$f":"C8+D8-E8","v":41740813186.68},50,{"$f":"'AFR18'!B1979","v":15559917756.540001},{"$f":"'AFR18'!B1985","v":967276288.87},{"$f":"'AFR18'!B1991","v":63008512},{"$f":"H8+I8-J8","v":16464185533.410002},{"$f":"F8-K8","v":25276627653.269997}]
["Temporary Buildings",232,{"$f":"'AFR18'!B7552","v":154248989.25999999},{"$f":"'AFR18'!B7553","v":2441057.44},{"$f":"'AFR18'!B7554","v":0},{"$f":"C9+D9-E9","v":156690046.69999999},25,{"$f":"'AFR18'!B7556","v":54060313.890000001},{"$f":"'AFR18'!B7557","v":4377901.55},{"$f":"'AFR18'!B7558","v":0},{"$f":"H9+I9-J9","v":58438215.439999998},{"$f":"F9-K9","v":98251831.25999999}]
["Improvements Other than Buildings (Infrastructure)",240,{"$f":"'AFR18'!B1956","v":2168632932.3800001},{"$f":"'AFR18'!B1962","v":154970773.47000003},{"$f":"'AFR18'!B1968","v":3885967},{"$f":"C10+D10-E10","v":2319717738.8500004},20,{"$f":"'AFR18'!B1980","v":1008789449.1700001},{"$f":"'AFR18'!B1986","v":96805076.730000004},{"$f":"'AFR18'!B1992","v":3904355},{"$f":"H10+I10-J10","v":1101690170.9000001},{"$f":"F10-K10","v":1218027567.9500003}]
["Capitalized Equipment",250]
["10 Yr Schedule",251,{"$f":"'AFR18'!B1957","v":3252357949.3200002},{"$f":"'AFR18'!B1963","v":204169065.22},{"$f":"'AFR18'!B1969","v":89832747},{"$f":"C12+D12-E12","v":3366694267.54},10,{"$f":"'AFR18'!B1981","v":2519478594.6199999},{"$f":"'AFR18'!B1987","v":182802621.44999999},{"$f":"'AFR18'!B1993","v":71357899},{"$f":"H12+I12-J12","v":2630923317.0699997},{"$f":"F12-K12","v":735770950.47000027}]
["5 Yr Schedule",252,{"$f":"'AFR18'!B1958","v":981688584.38999999},{"$f":"'AFR18'!B1964","v":77113951},{"$f":"'AFR18'!B1970","v":100908480},{"$f":"C13+D13-E13","v":957894055.38999999},"    5 **",{"$f":"'AFR18'!B1982","v":761872319.19000006},{"$f":"'AFR18'!B1988","v":65321270.350000001},{"$f":"'AFR18'!B1994","v":95916570},{"$f":"H13+I13-J13","v":731277019.54000008},{"$f":"F13-K13","v":226617035.8499999}]
["3 Yr Schedule",253,{"$f":"'AFR18'!B7561","v":46414943.93},{"$f":"'AFR18'!B7562","v":5376737.6899999995},{"$f":"'AFR18'!B7563","v":1307469},{"$f":"C14+D14-E14","v":50484212.619999997},3,{"$f":"'AFR18'!B7565","v":40291842.950000003},{"$f":"'AFR18'!B7566","v":3850567},{"$f":"'AFR18'!B7567","v":1574931},{"$f":"H14+I14-J14","v":42567478.950000003},{"$f":"F14-K14","v":7916733.6699999943}]
["Construction in Progress",260,{"$f":"'AFR18'!B3397","v":953569586},{"$f":"'AFR18'!B3398","v":1082582720.8200002},{"$f":"'AFR18'!B3399","v":978241833},{"$f":"C15+D15-E15","v":1057910473.8200002},"--",null,null,null,null,{"$f":"F15-K15","v":1057910473.8200002}]
["Total Capital Assets",200,{"$f":"SUM(C3:C15)","v":49309169297.650002},{"$f":"SUM(D3:D15)","v":2983289376},{"$f":"SUM(E3:E15)","v":1327949386},{"$f":"SUM(F3:F15)","v":50964509287.650002},null,{"$f":"SUM(H3:H15)","v":19953787435.360001},{"$f":"SUM(I3:I15)","v":1320980357.9499998},{"$f":"SUM(J3:J15)","v":235773562},{"$f":"H16+I16-J16","v":21038994231.310001},{"$f":"F16-K16","v":29925515056.34}]
["Non-Capitalized Equipment",700,null,null,null,{"$f":"'AFR18'!B7570","v":135994484},10,null,{"$f":"'AFR18'!B7571","v":13599448.399999995}]
["Total Capital & Non-Capital Assets",null,{"$f":"SUM(C16:C17)","v":49309169297.650002},{"$f":"SUM(D16:D17)","v":2983289376},{"$f":"SUM(E16:E17)","v":1327949386},{"$f":"SUM(F16:F17)","v":51100503771.650002},null,{"$f":"SUM(H16:H17)","v":19953787435.360001},{"$f":"SUM(I16:I17)","v":1334579806.3499999},{"$f":"SUM(J16:J17)","v":235773562},{"$f":"SUM(K16:K17)","v":21038994231.310001},{"$f":"SUM(L16:L17)","v":29925515056.34}]
[]
["*","Valuation of Transpsortation Equipment must be shown at historical cost.  Valuation of other equipment, buildings, and land improvement"]
[null,"should be shown on a Historical Cost Basis or an acceptable approximation of cost.  Columns C & H must agree with Columns F & K, "]
[null,"2016-2017 Annual Financial Report."]
["**","Some items costing $500 or more may be depreciated over a life of approximately three years.  For additional information"]
[null,"regarding those items, refer to current instructions for completing pupil transportation reimbursements forms."]

{"sheet":"PCTC-OEPP 28-29","index":11,"n_rows":184,"n_cols":7,"rows_kept":184,"cut":false,"hidden":false,"merged":[[0,0,0,5],[1,0,1,5],[4,0,4,5],[5,0,5,5],[79,0,79,5]]}
["ESTIMATED OPERATING EXPENSE PER PUPIL (OEPP)/PER CAPITA TUITION CHARGE (PCTC) COMPUTATIONS (2016-17)"]
["This schedule is completed for school districts only."]
[]
["Fund","Sheet, Row",null,"ACCOUNT NO - TITLE",null,"Amount"]
[]
["OPERATING EXPENSE PER PUPIL"]
["EXPENDITURES:"]
["ED","Expenditures 15-22, L114",null,"Total Expenditures","$",{"$f":"'Expenditures 15-22'!K114","v":21612703846.570004}]
["O&M","Expenditures 15-22, L150",null,"Total Expenditures",null,{"$f":"'Expenditures 15-22'!K151","v":2185589127.9099998}]
["DS","Expenditures 15-22, L168",null,"Total Expenditures",null,{"$f":"'Expenditures 15-22'!K174","v":2999127761}]
["TR","Expenditures 15-22, L204",null,"Total Expenditures",null,{"$f":"'Expenditures 15-22'!K210","v":1199210881.1999998}]
["MR/SS","Expenditures 15-22, L288",null,"Total Expenditures",null,{"$f":"'Expenditures 15-22'!K295","v":625629915.9000001}]
["TORT","Expenditures 15-22, L331",null,"Total Expenditures",null,{"$f":"'Expenditures 15-22'!K342","v":366851717.16999996}]
[null,null,null,"Total Expenditures","$",{"$f":"SUM(F8:F13)","v":28989113249.750004}]
[]
["LESS RECEIPTS/REVENUES OR DISBURSEMENTS/EXPENDITURES NOT APPLICABLE TO THE REGULAR K-12 PROGRAM:"]
[]
["TR","Revenues 9-14, L43, Col F",{"$f":"'Revenues 9-14'!B43","v":1412},{"$f":"'Revenues 9-14'!A43","v":"Regular - Transp Fees from Other Districts (In State)"},"$",{"$f":"'Revenues 9-14'!F43","v":14908598}]
["TR","Revenues 9-14, L47, Col F",{"$f":"'Revenues 9-14'!B47","v":1421},{"$f":"'Revenues 9-14'!A47","v":"Summer Sch - Transp. Fees from Pupils or Parents (In State)"},null,{"$f":"'Revenues 9-14'!F47","v":259775}]
["TR","Revenues 9-14, L48, Col F",{"$f":"'Revenues 9-14'!B48","v":1422},{"$f":"'Revenues 9-14'!A48","v":"Summer Sch - Transp. Fees from Other Districts (In State)"},null,{"$f":"'Revenues 9-14'!F48","v":59325}]
["TR","Revenues 9-14, L49, Col F",{"$f":"'Revenues 9-14'!B49","v":1423},{"$f":"'Revenues 9-14'!A49","v":"Summer Sch - Transp. Fees from Other Sources (In State)"},null,{"$f":"'Revenues 9-14'!F49","v":8000}]
["TR","Revenues 9-14, L50 Col F",{"$f":"'Revenues 9-14'!B50","v":1424},{"$f":"'Revenues 9-14'!A50","v":"Summer Sch - Transp. Fees from Other Sources (Out of State)"},null,{"$f":"'Revenues 9-14'!F50","v":0}]
["TR","Revenues 9-14, L52, Col F",{"$f":"'Revenues 9-14'!B52","v":1432},{"$f":"'Revenues 9-14'!A52","v":"CTE - Transp Fees from Other Districts (In State)"},null,{"$f":"'Revenues 9-14'!F52","v":16511}]
["TR","Revenues 9-14, L56, Col F",{"$f":"'Revenues 9-14'!B56","v":1442},{"$f":"'Revenues 9-14'!A56","v":"Special Ed - Transp Fees from Other Districts (In State)"},null,{"$f":"'Revenues 9-14'!F56","v":4217175}]
["TR","Revenues 9-14, L59, Col F",{"$f":"'Revenues 9-14'!B59","v":1451},{"$f":"'Revenues 9-14'!A59","v":"Adult - Transp Fees from Pupils or Parents (In State)"},null,{"$f":"'Revenues 9-14'!F59","v":0}]
["TR","Revenues 9-14, L60, Col F ",{"$f":"'Revenues 9-14'!B60","v":1452},{"$f":"'Revenues 9-14'!A60","v":"Adult - Transp Fees from Other Districts (In State)"},null,{"$f":"'Revenues 9-14'!F60","v":0}]
["TR","Revenues 9-14, L61, Col F",{"$f":"'Revenues 9-14'!B61","v":1453},{"$f":"'Revenues 9-14'!A61","v":"Adult - Transp Fees from Other Sources (In State)"},null,{"$f":"'Revenues 9-14'!F61","v":15171}]
["TR","Revenues 9-14, L62, Col F",{"$f":"'Revenues 9-14'!B62","v":1454},{"$f":"'Revenues 9-14'!A62","v":"Adult - Transp Fees from Other Sources (Out of State)"},null,{"$f":"'Revenues 9-14'!F62","v":0}]
["O&M","Revenues 9-14, L148, Col D",{"$f":"'Revenues 9-14'!B148","v":3410},{"$f":"'Revenues 9-14'!A148","v":"Adult Ed (from ICCB)"},null,{"$f":"'Revenues 9-14'!D148","v":0}]
["O&M-TR","Revenues 9-14, L149, Col D & F",{"$f":"'Revenues 9-14'!B149","v":3499},{"$f":"'Revenues 9-14'!A149","v":"Adult Ed - Other (Describe & Itemize)"},null,{"$f":"SUM('Revenues 9-14'!D149,'Revenues 9-14'!F149)","v":0}]
["O&M-TR","Revenues 9-14, L218, Col D,F",{"$f":"'Revenues 9-14'!B218","v":4600},{"$f":"'Revenues 9-14'!A218","v":"Fed - Spec Education - Preschool Flow-Through"},null,{"$f":"SUM('Revenues 9-14'!D218,'Revenues 9-14'!F218)","v":0}]
["O&M-TR","Revenues 9-14, L219, Col D,F",{"$f":"'Revenues 9-14'!B219","v":4605},{"$f":"'Revenues 9-14'!A219","v":"Fed - Spec Education - Preschool Discretionary"},null,{"$f":"SUM('Revenues 9-14'!D219,'Revenues 9-14'!F219)","v":0}]
["O&M","Revenues 9-14, L229, Col D",{"$f":"'Revenues 9-14'!B229","v":4810},{"$f":"'Revenues 9-14'!A229","v":"Federal - Adult Education"},null,{"$f":"'Revenues 9-14'!D229","v":0}]
["ED","Expenditures 15-22, L7, Col K - (G+I)",{"$f":"'Expenditures 15-22'!B7","v":"1125"},{"$f":"'Expenditures 15-22'!A7","v":"Pre-K Programs"},null,{"$f":"'Expenditures 15-22'!K7-SUM('Expenditures 15-22'!G7,'Expenditures 15-22'!I7)","v":258511479.94}]
["ED","Expenditures 15-22, L9, Col K - (G+I)",{"$f":"'Expenditures 15-22'!B9","v":"1225"},{"$f":"'Expenditures 15-22'!A9","v":"Special Education Programs Pre-K"},null,{"$f":"'Expenditures 15-22'!K9-SUM('Expenditures 15-22'!G9,'Expenditures 15-22'!I9)","v":103406426.36999999}]
["ED","Expenditures 15-22, L11, Col K - (G+I)",{"$f":"'Expenditures 15-22'!B11","v":"1275"},{"$f":"'Expenditures 15-22'!A11","v":"Remedial and Support Programs Pre-K"},null,{"$f":"'Expenditures 15-22'!K11-SUM('Expenditures 15-22'!G11,'Expenditures 15-22'!I11)","v":13566826}]
["ED","Expenditures 15-22, L12, Col K - (G+I)",{"$f":"'Expenditures 15-22'!B12","v":1300},{"$f":"'Expenditures 15-22'!A12","v":"Adult/Continuing Education Programs"},null,{"$f":"'Expenditures 15-22'!K12-SUM('Expenditures 15-22'!G12,'Expenditures 15-22'!I12)","v":11622147}]
["ED","Expenditures 15-22, L15, Col K - (G+I)",{"$f":"'Expenditures 15-22'!B15","v":1600},{"$f":"'Expenditures 15-22'!A15","v":"Summer School Programs"},null,{"$f":"'Expenditures 15-22'!K15-SUM('Expenditures 15-22'!G15,'Expenditures 15-22'!I15)","v":54856469.770000003}]
["ED","Expenditures 15-22, L20, Col K",{"$f":"'Expenditures 15-22'!B20","v":"1910"},{"$f":"'Expenditures 15-22'!A20","v":"Rentals"},null,{"$f":"'Expenditures 15-22'!K20","v":5189}]
["ED","Expenditures 15-22, L21, Col K",{"$f":"'Expenditures 15-22'!B21","v":"1911"},{"$f":"'Expenditures 15-22'!A21","v":"Regular K-12 Programs - Private Tuition"},null,{"$f":"'Expenditures 15-22'!K21","v":9363481}]
["ED","Expenditures 15-22, L22, Col K",{"$f":"'Expenditures 15-22'!B22","v":"1912"},{"$f":"'Expenditures 15-22'!A22","v":"Special Education Programs K-12 - Private Tuition"},null,{"$f":"'Expenditures 15-22'!K22","v":285187645}]
["ED","Expenditures 15-22, L23, Col K",{"$f":"'Expenditures 15-22'!B23","v":"1913"},{"$f":"'Expenditures 15-22'!A23","v":"Special Education Programs Pre-K - Tuition"},null,{"$f":"'Expenditures 15-22'!K23","v":1743072}]
["ED","Expenditures 15-22, L24, Col K",{"$f":"'Expenditures 15-22'!B24","v":"1914"},{"$f":"'Expenditures 15-22'!A24","v":"Remedial/Supplemental Programs K-12 - Private Tuition"},null,{"$f":"'Expenditures 15-22'!K24","v":255270}]
["ED","Expenditures 15-22, L25, Col K",{"$f":"'Expenditures 15-22'!B25","v":"1915"},{"$f":"'Expenditures 15-22'!A25","v":"Remedial/Supplemental Programs Pre-K - Private Tuition"},null,{"$f":"'Expenditures 15-22'!K25","v":0}]
["ED","Expenditures 15-22, L26, Col K",{"$f":"'Expenditures 15-22'!B26","v":"1916"},{"$f":"'Expenditures 15-22'!A26","v":"Adult/Continuing Education Programs - Private Tuition"},null,{"$f":"'Expenditures 15-22'!K26","v":37515}]
["ED","Expenditures 15-22, L27, Col K",{"$f":"'Expenditures 15-22'!B27","v":"1917"},{"$f":"'Expenditures 15-22'!A27","v":"CTE Programs - Private Tuition"},null,{"$f":"'Expenditures 15-22'!K27","v":1474533}]
["ED","Expenditures 15-22, L28, Col K",{"$f":"'Expenditures 15-22'!B28","v":"1918"},{"$f":"'Expenditures 15-22'!A28","v":"Interscholastic Programs - Private Tuition"},null,{"$f":"'Expenditures 15-22'!K28","v":0}]
["ED","Expenditures 15-22, L29, Col K",{"$f":"'Expenditures 15-22'!B29","v":"1919"},{"$f":"'Expenditures 15-22'!A29","v":"Summer School Programs - Private Tuition"},null,{"$f":"'Expenditures 15-22'!K29","v":978527}]
["ED","Expenditures 15-22, L30, Col K",{"$f":"'Expenditures 15-22'!B30","v":"1920"},{"$f":"'Expenditures 15-22'!A30","v":"Gifted Programs - Private Tuition"},null,{"$f":"'Expenditures 15-22'!K30","v":18386}]
["ED","Expenditures 15-22, L31, Col K",{"$f":"'Expenditures 15-22'!B31","v":"1921"},{"$f":"'Expenditures 15-22'!A31","v":"Bilingual Programs - Private Tuition"},null,{"$f":"'Expenditures 15-22'!K31","v":0}]
["ED","Expenditures 15-22, L32, Col K",{"$f":"'Expenditures 15-22'!B32","v":"1922"},{"$f":"'Expenditures 15-22'!A32","v":"Truants Alternative/Optional Ed Programs - Private Tuition"},null,{"$f":"'Expenditures 15-22'!K32","v":1128041}]
["ED","Expenditures 15-22, L75, Col K - (G+I)",{"$f":"'Expenditures 15-22'!B75","v":"3000"},"Community Services",null,{"$f":"'Expenditures 15-22'!K75-('Expenditures 15-22'!G75+'Expenditures 15-22'!I75)","v":154897393}]
["ED","Expenditures 15-22, L102, Col K",{"$f":"'Expenditures 15-22'!B102","v":4000},{"$f":"'Expenditures 15-22'!A102","v":"Total Payments to Other District & Govt Units"},null,{"$f":"'Expenditures 15-22'!K102","v":741197906.94000006}]
["ED","Expenditures 15-22, L114, Col G","-","Capital Outlay",null,{"$f":"'Expenditures 15-22'!G114","v":173421403.45999998}]
["ED","Expenditures 15-22, L114, Col I","-","Non-Capitalized Equipment",null,{"$f":"'Expenditures 15-22'!I114","v":96966192}]
["O&M","Expenditures 15-22, L130, Col K - (G+I)",{"$f":"'Expenditures 15-22'!B130","v":"3000"},"Community Services",null,{"$f":"'Expenditures 15-22'!K130-('Expenditures 15-22'!G130+'Expenditures 15-22'!I130)","v":1829867}]
["O&M","Expenditures 15-22, L138, Col K",{"$f":"'Expenditures 15-22'!B139","v":4000},"Payments to Other Govt Units (In State)",null,{"$f":"'Expenditures 15-22'!K139","v":5672478}]
["O&M","Expenditures 15-22, L150, Col G","-","Capital Outlay",null,{"$f":"'Expenditures 15-22'!G151","v":299119187.60000002}]
["O&M","Expenditures 15-22, L150, Col I","-","Non-Capitalized Equipment",null,{"$f":"'Expenditures 15-22'!I151","v":9906978}]
["DS","Expenditures 15-22, L154, Col K",{"$f":"'Expenditures 15-22'!B155","v":"4000"},"Payments to Other Govt Units (In State)",null,{"$f":"'Expenditures 15-22'!K155","v":0}]
["DS","Expenditures 15-22, L164, Col K",{"$f":"'Expenditures 15-22'!B170","v":"5300"},"Debt Service - Payments of Principal on Long-Term Debt",null,{"$f":"'Expenditures 15-22'!K170","v":1889344526}]
["TR","Expenditures 15-22, L179, Col K - (G+I)",{"$f":"'Expenditures 15-22'!B185","v":3000},"Community Services",null,{"$f":"'Expenditures 15-22'!K185-('Expenditures 15-22'!G185+'Expenditures 15-22'!I185)","v":1465697}]
["TR","Expenditures 15-22, L190, Col K",{"$f":"'Expenditures 15-22'!B196","v":"4000"},"Payments to Other Govt Units (In State)",null,{"$f":"'Expenditures 15-22'!K196","v":15567144}]
["TR","Expenditures 15-22, L200, Col K",{"$f":"'Expenditures 15-22'!B206","v":"5300"},"Debt Service - Payments of Principal on Long-Term Debt",null,{"$f":"'Expenditures 15-22'!K206","v":14776035}]
["TR","Expenditures 15-22, L204, Col G","-","Capital Outlay",null,{"$f":"'Expenditures 15-22'!G210","v":74031959.75}]
["TR","Expenditures 15-22, L204, Col I","-","Non-Capitalized Equipment",null,{"$f":"'Expenditures 15-22'!I210","v":1504327}]
["MR/SS","Expenditures 15-22, L210, Col K",{"$f":"'Expenditures 15-22'!B216","v":"1125"},{"$f":"'Expenditures 15-22'!A216","v":"Pre-K Programs"},null,{"$f":"'Expenditures 15-22'!K216","v":4791616.09}]
["MR/SS","Expenditures 15-22, L212, Col K",{"$f":"'Expenditures 15-22'!B218","v":"1225"},{"$f":"'Expenditures 15-22'!A218","v":"Special Education Programs - Pre-K"},null,{"$f":"'Expenditures 15-22'!K218","v":3627222}]
["MR/SS","Expenditures 15-22, L214, Col K",{"$f":"'Expenditures 15-22'!B220","v":"1275"},{"$f":"'Expenditures 15-22'!A220","v":"Remedial and Supplemental Programs - Pre-K"},null,{"$f":"'Expenditures 15-22'!K220","v":600478}]
["MR/SS","Expenditures 15-22, L215, Col K",{"$f":"'Expenditures 15-22'!B221","v":1300},{"$f":"'Expenditures 15-22'!A221","v":"Adult/Continuing Education Programs"},null,{"$f":"'Expenditures 15-22'!K221","v":705456}]
["MR/SS","Expenditures 15-22, L218, Col K",{"$f":"'Expenditures 15-22'!B224","v":1600},{"$f":"'Expenditures 15-22'!A224","v":"Summer School Programs"},null,{"$f":"'Expenditures 15-22'!K224","v":1893851.9}]
["MR/SS","Expenditures 15-22, L274, Col K",{"$f":"'Expenditures 15-22'!B280","v":3000},"Community Services",null,{"$f":"'Expenditures 15-22'!K280","v":5728822}]
["MR/SS","Expenditures 15-22, L278, Col K",{"$f":"'Expenditures 15-22'!B285","v":"4000"},"Total Payments to Other Govt Units",null,{"$f":"'Expenditures 15-22'!K285","v":2520532}]
["Tort","Expenditures 15-22, L344, Col K",4000,"Total Payments to Other Govt Units",null,{"$f":"'Expenditures 15-22'!K334","v":497836}]
[null,null,null,"Total Deductions for OEPP Computation (Sum of Lines 18 - 74) ","$",{"$f":"SUM(F18:F74)","v":4261706471.8200002}]
[null,null,null,"Total Operating Expenses Regular K-12 (Line 14 minus Line 75)",null,{"$f":"(F14-F75)","v":24727406777.930004}]
[null,null,null,"9 Month ADA",null,1838853.89]
[null,null,null,"Estimated OEPP  (Line 76 divided by Line 77)","$",{"$f":"IF(F77>0,F76/F77,\" Complete Line 78\")","v":13447.184092440322}]
[]
["PER CAPITA TUITION CHARGE"]
[]
[" LESS OFFSETTING RECEIPTS/REVENUES:"]
["TR","Revenues 9-14, L42, Col F",{"$f":"'Revenues 9-14'!B42","v":1411},{"$f":"'Revenues 9-14'!A42","v":"Regular -Transp Fees from Pupils or Parents (In State)"},"$",{"$f":"'Revenues 9-14'!F42","v":6794979}]
["TR","Revenues 9-14, L44, Col F",{"$f":"'Revenues 9-14'!B44","v":1413},{"$f":"'Revenues 9-14'!A44","v":"Regular - Transp Fees from Other Sources (In State)"},null,{"$f":"'Revenues 9-14'!F44","v":990977}]
["TR","Revenues 9-14, L45, Col F",{"$f":"'Revenues 9-14'!B45","v":1415},{"$f":"'Revenues 9-14'!A45","v":"Regular - Transp Fees from Co-curricular Activities (In State)"},null,{"$f":"'Revenues 9-14'!F45","v":5114422}]
["TR","Revenues 9-14, L46, Col F",1416,{"$f":"'Revenues 9-14'!A46","v":"Regular Transp Fees from Other Sources (Out of State)"},null,{"$f":"'Revenues 9-14'!F46","v":42183}]
["TR","Revenues 9-14, L51, Col F",{"$f":"'Revenues 9-14'!B51","v":1431},{"$f":"'Revenues 9-14'!A51","v":"CTE - Transp Fees from Pupils or Parents (In State)"},null,{"$f":"'Revenues 9-14'!F51","v":52017}]
["TR","Revenues 9-14, L53, Col F",{"$f":"'Revenues 9-14'!B53","v":1433},{"$f":"'Revenues 9-14'!A53","v":"CTE - Transp Fees from Other Sources (In State)"},null,{"$f":"'Revenues 9-14'!F53","v":11321}]
["TR","Revenues 9-14, L54, Col F",{"$f":"'Revenues 9-14'!B54","v":1434},{"$f":"'Revenues 9-14'!A54","v":"CTE - Transp Fees from Other Sources (Out of State)"},null,{"$f":"'Revenues 9-14'!F54","v":0}]
["TR","Revenues 9-14, L55, Col F",{"$f":"'Revenues 9-14'!B55","v":1441},{"$f":"'Revenues 9-14'!A55","v":"Special Ed - Transp Fees from Pupils or Parents (In State)"},null,{"$f":"'Revenues 9-14'!F55","v":133200}]
["TR","Revenues 9-14, L57, Col F",{"$f":"'Revenues 9-14'!B57","v":1443},{"$f":"'Revenues 9-14'!A57","v":"Special Ed - Transp Fees from Other Sources (In State)"},null,{"$f":"'Revenues 9-14'!F57","v":187716}]
["TR","Revenues 9-14, L58, Col F",{"$f":"'Revenues 9-14'!B58","v":1444},{"$f":"'Revenues 9-14'!A58","v":"Special Ed - Transp Fees from Other Sources (Out of State)"},null,{"$f":"'Revenues 9-14'!F58","v":0}]
["ED","Revenues 9-14, L75, Col C",1600,{"$f":"'Revenues 9-14'!A75","v":"Total Food Service"},null,{"$f":"'Revenues 9-14'!C75","v":203065131.63}]
["ED-O&M","Revenues 9-14, L82, Col C,D",1700,{"$f":"'Revenues 9-14'!A82","v":"Total District/School Activity Income"},null,{"$f":"SUM('Revenues 9-14'!C82:D82)","v":119047981.78}]
["ED","Revenues 9-14, L84, Col C",{"$f":"'Revenues 9-14'!B84","v":1811},{"$f":"'Revenues 9-14'!A84","v":"Rentals - Regular Textbooks"},null,{"$f":"'Revenues 9-14'!C84","v":98284857.289999992}]
["ED","Revenues 9-14, L87, Col C",{"$f":"'Revenues 9-14'!B87","v":1819},{"$f":"'Revenues 9-14'!A87","v":"Rentals - Other (Describe & Itemize)"},null,{"$f":"'Revenues 9-14'!C87","v":2683545}]
["ED","Revenues 9-14, L88, Col C",{"$f":"'Revenues 9-14'!B88","v":1821},{"$f":"'Revenues 9-14'!A88","v":"Sales - Regular Textbooks"},null,{"$f":"'Revenues 9-14'!C88","v":2101789}]
["ED","Revenues 9-14, L91, Col C",{"$f":"'Revenues 9-14'!B91","v":1829},{"$f":"'Revenues 9-14'!A91","v":"Sales - Other (Describe & Itemize)"},null,{"$f":"'Revenues 9-14'!C91","v":135061}]
["ED","Revenues 9-14, L92, Col C",{"$f":"'Revenues 9-14'!B92","v":1890},{"$f":"'Revenues 9-14'!A92","v":"Other (Describe & Itemize)"},null,{"$f":"'Revenues 9-14'!C92","v":2472347}]
["ED-O&M","Revenues 9-14, L95, Col C,D",{"$f":"'Revenues 9-14'!B95","v":1910},{"$f":"'Revenues 9-14'!A95","v":"Rentals"},null,{"$f":"SUM('Revenues 9-14'!C95:D95)","v":41629363.359999999}]
["ED-O&M-TR","Revenues 9-14, L98, Col C,D,F",{"$f":"'Revenues 9-14'!B98","v":1940},{"$f":"'Revenues 9-14'!A98","v":"Services Provided Other Districts"},null,{"$f":"SUM('Revenues 9-14'!C98:D98,'Revenues 9-14'!F98)","v":13820024}]
["ED-O&M-DS-TR-MR/SS","Revenues 9-14, L104, Col C,D,E,F,G",{"$f":"'Revenues 9-14'!B104","v":1991},{"$f":"'Revenues 9-14'!A104","v":"Payment from Other Districts"},null,{"$f":"SUM('Revenues 9-14'!C104:G104)","v":8402637}]
["ED","Revenues 9-14, L106, Col C",{"$f":"'Revenues 9-14'!B106","v":1993},{"$f":"'Revenues 9-14'!A106","v":"Other Local Fees"},null,{"$f":"('Revenues 9-14'!C106)","v":46485943}]
["ED-O&M-TR","Revenues 9-14, L131, Col C,D,F",3100,{"$f":"'Revenues 9-14'!A131","v":"Total Special Education"},null,{"$f":"SUM('Revenues 9-14'!C131:D131,'Revenues 9-14'!F131)","v":383194593.77000004}]
["ED-O&M-MR/SS","Revenues 9-14, L133, Col C,D,G",3200,{"$f":"'Revenues 9-14'!A140","v":"Total Career and Technical Education"},null,{"$f":"SUM('Revenues 9-14'!C133:D133,'Revenues 9-14'!G133)","v":1146156}]
["ED-MR/SS","Revenues 9-14, L144, Col C,G",3300,{"$f":"'Revenues 9-14'!A144","v":"Total Bilingual Ed"},null,{"$f":"SUM('Revenues 9-14'!C144,'Revenues 9-14'!G144)","v":83334007}]
["ED","Revenues 9-14, L145, Col C",{"$f":"'Revenues 9-14'!B145","v":3360},{"$f":"'Revenues 9-14'!A145","v":"State Free Lunch & Breakfast"},null,{"$f":"'Revenues 9-14'!C145","v":7254315.2000000002}]
["ED-O&M-MR/SS","Revenues 9-14, L146, Col C,D,G",{"$f":"'Revenues 9-14'!B146","v":3365},{"$f":"'Revenues 9-14'!A146","v":"School Breakfast Initiative"},null,{"$f":"SUM('Revenues 9-14'!C146:D146,'Revenues 9-14'!G146)","v":33097}]
["ED-O&M","Revenues 9-14, L147,Col C,D",{"$f":"'Revenues 9-14'!B147","v":3370},{"$f":"'Revenues 9-14'!A147","v":"Driver Education"},null,{"$f":"SUM('Revenues 9-14'!C147:D147)","v":18661339}]
["ED-O&M-TR-MR/SS","Revenues 9-14, L154, Col C,D,F,G",3500,{"$f":"'Revenues 9-14'!A154","v":"Total Transportation"},null,{"$f":"SUM('Revenues 9-14'!C154:D154,'Revenues 9-14'!F154:G154)","v":680749765.53999996}]
["ED","Revenues 9-14, L155, Col C",{"$f":"'Revenues 9-14'!B155","v":3610},{"$f":"'Revenues 9-14'!A155","v":"Learning Improvement - Change Grants"},null,{"$f":"'Revenues 9-14'!C155","v":75580}]
["ED-O&M-TR-MR/SS","Revenues 9-14, L156, Col C,D,F,G",{"$f":"'Revenues 9-14'!B156","v":3660},{"$f":"'Revenues 9-14'!A156","v":"Scientific Literacy"},null,{"$f":"SUM('Revenues 9-14'!C156:D156,'Revenues 9-14'!F156:G156)","v":12813}]
["ED-TR-MR/SS","Revenues 9-14, L157, Col C,F,G",{"$f":"'Revenues 9-14'!B157","v":3695},{"$f":"'Revenues 9-14'!A157","v":"Truant Alternative/Optional Education"},null,{"$f":"SUM('Revenues 9-14'!C157,'Revenues 9-14'!F157:G157)","v":8867581}]
["ED-TR-MR/SS","Revenues 9-14, L159, Col C,F,G",{"$f":"'Revenues 9-14'!B159","v":3715},{"$f":"'Revenues 9-14'!A159","v":"Reading Improvement Block Grant"},null,{"$f":"SUM('Revenues 9-14'!C159,'Revenues 9-14'!F159:G159)","v":944199}]
["ED-TR-MR/SS","Revenues 9-14, L160, Col C,F,G",{"$f":"'Revenues 9-14'!B160","v":3720},{"$f":"'Revenues 9-14'!A160","v":"Reading Improvement Block Grant - Reading Recovery"},null,{"$f":"SUM('Revenues 9-14'!C160,'Revenues 9-14'!F160:G160)","v":2669}]
["ED-TR-MR/SS","Revenues 9-14, L161, Col C,F,G",{"$f":"'Revenues 9-14'!B161","v":3725},{"$f":"'Revenues 9-14'!A161","v":"Continued Reading Improvement Block Grant"},null,{"$f":"SUM('Revenues 9-14'!C161,'Revenues 9-14'!F161:G161)","v":1681}]
["ED-TR-MR/SS","Revenues 9-14, L162, Col C,F,G",{"$f":"'Revenues 9-14'!B162","v":3726},{"$f":"'Revenues 9-14'!A162","v":"Continued Reading Improvement Block Grant (2% Set Aside)"},null,{"$f":"SUM('Revenues 9-14'!C162,'Revenues 9-14'!F162:G162)","v":0}]
["ED-O&M-TR-MR/SS","Revenues 9-14, L163, Col C,D,F,G",{"$f":"'Revenues 9-14'!B163","v":3766},{"$f":"'Revenues 9-14'!A163","v":"Chicago General Education Block Grant"},null,{"$f":"SUM('Revenues 9-14'!C163:D163,'Revenues 9-14'!F163:G163)","v":122606950}]
["ED-O&M-TR-MR/SS","Revenues 9-14, L164, Col C,D,F,G",{"$f":"'Revenues 9-14'!B164","v":3767},{"$f":"'Revenues 9-14'!A164","v":"Chicago Educational Services Block Grant"},null,{"$f":"SUM('Revenues 9-14'!C164:D164,'Revenues 9-14'!F164:G164)","v":0}]
["ED-O&M-DS-TR-MR/SS","Revenues 9-14, L165, Col C,D,E,F,G",{"$f":"'Revenues 9-14'!B165","v":3775},{"$f":"'Revenues 9-14'!A165","v":"School Safety & Educational Improvement Block Grant"},null,{"$f":"SUM('Revenues 9-14'!C165:G165)","v":15936}]
["ED-O&M-DS-TR-MR/SS","Revenues 9-14, L166, Col C,D,E,F,G",{"$f":"'Revenues 9-14'!B166","v":3780},{"$f":"'Revenues 9-14'!A166","v":"Technology - Learning Technology Centers"},null,{"$f":"SUM('Revenues 9-14'!C166:G166)","v":151432}]
["ED-TR","Revenues 9-14, L167, Col C,F",{"$f":"'Revenues 9-14'!B167","v":3815},{"$f":"'Revenues 9-14'!A167","v":"State Charter Schools"},null,{"$f":"SUM('Revenues 9-14'!C167,'Revenues 9-14'!F167)","v":26234}]
["O&M","Revenues 9-14, L170, Col D",{"$f":"'Revenues 9-14'!B170","v":3925},{"$f":"'Revenues 9-14'!A170","v":"School Infrastructure - Maintenance"},null,{"$f":"'Revenues 9-14'!D170","v":61379}]
["ED-O&M-DS-TR-MR/SS-Tort","Revenues 9-14, L171, Col C-G,J",{"$f":"'Revenues 9-14'!B171","v":3999},"Other Restricted Revenue from State Sources",null,{"$f":"SUM('Revenues 9-14'!C171:G171,'Revenues 9-14'!J171)","v":39420572}]
["ED","Revenues 9-14, L180, Col C",{"$f":"'Revenues 9-14'!B180","v":4045},{"$f":"'Revenues 9-14'!A180 & \" (Subtract)\"","v":"Head Start (Subtract)"},null,{"$f":"SUM(-'Revenues 9-14'!C180)","v":-48134935}]
["ED-O&M-TR-MR/SS","Revenues 9-14, L184, Col C,D,F,G","-",{"$f":"('Revenues 9-14'!A184)","v":"Total Restricted Grants-In-Aid Received Directly from Federal Govt"},null,{"$f":"SUM('Revenues 9-14'!C184:D184,'Revenues 9-14'!F184:G184)","v":68068466}]
["ED-O&M-TR-MR/SS","Revenues 9-14, L191, Col C,D,F,G","-",{"$f":"'Revenues 9-14'!A191","v":"Total Title V"},null,{"$f":"SUM('Revenues 9-14'!C191:D191,'Revenues 9-14'!F191:G191)","v":2338618.77}]
["ED-MR/SS","Revenues 9-14, L201, Col C,G","-",{"$f":"'Revenues 9-14'!A201","v":"Total Food Service"},null,{"$f":"SUM('Revenues 9-14'!C201,'Revenues 9-14'!G201)","v":601254399.62}]
["ED-O&M-TR-MR/SS","Revenues 9-14, L211, Col C,D,F,G","-",{"$f":"'Revenues 9-14'!A211","v":"Total Title I"},null,{"$f":"SUM('Revenues 9-14'!C211:D211,'Revenues 9-14'!F211:G211)","v":643167831}]
["ED-O&M-TR-MR/SS","Revenues 9-14, L216, Col C,D,F,G","-",{"$f":"'Revenues 9-14'!A216","v":"Total Title IV"},null,{"$f":"SUM('Revenues 9-14'!C216:D216,'Revenues 9-14'!F216:G216)","v":21260869}]
["ED-O&M-TR-MR/SS","Revenues 9-14, L220, Col C,D,F,G",{"$f":"'Revenues 9-14'!B220","v":4620},{"$f":"'Revenues 9-14'!A220","v":"Fed - Spec Education - IDEA - Flow Through/Low Incidence"},null,{"$f":"SUM('Revenues 9-14'!C220:D220,'Revenues 9-14'!F220:G220)","v":351849559.12}]
["ED-O&M-TR-MR/SS","Revenues 9-14, L221, Col C,D,F,G",{"$f":"'Revenues 9-14'!B221","v":4625},{"$f":"'Revenues 9-14'!A221","v":"Fed - Spec Education - IDEA - Room & Board"},null,{"$f":"SUM('Revenues 9-14'!C221:D221,'Revenues 9-14'!F221:G221)","v":38060147}]
["ED-O&M-TR-MR/SS","Revenues 9-14, L222, Col C,D,F,G",{"$f":"'Revenues 9-14'!B222","v":4630},{"$f":"'Revenues 9-14'!A222","v":"Fed - Spec Education - IDEA - Discretionary"},null,{"$f":"SUM('Revenues 9-14'!C222:D222,'Revenues 9-14'!F222:G222)","v":47137},6297]
["ED-O&M-TR-MR/SS","Revenues 9-14, L223, Col C,D,F,G",{"$f":"'Revenues 9-14'!B223","v":4699},{"$f":"'Revenues 9-14'!A223","v":"Fed - Spec Education - IDEA - Other (Describe & Itemize)"},null,{"$f":"SUM('Revenues 9-14'!C223:D223,'Revenues 9-14'!F223:G223)","v":198257}]
["ED-O&M-MR/SS","Revenues 9-14, L228, Col C,D,G",4700,{"$f":"'Revenues 9-14'!A228","v":"Total CTE - Perkins"},null,{"$f":"SUM('Revenues 9-14'!C228:D228,'Revenues 9-14'!G228)","v":15448122},6303]
["ED-O&M-TR-MR/SS-Tort","Revenue-L231, Col C,D,F,G","4851",{"$f":"'Revenues 9-14'!A231","v":"ARRA - Title I - Low Income"},null,{"$f":"SUM('Revenues 9-14'!C231:D231,'Revenues 9-14'!F231:G231)","v":0}]
["ED-O&M-TR-MR/SS-Tort","Revenue-L232, Col C,D,E,F,G,J","4852",{"$f":"'Revenues 9-14'!A232","v":"ARRA - Title I - Neglected, Private"},null,{"$f":"SUM('Revenues 9-14'!C232:G232,'Revenues 9-14'!J232)","v":0}]
["ED-O&M-TR-MR/SS-Tort","Revenue L233, Col C,D,E,F,G,J","4853",{"$f":"'Revenues 9-14'!A233","v":"ARRA - Title I - Delinquent, Private"},null,{"$f":"SUM('Revenues 9-14'!C233:G233,'Revenues 9-14'!J233)","v":0}]
["ED-O&M-TR-MR/SS-Tort","Revenue L234, Col C,D,E,F,G,J","4854",{"$f":"'Revenues 9-14'!A234","v":"ARRA A- Title I - School Improvement (Part A)"},null,{"$f":"SUM('Revenues 9-14'!C234:G234,'Revenues 9-14'!J234)","v":0}]
["ED-O&M-TR-MR/SS-Tort","Revenue L235, Col C,D,E,F,G,J","4855",{"$f":"'Revenues 9-14'!A235","v":"ARRA - Title I - School Improvement (Part G)"},null,{"$f":"SUM('Revenues 9-14'!C235:G235,'Revenues 9-14'!J235)","v":0}]
[]
["ED-O&M-TR-MR/SS-Tort","Revenue L237, Col C,D,E,F,G,J","4857",{"$f":"'Revenues 9-14'!A237","v":"ARRA - IDEA - Part B - Flow-Through"},null,{"$f":"SUM('Revenues 9-14'!C237:G237,'Revenues 9-14'!J237)","v":14557}]
["ED-O&M-TR-MR/SS-Tort","Revenue L238, Col C,D,E,F,G,J","4860",{"$f":"'Revenues 9-14'!A238","v":"ARRA - Title IID - Technology-Formula"},null,{"$f":"SUM('Revenues 9-14'!C238:G238,'Revenues 9-14'!J238)","v":0}]
["ED-O&M-TR-MR/SS-Tort","Revenue L239, Col C,D,E,F,G,J","4861",{"$f":"'Revenues 9-14'!A239","v":"ARRA - Title IID - Technology-Competitive"},null,{"$f":"SUM('Revenues 9-14'!C239:G239,'Revenues 9-14'!J239)","v":0}]
["ED-O&M-TR-MR/SS","Revenue L240, Col C, D,F,G","4862",{"$f":"'Revenues 9-14'!A240","v":"ARRA - McKinney - Vento Homeless Education"},null,{"$f":"SUM('Revenues 9-14'!C240:D240,'Revenues 9-14'!F240:G240)","v":0}]
["ED-O&M-TR-MR/SS-Tort","Revenue L244, Col C,D,E,F,G,J","4866",{"$f":"'Revenues 9-14'!A244","v":"Qualified Zone Academy Bond Tax Credits"},null,{"$f":"SUM('Revenues 9-14'!C244:G244,'Revenues 9-14'!J244)","v":2737113}]
["ED-O&M-TR-MR/SS-Tort","Revenue L245, Col C,D,E,F,G,J","4867",{"$f":"'Revenues 9-14'!A245","v":"Qualified School Construction Bond Credits"},null,{"$f":"SUM('Revenues 9-14'!C245:G245,'Revenues 9-14'!J245)","v":13525768}]
["ED-O&M-TR-MR/SS-Tort","Revenue L246, Col C,D,E,F,G,J","4868",{"$f":"'Revenues 9-14'!A246","v":"Build America Bond Tax Credits"},null,{"$f":"SUM('Revenues 9-14'!C246:G246,'Revenues 9-14'!J246)","v":1770463}]
["ED-O&M-TR-MR/SS-Tort","Revenue L247, Col C,D,E,F,G,J","4869",{"$f":"'Revenues 9-14'!A247","v":"Build America Bond Interest Reimbursement"},null,{"$f":"SUM('Revenues 9-14'!C247:G247,'Revenues 9-14'!J247)","v":34505654}]
["ED-O&M-TR-MR/SS-Tort","Revenue L249, Col C,D,E,F,G,J","4871",{"$f":"'Revenues 9-14'!A249","v":"Other ARRA Funds - II"},null,{"$f":"SUM('Revenues 9-14'!C249:G249,'Revenues 9-14'!J249)","v":0}]
["ED-O&M-TR-MR/SS-Tort","Revenue L250, Col C,D,E,F,G,J","4872",{"$f":"'Revenues 9-14'!A250","v":"Other ARRA Funds - III"},null,{"$f":"SUM('Revenues 9-14'!C250:G250,'Revenues 9-14'!J250)","v":0}]
["ED-O&M-TR-MR/SS-Tort","Revenue L251, Col C,D,E,F,G,J","4873",{"$f":"'Revenues 9-14'!A251","v":"Other ARRA Funds - IV"},null,{"$f":"SUM('Revenues 9-14'!C251:G251,'Revenues 9-14'!J251)","v":0}]
["ED-O&M-TR-MR/SS-Tort","Revenue L252, Col C,D,E,F,G,J","4874",{"$f":"'Revenues 9-14'!A252","v":"Other ARRA Funds - V"},null,{"$f":"SUM('Revenues 9-14'!C252:G252,'Revenues 9-14'!J252)","v":0}]
["ED-O&M-TR-MR/SS-Tort","Revenue L253, Col C,D,E,F,G,J","4875",{"$f":"'Revenues 9-14'!A253","v":"ARRA - Early Childhood"}]
["ED-O&M-TR-MR/SS-Tort","Revenue L254, Col C,D,E,F,G,J","4876",{"$f":"'Revenues 9-14'!A254","v":"Other ARRA Funds VII"},null,{"$f":"SUM('Revenues 9-14'!C254:G254,'Revenues 9-14'!J254)","v":0}]
["ED-O&M-TR-MR/SS-Tort","Revenue L255, Col C,D,E,F,G,J","4877",{"$f":"'Revenues 9-14'!A255","v":"Other ARRA Funds VIII"},null,{"$f":"SUM('Revenues 9-14'!C255:G255,'Revenues 9-14'!J255)","v":0}]
["ED-O&M-TR-MR/SS-Tort","Revenue L256, Col C,D,E,F,G,J","4878",{"$f":"'Revenues 9-14'!A256","v":"Other ARRA Funds IX"},null,{"$f":"SUM('Revenues 9-14'!C256:G256,'Revenues 9-14'!J256)","v":0}]
["ED-O&M-TR-MR/SS-Tort","Revenue L257, Col C,D,E,F,G,J","4879",{"$f":"'Revenues 9-14'!A257","v":"Other ARRA Funds X"},null,{"$f":"SUM('Revenues 9-14'!C257:G257,'Revenues 9-14'!J257)","v":0}]
["ED-O&M-TR-MR/SS-Tort","Revenue L258, Col C,D,E,F,G,J","4880",{"$f":"'Revenues 9-14'!A258","v":"Other ARRA Funds XI"},null,{"$f":"SUM('Revenues 9-14'!C258:G258,'Revenues 9-14'!J258)","v":0}]
["ED-O&M-TR-MR/SS-Tort","Revenue Adjustments within range of C232 thru J259","4800","Total ARRA Program Adjustments",null,{"$f":"SUM(F136:F159)","v":52553555}]
["ED","Revenues 9-14, L260, Col C","4901","Race to the Top",null,{"$f":"'Revenues 9-14'!C260","v":54797}]
["ED-O&M-TR-MR/SS","Revenues 9-14, L261, Col C,D,F,G","4902","Race to the Top-Preschool Expansion Grant",null,{"$f":"SUM('Revenues 9-14'!C261:D261,'Revenues 9-14'!F261:G261)","v":11827464}]
["ED,O&M,MR/SS","Revenues 9-14, L262, Col C,D,G",{"$f":"'Revenues 9-14'!B262","v":4904},{"$f":"'Revenues 9-14'!A262","v":"Advanced Placement Fee/International Baccalaureate"},null,{"$f":"SUM('Revenues 9-14'!C262:D262,'Revenues 9-14'!G262)","v":9684}]
["ED-TR-MR/SS","Revenues 9-14, L263, Col C,F,G",{"$f":"'Revenues 9-14'!B263","v":4905},{"$f":"'Revenues 9-14'!A263","v":"Emergency Immigrant Assistance"},null,{"$f":"SUM('Revenues 9-14'!C263,'Revenues 9-14'!F263:G263)","v":1331582},6306]
["ED-TR-MR/SS","Revenues 9-14, L264, Col C,F,G",{"$f":"'Revenues 9-14'!B264","v":4909},{"$f":"'Revenues 9-14'!A264","v":"Title III - English Language Acquisition"},null,{"$f":"SUM('Revenues 9-14'!C264,'Revenues 9-14'!F264:G264)","v":25207736}]
["ED-TR-MR/SS","Revenues 9-14, L265, Col C,F,G",{"$f":"'Revenues 9-14'!B265","v":4910},{"$f":"'Revenues 9-14'!A265","v":"Learn & Serve America"},null,{"$f":"SUM('Revenues 9-14'!C265,'Revenues 9-14'!F265:G265)","v":54013}]
["ED-O&M-TR-MR/SS","Revenues 9-14, L266, Col C,D,F,G",{"$f":"'Revenues 9-14'!B266","v":4920},{"$f":"'Revenues 9-14'!A266","v":"McKinney Education for Homeless Children"},null,{"$f":"SUM('Revenues 9-14'!C266:D266,'Revenues 9-14'!F266:G266)","v":1864272}]
["ED-O&M-TR-MR/SS","Revenues 9-14, L267, Col C,D,F,G",{"$f":"'Revenues 9-14'!B267","v":4930},{"$f":"'Revenues 9-14'!A267","v":"Title II - Eisenhower Professional Development Formula"},null,{"$f":"SUM('Revenues 9-14'!C267:D267,'Revenues 9-14'!F267:G267)","v":1650086}]
["ED-O&M-TR-MR/SS","Revenues 9-14, L268, Col C,D,F,G",{"$f":"'Revenues 9-14'!B268","v":4932},{"$f":"'Revenues 9-14'!A268","v":"Title II - Teacher Quality"},null,{"$f":"SUM('Revenues 9-14'!C268:D268,'Revenues 9-14'!F268:G268)","v":72146912.99000001}]
["ED-O&M-TR-MR/SS","Revenues 9-14, L269, Col C,D,F,G",{"$f":"'Revenues 9-14'!B269","v":4960},{"$f":"'Revenues 9-14'!A269","v":"Federal Charter Schools"},null,{"$f":"SUM('Revenues 9-14'!C269:D269,'Revenues 9-14'!F269:G269)","v":213723}]
["ED-O&M-TR-MR/SS","Revenues 9-14, L270, Col C,D,F,G",{"$f":"'Revenues 9-14'!B270","v":4991},{"$f":"'Revenues 9-14'!A270","v":"Medicaid Matching Funds - Administrative Outreach"},null,{"$f":"SUM('Revenues 9-14'!C270:D270,'Revenues 9-14'!F270:G270)","v":39798275.890000001},6320]
["ED-O&M-TR-MR/SS","Revenues 9-14, L271, Col C,D,F,G",{"$f":"'Revenues 9-14'!B271","v":4992},{"$f":"'Revenues 9-14'!A271","v":"Medicaid Matching Funds - Fee-for-Service Program"},null,{"$f":"SUM('Revenues 9-14'!C271:D271,'Revenues 9-14'!F271:G271)","v":108844120.93000001}]
["ED-O&M-TR-MR/SS","Revenues 9-14, L272, Col C,D,F,G",{"$f":"'Revenues 9-14'!B272","v":4999}," ",null,{"$f":"SUM('Revenues 9-14'!C272:D272,'Revenues 9-14'!F272:G272)","v":31322173}]
["ED-TR-MR/SS","Revenues (Part of EBF Payment)",3100,"Special Education Contributions from EBF Funds **"]
["ED-MR/SS","Revenues (Part of EBF Payment)",3300,"English Learning (Bilingual) Contributions from EBF Funds ***"]
[]
[null,null,null,"Total Allowance for PCTC Computation  ","$",{"$f":"SUM(F83:F135,F160:F175)","v":3938452660.8899994}]
[null,null,null,"Net Operating Expense for PCTC Computation",null,{"$f":"'PCTC-OEPP 28-29'!F76-F177","v":20788954117.040005}]
[null,null,null,"Total Depreciation Allowance (from page 27, Col I) ",null,{"$f":"'Cap Outlay Deprec 27'!I18","v":1334579806.3499999}]
[null,null,null,"Total Allowance for PCTC Computation",null,{"$f":"F178+F179","v":22123533923.390003}]
[null,null,null,"9 Mo ADA",null,{"$f":"'PCTC-OEPP 28-29'!F77","v":1838853.89}]
[null,null,null,"Total Estimated PCTC","$",{"$f":"F180/F181","v":12031.153776654874},6323]
[null,null,null,null,null,null,6326]
[null,null,null,null,null," "]

{"sheet":"AFR18","index":15,"n_rows":7742,"n_cols":18,"rows_kept":4500,"cut":true,"hidden":true,"merged":[],"bounds":{"rows_first":2000,"rows_last":500,"rows_between":2000,"halvings":0}}
[null,null,"ORIGINAL ADDRESS","DIFFERENCE","WARNING"]
["i","99-999-9999-99",{"$f":"COVER!A13","v":"99-999-9999-99"}]
["i","2017-18 State Totals - SD Only",{"$f":"COVER!A17","v":"2017-18 State Totals - SD Only"}]
["i"]
["i","X"]
["i"]
["i","X",null,null,null,"Vlookup from worksheet Column F","variance between mine without ESTL and Rich's",null,"Add Adjusted back in to compare to new data run 5/7","Add column F and J",null,"New State Totals Data Pull 5/7",null,"Variance between my State Totals and new Data 5/7","Variance B - L","Crete Monee AFR","Data pull 5/7 + Crete = New State Totals","variance comparison: J + P - Q"]
[1,null,null,{"$f":"B8-C8","v":0},{"$f":"IF((D8 = 0),\"OK\",IF((D8<-5),\"CHECK ME!\",IF((D8>5),\"Check Me!\",\"OK\")))","v":"OK"}]
[2,null,null,0,"OK"]
[3,null,null,0,"OK"]
[4,4463715231,{"$f":"'Assets-Liab 5-6'!C6","v":4463715231},0,"OK",4448063366,0,null,1317518,4449380884,null,4449380884,null,{"$f":"SUM(J11-L11)","v":0},0,{"$f":"VLOOKUP(A11,'Data Pull totals 5-8'!A:C,3,0)","v":14334347},4463715231,{"$f":"SUM(L11+P11-Q11)","v":0}]
[5,0,null,0,"OK",0,0,null,0,0,null,0,null,{"$f":"SUM(J12-L12)","v":0},0,0,0,{"$f":"SUM(L12+P12-Q12)","v":0}]
[6,0,null,0,"OK",0,0,null,0,0,null,0,null,0,0,0,0,0]
[7,0,null,0,"OK",0,0,null,0,0,null,0,null,0,0,0,0,0]
[8,0,null,0,"OK",0,0,null,0,0,null,0,null,0,0,0,0,0]
[9,0,null,0,"OK",0,0,null,0,0,null,0,null,0,0,0,0,0]
[10,0,null,0,"OK",0,0,null,0,0,null,0,null,0,0,0,0,0]
[11,10965222,{"$f":"'Assets-Liab 5-6'!C10","v":10965222},0,"OK",10965222,0,null,0,10965222,null,10965222,null,0,0,{"$f":"VLOOKUP(A18,'Data Pull totals 5-8'!A:C,3,0)","v":0},10965222,0]
[12,2085627941,{"$f":"'Assets-Liab 5-6'!C5","v":2085627941},0,"OK",2085627941,0,null,0,2085627941,null,2085627941,null,0,0,{"$f":"VLOOKUP(A19,'Data Pull totals 5-8'!A:C,3,0)","v":0},2085627941,0]
[13,0,null,0,"OK",0,0,null,0,0,null,0,null,0,0,0,0,0]
[14,0,null,0,"OK",0,0,null,0,0,null,0,null,0,0,0,0,0]
[15,8487467,{"$f":"'Assets-Liab 5-6'!C12","v":8487467},0,"OK",8487467,0,null,0,8487467,null,8487467,null,0,0,{"$f":"VLOOKUP(A22,'Data Pull totals 5-8'!A:C,3,0)","v":0},8487467,0]
[16,13634952265.32,{"$f":"'Assets-Liab 5-6'!C13","v":13634952265.32},0,"OK",13550360948.32,0,null,53962316,13604323264.32,null,13604323264.32,null,0,0,{"$f":"VLOOKUP(A23,'Data Pull totals 5-8'!A:C,3,0)","v":30629001},13634952265.32,0]
[17,0,null,0,"OK",0,0,null,0,0,null,0,null,0,0,0,0,0]
[18,0,null,0,"OK",0,0,null,0,0,null,0,null,0,0,0,0,0]
[19,0,null,0,"OK",0,0,null,0,0,null,0,null,0,0,0,0,0]
[20,0,null,0,"OK",0,0,null,0,0,null,0,null,0,0,0,0,0]
[21,0,null,0,"OK",0,0,null,0,0,null,0,null,0,0,0,0,0]
[22,0,null,0,"OK",0,0,null,0,0,null,0,null,0,0,0,0,0]
[23,0,null,0,"OK",0,0,null,0,0,null,0,null,0,0,0,0,0]
[24,0,null,0,"OK",0,0,null,0,0,null,0,null,0,0,0,0,0]
[25,114934456,{"$f":"'Assets-Liab 5-6'!C31","v":114934456},0,"OK",113203890,0,null,0,113203890,null,113203890,null,0,0,{"$f":"VLOOKUP(A32,'Data Pull totals 5-8'!A:C,3,0)","v":1730566},114934456,0]
[26,0,null,0,"OK",0,0,null,0,0,null,0,null,0,0,0,0,0]
[27,4530643413,{"$f":"'Assets-Liab 5-6'!C32","v":4530643413},0,"OK",4513626912,0,null,2900055,4516526967,null,4516526967,null,0,0,{"$f":"VLOOKUP(A34,'Data Pull totals 5-8'!A:C,3,0)","v":14116446},4530643413,0]
[28,0,null,0,"OK",0,0,null,0,0,null,0,null,0,0,0,0,0]
[29,0,null,0,"OK",0,0,null,0,0,null,0,null,0,0,0,0,0]
[30,6123509399,{"$f":"'Assets-Liab 5-6'!C34","v":6123509399},0,"OK",6096164847,0,null,7739318,6103904165,null,6103904165,null,0,0,{"$f":"VLOOKUP(A37,'Data Pull totals 5-8'!A:C,3,0)","v":19605234},6123509399,0]
[31,7266244447.5900002,{"$f":"'Assets-Liab 5-6'!C39","v":7266244447.5900002},0,"OK",7211838168.5900002,0,null,43452423,7255290591.5900002,null,7255290591.5900002,null,0,0,{"$f":"VLOOKUP(A38,'Data Pull totals 5-8'!A:C,3,0)","v":10953856},7266244447.5900002,0]
[32,13634952265.589998,{"$f":"'Assets-Liab 5-6'!C41","v":13634952265.59},0,"OK",13550360948.589998,1.9073486328125E-6,null,53962316,13604323264.589998,null,13604323264.589998,null,0,0,{"$f":"VLOOKUP(A39,'Data Pull totals 5-8'!A:C,3,0)","v":30629001},13634952265.589998,0]
[33,0,null,0,"OK",0,0,null,0,0,null,0,null,0,0,0,0,0]
[34,0,null,0,"OK",0,0,null,0,0,null,0,null,0,0,0,0,0]
[35,0,null,0,"OK",0,0,null,0,0,null,0,null,0,0,0,0,0]
[36,451223371,{"$f":"'Assets-Liab 5-6'!D6","v":451223371},0,"OK",448761911,0,null,329379,449091290,null,449091290,null,0,0,{"$f":"VLOOKUP(A43,'Data Pull totals 5-8'!A:C,3,0)","v":2132081},451223371,0]
[37,0,null,0,"OK",0,0,null,0,0,null,0,null,0,0,0,0,0]
[38,0,null,0,"OK",0,0,null,0,0,null,0,null,0,0,0,0,0]
[39,0,null,0,"OK",0,0,null,0,0,null,0,null,0,0,0,0,0]
[40,0,null,0,"OK",0,0,null,0,0,null,0,null,0,0,0,0,0]
[41,0,null,0,"OK",0,0,null,0,0,null,0,null,0,0,0,0,0]
[42,0,null,0,"OK",0,0,null,0,0,null,0,null,0,0,0,0,0]
[43,98822,{"$f":"'Assets-Liab 5-6'!D10","v":98822},0,"OK",98822,0,null,0,98822,null,98822,null,0,0,{"$f":"VLOOKUP(A50,'Data Pull totals 5-8'!A:C,3,0)","v":0},98822,0]
[44,352727831,{"$f":"'Assets-Liab 5-6'!D5","v":352727831},0,"OK",352727831,0,null,0,352727831,null,352727831,null,0,0,{"$f":"VLOOKUP(A51,'Data Pull totals 5-8'!A:C,3,0)","v":0},352727831,0]
[45,0,null,0,"OK",0,0,null,0,0,null,0,null,0,0,0,0,0]
[46,0,null,0,"OK",0,0,null,0,0,null,0,null,0,0,0,0,0]
[47,817216,{"$f":"'Assets-Liab 5-6'!D12","v":817216},0,"OK",809521,0,null,0,809521,null,809521,null,0,0,{"$f":"VLOOKUP(A54,'Data Pull totals 5-8'!A:C,3,0)","v":7695},817216,0]
[48,2010879848.2,{"$f":"'Assets-Liab 5-6'!D13","v":2010879848.2},0,"OK",2002695131.2,0,null,1694294,2004389425.2,null,2004389425.2,null,0,0,{"$f":"VLOOKUP(A55,'Data Pull totals 5-8'!A:C,3,0)","v":6490423},2010879848.2,0]
[49,0,null,0,"OK",0,0,null,0,0,null,0,null,0,0,0,0,0]
[50,0,null,0,"OK",0,0,null,0,0,null,0,null,0,0,0,0,0]
[51,0,null,0,"OK",0,0,null,0,0,null,0,null,0,0,0,0,0]
[52,0,null,0,"OK",0,0,null,0,0,null,0,null,0,0,0,0,0]
[53,0,null,0,"OK",0,0,null,0,0,null,0,null,0,0,0,0,0]
[54,0,null,0,"OK",0,0,null,0,0,null,0,null,0,0,0,0,0]
[55,0,null,0,"OK",0,0,null,0,0,null,0,null,0,0,0,0,0]
[56,109272,{"$f":"'Assets-Liab 5-6'!D31","v":109272},0,"OK",109272,0,null,0,109272,null,109272,null,0,0,{"$f":"VLOOKUP(A63,'Data Pull totals 5-8'!A:C,3,0)","v":0},109272,0]
[57,0,null,0,"OK",0,0,null,0,0,null,0,null,0,0,0,0,0]
[58,535113520,{"$f":"'Assets-Liab 5-6'!D32","v":535113520},0,"OK",532786195,0,null,210583,532996778,null,532996778,null,0,0,{"$f":"VLOOKUP(A65,'Data Pull totals 5-8'!A:C,3,0)","v":2116742},535113520,0]
[59,0,null,0,"OK",0,0,null,0,0,null,0,null,0,0,0,0,0]
[60,0,null,0,"OK",0,0,null,0,0,null,0,null,0,0,0,0,0]
[61,647818486,{"$f":"'Assets-Liab 5-6'!D34","v":647818486},0,"OK",645023376,0,null,383022,645406398,null,645406398,null,0,0,{"$f":"VLOOKUP(A68,'Data Pull totals 5-8'!A:C,3,0)","v":2412088},647818486,0]
[62,1157229642.95,{"$f":"'Assets-Liab 5-6'!D39","v":1157229642.95},0,"OK",1153151307.95,0,null,0,1153151307.95,null,1153151307.95,null,0,0,{"$f":"VLOOKUP(A69,'Data Pull totals 5-8'!A:C,3,0)","v":4078335},1157229642.95,0]
[63,2010879847.95,{"$f":"'Assets-Liab 5-6'!D41","v":2010879847.95},0,"OK",2002695130.95,0,null,1694294,2004389424.95,null,2004389424.95,null,0,0,{"$f":"VLOOKUP(A70,'Data Pull totals 5-8'!A:C,3,0)","v":6490423},2010879847.95,0]
[64,0,null,0,"OK",0,0,null,0,0,null,0,null,0,0,0,0,0]
[65,458957980,{"$f":"'Assets-Liab 5-6'!E6","v":458957980},{"$f":"B72-C72","v":0},{"$f":"IF((D72 = 0),\"OK\",IF((D72<-5),\"CHECK ME!\",IF((D72>5),\"Check Me!\",\"OK\")))","v":"OK"},451900114,0,null,1138861,453038975,null,453038975,null,0,0,{"$f":"VLOOKUP(A72,'Data Pull totals 5-8'!A:C,3,0)","v":5919005},458957980,0]
[66,0,null,0,"OK",0,0,null,0,0,null,0,null,0,0,0,0,0]
[67,0,null,0,"OK",0,0,null,0,0,null,0,null,0,0,0,0,0]
[68,192660768,{"$f":"'Assets-Liab 5-6'!E5","v":192660768},0,"OK",192660768,0,null,0,192660768,null,192660768,null,0,0,{"$f":"VLOOKUP(A75,'Data Pull totals 5-8'!A:C,3,0)","v":0},192660768,0]
[69,13754738,{"$f":"'Assets-Liab 5-6'!E12","v":13754738},0,"OK",13184428,0,null,570310,13754738,null,13754738,null,{"$f":"SUM(J76-L76)","v":0},0,{"$f":"VLOOKUP(A76,'Data Pull totals 5-8'!A:C,3,0)","v":0},13754738,{"$f":"SUM(L76+P76-Q76)","v":0}]
[70,2129344853,{"$f":"'Assets-Liab 5-6'!E13","v":2129344853},0,"OK",2111629580,0,null,7370322,2118999902,null,2118999902,null,0,0,{"$f":"VLOOKUP(A77,'Data Pull totals 5-8'!A:C,3,0)","v":10344951},2129344853,0]
[71,0,null,0,"OK",0,0,null,0,0,null,0,null,0,0,0,0,0]
[72,0,null,0,"OK",0,0,null,0,0,null,0,null,0,0,0,0,0]
[73,466225040,{"$f":"'Assets-Liab 5-6'!E32","v":466225040},0,"OK",459620511,0,null,728106,460348617,null,460348617,null,0,0,{"$f":"VLOOKUP(A80,'Data Pull totals 5-8'!A:C,3,0)","v":5876423},466225040,0]
[74,0,null,0,"OK",0,0,null,0,0,null,0,null,0,0,0,0,0]
[75,0,null,0,"OK",0,0,null,0,0,null,0,null,0,0,0,0,0]
[76,0,null,0,"OK",0,0,null,0,0,null,0,null,0,0,0,0,0]
[77,0,null,0,"OK",0,0,null,0,0,null,0,null,0,0,0,0,0]
[78,475182762,{"$f":"'Assets-Liab 5-6'!E34","v":475182762},0,"OK",468578233,0,null,728106,469306339,null,469306339,null,0,0,{"$f":"VLOOKUP(A85,'Data Pull totals 5-8'!A:C,3,0)","v":5876423},475182762,0]
[79,617255521.88,{"$f":"'Assets-Liab 5-6'!E39","v":617255521.88},0,"OK",611029366.88,0,null,1757627,612786993.88,null,612786993.88,null,0,0,{"$f":"VLOOKUP(A86,'Data Pull totals 5-8'!A:C,3,0)","v":4468528},617255521.88,0]
[80,2129344852.8800001,{"$f":"'Assets-Liab 5-6'!E41","v":2129344852.8800001},0,"OK",2111629579.8800001,0,null,7370322,2118999901.8800001,null,2118999901.8800001,null,0,0,{"$f":"VLOOKUP(A87,'Data Pull totals 5-8'!A:C,3,0)","v":10344951},2129344852.8800001,0]
[81,0,null,0,"OK",0,0,null,0,0,null,0,null,0,0,0,0,0]
[82,0,null,0,"OK",0,0,null,0,0,null,0,null,0,0,0,0,0]
[83,0,null,0,"OK",0,0,null,0,0,null,0,null,0,0,0,0,0]
[84,161275392,{"$f":"'Assets-Liab 5-6'!F6","v":161275392},0,"OK",159191282,0,null,131752,159323034,null,159323034,null,0,0,{"$f":"VLOOKUP(A91,'Data Pull totals 5-8'!A:C,3,0)","v":1952358},161275392,0]
[85,0,null,0,"OK",0,0,null,0,0,null,0,null,0,0,0,0,0]
[86,0,null,0,"OK",0,0,null,0,0,null,0,null,0,0,0,0,0]
[87,0,null,0,"OK",0,0,null,0,0,null,0,null,0,0,0,0,0]
[88,0,null,0,"OK",0,0,null,0,0,null,0,null,0,0,0,0,0]
[89,0,null,0,"OK",0,0,null,0,0,null,0,null,0,0,0,0,0]
[90,0,null,0,"OK",0,0,null,0,0,null,0,null,0,0,0,0,0]
[91,0,{"$f":"'Assets-Liab 5-6'!F10","v":0},0,"OK",0,0,null,0,0,null,0,null,0,0,0,0,0]
[92,210291838,{"$f":"'Assets-Liab 5-6'!F5","v":210291838},0,"OK",210291838,0,null,0,210291838,null,210291838,null,0,0,{"$f":"VLOOKUP(A99,'Data Pull totals 5-8'!A:C,3,0)","v":0},210291838,0]
[93,0,null,0,"OK",0,0,null,0,0,null,0,null,0,0,0,0,0]
[94,0,null,0,"OK",0,0,null,0,0,null,0,null,0,0,0,0,0]
[95,188063,{"$f":"'Assets-Liab 5-6'!F12","v":188063},0,"OK",188063,0,null,0,188063,null,188063,null,0,0,{"$f":"VLOOKUP(A102,'Data Pull totals 5-8'!A:C,3,0)","v":0},188063,0]
[96,1219805434.4400001,{"$f":"'Assets-Liab 5-6'!F13","v":1219805434.4400001},0,"OK",1206381385.4400001,0,null,2519922,1208901307.4400001,null,1208901307.4400001,null,0,0,{"$f":"VLOOKUP(A103,'Data Pull totals 5-8'!A:C,3,0)","v":10904127},1219805434.4400001,0]
[97,0,null,0,"OK",0,0,null,0,0,null,0,null,0,0,0,0,0]
[98,0,null,0,"OK",0,0,null,0,0,null,0,null,0,0,0,0,0]
[99,0,null,0,"OK",0,0,null,0,0,null,0,null,0,0,0,0,0]
[100,0,null,0,"OK",0,0,null,0,0,null,0,null,0,0,0,0,0]
[101,0,null,0,"OK",0,0,null,0,0,null,0,null,0,0,0,0,0]
[102,0,null,0,"OK",0,0,null,0,0,null,0,null,0,0,0,0,0]
[103,661028,{"$f":"'Assets-Liab 5-6'!F31","v":661028},0,"OK",660741,0,null,0,660741,null,660741,null,0,0,{"$f":"VLOOKUP(A110,'Data Pull totals 5-8'!A:C,3,0)","v":287},661028,0]
[104,0,null,0,"OK",0,0,null,0,0,null,0,null,0,0,0,0,0]
[105,300149230,{"$f":"'Assets-Liab 5-6'!F32","v":300149230},0,"OK",297476991,0,null,733927,298210918,null,298210918,null,0,0,{"$f":"VLOOKUP(A112,'Data Pull totals 5-8'!A:C,3,0)","v":1938312},300149230,0]
[106,0,null,0,"OK",0,0,null,0,0,null,0,null,0,0,0,0,0]
[107,0,null,0,"OK",0,0,null,0,0,null,0,null,0,0,0,0,0]
[108,359145224,{"$f":"'Assets-Liab 5-6'!F34","v":359145224},0,"OK",356214133,0,null,858330,357072463,null,357072463,null,0,0,{"$f":"VLOOKUP(A115,'Data Pull totals 5-8'!A:C,3,0)","v":2072761},359145224,0]
[109,693404368.85000002,{"$f":"'Assets-Liab 5-6'!F39","v":693404368.85000002},0,"OK",684573002.85000002,0,null,0,684573002.85000002,null,684573002.85000002,null,0,0,{"$f":"VLOOKUP(A116,'Data Pull totals 5-8'!A:C,3,0)","v":8831366},693404368.85000002,0]
[110,1219805433.8499999,{"$f":"'Assets-Liab 5-6'!F41","v":1219805433.8499999},0,"OK",1206381384.8499999,0,null,2519922,1208901306.8499999,null,1208901306.8499999,null,0,0,{"$f":"VLOOKUP(A117,'Data Pull totals 5-8'!A:C,3,0)","v":10904127},1219805433.8499999,0]
[111,0,0,0,"OK",0,0,null,0,0,null,0,null,0,0,0,0,0]
[112,159360043,{"$f":"'Assets-Liab 5-6'!G6","v":159360043},0,"OK",156883975,0,null,1526804,158410779,null,158410779,null,0,0,{"$f":"VLOOKUP(A119,'Data Pull totals 5-8'!A:C,3,0)","v":949264},159360043,0]
[113,0,null,0,"OK",0,0,null,0,0,null,0,null,0,0,0,0,0]
[114,0,0,0,"OK",0,0,null,0,0,null,0,null,0,0,0,0,0]
[115,0,0,0,"OK",0,0,null,0,0,null,0,null,0,0,0,0,0]
[116,109853870,{"$f":"'Assets-Liab 5-6'!G5","v":109853870},0,"OK",109853870,0,null,0,109853870,null,109853870,null,0,0,{"$f":"VLOOKUP(A123,'Data Pull totals 5-8'!A:C,3,0)","v":0},109853870,0]
[117,0,0,0,"OK",0,0,null,0,0,null,0,null,0,0,0,0,0]
[118,22713,{"$f":"'Assets-Liab 5-6'!G12","v":22713},0,"OK",22713,0,null,0,22713,null,22713,null,0,0,{"$f":"VLOOKUP(A125,'Data Pull totals 5-8'!A:C,3,0)","v":0},22713,0]
[119,664059480.50999999,{"$f":"'Assets-Liab 5-6'!G13","v":664059480.50999999},0,"OK",656662298.50999999,0,null,4937924,661600222.50999999,null,661600222.50999999,null,0,0,{"$f":"VLOOKUP(A126,'Data Pull totals 5-8'!A:C,3,0)","v":2459258},664059480.50999999,0]
[120,0,null,0,"OK",0,0,null,0,0,null,0,null,0,0,0,0,0]
[121,0,null,0,"OK",0,0,null,0,0,null,0,null,0,0,0,0,0]
[122,0,null,0,"OK",0,0,null,0,0,null,0,null,0,0,0,0,0]
[123,5603839,{"$f":"'Assets-Liab 5-6'!G31","v":5603839},0,"OK",5439635,0,null,0,5439635,null,5439635,null,0,0,{"$f":"VLOOKUP(A130,'Data Pull totals 5-8'!A:C,3,0)","v":164204},5603839,0]
[124,175968464,{"$f":"'Assets-Liab 5-6'!G32","v":175968464},0,"OK",174049901,0,null,976129,175026030,null,175026030,null,0,0,{"$f":"VLOOKUP(A131,'Data Pull totals 5-8'!A:C,3,0)","v":942434},175968464,0]
[125,0,null,0,"OK",0,0,null,0,0,null,0,null,0,0,0,0,0]
[126,0,null,0,"OK",0,0,null,0,0,null,0,null,0,0,0,0,0]
[127,195905778,{"$f":"'Assets-Liab 5-6'!G34","v":195905778},0,"OK",193822964,0,null,976129,194799093,null,194799093,null,0,0,{"$f":"VLOOKUP(A134,'Data Pull totals 5-8'!A:C,3,0)","v":1106685},195905778,0]
[128,322261703.58000004,{"$f":"'Assets-Liab 5-6'!G39","v":322261703.58000004},0,"OK",318868766.58000004,-5.9604644775390625E-8,null,2040364,320909130.58000004,null,320909130.58000004,null,0,0,{"$f":"VLOOKUP(A135,'Data Pull totals 5-8'!A:C,3,0)","v":1352573},322261703.58000004,0]
[129,664059480.58000004,{"$f":"'Assets-Liab 5-6'!G41","v":664059480.58000004},{"$f":"B136-C136","v":0},{"$f":"IF((D136 = 0),\"OK\",IF((D136<-5),\"CHECK ME!\",IF((D136>5),\"Check Me!\",\"OK\")))","v":"OK"},656662298.58000004,0,null,4937924,661600222.58000004,null,661600222.58000004,null,0,0,{"$f":"VLOOKUP(A136,'Data Pull totals 5-8'!A:C,3,0)","v":2459258},664059480.58000004,0]
[130,0,null,0,"OK",0,0,null,0,0,null,0,null,0,0,0,0,0]
[131,0,null,0,"OK",0,0,null,0,0,null,0,null,0,0,0,0,0]
[132,0,null,0,"OK",0,0,null,0,0,null,0,null,0,0,0,0,0]
[133,0,null,0,"OK",0,0,null,0,0,null,0,null,{"$f":"SUM(J140-L140)","v":0},0,0,0,{"$f":"SUM(L140+P140-Q140)","v":0}]
[134,0,null,0,"OK",0,0,null,0,0,null,0,null,0,0,0,0,0]
[135,0,null,0,"OK",0,0,null,0,0,null,0,null,0,0,0,0,0]
[136,0,null,0,"OK",0,0,null,0,0,null,0,null,0,0,0,0,0]
[137,0,{"$f":"'Assets-Liab 5-6'!H10","v":0},0,"OK",0,0,null,0,0,null,0,null,0,0,0,0,0]
[138,459294954,{"$f":"'Assets-Liab 5-6'!H5","v":459294954},0,"OK",459294954,0,null,0,459294954,null,459294954,null,0,0,{"$f":"VLOOKUP(A145,'Data Pull totals 5-8'!A:C,3,0)","v":0},459294954,0]
[139,0,null,0,"OK",0,0,null,0,0,null,0,null,0,0,0,0,0]
[140,0,null,0,"OK",0,0,null,0,0,null,0,null,0,0,0,0,0]
[141,34045,{"$f":"'Assets-Liab 5-6'!H12","v":34045},0,"OK",34045,0,null,0,34045,null,34045,null,0,0,{"$f":"VLOOKUP(A148,'Data Pull totals 5-8'!A:C,3,0)","v":0},34045,0]
[142,2640275571,{"$f":"'Assets-Liab 5-6'!H13","v":2640275571},0,"OK",2635375119,0,null,1386767,2636761886,null,2636761886,null,0,0,{"$f":"VLOOKUP(A149,'Data Pull totals 5-8'!A:C,3,0)","v":3513685},2640275571,0]
[143,0,null,0,"OK",0,0,null,0,0,null,0,null,0,0,0,0,0]
[144,0,null,0,"OK",0,0,null,0,0,null,0,null,0,0,0,0,0]
[145,9113,{"$f":"'Assets-Liab 5-6'!H31","v":9113},0,"OK",9113,0,null,0,9113,null,9113,null,0,0,{"$f":"VLOOKUP(A152,'Data Pull totals 5-8'!A:C,3,0)","v":0},9113,0]
[146,0,null,0,"OK",0,0,null,0,0,null,0,null,0,0,0,0,0]
[147,17494828,{"$f":"'Assets-Liab 5-6'!H32","v":17494828},0,"OK",17494828,0,null,0,17494828,null,17494828,null,0,0,{"$f":"VLOOKUP(A154,'Data Pull totals 5-8'!A:C,3,0)","v":0},17494828,0]
[148,0,null,0,"OK",0,0,null,0,0,null,0,null,0,0,0,0,0]
[149,0,null,0,"OK",0,0,null,0,0,null,0,null,0,0,0,0,0]
[150,188343915,{"$f":"'Assets-Liab 5-6'!H34","v":188343915},0,"OK",187253893,0,null,0,187253893,null,187253893,null,0,0,{"$f":"VLOOKUP(A157,'Data Pull totals 5-8'!A:C,3,0)","v":1090022},188343915,0]
[151,1212270301,{"$f":"'Assets-Liab 5-6'!H39","v":1212270301},0,"OK",1209846638,0,null,0,1209846638,null,1209846638,null,0,0,{"$f":"VLOOKUP(A158,'Data Pull totals 5-8'!A:C,3,0)","v":2423663},1212270301,0]
[152,2640275571,{"$f":"'Assets-Liab 5-6'!H41","v":2640275571},0,"OK",2635375119,0,null,1386767,2636761886,null,2636761886,null,0,0,{"$f":"VLOOKUP(A159,'Data Pull totals 5-8'!A:C,3,0)","v":3513685},2640275571,0]
[153,0,null,0,"OK",0,0,null,0,0,null,0,null,0,0,0,0,0]
[154,0,null,0,"OK",0,0,null,0,0,null,0,null,0,0,0,0,0]
[155,0,null,0,"OK",0,0,null,0,0,null,0,null,0,0,0,0,0]
[156,0,null,0,"OK",0,0,null,0,0,null,0,null,0,0,0,0,0]
[157,0,null,0,"OK",0,0,null,0,0,null,0,null,0,0,0,0,0]
[158,0,null,0,"OK",0,0,null,0,0,null,0,null,0,0,0,0,0]
[159,0,null,0,"OK",0,0,null,0,0,null,0,null,0,0,0,0,0]
[160,0,null,0,"OK",0,0,null,0,0,null,0,null,0,0,0,0,0]
[161,0,null,0,"OK",0,0,null,0,0,null,0,null,0,0,0,0,0]
[162,0,null,0,"OK",0,0,null,0,0,null,0,null,0,0,0,0,0]
[163,0,null,0,"OK",0,0,null,0,0,null,0,null,0,0,0,0,0]
[164,0,null,0,"OK",0,0,null,0,0,null,0,null,0,0,0,0,0]
[165,0,null,0,"OK",0,0,null,0,0,null,0,null,0,0,0,0,0]
[166,0,null,0,"OK",0,0,null,0,0,null,0,null,0,0,0,0,0]
[167,0,null,0,"OK",0,0,null,0,0,null,0,null,0,0,0,0,0]
[168,0,null,0,"OK",0,0,null,0,0,null,0,null,0,0,0,0,0]
[169,0,null,0,"OK",0,0,null,0,0,null,0,null,0,0,0,0,0]
[170,0,null,0,"OK",0,0,null,0,0,null,0,null,0,0,0,0,0]
[171,0,null,0,"OK",0,0,null,0,0,null,0,null,0,0,0,0,0]
[172,0,null,0,"OK",0,0,null,0,0,null,0,null,0,0,0,0,0]
[173,0,null,0,"OK",0,0,null,0,0,null,0,null,0,0,0,0,0]
[174,0,null,0,"OK",0,0,null,0,0,null,0,null,0,0,0,0,0]
[175,0,null,0,"OK",0,0,null,0,0,null,0,null,0,0,0,0,0]
[176,0,null,0,"OK",0,0,null,0,0,null,0,null,0,0,0,0,0]
[177,0,null,0,"OK",0,0,null,0,0,null,0,null,0,0,0,0,0]
[178,0,null,0,"OK",0,0,null,0,0,null,0,null,0,0,0,0,0]
[179,0,null,0,"OK",0,0,null,0,0,null,0,null,0,0,0,0,0]
[180,0,null,0,"OK",0,0,null,0,0,null,0,null,0,0,0,0,0]
[181,0,null,0,"OK",0,0,null,0,0,null,0,null,0,0,0,0,0]
[182,0,null,0,"OK",0,0,null,0,0,null,0,null,0,0,0,0,0]
[183,0,null,0,"OK",0,0,null,0,0,null,0,null,0,0,0,0,0]
[184,0,null,0,"OK",0,0,null,0,0,null,0,null,0,0,0,0,0]
[185,0,null,0,"OK",0,0,null,0,0,null,0,null,0,0,0,0,0]
[186,0,null,0,"OK",0,0,null,0,0,null,0,null,0,0,0,0,0]
[187,0,null,0,"OK",0,0,null,0,0,null,0,null,0,0,0,0,0]
[188,0,null,0,"OK",0,0,null,0,0,null,0,null,0,0,0,0,0]
[189,0,null,0,"OK",0,0,null,0,0,null,0,null,0,0,0,0,0]
[190,0,null,0,"OK",0,0,null,0,0,null,0,null,0,0,0,0,0]
[191,0,null,0,"OK",0,0,null,0,0,null,0,null,0,0,0,0,0]
[192,0,null,0,"OK",0,0,null,0,0,null,0,null,0,0,0,0,0]
[193,0,null,{"$f":"B200-C200","v":0},{"$f":"IF((D200 = 0),\"OK\",IF((D200<-5),\"CHECK ME!\",IF((D200>5),\"Check Me!\",\"OK\")))","v":"OK"},0,0,null,0,0,null,0,null,0,0,0,0,0]
[194,0,null,0,"OK",0,0,null,0,0,null,0,null,0,0,0,0,0]
[195,0,null,0,"OK",0,0,null,0,0,null,0,null,0,0,0,0,0]
[196,0,null,0,"OK",0,0,null,0,0,null,0,null,0,0,0,0,0]
[197,0,null,0,"OK",0,0,null,0,0,null,0,null,{"$f":"SUM(J204-L204)","v":0},0,0,0,{"$f":"SUM(L204+P204-Q204)","v":0}]
[198,0,null,0,"OK",0,0,null,0,0,null,0,null,0,0,0,0,0]
[199,0,null,0,"OK",0,0,null,0,0,null,0,null,0,0,0,0,0]
[200,0,null,0,"OK",0,0,null,0,0,null,0,null,0,0,0,0,0]
[201,0,null,0,"OK",0,0,null,0,0,null,0,null,0,0,0,0,0]
[202,0,null,0,"OK",0,0,null,0,0,null,0,null,0,0,0,0,0]
[203,0,null,0,"OK",0,0,null,0,0,null,0,null,0,0,0,0,0]
[204,0,null,0,"OK",0,0,null,0,0,null,0,null,0,0,0,0,0]
[205,0,null,0,"OK",0,0,null,0,0,null,0,null,0,0,0,0,0]
[206,0,null,0,"OK",0,0,null,0,0,null,0,null,0,0,0,0,0]
[207,0,null,0,"OK",0,0,null,0,0,null,0,null,0,0,0,0,0]
[208,0,null,0,"OK",0,0,null,0,0,null,0,null,0,0,0,0,0]
[209,0,null,0,"OK",0,0,null,0,0,null,0,null,0,0,0,0,0]
[210,0,null,0,"OK",0,0,null,0,0,null,0,null,0,0,0,0,0]
[211,0,null,0,"OK",0,0,null,0,0,null,0,null,0,0,0,0,0]
[212,1324789248,{"$f":"'Assets-Liab 5-6'!M16","v":1324789248},0,"OK",1321482713,0,null,815300,1322298013,null,1322298013,null,0,0,{"$f":"VLOOKUP(A219,'Data Pull totals 5-8'!A:C,3,0)","v":2491235},1324789248,0]
[213,35041727478.099998,{"$f":"'Assets-Liab 5-6'!M17","v":35041727478.099998},0,"OK",34711002216.099998,0,null,214644813,34925647029.099998,null,34925647029.099998,null,0,0,{"$f":"VLOOKUP(A220,'Data Pull totals 5-8'!A:C,3,0)","v":116080449},35041727478.099998,0]
[214,1971193145.51,{"$f":"'Assets-Liab 5-6'!M18","v":1971193145.51},0,"OK",1966589033.51,0,null,4604112,1971193145.51,null,1971193145.51,null,0,0,{"$f":"VLOOKUP(A221,'Data Pull totals 5-8'!A:C,3,0)","v":0},1971193145.51,0]
[215,3714249063,{"$f":"'Assets-Liab 5-6'!M19","v":3714249063},0,"OK",3690008038,0,null,20966469,3710974507,null,3710974507,null,0,0,{"$f":"VLOOKUP(A222,'Data Pull totals 5-8'!A:C,3,0)","v":3274556},3714249063,0]
[216,0,null,0,"OK",0,0,null,0,0,null,0,null,0,0,0,0,0]
[217,0,null,0,"OK",0,0,null,0,0,null,0,null,0,0,0,0,0]
[218,43113898681.610001,{"$f":"'Assets-Liab 5-6'!M23","v":43113898681.610001},0,"OK",42751021747.610001,0,null,241030694,42992052441.610001,null,42992052441.610001,null,0,0,{"$f":"VLOOKUP(A225,'Data Pull totals 5-8'!A:C,3,0)","v":121846240},43113898681.610001,0]
[219,43113898681.610001,{"$f":"'Assets-Liab 5-6'!M40","v":43113898681.610001},0,"OK",42751021747.610001,0,null,241030694,42992052441.610001,null,42992052441.610001,null,0,0,{"$f":"VLOOKUP(A226,'Data Pull totals 5-8'!A:C,3,0)","v":121846240},43113898681.610001,0]
[220,43113898681.610001,{"$f":"'Assets-Liab 5-6'!M41","v":43113898681.610001},0,"OK",42751021747.610001,0,null,241030694,42992052441.610001,null,42992052441.610001,null,0,0,{"$f":"VLOOKUP(A227,'Data Pull totals 5-8'!A:C,3,0)","v":121846240},43113898681.610001,0]
[221,1649628613,{"$f":"'Assets-Liab 5-6'!N21","v":1649628613},0,"OK",1638517869,0,null,6642216,1645160085,null,1645160085,null,0,0,{"$f":"VLOOKUP(A228,'Data Pull totals 5-8'!A:C,3,0)","v":4468528},1649628613,0]
[222,20000728898,{"$f":"'Assets-Liab 5-6'!N22","v":20000728898},0,"OK",19888607637,0,null,23577784,19912185421,null,19912185421,null,0,0,{"$f":"VLOOKUP(A229,'Data Pull totals 5-8'!A:C,3,0)","v":88543477},20000728898,0]
[223,21650357511,{"$f":"'Assets-Liab 5-6'!N23","v":21650357511},0,"OK",21527125506,0,null,30220000,21557345506,null,21557345506,null,0,0,{"$f":"VLOOKUP(A230,'Data Pull totals 5-8'!A:C,3,0)","v":93012005},21650357511,0]
[224,21650268294,{"$f":"'Assets-Liab 5-6'!N36","v":21650268294},0,"OK",21527036289,0,null,30220000,21557256289,null,21557256289,null,0,0,{"$f":"VLOOKUP(A231,'Data Pull totals 5-8'!A:C,3,0)","v":93012005},21650268294,0]
[225,0,null,0,"OK",0,0,null,0,0,null,0,null,0,0,0,0,0]
[226,21650268294,{"$f":"'Assets-Liab 5-6'!N37","v":21650268294},0,"OK",21527036289,0,null,30220000,21557256289,null,21557256289,null,0,0,{"$f":"VLOOKUP(A233,'Data Pull totals 5-8'!A:C,3,0)","v":93012005},21650268294,0]
[227,21650268294,{"$f":"'Assets-Liab 5-6'!N41","v":21650268294},0,"OK",21527036289,0,null,30220000,21557256289,null,21557256289,null,0,0,{"$f":"VLOOKUP(A234,'Data Pull totals 5-8'!A:C,3,0)","v":93012005},21650268294,0]
[228,0,null,0,"OK",0,0,null,0,0,null,0,null,0,0,0,0,0]
[229,0,null,0,"OK",0,0,null,0,0,null,0,null,0,0,0,0,0]
[230,0,null,0,"OK",0,0,null,0,0,null,0,null,0,0,0,0,0]
[231,0,null,0,"OK",0,0,null,0,0,null,0,null,0,0,0,0,0]
[232,0,null,0,"OK",0,0,null,0,0,null,0,null,0,0,0,0,0]
[233,0,null,0,"OK",0,0,null,0,0,null,0,null,0,0,0,0,0]
[234,0,null,0,"OK",0,0,null,0,0,null,0,null,0,0,0,0,0]
[235,0,null,0,"OK",0,0,null,0,0,null,0,null,0,0,0,0,0]
[236,0,null,0,"OK",0,0,null,0,0,null,0,null,0,0,0,0,0]
[237,0,null,0,"OK",0,0,null,0,0,null,0,null,0,0,0,0,0]
[238,0,null,0,"OK",0,0,null,0,0,null,0,null,0,0,0,0,0]
[239,0,null,0,"OK",0,0,null,0,0,null,0,null,0,0,0,0,0]
[240,0,null,0,"OK",0,0,null,0,0,null,0,null,0,0,0,0,0]
[241,0,null,0,"OK",0,0,null,0,0,null,0,null,0,0,0,0,0]
[242,0,null,0,"OK",0,0,null,0,0,null,0,null,0,0,0,0,0]
[243,0,null,0,"OK",0,0,null,0,0,null,0,null,0,0,0,0,0]
[244,0,null,0,"OK",0,0,null,0,0,null,0,null,0,0,0,0,0]
[245,0,null,0,"OK",0,0,null,0,0,null,0,null,0,0,0,0,0]
[246,0,null,0,"OK",0,0,null,0,0,null,0,null,0,0,0,0,0]
[247,0,null,0,"OK",0,0,null,0,0,null,0,null,0,0,0,0,0]
[248,0,null,0,"OK",0,0,null,0,0,null,0,null,0,0,0,0,0]
[249,0,null,0,"OK",0,0,null,0,0,null,0,null,0,0,0,0,0]
[250,0,null,0,"OK",0,0,null,0,0,null,0,null,0,0,0,0,0]
[251,0,null,0,"OK",0,0,null,0,0,null,0,null,0,0,0,0,0]
[252,0,null,0,"OK",0,0,null,0,0,null,0,null,0,0,0,0,0]
[253,0,null,0,"OK",0,0,null,0,0,null,0,null,0,0,0,0,0]
[254,0,null,0,"OK",0,0,null,0,0,null,0,null,0,0,0,0,0]
[255,0,null,0,"OK",0,0,null,0,0,null,0,null,0,0,0,0,0]
[256,0,null,0,"OK",0,0,null,0,0,null,0,null,0,0,0,0,0]
[257,0,null,{"$f":"B264-C264","v":0},{"$f":"IF((D264 = 0),\"OK\",IF((D264<-5),\"CHECK ME!\",IF((D264>5),\"Check Me!\",\"OK\")))","v":"OK"},0,0,null,0,0,null,0,null,0,0,0,0,0]
[258,0,null,0,"OK",0,0,null,0,0,null,0,null,0,0,0,0,0]
[259,19734469,{"$f":"'Acct Summary 7-8'!C24","v":19734469},0,"OK",19734469,0,null,0,19734469,null,19734469,null,0,0,{"$f":"VLOOKUP(A266,'Data Pull totals 5-8'!A:C,3,0)","v":0},19734469,0]
[260,5656749,{"$f":"'Acct Summary 7-8'!C26","v":5656749},0,"OK",5656749,0,null,0,5656749,null,5656749,null,0,0,{"$f":"VLOOKUP(A267,'Data Pull totals 5-8'!A:C,3,0)","v":0},5656749,0]
[261,0,null,0,"OK",0,0,null,0,0,null,0,null,{"$f":"SUM(J268-L268)","v":0},0,0,0,{"$f":"SUM(L268+P268-Q268)","v":0}]
[262,13385462,{"$f":"'Acct Summary 7-8'!C33","v":13385462},0,"OK",13385462,0,null,0,13385462,null,13385462,null,0,0,{"$f":"VLOOKUP(A269,'Data Pull totals 5-8'!A:C,3,0)","v":0},13385462,0]
[263,24190,{"$f":"'Acct Summary 7-8'!C34","v":24190},0,"OK",24190,0,null,0,24190,null,24190,null,0,0,{"$f":"VLOOKUP(A270,'Data Pull totals 5-8'!A:C,3,0)","v":0},24190,0]
[264,0,{"$f":"'Acct Summary 7-8'!C35","v":0},0,"OK",0,0,null,0,0,null,0,null,0,0,0,0,0]
[265,0,null,0,"OK",0,0,null,0,0,null,0,null,0,0,0,0,0]
[266,0,null,0,"OK",0,0,null,0,0,null,0,null,0,0,0,0,0]
[267,0,null,0,"OK",0,0,null,0,0,null,0,null,0,0,0,0,0]
[268,0,null,0,"OK",0,0,null,0,0,null,0,null,0,0,0,0,0]
[269,0,null,0,"OK",0,0,null,0,0,null,0,null,0,0,0,0,0]
[270,0,null,0,"OK",0,0,null,0,0,null,0,null,0,0,0,0,0]
[271,0,null,0,"OK",0,0,null,0,0,null,0,null,0,0,0,0,0]
[272,0,null,0,"OK",0,0,null,0,0,null,0,null,0,0,0,0,0]
[273,0,null,0,"OK",0,0,null,0,0,null,0,null,0,0,0,0,0]
[274,0,null,0,"OK",0,0,null,0,0,null,0,null,0,0,0,0,0]
[275,0,null,0,"OK",0,0,null,0,0,null,0,null,0,0,0,0,0]
[276,0,null,0,"OK",0,0,null,0,0,null,0,null,0,0,0,0,0]
[277,0,null,0,"OK",0,0,null,0,0,null,0,null,0,0,0,0,0]
[278,0,null,0,"OK",0,0,null,0,0,null,0,null,0,0,0,0,0]
[279,0,null,0,"OK",0,0,null,0,0,null,0,null,0,0,0,0,0]
[280,0,null,0,"OK",0,0,null,0,0,null,0,null,0,0,0,0,0]
[281,0,null,0,"OK",0,0,null,0,0,null,0,null,0,0,0,0,0]
[282,0,null,0,"OK",0,0,null,0,0,null,0,null,0,0,0,0,0]
[283,0,null,0,"OK",0,0,null,0,0,null,0,null,0,0,0,0,0]
[284,0,null,0,"OK",0,0,null,0,0,null,0,null,0,0,0,0,0]
[285,0,null,0,"OK",0,0,null,0,0,null,0,null,0,0,0,0,0]
[286,0,null,0,"OK",0,0,null,0,0,null,0,null,0,0,0,0,0]
[287,0,null,0,"OK",0,0,null,0,0,null,0,null,0,0,0,0,0]
[288,0,null,0,"OK",0,0,null,0,0,null,0,null,0,0,0,0,0]
[289,0,null,0,"OK",0,0,null,0,0,null,0,null,0,0,0,0,0]
[290,0,null,0,"OK",0,0,null,0,0,null,0,null,0,0,0,0,0]
[291,0,null,0,"OK",0,0,null,0,0,null,0,null,0,0,0,0,0]
[292,0,null,0,"OK",0,0,null,0,0,null,0,null,0,0,0,0,0]
[293,0,null,0,"OK",0,0,null,0,0,null,0,null,0,0,0,0,0]
[294,0,null,0,"OK",0,0,null,0,0,null,0,null,0,0,0,0,0]
[295,0,null,0,"OK",0,0,null,0,0,null,0,null,0,0,0,0,0]
[296,0,null,0,"OK",0,0,null,0,0,null,0,null,0,0,0,0,0]
[297,0,null,0,"OK",0,0,null,0,0,null,0,null,0,0,0,0,0]
[298,0,null,0,"OK",0,0,null,0,0,null,0,null,0,0,0,0,0]
[299,0,null,0,"OK",0,0,null,0,0,null,0,null,0,0,0,0,0]
[300,0,null,0,"OK",0,0,null,0,0,null,0,null,0,0,0,0,0]
[301,0,null,0,"OK",0,0,null,0,0,null,0,null,0,0,0,0,0]
[302,0,null,0,"OK",0,0,null,0,0,null,0,null,0,0,0,0,0]
[303,0,null,0,"OK",0,0,null,0,0,null,0,null,0,0,0,0,0]
[304,0,null,0,"OK",0,0,null,0,0,null,0,null,0,0,0,0,0]
[305,0,null,0,"OK",0,0,null,0,0,null,0,null,0,0,0,0,0]
[306,0,null,0,"OK",0,0,null,0,0,null,0,null,0,0,0,0,0]
[307,0,null,0,"OK",0,0,null,0,0,null,0,null,0,0,0,0,0]
[308,0,null,0,"OK",0,0,null,0,0,null,0,null,0,0,0,0,0]
[309,0,null,0,"OK",0,0,null,0,0,null,0,null,0,0,0,0,0]
[310,0,null,0,"OK",0,0,null,0,0,null,0,null,0,0,0,0,0]
[311,0,null,0,"OK",0,0,null,0,0,null,0,null,0,0,0,0,0]
[312,0,null,0,"OK",0,0,null,0,0,null,0,null,0,0,0,0,0]
[313,0,null,0,"OK",0,0,null,0,0,null,0,null,0,0,0,0,0]
[314,0,null,0,"OK",0,0,null,0,0,null,0,null,0,0,0,0,0]
[315,0,null,0,"OK",0,0,null,0,0,null,0,null,0,0,0,0,0]
[316,0,null,0,"OK",0,0,null,0,0,null,0,null,0,0,0,0,0]
[317,0,null,0,"OK",0,0,null,0,0,null,0,null,0,0,0,0,0]
[318,0,null,0,"OK",0,0,null,0,0,null,0,null,0,0,0,0,0]
[319,0,null,0,"OK",0,0,null,0,0,null,0,null,0,0,0,0,0]
[320,0,null,0,"OK",0,0,null,0,0,null,0,null,0,0,0,0,0]
[321,0,null,{"$f":"B328-C328","v":0},{"$f":"IF((D328 = 0),\"OK\",IF((D328<-5),\"CHECK ME!\",IF((D328>5),\"Check Me!\",\"OK\")))","v":"OK"},0,0,null,0,0,null,0,null,0,0,0,0,0]
[322,0,null,0,"OK",0,0,null,0,0,null,0,null,0,0,0,0,0]
[323,0,null,0,"OK",0,0,null,0,0,null,0,null,0,0,0,0,0]
[324,0,null,0,"OK",0,0,null,0,0,null,0,null,0,0,0,0,0]
[325,0,null,0,"OK",0,0,null,0,0,null,0,null,{"$f":"SUM(J332-L332)","v":0},0,0,0,{"$f":"SUM(L332+P332-Q332)","v":0}]
[326,0,null,0,"OK",0,0,null,0,0,null,0,null,0,0,0,0,0]
[327,0,null,0,"OK",0,0,null,0,0,null,0,null,0,0,0,0,0]
[328,0,null,0,"OK",0,0,null,0,0,null,0,null,0,0,0,0,0]
[329,0,null,0,"OK",0,0,null,0,0,null,0,null,0,0,0,0,0]
[330,0,null,0,"OK",0,0,null,0,0,null,0,null,0,0,0,0,0]
[331,0,null,0,"OK",0,0,null,0,0,null,0,null,0,0,0,0,0]
[332,0,null,0,"OK",0,0,null,0,0,null,0,null,0,0,0,0,0]
[333,0,null,0,"OK",0,0,null,0,0,null,0,null,0,0,0,0,0]
[334,0,null,0,"OK",0,0,null,0,0,null,0,null,0,0,0,0,0]
[335,0,null,0,"OK",0,0,null,0,0,null,0,null,0,0,0,0,0]
[336,0,null,0,"OK",0,0,null,0,0,null,0,null,0,0,0,0,0]
[337,0,null,0,"OK",0,0,null,0,0,null,0,null,0,0,0,0,0]
[338,0,null,0,"OK",0,0,null,0,0,null,0,null,0,0,0,0,0]
[339,0,null,0,"OK",0,0,null,0,0,null,0,null,0,0,0,0,0]
[340,0,null,0,"OK",0,0,null,0,0,null,0,null,0,0,0,0,0]
[341,0,null,0,"OK",0,0,null,0,0,null,0,null,0,0,0,0,0]
[342,0,null,0,"OK",0,0,null,0,0,null,0,null,0,0,0,0,0]
[343,0,null,0,"OK",0,0,null,0,0,null,0,null,0,0,0,0,0]
[344,0,null,0,"OK",0,0,null,0,0,null,0,null,0,0,0,0,0]
[345,0,null,0,"OK",0,0,null,0,0,null,0,null,0,0,0,0,0]
[346,0,null,0,"OK",0,0,null,0,0,null,0,null,0,0,0,0,0]
[347,0,null,0,"OK",0,0,null,0,0,null,0,null,0,0,0,0,0]
[348,0,null,0,"OK",0,0,null,0,0,null,0,null,0,0,0,0,0]
[349,0,null,0,"OK",0,0,null,0,0,null,0,null,0,0,0,0,0]
[350,0,null,0,"OK",0,0,null,0,0,null,0,null,0,0,0,0,0]
[351,0,null,0,"OK",0,0,null,0,0,null,0,null,0,0,0,0,0]
[352,0,null,0,"OK",0,0,null,0,0,null,0,null,0,0,0,0,0]
[353,0,null,0,"OK",0,0,null,0,0,null,0,null,0,0,0,0,0]
[354,0,null,0,"OK",0,0,null,0,0,null,0,null,0,0,0,0,0]
[355,0,null,0,"OK",0,0,null,0,0,null,0,null,0,0,0,0,0]
[356,0,null,0,"OK",0,0,null,0,0,null,0,null,0,0,0,0,0]
[357,0,null,0,"OK",0,0,null,0,0,null,0,null,0,0,0,0,0]
[358,0,null,0,"OK",0,0,null,0,0,null,0,null,0,0,0,0,0]
[359,0,null,0,"OK",0,0,null,0,0,null,0,null,0,0,0,0,0]
[360,0,null,0,"OK",0,0,null,0,0,null,0,null,0,0,0,0,0]
[361,0,null,0,"OK",0,0,null,0,0,null,0,null,0,0,0,0,0]
[362,0,null,0,"OK",0,0,null,0,0,null,0,null,0,0,0,0,0]
[363,0,null,0,"OK",0,0,null,0,0,null,0,null,0,0,0,0,0]
[364,0,null,0,"OK",0,0,null,0,0,null,0,null,0,0,0,0,0]
[365,0,null,0,"OK",0,0,null,0,0,null,0,null,0,0,0,0,0]
[366,0,null,0,"OK",0,0,null,0,0,null,0,null,0,0,0,0,0]
[367,0,null,0,"OK",0,0,null,0,0,null,0,null,0,0,0,0,0]
[368,0,null,0,"OK",0,0,null,0,0,null,0,null,0,0,0,0,0]
[369,0,null,0,"OK",0,0,null,0,0,null,0,null,0,0,0,0,0]
[370,0,null,0,"OK",0,0,null,0,0,null,0,null,0,0,0,0,0]
[371,4568411,{"$f":"'Acct Summary 7-8'!D26","v":4568411},0,"OK",4568411,0,null,0,4568411,null,4568411,null,0,0,{"$f":"VLOOKUP(A378,'Data Pull totals 5-8'!A:C,3,0)","v":0},4568411,0]
[372,0,"                                                           ",null,"OK",0,0,null,0,0,null,0,null,0,0,0,0,0]
[373,0,null,0,"OK",0,0,null,0,0,null,0,null,0,0,0,0,0]
[374,0,null,0,"OK",0,0,null,0,0,null,0,null,0,0,0,0,0]
[375,0,null,0,"OK",0,0,null,0,0,null,0,null,0,0,0,0,0]
[376,0,null,0,"OK",0,0,null,0,0,null,0,null,0,0,0,0,0]
[377,0,null,0,"OK",0,0,null,0,0,null,0,null,0,0,0,0,0]
[378,0,null,0,"OK",0,0,null,0,0,null,0,null,0,0,0,0,0]
[379,0,null,0,"OK",0,0,null,0,0,null,0,null,0,0,0,0,0]
[380,0,null,0,"OK",0,0,null,0,0,null,0,null,0,0,0,0,0]
[381,0,null,0,"OK",0,0,null,0,0,null,0,null,0,0,0,0,0]
[382,0,null,0,"OK",0,0,null,0,0,null,0,null,0,0,0,0,0]
[383,0,null,0,"OK",0,0,null,0,0,null,0,null,0,0,0,0,0]
[384,0,null,0,"OK",0,0,null,0,0,null,0,null,0,0,0,0,0]
[385,0,null,{"$f":"B392-C392","v":0},{"$f":"IF((D392 = 0),\"OK\",IF((D392<-5),\"CHECK ME!\",IF((D392>5),\"Check Me!\",\"OK\")))","v":"OK"},0,0,null,0,0,null,0,null,0,0,0,0,0]
[386,0,null,0,"OK",0,0,null,0,0,null,0,null,0,0,0,0,0]
[387,0,null,0,"OK",0,0,null,0,0,null,0,null,0,0,0,0,0]
[388,0,null,0,"OK",0,0,null,0,0,null,0,null,0,0,0,0,0]
[389,0,null,0,"OK",0,0,null,0,0,null,0,null,{"$f":"SUM(J396-L396)","v":0},0,0,0,{"$f":"SUM(L396+P396-Q396)","v":0}]
[390,0,null,0,"OK",0,0,null,0,0,null,0,null,0,0,0,0,0]
[391,0,null,0,"OK",0,0,null,0,0,null,0,null,0,0,0,0,0]
[392,0,null,0,"OK",0,0,null,0,0,null,0,null,0,0,0,0,0]
[393,0,null,0,"OK",0,0,null,0,0,null,0,null,0,0,0,0,0]
[394,0,null,0,"OK",0,0,null,0,0,null,0,null,0,0,0,0,0]
[395,0,null,0,"OK",0,0,null,0,0,null,0,null,0,0,0,0,0]
[396,0,null,0,"OK",0,0,null,0,0,null,0,null,0,0,0,0,0]
[397,0,null,0,"OK",0,0,null,0,0,null,0,null,0,0,0,0,0]
[398,0,null,0,"OK",0,0,null,0,0,null,0,null,0,0,0,0,0]
[399,0,null,0,"OK",0,0,null,0,0,null,0,null,0,0,0,0,0]
[400,0,null,0,"OK",0,0,null,0,0,null,0,null,0,0,0,0,0]
[401,0,null,0,"OK",0,0,null,0,0,null,0,null,0,0,0,0,0]
[402,0,null,0,"OK",0,0,null,0,0,null,0,null,0,0,0,0,0]
[403,0,null,0,"OK",0,0,null,0,0,null,0,null,0,0,0,0,0]
[404,0,null,0,"OK",0,0,null,0,0,null,0,null,0,0,0,0,0]
[405,0,null,0,"OK",0,0,null,0,0,null,0,null,0,0,0,0,0]
[406,0,null,0,"OK",0,0,null,0,0,null,0,null,0,0,0,0,0]
[407,0,null,0,"OK",0,0,null,0,0,null,0,null,0,0,0,0,0]
[408,0,null,0,"OK",0,0,null,0,0,null,0,null,0,0,0,0,0]
[409,0,null,0,"OK",0,0,null,0,0,null,0,null,0,0,0,0,0]
[410,0,null,0,"OK",0,0,null,0,0,null,0,null,0,0,0,0,0]
[411,0,null,0,"OK",0,0,null,0,0,null,0,null,0,0,0,0,0]
[412,0,null,0,"OK",0,0,null,0,0,null,0,null,0,0,0,0,0]
[413,0,null,0,"OK",0,0,null,0,0,null,0,null,0,0,0,0,0]
[414,0,null,0,"OK",0,0,null,0,0,null,0,null,0,0,0,0,0]
[415,0,null,0,"OK",0,0,null,0,0,null,0,null,0,0,0,0,0]
[416,0,null,0,"OK",0,0,null,0,0,null,0,null,0,0,0,0,0]
[417,0,null,0,"OK",0,0,null,0,0,null,0,null,0,0,0,0,0]
[418,0,null,0,"OK",0,0,null,0,0,null,0,null,0,0,0,0,0]
[419,0,null,0,"OK",0,0,null,0,0,null,0,null,0,0,0,0,0]
[420,0,null,0,"OK",0,0,null,0,0,null,0,null,0,0,0,0,0]
[421,0,null,0,"OK",0,0,null,0,0,null,0,null,0,0,0,0,0]
[422,0,null,0,"OK",0,0,null,0,0,null,0,null,0,0,0,0,0]
[423,0,null,0,"OK",0,0,null,0,0,null,0,null,0,0,0,0,0]
[424,0,null,0,"OK",0,0,null,0,0,null,0,null,0,0,0,0,0]
[425,0,null,0,"OK",0,0,null,0,0,null,0,null,0,0,0,0,0]
[426,0,null,0,"OK",0,0,null,0,0,null,0,null,0,0,0,0,0]
[427,0,null,0,"OK",0,0,null,0,0,null,0,null,0,0,0,0,0]
[428,0,null,0,"OK",0,0,null,0,0,null,0,null,0,0,0,0,0]
[429,0,null,0,"OK",0,0,null,0,0,null,0,null,0,0,0,0,0]
[430,0,null,0,"OK",0,0,null,0,0,null,0,null,0,0,0,0,0]
[431,0,null,0,"OK",0,0,null,0,0,null,0,null,0,0,0,0,0]
[432,0,null,0,"OK",0,0,null,0,0,null,0,null,0,0,0,0,0]
[433,0,null,0,"OK",0,0,null,0,0,null,0,null,0,0,0,0,0]
[434,0,null,0,"OK",0,0,null,0,0,null,0,null,0,0,0,0,0]
[435,0,null,0,"OK",0,0,null,0,0,null,0,null,0,0,0,0,0]
[436,0,null,0,"OK",0,0,null,0,0,null,0,null,0,0,0,0,0]
[437,0,null,0,"OK",0,0,null,0,0,null,0,null,0,0,0,0,0]
[438,0,null,0,"OK",0,0,null,0,0,null,0,null,0,0,0,0,0]
[439,116325619,{"$f":"'Acct Summary 7-8'!E34","v":116325619},0,"OK",116325619,0,null,0,116325619,null,116325619,null,0,0,{"$f":"VLOOKUP(A446,'Data Pull totals 5-8'!A:C,3,0)","v":0},116325619,0]
[440,220808,{"$f":"'Acct Summary 7-8'!E35","v":220808},0,"OK",220808,0,null,0,220808,null,220808,null,0,0,{"$f":"VLOOKUP(A447,'Data Pull totals 5-8'!A:C,3,0)","v":0},220808,0]
[441,0,null,0,"OK",0,0,null,0,0,null,0,null,0,0,0,0,0]
[442,0,null,0,"OK",0,0,null,0,0,null,0,null,0,0,0,0,0]
[443,0,null,0,"OK",0,0,null,0,0,null,0,null,0,0,0,0,0]
[444,0,null,0,"OK",0,0,null,0,0,null,0,null,0,0,0,0,0]
[445,0,null,0,"OK",0,0,null,0,0,null,0,null,0,0,0,0,0]
[446,0,null,0,"OK",0,0,null,0,0,null,0,null,0,0,0,0,0]
[447,0,null,0,"OK",0,0,null,0,0,null,0,null,0,0,0,0,0]
[448,0,null,0,"OK",0,0,null,0,0,null,0,null,0,0,0,0,0]
[449,0,null,{"$f":"B456-C456","v":0},{"$f":"IF((D456 = 0),\"OK\",IF((D456<-5),\"CHECK ME!\",IF((D456>5),\"Check Me!\",\"OK\")))","v":"OK"},0,0,null,0,0,null,0,null,0,0,0,0,0]
[450,0,null,0,"OK",0,0,null,0,0,null,0,null,0,0,0,0,0]
[451,0,null,0,"OK",0,0,null,0,0,null,0,null,0,0,0,0,0]
[452,0,null,0,"OK",0,0,null,0,0,null,0,null,0,0,0,0,0]
[453,0,null,0,"OK",0,0,null,0,0,null,0,null,{"$f":"SUM(J460-L460)","v":0},0,0,0,{"$f":"SUM(L460+P460-Q460)","v":0}]
[454,0,null,0,"OK",0,0,null,0,0,null,0,null,0,0,0,0,0]
[455,0,null,0,"OK",0,0,null,0,0,null,0,null,0,0,0,0,0]
[456,0,null,0,"OK",0,0,null,0,0,null,0,null,0,0,0,0,0]
[457,0,null,0,"OK",0,0,null,0,0,null,0,null,0,0,0,0,0]
[458,0,null,0,"OK",0,0,null,0,0,null,0,null,0,0,0,0,0]
[459,0,null,0,"OK",0,0,null,0,0,null,0,null,0,0,0,0,0]
[460,0,null,0,"OK",0,0,null,0,0,null,0,null,0,0,0,0,0]
[461,0,null,0,"OK",0,0,null,0,0,null,0,null,0,0,0,0,0]
[462,0,null,0,"OK",0,0,null,0,0,null,0,null,0,0,0,0,0]
[463,0,null,0,"OK",0,0,null,0,0,null,0,null,0,0,0,0,0]
[464,0,null,0,"OK",0,0,null,0,0,null,0,null,0,0,0,0,0]
[465,0,null,0,"OK",0,0,null,0,0,null,0,null,0,0,0,0,0]
[466,0,null,0,"OK",0,0,null,0,0,null,0,null,0,0,0,0,0]
[467,0,null,0,"OK",0,0,null,0,0,null,0,null,0,0,0,0,0]
[468,0,null,0,"OK",0,0,null,0,0,null,0,null,0,0,0,0,0]
[469,0,null,0,"OK",0,0,null,0,0,null,0,null,0,0,0,0,0]
[470,0,null,0,"OK",0,0,null,0,0,null,0,null,0,0,0,0,0]
[471,0,null,0,"OK",0,0,null,0,0,null,0,null,0,0,0,0,0]
[472,0,null,0,"OK",0,0,null,0,0,null,0,null,0,0,0,0,0]
[473,0,null,0,"OK",0,0,null,0,0,null,0,null,0,0,0,0,0]
[474,0,null,0,"OK",0,0,null,0,0,null,0,null,0,0,0,0,0]
[475,0,null,0,"OK",0,0,null,0,0,null,0,null,0,0,0,0,0]
[476,0,null,0,"OK",0,0,null,0,0,null,0,null,0,0,0,0,0]
[477,0,null,0,"OK",0,0,null,0,0,null,0,null,0,0,0,0,0]
[478,0,null,0,"OK",0,0,null,0,0,null,0,null,0,0,0,0,0]
[479,0,null,0,"OK",0,0,null,0,0,null,0,null,0,0,0,0,0]
[480,0,null,0,"OK",0,0,null,0,0,null,0,null,0,0,0,0,0]
[481,0,null,0,"OK",0,0,null,0,0,null,0,null,0,0,0,0,0]
[482,0,null,0,"OK",0,0,null,0,0,null,0,null,0,0,0,0,0]
[483,0,null,0,"OK",0,0,null,0,0,null,0,null,0,0,0,0,0]
[484,0,null,0,"OK",0,0,null,0,0,null,0,null,0,0,0,0,0]
[485,0,null,0,"OK",0,0,null,0,0,null,0,null,0,0,0,0,0]
[486,0,null,0,"OK",0,0,null,0,0,null,0,null,0,0,0,0,0]
[487,0,null,0,"OK",0,0,null,0,0,null,0,null,0,0,0,0,0]
[488,0,null,0,"OK",0,0,null,0,0,null,0,null,0,0,0,0,0]
[489,0,null,0,"OK",0,0,null,0,0,null,0,null,0,0,0,0,0]
[490,0,null,0,"OK",0,0,null,0,0,null,0,null,0,0,0,0,0]
[491,0,null,0,"OK",0,0,null,0,0,null,0,null,0,0,0,0,0]
[492,0,null,0,"OK",0,0,null,0,0,null,0,null,0,0,0,0,0]
[493,0,null,0,"OK",0,0,null,0,0,null,0,null,0,0,0,0,0]
[494,0,null,0,"OK",0,0,null,0,0,null,0,null,0,0,0,0,0]
[495,0,null,0,"OK",0,0,null,0,0,null,0,null,0,0,0,0,0]
[496,0,null,0,"OK",0,0,null,0,0,null,0,null,0,0,0,0,0]
[497,0,null,0,"OK",0,0,null,0,0,null,0,null,0,0,0,0,0]
[498,0,null,0,"OK",0,0,null,0,0,null,0,null,0,0,0,0,0]
[499,0,null,0,"OK",0,0,null,0,0,null,0,null,0,0,0,0,0]
[500,0,null,0,"OK",0,0,null,0,0,null,0,null,0,0,0,0,0]
[501,0,null,0,"OK",0,0,null,0,0,null,0,null,0,0,0,0,0]
[502,0,null,0,"OK",0,0,null,0,0,null,0,null,0,0,0,0,0]
[503,0,null,0,"OK",0,0,null,0,0,null,0,null,0,0,0,0,0]
[504,0,null,0,"OK",0,0,null,0,0,null,0,null,0,0,0,0,0]
[505,0,null,0,"OK",0,0,null,0,0,null,0,null,0,0,0,0,0]
[506,0,null,0,"OK",0,0,null,0,0,null,0,null,0,0,0,0,0]
[507,0,null,0,"OK",0,0,null,0,0,null,0,null,0,0,0,0,0]
[508,0,null,0,"OK",0,0,null,0,0,null,0,null,0,0,0,0,0]
[509,0,null,0,"OK",0,0,null,0,0,null,0,null,0,0,0,0,0]
[510,0,null,0,"OK",0,0,null,0,0,null,0,null,0,0,0,0,0]
[511,0,null,0,"OK",0,0,null,0,0,null,0,null,0,0,0,0,0]
[512,0,null,0,"OK",0,0,null,0,0,null,0,null,0,0,0,0,0]
[513,0,null,{"$f":"B520-C520","v":0},{"$f":"IF((D520 = 0),\"OK\",IF((D520<-5),\"CHECK ME!\",IF((D520>5),\"Check Me!\",\"OK\")))","v":"OK"},0,0,null,0,0,null,0,null,0,0,0,0,0]
[514,0,null,0,"OK",0,0,null,0,0,null,0,null,0,0,0,0,0]
[515,0,null,0,"OK",0,0,null,0,0,null,0,null,0,0,0,0,0]
[516,0,null,0,"OK",0,0,null,0,0,null,0,null,0,0,0,0,0]
[517,0,null,0,"OK",0,0,null,0,0,null,0,null,{"$f":"SUM(J524-L524)","v":0},0,0,0,{"$f":"SUM(L524+P524-Q524)","v":0}]
[518,0,null,0,"OK",0,0,null,0,0,null,0,null,0,0,0,0,0]
[519,0,null,0,"OK",0,0,null,0,0,null,0,null,0,0,0,0,0]
[520,0,null,0,"OK",0,0,null,0,0,null,0,null,0,0,0,0,0]
[521,0,null,0,"OK",0,0,null,0,0,null,0,null,0,0,0,0,0]
[522,0,null,0,"OK",0,0,null,0,0,null,0,null,0,0,0,0,0]
[523,0,null,0,"OK",0,0,null,0,0,null,0,null,0,0,0,0,0]
[524,0,null,0,"OK",0,0,null,0,0,null,0,null,0,0,0,0,0]
[525,0,null,0,"OK",0,0,null,0,0,null,0,null,0,0,0,0,0]
[526,0,null,0,"OK",0,0,null,0,0,null,0,null,0,0,0,0,0]
[527,0,null,0,"OK",0,0,null,0,0,null,0,null,0,0,0,0,0]
[528,0,null,0,"OK",0,0,null,0,0,null,0,null,0,0,0,0,0]
[529,0,null,0,"OK",0,0,null,0,0,null,0,null,0,0,0,0,0]
[530,0,null,0,"OK",0,0,null,0,0,null,0,null,0,0,0,0,0]
[531,0,null,0,"OK",0,0,null,0,0,null,0,null,0,0,0,0,0]
[532,0,null,0,"OK",0,0,null,0,0,null,0,null,0,0,0,0,0]
[533,0,null,0,"OK",0,0,null,0,0,null,0,null,0,0,0,0,0]
[534,0,null,0,"OK",0,0,null,0,0,null,0,null,0,0,0,0,0]
[535,0,null,0,"OK",0,0,null,0,0,null,0,null,0,0,0,0,0]
[536,0,null,0,"OK",0,0,null,0,0,null,0,null,0,0,0,0,0]
[537,0,null,0,"OK",0,0,null,0,0,null,0,null,0,0,0,0,0]
[538,0,null,0,"OK",0,0,null,0,0,null,0,null,0,0,0,0,0]
[539,0,null,0,"OK",0,0,null,0,0,null,0,null,0,0,0,0,0]
[540,0,null,0,"OK",0,0,null,0,0,null,0,null,0,0,0,0,0]
[541,0,null,0,"OK",0,0,null,0,0,null,0,null,0,0,0,0,0]
[542,0,null,0,"OK",0,0,null,0,0,null,0,null,0,0,0,0,0]
[543,0,null,0,"OK",0,0,null,0,0,null,0,null,0,0,0,0,0]
[544,0,null,0,"OK",0,0,null,0,0,null,0,null,0,0,0,0,0]
[545,0,null,0,"OK",0,0,null,0,0,null,0,null,0,0,0,0,0]
[546,0,null,0,"OK",0,0,null,0,0,null,0,null,0,0,0,0,0]
[547,0,null,0,"OK",0,0,null,0,0,null,0,null,0,0,0,0,0]
[548,0,null,0,"OK",0,0,null,0,0,null,0,null,0,0,0,0,0]
[549,0,null,0,"OK",0,0,null,0,0,null,0,null,0,0,0,0,0]
[550,0,null,0,"OK",0,0,null,0,0,null,0,null,0,0,0,0,0]
[551,0,null,0,"OK",0,0,null,0,0,null,0,null,0,0,0,0,0]
[552,0,null,0,"OK",0,0,null,0,0,null,0,null,0,0,0,0,0]
[553,0,null,0,"OK",0,0,null,0,0,null,0,null,0,0,0,0,0]
[554,0,null,0,"OK",0,0,null,0,0,null,0,null,0,0,0,0,0]
[555,0,null,0,"OK",0,0,null,0,0,null,0,null,0,0,0,0,0]
[556,0,null,0,"OK",0,0,null,0,0,null,0,null,0,0,0,0,0]
[557,956982138,{"$f":"'Acct Summary 7-8'!H33","v":956982138},0,"OK",956982138,0,null,0,956982138,null,956982138,null,0,0,{"$f":"VLOOKUP(A564,'Data Pull totals 5-8'!A:C,3,0)","v":0},956982138,0]
[558,41601698,{"$f":"'Acct Summary 7-8'!H34","v":41601698},0,"OK",41601698,0,null,0,41601698,null,41601698,null,0,0,{"$f":"VLOOKUP(A565,'Data Pull totals 5-8'!A:C,3,0)","v":0},41601698,0]
[559,575570,{"$f":"'Acct Summary 7-8'!H35","v":575570},0,"OK",575570,0,null,0,575570,null,575570,null,0,0,{"$f":"VLOOKUP(A566,'Data Pull totals 5-8'!A:C,3,0)","v":0},575570,0]
[560,0,null,0,"OK",0,0,null,0,0,null,0,null,0,0,0,0,0]
[561,0,null,0,"OK",0,0,null,0,0,null,0,null,0,0,0,0,0]
[562,0,null,0,"OK",0,0,null,0,0,null,0,null,0,0,0,0,0]
[563,0,null,0,"OK",0,0,null,0,0,null,0,null,0,0,0,0,0]
[564,0,null,0,"OK",0,0,null,0,0,null,0,null,0,0,0,0,0]
[565,0,null,0,"OK",0,0,null,0,0,null,0,null,0,0,0,0,0]
[566,0,null,0,"OK",0,0,null,0,0,null,0,null,0,0,0,0,0]
[567,0,null,0,"OK",0,0,null,0,0,null,0,null,0,0,0,0,0]
[568,0,null,0,"OK",0,0,null,0,0,null,0,null,0,0,0,0,0]
[569,0,null,0,"OK",0,0,null,0,0,null,0,null,0,0,0,0,0]
[570,0,null,0,"OK",0,0,null,0,0,null,0,null,0,0,0,0,0]
[571,0,null,0,"OK",0,0,null,0,0,null,0,null,0,0,0,0,0]
[572,0,null,0,"OK",0,0,null,0,0,null,0,null,0,0,0,0,0]
[573,0,null,0,"OK",0,0,null,0,0,null,0,null,0,0,0,0,0]
[574,0,null,0,"OK",0,0,null,0,0,null,0,null,0,0,0,0,0]
[575,0,null,0,"OK",0,0,null,0,0,null,0,null,0,0,0,0,0]
[576,0,null,0,"OK",0,0,null,0,0,null,0,null,0,0,0,0,0]
[577,0,null,{"$f":"B584-C584","v":0},{"$f":"IF((D584 = 0),\"OK\",IF((D584<-5),\"CHECK ME!\",IF((D584>5),\"Check Me!\",\"OK\")))","v":"OK"},0,0,null,0,0,null,0,null,0,0,0,0,0]
[578,0,null,0,"OK",0,0,null,0,0,null,0,null,0,0,0,0,0]
[579,0,null,0,"OK",0,0,null,0,0,null,0,null,0,0,0,0,0]
[580,0,null,0,"OK",0,0,null,0,0,null,0,null,0,0,0,0,0]
[581,0,null,0,"OK",0,0,null,0,0,null,0,null,{"$f":"SUM(J588-L588)","v":0},0,0,0,{"$f":"SUM(L588+P588-Q588)","v":0}]
[582,0,null,0,"OK",0,0,null,0,0,null,0,null,0,0,0,0,0]
[583,0,null,0,"OK",0,0,null,0,0,null,0,null,0,0,0,0,0]
[584,0,null,0,"OK",0,0,null,0,0,null,0,null,0,0,0,0,0]
[585,0,null,0,"OK",0,0,null,0,0,null,0,null,0,0,0,0,0]
[586,0,null,0,"OK",0,0,null,0,0,null,0,null,0,0,0,0,0]
[587,0,null,0,"OK",0,0,null,0,0,null,0,null,0,0,0,0,0]
[588,0,null,0,"OK",0,0,null,0,0,null,0,null,0,0,0,0,0]
[589,0,null,0,"OK",0,0,null,0,0,null,0,null,0,0,0,0,0]
[590,311901711,{"$f":"'Acct Summary 7-8'!I33","v":311901711},0,"OK",311901711,0,null,0,311901711,null,311901711,null,0,0,{"$f":"VLOOKUP(A597,'Data Pull totals 5-8'!A:C,3,0)","v":0},311901711,0]
[591,7162087,{"$f":"'Acct Summary 7-8'!I34","v":7162087},0,"OK",7162087,0,null,0,7162087,null,7162087,null,0,0,{"$f":"VLOOKUP(A598,'Data Pull totals 5-8'!A:C,3,0)","v":0},7162087,0]
[592,0,{"$f":"'Acct Summary 7-8'!I35","v":0},0,"OK",0,0,null,0,0,null,0,null,0,0,0,0,0]
[593,0,null,0,"OK",0,0,null,0,0,null,0,null,0,0,0,0,0]
[594,0,null,0,"OK",0,0,null,0,0,null,0,null,0,0,0,0,0]
[595,0,null,0,"OK",0,0,null,0,0,null,0,null,0,0,0,0,0]
[596,0,null,0,"OK",0,0,null,0,0,null,0,null,0,0,0,0,0]
[597,0,null,0,"OK",0,0,null,0,0,null,0,null,0,0,0,0,0]
[598,0,null,0,"OK",0,0,null,0,0,null,0,null,0,0,0,0,0]
[599,0,null,0,"OK",0,0,null,0,0,null,0,null,0,0,0,0,0]
[600,0,null,0,"OK",0,0,null,0,0,null,0,null,0,0,0,0,0]
[601,0,null,0,"OK",0,0,null,0,0,null,0,null,0,0,0,0,0]
[602,0,null,0,"OK",0,0,null,0,0,null,0,null,0,0,0,0,0]
[603,0,null,0,"OK",0,0,null,0,0,null,0,null,0,0,0,0,0]
[604,0,null,0,"OK",0,0,null,0,0,null,0,null,0,0,0,0,0]
[605,0,null,0,"OK",0,0,null,0,0,null,0,null,0,0,0,0,0]
[606,0,null,0,"OK",0,0,null,0,0,null,0,null,0,0,0,0,0]
[607,0,null,0,"OK",0,0,null,0,0,null,0,null,0,0,0,0,0]
[608,0,null,0,"OK",0,0,null,0,0,null,0,null,0,0,0,0,0]
[609,0,null,0,"OK",0,0,null,0,0,null,0,null,0,0,0,0,0]
[610,0,null,0,"OK",0,0,null,0,0,null,0,null,0,0,0,0,0]
[611,0,null,0,"OK",0,0,null,0,0,null,0,null,0,0,0,0,0]
[612,0,null,0,"OK",0,0,null,0,0,null,0,null,0,0,0,0,0]
[613,0,null,0,"OK",0,0,null,0,0,null,0,null,0,0,0,0,0]
[614,0,null,0,"OK",0,0,null,0,0,null,0,null,0,0,0,0,0]
[615,0,null,0,"OK",0,0,null,0,0,null,0,null,0,0,0,0,0]
[616,0,null,0,"OK",0,0,null,0,0,null,0,null,0,0,0,0,0]
[617,0,null,0,"OK",0,0,null,0,0,null,0,null,0,0,0,0,0]
[618,0,null,0,"OK",0,0,null,0,0,null,0,null,0,0,0,0,0]
[619,0,null,0,"OK",0,0,null,0,0,null,0,null,0,0,0,0,0]
[620,0,null,0,"OK",0,0,null,0,0,null,0,null,0,0,0,0,0]
[621,0,null,0,"OK",0,0,null,0,0,null,0,null,0,0,0,0,0]
[622,0,null,0,"OK",0,0,null,0,0,null,0,null,0,0,0,0,0]
[623,0,null,0,"OK",0,0,null,0,0,null,0,null,0,0,0,0,0]
[624,0,null,0,"OK",0,0,null,0,0,null,0,null,0,0,0,0,0]
[625,0,null,0,"OK",0,0,null,0,0,null,0,null,0,0,0,0,0]
[626,0,null,0,"OK",0,0,null,0,0,null,0,null,0,0,0,0,0]
[627,0,null,0,"OK",0,0,null,0,0,null,0,null,0,0,0,0,0]
[628,0,null,0,"OK",0,0,null,0,0,null,0,null,0,0,0,0,0]
[629,0,null,0,"OK",0,0,null,0,0,null,0,null,0,0,0,0,0]
[630,0,null,0,"OK",0,0,null,0,0,null,0,null,0,0,0,0,0]
[631,0,null,0,"OK",0,0,null,0,0,null,0,null,0,0,0,0,0]
[632,0,null,0,"OK",0,0,null,0,0,null,0,null,0,0,0,0,0]
[633,0,null,0,"OK",0,0,null,0,0,null,0,null,0,0,0,0,0]
[634,0,null,0,"OK",0,0,null,0,0,null,0,null,0,0,0,0,0]
[635,0,null,0,"OK",0,0,null,0,0,null,0,null,0,0,0,0,0]
[636,0,null,0,"OK",0,0,null,0,0,null,0,null,0,0,0,0,0]
[637,0,null,0,"OK",0,0,null,0,0,null,0,null,0,0,0,0,0]
[638,0,null,0,"OK",0,0,null,0,0,null,0,null,0,0,0,0,0]
[639,0,null,0,"OK",0,0,null,0,0,null,0,null,0,0,0,0,0]
[640,0,null,0,"OK",0,0,null,0,0,null,0,null,0,0,0,0,0]
[641,0,null,{"$f":"B648-C648","v":0},{"$f":"IF((D648 = 0),\"OK\",IF((D648<-5),\"CHECK ME!\",IF((D648>5),\"Check Me!\",\"OK\")))","v":"OK"},0,0,null,0,0,null,0,null,0,0,0,0,0]
[642,0,null,0,"OK",0,0,null,0,0,null,0,null,0,0,0,0,0]
[643,0,null,0,"OK",0,0,null,0,0,null,0,null,0,0,0,0,0]
[644,6756811393.6300001,{"$f":"'Expenditures 15-22'!C5","v":6756811393.6300001},0,"OK",6725988791.6300001,0,null,15183063,6741171854.6300001,null,6741171854.6300001,null,0,0,{"$f":"VLOOKUP(A651,'Data Pull totals 5-8'!A:C,3,0)","v":15639539},6756811393.6300001,0]
[645,53496043,{"$f":"'Expenditures 15-22'!C16","v":53496043},0,"OK",53496043,0,null,0,53496043,null,53496043,null,{"$f":"SUM(J652-L652)","v":0},0,{"$f":"VLOOKUP(A652,'Data Pull totals 5-8'!A:C,3,0)","v":0},53496043,{"$f":"SUM(L652+P652-Q652)","v":0}]
[646,0,null,0,"OK",0,0,null,0,0,null,0,null,0,0,0,0,0]
[647,0,null,0,"OK",0,0,null,0,0,null,0,null,0,0,0,0,0]
[648,0,null,0,"OK",0,0,null,0,0,null,0,null,0,0,0,0,0]
[649,0,null,0,"OK",0,0,null,0,0,null,0,null,0,0,0,0,0]
[650,0,null,0,"OK",0,0,null,0,0,null,0,null,0,0,0,0,0]
[651,357544899,{"$f":"'Expenditures 15-22'!C18","v":357544899},0,"OK",357363460,0,null,181439,357544899,null,357544899,null,0,0,{"$f":"VLOOKUP(A658,'Data Pull totals 5-8'!A:C,3,0)","v":0},357544899,0]
[652,0,null,0,"OK",0,0,null,0,0,null,0,null,0,0,0,0,0]
[653,0,null,0,"OK",0,0,null,0,0,null,0,null,0,0,0,0,0]
[654,0,null,0,"OK",0,0,null,0,0,null,0,null,0,0,0,0,0]
[655,8234532,{"$f":"'Expenditures 15-22'!C12","v":8234532},0,"OK",8234532,0,null,0,8234532,null,8234532,null,0,0,{"$f":"VLOOKUP(A662,'Data Pull totals 5-8'!A:C,3,0)","v":0},8234532,0]
[656,169314023.82999998,{"$f":"'Expenditures 15-22'!C13","v":169314023.82999998},0,"OK",168764533.82999998,2.9802322387695313E-8,null,535228,169299761.82999998,null,169299761.82999998,null,0,0,{"$f":"VLOOKUP(A663,'Data Pull totals 5-8'!A:C,3,0)","v":14262},169314023.82999998,0]
[657,287818934.90999997,{"$f":"'Expenditures 15-22'!C14","v":287818934.90999997},0,"OK",286407320.90999997,5.9604644775390625E-8,null,194052,286601372.90999997,null,286601372.90999997,null,0,0,{"$f":"VLOOKUP(A664,'Data Pull totals 5-8'!A:C,3,0)","v":1217562},287818934.90999997,0]
[658,47699758,{"$f":"'Expenditures 15-22'!C15","v":47699758},0,"OK",47627036,0,null,0,47627036,null,47627036,null,0,0,{"$f":"VLOOKUP(A665,'Data Pull totals 5-8'!A:C,3,0)","v":72722},47699758,0]
[659,10076797754.52,{"$f":"'Expenditures 15-22'!C33","v":10076797754.519999},0,"OK",10025350996.52,0,null,26930010,10052281006.52,null,10052281006.52,null,0,0,{"$f":"VLOOKUP(A666,'Data Pull totals 5-8'!A:C,3,0)","v":24516748},10076797754.52,0]
[660,268594515,{"$f":"'Expenditures 15-22'!C36","v":268594515},0,"OK",266157298,0,null,1720517,267877815,null,267877815,null,0,0,{"$f":"VLOOKUP(A667,'Data Pull totals 5-8'!A:C,3,0)","v":716700},268594515,0]
[661,306056886.84000003,{"$f":"'Expenditures 15-22'!C37","v":306056886.84000003},0,"OK",304952779.84000003,-5.9604644775390625E-8,null,558433,305511212.84000003,null,305511212.84000003,null,0,0,{"$f":"VLOOKUP(A668,'Data Pull totals 5-8'!A:C,3,0)","v":545674},306056886.84000003,0]
[662,154266626.16,{"$f":"'Expenditures 15-22'!C38","v":154266626.16},0,"OK",153543986.16,0,null,314722,153858708.16,null,153858708.16,null,0,0,{"$f":"VLOOKUP(A669,'Data Pull totals 5-8'!A:C,3,0)","v":407918},154266626.16,0]
[663,124928753,{"$f":"'Expenditures 15-22'!C39","v":124928753},0,"OK",123887233,0,null,488843,124376076,null,124376076,null,0,0,{"$f":"VLOOKUP(A670,'Data Pull totals 5-8'!A:C,3,0)","v":552677},124928753,0]
[664,198791209.88,{"$f":"'Expenditures 15-22'!C40","v":198791209.88},0,"OK",197517810.88,0,null,348066,197865876.88,null,197865876.88,null,0,0,{"$f":"VLOOKUP(A671,'Data Pull totals 5-8'!A:C,3,0)","v":925333},198791209.88,0]
[665,70374127,{"$f":"'Expenditures 15-22'!C41","v":70374127},0,"OK",70175559,0,null,75937,70251496,null,70251496,null,0,0,{"$f":"VLOOKUP(A672,'Data Pull totals 5-8'!A:C,3,0)","v":122631},70374127,0]
[666,1123012117.8800001,{"$f":"'Expenditures 15-22'!C42","v":1123012117.8800001},0,"OK",1116234666.8800001,0,null,3506518,1119741184.8800001,null,1119741184.8800001,null,0,0,{"$f":"VLOOKUP(A673,'Data Pull totals 5-8'!A:C,3,0)","v":3270933},1123012117.8800001,0]
[667,280447313,{"$f":"'Expenditures 15-22'!C44","v":280447313},0,"OK",277430190,0,null,2480594,279910784,null,279910784,null,0,0,{"$f":"VLOOKUP(A674,'Data Pull totals 5-8'!A:C,3,0)","v":536529},280447313,0]
[668,220799197.11000001,{"$f":"'Expenditures 15-22'!C45","v":220799197.11000001},0,"OK",220198199.11000001,0,null,434427,220632626.11000001,null,220632626.11000001,null,0,0,{"$f":"VLOOKUP(A675,'Data Pull totals 5-8'!A:C,3,0)","v":166571},220799197.11000001,0]
[669,13958619,{"$f":"'Expenditures 15-22'!C46","v":13958619},0,"OK",13948319,0,null,10300,13958619,null,13958619,null,0,0,{"$f":"VLOOKUP(A676,'Data Pull totals 5-8'!A:C,3,0)","v":0},13958619,0]
[670,515205129.11000001,{"$f":"'Expenditures 15-22'!C47","v":515205129.11000001},0,"OK",511576708.11000001,0,null,2925321,514502029.11000001,null,514502029.11000001,null,0,0,{"$f":"VLOOKUP(A677,'Data Pull totals 5-8'!A:C,3,0)","v":703100},515205129.11000001,0]
[671,31051748,{"$f":"'Expenditures 15-22'!C49","v":31051748},0,"OK",31051748,0,null,0,31051748,null,31051748,null,0,0,{"$f":"VLOOKUP(A678,'Data Pull totals 5-8'!A:C,3,0)","v":0},31051748,0]
[672,178360664.69,{"$f":"'Expenditures 15-22'!C50","v":178360664.69},0,"OK",176946919.69,0,null,990976,177937895.69,null,177937895.69,null,0,0,{"$f":"VLOOKUP(A679,'Data Pull totals 5-8'!A:C,3,0)","v":422769},178360664.69,0]
[673,283414011.69,{"$f":"'Expenditures 15-22'!C53","v":283414011.69},0,"OK",281381664.69,0,null,1609578,282991242.69,null,282991242.69,null,0,0,{"$f":"VLOOKUP(A680,'Data Pull totals 5-8'!A:C,3,0)","v":422769},283414011.69,0]
[674,876687573.63999999,{"$f":"'Expenditures 15-22'!C55","v":876687573.63999999},0,"OK",871509882.63999999,0,null,2894209,874404091.63999999,null,874404091.63999999,null,0,0,{"$f":"VLOOKUP(A681,'Data Pull totals 5-8'!A:C,3,0)","v":2283482},876687573.63999999,0]
[675,43318310,{"$f":"'Expenditures 15-22'!C56","v":43318310},0,"OK",42251417,0,null,91313,42342730,null,42342730,null,0,0,{"$f":"VLOOKUP(A682,'Data Pull totals 5-8'!A:C,3,0)","v":975580},43318310,0]
[676,920005883.63999999,{"$f":"'Expenditures 15-22'!C57","v":920005883.63999999},0,"OK",913761299.63999999,0,null,2985522,916746821.63999999,null,916746821.63999999,null,0,0,{"$f":"VLOOKUP(A683,'Data Pull totals 5-8'!A:C,3,0)","v":3259062},920005883.63999999,0]
[677,50308998,{"$f":"'Expenditures 15-22'!C59","v":50308998},0,"OK",50098057,0,null,0,50098057,null,50098057,null,0,0,{"$f":"VLOOKUP(A684,'Data Pull totals 5-8'!A:C,3,0)","v":210941},50308998,0]
[678,109376132.69,{"$f":"'Expenditures 15-22'!C60","v":109376132.69},0,"OK",108393466.69,0,null,625775,109019241.69,null,109019241.69,null,0,0,{"$f":"VLOOKUP(A685,'Data Pull totals 5-8'!A:C,3,0)","v":356891},109376132.69,0]
[679,90233291.159999996,{"$f":"'Expenditures 15-22'!C61","v":90233291.159999996},0,"OK",89776659.159999996,0,null,2615,89779274.159999996,null,89779274.159999996,null,0,0,{"$f":"VLOOKUP(A686,'Data Pull totals 5-8'!A:C,3,0)","v":454017},90233291.159999996,0]
[680,19237105,{"$f":"'Expenditures 15-22'!C62","v":19237105},0,"OK",19209309,0,null,27796,19237105,null,19237105,null,0,0,{"$f":"VLOOKUP(A687,'Data Pull totals 5-8'!A:C,3,0)","v":0},19237105,0]
[681,216404843.12,{"$f":"'Expenditures 15-22'!C63","v":216404843.12},0,"OK",215543600.12,0,null,77657,215621257.12,null,215621257.12,null,0,0,{"$f":"VLOOKUP(A688,'Data Pull totals 5-8'!A:C,3,0)","v":783586},216404843.12,0]
[682,10997332,{"$f":"'Expenditures 15-22'!C64","v":10997332},0,"OK",10765601,0,null,231731,10997332,null,10997332,null,0,0,{"$f":"VLOOKUP(A689,'Data Pull totals 5-8'!A:C,3,0)","v":0},10997332,0]
[683,0,null,0,"OK",0,0,null,0,0,null,0,null,0,0,0,0,0]
[684,496557701.96999997,{"$f":"'Expenditures 15-22'!C65","v":496557701.97000003},0,"OK",493786692.96999997,5.9604644775390625E-8,null,965574,494752266.96999997,null,494752266.96999997,null,0,0,{"$f":"VLOOKUP(A691,'Data Pull totals 5-8'!A:C,3,0)","v":1805435},496557701.96999997,0]
[685,7546862,{"$f":"'Expenditures 15-22'!C67","v":7546862},0,"OK",6796415,0,null,750447,7546862,null,7546862,null,0,0,{"$f":"VLOOKUP(A692,'Data Pull totals 5-8'!A:C,3,0)","v":0},7546862,0]
[686,16081191,{"$f":"'Expenditures 15-22'!C68","v":16081191},0,"OK",15585922,0,null,369632,15955554,null,15955554,null,0,0,{"$f":"VLOOKUP(A693,'Data Pull totals 5-8'!A:C,3,0)","v":125637},16081191,0]
[687,24489881,{"$f":"'Expenditures 15-22'!C69","v":24489881},0,"OK",24210062,0,null,0,24210062,null,24210062,null,0,0,{"$f":"VLOOKUP(A694,'Data Pull totals 5-8'!A:C,3,0)","v":279819},24489881,0]
[688,61265263,{"$f":"'Expenditures 15-22'!C70","v":61265263},0,"OK",60431509,0,null,382838,60814347,null,60814347,null,0,0,{"$f":"VLOOKUP(A695,'Data Pull totals 5-8'!A:C,3,0)","v":450916},61265263,0]
[689,0,null,0,"OK",0,0,null,0,0,null,0,null,0,0,0,0,0]
[690,100263695.68000001,{"$f":"'Expenditures 15-22'!C71","v":100263695.68000001},0,"OK",99116649.680000007,0,null,501145,99617794.680000007,null,99617794.680000007,null,0,0,{"$f":"VLOOKUP(A697,'Data Pull totals 5-8'!A:C,3,0)","v":645901},100263695.68000001,0]
[691,0,null,0,"OK",0,0,null,0,0,null,0,null,0,0,0,0,0]
[692,209646892.68000001,{"$f":"'Expenditures 15-22'!C72","v":209646892.68000001},0,"OK",206140557.68000001,0,null,2004062,208144619.68000001,null,208144619.68000001,null,0,0,{"$f":"VLOOKUP(A699,'Data Pull totals 5-8'!A:C,3,0)","v":1502273},209646892.68000001,0]
[693,13160841,{"$f":"'Expenditures 15-22'!C73","v":13160841},0,"OK",12564595,0,null,577912,13142507,null,13142507,null,0,0,{"$f":"VLOOKUP(A700,'Data Pull totals 5-8'!A:C,3,0)","v":18334},13160841,0]
[694,3561002577.9700003,{"$f":"'Expenditures 15-22'!C74","v":3561002577.9699998},0,"OK",3535446184.9700003,-4.76837158203125E-7,null,14574487,3550020671.9700003,null,3550020671.9700003,null,0,0,{"$f":"VLOOKUP(A701,'Data Pull totals 5-8'!A:C,3,0)","v":10981906},3561002577.9700003,0]
[695,71949497,{"$f":"'Expenditures 15-22'!C75","v":71949497},0,"OK",71731371,0,null,183519,71914890,null,71914890,null,0,0,{"$f":"VLOOKUP(A702,'Data Pull totals 5-8'!A:C,3,0)","v":34607},71949497,0]
[696,13709749829.49,{"$f":"'Expenditures 15-22'!C114","v":13709749829.489998},0,"OK",13632528552.49,0,null,41688016,13674216568.49,null,13674216568.49,null,0,0,{"$f":"VLOOKUP(A703,'Data Pull totals 5-8'!A:C,3,0)","v":35533261},13709749829.49,0]
[697,0,null,0,"OK",0,0,null,0,0,null,0,null,0,0,0,0,0]
[698,0,null,0,"OK",0,0,null,0,0,null,0,null,0,0,0,0,0]
[699,0,null,0,"OK",0,0,null,0,0,null,0,null,0,0,0,0,0]
[700,0,null,0,"OK",0,0,null,0,0,null,0,null,0,0,0,0,0]
[701,0,null,0,"OK",0,0,null,0,0,null,0,null,0,0,0,0,0]
[702,1822034676.8499999,{"$f":"'Expenditures 15-22'!D5","v":1822034676.8499999},0,"OK",1817852551.8499999,0,null,2345912,1820198463.8499999,null,1820198463.8499999,null,0,0,{"$f":"VLOOKUP(A709,'Data Pull totals 5-8'!A:C,3,0)","v":1836213},1822034676.8499999,0]
[703,9978449,{"$f":"'Expenditures 15-22'!D16","v":9978449},0,"OK",9978449,0,null,0,9978449,null,9978449,null,0,0,{"$f":"VLOOKUP(A710,'Data Pull totals 5-8'!A:C,3,0)","v":0},9978449,0]
[704,0,null,0,"OK",0,0,null,0,0,null,0,null,0,0,0,0,0]
[705,0,null,{"$f":"B712-C712","v":0},{"$f":"IF((D712 = 0),\"OK\",IF((D712<-5),\"CHECK ME!\",IF((D712>5),\"Check Me!\",\"OK\")))","v":"OK"},0,0,null,0,0,null,0,null,0,0,0,0,0]
[706,0,null,0,"OK",0,0,null,0,0,null,0,null,0,0,0,0,0]
[707,0,null,0,"OK",0,0,null,0,0,null,0,null,0,0,0,0,0]
[708,0,null,0,"OK",0,0,null,0,0,null,0,null,0,0,0,0,0]
[709,77589893,{"$f":"'Expenditures 15-22'!D18","v":77589893},0,"OK",77546871,0,null,43022,77589893,null,77589893,null,{"$f":"SUM(J716-L716)","v":0},0,{"$f":"VLOOKUP(A716,'Data Pull totals 5-8'!A:C,3,0)","v":0},77589893,{"$f":"SUM(L716+P716-Q716)","v":0}]
[710,0,null,0,"OK",0,0,null,0,0,null,0,null,0,0,0,0,0]
[711,0,null,0,"OK",0,0,null,0,0,null,0,null,0,0,0,0,0]
[712,0,null,0,"OK",0,0,null,0,0,null,0,null,0,0,0,0,0]
[713,757212,{"$f":"'Expenditures 15-22'!D12","v":757212},0,"OK",757212,0,null,0,757212,null,757212,null,0,0,{"$f":"VLOOKUP(A720,'Data Pull totals 5-8'!A:C,3,0)","v":0},757212,0]
[714,34246764.590000004,{"$f":"'Expenditures 15-22'!D13","v":34246764.590000004},0,"OK",34144387.590000004,0,null,102377,34246764.590000004,null,34246764.590000004,null,0,0,{"$f":"VLOOKUP(A721,'Data Pull totals 5-8'!A:C,3,0)","v":0},34246764.590000004,0]
[715,20992610.619999997,{"$f":"'Expenditures 15-22'!D14","v":20992610.619999997},0,"OK",20957879.619999997,3.7252902984619141E-9,null,19566,20977445.619999997,null,20977445.619999997,null,0,0,{"$f":"VLOOKUP(A722,'Data Pull totals 5-8'!A:C,3,0)","v":15165},20992610.619999997,0]
[716,2035049.77,{"$f":"'Expenditures 15-22'!D15","v":2035049.77},0,"OK",2033666.77,0,null,0,2033666.77,null,2033666.77,null,0,0,{"$f":"VLOOKUP(A723,'Data Pull totals 5-8'!A:C,3,0)","v":1383},2035049.77,0]
[717,2543322830.9899998,{"$f":"'Expenditures 15-22'!D33","v":2543322830.9899998},0,"OK",2533832478.9899998,0,null,5352930,2539185408.9899998,null,2539185408.9899998,null,0,0,{"$f":"VLOOKUP(A724,'Data Pull totals 5-8'!A:C,3,0)","v":4137422},2543322830.9899998,0]
[718,55238225,{"$f":"'Expenditures 15-22'!D36","v":55238225},0,"OK",54761078,0,null,377350,55138428,null,55138428,null,0,0,{"$f":"VLOOKUP(A725,'Data Pull totals 5-8'!A:C,3,0)","v":99797},55238225,0]
[719,63411190.75,{"$f":"'Expenditures 15-22'!D37","v":63411190.75},0,"OK",63217689.75,0,null,108203,63325892.75,null,63325892.75,null,0,0,{"$f":"VLOOKUP(A726,'Data Pull totals 5-8'!A:C,3,0)","v":85298},63411190.75,0]
[720,31869492.219999999,{"$f":"'Expenditures 15-22'!D38","v":31869492.219999999},0,"OK",31702390.219999999,0,null,90123,31792513.219999999,null,31792513.219999999,null,0,0,{"$f":"VLOOKUP(A727,'Data Pull totals 5-8'!A:C,3,0)","v":76979},31869492.219999999,0]
[721,23346906,{"$f":"'Expenditures 15-22'!D39","v":23346906},0,"OK",23210999,0,null,102847,23313846,null,23313846,null,0,0,{"$f":"VLOOKUP(A728,'Data Pull totals 5-8'!A:C,3,0)","v":33060},23346906,0]
[722,37521044.019999996,{"$f":"'Expenditures 15-22'!D40","v":37521044.019999996},0,"OK",37357431.019999996,7.4505805969238281E-9,null,67669,37425100.019999996,null,37425100.019999996,null,0,0,{"$f":"VLOOKUP(A729,'Data Pull totals 5-8'!A:C,3,0)","v":95944},37521044.019999996,0]
[723,12308047,{"$f":"'Expenditures 15-22'!D41","v":12308047},0,"OK",12289277,0,null,10592,12299869,null,12299869,null,0,0,{"$f":"VLOOKUP(A730,'Data Pull totals 5-8'!A:C,3,0)","v":8178},12308047,0]
[724,223694904.99000001,{"$f":"'Expenditures 15-22'!D42","v":223694904.99000001},0,"OK",222538864.99000001,0,null,756784,223295648.99000001,null,223295648.99000001,null,0,0,{"$f":"VLOOKUP(A731,'Data Pull totals 5-8'!A:C,3,0)","v":399256},223694904.99000001,0]
[725,60734288.57,{"$f":"'Expenditures 15-22'!D44","v":60734288.57},0,"OK",60132440.57,0,null,529034,60661474.57,null,60661474.57,null,0,0,{"$f":"VLOOKUP(A732,'Data Pull totals 5-8'!A:C,3,0)","v":72814},60734288.57,0]
[726,44852028,{"$f":"'Expenditures 15-22'!D45","v":44852028},0,"OK",44725691,0,null,89681,44815372,null,44815372,null,0,0,{"$f":"VLOOKUP(A733,'Data Pull totals 5-8'!A:C,3,0)","v":36656},44852028,0]
[727,1940491,{"$f":"'Expenditures 15-22'!D46","v":1940491},0,"OK",1940491,0,null,0,1940491,null,1940491,null,0,0,{"$f":"VLOOKUP(A734,'Data Pull totals 5-8'!A:C,3,0)","v":0},1940491,0]
[728,107526807.56999999,{"$f":"'Expenditures 15-22'!D47","v":107526807.56999999},0,"OK",106798622.56999999,0,null,618715,107417337.56999999,null,107417337.56999999,null,0,0,{"$f":"VLOOKUP(A735,'Data Pull totals 5-8'!A:C,3,0)","v":109470},107526807.56999999,0]
[729,24918387,{"$f":"'Expenditures 15-22'!D49","v":24918387},0,"OK",24906108,0,null,2192,24908300,null,24908300,null,0,0,{"$f":"VLOOKUP(A736,'Data Pull totals 5-8'!A:C,3,0)","v":10087},24918387,0]
[730,34872831,{"$f":"'Expenditures 15-22'!D50","v":34872831},0,"OK",34666155,0,null,146992,34813147,null,34813147,null,0,0,{"$f":"VLOOKUP(A737,'Data Pull totals 5-8'!A:C,3,0)","v":59684},34872831,0]
[731,78587099,{"$f":"'Expenditures 15-22'!D53","v":78587099},0,"OK",78106630,0,null,268727,78375357,null,78375357,null,0,0,{"$f":"VLOOKUP(A738,'Data Pull totals 5-8'!A:C,3,0)","v":211742},78587099,0]
[732,207302324.60000002,{"$f":"'Expenditures 15-22'!D55","v":207302324.60000002},0,"OK",206224533.60000002,-2.9802322387695313E-8,null,481585,206706118.60000002,null,206706118.60000002,null,0,0,{"$f":"VLOOKUP(A739,'Data Pull totals 5-8'!A:C,3,0)","v":596206},207302324.60000002,0]
[733,10293320,{"$f":"'Expenditures 15-22'!D56","v":10293320},0,"OK",10010093,0,null,12003,10022096,null,10022096,null,0,0,{"$f":"VLOOKUP(A740,'Data Pull totals 5-8'!A:C,3,0)","v":271224},10293320,0]
[734,217595644.60000002,{"$f":"'Expenditures 15-22'!D57","v":217595644.60000002},0,"OK",216234626.60000002,-2.9802322387695313E-8,null,493588,216728214.60000002,null,216728214.60000002,null,0,0,{"$f":"VLOOKUP(A741,'Data Pull totals 5-8'!A:C,3,0)","v":867430},217595644.60000002,0]
[735,10062588,{"$f":"'Expenditures 15-22'!D59","v":10062588},0,"OK",10015932,0,null,0,10015932,null,10015932,null,0,0,{"$f":"VLOOKUP(A742,'Data Pull totals 5-8'!A:C,3,0)","v":46656},10062588,0]
[736,20705644,{"$f":"'Expenditures 15-22'!D60","v":20705644},0,"OK",20588177,0,null,78236,20666413,null,20666413,null,0,0,{"$f":"VLOOKUP(A743,'Data Pull totals 5-8'!A:C,3,0)","v":39231},20705644,0]
[737,18275345,{"$f":"'Expenditures 15-22'!D61","v":18275345},0,"OK",18112536,0,null,42155,18154691,null,18154691,null,0,0,{"$f":"VLOOKUP(A744,'Data Pull totals 5-8'!A:C,3,0)","v":120654},18275345,0]
[738,6861872,{"$f":"'Expenditures 15-22'!D62","v":6861872},0,"OK",6859471,0,null,2401,6861872,null,6861872,null,0,0,{"$f":"VLOOKUP(A745,'Data Pull totals 5-8'!A:C,3,0)","v":0},6861872,0]
[739,55493635,{"$f":"'Expenditures 15-22'!D63","v":55493635},0,"OK",55331968,0,null,0,55331968,null,55331968,null,0,0,{"$f":"VLOOKUP(A746,'Data Pull totals 5-8'!A:C,3,0)","v":161667},55493635,0]
[740,2285625,{"$f":"'Expenditures 15-22'!D64","v":2285625},0,"OK",2249464,0,null,36161,2285625,null,2285625,null,0,0,{"$f":"VLOOKUP(A747,'Data Pull totals 5-8'!A:C,3,0)","v":0},2285625,0]
[741,0,null,0,"OK",0,0,null,0,0,null,0,null,0,0,0,0,0]
[742,113684709,{"$f":"'Expenditures 15-22'!D65","v":113684709},0,"OK",113157548,0,null,158953,113316501,null,113316501,null,0,0,{"$f":"VLOOKUP(A749,'Data Pull totals 5-8'!A:C,3,0)","v":368208},113684709,0]
[743,1527345,{"$f":"'Expenditures 15-22'!D67","v":1527345},0,"OK",1382143,0,null,145202,1527345,null,1527345,null,0,0,{"$f":"VLOOKUP(A750,'Data Pull totals 5-8'!A:C,3,0)","v":0},1527345,0]
[744,2905211,{"$f":"'Expenditures 15-22'!D68","v":2905211},0,"OK",2817564,0,null,66772,2884336,null,2884336,null,0,0,{"$f":"VLOOKUP(A751,'Data Pull totals 5-8'!A:C,3,0)","v":20875},2905211,0]
[745,5828418,{"$f":"'Expenditures 15-22'!D69","v":5828418},0,"OK",5786704,0,null,0,5786704,null,5786704,null,0,0,{"$f":"VLOOKUP(A752,'Data Pull totals 5-8'!A:C,3,0)","v":41714},5828418,0]
[746,29363741,{"$f":"'Expenditures 15-22'!D70","v":29363741},0,"OK",29232528,0,null,59224,29291752,null,29291752,null,0,0,{"$f":"VLOOKUP(A753,'Data Pull totals 5-8'!A:C,3,0)","v":71989},29363741,0]
[747,0,null,0,"OK",0,0,null,0,0,null,0,null,0,0,0,0,0]
[748,17265193,{"$f":"'Expenditures 15-22'!D71","v":17265193},0,"OK",17066129,0,null,95182,17161311,null,17161311,null,0,0,{"$f":"VLOOKUP(A755,'Data Pull totals 5-8'!A:C,3,0)","v":103882},17265193,0]
[749,0,null,0,"OK",0,0,null,0,0,null,0,null,0,0,0,0,0]
[750,56889908,{"$f":"'Expenditures 15-22'!D72","v":56889908},0,"OK",56285068,0,null,366380,56651448,null,56651448,null,0,0,{"$f":"VLOOKUP(A757,'Data Pull totals 5-8'!A:C,3,0)","v":238460},56889908,0]
[751,7489563,{"$f":"'Expenditures 15-22'!D73","v":7489563},0,"OK",7438122,0,null,51441,7489563,null,7489563,null,0,0,{"$f":"VLOOKUP(A758,'Data Pull totals 5-8'!A:C,3,0)","v":0},7489563,0]
[752,805468636.15999997,{"$f":"'Expenditures 15-22'!D74","v":805468636.16000009},0,"OK",800559482.15999997,0,null,2714588,803274070.15999997,null,803274070.15999997,null,0,0,{"$f":"VLOOKUP(A759,'Data Pull totals 5-8'!A:C,3,0)","v":2194566},805468636.15999997,0]
[753,12853444,{"$f":"'Expenditures 15-22'!D75","v":12853444},0,"OK",12816976,0,null,35840,12852816,null,12852816,null,0,0,{"$f":"VLOOKUP(A760,'Data Pull totals 5-8'!A:C,3,0)","v":628},12853444,0]
[754,3361644911.1500001,{"$f":"'Expenditures 15-22'!D114","v":3361644911.1499996},0,"OK",3347208937.1500001,0,null,8103358,3355312295.1500001,null,3355312295.1500001,null,0,0,{"$f":"VLOOKUP(A761,'Data Pull totals 5-8'!A:C,3,0)","v":6332616},3361644911.1500001,0]
[755,0,null,0,"OK",0,0,null,0,0,null,0,null,0,0,0,0,0]
[756,0,null,0,"OK",0,0,null,0,0,null,0,null,0,0,0,0,0]
[757,0,null,0,"OK",0,0,null,0,0,null,0,null,0,0,0,0,0]
[758,0,null,0,"OK",0,0,null,0,0,null,0,null,0,0,0,0,0]
[759,0,null,0,"OK",0,0,null,0,0,null,0,null,0,0,0,0,0]
[760,118216857.58999999,{"$f":"'Expenditures 15-22'!E5","v":118216857.58999999},0,"OK",117455342.58999999,1.4901161193847656E-8,null,708049,118163391.58999999,null,118163391.58999999,null,0,0,{"$f":"VLOOKUP(A767,'Data Pull totals 5-8'!A:C,3,0)","v":53466},118216857.58999999,0]
[761,532417,{"$f":"'Expenditures 15-22'!E16","v":532417},0,"OK",532417,0,null,0,532417,null,532417,null,0,0,{"$f":"VLOOKUP(A768,'Data Pull totals 5-8'!A:C,3,0)","v":0},532417,0]
[762,0,null,0,"OK",0,0,null,0,0,null,0,null,0,0,0,0,0]
[763,0,null,0,"OK",0,0,null,0,0,null,0,null,0,0,0,0,0]
[764,0,null,0,"OK",0,0,null,0,0,null,0,null,0,0,0,0,0]
[765,0,null,0,"OK",0,0,null,0,0,null,0,null,0,0,0,0,0]
[766,0,null,0,"OK",0,0,null,0,0,null,0,null,0,0,0,0,0]
[767,3006103,{"$f":"'Expenditures 15-22'!E18","v":3006103},0,"OK",3004843,0,null,0,3004843,null,3004843,null,0,0,{"$f":"VLOOKUP(A774,'Data Pull totals 5-8'!A:C,3,0)","v":1260},3006103,0]
[768,0,null,0,"OK",0,0,null,0,0,null,0,null,0,0,0,0,0]
[769,0,null,{"$f":"B776-C776","v":0},{"$f":"IF((D776 = 0),\"OK\",IF((D776<-5),\"CHECK ME!\",IF((D776>5),\"Check Me!\",\"OK\")))","v":"OK"},0,0,null,0,0,null,0,null,0,0,0,0,0]
[770,0,null,0,"OK",0,0,null,0,0,null,0,null,0,0,0,0,0]
[771,1571457,{"$f":"'Expenditures 15-22'!E12","v":1571457},0,"OK",1571457,0,null,0,1571457,null,1571457,null,0,0,{"$f":"VLOOKUP(A778,'Data Pull totals 5-8'!A:C,3,0)","v":0},1571457,0]
[772,7573657,{"$f":"'Expenditures 15-22'!E13","v":7573657},0,"OK",7514815,0,null,58842,7573657,null,7573657,null,0,0,{"$f":"VLOOKUP(A779,'Data Pull totals 5-8'!A:C,3,0)","v":0},7573657,0]
[773,45814149.879999995,{"$f":"'Expenditures 15-22'!E14","v":45814149.879999995},0,"OK",45224303.879999995,7.4505805969238281E-9,null,450543,45674846.879999995,null,45674846.879999995,null,{"$f":"SUM(J780-L780)","v":0},0,{"$f":"VLOOKUP(A780,'Data Pull totals 5-8'!A:C,3,0)","v":139303},45814149.879999995,{"$f":"SUM(L780+P780-Q780)","v":0}]
[774,1843734,{"$f":"'Expenditures 15-22'!E15","v":1843734},0,"OK",1843734,0,null,0,1843734,null,1843734,null,0,0,{"$f":"VLOOKUP(A781,'Data Pull totals 5-8'!A:C,3,0)","v":0},1843734,0]
[775,1001894755.4799999,{"$f":"'Expenditures 15-22'!E33","v":1001894755.48},0,"OK",997620207.4799999,1.1920928955078125E-7,null,3303205,1000923412.4799999,null,1000923412.4799999,null,0,0,{"$f":"VLOOKUP(A782,'Data Pull totals 5-8'!A:C,3,0)","v":971343},1001894755.4799999,0]
[776,12748405,{"$f":"'Expenditures 15-22'!E36","v":12748405},0,"OK",12712792,0,null,35613,12748405,null,12748405,null,0,0,{"$f":"VLOOKUP(A783,'Data Pull totals 5-8'!A:C,3,0)","v":0},12748405,0]
[777,12952764,{"$f":"'Expenditures 15-22'!E37","v":12952764},0,"OK",12943349,0,null,6489,12949838,null,12949838,null,0,0,{"$f":"VLOOKUP(A784,'Data Pull totals 5-8'!A:C,3,0)","v":2926},12952764,0]
[778,34798615,{"$f":"'Expenditures 15-22'!E38","v":34798615},0,"OK",34477843,0,null,318234,34796077,null,34796077,null,0,0,{"$f":"VLOOKUP(A785,'Data Pull totals 5-8'!A:C,3,0)","v":2538},34798615,0]
[779,7533541,{"$f":"'Expenditures 15-22'!E39","v":7533541},0,"OK",7527412,0,null,5016,7532428,null,7532428,null,0,0,{"$f":"VLOOKUP(A786,'Data Pull totals 5-8'!A:C,3,0)","v":1113},7533541,0]
[780,24515647,{"$f":"'Expenditures 15-22'!E40","v":24515647},0,"OK",24515469,0,null,0,24515469,null,24515469,null,0,0,{"$f":"VLOOKUP(A787,'Data Pull totals 5-8'!A:C,3,0)","v":178},24515647,0]
[781,12962938,{"$f":"'Expenditures 15-22'!E41","v":12962938},0,"OK",12962938,0,null,0,12962938,null,12962938,null,0,0,{"$f":"VLOOKUP(A788,'Data Pull totals 5-8'!A:C,3,0)","v":0},12962938,0]
[782,105511910,{"$f":"'Expenditures 15-22'!E42","v":105511910},0,"OK",105139803,0,null,365352,105505155,null,105505155,null,0,0,{"$f":"VLOOKUP(A789,'Data Pull totals 5-8'!A:C,3,0)","v":6755},105511910,0]
[783,101939249.48,{"$f":"'Expenditures 15-22'!E44","v":101939249.48},0,"OK",100768143.48,0,null,880056,101648199.48,null,101648199.48,null,0,0,{"$f":"VLOOKUP(A790,'Data Pull totals 5-8'!A:C,3,0)","v":291050},101939249.48,0]
[784,39760327.620000005,{"$f":"'Expenditures 15-22'!E45","v":39760327.620000005},0,"OK",39746103.620000005,-7.4505805969238281E-9,null,134,39746237.620000005,null,39746237.620000005,null,0,0,{"$f":"VLOOKUP(A791,'Data Pull totals 5-8'!A:C,3,0)","v":14090},39760327.620000005,0]
[785,22975295,{"$f":"'Expenditures 15-22'!E46","v":22975295},0,"OK",22835914,0,null,22633,22858547,null,22858547,null,0,0,{"$f":"VLOOKUP(A792,'Data Pull totals 5-8'!A:C,3,0)","v":116748},22975295,0]
[786,164674872.09999999,{"$f":"'Expenditures 15-22'!E47","v":164674872.10000002},0,"OK",163350161.09999999,0,null,902823,164252984.09999999,null,164252984.09999999,null,0,0,{"$f":"VLOOKUP(A793,'Data Pull totals 5-8'!A:C,3,0)","v":421888},164674872.09999999,0]
[787,111483481.76000001,{"$f":"'Expenditures 15-22'!E49","v":111483481.76000001},0,"OK",110958448.76000001,0,null,112939,111071387.76000001,null,111071387.76000001,null,0,0,{"$f":"VLOOKUP(A794,'Data Pull totals 5-8'!A:C,3,0)","v":412094},111483481.76000001,0]
[788,12258202.879999999,{"$f":"'Expenditures 15-22'!E50","v":12258202.879999999},0,"OK",12001930.879999999,1.862645149230957E-9,null,251399,12253329.879999999,null,12253329.879999999,null,0,0,{"$f":"VLOOKUP(A795,'Data Pull totals 5-8'!A:C,3,0)","v":4873},12258202.879999999,0]
[789,145194612.63999999,{"$f":"'Expenditures 15-22'!E53","v":145194612.63999999},0,"OK",143716396.63999999,0,null,373094,144089490.63999999,null,144089490.63999999,null,0,0,{"$f":"VLOOKUP(A796,'Data Pull totals 5-8'!A:C,3,0)","v":1105122},145194612.63999999,0]
[790,21808064.329999998,{"$f":"'Expenditures 15-22'!E55","v":21808064.329999998},0,"OK",21662532.329999998,0,null,141352,21803884.329999998,null,21803884.329999998,null,0,0,{"$f":"VLOOKUP(A797,'Data Pull totals 5-8'!A:C,3,0)","v":4180},21808064.329999998,0]
[791,382388,{"$f":"'Expenditures 15-22'!E56","v":382388},0,"OK",382088,0,null,0,382088,null,382088,null,0,0,{"$f":"VLOOKUP(A798,'Data Pull totals 5-8'!A:C,3,0)","v":300},382388,0]
[792,22190452.329999998,{"$f":"'Expenditures 15-22'!E57","v":22190452.329999998},0,"OK",22044620.329999998,0,null,141352,22185972.329999998,null,22185972.329999998,null,0,0,{"$f":"VLOOKUP(A799,'Data Pull totals 5-8'!A:C,3,0)","v":4480},22190452.329999998,0]
[793,5915267,{"$f":"'Expenditures 15-22'!E59","v":5915267},0,"OK",5858787,0,null,0,5858787,null,5858787,null,0,0,{"$f":"VLOOKUP(A800,'Data Pull totals 5-8'!A:C,3,0)","v":56480},5915267,0]
[794,31438751.790000003,{"$f":"'Expenditures 15-22'!E60","v":31438751.790000003},0,"OK",31340190.790000003,-3.7252902984619141E-9,null,85822,31426012.790000003,null,31426012.790000003,null,0,0,{"$f":"VLOOKUP(A801,'Data Pull totals 5-8'!A:C,3,0)","v":12739},31438751.790000003,0]
[795,72429514,{"$f":"'Expenditures 15-22'!E61","v":72429514},0,"OK",72140275,0,null,159359,72299634,null,72299634,null,0,0,{"$f":"VLOOKUP(A802,'Data Pull totals 5-8'!A:C,3,0)","v":129880},72429514,0]
[796,109471562,{"$f":"'Expenditures 15-22'!E62","v":109471562},0,"OK",109620360,0,null,-148798,109471562,null,109471562,null,0,0,{"$f":"VLOOKUP(A803,'Data Pull totals 5-8'!A:C,3,0)","v":0},109471562,0]
[797,202617370.83000001,{"$f":"'Expenditures 15-22'!E63","v":202617370.83000001},0,"OK",199650261.83000001,0,null,2960292,202610553.83000001,null,202610553.83000001,null,0,0,{"$f":"VLOOKUP(A804,'Data Pull totals 5-8'!A:C,3,0)","v":6817},202617370.83000001,0]
[798,9997150.629999999,{"$f":"'Expenditures 15-22'!E64","v":9997150.629999999},0,"OK",9979714.629999999,1.862645149230957E-9,null,17436,9997150.629999999,null,9997150.629999999,null,0,0,{"$f":"VLOOKUP(A805,'Data Pull totals 5-8'!A:C,3,0)","v":0},9997150.629999999,0]
[799,0,null,0,"OK",0,0,null,0,0,null,0,null,0,0,0,0,0]
[800,431869616.25,{"$f":"'Expenditures 15-22'!E65","v":431869616.25},0,"OK",428589589.25,0,null,3074111,431663700.25,null,431663700.25,null,0,0,{"$f":"VLOOKUP(A807,'Data Pull totals 5-8'!A:C,3,0)","v":205916},431869616.25,0]
[801,2264478,{"$f":"'Expenditures 15-22'!E67","v":2264478},0,"OK",2231844,0,null,32634,2264478,null,2264478,null,0,0,{"$f":"VLOOKUP(A808,'Data Pull totals 5-8'!A:C,3,0)","v":0},2264478,0]
[802,5319354,{"$f":"'Expenditures 15-22'!E68","v":5319354},0,"OK",4987435,0,null,331919,5319354,null,5319354,null,0,0,{"$f":"VLOOKUP(A809,'Data Pull totals 5-8'!A:C,3,0)","v":0},5319354,0]
[803,16403015,{"$f":"'Expenditures 15-22'!E69","v":16403015},0,"OK",16321933,0,null,38755,16360688,null,16360688,null,0,0,{"$f":"VLOOKUP(A810,'Data Pull totals 5-8'!A:C,3,0)","v":42327},16403015,0]
[804,15391306,{"$f":"'Expenditures 15-22'!E70","v":15391306},0,"OK",15115815,0,null,157860,15273675,null,15273675,null,0,0,{"$f":"VLOOKUP(A811,'Data Pull totals 5-8'!A:C,3,0)","v":117631},15391306,0]
[805,0,null,0,"OK",0,0,null,0,0,null,0,null,0,0,0,0,0]
[806,91617766,{"$f":"'Expenditures 15-22'!E71","v":91617766},0,"OK",89837741,0,null,302801,90140542,null,90140542,null,0,0,{"$f":"VLOOKUP(A813,'Data Pull totals 5-8'!A:C,3,0)","v":1477224},91617766,0]
[807,0,null,0,"OK",0,0,null,0,0,null,0,null,0,0,0,0,0]
[808,130995919,{"$f":"'Expenditures 15-22'!E72","v":130995919},0,"OK",128494768,0,null,863969,129358737,null,129358737,null,0,0,{"$f":"VLOOKUP(A815,'Data Pull totals 5-8'!A:C,3,0)","v":1637182},130995919,0]
[809,11016685,{"$f":"'Expenditures 15-22'!E73","v":11016685},0,"OK",11007599,0,null,9086,11016685,null,11016685,null,0,0,{"$f":"VLOOKUP(A816,'Data Pull totals 5-8'!A:C,3,0)","v":0},11016685,0]
[810,1011454067.3200001,{"$f":"'Expenditures 15-22'!E74","v":1011454067.3199999},0,"OK",1002342937.3200001,0,null,5729787,1008072724.3200001,null,1008072724.3200001,null,0,0,{"$f":"VLOOKUP(A817,'Data Pull totals 5-8'!A:C,3,0)","v":3381343},1011454067.3200001,0]
[811,51094488,{"$f":"'Expenditures 15-22'!E75","v":51094488},0,"OK",50401274,0,null,429726,50831000,null,50831000,null,0,0,{"$f":"VLOOKUP(A818,'Data Pull totals 5-8'!A:C,3,0)","v":263488},51094488,0]
[812,2272717531.21,{"$f":"'Expenditures 15-22'!E114","v":2272717531.21},0,"OK",2258041527.21,0,null,10059830,2268101357.21,null,2268101357.21,null,0,0,{"$f":"VLOOKUP(A819,'Data Pull totals 5-8'!A:C,3,0)","v":4616174},2272717531.21,0]
[813,0,null,0,"OK",0,0,null,0,0,null,0,null,0,0,0,0,0]
[814,0,null,0,"OK",0,0,null,0,0,null,0,null,0,0,0,0,0]
[815,0,null,0,"OK",0,0,null,0,0,null,0,null,0,0,0,0,0]
[816,0,null,0,"OK",0,0,null,0,0,null,0,null,0,0,0,0,0]
[817,0,null,0,"OK",0,0,null,0,0,null,0,null,0,0,0,0,0]
[818,298254392.07000005,{"$f":"'Expenditures 15-22'!F5","v":298254392.07000005},0,"OK",297073765.07000005,-5.9604644775390625E-8,null,446414,297520179.07000005,null,297520179.07000005,null,0,0,{"$f":"VLOOKUP(A825,'Data Pull totals 5-8'!A:C,3,0)","v":734213},298254392.07000005,0]
[819,550399,{"$f":"'Expenditures 15-22'!F16","v":550399},0,"OK",550399,0,null,0,550399,null,550399,null,0,0,{"$f":"VLOOKUP(A826,'Data Pull totals 5-8'!A:C,3,0)","v":0},550399,0]
[820,0,null,0,"OK",0,0,null,0,0,null,0,null,0,0,0,0,0]
[821,0,null,0,"OK",0,0,null,0,0,null,0,null,0,0,0,0,0]
[822,0,null,0,"OK",0,0,null,0,0,null,0,null,0,0,0,0,0]
[823,0,null,0,"OK",0,0,null,0,0,null,0,null,0,0,0,0,0]
[824,0,null,0,"OK",0,0,null,0,0,null,0,null,0,0,0,0,0]
[825,7046593,{"$f":"'Expenditures 15-22'!F18","v":7046593},0,"OK",7043631,0,null,405,7044036,null,7044036,null,0,0,{"$f":"VLOOKUP(A832,'Data Pull totals 5-8'!A:C,3,0)","v":2557},7046593,0]
[826,0,null,0,"OK",0,0,null,0,0,null,0,null,0,0,0,0,0]
[827,0,null,0,"OK",0,0,null,0,0,null,0,null,0,0,0,0,0]
[828,0,null,0,"OK",0,0,null,0,0,null,0,null,0,0,0,0,0]
[829,1015158,{"$f":"'Expenditures 15-22'!F12","v":1015158},0,"OK",1015158,0,null,0,1015158,null,1015158,null,0,0,{"$f":"VLOOKUP(A836,'Data Pull totals 5-8'!A:C,3,0)","v":0},1015158,0]
[830,16213497.24,{"$f":"'Expenditures 15-22'!F13","v":16213497.24},0,"OK",16126449.24,0,null,87048,16213497.24,null,16213497.24,null,0,0,{"$f":"VLOOKUP(A837,'Data Pull totals 5-8'!A:C,3,0)","v":0},16213497.24,0]
[831,30232898.289999999,{"$f":"'Expenditures 15-22'!F14","v":30232898.289999999},0,"OK",29853907.289999999,0,null,271102,30125009.289999999,null,30125009.289999999,null,0,0,{"$f":"VLOOKUP(A838,'Data Pull totals 5-8'!A:C,3,0)","v":107889},30232898.289999999,0]
[832,2687911,{"$f":"'Expenditures 15-22'!F15","v":2687911},0,"OK",2687696,0,null,0,2687696,null,2687696,null,0,0,{"$f":"VLOOKUP(A839,'Data Pull totals 5-8'!A:C,3,0)","v":215},2687911,0]
[833,436855777.85000002,{"$f":"'Expenditures 15-22'!F33","v":436855777.85000008},{"$f":"B840-C840","v":0},{"$f":"IF((D840 = 0),\"OK\",IF((D840<-5),\"CHECK ME!\",IF((D840>5),\"Check Me!\",\"OK\")))","v":"OK"},434183742.85000002,0,null,1072898,435256640.85000002,null,435256640.85000002,null,0,0,{"$f":"VLOOKUP(A840,'Data Pull totals 5-8'!A:C,3,0)","v":1599137},436855777.85000002,0]
[834,5102169,{"$f":"'Expenditures 15-22'!F36","v":5102169},0,"OK",5029988,0,null,45536,5075524,null,5075524,null,0,0,{"$f":"VLOOKUP(A841,'Data Pull totals 5-8'!A:C,3,0)","v":26645},5102169,0]
[835,4145442,{"$f":"'Expenditures 15-22'!F37","v":4145442},0,"OK",4133977,0,null,0,4133977,null,4133977,null,0,0,{"$f":"VLOOKUP(A842,'Data Pull totals 5-8'!A:C,3,0)","v":11465},4145442,0]
[836,3419864,{"$f":"'Expenditures 15-22'!F38","v":3419864},0,"OK",3414289,0,null,1532,3415821,null,3415821,null,0,0,{"$f":"VLOOKUP(A843,'Data Pull totals 5-8'!A:C,3,0)","v":4043},3419864,0]
[837,1356824,{"$f":"'Expenditures 15-22'!F39","v":1356824},0,"OK",1336324,0,null,0,1336324,null,1336324,null,{"$f":"SUM(J844-L844)","v":0},0,{"$f":"VLOOKUP(A844,'Data Pull totals 5-8'!A:C,3,0)","v":20500},1356824,{"$f":"SUM(L844+P844-Q844)","v":0}]
[838,1115060,{"$f":"'Expenditures 15-22'!F40","v":1115060},0,"OK",1115060,0,null,0,1115060,null,1115060,null,0,0,{"$f":"VLOOKUP(A845,'Data Pull totals 5-8'!A:C,3,0)","v":0},1115060,0]
[839,4604410.6899999995,{"$f":"'Expenditures 15-22'!F41","v":4604410.6899999995},0,"OK",4604410.6899999995,9.3132257461547852E-10,null,0,4604410.6899999995,null,4604410.6899999995,null,0,0,{"$f":"VLOOKUP(A846,'Data Pull totals 5-8'!A:C,3,0)","v":0},4604410.6899999995,0]
[840,19743769.689999998,{"$f":"'Expenditures 15-22'!F42","v":19743769.689999998},0,"OK",19634048.689999998,3.7252902984619141E-9,null,47068,19681116.689999998,null,19681116.689999998,null,0,0,{"$f":"VLOOKUP(A847,'Data Pull totals 5-8'!A:C,3,0)","v":62653},19743769.689999998,0]
[841,34733575,{"$f":"'Expenditures 15-22'!F44","v":34733575},0,"OK",34612312,0,null,100059,34712371,null,34712371,null,0,0,{"$f":"VLOOKUP(A848,'Data Pull totals 5-8'!A:C,3,0)","v":21204},34733575,0]
[842,42511124,{"$f":"'Expenditures 15-22'!F45","v":42511124},0,"OK",42502413,0,null,0,42502413,null,42502413,null,0,0,{"$f":"VLOOKUP(A849,'Data Pull totals 5-8'!A:C,3,0)","v":8711},42511124,0]
[843,6844940,{"$f":"'Expenditures 15-22'!F46","v":6844940},0,"OK",6800010,0,null,0,6800010,null,6800010,null,0,0,{"$f":"VLOOKUP(A850,'Data Pull totals 5-8'!A:C,3,0)","v":44930},6844940,0]
[844,84089639,{"$f":"'Expenditures 15-22'!F47","v":84089639},0,"OK",83914735,0,null,100059,84014794,null,84014794,null,0,0,{"$f":"VLOOKUP(A851,'Data Pull totals 5-8'!A:C,3,0)","v":74845},84089639,0]
[845,6242114.5800000001,{"$f":"'Expenditures 15-22'!F49","v":6242114.5800000001},0,"OK",6215533.5800000001,0,null,3504,6219037.5800000001,null,6219037.5800000001,null,0,0,{"$f":"VLOOKUP(A852,'Data Pull totals 5-8'!A:C,3,0)","v":23077},6242114.5800000001,0]
[846,4057871.45,{"$f":"'Expenditures 15-22'!F50","v":4057871.45},0,"OK",3989264.45,0,null,64582,4053846.45,null,4053846.45,null,0,0,{"$f":"VLOOKUP(A853,'Data Pull totals 5-8'!A:C,3,0)","v":4025},4057871.45,0]
[847,11764393.029999999,{"$f":"'Expenditures 15-22'!F53","v":11764393.030000001},0,"OK",11646708.029999999,0,null,90583,11737291.029999999,null,11737291.029999999,null,0,0,{"$f":"VLOOKUP(A854,'Data Pull totals 5-8'!A:C,3,0)","v":27102},11764393.029999999,0]
[848,17287270.149999999,{"$f":"'Expenditures 15-22'!F55","v":17287270.149999999},0,"OK",17228175.149999999,0,null,26120,17254295.149999999,null,17254295.149999999,null,0,0,{"$f":"VLOOKUP(A855,'Data Pull totals 5-8'!A:C,3,0)","v":32975},17287270.149999999,0]
[849,208142,{"$f":"'Expenditures 15-22'!F56","v":208142},0,"OK",203287,0,null,0,203287,null,203287,null,0,0,{"$f":"VLOOKUP(A856,'Data Pull totals 5-8'!A:C,3,0)","v":4855},208142,0]
[850,17495412.149999999,{"$f":"'Expenditures 15-22'!F57","v":17495412.149999999},0,"OK",17431462.149999999,0,null,26120,17457582.149999999,null,17457582.149999999,null,0,0,{"$f":"VLOOKUP(A857,'Data Pull totals 5-8'!A:C,3,0)","v":37830},17495412.149999999,0]
[851,1332507,{"$f":"'Expenditures 15-22'!F59","v":1332507},0,"OK",1288781,0,null,0,1288781,null,1288781,null,0,0,{"$f":"VLOOKUP(A858,'Data Pull totals 5-8'!A:C,3,0)","v":43726},1332507,0]
[852,4536208.59,{"$f":"'Expenditures 15-22'!F60","v":4536208.59},0,"OK",4474073.59,0,null,51037,4525110.59,null,4525110.59,null,0,0,{"$f":"VLOOKUP(A859,'Data Pull totals 5-8'!A:C,3,0)","v":11098},4536208.59,0]
[853,31151230,{"$f":"'Expenditures 15-22'!F61","v":31151230},0,"OK",31093742,0,null,57374,31151116,null,31151116,null,0,0,{"$f":"VLOOKUP(A860,'Data Pull totals 5-8'!A:C,3,0)","v":114},31151230,0]
[854,930489,{"$f":"'Expenditures 15-22'!F62","v":930489},0,"OK",931959,0,null,-1470,930489,null,930489,null,0,0,{"$f":"VLOOKUP(A861,'Data Pull totals 5-8'!A:C,3,0)","v":0},930489,0]
[855,286163744.51999998,{"$f":"'Expenditures 15-22'!F63","v":286163744.51999998},0,"OK",285128053.51999998,0,null,32094,285160147.51999998,null,285160147.51999998,null,0,0,{"$f":"VLOOKUP(A862,'Data Pull totals 5-8'!A:C,3,0)","v":1003597},286163744.51999998,0]
[856,4915671,{"$f":"'Expenditures 15-22'!F64","v":4915671},0,"OK",4875923,0,null,39748,4915671,null,4915671,null,0,0,{"$f":"VLOOKUP(A863,'Data Pull totals 5-8'!A:C,3,0)","v":0},4915671,0]
[857,0,null,0,"OK",0,0,null,0,0,null,0,null,0,0,0,0,0]
[858,329029850.11000001,{"$f":"'Expenditures 15-22'!F65","v":329029850.11000001},0,"OK",327792532.11000001,0,null,178783,327971315.11000001,null,327971315.11000001,null,0,0,{"$f":"VLOOKUP(A865,'Data Pull totals 5-8'!A:C,3,0)","v":1058535},329029850.11000001,0]
[859,261901,{"$f":"'Expenditures 15-22'!F67","v":261901},0,"OK",259810,0,null,2091,261901,null,261901,null,0,0,{"$f":"VLOOKUP(A866,'Data Pull totals 5-8'!A:C,3,0)","v":0},261901,0]
[860,824442,{"$f":"'Expenditures 15-22'!F68","v":824442},0,"OK",774997,0,null,49445,824442,null,824442,null,0,0,{"$f":"VLOOKUP(A867,'Data Pull totals 5-8'!A:C,3,0)","v":0},824442,0]
[861,6163384,{"$f":"'Expenditures 15-22'!F69","v":6163384},0,"OK",6011171,0,null,128922,6140093,null,6140093,null,0,0,{"$f":"VLOOKUP(A868,'Data Pull totals 5-8'!A:C,3,0)","v":23291},6163384,0]
[862,1757397,{"$f":"'Expenditures 15-22'!F70","v":1757397},0,"OK",1653800,0,null,11138,1664938,null,1664938,null,0,0,{"$f":"VLOOKUP(A869,'Data Pull totals 5-8'!A:C,3,0)","v":92459},1757397,0]
[863,0,null,0,"OK",0,0,null,0,0,null,0,null,0,0,0,0,0]
[864,45671959,{"$f":"'Expenditures 15-22'!F71","v":45671959},0,"OK",44963301,0,null,232235,45195536,null,45195536,null,0,0,{"$f":"VLOOKUP(A871,'Data Pull totals 5-8'!A:C,3,0)","v":476423},45671959,0]
[865,0,null,0,"OK",0,0,null,0,0,null,0,null,0,0,0,0,0]
[866,54679083,{"$f":"'Expenditures 15-22'!F72","v":54679083},0,"OK",53663079,0,null,423831,54086910,null,54086910,null,0,0,{"$f":"VLOOKUP(A873,'Data Pull totals 5-8'!A:C,3,0)","v":592173},54679083,0]
[867,6818541,{"$f":"'Expenditures 15-22'!F73","v":6818541},0,"OK",6809801,0,null,8409,6818210,null,6818210,null,0,0,{"$f":"VLOOKUP(A874,'Data Pull totals 5-8'!A:C,3,0)","v":331},6818541,0]
[868,523620687.97999996,{"$f":"'Expenditures 15-22'!F74","v":523620687.98000002},0,"OK",520892365.97999996,5.9604644775390625E-8,null,874853,521767218.97999996,null,521767218.97999996,null,0,0,{"$f":"VLOOKUP(A875,'Data Pull totals 5-8'!A:C,3,0)","v":1853469},523620687.97999996,0]
[869,10866848,{"$f":"'Expenditures 15-22'!F75","v":10866848},0,"OK",10768945,0,null,46222,10815167,null,10815167,null,0,0,{"$f":"VLOOKUP(A876,'Data Pull totals 5-8'!A:C,3,0)","v":51681},10866848,0]
[870,971343313.83000004,{"$f":"'Expenditures 15-22'!F114","v":971343313.83000016},0,"OK",965845053.83000004,0,null,1993973,967839026.83000004,null,967839026.83000004,null,0,0,{"$f":"VLOOKUP(A877,'Data Pull totals 5-8'!A:C,3,0)","v":3504287},971343313.83000004,0]
[871,0,null,0,"OK",0,0,null,0,0,null,0,null,0,0,0,0,0]
[872,0,null,0,"OK",0,0,null,0,0,null,0,null,0,0,0,0,0]
[873,0,null,0,"OK",0,0,null,0,0,null,0,null,0,0,0,0,0]
[874,0,null,0,"OK",0,0,null,0,0,null,0,null,0,0,0,0,0]
[875,0,null,0,"OK",0,0,null,0,0,null,0,null,0,0,0,0,0]
[876,39678418.5,{"$f":"'Expenditures 15-22'!G5","v":39678418.5},0,"OK",39626340.5,0,null,8623,39634963.5,null,39634963.5,null,0,0,{"$f":"VLOOKUP(A883,'Data Pull totals 5-8'!A:C,3,0)","v":43455},39678418.5,0]
[877,5435,{"$f":"'Expenditures 15-22'!G16","v":5435},0,"OK",5435,0,null,0,5435,null,5435,null,0,0,{"$f":"VLOOKUP(A884,'Data Pull totals 5-8'!A:C,3,0)","v":0},5435,0]
[878,0,null,0,"OK",0,0,null,0,0,null,0,null,0,0,0,0,0]
[879,0,null,0,"OK",0,0,null,0,0,null,0,null,0,0,0,0,0]
[880,0,null,0,"OK",0,0,null,0,0,null,0,null,0,0,0,0,0]
[881,0,null,0,"OK",0,0,null,0,0,null,0,null,0,0,0,0,0]
[882,0,null,0,"OK",0,0,null,0,0,null,0,null,0,0,0,0,0]
[883,98275,{"$f":"'Expenditures 15-22'!G18","v":98275},0,"OK",98275,0,null,0,98275,null,98275,null,0,0,{"$f":"VLOOKUP(A890,'Data Pull totals 5-8'!A:C,3,0)","v":0},98275,0]
[884,0,null,0,"OK",0,0,null,0,0,null,0,null,0,0,0,0,0]
[885,0,null,0,"OK",0,0,null,0,0,null,0,null,0,0,0,0,0]
[886,0,null,0,"OK",0,0,null,0,0,null,0,null,0,0,0,0,0]
[887,48943,{"$f":"'Expenditures 15-22'!G12","v":48943},0,"OK",48943,0,null,0,48943,null,48943,null,0,0,{"$f":"VLOOKUP(A894,'Data Pull totals 5-8'!A:C,3,0)","v":0},48943,0]
[888,5440346.9100000001,{"$f":"'Expenditures 15-22'!G13","v":5440346.9100000001},0,"OK",5412965.9100000001,0,null,27381,5440346.9100000001,null,5440346.9100000001,null,0,0,{"$f":"VLOOKUP(A895,'Data Pull totals 5-8'!A:C,3,0)","v":0},5440346.9100000001,0]
[889,3285849,{"$f":"'Expenditures 15-22'!G14","v":3285849},0,"OK",3265589,0,null,0,3265589,null,3265589,null,0,0,{"$f":"VLOOKUP(A896,'Data Pull totals 5-8'!A:C,3,0)","v":20260},3285849,0]
[890,19020,{"$f":"'Expenditures 15-22'!G15","v":19020},0,"OK",19020,0,null,0,19020,null,19020,null,0,0,{"$f":"VLOOKUP(A897,'Data Pull totals 5-8'!A:C,3,0)","v":0},19020,0]
[891,59893830.68,{"$f":"'Expenditures 15-22'!G33","v":59893830.679999992},0,"OK",59662954.68,0,null,151108,59814062.68,null,59814062.68,null,0,0,{"$f":"VLOOKUP(A898,'Data Pull totals 5-8'!A:C,3,0)","v":79768},59893830.68,0]
[892,128225,{"$f":"'Expenditures 15-22'!G36","v":128225},0,"OK",128225,0,null,0,128225,null,128225,null,0,0,{"$f":"VLOOKUP(A899,'Data Pull totals 5-8'!A:C,3,0)","v":0},128225,0]
[893,52906,{"$f":"'Expenditures 15-22'!G37","v":52906},0,"OK",52906,0,null,0,52906,null,52906,null,0,0,{"$f":"VLOOKUP(A900,'Data Pull totals 5-8'!A:C,3,0)","v":0},52906,0]
[894,406625,{"$f":"'Expenditures 15-22'!G38","v":406625},0,"OK",406625,0,null,0,406625,null,406625,null,0,0,{"$f":"VLOOKUP(A901,'Data Pull totals 5-8'!A:C,3,0)","v":0},406625,0]
[895,5340,{"$f":"'Expenditures 15-22'!G39","v":5340},0,"OK",5340,0,null,0,5340,null,5340,null,0,0,{"$f":"VLOOKUP(A902,'Data Pull totals 5-8'!A:C,3,0)","v":0},5340,0]
[896,181147,{"$f":"'Expenditures 15-22'!G40","v":181147},0,"OK",181147,0,null,0,181147,null,181147,null,0,0,{"$f":"VLOOKUP(A903,'Data Pull totals 5-8'!A:C,3,0)","v":0},181147,0]
[897,787537,{"$f":"'Expenditures 15-22'!G41","v":787537},{"$f":"B904-C904","v":0},{"$f":"IF((D904 = 0),\"OK\",IF((D904<-5),\"CHECK ME!\",IF((D904>5),\"Check Me!\",\"OK\")))","v":"OK"},787537,0,null,0,787537,null,787537,null,0,0,{"$f":"VLOOKUP(A904,'Data Pull totals 5-8'!A:C,3,0)","v":0},787537,0]
[898,1561780,{"$f":"'Expenditures 15-22'!G42","v":1561780},0,"OK",1561780,0,null,0,1561780,null,1561780,null,0,0,{"$f":"VLOOKUP(A905,'Data Pull totals 5-8'!A:C,3,0)","v":0},1561780,0]
[899,6827680,{"$f":"'Expenditures 15-22'!G44","v":6827680},0,"OK",6827680,0,null,0,6827680,null,6827680,null,0,0,{"$f":"VLOOKUP(A906,'Data Pull totals 5-8'!A:C,3,0)","v":0},6827680,0]
[900,25432965,{"$f":"'Expenditures 15-22'!G45","v":25432965},0,"OK",25432965,0,null,0,25432965,null,25432965,null,0,0,{"$f":"VLOOKUP(A907,'Data Pull totals 5-8'!A:C,3,0)","v":0},25432965,0]
[901,53753,{"$f":"'Expenditures 15-22'!G46","v":53753},0,"OK",53753,0,null,0,53753,null,53753,null,{"$f":"SUM(J908-L908)","v":0},0,{"$f":"VLOOKUP(A908,'Data Pull totals 5-8'!A:C,3,0)","v":0},53753,{"$f":"SUM(L908+P908-Q908)","v":0}]
[902,32314398,{"$f":"'Expenditures 15-22'!G47","v":32314398},0,"OK",32314398,0,null,0,32314398,null,32314398,null,0,0,{"$f":"VLOOKUP(A909,'Data Pull totals 5-8'!A:C,3,0)","v":0},32314398,0]
[903,473715,{"$f":"'Expenditures 15-22'!G49","v":473715},0,"OK",473715,0,null,0,473715,null,473715,null,0,0,{"$f":"VLOOKUP(A910,'Data Pull totals 5-8'!A:C,3,0)","v":0},473715,0]
[904,362208,{"$f":"'Expenditures 15-22'!G50","v":362208},0,"OK",362208,0,null,0,362208,null,362208,null,0,0,{"$f":"VLOOKUP(A911,'Data Pull totals 5-8'!A:C,3,0)","v":0},362208,0]
[905,904985,{"$f":"'Expenditures 15-22'!G53","v":904985},0,"OK",903675,0,null,1310,904985,null,904985,null,0,0,{"$f":"VLOOKUP(A912,'Data Pull totals 5-8'!A:C,3,0)","v":0},904985,0]
[906,1114046.3,{"$f":"'Expenditures 15-22'!G55","v":1114046.3},0,"OK",1114046.3,0,null,0,1114046.3,null,1114046.3,null,0,0,{"$f":"VLOOKUP(A913,'Data Pull totals 5-8'!A:C,3,0)","v":0},1114046.3,0]
[907,38433,{"$f":"'Expenditures 15-22'!G56","v":38433},0,"OK",38433,0,null,0,38433,null,38433,null,0,0,{"$f":"VLOOKUP(A914,'Data Pull totals 5-8'!A:C,3,0)","v":0},38433,0]
[908,1152479.3,{"$f":"'Expenditures 15-22'!G57","v":1152479.3},0,"OK",1152479.3,0,null,0,1152479.3,null,1152479.3,null,0,0,{"$f":"VLOOKUP(A915,'Data Pull totals 5-8'!A:C,3,0)","v":0},1152479.3,0]
[909,279262,{"$f":"'Expenditures 15-22'!G59","v":279262},0,"OK",279262,0,null,0,279262,null,279262,null,0,0,{"$f":"VLOOKUP(A916,'Data Pull totals 5-8'!A:C,3,0)","v":0},279262,0]
[910,1177269.8199999998,{"$f":"'Expenditures 15-22'!G60","v":1177269.8199999998},0,"OK",1177269.8199999998,2.3283064365386963E-10,null,0,1177269.8199999998,null,1177269.8199999998,null,0,0,{"$f":"VLOOKUP(A917,'Data Pull totals 5-8'!A:C,3,0)","v":0},1177269.8199999998,0]
[911,13290712,{"$f":"'Expenditures 15-22'!G61","v":13290712},0,"OK",13049819,0,null,240893,13290712,null,13290712,null,0,0,{"$f":"VLOOKUP(A918,'Data Pull totals 5-8'!A:C,3,0)","v":0},13290712,0]
[912,162356,{"$f":"'Expenditures 15-22'!G62","v":162356},0,"OK",107791,0,null,-7488,100303,null,100303,null,0,0,{"$f":"VLOOKUP(A919,'Data Pull totals 5-8'!A:C,3,0)","v":62053},162356,0]
[913,6014640.6600000001,{"$f":"'Expenditures 15-22'!G63","v":6014640.6600000001},0,"OK",5997825.6600000001,0,null,16815,6014640.6600000001,null,6014640.6600000001,null,0,0,{"$f":"VLOOKUP(A920,'Data Pull totals 5-8'!A:C,3,0)","v":0},6014640.6600000001,0]
[914,1726802,{"$f":"'Expenditures 15-22'!G64","v":1726802},0,"OK",1726802,0,null,0,1726802,null,1726802,null,0,0,{"$f":"VLOOKUP(A921,'Data Pull totals 5-8'!A:C,3,0)","v":0},1726802,0]
[915,0,null,0,"OK",0,0,null,0,0,null,0,null,0,0,0,0,0]
[916,22651042.48,{"$f":"'Expenditures 15-22'!G65","v":22651042.48},0,"OK",22338769.48,0,null,250220,22588989.48,null,22588989.48,null,0,0,{"$f":"VLOOKUP(A923,'Data Pull totals 5-8'!A:C,3,0)","v":62053},22651042.48,0]
[917,111124,{"$f":"'Expenditures 15-22'!G67","v":111124},0,"OK",111124,0,null,0,111124,null,111124,null,0,0,{"$f":"VLOOKUP(A924,'Data Pull totals 5-8'!A:C,3,0)","v":0},111124,0]
[918,240238,{"$f":"'Expenditures 15-22'!G68","v":240238},0,"OK",240238,0,null,0,240238,null,240238,null,0,0,{"$f":"VLOOKUP(A925,'Data Pull totals 5-8'!A:C,3,0)","v":0},240238,0]
[919,6321928,{"$f":"'Expenditures 15-22'!G69","v":6321928},0,"OK",6321928,0,null,0,6321928,null,6321928,null,0,0,{"$f":"VLOOKUP(A926,'Data Pull totals 5-8'!A:C,3,0)","v":0},6321928,0]
[920,236522,{"$f":"'Expenditures 15-22'!G70","v":236522},0,"OK",236522,0,null,0,236522,null,236522,null,0,0,{"$f":"VLOOKUP(A927,'Data Pull totals 5-8'!A:C,3,0)","v":0},236522,0]
[921,0,null,0,"OK",0,0,null,0,0,null,0,null,0,0,0,0,0]
[922,45564329,{"$f":"'Expenditures 15-22'!G71","v":45564329},0,"OK",45474389,0,null,79193,45553582,null,45553582,null,0,0,{"$f":"VLOOKUP(A929,'Data Pull totals 5-8'!A:C,3,0)","v":10747},45564329,0]
[923,0,null,0,"OK",0,0,null,0,0,null,0,null,0,0,0,0,0]
[924,52474141,{"$f":"'Expenditures 15-22'!G72","v":52474141},0,"OK",52384201,0,null,79193,52463394,null,52463394,null,0,0,{"$f":"VLOOKUP(A931,'Data Pull totals 5-8'!A:C,3,0)","v":10747},52474141,0]
[925,1433450,{"$f":"'Expenditures 15-22'!G73","v":1433450},0,"OK",1430450,0,null,3000,1433450,null,1433450,null,0,0,{"$f":"VLOOKUP(A932,'Data Pull totals 5-8'!A:C,3,0)","v":0},1433450,0]
[926,112492275.77999999,{"$f":"'Expenditures 15-22'!G74","v":112492275.78},0,"OK",112085752.77999999,1.4901161193847656E-8,null,333723,112419475.77999999,null,112419475.77999999,null,0,0,{"$f":"VLOOKUP(A933,'Data Pull totals 5-8'!A:C,3,0)","v":72800},112492275.77999999,0]
[927,1035297,{"$f":"'Expenditures 15-22'!G75","v":1035297},0,"OK",1012961,0,null,22336,1035297,null,1035297,null,0,0,{"$f":"VLOOKUP(A934,'Data Pull totals 5-8'!A:C,3,0)","v":0},1035297,0]
[928,173421403.46000001,{"$f":"'Expenditures 15-22'!G114","v":173421403.45999998},0,"OK",172761668.46000001,0,null,507167,173268835.46000001,null,173268835.46000001,null,0,0,{"$f":"VLOOKUP(A935,'Data Pull totals 5-8'!A:C,3,0)","v":152568},173421403.46000001,0]
[929,0,null,0,"OK",0,0,null,0,0,null,0,null,0,0,0,0,0]
[930,0,null,0,"OK",0,0,null,0,0,null,0,null,0,0,0,0,0]
[931,0,null,0,"OK",0,0,null,0,0,null,0,null,0,0,0,0,0]
[932,0,null,0,"OK",0,0,null,0,0,null,0,null,0,0,0,0,0]
[933,0,null,0,"OK",0,0,null,0,0,null,0,null,0,0,0,0,0]
[934,9069295,{"$f":"'Expenditures 15-22'!H5","v":9069295},0,"OK",9064881,0,null,0,9064881,null,9064881,null,0,0,{"$f":"VLOOKUP(A941,'Data Pull totals 5-8'!A:C,3,0)","v":4414},9069295,0]
[935,56094,{"$f":"'Expenditures 15-22'!H16","v":56094},0,"OK",56094,0,null,0,56094,null,56094,null,0,0,{"$f":"VLOOKUP(A942,'Data Pull totals 5-8'!A:C,3,0)","v":0},56094,0]
[936,0,null,0,"OK",0,0,null,0,0,null,0,null,0,0,0,0,0]
[937,0,null,0,"OK",0,0,null,0,0,null,0,null,0,0,0,0,0]
[938,0,null,0,"OK",0,0,null,0,0,null,0,null,0,0,0,0,0]
[939,0,null,0,"OK",0,0,null,0,0,null,0,null,0,0,0,0,0]
[940,0,null,0,"OK",0,0,null,0,0,null,0,null,0,0,0,0,0]
[941,63945,{"$f":"'Expenditures 15-22'!H18","v":63945},0,"OK",63945,0,null,0,63945,null,63945,null,0,0,{"$f":"VLOOKUP(A948,'Data Pull totals 5-8'!A:C,3,0)","v":0},63945,0]
[942,0,null,0,"OK",0,0,null,0,0,null,0,null,0,0,0,0,0]
[943,0,null,0,"OK",0,0,null,0,0,null,0,null,0,0,0,0,0]
[944,0,null,0,"OK",0,0,null,0,0,null,0,null,0,0,0,0,0]
[945,37750,{"$f":"'Expenditures 15-22'!H12","v":37750},0,"OK",37750,0,null,0,37750,null,37750,null,0,0,{"$f":"VLOOKUP(A952,'Data Pull totals 5-8'!A:C,3,0)","v":0},37750,0]
[946,2902198,{"$f":"'Expenditures 15-22'!H13","v":2902198},0,"OK",2902198,0,null,0,2902198,null,2902198,null,0,0,{"$f":"VLOOKUP(A953,'Data Pull totals 5-8'!A:C,3,0)","v":0},2902198,0]
[947,9645390,{"$f":"'Expenditures 15-22'!H14","v":9645390},0,"OK",9580352,0,null,27275,9607627,null,9607627,null,0,0,{"$f":"VLOOKUP(A954,'Data Pull totals 5-8'!A:C,3,0)","v":37763},9645390,0]
[948,590017,{"$f":"'Expenditures 15-22'!H15","v":590017},0,"OK",590017,0,null,0,590017,null,590017,null,0,0,{"$f":"VLOOKUP(A955,'Data Pull totals 5-8'!A:C,3,0)","v":0},590017,0]
[949,387764326,{"$f":"'Expenditures 15-22'!H33","v":387764326},0,"OK",380123369,0,null,5105578,385228947,null,385228947,null,0,0,{"$f":"VLOOKUP(A956,'Data Pull totals 5-8'!A:C,3,0)","v":2535379},387764326,0]
[950,71519,{"$f":"'Expenditures 15-22'!H36","v":71519},0,"OK",71519,0,null,0,71519,null,71519,null,0,0,{"$f":"VLOOKUP(A957,'Data Pull totals 5-8'!A:C,3,0)","v":0},71519,0]
[951,774353,{"$f":"'Expenditures 15-22'!H37","v":774353},0,"OK",774353,0,null,0,774353,null,774353,null,0,0,{"$f":"VLOOKUP(A958,'Data Pull totals 5-8'!A:C,3,0)","v":0},774353,0]
[952,148404,{"$f":"'Expenditures 15-22'!H38","v":148404},0,"OK",148404,0,null,0,148404,null,148404,null,0,0,{"$f":"VLOOKUP(A959,'Data Pull totals 5-8'!A:C,3,0)","v":0},148404,0]
[953,36736,{"$f":"'Expenditures 15-22'!H39","v":36736},0,"OK",36736,0,null,0,36736,null,36736,null,0,0,{"$f":"VLOOKUP(A960,'Data Pull totals 5-8'!A:C,3,0)","v":0},36736,0]
[954,43115,{"$f":"'Expenditures 15-22'!H40","v":43115},0,"OK",43115,0,null,0,43115,null,43115,null,0,0,{"$f":"VLOOKUP(A961,'Data Pull totals 5-8'!A:C,3,0)","v":0},43115,0]
[955,273263,{"$f":"'Expenditures 15-22'!H41","v":273263},0,"OK",273263,0,null,0,273263,null,273263,null,0,0,{"$f":"VLOOKUP(A962,'Data Pull totals 5-8'!A:C,3,0)","v":0},273263,0]
[956,1347390,{"$f":"'Expenditures 15-22'!H42","v":1347390},0,"OK",1347390,0,null,0,1347390,null,1347390,null,0,0,{"$f":"VLOOKUP(A963,'Data Pull totals 5-8'!A:C,3,0)","v":0},1347390,0]
[957,2537993,{"$f":"'Expenditures 15-22'!H44","v":2537993},0,"OK",2535076,0,null,176,2535252,null,2535252,null,0,0,{"$f":"VLOOKUP(A964,'Data Pull totals 5-8'!A:C,3,0)","v":2741},2537993,0]
[958,978494,{"$f":"'Expenditures 15-22'!H45","v":978494},0,"OK",978494,0,null,0,978494,null,978494,null,0,0,{"$f":"VLOOKUP(A965,'Data Pull totals 5-8'!A:C,3,0)","v":0},978494,0]
[959,88172,{"$f":"'Expenditures 15-22'!H46","v":88172},0,"OK",88172,0,null,0,88172,null,88172,null,0,0,{"$f":"VLOOKUP(A966,'Data Pull totals 5-8'!A:C,3,0)","v":0},88172,0]
[960,3604659,{"$f":"'Expenditures 15-22'!H47","v":3604659},0,"OK",3601742,0,null,176,3601918,null,3601918,null,0,0,{"$f":"VLOOKUP(A967,'Data Pull totals 5-8'!A:C,3,0)","v":2741},3604659,0]
[961,11298552.51,{"$f":"'Expenditures 15-22'!H49","v":11298552.51},{"$f":"B968-C968","v":0},{"$f":"IF((D968 = 0),\"OK\",IF((D968<-5),\"CHECK ME!\",IF((D968>5),\"Check Me!\",\"OK\")))","v":"OK"},11266815.51,0,null,11796,11278611.51,null,11278611.51,null,0,0,{"$f":"VLOOKUP(A968,'Data Pull totals 5-8'!A:C,3,0)","v":19941},11298552.51,0]
[962,3332787.63,{"$f":"'Expenditures 15-22'!H50","v":3332787.63},0,"OK",3309319.63,0,null,27974,3337293.63,null,3337293.63,null,0,0,{"$f":"VLOOKUP(A969,'Data Pull totals 5-8'!A:C,3,0)","v":-4506},3332787.63,0]
[963,16325238.140000001,{"$f":"'Expenditures 15-22'!H53","v":16325238.140000001},0,"OK",16198054.140000001,0,null,111749,16309803.140000001,null,16309803.140000001,null,0,0,{"$f":"VLOOKUP(A970,'Data Pull totals 5-8'!A:C,3,0)","v":15435},16325238.140000001,0]
[964,2373609.7599999998,{"$f":"'Expenditures 15-22'!H55","v":2373609.7599999998},0,"OK",2369403.7599999998,0,null,0,2369403.7599999998,null,2369403.7599999998,null,0,0,{"$f":"VLOOKUP(A971,'Data Pull totals 5-8'!A:C,3,0)","v":4206},2373609.7599999998,0]
[965,22530,{"$f":"'Expenditures 15-22'!H56","v":22530},0,"OK",22530,0,null,0,22530,null,22530,null,{"$f":"SUM(J972-L972)","v":0},0,{"$f":"VLOOKUP(A972,'Data Pull totals 5-8'!A:C,3,0)","v":0},22530,{"$f":"SUM(L972+P972-Q972)","v":0}]
[966,2396139.7599999998,{"$f":"'Expenditures 15-22'!H57","v":2396139.7599999998},0,"OK",2391933.7599999998,0,null,0,2391933.7599999998,null,2391933.7599999998,null,0,0,{"$f":"VLOOKUP(A973,'Data Pull totals 5-8'!A:C,3,0)","v":4206},2396139.7599999998,0]
[967,736033,{"$f":"'Expenditures 15-22'!H59","v":736033},0,"OK",735663,0,null,0,735663,null,735663,null,0,0,{"$f":"VLOOKUP(A974,'Data Pull totals 5-8'!A:C,3,0)","v":370},736033,0]
[968,3208027,{"$f":"'Expenditures 15-22'!H60","v":3208027},0,"OK",3119639,0,null,88388,3208027,null,3208027,null,0,0,{"$f":"VLOOKUP(A975,'Data Pull totals 5-8'!A:C,3,0)","v":0},3208027,0]
[969,286836,{"$f":"'Expenditures 15-22'!H61","v":286836},0,"OK",286836,0,null,0,286836,null,286836,null,0,0,{"$f":"VLOOKUP(A976,'Data Pull totals 5-8'!A:C,3,0)","v":0},286836,0]
[970,3962,{"$f":"'Expenditures 15-22'!H62","v":3962},0,"OK",3962,0,null,0,3962,null,3962,null,0,0,{"$f":"VLOOKUP(A977,'Data Pull totals 5-8'!A:C,3,0)","v":0},3962,0]
[971,1369384,{"$f":"'Expenditures 15-22'!H63","v":1369384},0,"OK",1365851,0,null,0,1365851,null,1365851,null,0,0,{"$f":"VLOOKUP(A978,'Data Pull totals 5-8'!A:C,3,0)","v":3533},1369384,0]
[972,131205,{"$f":"'Expenditures 15-22'!H64","v":131205},0,"OK",131205,0,null,0,131205,null,131205,null,0,0,{"$f":"VLOOKUP(A979,'Data Pull totals 5-8'!A:C,3,0)","v":0},131205,0]
[973,0,null,0,"OK",0,0,null,0,0,null,0,null,0,0,0,0,0]
[974,5735447,{"$f":"'Expenditures 15-22'!H65","v":5735447},0,"OK",5643156,0,null,88388,5731544,null,5731544,null,0,0,{"$f":"VLOOKUP(A981,'Data Pull totals 5-8'!A:C,3,0)","v":3903},5735447,0]
[975,8040,{"$f":"'Expenditures 15-22'!H67","v":8040},0,"OK",8040,0,null,0,8040,null,8040,null,0,0,{"$f":"VLOOKUP(A982,'Data Pull totals 5-8'!A:C,3,0)","v":0},8040,0]
[976,24896,{"$f":"'Expenditures 15-22'!H68","v":24896},0,"OK",24896,0,null,0,24896,null,24896,null,0,0,{"$f":"VLOOKUP(A983,'Data Pull totals 5-8'!A:C,3,0)","v":0},24896,0]
[977,364460,{"$f":"'Expenditures 15-22'!H69","v":364460},0,"OK",363670,0,null,0,363670,null,363670,null,0,0,{"$f":"VLOOKUP(A984,'Data Pull totals 5-8'!A:C,3,0)","v":790},364460,0]
[978,457091,{"$f":"'Expenditures 15-22'!H70","v":457091},0,"OK",420401,0,null,32844,453245,null,453245,null,0,0,{"$f":"VLOOKUP(A985,'Data Pull totals 5-8'!A:C,3,0)","v":3846},457091,0]
[979,0,null,0,"OK",0,0,null,0,0,null,0,null,0,0,0,0,0]
[980,1258165,{"$f":"'Expenditures 15-22'!H71","v":1258165},0,"OK",1257609,0,null,0,1257609,null,1257609,null,0,0,{"$f":"VLOOKUP(A987,'Data Pull totals 5-8'!A:C,3,0)","v":556},1258165,0]
[981,0,0,0,"OK",0,0,null,0,0,null,0,null,0,0,0,0,0]
[982,2112652,{"$f":"'Expenditures 15-22'!H72","v":2112652},0,"OK",2074616,0,null,32844,2107460,null,2107460,null,0,0,{"$f":"VLOOKUP(A989,'Data Pull totals 5-8'!A:C,3,0)","v":5192},2112652,0]
[983,835808,{"$f":"'Expenditures 15-22'!H73","v":835808},0,"OK",835808,0,null,0,835808,null,835808,null,0,0,{"$f":"VLOOKUP(A990,'Data Pull totals 5-8'!A:C,3,0)","v":0},835808,0]
[984,32357333.900000002,{"$f":"'Expenditures 15-22'!H74","v":32357333.899999999},0,"OK",32092699.900000002,-3.7252902984619141E-9,null,233157,32325856.900000002,null,32325856.900000002,null,0,0,{"$f":"VLOOKUP(A991,'Data Pull totals 5-8'!A:C,3,0)","v":31477},32357333.900000002,0]
[985,8089812,{"$f":"'Expenditures 15-22'!H75","v":8089812},0,"OK",8088731,0,null,0,8088731,null,8088731,null,0,0,{"$f":"VLOOKUP(A992,'Data Pull totals 5-8'!A:C,3,0)","v":1081},8089812,0]
[986,532923686.52999997,{"$f":"'Expenditures 15-22'!H102","v":532923686.52999997},0,"OK",531603288.52999997,0,null,139422,531742710.52999997,null,531742710.52999997,null,0,0,{"$f":"VLOOKUP(A993,'Data Pull totals 5-8'!A:C,3,0)","v":1180976},532923686.52999997,0]
[987,996434,{"$f":"'Expenditures 15-22'!H105","v":996434},0,"OK",996434,0,null,0,996434,null,996434,null,0,0,{"$f":"VLOOKUP(A994,'Data Pull totals 5-8'!A:C,3,0)","v":0},996434,0]
[988,130730,{"$f":"'Expenditures 15-22'!H106","v":130730},0,"OK",130730,0,null,0,130730,null,130730,null,0,0,{"$f":"VLOOKUP(A995,'Data Pull totals 5-8'!A:C,3,0)","v":0},130730,0]
[989,0,null,0,"OK",0,0,null,0,0,null,0,null,0,0,0,0,0]
[990,293196,{"$f":"'Expenditures 15-22'!H109","v":293196},0,"OK",293196,0,null,0,293196,null,293196,null,0,0,{"$f":"VLOOKUP(A997,'Data Pull totals 5-8'!A:C,3,0)","v":0},293196,0]
[991,0,null,0,"OK",0,0,null,0,0,null,0,null,0,0,0,0,0]
[992,32394652,{"$f":"'Expenditures 15-22'!H110","v":32394652},0,"OK",32394652,0,null,0,32394652,null,32394652,null,0,0,{"$f":"VLOOKUP(A999,'Data Pull totals 5-8'!A:C,3,0)","v":0},32394652,0]
[993,995284591.42999995,{"$f":"'Expenditures 15-22'!H114","v":995284591.42999995},0,"OK",986057482.42999995,0,null,5478157,991535639.42999995,null,991535639.42999995,null,0,0,{"$f":"VLOOKUP(A1000,'Data Pull totals 5-8'!A:C,3,0)","v":3748952},995284591.42999995,0]
[994,0,null,0,"OK",0,0,null,0,0,null,0,null,0,0,0,0,0]
[995,0,null,0,"OK",0,0,null,0,0,null,0,null,0,0,0,0,0]
[996,0,null,0,"OK",0,0,null,0,0,null,0,null,0,0,0,0,0]
[997,0,null,0,"OK",0,0,null,0,0,null,0,null,0,0,0,0,0]
[998,0,null,0,"OK",0,0,null,0,0,null,0,null,0,0,0,0,0]
[999,0,null,0,"OK",0,0,null,0,0,null,0,null,0,0,0,0,0]
[1000,0,null,0,"OK",0,0,null,0,0,null,0,null,0,0,0,0,0]
[1001,0,null,0,"OK",0,0,null,0,0,null,0,null,0,0,0,0,0]
[1002,0,null,0,"OK",0,0,null,0,0,null,0,null,0,0,0,0,0]
[1003,0,null,0,"OK",0,0,null,0,0,null,0,null,0,0,0,0,0]
[1004,0,null,0,"OK",0,0,null,0,0,null,0,null,0,0,0,0,0]
[1005,0,null,0,"OK",0,0,null,0,0,null,0,null,0,0,0,0,0]
[1006,0,null,0,"OK",0,0,null,0,0,null,0,null,0,0,0,0,0]
[1007,0,null,0,"OK",0,0,null,0,0,null,0,null,0,0,0,0,0]
[1008,0,null,0,"OK",0,0,null,0,0,null,0,null,0,0,0,0,0]
[1009,0,null,0,"OK",0,0,null,0,0,null,0,null,0,0,0,0,0]
[1010,0,null,0,"OK",0,0,null,0,0,null,0,null,0,0,0,0,0]
[1011,0,null,0,"OK",0,0,null,0,0,null,0,null,0,0,0,0,0]
[1012,0,null,0,"OK",0,0,null,0,0,null,0,null,0,0,0,0,0]
[1013,0,null,0,"OK",0,0,null,0,0,null,0,null,0,0,0,0,0]
[1014,0,null,0,"OK",0,0,null,0,0,null,0,null,0,0,0,0,0]
[1015,0,null,0,"OK",0,0,null,0,0,null,0,null,0,0,0,0,0]
[1016,0,null,0,"OK",0,0,null,0,0,null,0,null,0,0,0,0,0]
[1017,0,null,0,"OK",0,0,null,0,0,null,0,null,0,0,0,0,0]
[1018,0,null,0,"OK",0,0,null,0,0,null,0,null,0,0,0,0,0]
[1019,0,null,0,"OK",0,0,null,0,0,null,0,null,0,0,0,0,0]
[1020,0,null,0,"OK",0,0,null,0,0,null,0,null,0,0,0,0,0]
[1021,0,null,0,"OK",0,0,null,0,0,null,0,null,0,0,0,0,0]
[1022,0,null,0,"OK",0,0,null,0,0,null,0,null,0,0,0,0,0]
[1023,0,null,0,"OK",0,0,null,0,0,null,0,null,0,0,0,0,0]
[1024,0,null,0,"OK",0,0,null,0,0,null,0,null,0,0,0,0,0]
[1025,0,null,{"$f":"B1032-C1032","v":0},{"$f":"IF((D1032 = 0),\"OK\",IF((D1032<-5),\"CHECK ME!\",IF((D1032>5),\"Check Me!\",\"OK\")))","v":"OK"},0,0,null,0,0,null,0,null,0,0,0,0,0]
[1026,0,null,0,"OK",0,0,null,0,0,null,0,null,0,0,0,0,0]
[1027,0,null,0,"OK",0,0,null,0,0,null,0,null,0,0,0,0,0]
[1028,0,null,0,"OK",0,0,null,0,0,null,0,null,0,0,0,0,0]
[1029,0,null,0,"OK",0,0,null,0,0,null,0,null,{"$f":"SUM(J1036-L1036)","v":0},0,0,0,{"$f":"SUM(L1036+P1036-Q1036)","v":0}]
[1030,0,null,0,"OK",0,0,null,0,0,null,0,null,0,0,0,0,0]
[1031,0,null,0,"OK",0,0,null,0,0,null,0,null,0,0,0,0,0]
[1032,9094046222.6399994,{"$f":"'Expenditures 15-22'!K5","v":9094046222.6399994},0,"OK",9056917738.6399994,0,null,18791945,9075709683.6399994,null,9075709683.6399994,null,0,0,{"$f":"VLOOKUP(A1039,'Data Pull totals 5-8'!A:C,3,0)","v":18336539},9094046222.6399994,0]
[1033,64631212,{"$f":"'Expenditures 15-22'!K16","v":64631212},0,"OK",64631212,0,null,0,64631212,null,64631212,null,0,0,{"$f":"VLOOKUP(A1040,'Data Pull totals 5-8'!A:C,3,0)","v":0},64631212,0]
[1034,0,null,0,"OK",0,0,null,0,0,null,0,null,0,0,0,0,0]
[1035,0,null,0,"OK",0,0,null,0,0,null,0,null,0,0,0,0,0]
[1036,0,null,0,"OK",0,0,null,0,0,null,0,null,0,0,0,0,0]
[1037,0,null,0,"OK",0,0,null,0,0,null,0,null,0,0,0,0,0]
[1038,0,null,0,"OK",0,0,null,0,0,null,0,null,0,0,0,0,0]
[1039,445812880,{"$f":"'Expenditures 15-22'!K18","v":445812880},0,"OK",445584197,0,null,224866,445809063,null,445809063,null,0,0,{"$f":"VLOOKUP(A1046,'Data Pull totals 5-8'!A:C,3,0)","v":3817},445812880,0]
[1040,0,null,0,"OK",0,0,null,0,0,null,0,null,0,0,0,0,0]
[1041,0,null,0,"OK",0,0,null,0,0,null,0,null,0,0,0,0,0]
[1042,0,null,0,"OK",0,0,null,0,0,null,0,null,0,0,0,0,0]
[1043,11680729,{"$f":"'Expenditures 15-22'!K12","v":11680729},0,"OK",11680729,0,null,0,11680729,null,11680729,null,0,0,{"$f":"VLOOKUP(A1050,'Data Pull totals 5-8'!A:C,3,0)","v":0},11680729,0]
[1044,239632882.56999999,{"$f":"'Expenditures 15-22'!K13","v":239632882.56999999},0,"OK",238807744.56999999,0,null,810876,239618620.56999999,null,239618620.56999999,null,0,0,{"$f":"VLOOKUP(A1051,'Data Pull totals 5-8'!A:C,3,0)","v":14262},239632882.56999999,0]
[1045,399458362.69999999,{"$f":"'Expenditures 15-22'!K14","v":399458362.69999999},0,"OK",396956311.69999999,0,null,962538,397918849.69999999,null,397918849.69999999,null,0,0,{"$f":"VLOOKUP(A1052,'Data Pull totals 5-8'!A:C,3,0)","v":1539513},399458362.69999999,0]
[1046,54875489.770000003,{"$f":"'Expenditures 15-22'!K15","v":54875489.770000003},0,"OK",54801169.770000003,0,null,0,54801169.770000003,null,54801169.770000003,null,0,0,{"$f":"VLOOKUP(A1053,'Data Pull totals 5-8'!A:C,3,0)","v":74320},54875489.770000003,0]
[1047,14575394777.520002,{"$f":"'Expenditures 15-22'!K33","v":14575394777.520002},0,"OK",14499307189.520002,-1.9073486328125E-6,null,42137763,14541444952.520002,null,14541444952.520002,null,0,0,{"$f":"VLOOKUP(A1054,'Data Pull totals 5-8'!A:C,3,0)","v":33949825},14575394777.520002,0]
[1048,342415999,{"$f":"'Expenditures 15-22'!K36","v":342415999},0,"OK",339333799,0,null,2239058,341572857,null,341572857,null,0,0,{"$f":"VLOOKUP(A1055,'Data Pull totals 5-8'!A:C,3,0)","v":843142},342415999,0]
[1049,388175192.58999997,{"$f":"'Expenditures 15-22'!K37","v":388175192.59000003},0,"OK",386856704.58999997,0,null,673125,387529829.58999997,null,387529829.58999997,null,0,0,{"$f":"VLOOKUP(A1056,'Data Pull totals 5-8'!A:C,3,0)","v":645363},388175192.58999997,0]
[1050,225352793.38,{"$f":"'Expenditures 15-22'!K38","v":225352793.38},0,"OK",224097860.38,0,null,724611,224822471.38,null,224822471.38,null,0,0,{"$f":"VLOOKUP(A1057,'Data Pull totals 5-8'!A:C,3,0)","v":530322},225352793.38,0]
[1051,157484237,{"$f":"'Expenditures 15-22'!K39","v":157484237},0,"OK",156217910,0,null,658977,156876887,null,156876887,null,0,0,{"$f":"VLOOKUP(A1058,'Data Pull totals 5-8'!A:C,3,0)","v":607350},157484237,0]
[1052,262489955.90000001,{"$f":"'Expenditures 15-22'!K40","v":262489955.89999998},0,"OK",261052765.90000001,0,null,415735,261468500.90000001,null,261468500.90000001,null,0,0,{"$f":"VLOOKUP(A1059,'Data Pull totals 5-8'!A:C,3,0)","v":1021455},262489955.90000001,0]
[1053,101546181.69,{"$f":"'Expenditures 15-22'!K41","v":101546181.69},0,"OK",101328843.69,0,null,86529,101415372.69,null,101415372.69,null,0,0,{"$f":"VLOOKUP(A1060,'Data Pull totals 5-8'!A:C,3,0)","v":130809},101546181.69,0]
[1054,1477464359.5599999,{"$f":"'Expenditures 15-22'!K42","v":1477464359.5599999},0,"OK",1468887883.5599999,0,null,4798035,1473685918.5599999,null,1473685918.5599999,null,0,0,{"$f":"VLOOKUP(A1061,'Data Pull totals 5-8'!A:C,3,0)","v":3778441},1477464359.5599999,0]
[1055,493835491.05000001,{"$f":"'Expenditures 15-22'!K44","v":493835491.05000001},0,"OK",488881026.05000001,0,null,4030127,492911153.05000001,null,492911153.05000001,null,0,0,{"$f":"VLOOKUP(A1062,'Data Pull totals 5-8'!A:C,3,0)","v":924338},493835491.05000001,0]
[1056,386993967.73000002,{"$f":"'Expenditures 15-22'!K45","v":386993967.73000002},0,"OK",386203489.73000002,0,null,564450,386767939.73000002,null,386767939.73000002,null,0,0,{"$f":"VLOOKUP(A1063,'Data Pull totals 5-8'!A:C,3,0)","v":226028},386993967.73000002,0]
[1057,46198146,{"$f":"'Expenditures 15-22'!K46","v":46198146},0,"OK",46003535,0,null,32933,46036468,null,46036468,null,0,0,{"$f":"VLOOKUP(A1064,'Data Pull totals 5-8'!A:C,3,0)","v":161678},46198146,0]
[1058,927027604.77999997,{"$f":"'Expenditures 15-22'!K47","v":927027604.77999997},0,"OK",921088050.77999997,0,null,4627510,925715560.77999997,null,925715560.77999997,null,0,0,{"$f":"VLOOKUP(A1065,'Data Pull totals 5-8'!A:C,3,0)","v":1312044},927027604.77999997,0]
[1059,186529674.84999999,{"$f":"'Expenditures 15-22'!K49","v":186529674.84999999},0,"OK",185934044.84999999,0,null,130431,186064475.84999999,null,186064475.84999999,null,0,0,{"$f":"VLOOKUP(A1066,'Data Pull totals 5-8'!A:C,3,0)","v":465199},186529674.84999999,0]
[1060,233536080.65000001,{"$f":"'Expenditures 15-22'!K50","v":233536080.64999998},0,"OK",231567312.65000001,0,null,1481923,233049235.65000001,null,233049235.65000001,null,0,0,{"$f":"VLOOKUP(A1067,'Data Pull totals 5-8'!A:C,3,0)","v":486845},233536080.65000001,0]
[1061,537753898.5,{"$f":"'Expenditures 15-22'!K53","v":537753898.5},0,"OK",533516687.5,0,null,2455041,535971728.5,null,535971728.5,null,0,0,{"$f":"VLOOKUP(A1068,'Data Pull totals 5-8'!A:C,3,0)","v":1782170},537753898.5,0]
[1062,1130256236.78,{"$f":"'Expenditures 15-22'!K55","v":1130256236.78},0,"OK",1123791100.78,0,null,3543266,1127334366.78,null,1127334366.78,null,0,0,{"$f":"VLOOKUP(A1069,'Data Pull totals 5-8'!A:C,3,0)","v":2921870},1130256236.78,0]
[1063,54267350,{"$f":"'Expenditures 15-22'!K56","v":54267350},0,"OK",52912075,0,null,103316,53015391,null,53015391,null,0,0,{"$f":"VLOOKUP(A1070,'Data Pull totals 5-8'!A:C,3,0)","v":1251959},54267350,0]
[1064,1184523586.78,{"$f":"'Expenditures 15-22'!K57","v":1184523586.78},0,"OK",1176703175.78,0,null,3646582,1180349757.78,null,1180349757.78,null,0,0,{"$f":"VLOOKUP(A1071,'Data Pull totals 5-8'!A:C,3,0)","v":4173829},1184523586.78,0]
[1065,69053570,{"$f":"'Expenditures 15-22'!K59","v":69053570},0,"OK",68398561,0,null,0,68398561,null,68398561,null,0,0,{"$f":"VLOOKUP(A1072,'Data Pull totals 5-8'!A:C,3,0)","v":655009},69053570,0]
[1066,170892310.88999999,{"$f":"'Expenditures 15-22'!K60","v":170892310.88999999},0,"OK",169540440.88999999,0,null,929258,170469698.88999999,null,170469698.88999999,null,0,0,{"$f":"VLOOKUP(A1073,'Data Pull totals 5-8'!A:C,3,0)","v":422612},170892310.88999999,0]
[1067,226997815.16,{"$f":"'Expenditures 15-22'!K61","v":226997815.16},0,"OK",225790754.16,0,null,502396,226293150.16,null,226293150.16,null,0,0,{"$f":"VLOOKUP(A1074,'Data Pull totals 5-8'!A:C,3,0)","v":704665},226997815.16,0]
[1068,136812110,{"$f":"'Expenditures 15-22'!K62","v":136812110},0,"OK",136877616,0,null,-127559,136750057,null,136750057,null,0,0,{"$f":"VLOOKUP(A1075,'Data Pull totals 5-8'!A:C,3,0)","v":62053},136812110,0]
[1069,770312748.13,{"$f":"'Expenditures 15-22'!K63","v":770312748.13},0,"OK",765235955.13,0,null,3086858,768322813.13,null,768322813.13,null,0,0,{"$f":"VLOOKUP(A1076,'Data Pull totals 5-8'!A:C,3,0)","v":1989935},770312748.13,0]
[1070,30148653.629999999,{"$f":"'Expenditures 15-22'!K64","v":30148653.629999999},0,"OK",29810209.629999999,0,null,338444,30148653.629999999,null,30148653.629999999,null,0,0,{"$f":"VLOOKUP(A1077,'Data Pull totals 5-8'!A:C,3,0)","v":0},30148653.629999999,0]
[1071,0,null,0,"OK",0,0,null,0,0,null,0,null,0,0,0,0,0]
[1072,1404217207.8100002,{"$f":"'Expenditures 15-22'!K65","v":1404217207.8099999},0,"OK",1395653536.8100002,-2.384185791015625E-7,null,4729397,1400382933.8100002,null,1400382933.8100002,null,0,0,{"$f":"VLOOKUP(A1079,'Data Pull totals 5-8'!A:C,3,0)","v":3834274},1404217207.8100002,0]
[1073,11947405,{"$f":"'Expenditures 15-22'!K67","v":11947405},0,"OK",11017031,0,null,930374,11947405,null,11947405,null,0,0,{"$f":"VLOOKUP(A1080,'Data Pull totals 5-8'!A:C,3,0)","v":0},11947405,0]
[1074,25428545,{"$f":"'Expenditures 15-22'!K68","v":25428545},0,"OK",24464265,0,null,817768,25282033,null,25282033,null,0,0,{"$f":"VLOOKUP(A1081,'Data Pull totals 5-8'!A:C,3,0)","v":146512},25428545,0]
[1075,62354292,{"$f":"'Expenditures 15-22'!K69","v":62354292},0,"OK",61798674,0,null,167677,61966351,null,61966351,null,0,0,{"$f":"VLOOKUP(A1082,'Data Pull totals 5-8'!A:C,3,0)","v":387941},62354292,0]
[1076,110952067,{"$f":"'Expenditures 15-22'!K70","v":110952067},0,"OK",109569509,0,null,643904,110213413,null,110213413,null,0,0,{"$f":"VLOOKUP(A1083,'Data Pull totals 5-8'!A:C,3,0)","v":738654},110952067,0]
[1077,0,null,0,"OK",0,0,null,0,0,null,0,null,0,0,0,0,0]
[1078,321655118.68000001,{"$f":"'Expenditures 15-22'!K71","v":321655118.68000001},0,"OK",316567600.68000001,0,null,1210556,317778156.68000001,null,317778156.68000001,null,0,0,{"$f":"VLOOKUP(A1085,'Data Pull totals 5-8'!A:C,3,0)","v":3876962},321655118.68000001,0]
[1079,0,null,0,"OK",0,0,null,0,0,null,0,null,0,0,0,0,0]
[1080,532337427.68000001,{"$f":"'Expenditures 15-22'!K72","v":532337427.68000001},0,"OK",523417079.68000001,0,null,3770279,527187358.68000001,null,527187358.68000001,null,0,0,{"$f":"VLOOKUP(A1087,'Data Pull totals 5-8'!A:C,3,0)","v":5150069},532337427.68000001,0]
[1081,41405050,{"$f":"'Expenditures 15-22'!K73","v":41405050},0,"OK",40736537,0,null,649848,41386385,null,41386385,null,0,0,{"$f":"VLOOKUP(A1088,'Data Pull totals 5-8'!A:C,3,0)","v":18665},41405050,0]
[1082,6104729135.1100006,{"$f":"'Expenditures 15-22'!K74","v":6104729135.1100006},0,"OK",6060002951.1100006,-9.5367431640625E-7,null,24676692,6084679643.1100006,null,6084679643.1100006,null,0,0,{"$f":"VLOOKUP(A1089,'Data Pull totals 5-8'!A:C,3,0)","v":20049492},6104729135.1100006,0]
[1083,157232594,{"$f":"'Expenditures 15-22'!K75","v":157232594},0,"OK",156161696,0,null,717643,156879339,null,156879339,null,0,0,{"$f":"VLOOKUP(A1090,'Data Pull totals 5-8'!A:C,3,0)","v":353255},157232594,0]
[1084,741197906.94000006,{"$f":"'Expenditures 15-22'!K102","v":741197906.94000006},0,"OK",739280396.94000006,0,null,736534,740016930.94000006,null,740016930.94000006,null,0,0,{"$f":"VLOOKUP(A1091,'Data Pull totals 5-8'!A:C,3,0)","v":1180976},741197906.94000006,0]
[1085,996434,{"$f":"'Expenditures 15-22'!K105","v":996434},0,"OK",996434,0,null,0,996434,null,996434,null,0,0,{"$f":"VLOOKUP(A1092,'Data Pull totals 5-8'!A:C,3,0)","v":0},996434,0]
[1086,130730,{"$f":"'Expenditures 15-22'!K106","v":130730},0,"OK",130730,0,null,0,130730,null,130730,null,0,0,{"$f":"VLOOKUP(A1093,'Data Pull totals 5-8'!A:C,3,0)","v":0},130730,0]
[1087,0,null,0,"OK",0,0,null,0,0,null,0,null,0,0,0,0,0]
[1088,293196,{"$f":"'Expenditures 15-22'!K109","v":293196},0,"OK",293196,0,null,0,293196,null,293196,null,0,0,{"$f":"VLOOKUP(A1095,'Data Pull totals 5-8'!A:C,3,0)","v":0},293196,0]
[1089,0,null,{"$f":"B1096-C1096","v":0},{"$f":"IF((D1096 = 0),\"OK\",IF((D1096<-5),\"CHECK ME!\",IF((D1096>5),\"Check Me!\",\"OK\")))","v":"OK"},0,0,null,0,0,null,0,null,0,0,0,0,0]
[1090,32394652,{"$f":"'Expenditures 15-22'!K110","v":32394652},0,"OK",32394652,0,null,0,32394652,null,32394652,null,0,0,{"$f":"VLOOKUP(A1097,'Data Pull totals 5-8'!A:C,3,0)","v":0},32394652,0]
[1091,21612703846.57,{"$f":"'Expenditures 15-22'!K114","v":21612703846.570004},0,"OK",21488901627.57,0,null,68268632,21557170259.57,null,21557170259.57,null,0,0,{"$f":"VLOOKUP(A1098,'Data Pull totals 5-8'!A:C,3,0)","v":55533587},21612703846.57,0]
[1092,1235723474.29,{"$f":"'Expenditures 15-22'!K115","v":1235723474.2899933},6.67572021484375E-6,"OK",1231573709.29,0,null,7537932,1239111641.29,null,1239111641.29,null,0,0,{"$f":"VLOOKUP(A1099,'Data Pull totals 5-8'!A:C,3,0)","v":-3388167},1235723474.29,0]
[1093,0,null,0,"OK",0,0,null,0,0,null,0,null,{"$f":"SUM(J1100-L1100)","v":0},0,0,0,{"$f":"SUM(L1100+P1100-Q1100)","v":0}]
[1094,0,null,0,"OK",0,0,null,0,0,null,0,null,0,0,0,0,0]
[1095,0,null,0,"OK",0,0,null,0,0,null,0,null,0,0,0,0,0]
[1096,0,null,0,"OK",0,0,null,0,0,null,0,null,0,0,0,0,0]
[1097,0,null,0,"OK",0,0,null,0,0,null,0,null,0,0,0,0,0]
[1098,0,null,0,"OK",0,0,null,0,0,null,0,null,0,0,0,0,0]
[1099,0,null,0,"OK",0,0,null,0,0,null,0,null,0,0,0,0,0]
[1100,0,null,0,"OK",0,0,null,0,0,null,0,null,0,0,0,0,0]
[1101,0,null,0,"OK",0,0,null,0,0,null,0,null,0,0,0,0,0]
[1102,0,null,0,"OK",0,0,null,0,0,null,0,null,0,0,0,0,0]
[1103,0,null,0,"OK",0,0,null,0,0,null,0,null,0,0,0,0,0]
[1104,0,null,0,"OK",0,0,null,0,0,null,0,null,0,0,0,0,0]
[1105,0,null,0,"OK",0,0,null,0,0,null,0,null,0,0,0,0,0]
[1106,0,null,0,"OK",0,0,null,0,0,null,0,null,0,0,0,0,0]
[1107,0,null,0,"OK",0,0,null,0,0,null,0,null,0,0,0,0,0]
[1108,0,null,0,"OK",0,0,null,0,0,null,0,null,0,0,0,0,0]
[1109,0,null,0,"OK",0,0,null,0,0,null,0,null,0,0,0,0,0]
[1110,0,null,0,"OK",0,0,null,0,0,null,0,null,0,0,0,0,0]
[1111,0,null,0,"OK",0,0,null,0,0,null,0,null,0,0,0,0,0]
[1112,0,null,0,"OK",0,0,null,0,0,null,0,null,0,0,0,0,0]
[1113,0,null,0,"OK",0,0,null,0,0,null,0,null,0,0,0,0,0]
[1114,0,null,0,"OK",0,0,null,0,0,null,0,null,0,0,0,0,0]
[1115,0,null,0,"OK",0,0,null,0,0,null,0,null,0,0,0,0,0]
[1116,0,null,0,"OK",0,0,null,0,0,null,0,null,0,0,0,0,0]
[1117,0,null,0,"OK",0,0,null,0,0,null,0,null,0,0,0,0,0]
[1118,0,null,0,"OK",0,0,null,0,0,null,0,null,0,0,0,0,0]
[1119,0,null,0,"OK",0,0,null,0,0,null,0,null,0,0,0,0,0]
[1120,0,null,0,"OK",0,0,null,0,0,null,0,null,0,0,0,0,0]
[1121,0,null,0,"OK",0,0,null,0,0,null,0,null,0,0,0,0,0]
[1122,0,null,0,"OK",0,0,null,0,0,null,0,null,0,0,0,0,0]
[1123,0,null,0,"OK",0,0,null,0,0,null,0,null,0,0,0,0,0]
[1124,0,null,0,"OK",0,0,null,0,0,null,0,null,0,0,0,0,0]
[1125,0,null,0,"OK",0,0,null,0,0,null,0,null,0,0,0,0,0]
[1126,0,null,0,"OK",0,0,null,0,0,null,0,null,0,0,0,0,0]
[1127,0,null,0,"OK",0,0,null,0,0,null,0,null,0,0,0,0,0]
[1128,0,null,0,"OK",0,0,null,0,0,null,0,null,0,0,0,0,0]
[1129,0,null,0,"OK",0,0,null,0,0,null,0,null,0,0,0,0,0]
[1130,0,null,0,"OK",0,0,null,0,0,null,0,null,0,0,0,0,0]
[1131,0,null,0,"OK",0,0,null,0,0,null,0,null,0,0,0,0,0]
[1132,0,null,0,"OK",0,0,null,0,0,null,0,null,0,0,0,0,0]
[1133,0,null,0,"OK",0,0,null,0,0,null,0,null,0,0,0,0,0]
[1134,0,null,0,"OK",0,0,null,0,0,null,0,null,0,0,0,0,0]
[1135,0,null,0,"OK",0,0,null,0,0,null,0,null,0,0,0,0,0]
[1136,0,null,0,"OK",0,0,null,0,0,null,0,null,0,0,0,0,0]
[1137,0,null,0,"OK",0,0,null,0,0,null,0,null,0,0,0,0,0]
[1138,0,null,0,"OK",0,0,null,0,0,null,0,null,0,0,0,0,0]
[1139,0,null,0,"OK",0,0,null,0,0,null,0,null,0,0,0,0,0]
[1140,0,null,0,"OK",0,0,null,0,0,null,0,null,0,0,0,0,0]
[1141,0,null,0,"OK",0,0,null,0,0,null,0,null,0,0,0,0,0]
[1142,0,null,0,"OK",0,0,null,0,0,null,0,null,0,0,0,0,0]
[1143,0,null,0,"OK",0,0,null,0,0,null,0,null,0,0,0,0,0]
[1144,0,null,0,"OK",0,0,null,0,0,null,0,null,0,0,0,0,0]
[1145,0,null,0,"OK",0,0,null,0,0,null,0,null,0,0,0,0,0]
[1146,0,null,0,"OK",0,0,null,0,0,null,0,null,0,0,0,0,0]
[1147,0,null,0,"OK",0,0,null,0,0,null,0,null,0,0,0,0,0]
[1148,0,null,0,"OK",0,0,null,0,0,null,0,null,0,0,0,0,0]
[1149,0,null,0,"OK",0,0,null,0,0,null,0,null,0,0,0,0,0]
[1150,0,null,0,"OK",0,0,null,0,0,null,0,null,0,0,0,0,0]
[1151,0,null,0,"OK",0,0,null,0,0,null,0,null,0,0,0,0,0]
[1152,0,null,0,"OK",0,0,null,0,0,null,0,null,0,0,0,0,0]
[1153,0,null,{"$f":"B1160-C1160","v":0},{"$f":"IF((D1160 = 0),\"OK\",IF((D1160<-5),\"CHECK ME!\",IF((D1160>5),\"Check Me!\",\"OK\")))","v":"OK"},0,0,null,0,0,null,0,null,0,0,0,0,0]
[1154,0,null,0,"OK",0,0,null,0,0,null,0,null,0,0,0,0,0]
[1155,0,null,0,"OK",0,0,null,0,0,null,0,null,0,0,0,0,0]
[1156,0,null,0,"OK",0,0,null,0,0,null,0,null,0,0,0,0,0]
[1157,0,null,0,"OK",0,0,null,0,0,null,0,null,{"$f":"SUM(J1164-L1164)","v":0},0,0,0,{"$f":"SUM(L1164+P1164-Q1164)","v":0}]
[1158,2729805,{"$f":"'Expenditures 15-22'!C122","v":2729805},0,"OK",2729805,0,null,0,2729805,null,2729805,null,0,0,{"$f":"VLOOKUP(A1165,'Data Pull totals 5-8'!A:C,3,0)","v":0},2729805,0]
[1159,1045563,{"$f":"'Expenditures 15-22'!C123","v":1045563},0,"OK",1045563,0,null,0,1045563,null,1045563,null,0,0,{"$f":"VLOOKUP(A1166,'Data Pull totals 5-8'!A:C,3,0)","v":0},1045563,0]
[1160,610675508.8599999,{"$f":"'Expenditures 15-22'!C124","v":610675508.8599999},0,"OK",606337340.8599999,1.1920928955078125E-7,null,2621285,608958625.8599999,null,608958625.8599999,null,0,0,{"$f":"VLOOKUP(A1167,'Data Pull totals 5-8'!A:C,3,0)","v":1716883},610675508.8599999,0]
[1161,0,null,0,"OK",0,0,null,0,0,null,0,null,0,0,0,0,0]
[1162,614514065.8599999,{"$f":"'Expenditures 15-22'!C127","v":614514065.8599999},0,"OK",610175897.8599999,1.1920928955078125E-7,null,2621285,612797182.8599999,null,612797182.8599999,null,0,0,{"$f":"VLOOKUP(A1169,'Data Pull totals 5-8'!A:C,3,0)","v":1716883},614514065.8599999,0]
[1163,1113815,{"$f":"'Expenditures 15-22'!C128","v":1113815},0,"OK",1113815,0,null,0,1113815,null,1113815,null,0,0,{"$f":"VLOOKUP(A1170,'Data Pull totals 5-8'!A:C,3,0)","v":0},1113815,0]
[1164,615730305.8599999,{"$f":"'Expenditures 15-22'!C129","v":615730305.8599999},0,"OK",611392137.8599999,1.1920928955078125E-7,null,2621285,614013422.8599999,null,614013422.8599999,null,0,0,{"$f":"VLOOKUP(A1171,'Data Pull totals 5-8'!A:C,3,0)","v":1716883},615730305.8599999,0]
[1165,616044748.8599999,{"$f":"'Expenditures 15-22'!C151","v":616044748.8599999},0,"OK",611706580.8599999,1.1920928955078125E-7,null,2621285,614327865.8599999,null,614327865.8599999,null,0,0,{"$f":"VLOOKUP(A1172,'Data Pull totals 5-8'!A:C,3,0)","v":1716883},616044748.8599999,0]
[1166,492107,{"$f":"'Expenditures 15-22'!D122","v":492107},0,"OK",492107,0,null,0,492107,null,492107,null,0,0,{"$f":"VLOOKUP(A1173,'Data Pull totals 5-8'!A:C,3,0)","v":0},492107,0]
[1167,150047,{"$f":"'Expenditures 15-22'!D123","v":150047},0,"OK",150047,0,null,0,150047,null,150047,null,0,0,{"$f":"VLOOKUP(A1174,'Data Pull totals 5-8'!A:C,3,0)","v":0},150047,0]
[1168,123255576.03,{"$f":"'Expenditures 15-22'!D124","v":123255576.03},0,"OK",122395508.03,0,null,487053,122882561.03,null,122882561.03,null,0,0,{"$f":"VLOOKUP(A1175,'Data Pull totals 5-8'!A:C,3,0)","v":373015},123255576.03,0]
[1169,0,null,0,"OK",0,0,null,0,0,null,0,null,0,0,0,0,0]
[1170,123911374.03,{"$f":"'Expenditures 15-22'!D127","v":123911374.03},0,"OK",123051306.03,0,null,487053,123538359.03,null,123538359.03,null,0,0,{"$f":"VLOOKUP(A1177,'Data Pull totals 5-8'!A:C,3,0)","v":373015},123911374.03,0]
[1171,183731,{"$f":"'Expenditures 15-22'!D128","v":183731},0,"OK",183731,0,null,0,183731,null,183731,null,0,0,{"$f":"VLOOKUP(A1178,'Data Pull totals 5-8'!A:C,3,0)","v":0},183731,0]
[1172,124386369.03,{"$f":"'Expenditures 15-22'!D129","v":124386369.03},0,"OK",123526301.03,0,null,487053,124013354.03,null,124013354.03,null,0,0,{"$f":"VLOOKUP(A1179,'Data Pull totals 5-8'!A:C,3,0)","v":373015},124386369.03,0]
[1173,124386388.03,{"$f":"'Expenditures 15-22'!D151","v":124386388.03},0,"OK",123526320.03,0,null,487053,124013373.03,null,124013373.03,null,0,0,{"$f":"VLOOKUP(A1180,'Data Pull totals 5-8'!A:C,3,0)","v":373015},124386388.03,0]
[1174,1390461,{"$f":"'Expenditures 15-22'!E122","v":1390461},0,"OK",1390461,0,null,0,1390461,null,1390461,null,0,0,{"$f":"VLOOKUP(A1181,'Data Pull totals 5-8'!A:C,3,0)","v":0},1390461,0]
[1175,13249969,{"$f":"'Expenditures 15-22'!E123","v":13249969},0,"OK",13249969,0,null,0,13249969,null,13249969,null,0,0,{"$f":"VLOOKUP(A1182,'Data Pull totals 5-8'!A:C,3,0)","v":0},13249969,0]
[1176,637259012.98000002,{"$f":"'Expenditures 15-22'!E124","v":637259012.98000002},0,"OK",634593309.98000002,0,null,1782914,636376223.98000002,null,636376223.98000002,null,0,0,{"$f":"VLOOKUP(A1183,'Data Pull totals 5-8'!A:C,3,0)","v":882789},637259012.98000002,0]
[1177,0,null,0,"OK",0,0,null,0,0,null,0,null,0,0,0,0,0]
[1178,652176957.09000003,{"$f":"'Expenditures 15-22'!E127","v":652176957.09000003},0,"OK",649511254.09000003,0,null,1782914,651294168.09000003,null,651294168.09000003,null,0,0,{"$f":"VLOOKUP(A1185,'Data Pull totals 5-8'!A:C,3,0)","v":882789},652176957.09000003,0]
[1179,1971924,{"$f":"'Expenditures 15-22'!E128","v":1971924},0,"OK",1971924,0,null,0,1971924,null,1971924,null,0,0,{"$f":"VLOOKUP(A1186,'Data Pull totals 5-8'!A:C,3,0)","v":0},1971924,0]
[1180,654215354.09000003,{"$f":"'Expenditures 15-22'!E129","v":654215354.09000003},0,"OK",651549651.09000003,0,null,1782914,653332565.09000003,null,653332565.09000003,null,0,0,{"$f":"VLOOKUP(A1187,'Data Pull totals 5-8'!A:C,3,0)","v":882789},654215354.09000003,0]
[1181,656627702.09000003,{"$f":"'Expenditures 15-22'!E151","v":656627702.09000003},0,"OK",653961999.09000003,0,null,1782914,655744913.09000003,null,655744913.09000003,null,0,0,{"$f":"VLOOKUP(A1188,'Data Pull totals 5-8'!A:C,3,0)","v":882789},656627702.09000003,0]
[1182,49148,{"$f":"'Expenditures 15-22'!F122","v":49148},0,"OK",49148,0,null,0,49148,null,49148,null,0,0,{"$f":"VLOOKUP(A1189,'Data Pull totals 5-8'!A:C,3,0)","v":0},49148,0]
[1183,524525,{"$f":"'Expenditures 15-22'!F123","v":524525},0,"OK",524525,0,null,0,524525,null,524525,null,0,0,{"$f":"VLOOKUP(A1190,'Data Pull totals 5-8'!A:C,3,0)","v":0},524525,0]
[1184,469630568.32999998,{"$f":"'Expenditures 15-22'!F124","v":469630568.32999998},0,"OK",466279436.32999998,0,null,2201259,468480695.32999998,null,468480695.32999998,null,0,0,{"$f":"VLOOKUP(A1191,'Data Pull totals 5-8'!A:C,3,0)","v":1149873},469630568.32999998,0]
[1185,0,null,0,"OK",0,0,null,0,0,null,0,null,0,0,0,0,0]
[1186,470314919.32999998,{"$f":"'Expenditures 15-22'!F127","v":470314919.32999998},0,"OK",466963787.32999998,0,null,2201259,469165046.32999998,null,469165046.32999998,null,0,0,{"$f":"VLOOKUP(A1193,'Data Pull totals 5-8'!A:C,3,0)","v":1149873},470314919.32999998,0]
[1187,88374,{"$f":"'Expenditures 15-22'!F128","v":88374},0,"OK",88374,0,null,0,88374,null,88374,null,0,0,{"$f":"VLOOKUP(A1194,'Data Pull totals 5-8'!A:C,3,0)","v":0},88374,0]
[1188,470406503.32999998,{"$f":"'Expenditures 15-22'!F129","v":470406503.32999998},0,"OK",467055371.32999998,0,null,2201259,469256630.32999998,null,469256630.32999998,null,0,0,{"$f":"VLOOKUP(A1195,'Data Pull totals 5-8'!A:C,3,0)","v":1149873},470406503.32999998,0]
[1189,470416586.32999998,{"$f":"'Expenditures 15-22'!F151","v":470416586.32999998},0,"OK",467065454.32999998,0,null,2201259,469266713.32999998,null,469266713.32999998,null,0,0,{"$f":"VLOOKUP(A1196,'Data Pull totals 5-8'!A:C,3,0)","v":1149873},470416586.32999998,0]
[1190,278746,{"$f":"'Expenditures 15-22'!G122","v":278746},0,"OK",278746,0,null,0,278746,null,278746,null,0,0,{"$f":"VLOOKUP(A1197,'Data Pull totals 5-8'!A:C,3,0)","v":0},278746,0]
[1191,118952872,{"$f":"'Expenditures 15-22'!G123","v":118952872},0,"OK",118952872,0,null,0,118952872,null,118952872,null,0,0,{"$f":"VLOOKUP(A1198,'Data Pull totals 5-8'!A:C,3,0)","v":0},118952872,0]
[1192,178997104.59999999,{"$f":"'Expenditures 15-22'!G124","v":178997104.59999999},0,"OK",178780767.59999999,0,null,66024,178846791.59999999,null,178846791.59999999,null,0,0,{"$f":"VLOOKUP(A1199,'Data Pull totals 5-8'!A:C,3,0)","v":150313},178997104.59999999,0]
[1193,331017,{"$f":"'Expenditures 15-22'!G126","v":331017},0,"OK",331017,0,null,0,331017,null,331017,null,0,0,{"$f":"VLOOKUP(A1200,'Data Pull totals 5-8'!A:C,3,0)","v":0},331017,0]
[1194,0,null,0,"OK",0,0,null,0,0,null,0,null,0,0,0,0,0]
[1195,298663033.60000002,{"$f":"'Expenditures 15-22'!G127","v":298663033.60000002},0,"OK",298446696.60000002,0,null,66024,298512720.60000002,null,298512720.60000002,null,0,0,{"$f":"VLOOKUP(A1202,'Data Pull totals 5-8'!A:C,3,0)","v":150313},298663033.60000002,0]
[1196,407229,{"$f":"'Expenditures 15-22'!G128","v":407229},0,"OK",407229,0,null,0,407229,null,407229,null,0,0,{"$f":"VLOOKUP(A1203,'Data Pull totals 5-8'!A:C,3,0)","v":0},407229,0]
[1197,299072016.60000002,{"$f":"'Expenditures 15-22'!G129","v":299072016.60000002},0,"OK",298855679.60000002,0,null,66024,298921703.60000002,null,298921703.60000002,null,0,0,{"$f":"VLOOKUP(A1204,'Data Pull totals 5-8'!A:C,3,0)","v":150313},299072016.60000002,0]
[1198,299119187.60000002,{"$f":"'Expenditures 15-22'!G151","v":299119187.60000002},0,"OK",298902850.60000002,0,null,66024,298968874.60000002,null,298968874.60000002,null,0,0,{"$f":"VLOOKUP(A1205,'Data Pull totals 5-8'!A:C,3,0)","v":150313},299119187.60000002,0]
[1199,49581,{"$f":"'Expenditures 15-22'!H122","v":49581},0,"OK",49581,0,null,0,49581,null,49581,null,0,0,{"$f":"VLOOKUP(A1206,'Data Pull totals 5-8'!A:C,3,0)","v":0},49581,0]
[1200,391513,{"$f":"'Expenditures 15-22'!H123","v":391513},0,"OK",391513,0,null,0,391513,null,391513,null,0,0,{"$f":"VLOOKUP(A1207,'Data Pull totals 5-8'!A:C,3,0)","v":0},391513,0]
[1201,2786918,{"$f":"'Expenditures 15-22'!H124","v":2786918},0,"OK",2784801,0,null,0,2784801,null,2784801,null,0,0,{"$f":"VLOOKUP(A1208,'Data Pull totals 5-8'!A:C,3,0)","v":2117},2786918,0]
[1202,0,null,0,"OK",0,0,null,0,0,null,0,null,0,0,0,0,0]
[1203,3228012,{"$f":"'Expenditures 15-22'!H127","v":3228012},0,"OK",3225895,0,null,0,3225895,null,3225895,null,0,0,{"$f":"VLOOKUP(A1210,'Data Pull totals 5-8'!A:C,3,0)","v":2117},3228012,0]
[1204,7015,{"$f":"'Expenditures 15-22'!H128","v":7015},0,"OK",7015,0,null,0,7015,null,7015,null,0,0,{"$f":"VLOOKUP(A1211,'Data Pull totals 5-8'!A:C,3,0)","v":0},7015,0]
[1205,3235027,{"$f":"'Expenditures 15-22'!H129","v":3235027},0,"OK",3232910,0,null,0,3232910,null,3232910,null,0,0,{"$f":"VLOOKUP(A1212,'Data Pull totals 5-8'!A:C,3,0)","v":2117},3235027,0]
[1206,3315452,{"$f":"'Expenditures 15-22'!H139","v":3315452},0,"OK",3315452,0,null,0,3315452,null,3315452,null,0,0,{"$f":"VLOOKUP(A1213,'Data Pull totals 5-8'!A:C,3,0)","v":0},3315452,0]
[1207,42020,{"$f":"'Expenditures 15-22'!H142","v":42020},0,"OK",42020,0,null,0,42020,null,42020,null,0,0,{"$f":"VLOOKUP(A1214,'Data Pull totals 5-8'!A:C,3,0)","v":0},42020,0]
[1208,0,{"$f":"'Expenditures 15-22'!H143","v":0},0,"OK",0,0,null,0,0,null,0,null,0,0,0,0,0]
[1209,52484,{"$f":"'Expenditures 15-22'!H146","v":52484},0,"OK",52484,0,null,0,52484,null,52484,null,0,0,{"$f":"VLOOKUP(A1216,'Data Pull totals 5-8'!A:C,3,0)","v":0},52484,0]
[1210,0,null,0,"OK",0,0,null,0,0,null,0,null,0,0,0,0,0]
[1211,465579,{"$f":"'Expenditures 15-22'!H149","v":465579},0,"OK",465579,0,null,0,465579,null,465579,null,0,0,{"$f":"VLOOKUP(A1218,'Data Pull totals 5-8'!A:C,3,0)","v":0},465579,0]
[1212,8466058,{"$f":"'Expenditures 15-22'!H151","v":8466058},0,"OK",8463941,0,null,0,8463941,null,8463941,null,0,0,{"$f":"VLOOKUP(A1219,'Data Pull totals 5-8'!A:C,3,0)","v":2117},8466058,0]
[1213,4995879,{"$f":"'Expenditures 15-22'!K122","v":4995879},0,"OK",4995879,0,null,0,4995879,null,4995879,null,0,0,{"$f":"VLOOKUP(A1220,'Data Pull totals 5-8'!A:C,3,0)","v":0},4995879,0]
[1214,135647086,{"$f":"'Expenditures 15-22'!K123","v":135647086},0,"OK",135647086,0,null,0,135647086,null,135647086,null,0,0,{"$f":"VLOOKUP(A1221,'Data Pull totals 5-8'!A:C,3,0)","v":0},135647086,0]
[1215,2031689555.8000002,{"$f":"'Expenditures 15-22'!K124","v":2031689555.7999997},0,"OK",2020226678.8000002,-2.384185791015625E-7,null,7160645,2027387323.8000002,null,2027387323.8000002,null,0,0,{"$f":"VLOOKUP(A1222,'Data Pull totals 5-8'!A:C,3,0)","v":4302232},2031689555.8000002,0]
[1216,412408,{"$f":"'Expenditures 15-22'!K126","v":412408},0,"OK",412408,0,null,0,412408,null,412408,null,0,0,{"$f":"VLOOKUP(A1223,'Data Pull totals 5-8'!A:C,3,0)","v":0},412408,0]
[1217,0,null,{"$f":"B1224-C1224","v":0},{"$f":"IF((D1224 = 0),\"OK\",IF((D1224<-5),\"CHECK ME!\",IF((D1224>5),\"Check Me!\",\"OK\")))","v":"OK"},0,0,null,0,0,null,0,null,0,0,0,0,0]
[1218,2173316550.9099998,{"$f":"'Expenditures 15-22'!K127","v":2173316550.9099998},0,"OK",2161853673.9099998,0,null,7160645,2169014318.9099998,null,2169014318.9099998,null,0,0,{"$f":"VLOOKUP(A1225,'Data Pull totals 5-8'!A:C,3,0)","v":4302232},2173316550.9099998,0]
[1219,3791478,{"$f":"'Expenditures 15-22'!K128","v":3791478},0,"OK",3791478,0,null,0,3791478,null,3791478,null,0,0,{"$f":"VLOOKUP(A1226,'Data Pull totals 5-8'!A:C,3,0)","v":0},3791478,0]
[1220,2177573154.9099998,{"$f":"'Expenditures 15-22'!K129","v":2177573154.9099998},0,"OK",2166110277.9099998,0,null,7160645,2173270922.9099998,null,2173270922.9099998,null,0,0,{"$f":"VLOOKUP(A1227,'Data Pull totals 5-8'!A:C,3,0)","v":4302232},2177573154.9099998,0]
[1221,5672478,{"$f":"'Expenditures 15-22'!K139","v":5672478},0,"OK",5672478,0,null,0,5672478,null,5672478,null,{"$f":"SUM(J1228-L1228)","v":0},0,{"$f":"VLOOKUP(A1228,'Data Pull totals 5-8'!A:C,3,0)","v":0},5672478,{"$f":"SUM(L1228+P1228-Q1228)","v":0}]
[1222,42020,{"$f":"'Expenditures 15-22'!K142","v":42020},0,"OK",42020,0,null,0,42020,null,42020,null,0,0,{"$f":"VLOOKUP(A1229,'Data Pull totals 5-8'!A:C,3,0)","v":0},42020,0]
[1223,0,{"$f":"'Expenditures 15-22'!K143","v":0},0,"OK",0,0,null,0,0,null,0,null,0,0,0,0,0]
[1224,52484,{"$f":"'Expenditures 15-22'!K146","v":52484},0,"OK",52484,0,null,0,52484,null,52484,null,0,0,{"$f":"VLOOKUP(A1231,'Data Pull totals 5-8'!A:C,3,0)","v":0},52484,0]
[1225,0,null,0,"OK",0,0,null,0,0,null,0,null,0,0,0,0,0]
[1226,465579,{"$f":"'Expenditures 15-22'!K149","v":465579},0,"OK",465579,0,null,0,465579,null,465579,null,0,0,{"$f":"VLOOKUP(A1233,'Data Pull totals 5-8'!A:C,3,0)","v":0},465579,0]
[1227,2185589127.9099998,{"$f":"'Expenditures 15-22'!K151","v":2185589127.9099998},0,"OK",2174126250.9099998,0,null,7160645,2181286895.9099998,null,2181286895.9099998,null,0,0,{"$f":"VLOOKUP(A1234,'Data Pull totals 5-8'!A:C,3,0)","v":4302232},2185589127.9099998,0]
[1228,87171775.850000009,{"$f":"'Expenditures 15-22'!K152","v":87171775.850000381},-3.7252902984619141E-7,"OK",88845489.850000009,-1.4901161193847656E-8,null,-1678656,87166833.850000009,null,87166833.850000009,null,0,0,{"$f":"VLOOKUP(A1235,'Data Pull totals 5-8'!A:C,3,0)","v":4942},87171775.850000009,0]
[1229,0,null,0,"OK",0,0,null,0,0,null,0,null,0,0,0,0,0]
[1230,0,null,0,"OK",0,0,null,0,0,null,0,null,0,0,0,0,0]
[1231,0,null,0,"OK",0,0,null,0,0,null,0,null,0,0,0,0,0]
[1232,0,null,0,"OK",0,0,null,0,0,null,0,null,0,0,0,0,0]
[1233,0,null,0,"OK",0,0,null,0,0,null,0,null,0,0,0,0,0]
[1234,0,null,0,"OK",0,0,null,0,0,null,0,null,0,0,0,0,0]
[1235,0,null,0,"OK",0,0,null,0,0,null,0,null,0,0,0,0,0]
[1236,0,null,0,"OK",0,0,null,0,0,null,0,null,0,0,0,0,0]
[1237,0,null,0,"OK",0,0,null,0,0,null,0,null,0,0,0,0,0]
[1238,0,null,0,"OK",0,0,null,0,0,null,0,null,0,0,0,0,0]
[1239,0,null,0,"OK",0,0,null,0,0,null,0,null,0,0,0,0,0]
[1240,0,null,0,"OK",0,0,null,0,0,null,0,null,0,0,0,0,0]
[1241,0,null,0,"OK",0,0,null,0,0,null,0,null,0,0,0,0,0]
[1242,0,null,0,"OK",0,0,null,0,0,null,0,null,0,0,0,0,0]
[1243,0,null,0,"OK",0,0,null,0,0,null,0,null,0,0,0,0,0]
[1244,0,null,0,"OK",0,0,null,0,0,null,0,null,0,0,0,0,0]
[1245,0,null,0,"OK",0,0,null,0,0,null,0,null,0,0,0,0,0]
[1246,5178488,{"$f":"'Expenditures 15-22'!E171","v":5178488},0,"OK",5177763,0,null,0,5177763,null,5177763,null,0,0,{"$f":"VLOOKUP(A1253,'Data Pull totals 5-8'!A:C,3,0)","v":725},5178488,0]
[1247,5178488,{"$f":"'Expenditures 15-22'!E172","v":5178488},0,"OK",5177763,0,null,0,5177763,null,5177763,null,0,0,{"$f":"VLOOKUP(A1254,'Data Pull totals 5-8'!A:C,3,0)","v":725},5178488,0]
[1248,5178488,{"$f":"'Expenditures 15-22'!E174","v":5178488},0,"OK",5177763,0,null,0,5177763,null,5177763,null,0,0,{"$f":"VLOOKUP(A1255,'Data Pull totals 5-8'!A:C,3,0)","v":725},5178488,0]
[1249,17709,{"$f":"'Expenditures 15-22'!H163","v":17709},0,"OK",17709,0,null,0,17709,null,17709,null,0,0,{"$f":"VLOOKUP(A1256,'Data Pull totals 5-8'!A:C,3,0)","v":0},17709,0]
[1250,0,{"$f":"'Expenditures 15-22'!H164","v":0},0,"OK",0,0,null,0,0,null,0,null,0,0,0,0,0]
[1251,1017999205,{"$f":"'Expenditures 15-22'!H169","v":1017999205},0,"OK",1015146153,0,null,1652074,1016798227,null,1016798227,null,0,0,{"$f":"VLOOKUP(A1258,'Data Pull totals 5-8'!A:C,3,0)","v":1200978},1017999205,0]
[1252,616678,{"$f":"'Expenditures 15-22'!H167","v":616678},0,"OK",616678,0,null,0,616678,null,616678,null,0,0,{"$f":"VLOOKUP(A1259,'Data Pull totals 5-8'!A:C,3,0)","v":0},616678,0]
[1253,2583817,{"$f":"'Expenditures 15-22'!H168","v":2583817},0,"OK",2583817,0,null,0,2583817,null,2583817,null,0,0,{"$f":"VLOOKUP(A1260,'Data Pull totals 5-8'!A:C,3,0)","v":0},2583817,0]
[1254,1889344526,{"$f":"'Expenditures 15-22'!H170","v":1889344526},0,"OK",1875673134,0,null,3180000,1878853134,null,1878853134,null,0,0,{"$f":"VLOOKUP(A1261,'Data Pull totals 5-8'!A:C,3,0)","v":10491392},1889344526,0]
[1255,83881742,{"$f":"'Expenditures 15-22'!H171","v":83881742},0,"OK",83879458,0,null,2284,83881742,null,83881742,null,0,0,{"$f":"VLOOKUP(A1262,'Data Pull totals 5-8'!A:C,3,0)","v":0},83881742,0]
[1256,2993809290,{"$f":"'Expenditures 15-22'!H172","v":2993809290},0,"OK",2977282562,0,null,4834358,2982116920,null,2982116920,null,0,0,{"$f":"VLOOKUP(A1263,'Data Pull totals 5-8'!A:C,3,0)","v":11692370},2993809290,0]
[1257,2993949273,{"$f":"'Expenditures 15-22'!H174","v":2993949273},0,"OK",2977422545,0,null,4834358,2982256903,null,2982256903,null,0,0,{"$f":"VLOOKUP(A1264,'Data Pull totals 5-8'!A:C,3,0)","v":11692370},2993949273,0]
[1258,0,null,0,"OK",0,0,null,0,0,null,0,null,0,0,0,0,0]
[1259,0,null,0,"OK",0,0,null,0,0,null,0,null,0,0,0,0,0]
[1260,0,null,0,"OK",0,0,null,0,0,null,0,null,0,0,0,0,0]
[1261,0,null,0,"OK",0,0,null,0,0,null,0,null,0,0,0,0,0]
[1262,0,{"$f":"'Expenditures 15-22'!K155","v":0},0,"OK",0,0,null,0,0,null,0,null,0,0,0,0,0]
[1263,17709,{"$f":"'Expenditures 15-22'!K163","v":17709},0,"OK",17709,0,null,0,17709,null,17709,null,0,0,{"$f":"VLOOKUP(A1270,'Data Pull totals 5-8'!A:C,3,0)","v":0},17709,0]
[1264,0,{"$f":"'Expenditures 15-22'!K164","v":0},0,"OK",0,0,null,0,0,null,0,null,0,0,0,0,0]
[1265,1017999205,{"$f":"'Expenditures 15-22'!K169","v":1017999205},0,"OK",1015146153,0,null,1652074,1016798227,null,1016798227,null,0,0,{"$f":"VLOOKUP(A1272,'Data Pull totals 5-8'!A:C,3,0)","v":1200978},1017999205,0]
[1266,616678,{"$f":"'Expenditures 15-22'!K167","v":616678},0,"OK",616678,0,null,0,616678,null,616678,null,0,0,{"$f":"VLOOKUP(A1273,'Data Pull totals 5-8'!A:C,3,0)","v":0},616678,0]
[1267,2583817,{"$f":"'Expenditures 15-22'!K168","v":2583817},0,"OK",2583817,0,null,0,2583817,null,2583817,null,0,0,{"$f":"VLOOKUP(A1274,'Data Pull totals 5-8'!A:C,3,0)","v":0},2583817,0]
[1268,1889344526,{"$f":"'Expenditures 15-22'!K170","v":1889344526},0,"OK",1875673134,0,null,3180000,1878853134,null,1878853134,null,0,0,{"$f":"VLOOKUP(A1275,'Data Pull totals 5-8'!A:C,3,0)","v":10491392},1889344526,0]
[1269,89060230,{"$f":"'Expenditures 15-22'!K171","v":89060230},0,"OK",89057221,0,null,2284,89059505,null,89059505,null,0,0,{"$f":"VLOOKUP(A1276,'Data Pull totals 5-8'!A:C,3,0)","v":725},89060230,0]
[1270,2998987778,{"$f":"'Expenditures 15-22'!K172","v":2998987778},0,"OK",2982460325,0,null,4834358,2987294683,null,2987294683,null,0,0,{"$f":"VLOOKUP(A1277,'Data Pull totals 5-8'!A:C,3,0)","v":11693095},2998987778,0]
[1271,2999127761,{"$f":"'Expenditures 15-22'!K174","v":2999127761},0,"OK",2982600308,0,null,4834358,2987434666,null,2987434666,null,0,0,{"$f":"VLOOKUP(A1278,'Data Pull totals 5-8'!A:C,3,0)","v":11693095},2999127761,0]
[1272,-790574024.20000005,{"$f":"'Expenditures 15-22'!K175","v":-790574024.20000005},0,"OK",-790532591.20000005,0,null,-70171,-790602762.20000005,null,-790602762.20000005,null,0,0,{"$f":"VLOOKUP(A1279,'Data Pull totals 5-8'!A:C,3,0)","v":28738},-790574024.20000005,0]
[1273,0,null,0,"OK",0,0,null,0,0,null,0,null,0,0,0,0,0]
[1274,250349814.88,{"$f":"'Expenditures 15-22'!C182","v":250349814.88},0,"OK",249430198.88,0,null,585809,250016007.88,null,250016007.88,null,0,0,{"$f":"VLOOKUP(A1281,'Data Pull totals 5-8'!A:C,3,0)","v":333807},250349814.88,0]
[1275,0,null,0,"OK",0,0,null,0,0,null,0,null,0,0,0,0,0]
[1276,0,null,0,"OK",0,0,null,0,0,null,0,null,0,0,0,0,0]
[1277,1252696,{"$f":"'Expenditures 15-22'!C183","v":1252696},0,"OK",1252696,0,null,0,1252696,null,1252696,null,0,0,{"$f":"VLOOKUP(A1284,'Data Pull totals 5-8'!A:C,3,0)","v":0},1252696,0]
[1278,252044668.88,{"$f":"'Expenditures 15-22'!C184","v":252044668.88},0,"OK",251125052.88,0,null,585809,251710861.88,null,251710861.88,null,0,0,{"$f":"VLOOKUP(A1285,'Data Pull totals 5-8'!A:C,3,0)","v":333807},252044668.88,0]
[1279,252082332.88,{"$f":"'Expenditures 15-22'!C210","v":252082332.88},0,"OK",251162716.88,0,null,585809,251748525.88,null,251748525.88,null,0,0,{"$f":"VLOOKUP(A1286,'Data Pull totals 5-8'!A:C,3,0)","v":333807},252082332.88,0]
[1280,43444975.32,{"$f":"'Expenditures 15-22'!D182","v":43444975.32},0,"OK",43408962.32,0,null,9799,43418761.32,null,43418761.32,null,0,0,{"$f":"VLOOKUP(A1287,'Data Pull totals 5-8'!A:C,3,0)","v":26214},43444975.32,0]
[1281,0,null,{"$f":"B1288-C1288","v":0},{"$f":"IF((D1288 = 0),\"OK\",IF((D1288<-5),\"CHECK ME!\",IF((D1288>5),\"Check Me!\",\"OK\")))","v":"OK"},0,0,null,0,0,null,0,null,0,0,0,0,0]
[1282,0,null,0,"OK",0,0,null,0,0,null,0,null,0,0,0,0,0]
[1283,283749,{"$f":"'Expenditures 15-22'!D183","v":283749},0,"OK",283749,0,null,0,283749,null,283749,null,0,0,{"$f":"VLOOKUP(A1290,'Data Pull totals 5-8'!A:C,3,0)","v":0},283749,0]
[1284,43775020.32,{"$f":"'Expenditures 15-22'!D184","v":43775020.32},0,"OK",43739007.32,0,null,9799,43748806.32,null,43748806.32,null,0,0,{"$f":"VLOOKUP(A1291,'Data Pull totals 5-8'!A:C,3,0)","v":26214},43775020.32,0]
[1285,43775749.32,{"$f":"'Expenditures 15-22'!D210","v":43775749.32},0,"OK",43739736.32,0,null,9799,43749535.32,null,43749535.32,null,{"$f":"SUM(J1292-L1292)","v":0},0,{"$f":"VLOOKUP(A1292,'Data Pull totals 5-8'!A:C,3,0)","v":26214},43775749.32,{"$f":"SUM(L1292+P1292-Q1292)","v":0}]
[1286,721182148.89999998,{"$f":"'Expenditures 15-22'!E182","v":721182148.89999998},0,"OK",711074382.89999998,0,null,4247337,715321719.89999998,null,715321719.89999998,null,0,0,{"$f":"VLOOKUP(A1293,'Data Pull totals 5-8'!A:C,3,0)","v":5860429},721182148.89999998,0]
[1287,0,null,0,"OK",0,0,null,0,0,null,0,null,0,0,0,0,0]
[1288,0,null,0,"OK",0,0,null,0,0,null,0,null,0,0,0,0,0]
[1289,339444,{"$f":"'Expenditures 15-22'!E183","v":339444},0,"OK",339444,0,null,0,339444,null,339444,null,0,0,{"$f":"VLOOKUP(A1296,'Data Pull totals 5-8'!A:C,3,0)","v":0},339444,0]
[1290,723759926.89999998,{"$f":"'Expenditures 15-22'!E184","v":723759926.89999998},0,"OK",713652160.89999998,0,null,4247337,717899497.89999998,null,717899497.89999998,null,0,0,{"$f":"VLOOKUP(A1297,'Data Pull totals 5-8'!A:C,3,0)","v":5860429},723759926.89999998,0]
[1291,12729286,{"$f":"'Expenditures 15-22'!E196","v":12729286},0,"OK",12729286,0,null,0,12729286,null,12729286,null,0,0,{"$f":"VLOOKUP(A1298,'Data Pull totals 5-8'!A:C,3,0)","v":0},12729286,0]
[1292,736663388.89999998,{"$f":"'Expenditures 15-22'!E210","v":736663388.89999998},0,"OK",726555622.89999998,0,null,4247337,730802959.89999998,null,730802959.89999998,null,0,0,{"$f":"VLOOKUP(A1299,'Data Pull totals 5-8'!A:C,3,0)","v":5860429},736663388.89999998,0]
[1293,67522247.349999994,{"$f":"'Expenditures 15-22'!F182","v":67522247.349999994},0,"OK",67519858.349999994,0,null,2389,67522247.349999994,null,67522247.349999994,null,0,0,{"$f":"VLOOKUP(A1300,'Data Pull totals 5-8'!A:C,3,0)","v":0},67522247.349999994,0]
[1294,0,null,0,"OK",0,0,null,0,0,null,0,null,0,0,0,0,0]
[1295,0,null,0,"OK",0,0,null,0,0,null,0,null,0,0,0,0,0]
[1296,75692,{"$f":"'Expenditures 15-22'!F183","v":75692},0,"OK",75692,0,null,0,75692,null,75692,null,0,0,{"$f":"VLOOKUP(A1303,'Data Pull totals 5-8'!A:C,3,0)","v":0},75692,0]
[1297,67625025.349999994,{"$f":"'Expenditures 15-22'!F184","v":67625025.349999994},0,"OK",67622636.349999994,0,null,2389,67625025.349999994,null,67625025.349999994,null,0,0,{"$f":"VLOOKUP(A1304,'Data Pull totals 5-8'!A:C,3,0)","v":0},67625025.349999994,0]
[1298,67628153.349999994,{"$f":"'Expenditures 15-22'!F210","v":67628153.349999994},0,"OK",67625764.349999994,0,null,2389,67628153.349999994,null,67628153.349999994,null,0,0,{"$f":"VLOOKUP(A1305,'Data Pull totals 5-8'!A:C,3,0)","v":0},67628153.349999994,0]
[1299,74031959.75,{"$f":"'Expenditures 15-22'!G182","v":74031959.75},0,"OK",74031959.75,0,null,0,74031959.75,null,74031959.75,null,0,0,{"$f":"VLOOKUP(A1306,'Data Pull totals 5-8'!A:C,3,0)","v":0},74031959.75,0]
[1300,0,null,0,"OK",0,0,null,0,0,null,0,null,0,0,0,0,0]
[1301,0,null,0,"OK",0,0,null,0,0,null,0,null,0,0,0,0,0]
[1302,0,{"$f":"'Expenditures 15-22'!G183","v":0},0,"OK",0,0,null,0,0,null,0,null,0,0,0,0,0]
[1303,74031959.75,{"$f":"'Expenditures 15-22'!G184","v":74031959.75},0,"OK",74031959.75,0,null,0,74031959.75,null,74031959.75,null,0,0,{"$f":"VLOOKUP(A1310,'Data Pull totals 5-8'!A:C,3,0)","v":0},74031959.75,0]
[1304,74031959.75,{"$f":"'Expenditures 15-22'!G210","v":74031959.75},0,"OK",74031959.75,0,null,0,74031959.75,null,74031959.75,null,0,0,{"$f":"VLOOKUP(A1311,'Data Pull totals 5-8'!A:C,3,0)","v":0},74031959.75,0]
[1305,3008866,{"$f":"'Expenditures 15-22'!H182","v":3008866},0,"OK",3008866,0,null,0,3008866,null,3008866,null,0,0,{"$f":"VLOOKUP(A1312,'Data Pull totals 5-8'!A:C,3,0)","v":0},3008866,0]
[1306,0,null,0,"OK",0,0,null,0,0,null,0,null,0,0,0,0,0]
[1307,0,null,0,"OK",0,0,null,0,0,null,0,null,0,0,0,0,0]
[1308,8731,{"$f":"'Expenditures 15-22'!H183","v":8731},0,"OK",8731,0,null,0,8731,null,8731,null,0,0,{"$f":"VLOOKUP(A1315,'Data Pull totals 5-8'!A:C,3,0)","v":0},8731,0]
[1309,3017597,{"$f":"'Expenditures 15-22'!H184","v":3017597},0,"OK",3017597,0,null,0,3017597,null,3017597,null,0,0,{"$f":"VLOOKUP(A1316,'Data Pull totals 5-8'!A:C,3,0)","v":0},3017597,0]
[1310,10649,{"$f":"'Expenditures 15-22'!H199","v":10649},0,"OK",10649,0,null,0,10649,null,10649,null,0,0,{"$f":"VLOOKUP(A1317,'Data Pull totals 5-8'!A:C,3,0)","v":0},10649,0]
[1311,0,{"$f":"'Expenditures 15-22'!H200","v":0},0,"OK",0,0,null,0,0,null,0,null,0,0,0,0,0]
[1312,173198,{"$f":"'Expenditures 15-22'!H203","v":173198},0,"OK",173198,0,null,0,173198,null,173198,null,0,0,{"$f":"VLOOKUP(A1319,'Data Pull totals 5-8'!A:C,3,0)","v":0},173198,0]
[1313,0,null,0,"OK",0,0,null,0,0,null,0,null,0,0,0,0,0]
[1314,16375090,{"$f":"'Expenditures 15-22'!H208","v":16375090},0,"OK",16375090,0,null,0,16375090,null,16375090,null,0,0,{"$f":"VLOOKUP(A1321,'Data Pull totals 5-8'!A:C,3,0)","v":0},16375090,0]
[1315,23480545,{"$f":"'Expenditures 15-22'!H210","v":23480545},0,"OK",23480545,0,null,0,23480545,null,23480545,null,0,0,{"$f":"VLOOKUP(A1322,'Data Pull totals 5-8'!A:C,3,0)","v":0},23480545,0]
[1316,1161088764.1999998,{"$f":"'Expenditures 15-22'!K182","v":1161088764.1999998},0,"OK",1150022980.1999998,2.384185791015625E-7,null,4845334,1154868314.1999998,null,1154868314.1999998,null,0,0,{"$f":"VLOOKUP(A1323,'Data Pull totals 5-8'!A:C,3,0)","v":6220450},1161088764.1999998,0]
[1317,0,null,0,"OK",0,0,null,0,0,null,0,null,0,0,0,0,0]
[1318,0,null,0,"OK",0,0,null,0,0,null,0,null,0,0,0,0,0]
[1319,1960312,{"$f":"'Expenditures 15-22'!K183","v":1960312},0,"OK",1960312,0,null,0,1960312,null,1960312,null,0,0,{"$f":"VLOOKUP(A1326,'Data Pull totals 5-8'!A:C,3,0)","v":0},1960312,0]
[1320,1165802950.1999998,{"$f":"'Expenditures 15-22'!K184","v":1165802950.1999998},0,"OK",1154737166.1999998,2.384185791015625E-7,null,4845334,1159582500.1999998,null,1159582500.1999998,null,0,0,{"$f":"VLOOKUP(A1327,'Data Pull totals 5-8'!A:C,3,0)","v":6220450},1165802950.1999998,0]
[1321,15567144,{"$f":"'Expenditures 15-22'!K196","v":15567144},0,"OK",15567144,0,null,0,15567144,null,15567144,null,0,0,{"$f":"VLOOKUP(A1328,'Data Pull totals 5-8'!A:C,3,0)","v":0},15567144,0]
[1322,10649,{"$f":"'Expenditures 15-22'!K199","v":10649},0,"OK",10649,0,null,0,10649,null,10649,null,0,0,{"$f":"VLOOKUP(A1329,'Data Pull totals 5-8'!A:C,3,0)","v":0},10649,0]
[1323,0,{"$f":"'Expenditures 15-22'!K200","v":0},0,"OK",0,0,null,0,0,null,0,null,0,0,0,0,0]
[1324,173198,{"$f":"'Expenditures 15-22'!K203","v":173198},0,"OK",173198,0,null,0,173198,null,173198,null,0,0,{"$f":"VLOOKUP(A1331,'Data Pull totals 5-8'!A:C,3,0)","v":0},173198,0]
[1325,0,null,0,"OK",0,0,null,0,0,null,0,null,0,0,0,0,0]
[1326,16375090,{"$f":"'Expenditures 15-22'!K208","v":16375090},0,"OK",16375090,0,null,0,16375090,null,16375090,null,0,0,{"$f":"VLOOKUP(A1333,'Data Pull totals 5-8'!A:C,3,0)","v":0},16375090,0]
[1327,1199210881.1999998,{"$f":"'Expenditures 15-22'!K210","v":1199210881.1999998},0,"OK",1188145097.1999998,2.384185791015625E-7,null,4845334,1192990431.1999998,null,1192990431.1999998,null,0,0,{"$f":"VLOOKUP(A1334,'Data Pull totals 5-8'!A:C,3,0)","v":6220450},1199210881.1999998,0]
[1328,183827028.53999999,{"$f":"'Expenditures 15-22'!K211","v":183827028.5400002},0,"OK",182357517.53999999,0,null,-269490,182088027.53999999,null,182088027.53999999,null,0,0,{"$f":"VLOOKUP(A1335,'Data Pull totals 5-8'!A:C,3,0)","v":1739001},183827028.53999999,0]
[1329,0,null,0,"OK",0,0,null,0,0,null,0,null,0,0,0,0,0]
[1330,0,null,0,"OK",0,0,null,0,0,null,0,null,0,0,0,0,0]
[1331,0,null,0,"OK",0,0,null,0,0,null,0,null,0,0,0,0,0]
[1332,0,null,0,"OK",0,0,null,0,0,null,0,null,0,0,0,0,0]
[1333,0,null,0,"OK",0,0,null,0,0,null,0,null,0,0,0,0,0]
[1334,0,null,0,"OK",0,0,null,0,0,null,0,null,0,0,0,0,0]
[1335,717612,{"$f":"'Expenditures 15-22'!D225","v":717612},0,"OK",717612,0,null,0,717612,null,717612,null,0,0,{"$f":"VLOOKUP(A1342,'Data Pull totals 5-8'!A:C,3,0)","v":0},717612,0]
[1336,0,null,0,"OK",0,0,null,0,0,null,0,null,0,0,0,0,0]
[1337,0,null,0,"OK",0,0,null,0,0,null,0,null,0,0,0,0,0]
[1338,0,null,0,"OK",0,0,null,0,0,null,0,null,0,0,0,0,0]
[1339,0,null,0,"OK",0,0,null,0,0,null,0,null,0,0,0,0,0]
[1340,0,null,0,"OK",0,0,null,0,0,null,0,null,0,0,0,0,0]
[1341,7874022,{"$f":"'Expenditures 15-22'!D227","v":7874022},0,"OK",7865804,0,null,8218,7874022,null,7874022,null,0,0,{"$f":"VLOOKUP(A1348,'Data Pull totals 5-8'!A:C,3,0)","v":0},7874022,0]
[1342,0,null,0,"OK",0,0,null,0,0,null,0,null,0,0,0,0,0]
[1343,0,null,0,"OK",0,0,null,0,0,null,0,null,0,0,0,0,0]
[1344,0,null,0,"OK",0,0,null,0,0,null,0,null,0,0,0,0,0]
[1345,705456,{"$f":"'Expenditures 15-22'!D221","v":705456},{"$f":"B1352-C1352","v":0},{"$f":"IF((D1352 = 0),\"OK\",IF((D1352<-5),\"CHECK ME!\",IF((D1352>5),\"Check Me!\",\"OK\")))","v":"OK"},705456,0,null,0,705456,null,705456,null,0,0,{"$f":"VLOOKUP(A1352,'Data Pull totals 5-8'!A:C,3,0)","v":0},705456,0]
[1346,2907885.37,{"$f":"'Expenditures 15-22'!D222","v":2907885.37},0,"OK",2898785.37,0,null,7912,2906697.37,null,2906697.37,null,0,0,{"$f":"VLOOKUP(A1353,'Data Pull totals 5-8'!A:C,3,0)","v":1188},2907885.37,0]
[1347,11813419.68,{"$f":"'Expenditures 15-22'!D223","v":11813419.68},0,"OK",11755188.68,0,null,16031,11771219.68,null,11771219.68,null,0,0,{"$f":"VLOOKUP(A1354,'Data Pull totals 5-8'!A:C,3,0)","v":42200},11813419.68,0]
[1348,1893851.9,{"$f":"'Expenditures 15-22'!D224","v":1893851.9},0,"OK",1889701.9,0,null,0,1889701.9,null,1889701.9,null,0,0,{"$f":"VLOOKUP(A1355,'Data Pull totals 5-8'!A:C,3,0)","v":4150},1893851.9,0]
[1349,242327922.34000003,{"$f":"'Expenditures 15-22'!D229","v":242327922.34000003},0,"OK",240759250.34000003,-2.9802322387695313E-8,null,832148,241591398.34000003,null,241591398.34000003,null,{"$f":"SUM(J1356-L1356)","v":0},0,{"$f":"VLOOKUP(A1356,'Data Pull totals 5-8'!A:C,3,0)","v":736524},242327922.34000003,{"$f":"SUM(L1356+P1356-Q1356)","v":0}]
[1350,8227412,{"$f":"'Expenditures 15-22'!D232","v":8227412},0,"OK",8107477,0,null,101029,8208506,null,8208506,null,0,0,{"$f":"VLOOKUP(A1357,'Data Pull totals 5-8'!A:C,3,0)","v":18906},8227412,0]
[1351,6860757,{"$f":"'Expenditures 15-22'!D233","v":6860757},0,"OK",6827920,0,null,16155,6844075,null,6844075,null,0,0,{"$f":"VLOOKUP(A1358,'Data Pull totals 5-8'!A:C,3,0)","v":16682},6860757,0]
[1352,17380207.640000001,{"$f":"'Expenditures 15-22'!D234","v":17380207.640000001},0,"OK",17282635.640000001,0,null,31461,17314096.640000001,null,17314096.640000001,null,0,0,{"$f":"VLOOKUP(A1359,'Data Pull totals 5-8'!A:C,3,0)","v":66111},17380207.640000001,0]
[1353,1826358,{"$f":"'Expenditures 15-22'!D235","v":1826358},0,"OK",1789064,0,null,31124,1820188,null,1820188,null,0,0,{"$f":"VLOOKUP(A1360,'Data Pull totals 5-8'!A:C,3,0)","v":6170},1826358,0]
[1354,2755530,{"$f":"'Expenditures 15-22'!D236","v":2755530},0,"OK",2736893,0,null,5808,2742701,null,2742701,null,0,0,{"$f":"VLOOKUP(A1361,'Data Pull totals 5-8'!A:C,3,0)","v":12829},2755530,0]
[1355,6761330,{"$f":"'Expenditures 15-22'!D237","v":6761330},0,"OK",6735874,0,null,9586,6745460,null,6745460,null,0,0,{"$f":"VLOOKUP(A1362,'Data Pull totals 5-8'!A:C,3,0)","v":15870},6761330,0]
[1356,43811594.640000001,{"$f":"'Expenditures 15-22'!D238","v":43811594.640000001},0,"OK",43479863.640000001,0,null,195163,43675026.640000001,null,43675026.640000001,null,0,0,{"$f":"VLOOKUP(A1363,'Data Pull totals 5-8'!A:C,3,0)","v":136568},43811594.640000001,0]
[1357,7933295.8200000003,{"$f":"'Expenditures 15-22'!D240","v":7933295.8200000003},0,"OK",7846356.8200000003,0,null,52939,7899295.8200000003,null,7899295.8200000003,null,0,0,{"$f":"VLOOKUP(A1364,'Data Pull totals 5-8'!A:C,3,0)","v":34000},7933295.8200000003,0]
[1358,17036872.75,{"$f":"'Expenditures 15-22'!D241","v":17036872.75},0,"OK",16974162.75,0,null,43703,17017865.75,null,17017865.75,null,0,0,{"$f":"VLOOKUP(A1365,'Data Pull totals 5-8'!A:C,3,0)","v":19007},17036872.75,0]
[1359,653223,{"$f":"'Expenditures 15-22'!D242","v":653223},0,"OK",653223,0,null,0,653223,null,653223,null,0,0,{"$f":"VLOOKUP(A1366,'Data Pull totals 5-8'!A:C,3,0)","v":0},653223,0]
[1360,25623391.57,{"$f":"'Expenditures 15-22'!D243","v":25623391.57},0,"OK",25473742.57,0,null,96642,25570384.57,null,25570384.57,null,0,0,{"$f":"VLOOKUP(A1367,'Data Pull totals 5-8'!A:C,3,0)","v":53007},25623391.57,0]
[1361,9615542,{"$f":"'Expenditures 15-22'!D245","v":9615542},0,"OK",9591029,0,null,24513,9615542,null,9615542,null,0,0,{"$f":"VLOOKUP(A1368,'Data Pull totals 5-8'!A:C,3,0)","v":0},9615542,0]
[1362,9993548.1099999994,{"$f":"'Expenditures 15-22'!D246","v":9993548.1099999994},0,"OK",9917793.1099999994,0,null,57580,9975373.1099999994,null,9975373.1099999994,null,0,0,{"$f":"VLOOKUP(A1369,'Data Pull totals 5-8'!A:C,3,0)","v":18175},9993548.1099999994,0]
[1363,28028958.300000001,{"$f":"'Expenditures 15-22'!D257","v":28028958.300000001},0,"OK",27786113.300000001,0,null,224670,28010783.300000001,null,28010783.300000001,null,0,0,{"$f":"VLOOKUP(A1370,'Data Pull totals 5-8'!A:C,3,0)","v":18175},28028958.300000001,0]
[1364,44929378.339999996,{"$f":"'Expenditures 15-22'!D259","v":44929378.339999996},0,"OK",44673706.339999996,7.4505805969238281E-9,null,121354,44795060.339999996,null,44795060.339999996,null,0,0,{"$f":"VLOOKUP(A1371,'Data Pull totals 5-8'!A:C,3,0)","v":134318},44929378.339999996,0]
[1365,1977560,{"$f":"'Expenditures 15-22'!D260","v":1977560},0,"OK",1962238,0,null,1303,1963541,null,1963541,null,0,0,{"$f":"VLOOKUP(A1372,'Data Pull totals 5-8'!A:C,3,0)","v":14019},1977560,0]
[1366,46906938.339999996,{"$f":"'Expenditures 15-22'!D261","v":46906938.339999996},0,"OK",46635944.339999996,7.4505805969238281E-9,null,122657,46758601.339999996,null,46758601.339999996,null,0,0,{"$f":"VLOOKUP(A1373,'Data Pull totals 5-8'!A:C,3,0)","v":148337},46906938.339999996,0]
[1367,4126938,{"$f":"'Expenditures 15-22'!D263","v":4126938},0,"OK",4115641,0,null,0,4115641,null,4115641,null,0,0,{"$f":"VLOOKUP(A1374,'Data Pull totals 5-8'!A:C,3,0)","v":11297},4126938,0]
[1368,17336980.850000001,{"$f":"'Expenditures 15-22'!D264","v":17336980.850000001},0,"OK",17206464.850000001,0,null,71934,17278398.850000001,null,17278398.850000001,null,0,0,{"$f":"VLOOKUP(A1375,'Data Pull totals 5-8'!A:C,3,0)","v":58582},17336980.850000001,0]
[1369,328662,{"$f":"'Expenditures 15-22'!D265","v":328662},0,"OK",328662,0,null,0,328662,null,328662,null,0,0,{"$f":"VLOOKUP(A1376,'Data Pull totals 5-8'!A:C,3,0)","v":0},328662,0]
[1370,113409003.76000001,{"$f":"'Expenditures 15-22'!D266","v":113409003.76000001},0,"OK",112742752.76000001,0,null,320998,113063750.76000001,null,113063750.76000001,null,0,0,{"$f":"VLOOKUP(A1377,'Data Pull totals 5-8'!A:C,3,0)","v":345253},113409003.76000001,0]
[1371,42957400.640000001,{"$f":"'Expenditures 15-22'!D267","v":42957400.640000001},0,"OK",42868330.640000001,0,null,71790,42940120.640000001,null,42940120.640000001,null,0,0,{"$f":"VLOOKUP(A1378,'Data Pull totals 5-8'!A:C,3,0)","v":17280},42957400.640000001,0]
[1372,22751663.460000001,{"$f":"'Expenditures 15-22'!D268","v":22751663.460000001},0,"OK",22616687.460000001,0,null,6088,22622775.460000001,null,22622775.460000001,null,0,0,{"$f":"VLOOKUP(A1379,'Data Pull totals 5-8'!A:C,3,0)","v":128888},22751663.460000001,0]
[1373,1763853,{"$f":"'Expenditures 15-22'!D269","v":1763853},0,"OK",1733728,0,null,30125,1763853,null,1763853,null,0,0,{"$f":"VLOOKUP(A1380,'Data Pull totals 5-8'!A:C,3,0)","v":0},1763853,0]
[1374,0,null,0,"OK",0,0,null,0,0,null,0,null,0,0,0,0,0]
[1375,202674501.71000001,{"$f":"'Expenditures 15-22'!D270","v":202674501.71000001},0,"OK",201612266.71000001,0,null,500935,202113201.71000001,null,202113201.71000001,null,0,0,{"$f":"VLOOKUP(A1382,'Data Pull totals 5-8'!A:C,3,0)","v":561300},202674501.71000001,0]
[1376,400555,{"$f":"'Expenditures 15-22'!D272","v":400555},0,"OK",370542,0,null,30013,400555,null,400555,null,0,0,{"$f":"VLOOKUP(A1383,'Data Pull totals 5-8'!A:C,3,0)","v":0},400555,0]
[1377,1188401,{"$f":"'Expenditures 15-22'!D273","v":1188401},0,"OK",1154816,0,null,31767,1186583,null,1186583,null,0,0,{"$f":"VLOOKUP(A1384,'Data Pull totals 5-8'!A:C,3,0)","v":1818},1188401,0]
[1378,4194119,{"$f":"'Expenditures 15-22'!D274","v":4194119},0,"OK",4151363,0,null,0,4151363,null,4151363,null,0,0,{"$f":"VLOOKUP(A1385,'Data Pull totals 5-8'!A:C,3,0)","v":42756},4194119,0]
[1379,5393397,{"$f":"'Expenditures 15-22'!D275","v":5393397},0,"OK",5306885,0,null,36510,5343395,null,5343395,null,0,0,{"$f":"VLOOKUP(A1386,'Data Pull totals 5-8'!A:C,3,0)","v":50002},5393397,0]
[1380,0,null,0,"OK",0,0,null,0,0,null,0,null,0,0,0,0,0]
[1381,15341270,{"$f":"'Expenditures 15-22'!D276","v":15341270},0,"OK",15177170,0,null,58090,15235260,null,15235260,null,0,0,{"$f":"VLOOKUP(A1388,'Data Pull totals 5-8'!A:C,3,0)","v":106010},15341270,0]
[1382,0,null,0,"OK",0,0,null,0,0,null,0,null,0,0,0,0,0]
[1383,26517742,{"$f":"'Expenditures 15-22'!D277","v":26517742},0,"OK",26160776,0,null,156380,26317156,null,26317156,null,0,0,{"$f":"VLOOKUP(A1390,'Data Pull totals 5-8'!A:C,3,0)","v":200586},26517742,0]
[1384,1489513,{"$f":"'Expenditures 15-22'!D278","v":1489513},0,"OK",1430806,0,null,55736,1486542,null,1486542,null,0,0,{"$f":"VLOOKUP(A1391,'Data Pull totals 5-8'!A:C,3,0)","v":2971},1489513,0]
[1385,375052639.55999994,{"$f":"'Expenditures 15-22'!D279","v":375052639.56},0,"OK",372579512.55999994,5.9604644775390625E-8,null,1352183,373931695.55999994,null,373931695.55999994,null,0,0,{"$f":"VLOOKUP(A1392,'Data Pull totals 5-8'!A:C,3,0)","v":1120944},375052639.55999994,0]
[1386,5728822,{"$f":"'Expenditures 15-22'!D280","v":5728822},0,"OK",5708617,0,null,19371,5727988,null,5727988,null,0,0,{"$f":"VLOOKUP(A1393,'Data Pull totals 5-8'!A:C,3,0)","v":834},5728822,0]
[1387,625629915.89999998,{"$f":"'Expenditures 15-22'!D295","v":625629915.9000001},0,"OK",621567911.89999998,0,null,2203702,623771613.89999998,null,623771613.89999998,null,0,0,{"$f":"VLOOKUP(A1394,'Data Pull totals 5-8'!A:C,3,0)","v":1858302},625629915.89999998,0]
[1388,0,{"$f":"'Expenditures 15-22'!H288","v":0},0,"OK",0,0,null,0,0,null,0,null,0,0,0,0,0]
[1389,0,{"$f":"'Expenditures 15-22'!H289","v":0},0,"OK",0,0,null,0,0,null,0,null,0,0,0,0,0]
[1390,0,{"$f":"'Expenditures 15-22'!H292","v":0},0,"OK",0,0,null,0,0,null,0,null,0,0,0,0,0]
[1391,0,{"$f":"'Expenditures 15-22'!H293","v":0},0,"OK",0,0,null,0,0,null,0,null,0,0,0,0,0]
[1392,0,null,0,"OK",0,0,null,0,0,null,0,null,0,0,0,0,0]
[1393,0,{"$f":"'Expenditures 15-22'!H295","v":0},0,"OK",0,0,null,0,0,null,0,null,0,0,0,0,0]
[1394,0,null,0,"OK",0,0,null,0,0,null,0,null,0,0,0,0,0]
[1395,0,null,0,"OK",0,0,null,0,0,null,0,null,0,0,0,0,0]
[1396,0,null,0,"OK",0,0,null,0,0,null,0,null,0,0,0,0,0]
[1397,0,null,0,"OK",0,0,null,0,0,null,0,null,0,0,0,0,0]
[1398,0,null,0,"OK",0,0,null,0,0,null,0,null,0,0,0,0,0]
[1399,717612,{"$f":"'Expenditures 15-22'!K225","v":717612},0,"OK",717612,0,null,0,717612,null,717612,null,0,0,{"$f":"VLOOKUP(A1406,'Data Pull totals 5-8'!A:C,3,0)","v":0},717612,0]
[1400,0,null,0,"OK",0,0,null,0,0,null,0,null,0,0,0,0,0]
[1401,0,null,0,"OK",0,0,null,0,0,null,0,null,0,0,0,0,0]
[1402,0,null,0,"OK",0,0,null,0,0,null,0,null,0,0,0,0,0]
[1403,0,null,0,"OK",0,0,null,0,0,null,0,null,0,0,0,0,0]
[1404,0,null,0,"OK",0,0,null,0,0,null,0,null,0,0,0,0,0]
[1405,7874022,{"$f":"'Expenditures 15-22'!K227","v":7874022},0,"OK",7865804,0,null,8218,7874022,null,7874022,null,0,0,{"$f":"VLOOKUP(A1412,'Data Pull totals 5-8'!A:C,3,0)","v":0},7874022,0]
[1406,0,null,0,"OK",0,0,null,0,0,null,0,null,0,0,0,0,0]
[1407,0,null,0,"OK",0,0,null,0,0,null,0,null,0,0,0,0,0]
[1408,0,null,0,"OK",0,0,null,0,0,null,0,null,0,0,0,0,0]
[1409,705456,{"$f":"'Expenditures 15-22'!K221","v":705456},{"$f":"B1416-C1416","v":0},{"$f":"IF((D1416 = 0),\"OK\",IF((D1416<-5),\"CHECK ME!\",IF((D1416>5),\"Check Me!\",\"OK\")))","v":"OK"},705456,0,null,0,705456,null,705456,null,0,0,{"$f":"VLOOKUP(A1416,'Data Pull totals 5-8'!A:C,3,0)","v":0},705456,0]
[1410,2907885.37,{"$f":"'Expenditures 15-22'!K222","v":2907885.37},0,"OK",2898785.37,0,null,7912,2906697.37,null,2906697.37,null,0,0,{"$f":"VLOOKUP(A1417,'Data Pull totals 5-8'!A:C,3,0)","v":1188},2907885.37,0]
[1411,11813419.68,{"$f":"'Expenditures 15-22'!K223","v":11813419.68},0,"OK",11755188.68,0,null,16031,11771219.68,null,11771219.68,null,0,0,{"$f":"VLOOKUP(A1418,'Data Pull totals 5-8'!A:C,3,0)","v":42200},11813419.68,0]
[1412,1893851.9,{"$f":"'Expenditures 15-22'!K224","v":1893851.9},0,"OK",1889701.9,0,null,0,1889701.9,null,1889701.9,null,0,0,{"$f":"VLOOKUP(A1419,'Data Pull totals 5-8'!A:C,3,0)","v":4150},1893851.9,0]
[1413,242327922.34000003,{"$f":"'Expenditures 15-22'!K229","v":242327922.34000003},0,"OK",240759250.34000003,-2.9802322387695313E-8,null,832148,241591398.34000003,null,241591398.34000003,null,{"$f":"SUM(J1420-L1420)","v":0},0,{"$f":"VLOOKUP(A1420,'Data Pull totals 5-8'!A:C,3,0)","v":736524},242327922.34000003,{"$f":"SUM(L1420+P1420-Q1420)","v":0}]
[1414,8227412,{"$f":"'Expenditures 15-22'!K232","v":8227412},0,"OK",8107477,0,null,101029,8208506,null,8208506,null,0,0,{"$f":"VLOOKUP(A1421,'Data Pull totals 5-8'!A:C,3,0)","v":18906},8227412,0]
[1415,6860757,{"$f":"'Expenditures 15-22'!K233","v":6860757},0,"OK",6827920,0,null,16155,6844075,null,6844075,null,0,0,{"$f":"VLOOKUP(A1422,'Data Pull totals 5-8'!A:C,3,0)","v":16682},6860757,0]
[1416,17380207.640000001,{"$f":"'Expenditures 15-22'!K234","v":17380207.640000001},0,"OK",17282635.640000001,0,null,31461,17314096.640000001,null,17314096.640000001,null,0,0,{"$f":"VLOOKUP(A1423,'Data Pull totals 5-8'!A:C,3,0)","v":66111},17380207.640000001,0]
[1417,1826358,{"$f":"'Expenditures 15-22'!K235","v":1826358},0,"OK",1789064,0,null,31124,1820188,null,1820188,null,0,0,{"$f":"VLOOKUP(A1424,'Data Pull totals 5-8'!A:C,3,0)","v":6170},1826358,0]
[1418,2755530,{"$f":"'Expenditures 15-22'!K236","v":2755530},0,"OK",2736893,0,null,5808,2742701,null,2742701,null,0,0,{"$f":"VLOOKUP(A1425,'Data Pull totals 5-8'!A:C,3,0)","v":12829},2755530,0]
[1419,6761330,{"$f":"'Expenditures 15-22'!K237","v":6761330},0,"OK",6735874,0,null,9586,6745460,null,6745460,null,0,0,{"$f":"VLOOKUP(A1426,'Data Pull totals 5-8'!A:C,3,0)","v":15870},6761330,0]
[1420,43811594.640000001,{"$f":"'Expenditures 15-22'!K238","v":43811594.640000001},0,"OK",43479863.640000001,0,null,195163,43675026.640000001,null,43675026.640000001,null,0,0,{"$f":"VLOOKUP(A1427,'Data Pull totals 5-8'!A:C,3,0)","v":136568},43811594.640000001,0]
[1421,7933295.8200000003,{"$f":"'Expenditures 15-22'!K240","v":7933295.8200000003},0,"OK",7846356.8200000003,0,null,52939,7899295.8200000003,null,7899295.8200000003,null,0,0,{"$f":"VLOOKUP(A1428,'Data Pull totals 5-8'!A:C,3,0)","v":34000},7933295.8200000003,0]
[1422,17036872.75,{"$f":"'Expenditures 15-22'!K241","v":17036872.75},0,"OK",16974162.75,0,null,43703,17017865.75,null,17017865.75,null,0,0,{"$f":"VLOOKUP(A1429,'Data Pull totals 5-8'!A:C,3,0)","v":19007},17036872.75,0]
[1423,653223,{"$f":"'Expenditures 15-22'!K242","v":653223},0,"OK",653223,0,null,0,653223,null,653223,null,0,0,{"$f":"VLOOKUP(A1430,'Data Pull totals 5-8'!A:C,3,0)","v":0},653223,0]
[1424,25623391.57,{"$f":"'Expenditures 15-22'!K243","v":25623391.57},0,"OK",25473742.57,0,null,96642,25570384.57,null,25570384.57,null,0,0,{"$f":"VLOOKUP(A1431,'Data Pull totals 5-8'!A:C,3,0)","v":53007},25623391.57,0]
[1425,9615542,{"$f":"'Expenditures 15-22'!K245","v":9615542},0,"OK",9591029,0,null,24513,9615542,null,9615542,null,0,0,{"$f":"VLOOKUP(A1432,'Data Pull totals 5-8'!A:C,3,0)","v":0},9615542,0]
[1426,9993548.1099999994,{"$f":"'Expenditures 15-22'!K246","v":9993548.1099999994},0,"OK",9917793.1099999994,0,null,57580,9975373.1099999994,null,9975373.1099999994,null,0,0,{"$f":"VLOOKUP(A1433,'Data Pull totals 5-8'!A:C,3,0)","v":18175},9993548.1099999994,0]
[1427,28028958.300000001,{"$f":"'Expenditures 15-22'!K257","v":28028958.300000001},0,"OK",27786113.300000001,0,null,224670,28010783.300000001,null,28010783.300000001,null,0,0,{"$f":"VLOOKUP(A1434,'Data Pull totals 5-8'!A:C,3,0)","v":18175},28028958.300000001,0]
[1428,44929378.339999996,{"$f":"'Expenditures 15-22'!K259","v":44929378.339999996},0,"OK",44673706.339999996,7.4505805969238281E-9,null,121354,44795060.339999996,null,44795060.339999996,null,0,0,{"$f":"VLOOKUP(A1435,'Data Pull totals 5-8'!A:C,3,0)","v":134318},44929378.339999996,0]
[1429,1977560,{"$f":"'Expenditures 15-22'!K260","v":1977560},0,"OK",1962238,0,null,1303,1963541,null,1963541,null,0,0,{"$f":"VLOOKUP(A1436,'Data Pull totals 5-8'!A:C,3,0)","v":14019},1977560,0]
[1430,46906938.339999996,{"$f":"'Expenditures 15-22'!K261","v":46906938.339999996},0,"OK",46635944.339999996,7.4505805969238281E-9,null,122657,46758601.339999996,null,46758601.339999996,null,0,0,{"$f":"VLOOKUP(A1437,'Data Pull totals 5-8'!A:C,3,0)","v":148337},46906938.339999996,0]
[1431,4126938,{"$f":"'Expenditures 15-22'!K263","v":4126938},0,"OK",4115641,0,null,0,4115641,null,4115641,null,0,0,{"$f":"VLOOKUP(A1438,'Data Pull totals 5-8'!A:C,3,0)","v":11297},4126938,0]
[1432,17336980.850000001,{"$f":"'Expenditures 15-22'!K264","v":17336980.850000001},0,"OK",17206464.850000001,0,null,71934,17278398.850000001,null,17278398.850000001,null,0,0,{"$f":"VLOOKUP(A1439,'Data Pull totals 5-8'!A:C,3,0)","v":58582},17336980.850000001,0]
[1433,328662,{"$f":"'Expenditures 15-22'!K265","v":328662},0,"OK",328662,0,null,0,328662,null,328662,null,0,0,{"$f":"VLOOKUP(A1440,'Data Pull totals 5-8'!A:C,3,0)","v":0},328662,0]
[1434,113409003.76000001,{"$f":"'Expenditures 15-22'!K266","v":113409003.76000001},0,"OK",112742752.76000001,0,null,320998,113063750.76000001,null,113063750.76000001,null,0,0,{"$f":"VLOOKUP(A1441,'Data Pull totals 5-8'!A:C,3,0)","v":345253},113409003.76000001,0]
[1435,42957400.640000001,{"$f":"'Expenditures 15-22'!K267","v":42957400.640000001},0,"OK",42868330.640000001,0,null,71790,42940120.640000001,null,42940120.640000001,null,0,0,{"$f":"VLOOKUP(A1442,'Data Pull totals 5-8'!A:C,3,0)","v":17280},42957400.640000001,0]
[1436,22751663.460000001,{"$f":"'Expenditures 15-22'!K268","v":22751663.460000001},0,"OK",22616687.460000001,0,null,6088,22622775.460000001,null,22622775.460000001,null,0,0,{"$f":"VLOOKUP(A1443,'Data Pull totals 5-8'!A:C,3,0)","v":128888},22751663.460000001,0]
[1437,1763853,{"$f":"'Expenditures 15-22'!K269","v":1763853},0,"OK",1733728,0,null,30125,1763853,null,1763853,null,0,0,{"$f":"VLOOKUP(A1444,'Data Pull totals 5-8'!A:C,3,0)","v":0},1763853,0]
[1438,0,null,0,"OK",0,0,null,0,0,null,0,null,0,0,0,0,0]
[1439,202674501.71000001,{"$f":"'Expenditures 15-22'!K270","v":202674501.71000001},0,"OK",201612266.71000001,0,null,500935,202113201.71000001,null,202113201.71000001,null,0,0,{"$f":"VLOOKUP(A1446,'Data Pull totals 5-8'!A:C,3,0)","v":561300},202674501.71000001,0]
[1440,400555,{"$f":"'Expenditures 15-22'!K272","v":400555},0,"OK",370542,0,null,30013,400555,null,400555,null,0,0,{"$f":"VLOOKUP(A1447,'Data Pull totals 5-8'!A:C,3,0)","v":0},400555,0]
[1441,1188401,{"$f":"'Expenditures 15-22'!K273","v":1188401},0,"OK",1154816,0,null,31767,1186583,null,1186583,null,0,0,{"$f":"VLOOKUP(A1448,'Data Pull totals 5-8'!A:C,3,0)","v":1818},1188401,0]
[1442,4194119,{"$f":"'Expenditures 15-22'!K274","v":4194119},0,"OK",4151363,0,null,0,4151363,null,4151363,null,0,0,{"$f":"VLOOKUP(A1449,'Data Pull totals 5-8'!A:C,3,0)","v":42756},4194119,0]
[1443,5393397,{"$f":"'Expenditures 15-22'!K275","v":5393397},0,"OK",5306885,0,null,36510,5343395,null,5343395,null,0,0,{"$f":"VLOOKUP(A1450,'Data Pull totals 5-8'!A:C,3,0)","v":50002},5393397,0]
[1444,0,null,0,"OK",0,0,null,0,0,null,0,null,0,0,0,0,0]
[1445,15341270,{"$f":"'Expenditures 15-22'!K276","v":15341270},0,"OK",15177170,0,null,58090,15235260,null,15235260,null,0,0,{"$f":"VLOOKUP(A1452,'Data Pull totals 5-8'!A:C,3,0)","v":106010},15341270,0]
[1446,0,null,0,"OK",0,0,null,0,0,null,0,null,0,0,0,0,0]
[1447,26517742,{"$f":"'Expenditures 15-22'!K277","v":26517742},0,"OK",26160776,0,null,156380,26317156,null,26317156,null,0,0,{"$f":"VLOOKUP(A1454,'Data Pull totals 5-8'!A:C,3,0)","v":200586},26517742,0]
[1448,1489513,{"$f":"'Expenditures 15-22'!K278","v":1489513},0,"OK",1430806,0,null,55736,1486542,null,1486542,null,0,0,{"$f":"VLOOKUP(A1455,'Data Pull totals 5-8'!A:C,3,0)","v":2971},1489513,0]
[1449,375052639.55999994,{"$f":"'Expenditures 15-22'!K279","v":375052639.56},0,"OK",372579512.55999994,5.9604644775390625E-8,null,1352183,373931695.55999994,null,373931695.55999994,null,0,0,{"$f":"VLOOKUP(A1456,'Data Pull totals 5-8'!A:C,3,0)","v":1120944},375052639.55999994,0]
[1450,5728822,{"$f":"'Expenditures 15-22'!K280","v":5728822},0,"OK",5708617,0,null,19371,5727988,null,5727988,null,0,0,{"$f":"VLOOKUP(A1457,'Data Pull totals 5-8'!A:C,3,0)","v":834},5728822,0]
[1451,0,{"$f":"'Expenditures 15-22'!K288","v":0},0,"OK",0,0,null,0,0,null,0,null,0,0,0,0,0]
[1452,0,{"$f":"'Expenditures 15-22'!K289","v":0},0,"OK",0,0,null,0,0,null,0,null,0,0,0,0,0]
[1453,0,{"$f":"'Expenditures 15-22'!K292","v":0},0,"OK",0,0,null,0,0,null,0,null,0,0,0,0,0]
[1454,0,{"$f":"'Expenditures 15-22'!K293","v":0},0,"OK",0,0,null,0,0,null,0,null,0,0,0,0,0]
[1455,0,null,0,"OK",0,0,null,0,0,null,0,null,0,0,0,0,0]
[1456,625629915.89999998,{"$f":"'Expenditures 15-22'!K295","v":625629915.9000001},0,"OK",621567911.89999998,0,null,2203702,623771613.89999998,null,623771613.89999998,null,0,0,{"$f":"VLOOKUP(A1463,'Data Pull totals 5-8'!A:C,3,0)","v":1858302},625629915.89999998,0]
[1457,24723070.439999998,{"$f":"'Expenditures 15-22'!K296","v":24723070.439999938},5.9604644775390625E-8,"OK",24530242.439999998,3.7252902984619141E-9,null,98529,24628771.439999998,null,24628771.439999998,null,0,0,{"$f":"VLOOKUP(A1464,'Data Pull totals 5-8'!A:C,3,0)","v":94299},24723070.439999998,0]
[1458,1820904,{"$f":"'Expenditures 15-22'!C301","v":1820904},0,"OK",1820904,0,null,0,1820904,null,1820904,null,0,0,{"$f":"VLOOKUP(A1465,'Data Pull totals 5-8'!A:C,3,0)","v":0},1820904,0]
[1459,0,null,0,"OK",0,0,null,0,0,null,0,null,0,0,0,0,0]
[1460,0,null,0,"OK",0,0,null,0,0,null,0,null,0,0,0,0,0]
[1461,4555,{"$f":"'Expenditures 15-22'!C302","v":4555},0,"OK",4555,0,null,0,4555,null,4555,null,0,0,{"$f":"VLOOKUP(A1468,'Data Pull totals 5-8'!A:C,3,0)","v":0},4555,0]
[1462,1825459,{"$f":"'Expenditures 15-22'!C303","v":1825459},0,"OK",1825459,0,null,0,1825459,null,1825459,null,0,0,{"$f":"VLOOKUP(A1469,'Data Pull totals 5-8'!A:C,3,0)","v":0},1825459,0]
[1463,1825459,{"$f":"'Expenditures 15-22'!C312","v":1825459},0,"OK",1825459,0,null,0,1825459,null,1825459,null,0,0,{"$f":"VLOOKUP(A1470,'Data Pull totals 5-8'!A:C,3,0)","v":0},1825459,0]
[1464,285260,{"$f":"'Expenditures 15-22'!D301","v":285260},0,"OK",285260,0,null,0,285260,null,285260,null,0,0,{"$f":"VLOOKUP(A1471,'Data Pull totals 5-8'!A:C,3,0)","v":0},285260,0]
[1465,0,null,0,"OK",0,0,null,0,0,null,0,null,0,0,0,0,0]
[1466,0,null,0,"OK",0,0,null,0,0,null,0,null,0,0,0,0,0]
[1467,585,{"$f":"'Expenditures 15-22'!D302","v":585},0,"OK",585,0,null,0,585,null,585,null,0,0,{"$f":"VLOOKUP(A1474,'Data Pull totals 5-8'!A:C,3,0)","v":0},585,0]
[1468,285845,{"$f":"'Expenditures 15-22'!D303","v":285845},0,"OK",285845,0,null,0,285845,null,285845,null,0,0,{"$f":"VLOOKUP(A1475,'Data Pull totals 5-8'!A:C,3,0)","v":0},285845,0]
[1469,285845,{"$f":"'Expenditures 15-22'!D312","v":285845},0,"OK",285845,0,null,0,285845,null,285845,null,0,0,{"$f":"VLOOKUP(A1476,'Data Pull totals 5-8'!A:C,3,0)","v":0},285845,0]
[1470,82732503.819999993,{"$f":"'Expenditures 15-22'!E301","v":82732503.819999993},0,"OK",82499477.819999993,0,null,0,82499477.819999993,null,82499477.819999993,null,0,0,{"$f":"VLOOKUP(A1477,'Data Pull totals 5-8'!A:C,3,0)","v":233026},82732503.819999993,0]
[1471,0,null,0,"OK",0,0,null,0,0,null,0,null,0,0,0,0,0]
[1472,0,null,0,"OK",0,0,null,0,0,null,0,null,0,0,0,0,0]
[1473,1973468,{"$f":"'Expenditures 15-22'!E302","v":1973468},{"$f":"B1480-C1480","v":0},{"$f":"IF((D1480 = 0),\"OK\",IF((D1480<-5),\"CHECK ME!\",IF((D1480>5),\"Check Me!\",\"OK\")))","v":"OK"},1973468,0,null,0,1973468,null,1973468,null,0,0,{"$f":"VLOOKUP(A1480,'Data Pull totals 5-8'!A:C,3,0)","v":0},1973468,0]
[1474,84705971.819999993,{"$f":"'Expenditures 15-22'!E303","v":84705971.819999993},0,"OK",84472945.819999993,0,null,0,84472945.819999993,null,84472945.819999993,null,0,0,{"$f":"VLOOKUP(A1481,'Data Pull totals 5-8'!A:C,3,0)","v":233026},84705971.819999993,0]
[1475,84705971.819999993,{"$f":"'Expenditures 15-22'!E312","v":84705971.819999993},0,"OK",84472945.819999993,0,null,0,84472945.819999993,null,84472945.819999993,null,0,0,{"$f":"VLOOKUP(A1482,'Data Pull totals 5-8'!A:C,3,0)","v":233026},84705971.819999993,0]
[1476,4909856,{"$f":"'Expenditures 15-22'!F301","v":4909856},0,"OK",4909856,0,null,0,4909856,null,4909856,null,0,0,{"$f":"VLOOKUP(A1483,'Data Pull totals 5-8'!A:C,3,0)","v":0},4909856,0]
[1477,0,null,0,"OK",0,0,null,0,0,null,0,null,{"$f":"SUM(J1484-L1484)","v":0},0,0,0,{"$f":"SUM(L1484+P1484-Q1484)","v":0}]
[1478,0,null,0,"OK",0,0,null,0,0,null,0,null,0,0,0,0,0]
[1479,98732,{"$f":"'Expenditures 15-22'!F302","v":98732},0,"OK",98732,0,null,0,98732,null,98732,null,0,0,{"$f":"VLOOKUP(A1486,'Data Pull totals 5-8'!A:C,3,0)","v":0},98732,0]
[1480,5008588,{"$f":"'Expenditures 15-22'!F303","v":5008588},0,"OK",5008588,0,null,0,5008588,null,5008588,null,0,0,{"$f":"VLOOKUP(A1487,'Data Pull totals 5-8'!A:C,3,0)","v":0},5008588,0]
[1481,5008588,{"$f":"'Expenditures 15-22'!F312","v":5008588},0,"OK",5008588,0,null,0,5008588,null,5008588,null,0,0,{"$f":"VLOOKUP(A1488,'Data Pull totals 5-8'!A:C,3,0)","v":0},5008588,0]
[1482,1367463558.25,{"$f":"'Expenditures 15-22'!G301","v":1367463558.25},0,"OK",1367276613.25,0,null,0,1367276613.25,null,1367276613.25,null,0,0,{"$f":"VLOOKUP(A1489,'Data Pull totals 5-8'!A:C,3,0)","v":186945},1367463558.25,0]
[1483,0,null,0,"OK",0,0,null,0,0,null,0,null,0,0,0,0,0]
[1484,0,null,0,"OK",0,0,null,0,0,null,0,null,0,0,0,0,0]
[1485,7254879,{"$f":"'Expenditures 15-22'!G302","v":7254879},0,"OK",7254879,0,null,0,7254879,null,7254879,null,0,0,{"$f":"VLOOKUP(A1492,'Data Pull totals 5-8'!A:C,3,0)","v":0},7254879,0]
[1486,1374718437.25,{"$f":"'Expenditures 15-22'!G303","v":1374718437.25},0,"OK",1374531492.25,0,null,0,1374531492.25,null,1374531492.25,null,0,0,{"$f":"VLOOKUP(A1493,'Data Pull totals 5-8'!A:C,3,0)","v":186945},1374718437.25,0]
[1487,1374718437.25,{"$f":"'Expenditures 15-22'!G312","v":1374718437.25},0,"OK",1374531492.25,0,null,0,1374531492.25,null,1374531492.25,null,0,0,{"$f":"VLOOKUP(A1494,'Data Pull totals 5-8'!A:C,3,0)","v":186945},1374718437.25,0]
[1488,10834139,{"$f":"'Expenditures 15-22'!H301","v":10834139},0,"OK",10832802,0,null,1337,10834139,null,10834139,null,0,0,{"$f":"VLOOKUP(A1495,'Data Pull totals 5-8'!A:C,3,0)","v":0},10834139,0]
[1489,0,null,0,"OK",0,0,null,0,0,null,0,null,0,0,0,0,0]
[1490,0,null,0,"OK",0,0,null,0,0,null,0,null,0,0,0,0,0]
[1491,1465588,{"$f":"'Expenditures 15-22'!H302","v":1465588},0,"OK",1465588,0,null,0,1465588,null,1465588,null,0,0,{"$f":"VLOOKUP(A1498,'Data Pull totals 5-8'!A:C,3,0)","v":0},1465588,0]
[1492,12299727,{"$f":"'Expenditures 15-22'!H303","v":12299727},0,"OK",12298390,0,null,1337,12299727,null,12299727,null,0,0,{"$f":"VLOOKUP(A1499,'Data Pull totals 5-8'!A:C,3,0)","v":0},12299727,0]
[1493,13167827,{"$f":"'Expenditures 15-22'!H312","v":13167827},0,"OK",13166490,0,null,1337,13167827,null,13167827,null,0,0,{"$f":"VLOOKUP(A1500,'Data Pull totals 5-8'!A:C,3,0)","v":0},13167827,0]
[1494,1495216980.0699999,{"$f":"'Expenditures 15-22'!K301","v":1495216980.0699999},0,"OK",1494795672.0699999,0,null,1337,1494797009.0699999,null,1494797009.0699999,null,0,0,{"$f":"VLOOKUP(A1501,'Data Pull totals 5-8'!A:C,3,0)","v":419971},1495216980.0699999,0]
[1495,0,null,0,"OK",0,0,null,0,0,null,0,null,0,0,0,0,0]
[1496,0,null,0,"OK",0,0,null,0,0,null,0,null,0,0,0,0,0]
[1497,10797807,{"$f":"'Expenditures 15-22'!K302","v":10797807},0,"OK",10797807,0,null,0,10797807,null,10797807,null,0,0,{"$f":"VLOOKUP(A1504,'Data Pull totals 5-8'!A:C,3,0)","v":0},10797807,0]
[1498,1506014787.0699999,{"$f":"'Expenditures 15-22'!K303","v":1506014787.0699999},0,"OK",1505593479.0699999,0,null,1337,1505594816.0699999,null,1505594816.0699999,null,0,0,{"$f":"VLOOKUP(A1505,'Data Pull totals 5-8'!A:C,3,0)","v":419971},1506014787.0699999,0]
[1499,1506882887.0699999,{"$f":"'Expenditures 15-22'!K312","v":1506882887.0699999},0,"OK",1506461579.0699999,0,null,1337,1506462916.0699999,null,1506462916.0699999,null,0,0,{"$f":"VLOOKUP(A1506,'Data Pull totals 5-8'!A:C,3,0)","v":419971},1506882887.0699999,0]
[1500,-1266987817.46,{"$f":"'Expenditures 15-22'!K313","v":-1266987817.46},0,"OK",-1266601862.46,0,null,7007,-1266594855.46,null,-1266594855.46,null,0,0,{"$f":"VLOOKUP(A1507,'Data Pull totals 5-8'!A:C,3,0)","v":-392962},-1266987817.46,0]
[1501,0,null,0,"OK",0,0,null,0,0,null,0,null,0,0,0,0,0]
[1502,0,null,0,"OK",0,0,null,0,0,null,0,null,0,0,0,0,0]
[1503,0,null,0,"OK",0,0,null,0,0,null,0,null,0,0,0,0,0]
[1504,0,null,0,"OK",0,0,null,0,0,null,0,null,0,0,0,0,0]
[1505,0,null,0,"OK",0,0,null,0,0,null,0,null,0,0,0,0,0]
[1506,0,null,0,"OK",0,0,null,0,0,null,0,null,0,0,0,0,0]
[1507,0,null,0,"OK",0,0,null,0,0,null,0,null,0,0,0,0,0]
[1508,0,null,0,"OK",0,0,null,0,0,null,0,null,0,0,0,0,0]
[1509,0,null,0,"OK",0,0,null,0,0,null,0,null,0,0,0,0,0]
[1510,0,null,0,"OK",0,0,null,0,0,null,0,null,0,0,0,0,0]
[1511,0,null,0,"OK",0,0,null,0,0,null,0,null,0,0,0,0,0]
[1512,0,null,0,"OK",0,0,null,0,0,null,0,null,0,0,0,0,0]
[1513,0,null,0,"OK",0,0,null,0,0,null,0,null,0,0,0,0,0]
[1514,0,null,0,"OK",0,0,null,0,0,null,0,null,0,0,0,0,0]
[1515,0,null,0,"OK",0,0,null,0,0,null,0,null,0,0,0,0,0]
[1516,0,null,0,"OK",0,0,null,0,0,null,0,null,0,0,0,0,0]
[1517,0,null,0,"OK",0,0,null,0,0,null,0,null,0,0,0,0,0]
[1518,0,null,0,"OK",0,0,null,0,0,null,0,null,0,0,0,0,0]
[1519,0,null,0,"OK",0,0,null,0,0,null,0,null,0,0,0,0,0]
[1520,0,null,0,"OK",0,0,null,0,0,null,0,null,0,0,0,0,0]
[1521,0,null,0,"OK",0,0,null,0,0,null,0,null,0,0,0,0,0]
[1522,0,null,0,"OK",0,0,null,0,0,null,0,null,0,0,0,0,0]
[1523,0,null,0,"OK",0,0,null,0,0,null,0,null,0,0,0,0,0]
[1524,0,null,0,"OK",0,0,null,0,0,null,0,null,0,0,0,0,0]
[1525,0,null,0,"OK",0,0,null,0,0,null,0,null,0,0,0,0,0]
[1526,0,null,0,"OK",0,0,null,0,0,null,0,null,0,0,0,0,0]
[1527,0,null,0,"OK",0,0,null,0,0,null,0,null,0,0,0,0,0]
[1528,0,null,0,"OK",0,0,null,0,0,null,0,null,0,0,0,0,0]
[1529,0,null,0,"OK",0,0,null,0,0,null,0,null,0,0,0,0,0]
[1530,0,null,0,"OK",0,0,null,0,0,null,0,null,0,0,0,0,0]
[1531,0,null,0,"OK",0,0,null,0,0,null,0,null,0,0,0,0,0]
[1532,0,null,0,"OK",0,0,null,0,0,null,0,null,0,0,0,0,0]
[1533,0,null,0,"OK",0,0,null,0,0,null,0,null,0,0,0,0,0]
[1534,0,null,0,"OK",0,0,null,0,0,null,0,null,0,0,0,0,0]
[1535,0,null,0,"OK",0,0,null,0,0,null,0,null,0,0,0,0,0]
[1536,0,null,0,"OK",0,0,null,0,0,null,0,null,0,0,0,0,0]
[1537,0,null,{"$f":"B1544-C1544","v":0},{"$f":"IF((D1544 = 0),\"OK\",IF((D1544<-5),\"CHECK ME!\",IF((D1544>5),\"Check Me!\",\"OK\")))","v":"OK"},0,0,null,0,0,null,0,null,0,0,0,0,0]
[1538,0,null,0,"OK",0,0,null,0,0,null,0,null,0,0,0,0,0]
[1539,0,null,0,"OK",0,0,null,0,0,null,0,null,0,0,0,0,0]
[1540,0,null,0,"OK",0,0,null,0,0,null,0,null,0,0,0,0,0]
[1541,0,null,0,"OK",0,0,null,0,0,null,0,null,{"$f":"SUM(J1548-L1548)","v":0},0,0,0,{"$f":"SUM(L1548+P1548-Q1548)","v":0}]
[1542,0,null,0,"OK",0,0,null,0,0,null,0,null,0,0,0,0,0]
[1543,0,null,0,"OK",0,0,null,0,0,null,0,null,0,0,0,0,0]
[1544,0,null,0,"OK",0,0,null,0,0,null,0,null,0,0,0,0,0]
[1545,0,null,0,"OK",0,0,null,0,0,null,0,null,0,0,0,0,0]
[1546,0,null,0,"OK",0,0,null,0,0,null,0,null,0,0,0,0,0]
[1547,0,null,0,"OK",0,0,null,0,0,null,0,null,0,0,0,0,0]
[1548,0,null,0,"OK",0,0,null,0,0,null,0,null,0,0,0,0,0]
[1549,0,null,0,"OK",0,0,null,0,0,null,0,null,0,0,0,0,0]
[1550,0,null,0,"OK",0,0,null,0,0,null,0,null,0,0,0,0,0]
[1551,0,null,0,"OK",0,0,null,0,0,null,0,null,0,0,0,0,0]
[1552,0,null,0,"OK",0,0,null,0,0,null,0,null,0,0,0,0,0]
[1553,0,null,0,"OK",0,0,null,0,0,null,0,null,0,0,0,0,0]
[1554,0,null,0,"OK",0,0,null,0,0,null,0,null,0,0,0,0,0]
[1555,0,null,0,"OK",0,0,null,0,0,null,0,null,0,0,0,0,0]
[1556,6173172812.0100002,{"$f":"'Acct Summary 7-8'!C79","v":6173172812.0100002},0,"OK",6119980236.0100002,0,null,38685066,6158665302.0100002,null,6158665302.0100002,null,0,0,{"$f":"VLOOKUP(A1563,'Data Pull totals 5-8'!A:C,3,0)","v":14507510},6173172812.0100002,0]
[1557,0,null,0,"OK",0,0,null,0,0,null,0,null,0,0,0,0,0]
[1558,0,null,0,"OK",0,0,null,0,0,null,0,null,0,0,0,0,0]
[1559,0,null,0,"OK",0,0,null,0,0,null,0,null,0,0,0,0,0]
[1560,0,null,0,"OK",0,0,null,0,0,null,0,null,0,0,0,0,0]
[1561,0,null,0,"OK",0,0,null,0,0,null,0,null,0,0,0,0,0]
[1562,0,null,0,"OK",0,0,null,0,0,null,0,null,0,0,0,0,0]
[1563,0,null,0,"OK",0,0,null,0,0,null,0,null,0,0,0,0,0]
[1564,0,null,0,"OK",0,0,null,0,0,null,0,null,0,0,0,0,0]
[1565,0,null,0,"OK",0,0,null,0,0,null,0,null,0,0,0,0,0]
[1566,0,null,0,"OK",0,0,null,0,0,null,0,null,0,0,0,0,0]
[1567,0,null,0,"OK",0,0,null,0,0,null,0,null,0,0,0,0,0]
[1568,0,null,0,"OK",0,0,null,0,0,null,0,null,0,0,0,0,0]
[1569,7511442867.3000002,{"$f":"'Acct Summary 7-8'!C81","v":7511442867.2999935},0,"OK",7454196102.3000002,0,null,46222998,7500419100.3000002,null,7500419100.3000002,null,0,0,{"$f":"VLOOKUP(A1576,'Data Pull totals 5-8'!A:C,3,0)","v":11023767},7511442867.3000002,0]
[1570,1322527707,{"$f":"'Acct Summary 7-8'!D79","v":1322527707},0,"OK",1315464386,0,null,2989928,1318454314,null,1318454314,null,0,0,{"$f":"VLOOKUP(A1577,'Data Pull totals 5-8'!A:C,3,0)","v":4073393},1322527707,0]
[1571,0,null,0,"OK",0,0,null,0,0,null,0,null,0,0,0,0,0]
[1572,0,null,0,"OK",0,0,null,0,0,null,0,null,0,0,0,0,0]
[1573,0,null,0,"OK",0,0,null,0,0,null,0,null,0,0,0,0,0]
[1574,0,null,0,"OK",0,0,null,0,0,null,0,null,0,0,0,0,0]
[1575,0,null,0,"OK",0,0,null,0,0,null,0,null,0,0,0,0,0]
[1576,0,null,0,"OK",0,0,null,0,0,null,0,null,0,0,0,0,0]
[1577,0,null,0,"OK",0,0,null,0,0,null,0,null,0,0,0,0,0]
[1578,0,null,0,"OK",0,0,null,0,0,null,0,null,0,0,0,0,0]
[1579,0,null,0,"OK",0,0,null,0,0,null,0,null,0,0,0,0,0]
[1580,0,null,0,"OK",0,0,null,0,0,null,0,null,0,0,0,0,0]
[1581,0,null,0,"OK",0,0,null,0,0,null,0,null,0,0,0,0,0]
[1582,0,null,0,"OK",0,0,null,0,0,null,0,null,0,0,0,0,0]
[1583,1363061361.8500001,{"$f":"'Acct Summary 7-8'!D81","v":1363061361.8500004},0,"OK",1357671754.8500001,-2.384185791015625E-7,null,1311272,1358983026.8500001,null,1358983026.8500001,null,0,0,{"$f":"VLOOKUP(A1590,'Data Pull totals 5-8'!A:C,3,0)","v":4078335},1363061361.8500001,0]
[1584,1437267403,{"$f":"'Acct Summary 7-8'!E79","v":1437267403},0,"OK",1426210802,0,null,6712387,1432923189,null,1432923189,null,0,0,{"$f":"VLOOKUP(A1591,'Data Pull totals 5-8'!A:C,3,0)","v":4344214},1437267403,0]
[1585,0,null,0,"OK",0,0,null,0,0,null,0,null,0,0,0,0,0]
[1586,0,null,0,"OK",0,0,null,0,0,null,0,null,0,0,0,0,0]
[1587,0,null,0,"OK",0,0,null,0,0,null,0,null,0,0,0,0,0]
[1588,0,null,0,"OK",0,0,null,0,0,null,0,null,0,0,0,0,0]
[1589,0,null,0,"OK",0,0,null,0,0,null,0,null,0,0,0,0,0]
[1590,0,null,0,"OK",0,0,null,0,0,null,0,null,0,0,0,0,0]
[1591,0,null,0,"OK",0,0,null,0,0,null,0,null,0,0,0,0,0]
[1592,0,null,0,"OK",0,0,null,0,0,null,0,null,0,0,0,0,0]
[1593,0,null,0,"OK",0,0,null,0,0,null,0,null,0,0,0,0,0]
[1594,0,null,0,"OK",0,0,null,0,0,null,0,null,0,0,0,0,0]
[1595,0,null,0,"OK",0,0,null,0,0,null,0,null,0,0,0,0,0]
[1596,0,null,0,"OK",0,0,null,0,0,null,0,null,0,0,0,0,0]
[1597,1654162090.8000002,{"$f":"'Acct Summary 7-8'!E81","v":1654162090.8000002},0,"OK",1643051346.8000002,-2.384185791015625E-7,null,6642216,1649693562.8000002,null,1649693562.8000002,null,0,0,{"$f":"VLOOKUP(A1604,'Data Pull totals 5-8'!A:C,3,0)","v":4468528},1654162090.8000002,0]
[1598,734320909,{"$f":"'Acct Summary 7-8'!F79","v":734320909},0,"OK",725297462,0,null,1931082,727228544,null,727228544,null,0,0,{"$f":"VLOOKUP(A1605,'Data Pull totals 5-8'!A:C,3,0)","v":7092365},734320909,0]
[1599,0,null,0,"OK",0,0,null,0,0,null,0,null,0,0,0,0,0]
[1600,0,null,0,"OK",0,0,null,0,0,null,0,null,0,0,0,0,0]
[1601,0,null,{"$f":"B1608-C1608","v":0},{"$f":"IF((D1608 = 0),\"OK\",IF((D1608<-5),\"CHECK ME!\",IF((D1608>5),\"Check Me!\",\"OK\")))","v":"OK"},0,0,null,0,0,null,0,null,0,0,0,0,0]
[1602,0,null,0,"OK",0,0,null,0,0,null,0,null,0,0,0,0,0]
[1603,0,null,0,"OK",0,0,null,0,0,null,0,null,0,0,0,0,0]
[1604,0,null,0,"OK",0,0,null,0,0,null,0,null,0,0,0,0,0]
[1605,0,null,0,"OK",0,0,null,0,0,null,0,null,{"$f":"SUM(J1612-L1612)","v":0},0,0,0,{"$f":"SUM(L1612+P1612-Q1612)","v":0}]
[1606,0,null,0,"OK",0,0,null,0,0,null,0,null,0,0,0,0,0]
[1607,0,null,0,"OK",0,0,null,0,0,null,0,null,0,0,0,0,0]
[1608,0,null,0,"OK",0,0,null,0,0,null,0,null,0,0,0,0,0]
[1609,0,null,0,"OK",0,0,null,0,0,null,0,null,0,0,0,0,0]
[1610,0,null,0,"OK",0,0,null,0,0,null,0,null,0,0,0,0,0]
[1611,860660209.54000008,{"$f":"'Acct Summary 7-8'!F81","v":860660209.5400002},0,"OK",850167251.54000008,-1.1920928955078125E-7,null,1661592,851828843.54000008,null,851828843.54000008,null,0,0,{"$f":"VLOOKUP(A1618,'Data Pull totals 5-8'!A:C,3,0)","v":8831366},860660209.54000008,0]
[1612,442554093,{"$f":"'Acct Summary 7-8'!G79","v":442554093},0,"OK",437485920,0,null,3863266,441349186,null,441349186,null,0,0,{"$f":"VLOOKUP(A1619,'Data Pull totals 5-8'!A:C,3,0)","v":1204907},442554093,0]
[1613,0,null,0,"OK",0,0,null,0,0,null,0,null,0,0,0,0,0]
[1614,0,null,0,"OK",0,0,null,0,0,null,0,null,0,0,0,0,0]
[1615,0,null,0,"OK",0,0,null,0,0,null,0,null,0,0,0,0,0]
[1616,0,null,0,"OK",0,0,null,0,0,null,0,null,0,0,0,0,0]
[1617,0,null,0,"OK",0,0,null,0,0,null,0,null,0,0,0,0,0]
[1618,0,null,0,"OK",0,0,null,0,0,null,0,null,0,0,0,0,0]
[1619,0,null,0,"OK",0,0,null,0,0,null,0,null,0,0,0,0,0]
[1620,0,null,0,"OK",0,0,null,0,0,null,0,null,0,0,0,0,0]
[1621,0,null,0,"OK",0,0,null,0,0,null,0,null,0,0,0,0,0]
[1622,0,null,0,"OK",0,0,null,0,0,null,0,null,0,0,0,0,0]
[1623,0,null,0,"OK",0,0,null,0,0,null,0,null,0,0,0,0,0]
[1624,0,null,0,"OK",0,0,null,0,0,null,0,null,0,0,0,0,0]
[1625,468153702.44,{"$f":"'Acct Summary 7-8'!G81","v":468153702.43999994},0,"OK",462839334.44,0,null,3961795,466801129.44,null,466801129.44,null,0,0,{"$f":"VLOOKUP(A1632,'Data Pull totals 5-8'!A:C,3,0)","v":1352573},468153702.44,0]
[1626,2224706463,{"$f":"'Acct Summary 7-8'!H79","v":2224706463},0,"OK",2220510078,0,null,1379760,2221889838,null,2221889838,null,0,0,{"$f":"VLOOKUP(A1633,'Data Pull totals 5-8'!A:C,3,0)","v":2816625},2224706463,0]
[1627,0,null,0,"OK",0,0,null,0,0,null,0,null,0,0,0,0,0]
[1628,0,null,0,"OK",0,0,null,0,0,null,0,null,0,0,0,0,0]
[1629,0,null,0,"OK",0,0,null,0,0,null,0,null,0,0,0,0,0]
[1630,0,null,0,"OK",0,0,null,0,0,null,0,null,0,0,0,0,0]
[1631,0,null,0,"OK",0,0,null,0,0,null,0,null,0,0,0,0,0]
[1632,0,null,0,"OK",0,0,null,0,0,null,0,null,0,0,0,0,0]
[1633,0,null,0,"OK",0,0,null,0,0,null,0,null,0,0,0,0,0]
[1634,0,null,0,"OK",0,0,null,0,0,null,0,null,0,0,0,0,0]
[1635,0,null,0,"OK",0,0,null,0,0,null,0,null,0,0,0,0,0]
[1636,0,null,0,"OK",0,0,null,0,0,null,0,null,0,0,0,0,0]
[1637,0,null,0,"OK",0,0,null,0,0,null,0,null,0,0,0,0,0]
[1638,0,null,0,"OK",0,0,null,0,0,null,0,null,0,0,0,0,0]
[1639,2451666061.54,{"$f":"'Acct Summary 7-8'!H81","v":2451666061.54},0,"OK",2447855631.54,0,null,1386767,2449242398.54,null,2449242398.54,null,0,0,{"$f":"VLOOKUP(A1646,'Data Pull totals 5-8'!A:C,3,0)","v":2423663},2451666061.54,0]
[1640,0,null,0,"OK",0,0,null,0,0,null,0,null,0,0,0,0,0]
[1641,0,null,0,"OK",0,0,null,0,0,null,0,null,0,0,0,0,0]
[1642,0,null,0,"OK",0,0,null,0,0,null,0,null,0,0,0,0,0]
[1643,0,null,0,"OK",0,0,null,0,0,null,0,null,0,0,0,0,0]
[1644,0,null,0,"OK",0,0,null,0,0,null,0,null,0,0,0,0,0]
[1645,0,null,0,"OK",0,0,null,0,0,null,0,null,0,0,0,0,0]
[1646,0,null,0,"OK",0,0,null,0,0,null,0,null,0,0,0,0,0]
[1647,0,null,0,"OK",0,0,null,0,0,null,0,null,0,0,0,0,0]
[1648,0,null,0,"OK",0,0,null,0,0,null,0,null,0,0,0,0,0]
[1649,0,null,0,"OK",0,0,null,0,0,null,0,null,0,0,0,0,0]
[1650,0,null,0,"OK",0,0,null,0,0,null,0,null,0,0,0,0,0]
[1651,0,null,0,"OK",0,0,null,0,0,null,0,null,0,0,0,0,0]
[1652,0,null,0,"OK",0,0,null,0,0,null,0,null,0,0,0,0,0]
[1653,0,null,0,"OK",0,0,null,0,0,null,0,null,0,0,0,0,0]
[1654,0,null,0,"OK",0,0,null,0,0,null,0,null,0,0,0,0,0]
[1655,0,null,0,"OK",0,0,null,0,0,null,0,null,0,0,0,0,0]
[1656,0,null,0,"OK",0,0,null,0,0,null,0,null,0,0,0,0,0]
[1657,0,null,0,"OK",0,0,null,0,0,null,0,null,0,0,0,0,0]
[1658,0,null,0,"OK",0,0,null,0,0,null,0,null,0,0,0,0,0]
[1659,0,null,0,"OK",0,0,null,0,0,null,0,null,0,0,0,0,0]
[1660,0,null,0,"OK",0,0,null,0,0,null,0,null,0,0,0,0,0]
[1661,0,null,0,"OK",0,0,null,0,0,null,0,null,0,0,0,0,0]
[1662,0,null,0,"OK",0,0,null,0,0,null,0,null,0,0,0,0,0]
[1663,0,null,0,"OK",0,0,null,0,0,null,0,null,0,0,0,0,0]
[1664,0,null,0,"OK",0,0,null,0,0,null,0,null,0,0,0,0,0]
[1665,0,null,{"$f":"B1672-C1672","v":0},{"$f":"IF((D1672 = 0),\"OK\",IF((D1672<-5),\"CHECK ME!\",IF((D1672>5),\"Check Me!\",\"OK\")))","v":"OK"},0,0,null,0,0,null,0,null,0,0,0,0,0]
[1666,0,null,0,"OK",0,0,null,0,0,null,0,null,0,0,0,0,0]
[1667,0,null,0,"OK",0,0,null,0,0,null,0,null,0,0,0,0,0]
[1668,0,null,0,"OK",0,0,null,0,0,null,0,null,0,0,0,0,0]
[1669,0,null,0,"OK",0,0,null,0,0,null,0,null,{"$f":"SUM(J1676-L1676)","v":0},0,0,0,{"$f":"SUM(L1676+P1676-Q1676)","v":0}]
[1670,0,null,0,"OK",0,0,null,0,0,null,0,null,0,0,0,0,0]
[1671,0,null,0,"OK",0,0,null,0,0,null,0,null,0,0,0,0,0]
[1672,0,null,0,"OK",0,0,null,0,0,null,0,null,0,0,0,0,0]
[1673,0,null,0,"OK",0,0,null,0,0,null,0,null,0,0,0,0,0]
[1674,0,null,0,"OK",0,0,null,0,0,null,0,null,0,0,0,0,0]
[1675,0,null,0,"OK",0,0,null,0,0,null,0,null,0,0,0,0,0]
[1676,0,null,0,"OK",0,0,null,0,0,null,0,null,0,0,0,0,0]
[1677,0,null,0,"OK",0,0,null,0,0,null,0,null,0,0,0,0,0]
[1678,0,null,0,"OK",0,0,null,0,0,null,0,null,0,0,0,0,0]
[1679,0,null,0,"OK",0,0,null,0,0,null,0,null,0,0,0,0,0]
[1680,0,null,0,"OK",0,0,null,0,0,null,0,null,0,0,0,0,0]
[1681,0,null,0,"OK",0,0,null,0,0,null,0,null,0,0,0,0,0]
[1682,0,null,0,"OK",0,0,null,0,0,null,0,null,0,0,0,0,0]
[1683,11940011410.279999,{"$f":"'Tax Sched 24'!B4","v":11940011410.279999},0,"OK",11915170485.279999,1.9073486328125E-6,null,1632157,11916802642.279999,null,11916802642.279999,null,0,0,{"$f":"VLOOKUP(A1690,'Data Pull totals 5-8'!A:C,3,0)","v":23208768},11940011410.279999,0]
[1684,1530756934.6700001,{"$f":"'Tax Sched 24'!B5","v":1530756934.6700001},0,"OK",1526107379.6700001,0,null,427265,1526534644.6700001,null,1526534644.6700001,null,0,0,{"$f":"VLOOKUP(A1691,'Data Pull totals 5-8'!A:C,3,0)","v":4222290},1530756934.6700001,0]
[1685,1584395764.8000002,{"$f":"'Tax Sched 24'!B6","v":1584395764.8000002},0,"OK",1571163945.8000002,-2.384185791015625E-7,null,1570884,1572734829.8000002,null,1572734829.8000002,null,0,0,{"$f":"VLOOKUP(A1692,'Data Pull totals 5-8'!A:C,3,0)","v":11660935},1584395764.8000002,0]
[1686,631264425.68000007,{"$f":"'Tax Sched 24'!B7","v":631264425.68000007},0,"OK",627086297.68000007,-1.1920928955078125E-7,null,170908,627257205.68000007,null,627257205.68000007,null,0,0,{"$f":"VLOOKUP(A1693,'Data Pull totals 5-8'!A:C,3,0)","v":4007220},631264425.68000007,0]
[1687,274125679.84000003,{"$f":"'Tax Sched 24'!B8","v":274125679.84000003},0,"OK",272639723.84000003,-5.9604644775390625E-8,null,545259,273184982.84000003,null,273184982.84000003,null,0,0,{"$f":"VLOOKUP(A1694,'Data Pull totals 5-8'!A:C,3,0)","v":940697},274125679.84000003,0]
[1688,68642339.560000002,{"$f":"'Tax Sched 24'!B10","v":68642339.560000002},0,"OK",68377302.560000002,0,null,42725,68420027.560000002,null,68420027.560000002,null,0,0,{"$f":"VLOOKUP(A1695,'Data Pull totals 5-8'!A:C,3,0)","v":222312},68642339.560000002,0]
[1689,0,null,0,"OK",0,0,null,0,0,null,0,null,0,0,0,0,0]
[1690,9526435,{"$f":"'Tax Sched 24'!B9","v":9526435},0,"OK",9526435,0,null,0,9526435,null,9526435,null,0,0,{"$f":"VLOOKUP(A1697,'Data Pull totals 5-8'!A:C,3,0)","v":0},9526435,0]
[1691,336083725.00999999,{"$f":"'Tax Sched 24'!B11","v":336083725.00999999},0,"OK",332722199.00999999,0,null,3361526,336083725.00999999,null,336083725.00999999,null,0,0,{"$f":"VLOOKUP(A1698,'Data Pull totals 5-8'!A:C,3,0)","v":0},336083725.00999999,0]
[1692,54790902.559999995,{"$f":"'Tax Sched 24'!B12","v":54790902.559999995},0,"OK",54743604.559999995,7.4505805969238281E-9,null,42725,54786329.559999995,null,54786329.559999995,null,0,0,{"$f":"VLOOKUP(A1699,'Data Pull totals 5-8'!A:C,3,0)","v":4573},54790902.559999995,0]
[1693,489420499.32999998,{"$f":"'Tax Sched 24'!B14","v":489420499.32999998},0,"OK",485173519.32999998,0,null,34186,485207705.32999998,null,485207705.32999998,null,0,0,{"$f":"VLOOKUP(A1700,'Data Pull totals 5-8'!A:C,3,0)","v":4212794},489420499.32999998,0]
[1694,0,null,0,"OK",0,0,null,0,0,null,0,null,0,0,0,0,0]
[1695,0,{"$f":"'Tax Sched 24'!B15","v":0},0,"OK",0,0,null,0,0,null,0,null,0,0,0,0,0]
[1696,0,null,0,"OK",0,0,null,0,0,null,0,null,0,0,0,0,0]
[1697,0,null,0,"OK",0,0,null,0,0,null,0,null,0,0,0,0,0]
[1698,17684865459.939999,{"$f":"'Tax Sched 24'!B19","v":17684865459.939999},null,"OK",17626185842.939999,0,null,9259332,17635445174.939999,null,17635445174.939999,null,0,0,{"$f":"VLOOKUP(A1705,'Data Pull totals 5-8'!A:C,3,0)","v":49420285},17684865459.939999,0]
[1699,5194889780.1099997,{"$f":"'Tax Sched 24'!D4","v":5194889780.1099977},{"$f":"B1706-C1706","v":0},"OK",5182989511.1099997,0,null,820569,5183810080.1099997,null,5183810080.1099997,null,0,0,{"$f":"VLOOKUP(A1706,'Data Pull totals 5-8'!A:C,3,0)","v":11079700},5194889780.1099997,0]
[1700,857560573.44999993,{"$f":"'Tax Sched 24'!D5","v":857560573.45000005},0,"OK",855268078.44999993,1.1920928955078125E-7,null,214807,855482885.44999993,null,855482885.44999993,null,0,0,{"$f":"VLOOKUP(A1707,'Data Pull totals 5-8'!A:C,3,0)","v":2077688},857560573.44999993,0]
[1701,881792958.13,{"$f":"'Tax Sched 24'!D6","v":881792958.13000011},0,"OK",875249500.13,0,null,836290,876085790.13,null,876085790.13,null,0,0,{"$f":"VLOOKUP(A1708,'Data Pull totals 5-8'!A:C,3,0)","v":5707168},881792958.13,0]
[1702,379994207.68000001,{"$f":"'Tax Sched 24'!D7","v":379994207.68000007},0,"OK",377864885.68000001,0,null,85925,377950810.68000001,null,377950810.68000001,null,0,0,{"$f":"VLOOKUP(A1709,'Data Pull totals 5-8'!A:C,3,0)","v":2043397},379994207.68000001,0]
[1703,167306774.93000001,{"$f":"'Tax Sched 24'!D8","v":167306774.93000001},0,"OK",166575561.93000001,0,null,267935,166843496.93000001,null,166843496.93000001,null,0,0,{"$f":"VLOOKUP(A1710,'Data Pull totals 5-8'!A:C,3,0)","v":463278},167306774.93000001,0]
[1704,45734387.100000001,{"$f":"'Tax Sched 24'!D10","v":45734387.100000001},0,"OK",45574435.100000001,0,null,21479,45595914.100000001,null,45595914.100000001,null,0,0,{"$f":"VLOOKUP(A1711,'Data Pull totals 5-8'!A:C,3,0)","v":138473},45734387.100000001,0]
[1705,0,null,0,"OK",0,0,null,0,0,null,0,null,0,0,0,0,0]
[1706,1958956,{"$f":"'Tax Sched 24'!D9","v":1958956},0,"OK",1958956,0,null,0,1958956,null,1958956,null,0,0,{"$f":"VLOOKUP(A1713,'Data Pull totals 5-8'!A:C,3,0)","v":0},1958956,0]
[1707,226643430.05000001,{"$f":"'Tax Sched 24'!D11","v":226643430.05000001},0,"OK",224975703.05000001,0,null,1667727,226643430.05000001,null,226643430.05000001,null,0,0,{"$f":"VLOOKUP(A1714,'Data Pull totals 5-8'!A:C,3,0)","v":0},226643430.05000001,0]
[1708,37614977.009999998,{"$f":"'Tax Sched 24'!D12","v":37614977.00999999},0,"OK",37592127.009999998,0,null,21479,37613606.009999998,null,37613606.009999998,null,0,0,{"$f":"VLOOKUP(A1715,'Data Pull totals 5-8'!A:C,3,0)","v":1371},37614977.009999998,0]
[1709,253893983.64999998,{"$f":"'Tax Sched 24'!D14","v":253893983.64999995},0,"OK",251798704.64999998,2.9802322387695313E-8,null,17189,251815893.64999998,null,251815893.64999998,null,0,0,{"$f":"VLOOKUP(A1716,'Data Pull totals 5-8'!A:C,3,0)","v":2078090},253893983.64999998,0]
[1710,0,null,0,"OK",0,0,null,0,0,null,0,null,0,0,0,0,0]
[1711,0,{"$f":"'Tax Sched 24'!D15","v":0},0,"OK",0,0,null,0,0,null,0,null,0,0,0,0,0]
[1712,0,null,0,"OK",0,0,null,0,0,null,0,null,0,0,0,0,0]
[1713,0,null,0,"OK",0,0,null,0,0,null,0,null,0,0,0,0,0]
[1714,8274772316.4499979,{"$f":"'Tax Sched 24'!D19","v":8274772315.4499989},0.99999904632568359,"OK",8246063526.4499979,1.9073486328125E-6,null,4656348,8250719874.4499979,null,8250719874.4499979,null,0,0,{"$f":"VLOOKUP(A1721,'Data Pull totals 5-8'!A:C,3,0)","v":24052442},8274772316.4499979,0]
[1715,6745121630.170001,{"$f":"'Tax Sched 24'!C4","v":6745121630.170001},0,"OK",6732180974.170001,-9.5367431640625E-7,null,811588,6732992562.170001,null,6732992562.170001,null,0,0,{"$f":"VLOOKUP(A1722,'Data Pull totals 5-8'!A:C,3,0)","v":12129068},6745121630.170001,0]
[1716,673196361.22000003,{"$f":"'Tax Sched 24'!C5","v":673196361.22000003},0,"OK",670839301.22000003,0,null,212458,671051759.22000003,null,671051759.22000003,null,0,0,{"$f":"VLOOKUP(A1723,'Data Pull totals 5-8'!A:C,3,0)","v":2144602},673196361.22000003,0]
[1717,702602806.67000008,{"$f":"'Tax Sched 24'!C6","v":702602806.67000008},0,"OK",695914445.67000008,-1.1920928955078125E-7,null,734594,696649039.67000008,null,696649039.67000008,null,0,0,{"$f":"VLOOKUP(A1724,'Data Pull totals 5-8'!A:C,3,0)","v":5953767},702602806.67000008,0]
[1718,251270218,{"$f":"'Tax Sched 24'!C7","v":251270218},0,"OK",249221412,0,null,84983,249306395,null,249306395,null,0,0,{"$f":"VLOOKUP(A1725,'Data Pull totals 5-8'!A:C,3,0)","v":1963823},251270218,0]
[1719,106818904.91000001,{"$f":"'Tax Sched 24'!C8","v":106818904.91000001},0,"OK",106064161.91000001,-1.4901161193847656E-8,null,277324,106341485.91000001,null,106341485.91000001,null,0,0,{"$f":"VLOOKUP(A1726,'Data Pull totals 5-8'!A:C,3,0)","v":477419},106818904.91000001,0]
[1720,22907952.460000001,{"$f":"'Tax Sched 24'!C10","v":22907952.460000001},0,"OK",22802867.460000001,0,null,21246,22824113.460000001,null,22824113.460000001,null,0,0,{"$f":"VLOOKUP(A1727,'Data Pull totals 5-8'!A:C,3,0)","v":83839},22907952.460000001,0]
[1721,0,null,0,"OK",0,0,null,0,0,null,0,null,0,0,0,0,0]
[1722,7567479,{"$f":"'Tax Sched 24'!C9","v":7567479},0,"OK",7567479,0,null,0,7567479,null,7567479,null,0,0,{"$f":"VLOOKUP(A1729,'Data Pull totals 5-8'!A:C,3,0)","v":0},7567479,0]
[1723,109440294.95999999,{"$f":"'Tax Sched 24'!C11","v":109440294.95999999},0,"OK",107746495.95999999,0,null,1693799,109440294.95999999,null,109440294.95999999,null,0,0,{"$f":"VLOOKUP(A1730,'Data Pull totals 5-8'!A:C,3,0)","v":0},109440294.95999999,0]
[1724,17175925.550000001,{"$f":"'Tax Sched 24'!C12","v":17175925.550000001},0,"OK",17151477.550000001,0,null,21246,17172723.550000001,null,17172723.550000001,null,0,0,{"$f":"VLOOKUP(A1731,'Data Pull totals 5-8'!A:C,3,0)","v":3202},17175925.550000001,0]
[1725,235526515.68000004,{"$f":"'Tax Sched 24'!C14","v":235526515.68000004},0,"OK",233374814.68000004,-2.9802322387695313E-8,null,16997,233391811.68000004,null,233391811.68000004,null,0,0,{"$f":"VLOOKUP(A1732,'Data Pull totals 5-8'!A:C,3,0)","v":2134704},235526515.68000004,0]
[1726,0,null,0,"OK",0,0,null,0,0,null,0,null,0,0,0,0,0]
[1727,0,{"$f":"'Tax Sched 24'!C15","v":0},0,"OK",0,0,null,0,0,null,0,null,0,0,0,0,0]
[1728,0,null,0,"OK",0,0,null,0,0,null,0,null,0,0,0,0,0]
[1729,0,null,0,{"$f":"IF((D1736 = 0),\"OK\",IF((D1736<-5),\"CHECK ME!\",IF((D1736>5),\"Check Me!\",\"OK\")))","v":"OK"},0,0,null,0,0,null,0,null,0,0,0,0,0]
[1730,9410093144.4899998,{"$f":"'Tax Sched 24'!C19","v":9410093144.4899998},0,"OK",9380122317.4899998,0,null,4602984,9384725301.4899998,null,9384725301.4899998,null,0,0,{"$f":"VLOOKUP(A1737,'Data Pull totals 5-8'!A:C,3,0)","v":25367843},9410093144.4899998,0]
[1731,5480825267.5782604,{"$f":"'Tax Sched 24'!F4","v":5480825267.5782595},0,"OK",5467510287.5782604,0,null,1012412,5468522699.5782604,null,5468522699.5782604,null,0,0,{"$f":"VLOOKUP(A1738,'Data Pull totals 5-8'!A:C,3,0)","v":12302568},5480825267.5782604,0]
[1732,886910968.19574142,{"$f":"'Tax Sched 24'!F5","v":886910968.19574142},0,"OK",884470660.19574142,5.9604644775390625E-7,null,265029,884735689.19574142,null,884735689.19574142,null,0,0,{"$f":"VLOOKUP(A1739,'Data Pull totals 5-8'!A:C,3,0)","v":2175279},886910968.19574142,0]
[1733,880766333.6945461,{"$f":"'Tax Sched 24'!F6","v":880766333.69454598},0,"OK",873811036.6945461,-1.1920928955078125E-7,null,916365,874727401.6945461,null,874727401.6945461,null,{"$f":"SUM(J1740-L1740)","v":0},0,{"$f":"VLOOKUP(A1740,'Data Pull totals 5-8'!A:C,3,0)","v":6038932},880766333.6945461,{"$f":"SUM(L1740+P1740-Q1740)","v":0}]
[1734,350071114.55578548,{"$f":"'Tax Sched 24'!F7","v":350071114.55578566},0,"OK",347973187.55578548,-4.76837158203125E-7,null,106012,348079199.55578548,null,348079199.55578548,null,0,0,{"$f":"VLOOKUP(A1741,'Data Pull totals 5-8'!A:C,3,0)","v":1991915},350071114.55578548,0]
[1735,165578448.00204197,{"$f":"'Tax Sched 24'!F8","v":165578448.002042},0,"OK",164748212.00204197,2.9802322387695313E-8,null,345987,165094199.00204197,null,165094199.00204197,null,0,0,{"$f":"VLOOKUP(A1742,'Data Pull totals 5-8'!A:C,3,0)","v":484249},165578448.00204197,0]
[1736,45689513.033277296,{"$f":"'Tax Sched 24'!F10","v":45689513.033277281},0,"OK",45577971.033277296,7.4505805969238281E-9,null,26503,45604474.033277296,null,45604474.033277296,null,0,0,{"$f":"VLOOKUP(A1743,'Data Pull totals 5-8'!A:C,3,0)","v":85039},45689513.033277296,0]
[1737,0,null,0,"OK",0,0,null,0,0,null,0,null,0,0,0,0,0]
[1738,1491940,{"$f":"'Tax Sched 24'!F9","v":1491940},0,"OK",1491940,0,null,0,1491940,null,1491940,null,0,0,{"$f":"VLOOKUP(A1745,'Data Pull totals 5-8'!A:C,3,0)","v":0},1491940,0]
[1739,225386866.002776,{"$f":"'Tax Sched 24'!F11","v":225386866.00277603},0,"OK",223273948.002776,0,null,2112918,225386866.002776,null,225386866.002776,null,0,0,{"$f":"VLOOKUP(A1746,'Data Pull totals 5-8'!A:C,3,0)","v":0},225386866.002776,0]
[1740,38202087.587277301,{"$f":"'Tax Sched 24'!F12","v":38202087.587277293},0,"OK",38172336.587277301,0,null,26503,38198839.587277301,null,38198839.587277301,null,0,0,{"$f":"VLOOKUP(A1747,'Data Pull totals 5-8'!A:C,3,0)","v":3248},38202087.587277301,0]
[1741,261737850.34719247,{"$f":"'Tax Sched 24'!F14","v":261737850.3471925},0,"OK",259551408.34719247,-4.76837158203125E-7,null,21202,259572610.34719247,null,259572610.34719247,null,0,0,{"$f":"VLOOKUP(A1748,'Data Pull totals 5-8'!A:C,3,0)","v":2165240},261737850.34719247,0]
[1742,0,null,0,"OK",0,0,null,0,0,null,0,null,0,0,0,0,0]
[1743,0,{"$f":"'Tax Sched 24'!F15","v":0},0,"OK",0,0,null,0,0,null,0,null,0,0,0,0,0]
[1744,0,null,0,"OK",0,0,null,0,0,null,0,null,0,0,0,0,0]
[1745,0,null,0,"OK",0,0,null,0,0,null,0,null,0,0,0,0,0]
[1746,8558672784.0455084,{"$f":"'Tax Sched 24'!F19","v":8558672784.0455112},0,{"$f":"IF((D1753 = 0),\"OK\",IF((D1753<-5),\"CHECK ME!\",IF((D1753>5),\"Check Me!\",\"OK\")))","v":"OK"},8527200103.0455084,1.9073486328125E-6,null,5741962,8532942065.0455084,null,8532942065.0455084,null,0,0,{"$f":"VLOOKUP(A1753,'Data Pull totals 5-8'!A:C,3,0)","v":25730719},8558672784.0455084,0]
[1747,12225946897.74826,{"$f":"'Tax Sched 24'!E4","v":12225946897.74826},0,"OK",12199691261.74826,4.00543212890625E-5,null,1824000,12201515261.74826,null,12201515261.74826,null,0,0,{"$f":"VLOOKUP(A1754,'Data Pull totals 5-8'!A:C,3,0)","v":24431636},12225946897.74826,0]
[1748,1560107329.4157414,{"$f":"'Tax Sched 24'!E5","v":1560107329.4157414},0,"OK",1555309961.4157414,-1.430511474609375E-6,null,477487,1555787448.4157414,null,1555787448.4157414,null,0,0,{"$f":"VLOOKUP(A1755,'Data Pull totals 5-8'!A:C,3,0)","v":4319881},1560107329.4157414,0]
[1749,1583369140.3645461,{"$f":"'Tax Sched 24'!E6","v":1583369140.3645461},0,"OK",1569725482.3645461,4.0531158447265625E-6,null,1650959,1571376441.3645461,null,1571376441.3645461,null,0,0,{"$f":"VLOOKUP(A1756,'Data Pull totals 5-8'!A:C,3,0)","v":11992699},1583369140.3645461,0]
[1750,601341332.55578566,{"$f":"'Tax Sched 24'!E7","v":601341332.55578566},0,"OK",597194599.55578566,-7.152557373046875E-7,null,190995,597385594.55578566,null,597385594.55578566,null,0,0,{"$f":"VLOOKUP(A1757,'Data Pull totals 5-8'!A:C,3,0)","v":3955738},601341332.55578566,0]
[1751,272397352.91204202,{"$f":"'Tax Sched 24'!E8","v":272397352.91204202},0,"OK",270812373.91204202,0,null,623311,271435684.91204202,null,271435684.91204202,null,0,0,{"$f":"VLOOKUP(A1758,'Data Pull totals 5-8'!A:C,3,0)","v":961668},272397352.91204202,0]
[1752,68597465.493277282,{"$f":"'Tax Sched 24'!E10","v":68597465.493277282},0,"OK",68380838.493277282,1.4901161193847656E-8,null,47749,68428587.493277282,null,68428587.493277282,null,0,0,{"$f":"VLOOKUP(A1759,'Data Pull totals 5-8'!A:C,3,0)","v":168878},68597465.493277282,0]
[1753,0,null,0,"OK",0,0,null,0,0,null,0,null,0,0,0,0,0]
[1754,9059419,{"$f":"'Tax Sched 24'!E9","v":9059419},0,"OK",9059419,0,null,0,9059419,null,9059419,null,0,0,{"$f":"VLOOKUP(A1761,'Data Pull totals 5-8'!A:C,3,0)","v":0},9059419,0]
[1755,334827160.96277601,{"$f":"'Tax Sched 24'!E11","v":334827160.96277601},0,"OK",331020443.96277601,0,null,3806717,334827160.96277601,null,334827160.96277601,null,0,0,{"$f":"VLOOKUP(A1762,'Data Pull totals 5-8'!A:C,3,0)","v":0},334827160.96277601,0]
[1756,55378013.137277298,{"$f":"'Tax Sched 24'!E12","v":55378013.137277298},0,"OK",55323814.137277298,0,null,47749,55371563.137277298,null,55371563.137277298,null,0,0,{"$f":"VLOOKUP(A1763,'Data Pull totals 5-8'!A:C,3,0)","v":6450},55378013.137277298,0]
[1757,497264366.02719253,{"$f":"'Tax Sched 24'!E14","v":497264366.02719253},0,"OK",492926223.02719253,4.76837158203125E-7,null,38199,492964422.02719253,null,492964422.02719253,null,0,0,{"$f":"VLOOKUP(A1764,'Data Pull totals 5-8'!A:C,3,0)","v":4299944},497264366.02719253,0]
[1758,0,null,0,"OK",0,0,null,0,0,null,0,null,0,0,0,0,0]
[1759,0,{"$f":"'Tax Sched 24'!E15","v":0},0,"OK",0,0,null,0,0,null,0,null,0,0,0,0,0]
[1760,0,null,0,"OK",0,0,null,0,0,null,0,null,0,0,0,0,0]
[1761,0,null,0,"OK",0,0,null,0,0,null,0,null,0,0,0,0,0]
[1762,17968765928.535511,{"$f":"'Tax Sched 24'!E19","v":17968765928.535511},0,"OK",17907322420.535511,-1.1444091796875E-5,null,10344946,17917667366.535511,null,17917667366.535511,null,0,0,{"$f":"VLOOKUP(A1769,'Data Pull totals 5-8'!A:C,3,0)","v":51098562},17968765928.535511,0]
[1763,0,null,{"$f":"B1770-C1770","v":0},"OK",0,0,null,0,0,null,0,null,0,0,0,0,0]
[1764,16924218,{"$f":"'Short-Term Long-Term Debt 25'!C6","v":16924218},0,"OK",16924218,0,null,0,16924218,null,16924218,null,0,0,{"$f":"VLOOKUP(A1771,'Data Pull totals 5-8'!A:C,3,0)","v":0},16924218,0]
[1765,4000000,{"$f":"'Short-Term Long-Term Debt 25'!C7","v":4000000},0,"OK",4000000,0,null,0,4000000,null,4000000,null,0,0,{"$f":"VLOOKUP(A1772,'Data Pull totals 5-8'!A:C,3,0)","v":0},4000000,0]
[1766,0,{"$f":"'Short-Term Long-Term Debt 25'!C12","v":0},0,"OK",0,0,null,0,0,null,0,null,0,0,0,0,0]
[1767,1000000,{"$f":"'Short-Term Long-Term Debt 25'!C11","v":1000000},0,"OK",1000000,0,null,0,1000000,null,1000000,null,0,0,{"$f":"VLOOKUP(A1774,'Data Pull totals 5-8'!A:C,3,0)","v":0},1000000,0]
[1768,0,{"$f":"'Short-Term Long-Term Debt 25'!C8","v":0},0,"OK",0,0,null,0,0,null,0,null,0,0,0,0,0]
[1769,0,{"$f":"'Short-Term Long-Term Debt 25'!C9","v":0},0,"OK",0,0,null,0,0,null,0,null,0,0,0,0,0]
[1770,0,{"$f":"'Short-Term Long-Term Debt 25'!C10","v":0},0,"OK",0,0,null,0,0,null,0,null,0,0,0,0,0]
[1771,0,{"$f":"'Short-Term Long-Term Debt 25'!C14","v":0},0,"OK",0,0,null,0,0,null,0,null,0,0,0,0,0]
[1772,21924218,{"$f":"'Short-Term Long-Term Debt 25'!C15","v":21924218},0,"OK",21924218,0,null,0,21924218,null,21924218,null,0,0,{"$f":"VLOOKUP(A1779,'Data Pull totals 5-8'!A:C,3,0)","v":0},21924218,0]
[1773,958017900,{"$f":"'Short-Term Long-Term Debt 25'!C17","v":958017900},0,"OK",958017900,0,null,0,958017900,null,958017900,null,0,0,{"$f":"VLOOKUP(A1780,'Data Pull totals 5-8'!A:C,3,0)","v":0},958017900,0]
[1774,50000,{"$f":"'Short-Term Long-Term Debt 25'!C18","v":50000},0,"OK",50000,0,null,0,50000,null,50000,null,0,0,{"$f":"VLOOKUP(A1781,'Data Pull totals 5-8'!A:C,3,0)","v":0},50000,0]
[1775,0,{"$f":"'Short-Term Long-Term Debt 25'!C20","v":0},0,"OK",0,0,null,0,0,null,0,null,0,0,0,0,0]
[1776,958067900,{"$f":"'Short-Term Long-Term Debt 25'!C21","v":958067900},0,"OK",958067900,0,null,0,958067900,null,958067900,null,0,0,{"$f":"VLOOKUP(A1783,'Data Pull totals 5-8'!A:C,3,0)","v":0},958067900,0]
[1777,0,{"$f":"'Short-Term Long-Term Debt 25'!C23","v":0},0,"OK",0,0,null,0,0,null,0,null,0,0,0,0,0]
[1778,80200000,{"$f":"'Short-Term Long-Term Debt 25'!D6","v":80200000},0,"OK",80200000,0,null,0,80200000,null,80200000,null,0,0,{"$f":"VLOOKUP(A1785,'Data Pull totals 5-8'!A:C,3,0)","v":0},80200000,0]
[1779,200350,{"$f":"'Short-Term Long-Term Debt 25'!D7","v":200350},0,"OK",200350,0,null,0,200350,null,200350,null,0,0,{"$f":"VLOOKUP(A1786,'Data Pull totals 5-8'!A:C,3,0)","v":0},200350,0]
[1780,0,{"$f":"'Short-Term Long-Term Debt 25'!D12","v":0},0,"OK",0,0,null,0,0,null,0,null,0,0,0,0,0]
[1781,1000000,{"$f":"'Short-Term Long-Term Debt 25'!D11","v":1000000},0,"OK",1000000,0,null,0,1000000,null,1000000,null,0,0,{"$f":"VLOOKUP(A1788,'Data Pull totals 5-8'!A:C,3,0)","v":0},1000000,0]
[1782,0,{"$f":"'Short-Term Long-Term Debt 25'!D8","v":0},0,"OK",0,0,null,0,0,null,0,null,0,0,0,0,0]
[1783,0,{"$f":"'Short-Term Long-Term Debt 25'!D9","v":0},0,"OK",0,0,null,0,0,null,0,null,0,0,0,0,0]
[1784,0,{"$f":"'Short-Term Long-Term Debt 25'!D10","v":0},0,"OK",0,0,null,0,0,null,0,null,0,0,0,0,0]
[1785,0,{"$f":"'Short-Term Long-Term Debt 25'!D14","v":0},0,"OK",0,0,null,0,0,null,0,null,0,0,0,0,0]
[1786,81400350,{"$f":"'Short-Term Long-Term Debt 25'!D15","v":81400350},0,"OK",81400350,0,null,0,81400350,null,81400350,null,0,0,{"$f":"VLOOKUP(A1793,'Data Pull totals 5-8'!A:C,3,0)","v":0},81400350,0]
[1787,1206439050,{"$f":"'Short-Term Long-Term Debt 25'!D17","v":1206439050},0,"OK",1206439050,0,null,0,1206439050,null,1206439050,null,0,0,{"$f":"VLOOKUP(A1794,'Data Pull totals 5-8'!A:C,3,0)","v":0},1206439050,0]
[1788,80000,{"$f":"'Short-Term Long-Term Debt 25'!D18","v":80000},0,"OK",80000,0,null,0,80000,null,80000,null,0,0,{"$f":"VLOOKUP(A1795,'Data Pull totals 5-8'!A:C,3,0)","v":0},80000,0]
[1789,0,{"$f":"'Short-Term Long-Term Debt 25'!D20","v":0},0,"OK",0,0,null,0,0,null,0,null,0,0,0,0,0]
[1790,1206519050,{"$f":"'Short-Term Long-Term Debt 25'!D21","v":1206519050},0,"OK",1206519050,0,null,0,1206519050,null,1206519050,null,0,0,{"$f":"VLOOKUP(A1797,'Data Pull totals 5-8'!A:C,3,0)","v":0},1206519050,0]
[1791,0,{"$f":"'Short-Term Long-Term Debt 25'!D23","v":0},0,"OK",0,0,null,0,0,null,0,null,0,0,0,0,0]
[1792,87024218,{"$f":"'Short-Term Long-Term Debt 25'!E6","v":87024218},0,"OK",87024218,0,null,0,87024218,null,87024218,null,0,0,{"$f":"VLOOKUP(A1799,'Data Pull totals 5-8'!A:C,3,0)","v":0},87024218,0]
[1793,4100000,{"$f":"'Short-Term Long-Term Debt 25'!E7","v":4100000},0,{"$f":"IF((D1800 = 0),\"OK\",IF((D1800<-5),\"CHECK ME!\",IF((D1800>5),\"Check Me!\",\"OK\")))","v":"OK"},4100000,0,null,0,4100000,null,4100000,null,0,0,{"$f":"VLOOKUP(A1800,'Data Pull totals 5-8'!A:C,3,0)","v":0},4100000,0]
[1794,0,{"$f":"'Short-Term Long-Term Debt 25'!E12","v":0},0,"OK",0,0,null,0,0,null,0,null,0,0,0,0,0]
[1795,1000000,{"$f":"'Short-Term Long-Term Debt 25'!E11","v":1000000},0,"OK",1000000,0,null,0,1000000,null,1000000,null,0,0,{"$f":"VLOOKUP(A1802,'Data Pull totals 5-8'!A:C,3,0)","v":0},1000000,0]
[1796,0,{"$f":"'Short-Term Long-Term Debt 25'!E8","v":0},0,"OK",0,0,null,0,0,null,0,null,0,0,0,0,0]
[1797,0,{"$f":"'Short-Term Long-Term Debt 25'!E9","v":0},0,"OK",0,0,null,0,0,null,0,null,{"$f":"SUM(J1804-L1804)","v":0},0,0,0,{"$f":"SUM(L1804+P1804-Q1804)","v":0}]
[1798,0,{"$f":"'Short-Term Long-Term Debt 25'!E10","v":0},0,"OK",0,0,null,0,0,null,0,null,0,0,0,0,0]
[1799,0,{"$f":"'Short-Term Long-Term Debt 25'!E14","v":0},0,"OK",0,0,null,0,0,null,0,null,0,0,0,0,0]
[1800,92124218,{"$f":"'Short-Term Long-Term Debt 25'!E15","v":92124218},0,"OK",92124218,0,null,0,92124218,null,92124218,null,0,0,{"$f":"VLOOKUP(A1807,'Data Pull totals 5-8'!A:C,3,0)","v":0},92124218,0]
[1801,1558106900,{"$f":"'Short-Term Long-Term Debt 25'!E17","v":1558106900},0,"OK",1558106900,0,null,0,1558106900,null,1558106900,null,0,0,{"$f":"VLOOKUP(A1808,'Data Pull totals 5-8'!A:C,3,0)","v":0},1558106900,0]
[1802,50000,{"$f":"'Short-Term Long-Term Debt 25'!E18","v":50000},0,"OK",50000,0,null,0,50000,null,50000,null,0,0,{"$f":"VLOOKUP(A1809,'Data Pull totals 5-8'!A:C,3,0)","v":0},50000,0]
[1803,0,{"$f":"'Short-Term Long-Term Debt 25'!E20","v":0},0,"OK",0,0,null,0,0,null,0,null,0,0,0,0,0]
[1804,1558156900,{"$f":"'Short-Term Long-Term Debt 25'!E21","v":1558156900},0,"OK",1558156900,0,null,0,1558156900,null,1558156900,null,0,0,{"$f":"VLOOKUP(A1811,'Data Pull totals 5-8'!A:C,3,0)","v":0},1558156900,0]
[1805,0,{"$f":"'Short-Term Long-Term Debt 25'!E23","v":0},0,"OK",0,0,null,0,0,null,0,null,0,0,0,0,0]
[1806,10100000,{"$f":"'Short-Term Long-Term Debt 25'!F6","v":10100000},0,"OK",10100000,0,null,0,10100000,null,10100000,null,0,0,{"$f":"VLOOKUP(A1813,'Data Pull totals 5-8'!A:C,3,0)","v":0},10100000,0]
[1807,100350,{"$f":"'Short-Term Long-Term Debt 25'!F7","v":100350},0,"OK",100350,0,null,0,100350,null,100350,null,0,0,{"$f":"VLOOKUP(A1814,'Data Pull totals 5-8'!A:C,3,0)","v":0},100350,0]
[1808,0,{"$f":"'Short-Term Long-Term Debt 25'!F12","v":0},0,"OK",0,0,null,0,0,null,0,null,0,0,0,0,0]
[1809,1000000,{"$f":"'Short-Term Long-Term Debt 25'!F11","v":1000000},0,"OK",1000000,0,null,0,1000000,null,1000000,null,0,0,{"$f":"VLOOKUP(A1816,'Data Pull totals 5-8'!A:C,3,0)","v":0},1000000,0]
[1810,0,{"$f":"'Short-Term Long-Term Debt 25'!F8","v":0},0,"OK",0,0,null,0,0,null,0,null,0,0,0,0,0]
[1811,0,{"$f":"'Short-Term Long-Term Debt 25'!F9","v":0},0,"OK",0,0,null,0,0,null,0,null,0,0,0,0,0]
[1812,0,{"$f":"'Short-Term Long-Term Debt 25'!F10","v":0},0,"OK",0,0,null,0,0,null,0,null,0,0,0,0,0]
[1813,0,{"$f":"'Short-Term Long-Term Debt 25'!F14","v":0},0,"OK",0,0,null,0,0,null,0,null,0,0,0,0,0]
[1814,11200350,{"$f":"'Short-Term Long-Term Debt 25'!F15","v":11200350},0,"OK",11200350,0,null,0,11200350,null,11200350,null,0,0,{"$f":"VLOOKUP(A1821,'Data Pull totals 5-8'!A:C,3,0)","v":0},11200350,0]
[1815,606350050,{"$f":"'Short-Term Long-Term Debt 25'!F17","v":606350050},0,"OK",606350050,0,null,0,606350050,null,606350050,null,0,0,{"$f":"VLOOKUP(A1822,'Data Pull totals 5-8'!A:C,3,0)","v":0},606350050,0]
[1816,80000,{"$f":"'Short-Term Long-Term Debt 25'!F18","v":80000},0,"OK",80000,0,null,0,80000,null,80000,null,0,0,{"$f":"VLOOKUP(A1823,'Data Pull totals 5-8'!A:C,3,0)","v":0},80000,0]
[1817,0,{"$f":"'Short-Term Long-Term Debt 25'!F20","v":0},0,"OK",0,0,null,0,0,null,0,null,0,0,0,0,0]
[1818,606430050,{"$f":"'Short-Term Long-Term Debt 25'!F21","v":606430050},0,"OK",606430050,0,null,0,606430050,null,606430050,null,0,0,{"$f":"VLOOKUP(A1825,'Data Pull totals 5-8'!A:C,3,0)","v":0},606430050,0]
[1819,0,{"$f":"'Short-Term Long-Term Debt 25'!F23","v":0},0,"OK",0,0,null,0,0,null,0,null,0,0,0,0,0]
[1820,0,null,0,"OK",0,0,null,0,0,null,0,null,0,0,0,0,0]
[1821,0,null,0,"OK",0,0,null,0,0,null,0,null,0,0,0,0,0]
[1822,0,null,0,"OK",0,0,null,0,0,null,0,null,0,0,0,0,0]
[1823,0,null,0,"OK",0,0,null,0,0,null,0,null,0,0,0,0,0]
[1824,0,null,0,"OK",0,0,null,0,0,null,0,null,0,0,0,0,0]
[1825,0,null,0,"OK",0,0,null,0,0,null,0,null,0,0,0,0,0]
[1826,0,null,0,"OK",0,0,null,0,0,null,0,null,0,0,0,0,0]
[1827,0,null,{"$f":"B1834-C1834","v":0},"OK",0,0,null,0,0,null,0,null,0,0,0,0,0]
[1828,0,null,0,"OK",0,0,null,0,0,null,0,null,0,0,0,0,0]
[1829,0,null,0,"OK",0,0,null,0,0,null,0,null,0,0,0,0,0]
[1830,0,null,0,"OK",0,0,null,0,0,null,0,null,0,0,0,0,0]
[1831,0,null,0,"OK",0,0,null,0,0,null,0,null,0,0,0,0,0]
[1832,0,null,0,"OK",0,0,null,0,0,null,0,null,0,0,0,0,0]
[1833,0,null,0,"OK",0,0,null,0,0,null,0,null,0,0,0,0,0]
[1834,0,null,0,"OK",0,0,null,0,0,null,0,null,0,0,0,0,0]
[1835,0,null,0,"OK",0,0,null,0,0,null,0,null,0,0,0,0,0]
[1836,0,null,0,"OK",0,0,null,0,0,null,0,null,0,0,0,0,0]
[1837,0,null,0,"OK",0,0,null,0,0,null,0,null,0,0,0,0,0]
[1838,0,null,0,"OK",0,0,null,0,0,null,0,null,0,0,0,0,0]
[1839,0,null,0,"OK",0,0,null,0,0,null,0,null,0,0,0,0,0]
[1840,0,null,0,"OK",0,0,null,0,0,null,0,null,0,0,0,0,0]
[1841,0,null,0,"OK",0,0,null,0,0,null,0,null,0,0,0,0,0]
[1842,0,null,0,"OK",0,0,null,0,0,null,0,null,0,0,0,0,0]
[1843,0,null,0,"OK",0,0,null,0,0,null,0,null,0,0,0,0,0]
[1844,0,null,0,"OK",0,0,null,0,0,null,0,null,0,0,0,0,0]
[1845,0,null,0,"OK",0,0,null,0,0,null,0,null,0,0,0,0,0]
[1846,0,null,0,"OK",0,0,null,0,0,null,0,null,0,0,0,0,0]
[1847,0,null,0,"OK",0,0,null,0,0,null,0,null,0,0,0,0,0]
[1848,0,null,0,"OK",0,0,null,0,0,null,0,null,0,0,0,0,0]
[1849,0,null,0,"OK",0,0,null,0,0,null,0,null,0,0,0,0,0]
[1850,0,null,0,"OK",0,0,null,0,0,null,0,null,0,0,0,0,0]
[1851,0,null,0,"OK",0,0,null,0,0,null,0,null,0,0,0,0,0]
[1852,0,null,0,"OK",0,0,null,0,0,null,0,null,0,0,0,0,0]
[1853,0,null,0,"OK",0,0,null,0,0,null,0,null,0,0,0,0,0]
[1854,0,null,0,"OK",0,0,null,0,0,null,0,null,0,0,0,0,0]
[1855,0,null,0,"OK",0,0,null,0,0,null,0,null,0,0,0,0,0]
[1856,0,null,0,"OK",0,0,null,0,0,null,0,null,0,0,0,0,0]
[1857,0,null,0,{"$f":"IF((D1864 = 0),\"OK\",IF((D1864<-5),\"CHECK ME!\",IF((D1864>5),\"Check Me!\",\"OK\")))","v":"OK"},0,0,null,0,0,null,0,null,0,0,0,0,0]
[1858,0,null,0,"OK",0,0,null,0,0,null,0,null,0,0,0,0,0]
[1859,0,null,0,"OK",0,0,null,0,0,null,0,null,0,0,0,0,0]
[1860,0,null,0,"OK",0,0,null,0,0,null,0,null,0,0,0,0,0]
[1861,0,null,0,"OK",0,0,null,0,0,null,0,null,{"$f":"SUM(J1868-L1868)","v":0},0,0,0,{"$f":"SUM(L1868+P1868-Q1868)","v":0}]
[1862,0,null,0,"OK",0,0,null,0,0,null,0,null,0,0,0,0,0]
[1863,0,null,0,"OK",0,0,null,0,0,null,0,null,0,0,0,0,0]
[1864,0,null,0,"OK",0,0,null,0,0,null,0,null,0,0,0,0,0]
[1865,0,null,0,"OK",0,0,null,0,0,null,0,null,0,0,0,0,0]
[1866,0,null,0,"OK",0,0,null,0,0,null,0,null,0,0,0,0,0]
[1867,0,null,0,"OK",0,0,null,0,0,null,0,null,0,0,0,0,0]
[1868,0,null,0,"OK",0,0,null,0,0,null,0,null,0,0,0,0,0]
[1869,0,null,0,"OK",0,0,null,0,0,null,0,null,0,0,0,0,0]
[1870,0,null,0,"OK",0,0,null,0,0,null,0,null,0,0,0,0,0]
[1871,0,null,0,"OK",0,0,null,0,0,null,0,null,0,0,0,0,0]
[1872,0,null,0,"OK",0,0,null,0,0,null,0,null,0,0,0,0,0]
[1873,0,null,0,"OK",0,0,null,0,0,null,0,null,0,0,0,0,0]
[1874,0,null,0,"OK",0,0,null,0,0,null,0,null,0,0,0,0,0]
[1875,0,null,0,"OK",0,0,null,0,0,null,0,null,0,0,0,0,0]
[1876,0,null,0,"OK",0,0,null,0,0,null,0,null,0,0,0,0,0]
[1877,0,null,0,"OK",0,0,null,0,0,null,0,null,0,0,0,0,0]
[1878,21070770001,{"$f":"'Short-Term Long-Term Debt 25'!E49","v":21070770001},0,"OK",20938705712,0,null,33400000,20972105712,null,20972105712,null,0,0,{"$f":"VLOOKUP(A1885,'Data Pull totals 5-8'!A:C,3,0)","v":98664289},21070770001,0]
[1879,4112600847,{"$f":"'Short-Term Long-Term Debt 25'!F49","v":4112600847},0,"OK",4112600847,0,null,0,4112600847,null,4112600847,null,0,0,{"$f":"VLOOKUP(A1886,'Data Pull totals 5-8'!A:C,3,0)","v":0},4112600847,0]
[1880,0,null,0,"OK",0,0,null,0,0,null,0,null,0,0,0,0,0]
[1881,0,null,0,"OK",0,0,null,0,0,null,0,null,0,0,0,0,0]
[1882,0,null,0,"OK",0,0,null,0,0,null,0,null,0,0,0,0,0]
[1883,0,null,0,"OK",0,0,null,0,0,null,0,null,0,0,0,0,0]
[1884,0,null,0,"OK",0,0,null,0,0,null,0,null,0,0,0,0,0]
[1885,0,null,0,"OK",0,0,null,0,0,null,0,null,0,0,0,0,0]
[1886,0,null,0,"OK",0,0,null,0,0,null,0,null,0,0,0,0,0]
[1887,892197,{"$f":"'Rest Tax Levies-Tort Im 26'!G3","v":892197},0,"OK",892197,0,null,0,892197,null,892197,null,0,0,{"$f":"VLOOKUP(A1894,'Data Pull totals 5-8'!A:C,3,0)","v":0},892197,0]
[1888,0,null,0,"OK",0,0,null,0,0,null,0,null,0,0,0,0,0]
[1889,158,{"$f":"'Rest Tax Levies-Tort Im 26'!G6","v":158},0,"OK",158,0,null,0,158,null,158,null,0,0,{"$f":"VLOOKUP(A1896,'Data Pull totals 5-8'!A:C,3,0)","v":0},158,0]
[1890,0,{"$f":"'Rest Tax Levies-Tort Im 26'!G8","v":0},0,"OK",0,0,null,0,0,null,0,null,0,0,0,0,0]
[1891,0,{"$f":"'Rest Tax Levies-Tort Im 26'!G9","v":0},{"$f":"B1898-C1898","v":0},"OK",0,0,null,0,0,null,0,null,0,0,0,0,0]
[1892,158,{"$f":"'Rest Tax Levies-Tort Im 26'!G12","v":158},0,"OK",158,0,null,0,158,null,158,null,0,0,{"$f":"VLOOKUP(A1899,'Data Pull totals 5-8'!A:C,3,0)","v":0},158,0]
[1893,0,{"$f":"'Rest Tax Levies-Tort Im 26'!G11","v":0},0,"OK",0,0,null,0,0,null,0,null,0,0,0,0,0]
[1894,99977,{"$f":"'Rest Tax Levies-Tort Im 26'!G16","v":99977},0,"OK",99977,0,null,0,99977,null,99977,null,0,0,{"$f":"VLOOKUP(A1901,'Data Pull totals 5-8'!A:C,3,0)","v":0},99977,0]
[1895,0,null,0,"OK",0,0,null,0,0,null,0,null,0,0,0,0,0]
[1896,99977,{"$f":"'Rest Tax Levies-Tort Im 26'!G23","v":99977},0,"OK",99977,0,null,0,99977,null,99977,null,0,0,{"$f":"VLOOKUP(A1903,'Data Pull totals 5-8'!A:C,3,0)","v":0},99977,0]
[1897,792378,{"$f":"'Rest Tax Levies-Tort Im 26'!G24","v":792378},0,"OK",792378,0,null,0,792378,null,792378,null,0,0,{"$f":"VLOOKUP(A1904,'Data Pull totals 5-8'!A:C,3,0)","v":0},792378,0]
[1898,0,null,0,"OK",0,0,null,0,0,null,0,null,0,0,0,0,0]
[1899,0,null,0,"OK",0,0,null,0,0,null,0,null,0,0,0,0,0]
[1900,0,null,0,"OK",0,0,null,0,0,null,0,null,0,0,0,0,0]
[1901,0,null,0,"OK",0,0,null,0,0,null,0,null,0,0,0,0,0]
[1902,0,null,0,"OK",0,0,null,0,0,null,0,null,0,0,0,0,0]
[1903,0,null,0,"OK",0,0,null,0,0,null,0,null,0,0,0,0,0]
[1904,0,null,0,"OK",0,0,null,0,0,null,0,null,0,0,0,0,0]
[1905,0,null,0,"OK",0,0,null,0,0,null,0,null,0,0,0,0,0]
[1906,0,null,0,"OK",0,0,null,0,0,null,0,null,0,0,0,0,0]
[1907,0,null,0,"OK",0,0,null,0,0,null,0,null,0,0,0,0,0]
[1908,0,null,0,"OK",0,0,null,0,0,null,0,null,0,0,0,0,0]
[1909,0,null,0,"OK",0,0,null,0,0,null,0,null,0,0,0,0,0]
[1910,2437794,{"$f":"'Rest Tax Levies-Tort Im 26'!H3","v":2437794},0,"OK",2437794,0,null,0,2437794,null,2437794,null,0,0,{"$f":"VLOOKUP(A1917,'Data Pull totals 5-8'!A:C,3,0)","v":0},2437794,0]
[1911,465361192.52999997,{"$f":"'Rest Tax Levies-Tort Im 26'!H5","v":465361192.52999997},0,"OK",465327006.52999997,0,null,34186,465361192.52999997,null,465361192.52999997,null,0,0,{"$f":"VLOOKUP(A1918,'Data Pull totals 5-8'!A:C,3,0)","v":0},465361192.52999997,0]
[1912,5223386.0999999996,{"$f":"'Rest Tax Levies-Tort Im 26'!H6","v":5223386.0999999996},0,"OK",1010592.1,0,null,0,1010592.1,null,1010592.1,null,0,0,{"$f":"VLOOKUP(A1919,'Data Pull totals 5-8'!A:C,3,0)","v":4212794},5223386.0999999996,0]
[1913,2509732,{"$f":"'Rest Tax Levies-Tort Im 26'!H10","v":2509732},0,"OK",2509732,0,null,0,2509732,null,2509732,null,0,0,{"$f":"VLOOKUP(A1920,'Data Pull totals 5-8'!A:C,3,0)","v":0},2509732,0]
[1914,0,null,0,"OK",0,0,null,0,0,null,0,null,0,0,0,0,0]
[1915,0,{"$f":"'Rest Tax Levies-Tort Im 26'!H9","v":0},0,"OK",0,0,null,0,0,null,0,null,0,0,0,0,0]
[1916,473094310.63,{"$f":"'Rest Tax Levies-Tort Im 26'!H12","v":473094310.63},0,"OK",468847330.63,0,null,34186,468881516.63,null,468881516.63,null,0,0,{"$f":"VLOOKUP(A1923,'Data Pull totals 5-8'!A:C,3,0)","v":4212794},473094310.63,0]
[1917,0,null,0,"OK",0,0,null,0,0,null,0,null,0,0,0,0,0]
[1918,1902417,{"$f":"'Rest Tax Levies-Tort Im 26'!H15","v":1902417},0,"OK",1902417,0,null,0,1902417,null,1902417,null,0,0,{"$f":"VLOOKUP(A1925,'Data Pull totals 5-8'!A:C,3,0)","v":0},1902417,0]
[1919,14237679,{"$f":"'Rest Tax Levies-Tort Im 26'!H22","v":14237679},0,"OK",14237679,0,null,0,14237679,null,14237679,null,0,0,{"$f":"VLOOKUP(A1926,'Data Pull totals 5-8'!A:C,3,0)","v":0},14237679,0]
[1920,0,null,0,"OK",0,0,null,0,0,null,0,null,0,0,0,0,0]
[1921,470042159.52999997,{"$f":"'Rest Tax Levies-Tort Im 26'!H23","v":470042159.52999997},0,{"$f":"IF((D1928 = 0),\"OK\",IF((D1928<-5),\"CHECK ME!\",IF((D1928>5),\"Check Me!\",\"OK\")))","v":"OK"},465795179.52999997,0,null,34186,465829365.52999997,null,465829365.52999997,null,0,0,{"$f":"VLOOKUP(A1928,'Data Pull totals 5-8'!A:C,3,0)","v":4212794},470042159.52999997,0]
[1922,5489945.1000000015,{"$f":"'Rest Tax Levies-Tort Im 26'!H24","v":5489945.1000000238},-2.2351741790771484E-8,"OK",5489945.1000000015,-1.862645149230957E-9,null,0,5489945.1000000015,null,5489945.1000000015,null,0,0,{"$f":"VLOOKUP(A1929,'Data Pull totals 5-8'!A:C,3,0)","v":0},5489945.1000000015,0]
[1923,0,{"$f":"'Rest Tax Levies-Tort Im 26'!I3","v":0},0,"OK",0,0,null,0,0,null,0,null,0,0,0,0,0]
[1924,0,{"$f":"'Rest Tax Levies-Tort Im 26'!I5","v":0},0,"OK",0,0,null,0,0,null,0,null,0,0,0,0,0]
[1925,0,{"$f":"'Rest Tax Levies-Tort Im 26'!I6","v":0},0,"OK",0,0,null,0,0,null,0,null,{"$f":"SUM(J1932-L1932)","v":0},0,0,0,{"$f":"SUM(L1932+P1932-Q1932)","v":0}]
[1926,0,{"$f":"'Rest Tax Levies-Tort Im 26'!I11","v":0},0,"OK",0,0,null,0,0,null,0,null,0,0,0,0,0]
[1927,0,{"$f":"'Rest Tax Levies-Tort Im 26'!I10","v":0},0,"OK",0,0,null,0,0,null,0,null,0,0,0,0,0]
[1928,0,null,0,"OK",0,0,null,0,0,null,0,null,0,0,0,0,0]
[1929,0,{"$f":"'Rest Tax Levies-Tort Im 26'!I12","v":0},0,"OK",0,0,null,0,0,null,0,null,0,0,0,0,0]
[1930,0,null,0,"OK",0,0,null,0,0,null,0,null,0,0,0,0,0]
[1931,0,{"$f":"'Rest Tax Levies-Tort Im 26'!I15","v":0},0,"OK",0,0,null,0,0,null,0,null,0,0,0,0,0]
[1932,0,{"$f":"'Rest Tax Levies-Tort Im 26'!I22","v":0},0,"OK",0,0,null,0,0,null,0,null,0,0,0,0,0]
[1933,0,null,0,"OK",0,0,null,0,0,null,0,null,0,0,0,0,0]
[1934,0,{"$f":"'Rest Tax Levies-Tort Im 26'!I23","v":0},0,"OK",0,0,null,0,0,null,0,null,0,0,0,0,0]
[1935,0,{"$f":"'Rest Tax Levies-Tort Im 26'!I24","v":0},0,"OK",0,0,null,0,0,null,0,null,0,0,0,0,0]
[1936,0,null,0,"OK",0,0,null,0,0,null,0,null,0,0,0,0,0]
[1937,0,null,0,"OK",0,0,null,0,0,null,0,null,0,0,0,0,0]
[1938,0,null,0,"OK",0,0,null,0,0,null,0,null,0,0,0,0,0]
[1939,0,null,0,"OK",0,0,null,0,0,null,0,null,0,0,0,0,0]
[1940,0,null,0,"OK",0,0,null,0,0,null,0,null,0,0,0,0,0]
[1941,0,null,0,"OK",0,0,null,0,0,null,0,null,0,0,0,0,0]
[1942,0,null,0,"OK",0,0,null,0,0,null,0,null,0,0,0,0,0]
[1943,0,null,0,"OK",0,0,null,0,0,null,0,null,0,0,0,0,0]
[1944,0,null,0,"OK",0,0,null,0,0,null,0,null,0,0,0,0,0]
[1945,0,null,0,"OK",0,0,null,0,0,null,0,null,0,0,0,0,0]
[1946,0,null,0,"OK",0,0,null,0,0,null,0,null,0,0,0,0,0]
[1947,1268868459.05,{"$f":"'Cap Outlay Deprec 27'!C5","v":1268868459.05},0,"OK",1265561924.05,0,null,815300,1266377224.05,null,1266377224.05,null,0,0,{"$f":"VLOOKUP(A1954,'Data Pull totals 5-8'!A:C,3,0)","v":2491235},1268868459.05,0]
[1948,40453047292.32,{"$f":"'Cap Outlay Deprec 27'!C8","v":40453047292.32},0,"OK",40127099077.32,0,null,214554508,40341653585.32,null,40341653585.32,null,0,0,{"$f":"VLOOKUP(A1955,'Data Pull totals 5-8'!A:C,3,0)","v":111393707},40453047292.32,0]
[1949,2168632932.3800001,{"$f":"'Cap Outlay Deprec 27'!C10","v":2168632932.3800001},0,"OK",2159905182.3800001,0,null,4604112,2164509294.3800001,null,2164509294.3800001,null,0,0,{"$f":"VLOOKUP(A1956,'Data Pull totals 5-8'!A:C,3,0)","v":4123638},2168632932.3800001,0]
[1950,3252357949.3200002,{"$f":"'Cap Outlay Deprec 27'!C12","v":3252357949.3200002},0,"OK",3231843279.3200002,0,null,20514670,3252357949.3200002,null,3252357949.3200002,null,0,0,{"$f":"VLOOKUP(A1957,'Data Pull totals 5-8'!A:C,3,0)","v":0},3252357949.3200002,0]
[1951,981688584.38999999,{"$f":"'Cap Outlay Deprec 27'!C13","v":981688584.38999999},0,"OK",978673734.38999999,0,null,0,978673734.38999999,null,978673734.38999999,null,0,0,{"$f":"VLOOKUP(A1958,'Data Pull totals 5-8'!A:C,3,0)","v":3014850},981688584.38999999,0]
[1952,49309169297.650002,{"$f":"'Cap Outlay Deprec 27'!C16","v":49309169297.650002},0,"OK",48947657277.650002,0,null,240488590,49188145867.650002,null,49188145867.650002,null,0,0,{"$f":"VLOOKUP(A1959,'Data Pull totals 5-8'!A:C,3,0)","v":121023430},49309169297.650002,0]
[1953,15644953,{"$f":"'Cap Outlay Deprec 27'!D5","v":15644953},0,"OK",15644953,0,null,0,15644953,null,15644953,null,0,0,{"$f":"VLOOKUP(A1960,'Data Pull totals 5-8'!A:C,3,0)","v":0},15644953,0]
[1954,1440700500.3599999,{"$f":"'Cap Outlay Deprec 27'!D8","v":1440700500.3599999},0,"OK",1440120771.3599999,0,null,90305,1440211076.3599999,null,1440211076.3599999,null,0,0,{"$f":"VLOOKUP(A1961,'Data Pull totals 5-8'!A:C,3,0)","v":489424},1440700500.3599999,0]
[1955,154970773.47000003,{"$f":"'Cap Outlay Deprec 27'!D10","v":154970773.47000003},{"$f":"B1962-C1962","v":0},"OK",154897093.47000003,-2.9802322387695313E-8,null,0,154897093.47000003,null,154897093.47000003,null,0,0,{"$f":"VLOOKUP(A1962,'Data Pull totals 5-8'!A:C,3,0)","v":73680},154970773.47000003,0]
[1956,204169065.22,{"$f":"'Cap Outlay Deprec 27'!D12","v":204169065.22},0,"OK",203717266.22,0,null,451799,204169065.22,null,204169065.22,null,0,0,{"$f":"VLOOKUP(A1963,'Data Pull totals 5-8'!A:C,3,0)","v":0},204169065.22,0]
[1957,77113951,{"$f":"'Cap Outlay Deprec 27'!D13","v":77113951},0,"OK",76854245,0,null,0,76854245,null,76854245,null,0,0,{"$f":"VLOOKUP(A1964,'Data Pull totals 5-8'!A:C,3,0)","v":259706},77113951,0]
[1958,2983289375.9999995,{"$f":"'Cap Outlay Deprec 27'!D16","v":2983289376},0,"OK",2981924461.9999995,4.76837158203125E-7,null,542104,2982466565.9999995,null,2982466565.9999995,null,0,0,{"$f":"VLOOKUP(A1965,'Data Pull totals 5-8'!A:C,3,0)","v":822810},2983289375.9999995,0]
[1959,826989,{"$f":"'Cap Outlay Deprec 27'!E5","v":826989},0,"OK",826989,0,null,0,826989,null,826989,null,0,0,{"$f":"VLOOKUP(A1966,'Data Pull totals 5-8'!A:C,3,0)","v":0},826989,0]
[1960,152934606,{"$f":"'Cap Outlay Deprec 27'!E8","v":152934606},0,"OK",152934606,0,null,0,152934606,null,152934606,null,0,0,{"$f":"VLOOKUP(A1967,'Data Pull totals 5-8'!A:C,3,0)","v":0},152934606,0]
[1961,3885967,{"$f":"'Cap Outlay Deprec 27'!E10","v":3885967},0,"OK",3885967,0,null,0,3885967,null,3885967,null,0,0,{"$f":"VLOOKUP(A1968,'Data Pull totals 5-8'!A:C,3,0)","v":0},3885967,0]
[1962,89832747,{"$f":"'Cap Outlay Deprec 27'!E12","v":89832747},0,"OK",89832747,0,null,0,89832747,null,89832747,null,0,0,{"$f":"VLOOKUP(A1969,'Data Pull totals 5-8'!A:C,3,0)","v":0},89832747,0]
[1963,100908480,{"$f":"'Cap Outlay Deprec 27'!E13","v":100908480},0,"OK",100908480,0,null,0,100908480,null,100908480,null,0,0,{"$f":"VLOOKUP(A1970,'Data Pull totals 5-8'!A:C,3,0)","v":0},100908480,0]
[1964,1327949386,{"$f":"'Cap Outlay Deprec 27'!E16","v":1327949386},0,"OK",1327949386,0,null,0,1327949386,null,1327949386,null,0,0,{"$f":"VLOOKUP(A1971,'Data Pull totals 5-8'!A:C,3,0)","v":0},1327949386,0]
[1965,1283686423.05,{"$f":"'Cap Outlay Deprec 27'!F5","v":1283686423.05},0,"OK",1280379888.05,0,null,815300,1281195188.05,null,1281195188.05,null,0,0,{"$f":"VLOOKUP(A1972,'Data Pull totals 5-8'!A:C,3,0)","v":2491235},1283686423.05,0]
[1966,41740813186.68,{"$f":"'Cap Outlay Deprec 27'!F8","v":41740813186.68},0,"OK",41414285242.68,0,null,214644813,41628930055.68,null,41628930055.68,null,0,0,{"$f":"VLOOKUP(A1973,'Data Pull totals 5-8'!A:C,3,0)","v":111883131},41740813186.68,0]
[1967,2319717738.8499999,{"$f":"'Cap Outlay Deprec 27'!F10","v":2319717738.8500004},0,"OK",2310916308.8499999,0,null,4604112,2315520420.8499999,null,2315520420.8499999,null,0,0,{"$f":"VLOOKUP(A1974,'Data Pull totals 5-8'!A:C,3,0)","v":4197318},2319717738.8499999,0]
[1968,3366694267.54,{"$f":"'Cap Outlay Deprec 27'!F12","v":3366694267.54},0,"OK",3345727798.54,0,null,20966469,3366694267.54,null,3366694267.54,null,0,0,{"$f":"VLOOKUP(A1975,'Data Pull totals 5-8'!A:C,3,0)","v":0},3366694267.54,0]
[1969,957894055.3900001,{"$f":"'Cap Outlay Deprec 27'!F13","v":957894055.38999999},0,"OK",954619499.3900001,-1.1920928955078125E-7,null,0,954619499.3900001,null,954619499.3900001,null,0,0,{"$f":"VLOOKUP(A1976,'Data Pull totals 5-8'!A:C,3,0)","v":3274556},957894055.3900001,0]
[1970,50964509287.650009,{"$f":"'Cap Outlay Deprec 27'!F16","v":50964509287.650002},0,"OK",50601632353.650009,-7.62939453125E-6,null,241030694,50842663047.650009,null,50842663047.650009,null,0,0,{"$f":"VLOOKUP(A1977,'Data Pull totals 5-8'!A:C,3,0)","v":121846240},50964509287.650009,0]
[1971,0,null,0,"OK",0,0,null,0,0,null,0,null,0,0,0,0,0]
[1972,15559917756.540001,{"$f":"'Cap Outlay Deprec 27'!H8","v":15559917756.540001},0,"OK",15472492309.540001,0,null,56599140,15529091449.540001,null,15529091449.540001,null,0,0,{"$f":"VLOOKUP(A1979,'Data Pull totals 5-8'!A:C,3,0)","v":30826307},15559917756.540001,0]
[1973,1008789449.1700001,{"$f":"'Cap Outlay Deprec 27'!H10","v":1008789449.1700001},0,"OK",1002107406.1700001,-1.1920928955078125E-7,null,3774989,1005882395.1700001,null,1005882395.1700001,null,0,0,{"$f":"VLOOKUP(A1980,'Data Pull totals 5-8'!A:C,3,0)","v":2907054},1008789449.1700001,0]
[1974,2519478594.6199999,{"$f":"'Cap Outlay Deprec 27'!H12","v":2519478594.6199999},0,"OK",2499111999.6199999,0,null,20366595,2519478594.6199999,null,2519478594.6199999,null,0,0,{"$f":"VLOOKUP(A1981,'Data Pull totals 5-8'!A:C,3,0)","v":0},2519478594.6199999,0]
[1975,761872319.19000006,{"$f":"'Cap Outlay Deprec 27'!H13","v":761872319.19000006},0,"OK",759351754.19000006,0,null,0,759351754.19000006,null,759351754.19000006,null,0,0,{"$f":"VLOOKUP(A1982,'Data Pull totals 5-8'!A:C,3,0)","v":2520565},761872319.19000006,0]
[1976,19953787435.360001,{"$f":"'Cap Outlay Deprec 27'!H16","v":19953787435.360001},0,"OK",19836792785.360001,0,null,80740724,19917533509.360001,null,19917533509.360001,null,0,0,{"$f":"VLOOKUP(A1983,'Data Pull totals 5-8'!A:C,3,0)","v":36253926},19953787435.360001,0]
[1977,0,null,0,"OK",0,0,null,0,0,null,0,null,0,0,0,0,0]
[1978,967276288.87,{"$f":"'Cap Outlay Deprec 27'!I8","v":967276288.87},0,"OK",960804954.87,0,null,4292896,965097850.87,null,965097850.87,null,0,0,{"$f":"VLOOKUP(A1985,'Data Pull totals 5-8'!A:C,3,0)","v":2178438},967276288.87,0]
[1979,96805076.730000004,{"$f":"'Cap Outlay Deprec 27'!I10","v":96805076.730000004},0,"OK",96438897.730000004,0,null,230206,96669103.730000004,null,96669103.730000004,null,0,0,{"$f":"VLOOKUP(A1986,'Data Pull totals 5-8'!A:C,3,0)","v":135973},96805076.730000004,0]
[1980,182802621.44999999,{"$f":"'Cap Outlay Deprec 27'!I12","v":182802621.44999999},0,"OK",182202747.44999999,0,null,599874,182802621.44999999,null,182802621.44999999,null,0,0,{"$f":"VLOOKUP(A1987,'Data Pull totals 5-8'!A:C,3,0)","v":0},182802621.44999999,0]
[1981,65321270.350000001,{"$f":"'Cap Outlay Deprec 27'!I13","v":65321270.350000001},0,"OK",65158203.350000001,0,null,0,65158203.350000001,null,65158203.350000001,null,0,0,{"$f":"VLOOKUP(A1988,'Data Pull totals 5-8'!A:C,3,0)","v":163067},65321270.350000001,0]
[1982,1320980357.95,{"$f":"'Cap Outlay Deprec 27'!I16","v":1320980357.9499998},0,"OK",1313379903.95,0,null,5122976,1318502879.95,null,1318502879.95,null,0,0,{"$f":"VLOOKUP(A1989,'Data Pull totals 5-8'!A:C,3,0)","v":2477478},1320980357.95,0]
[1983,0,null,0,"OK",0,0,null,0,0,null,0,null,0,0,0,0,0]
[1984,63008512,{"$f":"'Cap Outlay Deprec 27'!J8","v":63008512},0,"OK",63008512,0,null,0,63008512,null,63008512,null,0,0,{"$f":"VLOOKUP(A1991,'Data Pull totals 5-8'!A:C,3,0)","v":0},63008512,0]
[1985,3904355,{"$f":"'Cap Outlay Deprec 27'!J10","v":3904355},0,{"$f":"IF((D1992 = 0),\"OK\",IF((D1992<-5),\"CHECK ME!\",IF((D1992>5),\"Check Me!\",\"OK\")))","v":"OK"},3904355,0,null,0,3904355,null,3904355,null,0,0,{"$f":"VLOOKUP(A1992,'Data Pull totals 5-8'!A:C,3,0)","v":0},3904355,0]
[1986,71357899,{"$f":"'Cap Outlay Deprec 27'!J12","v":71357899},0,"OK",71357899,0,null,0,71357899,null,71357899,null,0,0,{"$f":"VLOOKUP(A1993,'Data Pull totals 5-8'!A:C,3,0)","v":0},71357899,0]
[1987,95916570,{"$f":"'Cap Outlay Deprec 27'!J13","v":95916570},0,"OK",95916570,0,null,0,95916570,null,95916570,null,0,0,{"$f":"VLOOKUP(A1994,'Data Pull totals 5-8'!A:C,3,0)","v":0},95916570,0]
[1988,235773562,{"$f":"'Cap Outlay Deprec 27'!J16","v":235773562},0,"OK",235773562,0,null,0,235773562,null,235773562,null,0,0,{"$f":"VLOOKUP(A1995,'Data Pull totals 5-8'!A:C,3,0)","v":0},235773562,0]
[1989,0,null,0,"OK",0,0,null,0,0,null,0,null,{"$f":"SUM(J1996-L1996)","v":0},0,0,0,{"$f":"SUM(L1996+P1996-Q1996)","v":0}]
[1990,16464185533.409998,{"$f":"'Cap Outlay Deprec 27'!K8","v":16464185533.410002},0,"OK",16370288752.409998,1.9073486328125E-6,null,60892036,16431180788.409998,null,16431180788.409998,null,0,0,{"$f":"VLOOKUP(A1997,'Data Pull totals 5-8'!A:C,3,0)","v":33004745},16464185533.409998,0]
[1991,1101690170.8999999,{"$f":"'Cap Outlay Deprec 27'!K10","v":1101690170.9000001},0,"OK",1094641948.8999999,2.384185791015625E-7,null,4005195,1098647143.8999999,null,1098647143.8999999,null,0,0,{"$f":"VLOOKUP(A1998,'Data Pull totals 5-8'!A:C,3,0)","v":3043027},1101690170.8999999,0]
[1992,2630923317.0700002,{"$f":"'Cap Outlay Deprec 27'!K12","v":2630923317.0699997},0,"OK",2609956848.0700002,0,null,20966469,2630923317.0700002,null,2630923317.0700002,null,0,0,{"$f":"VLOOKUP(A1999,'Data Pull totals 5-8'!A:C,3,0)","v":0},2630923317.0700002,0]
[1993,731277019.53999996,{"$f":"'Cap Outlay Deprec 27'!K13","v":731277019.54000008},0,"OK",728593387.53999996,0,null,0,728593387.53999996,null,728593387.53999996,null,0,0,{"$f":"VLOOKUP(A2000,'Data Pull totals 5-8'!A:C,3,0)","v":2683632},731277019.53999996,0]
[1995,1283686423.05,{"$f":"'Cap Outlay Deprec 27'!L5","v":1283686423.05},0,"OK",1280379888.05,0,null,815300,1281195188.05,null,1281195188.05,null,0,0,{"$f":"VLOOKUP(A2002,'Data Pull totals 5-8'!A:C,3,0)","v":2491235},1283686423.05,0]
[1997,1218027567.95,{"$f":"'Cap Outlay Deprec 27'!L10","v":1218027567.9500003},0,"OK",1216274359.95,0,null,598917,1216873276.95,null,1216873276.95,null,0,0,{"$f":"VLOOKUP(A2004,'Data Pull totals 5-8'!A:C,3,0)","v":1154291},1218027567.95,0]
[2000,29925515056.34,{"$f":"'Cap Outlay Deprec 27'!L16","v":29925515056.34},0,"OK",29687233226.34,0,null,155166994,29842400220.34,null,29842400220.34,null,0,0,{"$f":"VLOOKUP(A2007,'Data Pull totals 5-8'!A:C,3,0)","v":83114836},29925515056.34,0]
[2003,0,null,0,"OK",0,0,null,0,0,null,0,null,0,0,0,0,0]
[2006,0,null,0,"OK",0,0,null,0,0,null,0,null,0,0,0,0,0]
[2007,0,null,0,"OK",0,0,null,0,0,null,0,null,0,0,0,0,0]
[2009,0,null,0,"OK",0,0,null,0,0,null,0,null,0,0,0,0,0]
[2012,0,null,0,"OK",0,0,null,0,0,null,0,null,0,0,0,0,0]
[2015,0,null,0,"OK",0,0,null,0,0,null,0,null,0,0,0,0,0]
[2018,0,null,0,"OK",0,0,null,0,0,null,0,null,0,0,0,0,0]
[2021,0,null,0,"OK",0,0,null,0,0,null,0,null,0,0,0,0,0]
[2024,0,null,0,"OK",0,0,null,0,0,null,0,null,0,0,0,0,0]
[2027,439659857.94000006,{"$f":"'Expenditures 15-22'!K84","v":439659857.94000006},0,"OK",439062745.94000006,-5.9604644775390625E-8,null,597112,439659857.94000006,null,439659857.94000006,null,0,0,{"$f":"VLOOKUP(A2034,'Data Pull totals 5-8'!A:C,3,0)","v":0},439659857.94000006,0]
[2028,296671870,{"$f":"'Expenditures 15-22'!K92","v":296671870},0,"OK",295351472,0,null,139422,295490894,null,295490894,null,0,0,{"$f":"VLOOKUP(A2035,'Data Pull totals 5-8'!A:C,3,0)","v":1180976},296671870,0]
[2030,3221537,{"$f":"'Expenditures 15-22'!H137","v":3221537},0,"OK",3221537,0,null,0,3221537,null,3221537,null,0,0,{"$f":"VLOOKUP(A2037,'Data Pull totals 5-8'!A:C,3,0)","v":0},3221537,0]
[2033,93915,{"$f":"'Expenditures 15-22'!K138","v":93915},0,"OK",93915,0,null,0,93915,null,93915,null,0,0,{"$f":"VLOOKUP(A2040,'Data Pull totals 5-8'!A:C,3,0)","v":0},93915,0]
[2036,0,null,0,"OK",0,0,null,0,0,null,0,null,0,0,0,0,0]
[2039,0,null,0,"OK",0,0,null,0,0,null,0,null,0,0,0,0,0]
[2042,0,null,0,"OK",0,0,null,0,0,null,0,null,0,0,0,0,0]
[2045,22886673,{"$f":"'Acct Summary 7-8'!I48","v":22886673},0,"OK",22886673,0,null,0,22886673,null,22886673,null,0,0,{"$f":"VLOOKUP(A2052,'Data Pull totals 5-8'!A:C,3,0)","v":0},22886673,0]
[2048,0,null,0,"OK",0,0,null,0,0,null,0,null,0,0,0,0,0]
[2049,0,null,0,{"$f":"IF((D2056 = 0),\"OK\",IF((D2056<-5),\"CHECK ME!\",IF((D2056>5),\"Check Me!\",\"OK\")))","v":"OK"},0,0,null,0,0,null,0,null,0,0,0,0,0]
[2051,0,null,0,"OK",0,0,null,0,0,null,0,null,0,0,0,0,0]
[2054,0,null,0,"OK",0,0,null,0,0,null,0,null,0,0,0,0,0]
[2057,0,null,0,"OK",0,0,null,0,0,null,0,null,0,0,0,0,0]
[2060,0,null,0,"OK",0,0,null,0,0,null,0,null,0,0,0,0,0]
[2063,0,null,0,"OK",0,0,null,0,0,null,0,null,0,0,0,0,0]
[2066,0,null,0,"OK",0,0,null,0,0,null,0,null,0,0,0,0,0]
[2069,0,null,0,"OK",0,0,null,0,0,null,0,null,0,0,0,0,0]
[2070,0,null,0,"OK",0,0,null,0,0,null,0,null,0,0,0,0,0]
[2072,0,null,0,"OK",0,0,null,0,0,null,0,null,0,0,0,0,0]
[2075,0,null,0,"OK",0,0,null,0,0,null,0,null,0,0,0,0,0]
[2078,0,null,0,"OK",0,0,null,0,0,null,0,null,0,0,0,0,0]
[2081,0,null,0,"OK",0,0,null,0,0,null,0,null,0,0,0,0,0]
[2084,0,null,0,"OK",0,0,null,0,0,null,0,null,0,0,0,0,0]
[2087,0,null,0,"OK",0,0,null,0,0,null,0,null,0,0,0,0,0]
[2089,0,null,0,"OK",0,0,null,0,0,null,0,null,0,0,0,0,0]
[2090,0,null,0,"OK",0,0,null,0,0,null,0,null,0,0,0,0,0]
[2093,0,null,0,"OK",0,0,null,0,0,null,0,null,0,0,0,0,0]
[2096,0,null,0,"OK",0,0,null,0,0,null,0,null,0,0,0,0,0]
[2099,0,null,0,"OK",0,0,null,0,0,null,0,null,0,0,0,0,0]
[2102,0,null,0,"OK",0,0,null,0,0,null,0,null,0,0,0,0,0]
[2105,0,null,0,"OK",0,0,null,0,0,null,0,null,0,0,0,0,0]
[2108,0,null,0,"OK",0,0,null,0,0,null,0,null,0,0,0,0,0]
[2110,0,null,0,"OK",0,0,null,0,0,null,0,null,0,0,0,0,0]
[2111,0,null,0,"OK",0,0,null,0,0,null,0,null,0,0,0,0,0]
[2114,0,null,0,"OK",0,0,null,0,0,null,0,null,0,0,0,0,0]
[2117,0,null,0,"OK",0,0,null,0,0,null,0,null,{"$f":"SUM(J2124-L2124)","v":0},0,0,0,{"$f":"SUM(L2124+P2124-Q2124)","v":0}]
[2120,0,null,0,"OK",0,0,null,0,0,null,0,null,0,0,0,0,0]
[2123,0,null,0,"OK",0,0,null,0,0,null,0,null,0,0,0,0,0]
[2126,0,null,0,"OK",0,0,null,0,0,null,0,null,0,0,0,0,0]
[2129,0,null,0,"OK",0,0,null,0,0,null,0,null,0,0,0,0,0]
[2131,0,null,0,"OK",0,0,null,0,0,null,0,null,0,0,0,0,0]
[2132,0,null,0,"OK",0,0,null,0,0,null,0,null,0,0,0,0,0]
[2135,0,null,0,"OK",0,0,null,0,0,null,0,null,0,0,0,0,0]
[2138,0,null,0,"OK",0,0,null,0,0,null,0,null,0,0,0,0,0]
[2141,0,null,0,"OK",0,0,null,0,0,null,0,null,0,0,0,0,0]
[2144,0,null,0,"OK",0,0,null,0,0,null,0,null,0,0,0,0,0]
[2147,0,null,{"$f":"B2154-C2154","v":0},"OK",0,0,null,0,0,null,0,null,0,0,0,0,0]
[2150,0,null,0,"OK",0,0,null,0,0,null,0,null,0,0,0,0,0]
[2152,0,null,0,"OK",0,0,null,0,0,null,0,null,0,0,0,0,0]
[2153,0,null,0,"OK",0,0,null,0,0,null,0,null,0,0,0,0,0]
[2156,0,null,0,"OK",0,0,null,0,0,null,0,null,0,0,0,0,0]
[2159,0,null,0,"OK",0,0,null,0,0,null,0,null,0,0,0,0,0]
[2162,0,null,0,"OK",0,0,null,0,0,null,0,null,0,0,0,0,0]
[2164,0,null,0,"OK",0,0,null,0,0,null,0,null,0,0,0,0,0]
[2168,0,null,0,"OK",0,0,null,0,0,null,0,null,0,0,0,0,0]
[2171,0,null,0,"OK",0,0,null,0,0,null,0,null,0,0,0,0,0]
[2173,0,null,0,"OK",0,0,null,0,0,null,0,null,0,0,0,0,0]
[2174,0,null,0,"OK",0,0,null,0,0,null,0,null,0,0,0,0,0]
[2177,0,null,0,{"$f":"IF((D2184 = 0),\"OK\",IF((D2184<-5),\"CHECK ME!\",IF((D2184>5),\"Check Me!\",\"OK\")))","v":"OK"},0,0,null,0,0,null,0,null,0,0,0,0,0]
[2180,0,null,0,"OK",0,0,null,0,0,null,0,null,0,0,0,0,0]
[2183,0,null,0,"OK",0,0,null,0,0,null,0,null,0,0,0,0,0]
[2185,0,null,0,"OK",0,0,null,0,0,null,0,null,0,0,0,0,0]
[2189,0,null,0,"OK",0,0,null,0,0,null,0,null,0,0,0,0,0]
[2192,0,null,0,"OK",0,0,null,0,0,null,0,null,0,0,0,0,0]
[2194,0,null,0,"OK",0,0,null,0,0,null,0,null,0,0,0,0,0]
[2195,0,null,0,"OK",0,0,null,0,0,null,0,null,0,0,0,0,0]
[2198,0,null,0,"OK",0,0,null,0,0,null,0,null,0,0,0,0,0]
[2201,0,null,0,"OK",0,0,null,0,0,null,0,null,0,0,0,0,0]
[2204,0,null,0,"OK",0,0,null,0,0,null,0,null,0,0,0,0,0]
[2206,0,null,0,"OK",0,0,null,0,0,null,0,null,0,0,0,0,0]
[2210,0,null,0,"OK",0,0,null,0,0,null,0,null,0,0,0,0,0]
[2213,0,null,0,"OK",0,0,null,0,0,null,0,null,0,0,0,0,0]
[2215,0,null,0,"OK",0,0,null,0,0,null,0,null,0,0,0,0,0]
[2216,0,null,0,"OK",0,0,null,0,0,null,0,null,0,0,0,0,0]
[2219,0,null,0,"OK",0,0,null,0,0,null,0,null,0,0,0,0,0]
[2222,0,null,0,"OK",0,0,null,0,0,null,0,null,0,0,0,0,0]
[2225,0,null,0,"OK",0,0,null,0,0,null,0,null,0,0,0,0,0]
[2227,0,null,0,"OK",0,0,null,0,0,null,0,null,0,0,0,0,0]
[2231,0,null,0,"OK",0,0,null,0,0,null,0,null,0,0,0,0,0]
[2234,0,null,0,"OK",0,0,null,0,0,null,0,null,0,0,0,0,0]
[2236,0,null,0,"OK",0,0,null,0,0,null,0,null,0,0,0,0,0]
[2237,0,null,0,"OK",0,0,null,0,0,null,0,null,0,0,0,0,0]
[2241,0,null,0,{"$f":"IF((D2248 = 0),\"OK\",IF((D2248<-5),\"CHECK ME!\",IF((D2248>5),\"Check Me!\",\"OK\")))","v":"OK"},0,0,null,0,0,null,0,null,0,0,0,0,0]
[2243,0,null,0,"OK",0,0,null,0,0,null,0,null,0,0,0,0,0]
[2246,0,null,0,"OK",0,0,null,0,0,null,0,null,0,0,0,0,0]
[2248,0,null,0,"OK",0,0,null,0,0,null,0,null,0,0,0,0,0]
[2252,0,null,0,"OK",0,0,null,0,0,null,0,null,0,0,0,0,0]
[2255,0,null,0,"OK",0,0,null,0,0,null,0,null,0,0,0,0,0]
[2257,0,null,0,"OK",0,0,null,0,0,null,0,null,0,0,0,0,0]
[2258,0,null,0,"OK",0,0,null,0,0,null,0,null,0,0,0,0,0]
[2262,0,null,0,"OK",0,0,null,0,0,null,0,null,0,0,0,0,0]
[2264,0,null,0,"OK",0,0,null,0,0,null,0,null,0,0,0,0,0]
[2267,0,null,0,"OK",0,0,null,0,0,null,0,null,0,0,0,0,0]
[2269,0,null,0,"OK",0,0,null,0,0,null,0,null,0,0,0,0,0]
[2273,0,null,0,"OK",0,0,null,0,0,null,0,null,0,0,0,0,0]
[2276,0,null,0,"OK",0,0,null,0,0,null,0,null,0,0,0,0,0]
[2278,0,null,0,"OK",0,0,null,0,0,null,0,null,0,0,0,0,0]
[2279,0,null,0,"OK",0,0,null,0,0,null,0,null,0,0,0,0,0]
[2283,0,null,0,"OK",0,0,null,0,0,null,0,null,0,0,0,0,0]
[2285,0,null,0,"OK",0,0,null,0,0,null,0,null,0,0,0,0,0]
[2288,0,null,0,"OK",0,0,null,0,0,null,0,null,0,0,0,0,0]
[2290,0,null,0,"OK",0,0,null,0,0,null,0,null,0,0,0,0,0]
[2294,0,null,0,"OK",0,0,null,0,0,null,0,null,0,0,0,0,0]
[2297,0,null,0,"OK",0,0,null,0,0,null,0,null,0,0,0,0,0]
[2299,0,null,0,"OK",0,0,null,0,0,null,0,null,0,0,0,0,0]
[2300,0,null,0,"OK",0,0,null,0,0,null,0,null,0,0,0,0,0]
[2304,0,null,0,"OK",0,0,null,0,0,null,0,null,0,0,0,0,0]
[2306,0,null,0,"OK",0,0,null,0,0,null,0,null,0,0,0,0,0]
[2309,0,null,0,"OK",0,0,null,0,0,null,0,null,{"$f":"SUM(J2316-L2316)","v":0},0,0,0,{"$f":"SUM(L2316+P2316-Q2316)","v":0}]
[2311,0,null,0,"OK",0,0,null,0,0,null,0,null,0,0,0,0,0]
[2315,0,null,0,"OK",0,0,null,0,0,null,0,null,0,0,0,0,0]
[2318,0,null,0,"OK",0,0,null,0,0,null,0,null,0,0,0,0,0]
[2320,0,null,0,"OK",0,0,null,0,0,null,0,null,0,0,0,0,0]
[2321,0,null,0,"OK",0,0,null,0,0,null,0,null,0,0,0,0,0]
[2325,0,null,0,"OK",0,0,null,0,0,null,0,null,0,0,0,0,0]
[2327,0,null,0,"OK",0,0,null,0,0,null,0,null,0,0,0,0,0]
[2330,0,null,0,"OK",0,0,null,0,0,null,0,null,0,0,0,0,0]
[2332,0,null,0,"OK",0,0,null,0,0,null,0,null,0,0,0,0,0]
[2336,0,null,0,"OK",0,0,null,0,0,null,0,null,0,0,0,0,0]
[2337,0,null,0,"OK",0,0,null,0,0,null,0,null,0,0,0,0,0]
[2339,0,null,{"$f":"B2346-C2346","v":0},"OK",0,0,null,0,0,null,0,null,0,0,0,0,0]
[2342,0,null,0,"OK",0,0,null,0,0,null,0,null,0,0,0,0,0]
[2346,0,null,0,"OK",0,0,null,0,0,null,0,null,0,0,0,0,0]
[2348,0,null,0,"OK",0,0,null,0,0,null,0,null,0,0,0,0,0]
[2351,0,null,0,"OK",0,0,null,0,0,null,0,null,0,0,0,0,0]
[2353,0,null,0,"OK",0,0,null,0,0,null,0,null,0,0,0,0,0]
[2357,0,null,0,"OK",0,0,null,0,0,null,0,null,0,0,0,0,0]
[2358,0,null,0,"OK",0,0,null,0,0,null,0,null,0,0,0,0,0]
[2360,0,null,0,"OK",0,0,null,0,0,null,0,null,0,0,0,0,0]
[2363,0,null,0,"OK",0,0,null,0,0,null,0,null,0,0,0,0,0]
[2367,0,null,0,"OK",0,0,null,0,0,null,0,null,0,0,0,0,0]
[2369,0,null,0,{"$f":"IF((D2376 = 0),\"OK\",IF((D2376<-5),\"CHECK ME!\",IF((D2376>5),\"Check Me!\",\"OK\")))","v":"OK"},0,0,null,0,0,null,0,null,0,0,0,0,0]
[2373,0,null,0,"OK",0,0,null,0,0,null,0,null,{"$f":"SUM(J2380-L2380)","v":0},0,0,0,{"$f":"SUM(L2380+P2380-Q2380)","v":0}]
[2374,245198419,{"$f":"'Assets-Liab 5-6'!C38","v":245198419},0,"OK",242357933,0,null,2770575,245128508,null,245128508,null,0,0,{"$f":"VLOOKUP(A2381,'Data Pull totals 5-8'!A:C,3,0)","v":69911},245198419,0]
[2378,0,null,0,"OK",0,0,null,0,0,null,0,null,0,0,0,0,0]
[2379,0,null,0,"OK",0,0,null,0,0,null,0,null,0,0,0,0,0]
[2381,0,null,0,"OK",0,0,null,0,0,null,0,null,0,0,0,0,0]
[2384,0,null,0,"OK",0,0,null,0,0,null,0,null,0,0,0,0,0]
[2388,0,null,0,"OK",0,0,null,0,0,null,0,null,0,0,0,0,0]
[2390,0,null,0,"OK",0,0,null,0,0,null,0,null,0,0,0,0,0]
[2394,0,null,0,"OK",0,0,null,0,0,null,0,null,0,0,0,0,0]
[2395,0,null,0,"OK",0,0,null,0,0,null,0,null,0,0,0,0,0]
[2399,0,null,0,"OK",0,0,null,0,0,null,0,null,0,0,0,0,0]
[2400,0,null,0,"OK",0,0,null,0,0,null,0,null,0,0,0,0,0]
[2402,0,null,0,"OK",0,0,null,0,0,null,0,null,0,0,0,0,0]
[2405,0,null,0,"OK",0,0,null,0,0,null,0,null,0,0,0,0,0]
[2409,0,null,0,"OK",0,0,null,0,0,null,0,null,0,0,0,0,0]
[2411,0,null,0,"OK",0,0,null,0,0,null,0,null,0,0,0,0,0]
[2414,167255841,{"$f":"'Assets-Liab 5-6'!F38","v":167255841},0,"OK",165594249,0,null,1661592,167255841,null,167255841,null,0,0,{"$f":"VLOOKUP(A2421,'Data Pull totals 5-8'!A:C,3,0)","v":0},167255841,0]
[2417,0,null,0,"OK",0,0,null,0,0,null,0,null,0,0,0,0,0]
[2420,0,null,0,"OK",0,0,null,0,0,null,0,null,0,0,0,0,0]
[2421,0,null,0,"OK",0,0,null,0,0,null,0,null,0,0,0,0,0]
[2423,0,null,0,"OK",0,0,null,0,0,null,0,null,0,0,0,0,0]
[2427,0,null,0,"OK",0,0,null,0,0,null,0,null,0,0,0,0,0]
[2430,0,null,0,"OK",0,0,null,0,0,null,0,null,0,0,0,0,0]
[2432,0,null,0,"OK",0,0,null,0,0,null,0,null,0,0,0,0,0]
[2435,0,null,0,"OK",0,0,null,0,0,null,0,null,0,0,0,0,0]
[2438,0,null,0,"OK",0,0,null,0,0,null,0,null,0,0,0,0,0]
[2441,0,null,0,"OK",0,0,null,0,0,null,0,null,0,0,0,0,0]
[2442,0,null,0,"OK",0,0,null,0,0,null,0,null,0,0,0,0,0]
[2444,0,null,0,"OK",0,0,null,0,0,null,0,null,0,0,0,0,0]
[2448,0,null,0,"OK",0,0,null,0,0,null,0,null,0,0,0,0,0]
[2451,0,null,0,"OK",0,0,null,0,0,null,0,null,0,0,0,0,0]
[2453,0,null,0,"OK",0,0,null,0,0,null,0,null,0,0,0,0,0]
[2456,0,null,0,"OK",0,0,null,0,0,null,0,null,0,0,0,0,0]
[2459,0,null,0,"OK",0,0,null,0,0,null,0,null,0,0,0,0,0]
[2462,0,null,0,"OK",0,0,null,0,0,null,0,null,0,0,0,0,0]
[2463,0,null,0,"OK",0,0,null,0,0,null,0,null,0,0,0,0,0]
[2465,0,null,0,"OK",0,0,null,0,0,null,0,null,0,0,0,0,0]
[2469,0,null,0,"OK",0,0,null,0,0,null,0,null,0,0,0,0,0]
[2472,0,null,0,"OK",0,0,null,0,0,null,0,null,0,0,0,0,0]
[2474,1239661355,{"$f":"'Assets-Liab 5-6'!H38","v":1239661355},0,"OK",1238274588,0,null,1386767,1239661355,null,1239661355,null,0,0,{"$f":"VLOOKUP(A2481,'Data Pull totals 5-8'!A:C,3,0)","v":0},1239661355,0]
[2477,0,null,0,"OK",0,0,null,0,0,null,0,null,0,0,0,0,0]
[2480,0,null,0,"OK",0,0,null,0,0,null,0,null,0,0,0,0,0]
[2481,0,null,0,"OK",0,0,null,0,0,null,0,null,0,0,0,0,0]
[2484,0,null,0,"OK",0,0,null,0,0,null,0,null,0,0,0,0,0]
[2486,0,null,0,"OK",0,0,null,0,0,null,0,null,0,0,0,0,0]
[2489,0,null,0,"OK",0,0,null,0,0,null,0,null,0,0,0,0,0]
[2492,6447581623.0099993,{"$f":"'Acct Summary 7-8'!C6","v":6447581623.0100002},0,"OK",6377446328.0099993,9.5367431640625E-7,null,52694565,6430140893.0099993,null,6430140893.0099993,null,0,0,{"$f":"VLOOKUP(A2499,'Data Pull totals 5-8'!A:C,3,0)","v":17440730},6447581623.0099993,0]
[2495,14575394777.520002,{"$f":"'Acct Summary 7-8'!C12","v":14575394777.520002},0,"OK",14499307189.520002,-1.9073486328125E-6,null,42137763,14541444952.520002,null,14541444952.520002,null,0,0,{"$f":"VLOOKUP(A2502,'Data Pull totals 5-8'!A:C,3,0)","v":33949825},14575394777.520002,0]
[2498,741197906.94000006,{"$f":"'Acct Summary 7-8'!C15","v":741197906.94000006},0,"OK",739280396.94000006,0,null,736534,740016930.94000006,null,740016930.94000006,null,0,0,{"$f":"VLOOKUP(A2505,'Data Pull totals 5-8'!A:C,3,0)","v":1180976},741197906.94000006,0]
[2501,1235723474.29,{"$f":"'Acct Summary 7-8'!C20","v":1235723474.2899933},6.67572021484375E-6,"OK",1231573709.29,0,null,7537932,1239111641.29,null,1239111641.29,null,{"$f":"SUM(J2508-L2508)","v":0},0,{"$f":"VLOOKUP(A2508,'Data Pull totals 5-8'!A:C,3,0)","v":-3388167},1235723474.29,{"$f":"SUM(L2508+P2508-Q2508)","v":0}]
[2502,1276757,{"$f":"'Acct Summary 7-8'!C80","v":1276757},0,"OK",1276757,0,null,0,1276757,null,1276757,null,0,0,{"$f":"VLOOKUP(A2509,'Data Pull totals 5-8'!A:C,3,0)","v":0},1276757,0]
[2505,546116589,{"$f":"'Acct Summary 7-8'!D6","v":546116589},0,"OK",541116589,0,null,5000000,546116589,null,546116589,null,0,0,{"$f":"VLOOKUP(A2512,'Data Pull totals 5-8'!A:C,3,0)","v":0},546116589,0]
[2507,2272760903.7600002,{"$f":"'Acct Summary 7-8'!D8","v":2272760903.7600002},0,"OK",2262971740.7600002,0,null,5481989,2268453729.7600002,null,2268453729.7600002,null,0,0,{"$f":"VLOOKUP(A2514,'Data Pull totals 5-8'!A:C,3,0)","v":4307174},2272760903.7600002,0]
[2510,5672478,{"$f":"'Acct Summary 7-8'!D15","v":5672478},0,"OK",5672478,0,null,0,5672478,null,5672478,null,0,0,{"$f":"VLOOKUP(A2517,'Data Pull totals 5-8'!A:C,3,0)","v":0},5672478,0]
[2513,87171775.850000009,{"$f":"'Acct Summary 7-8'!D20","v":87171775.850000381},-3.7252902984619141E-7,"OK",88845489.850000009,-1.4901161193847656E-8,null,-1678656,87166833.850000009,null,87166833.850000009,null,0,0,{"$f":"VLOOKUP(A2520,'Data Pull totals 5-8'!A:C,3,0)","v":4942},87171775.850000009,0]
[2517,0,null,0,"OK",0,0,null,0,0,null,0,null,0,0,0,0,0]
[2519,0,null,0,"OK",0,0,null,0,0,null,0,null,0,0,0,0,0]
[2522,0,null,0,"OK",0,0,null,0,0,null,0,null,0,0,0,0,0]
[2523,0,null,0,"OK",0,0,null,0,0,null,0,null,0,0,0,0,0]
[2526,0,null,0,"OK",0,0,null,0,0,null,0,null,0,0,0,0,0]
[2528,0,null,0,"OK",0,0,null,0,0,null,0,null,0,0,0,0,0]
[2531,0,null,{"$f":"B2538-C2538","v":0},"OK",0,0,null,0,0,null,0,null,0,0,0,0,0]
[2534,1383037909.74,{"$f":"'Acct Summary 7-8'!F8","v":1383037909.74},0,"OK",1370502614.74,0,null,4575844,1375078458.74,null,1375078458.74,null,0,0,{"$f":"VLOOKUP(A2541,'Data Pull totals 5-8'!A:C,3,0)","v":7959451},1383037909.74,0]
[2538,16375090,{"$f":"'Acct Summary 7-8'!F16","v":16375090},0,"OK",16375090,0,null,0,16375090,null,16375090,null,0,0,{"$f":"VLOOKUP(A2545,'Data Pull totals 5-8'!A:C,3,0)","v":0},16375090,0]
[2540,183827028.53999999,{"$f":"'Acct Summary 7-8'!F20","v":183827028.5400002},0,"OK",182357517.53999999,0,null,-269490,182088027.53999999,null,182088027.53999999,null,0,0,{"$f":"VLOOKUP(A2547,'Data Pull totals 5-8'!A:C,3,0)","v":1739001},183827028.53999999,0]
[2543,13223355,{"$f":"'Acct Summary 7-8'!G6","v":13223355},0,"OK",13223355,0,null,0,13223355,null,13223355,null,0,0,{"$f":"VLOOKUP(A2550,'Data Pull totals 5-8'!A:C,3,0)","v":0},13223355,0]
[2544,2166556,{"$f":"'Acct Summary 7-8'!G7","v":2166556},0,"OK",2166556,0,null,0,2166556,null,2166556,null,0,0,{"$f":"VLOOKUP(A2551,'Data Pull totals 5-8'!A:C,3,0)","v":0},2166556,0]
[2547,375052639.55999994,{"$f":"'Acct Summary 7-8'!G13","v":375052639.56},0,"OK",372579512.55999994,5.9604644775390625E-8,null,1352183,373931695.55999994,null,373931695.55999994,null,0,0,{"$f":"VLOOKUP(A2554,'Data Pull totals 5-8'!A:C,3,0)","v":1120944},375052639.55999994,0]
[2549,0,null,0,"OK",0,0,null,0,0,null,0,null,0,0,0,0,0]
[2552,24723070.439999998,{"$f":"'Acct Summary 7-8'!G20","v":24723070.439999938},5.9604644775390625E-8,"OK",24530242.439999998,3.7252902984619141E-9,null,98529,24628771.439999998,null,24628771.439999998,null,0,0,{"$f":"VLOOKUP(A2559,'Data Pull totals 5-8'!A:C,3,0)","v":94299},24723070.439999998,0]
[2555,0,null,0,"OK",0,0,null,0,0,null,0,null,0,0,0,0,0]
[2559,0,null,0,"OK",0,0,null,0,0,null,0,null,0,0,0,0,0]
[2561,0,null,0,{"$f":"IF((D2568 = 0),\"OK\",IF((D2568<-5),\"CHECK ME!\",IF((D2568>5),\"Check Me!\",\"OK\")))","v":"OK"},0,0,null,0,0,null,0,null,0,0,0,0,0]
[2564,0,null,0,"OK",0,0,null,0,0,null,0,null,0,0,0,0,0]
[2566,0,null,0,"OK",0,0,null,0,0,null,0,null,0,0,0,0,0]
[2567,0,null,0,"OK",0,0,null,0,0,null,0,null,0,0,0,0,0]
[2571,2208553736.8000002,{"$f":"'Acct Summary 7-8'!E8","v":2208553736.8000002},0,"OK",2192067716.8000002,0,null,4764187,2196831903.8000002,null,2196831903.8000002,null,0,0,{"$f":"VLOOKUP(A2578,'Data Pull totals 5-8'!A:C,3,0)","v":11721833},2208553736.8000002,0]
[2573,2998987778,{"$f":"'Acct Summary 7-8'!E16","v":2998987778},0,"OK",2982460325,0,null,4834358,2987294683,null,2987294683,null,0,0,{"$f":"VLOOKUP(A2580,'Data Pull totals 5-8'!A:C,3,0)","v":11693095},2998987778,0]
[2576,-771344,{"$f":"'Acct Summary 7-8'!E80","v":-771344},0,"OK",-771344,0,null,0,-771344,null,-771344,null,0,0,{"$f":"VLOOKUP(A2583,'Data Pull totals 5-8'!A:C,3,0)","v":0},-771344,0]
[2580,0,null,0,"OK",0,0,null,0,0,null,0,null,0,0,0,0,0]
[2582,0,null,0,"OK",0,0,null,0,0,null,0,null,0,0,0,0,0]
[2585,0,null,0,"OK",0,0,null,0,0,null,0,null,0,0,0,0,0]
[2587,0,null,0,"OK",0,0,null,0,0,null,0,null,0,0,0,0,0]
[2588,0,null,0,"OK",0,0,null,0,0,null,0,null,0,0,0,0,0]
[2592,0,null,0,"OK",0,0,null,0,0,null,0,null,0,0,0,0,0]
[2594,183466992.61000001,{"$f":"'Acct Summary 7-8'!H4","v":183466992.61000001},0,"OK",183431639.61000001,0,null,8344,183439983.61000001,null,183439983.61000001,null,0,0,{"$f":"VLOOKUP(A2601,'Data Pull totals 5-8'!A:C,3,0)","v":27009},183466992.61000001,0]
[2597,239895069.61000001,{"$f":"'Acct Summary 7-8'!H8","v":239895069.61000001},0,"OK",239859716.61000001,0,null,8344,239868060.61000001,null,239868060.61000001,null,0,0,{"$f":"VLOOKUP(A2604,'Data Pull totals 5-8'!A:C,3,0)","v":27009},239895069.61000001,0]
[2601,-1266987817.46,{"$f":"'Acct Summary 7-8'!H20","v":-1266987817.46},0,"OK",-1266601862.46,0,null,7007,-1266594855.46,null,-1266594855.46,null,0,0,{"$f":"VLOOKUP(A2608,'Data Pull totals 5-8'!A:C,3,0)","v":-392962},-1266987817.46,0]
[2603,0,null,0,"OK",0,0,null,0,0,null,0,null,0,0,0,0,0]
[2606,0,null,0,"OK",0,0,null,0,0,null,0,null,0,0,0,0,0]
[2608,0,null,0,"OK",0,0,null,0,0,null,0,null,0,0,0,0,0]
[2609,0,null,0,"OK",0,0,null,0,0,null,0,null,0,0,0,0,0]
[2613,0,null,0,"OK",0,0,null,0,0,null,0,null,0,0,0,0,0]
[2615,0,null,0,"OK",0,0,null,0,0,null,0,null,0,0,0,0,0]
[2618,0,null,0,"OK",0,0,null,0,0,null,0,null,0,0,0,0,0]
[2622,0,null,0,"OK",0,0,null,0,0,null,0,null,0,0,0,0,0]
[2624,0,null,0,"OK",0,0,null,0,0,null,0,null,0,0,0,0,0]
[2625,0,null,0,{"$f":"IF((D2632 = 0),\"OK\",IF((D2632<-5),\"CHECK ME!\",IF((D2632>5),\"Check Me!\",\"OK\")))","v":"OK"},0,0,null,0,0,null,0,null,0,0,0,0,0]
[2629,0,null,0,"OK",0,0,null,0,0,null,0,null,{"$f":"SUM(J2636-L2636)","v":0},0,0,0,{"$f":"SUM(L2636+P2636-Q2636)","v":0}]
[2630,0,null,0,"OK",0,0,null,0,0,null,0,null,0,0,0,0,0]
[2634,0,null,0,"OK",0,0,null,0,0,null,0,null,0,0,0,0,0]
[2636,0,null,0,"OK",0,0,null,0,0,null,0,null,0,0,0,0,0]
[2639,0,null,0,"OK",0,0,null,0,0,null,0,null,0,0,0,0,0]
[2643,0,null,0,"OK",0,0,null,0,0,null,0,null,0,0,0,0,0]
[2645,0,null,0,"OK",0,0,null,0,0,null,0,null,0,0,0,0,0]
[2646,0,null,0,"OK",0,0,null,0,0,null,0,null,0,0,0,0,0]
[2650,0,null,0,"OK",0,0,null,0,0,null,0,null,0,0,0,0,0]
[2651,0,null,0,"OK",0,0,null,0,0,null,0,null,0,0,0,0,0]
[2655,0,null,0,"OK",0,0,null,0,0,null,0,null,0,0,0,0,0]
[2657,72516314,{"$f":"'Expenditures 15-22'!C51","v":72516314},0,"OK",71897712,0,null,618602,72516314,null,72516314,null,0,0,{"$f":"VLOOKUP(A2664,'Data Pull totals 5-8'!A:C,3,0)","v":0},72516314,0]
[2661,65718,{"$f":"'Expenditures 15-22'!G51","v":65718},0,"OK",64408,0,null,1310,65718,null,65718,null,0,0,{"$f":"VLOOKUP(A2668,'Data Pull totals 5-8'!A:C,3,0)","v":0},65718,0]
[2662,422099,{"$f":"'Expenditures 15-22'!H51","v":422099},0,"OK",422099,0,null,0,422099,null,422099,null,0,0,{"$f":"VLOOKUP(A2669,'Data Pull totals 5-8'!A:C,3,0)","v":0},422099,0]
[2666,0,{"$f":"'Short-Term Long-Term Debt 25'!C4","v":0},0,"OK",0,0,null,0,0,null,0,null,0,0,0,0,0]
[2667,0,{"$f":"'Short-Term Long-Term Debt 25'!C25","v":0},0,"OK",0,0,null,0,0,null,0,null,0,0,0,0,0]
[2671,0,{"$f":"'Short-Term Long-Term Debt 25'!E25","v":0},0,"OK",0,0,null,0,0,null,0,null,0,0,0,0,0]
[2672,0,{"$f":"'Short-Term Long-Term Debt 25'!F4","v":0},0,"OK",0,0,null,0,0,null,0,null,0,0,0,0,0]
[2676,0,null,0,"OK",0,0,null,0,0,null,0,null,0,0,0,0,0]
[2678,0,null,0,"OK",0,0,null,0,0,null,0,null,0,0,0,0,0]
[2682,0,null,0,"OK",0,0,null,0,0,null,0,null,0,0,0,0,0]
[2683,0,null,0,"OK",0,0,null,0,0,null,0,null,0,0,0,0,0]
[2687,0,null,0,"OK",0,0,null,0,0,null,0,null,0,0,0,0,0]
[2688,0,null,0,"OK",0,0,null,0,0,null,0,null,0,0,0,0,0]
[2692,0,null,0,"OK",0,0,null,0,0,null,0,null,0,0,0,0,0]
[2693,0,null,0,"OK",0,0,null,0,0,null,0,null,{"$f":"SUM(J2700-L2700)","v":0},0,0,0,{"$f":"SUM(L2700+P2700-Q2700)","v":0}]
[2697,9311959,{"$f":"'Acct Summary 7-8'!D28","v":9311959},0,"OK",9311959,0,null,0,9311959,null,9311959,null,0,0,{"$f":"VLOOKUP(A2704,'Data Pull totals 5-8'!A:C,3,0)","v":0},9311959,0]
[2699,13646687,{"$f":"'Acct Summary 7-8'!E28","v":13646687},0,"OK",13646687,0,null,0,13646687,null,13646687,null,0,0,{"$f":"VLOOKUP(A2706,'Data Pull totals 5-8'!A:C,3,0)","v":0},13646687,0]
[2703,0,null,0,"OK",0,0,null,0,0,null,0,null,0,0,0,0,0]
[2704,0,null,0,"OK",0,0,null,0,0,null,0,null,0,0,0,0,0]
[2708,2365437,{"$f":"'Acct Summary 7-8'!H28","v":2365437},0,"OK",2365437,0,null,0,2365437,null,2365437,null,0,0,{"$f":"VLOOKUP(A2715,'Data Pull totals 5-8'!A:C,3,0)","v":0},2365437,0]
[2709,0,null,0,"OK",0,0,null,0,0,null,0,null,0,0,0,0,0]
[2713,0,null,0,"OK",0,0,null,0,0,null,0,null,0,0,0,0,0]
[2715,0,null,0,"OK",0,0,null,0,0,null,0,null,0,0,0,0,0]
[2718,0,null,0,"OK",0,0,null,0,0,null,0,null,0,0,0,0,0]
[2720,0,null,0,"OK",0,0,null,0,0,null,0,null,0,0,0,0,0]
[2724,0,null,0,"OK",0,0,null,0,0,null,0,null,0,0,0,0,0]
[2725,0,null,0,"OK",0,0,null,0,0,null,0,null,0,0,0,0,0]
[2729,208274220.41,{"$f":"'Expenditures 15-22'!E102","v":208274220.41},0,"OK",207677108.41,0,null,597112,208274220.41,null,208274220.41,null,0,0,{"$f":"VLOOKUP(A2736,'Data Pull totals 5-8'!A:C,3,0)","v":0},208274220.41,0]
[2730,0,{"$f":"'Expenditures 15-22'!H107","v":0},0,"OK",0,0,null,0,0,null,0,null,0,0,0,0,0]
[2734,0,{"$f":"'Expenditures 15-22'!K107","v":0},0,"OK",0,0,null,0,0,null,0,null,0,0,0,0,0]
[2736,314443,{"$f":"'Expenditures 15-22'!C130","v":314443},0,"OK",314443,0,null,0,314443,null,314443,null,0,0,{"$f":"VLOOKUP(A2743,'Data Pull totals 5-8'!A:C,3,0)","v":0},314443,0]
[2739,10083,{"$f":"'Expenditures 15-22'!F130","v":10083},0,"OK",10083,0,null,0,10083,null,10083,null,0,0,{"$f":"VLOOKUP(A2746,'Data Pull totals 5-8'!A:C,3,0)","v":0},10083,0]
[2741,1450000,{"$f":"'Expenditures 15-22'!H130","v":1450000},0,"OK",1450000,0,null,0,1450000,null,1450000,null,0,0,{"$f":"VLOOKUP(A2748,'Data Pull totals 5-8'!A:C,3,0)","v":0},1450000,0]
[2745,12043528,{"$f":"'Acct Summary 7-8'!D50","v":12043528},0,"OK",12043528,0,null,0,12043528,null,12043528,null,0,0,{"$f":"VLOOKUP(A2752,'Data Pull totals 5-8'!A:C,3,0)","v":0},12043528,0]
[2746,0,{"$f":"'Expenditures 15-22'!H144","v":0},0,"OK",0,0,null,0,0,null,0,null,0,0,0,0,0]
[2748,0,null,0,"OK",0,0,null,0,0,null,0,null,0,0,0,0,0]
[2751,0,{"$f":"'Expenditures 15-22'!H165","v":0},0,"OK",0,0,null,0,0,null,0,null,0,0,0,0,0]
[2755,0,null,0,"OK",0,0,null,0,0,null,0,null,0,0,0,0,0]
[2757,0,{"$f":"'Expenditures 15-22'!K165","v":0},0,"OK",0,0,null,0,0,null,0,null,{"$f":"SUM(J2764-L2764)","v":0},0,0,0,{"$f":"SUM(L2764+P2764-Q2764)","v":0}]
[2760,729,{"$f":"'Expenditures 15-22'!D185","v":729},0,"OK",729,0,null,0,729,null,729,null,0,0,{"$f":"VLOOKUP(A2767,'Data Pull totals 5-8'!A:C,3,0)","v":0},729,0]
[2762,12729286,{"$f":"'Expenditures 15-22'!E194","v":12729286},0,"OK",12729286,0,null,0,12729286,null,12729286,null,0,0,{"$f":"VLOOKUP(A2769,'Data Pull totals 5-8'!A:C,3,0)","v":0},12729286,0]
[2766,1250000,{"$f":"'Expenditures 15-22'!H185","v":1250000},0,"OK",1250000,0,null,0,1250000,null,1250000,null,0,0,{"$f":"VLOOKUP(A2773,'Data Pull totals 5-8'!A:C,3,0)","v":0},1250000,0]
[2767,2837858,{"$f":"'Expenditures 15-22'!H194","v":2837858},0,"OK",2837858,0,null,0,2837858,null,2837858,null,0,0,{"$f":"VLOOKUP(A2774,'Data Pull totals 5-8'!A:C,3,0)","v":0},2837858,0]
[2769,2837858,{"$f":"'Expenditures 15-22'!H196","v":2837858},0,"OK",2837858,0,null,0,2837858,null,2837858,null,0,0,{"$f":"VLOOKUP(A2776,'Data Pull totals 5-8'!A:C,3,0)","v":0},2837858,0]
[2772,0,null,0,"OK",0,0,null,0,0,null,0,null,0,0,0,0,0]
[2776,15567144,{"$f":"'Expenditures 15-22'!K194","v":15567144},0,"OK",15567144,0,null,0,15567144,null,15567144,null,0,0,{"$f":"VLOOKUP(A2783,'Data Pull totals 5-8'!A:C,3,0)","v":0},15567144,0]
[2778,0,{"$f":"'Expenditures 15-22'!K195","v":0},0,"OK",0,0,null,0,0,null,0,null,0,0,0,0,0]
[2781,0,{"$f":"'Expenditures 15-22'!K202","v":0},0,"OK",0,0,null,0,0,null,0,null,0,0,0,0,0]
[2783,0,{"$f":"'Expenditures 15-22'!H291","v":0},0,"OK",0,0,null,0,0,null,0,null,0,0,0,0,0]
[2787,3583747,{"$f":"'Acct Summary 7-8'!H50","v":3583747},{"$f":"B2794-C2794","v":0},"OK",3583747,0,null,0,3583747,null,3583747,null,0,0,{"$f":"VLOOKUP(A2794,'Data Pull totals 5-8'!A:C,3,0)","v":0},3583747,0]
[2788,0,null,0,"OK",0,0,null,0,0,null,0,null,0,0,0,0,0]
[2790,0,null,0,"OK",0,0,null,0,0,null,0,null,0,0,0,0,0]
[2793,105042,"ICR",null,null,105042,0,null,0,105042,null,105042,null,0,0,{"$f":"VLOOKUP(A2800,'Data Pull totals 5-8'!A:C,3,0)","v":0},105042,0]
[2797,10161469,"ICR",null,null,10161469,0,null,0,10161469,null,10161469,null,0,0,{"$f":"VLOOKUP(A2804,'Data Pull totals 5-8'!A:C,3,0)","v":0},10161469,0]
[2799,1106319,"ICR",null,null,1106319,0,null,0,1106319,null,1106319,null,0,0,{"$f":"VLOOKUP(A2806,'Data Pull totals 5-8'!A:C,3,0)","v":0},1106319,0]
[2802,0,"ICR",null,"OK",0,0,null,0,0,null,0,null,0,0,0,0,0]
[2805,0,null,0,"OK",0,0,null,0,0,null,0,null,0,0,0,0,0]
[2808,0,null,0,"OK",0,0,null,0,0,null,0,null,0,0,0,0,0]
[2809,0,null,0,"OK",0,0,null,0,0,null,0,null,0,0,0,0,0]
[2811,0,null,0,"OK",0,0,null,0,0,null,0,null,0,0,0,0,0]
[2814,0,null,0,"OK",0,0,null,0,0,null,0,null,0,0,0,0,0]
[2816,0,null,0,"OK",0,0,null,0,0,null,0,null,0,0,0,0,0]
[2820,0,null,0,"OK",0,0,null,0,0,null,0,null,0,0,0,0,0]
[2823,0,null,0,"OK",0,0,null,0,0,null,0,null,0,0,0,0,0]
[2826,-28997,{"$f":"'Assets-Liab 5-6'!I12","v":-28997},0,"OK",-28997,0,null,0,-28997,null,-28997,null,0,0,{"$f":"VLOOKUP(A2833,'Data Pull totals 5-8'!A:C,3,0)","v":0},-28997,0]
[2829,0,null,0,"OK",0,0,null,0,0,null,0,null,0,0,0,0,0]
[2830,0,{"$f":"'Assets-Liab 5-6'!L10","v":0},0,"OK",0,0,null,0,0,null,0,null,0,0,0,0,0]
[2832,0,null,0,"OK",0,0,null,0,0,null,0,null,0,0,0,0,0]
[2835,0,null,0,"OK",0,0,null,0,0,null,0,null,0,0,0,0,0]
[2837,0,null,0,"OK",0,0,null,0,0,null,0,null,0,0,0,0,0]
[2841,0,null,0,"OK",0,0,null,0,0,null,0,null,0,0,0,0,0]
[2844,0,null,0,"OK",0,0,null,0,0,null,0,null,0,0,0,0,0]
[2847,16411818,{"$f":"'Assets-Liab 5-6'!I32","v":16411818},0,"OK",16308010,0,null,21058,16329068,null,16329068,null,0,0,{"$f":"VLOOKUP(A2854,'Data Pull totals 5-8'!A:C,3,0)","v":82750},16411818,0]
[2850,97680018,{"$f":"'Assets-Liab 5-6'!I38","v":97680018},0,"OK",97680018,0,null,0,97680018,null,97680018,null,0,0,{"$f":"VLOOKUP(A2857,'Data Pull totals 5-8'!A:C,3,0)","v":0},97680018,0]
[2851,2158556874.5900002,{"$f":"'Assets-Liab 5-6'!I39","v":2158556874.5900002},{"$f":"B2858-C2858","v":0},"OK",2156916334.5900002,0,null,414534,2157330868.5900002,null,2157330868.5900002,null,0,0,{"$f":"VLOOKUP(A2858,'Data Pull totals 5-8'!A:C,3,0)","v":1226006},2158556874.5900002,0]
[2853,207635603.57000002,{"$f":"'Assets-Liab 5-6'!L33","v":207635603.57000002},0,"OK",207229680.57000002,-2.9802322387695313E-8,null,103105,207332785.57000002,null,207332785.57000002,null,0,0,{"$f":"VLOOKUP(A2860,'Data Pull totals 5-8'!A:C,3,0)","v":302818},207635603.57000002,0]
[2856,253173679.57000002,{"$f":"'Assets-Liab 5-6'!L41","v":253173679.57000002},0,"OK",252767756.57000002,-2.9802322387695313E-8,null,103105,252870861.57000002,null,252870861.57000002,null,0,0,{"$f":"VLOOKUP(A2863,'Data Pull totals 5-8'!A:C,3,0)","v":302818},253173679.57000002,0]
[2859,0,null,0,"OK",0,0,null,0,0,null,0,null,0,0,0,0,0]
[2862,0,null,0,"OK",0,0,null,0,0,null,0,null,0,0,0,0,0]
[2865,0,null,0,"OK",0,0,null,0,0,null,0,null,0,0,0,0,0]
[2868,0,null,0,"OK",0,0,null,0,0,null,0,null,0,0,0,0,0]
[2871,0,null,0,"OK",0,0,null,0,0,null,0,null,0,0,0,0,0]
[2872,0,null,0,"OK",0,0,null,0,0,null,0,null,0,0,0,0,0]
[2874,0,null,0,"OK",0,0,null,0,0,null,0,null,0,0,0,0,0]
[2877,0,null,0,"OK",0,0,null,0,0,null,0,null,0,0,0,0,0]
[2880,0,null,0,"OK",0,0,null,0,0,null,0,null,0,0,0,0,0]
[2883,0,null,0,"OK",0,0,null,0,0,null,0,null,0,0,0,0,0]
[2886,910,{"$f":"'Expenditures 15-22'!E101","v":910},0,"OK",910,0,null,0,910,null,910,null,0,0,{"$f":"VLOOKUP(A2893,'Data Pull totals 5-8'!A:C,3,0)","v":0},910,0]
[2889,118626014.41,{"$f":"'Expenditures 15-22'!E79","v":118626014.41},0,"OK",118618440.41,0,null,7574,118626014.41,null,118626014.41,null,0,0,{"$f":"VLOOKUP(A2896,'Data Pull totals 5-8'!A:C,3,0)","v":0},118626014.41,0]
[2892,1206355,{"$f":"'Expenditures 15-22'!E82","v":1206355},0,"OK",1206355,0,null,0,1206355,null,1206355,null,0,0,{"$f":"VLOOKUP(A2899,'Data Pull totals 5-8'!A:C,3,0)","v":0},1206355,0]
[2893,11204062,{"$f":"'Expenditures 15-22'!E83","v":11204062},0,"OK",10614524,0,null,589538,11204062,null,11204062,null,0,0,{"$f":"VLOOKUP(A2900,'Data Pull totals 5-8'!A:C,3,0)","v":0},11204062,0]
[2895,195518279.53,{"$f":"'Expenditures 15-22'!H79","v":195518279.53},0,"OK",195518279.53,0,null,0,195518279.53,null,195518279.53,null,0,0,{"$f":"VLOOKUP(A2902,'Data Pull totals 5-8'!A:C,3,0)","v":0},195518279.53,0]
[2898,584025,{"$f":"'Expenditures 15-22'!H82","v":584025},0,"OK",584025,0,null,0,584025,null,584025,null,0,0,{"$f":"VLOOKUP(A2905,'Data Pull totals 5-8'!A:C,3,0)","v":0},584025,0]
[2901,0,null,0,"OK",0,0,null,0,0,null,0,null,0,0,0,0,0]
[2904,0,null,0,"OK",0,0,null,0,0,null,0,null,0,0,0,0,0]
[2907,0,null,0,"OK",0,0,null,0,0,null,0,null,0,0,0,0,0]
[2910,0,null,0,"OK",0,0,null,0,0,null,0,null,0,0,0,0,0]
[2912,94569326,{"$f":"'Expenditures 15-22'!K78","v":94569326},0,"OK",94569326,0,null,0,94569326,null,94569326,null,0,0,{"$f":"VLOOKUP(A2919,'Data Pull totals 5-8'!A:C,3,0)","v":0},94569326,0]
[2913,314144293.94,{"$f":"'Expenditures 15-22'!K79","v":314144293.94},0,"OK",314136719.94,0,null,7574,314144293.94,null,314144293.94,null,0,0,{"$f":"VLOOKUP(A2920,'Data Pull totals 5-8'!A:C,3,0)","v":0},314144293.94,0]
[2916,1790380,{"$f":"'Expenditures 15-22'!K82","v":1790380},0,"OK",1790380,0,null,0,1790380,null,1790380,null,0,0,{"$f":"VLOOKUP(A2923,'Data Pull totals 5-8'!A:C,3,0)","v":0},1790380,0]
[2919,828936,{"$f":"'Expenditures 15-22'!H135","v":828936},0,"OK",828936,0,null,0,828936,null,828936,null,0,0,{"$f":"VLOOKUP(A2926,'Data Pull totals 5-8'!A:C,3,0)","v":0},828936,0]
[2922,0,null,0,"OK",0,0,null,0,0,null,0,null,0,0,0,0,0]
[2925,2457130,{"$f":"'Expenditures 15-22'!K134","v":2457130},0,"OK",2457130,0,null,0,2457130,null,2457130,null,0,0,{"$f":"VLOOKUP(A2932,'Data Pull totals 5-8'!A:C,3,0)","v":0},2457130,0]
[2928,5050951,{"$f":"'Expenditures 15-22'!E188","v":5050951},0,"OK",5050951,0,null,0,5050951,null,5050951,null,0,0,{"$f":"VLOOKUP(A2935,'Data Pull totals 5-8'!A:C,3,0)","v":0},5050951,0]
[2931,14909,{"$f":"'Expenditures 15-22'!E191","v":14909},0,"OK",14909,0,null,0,14909,null,14909,null,0,0,{"$f":"VLOOKUP(A2938,'Data Pull totals 5-8'!A:C,3,0)","v":0},14909,0]
[2933,213942,{"$f":"'Expenditures 15-22'!E193","v":213942},0,"OK",213942,0,null,0,213942,null,213942,null,0,0,{"$f":"VLOOKUP(A2940,'Data Pull totals 5-8'!A:C,3,0)","v":0},213942,0]
[2934,930170,{"$f":"'Expenditures 15-22'!H188","v":930170},0,"OK",930170,0,null,0,930170,null,930170,null,0,0,{"$f":"VLOOKUP(A2941,'Data Pull totals 5-8'!A:C,3,0)","v":0},930170,0]
[2937,17023,{"$f":"'Expenditures 15-22'!H191","v":17023},0,"OK",17023,0,null,0,17023,null,17023,null,0,0,{"$f":"VLOOKUP(A2944,'Data Pull totals 5-8'!A:C,3,0)","v":0},17023,0]
[2940,0,null,0,"OK",0,0,null,0,0,null,0,null,0,0,0,0,0]
[2943,0,null,0,"OK",0,0,null,0,0,null,0,null,0,0,0,0,0]
[2946,5981121,{"$f":"'Expenditures 15-22'!K188","v":5981121},0,"OK",5981121,0,null,0,5981121,null,5981121,null,0,0,{"$f":"VLOOKUP(A2953,'Data Pull totals 5-8'!A:C,3,0)","v":0},5981121,0]
[2949,31932,{"$f":"'Expenditures 15-22'!K191","v":31932},0,"OK",31932,0,null,0,31932,null,31932,null,{"$f":"SUM(J2956-L2956)","v":0},0,{"$f":"VLOOKUP(A2956,'Data Pull totals 5-8'!A:C,3,0)","v":0},31932,{"$f":"SUM(L2956+P2956-Q2956)","v":0}]
[2952,0,null,0,"OK",0,0,null,0,0,null,0,null,0,0,0,0,0]
[2954,0,null,0,"OK",0,0,null,0,0,null,0,null,0,0,0,0,0]
[2955,0,null,0,"OK",0,0,null,0,0,null,0,null,0,0,0,0,0]
[2958,0,null,0,"OK",0,0,null,0,0,null,0,null,0,0,0,0,0]
[2961,0,null,0,"OK",0,0,null,0,0,null,0,null,0,0,0,0,0]
[2964,0,null,0,"OK",0,0,null,0,0,null,0,null,0,0,0,0,0]
[2967,0,null,0,"OK",0,0,null,0,0,null,0,null,0,0,0,0,0]
[2970,0,null,0,"OK",0,0,null,0,0,null,0,null,0,0,0,0,0]
[2973,0,null,0,"OK",0,0,null,0,0,null,0,null,0,0,0,0,0]
[2975,0,null,0,"OK",0,0,null,0,0,null,0,null,0,0,0,0,0]
[2976,0,null,0,"OK",0,0,null,0,0,null,0,null,0,0,0,0,0]
[2979,0,null,{"$f":"B2986-C2986","v":0},"OK",0,0,null,0,0,null,0,null,0,0,0,0,0]
[2982,0,null,0,"OK",0,0,null,0,0,null,0,null,0,0,0,0,0]
[2985,0,null,0,"OK",0,0,null,0,0,null,0,null,0,0,0,0,0]
[2987,0,null,0,"OK",0,0,null,0,0,null,0,null,0,0,0,0,0]
[2991,0,null,0,"OK",0,0,null,0,0,null,0,null,0,0,0,0,0]
[2994,155676132.56,{"$f":"'Expenditures 15-22'!C10","v":155676132.56},0,"OK",152159128.56,0,null,3422254,155581382.56,null,155581382.56,null,0,0,{"$f":"VLOOKUP(A3001,'Data Pull totals 5-8'!A:C,3,0)","v":94750},155676132.56,0]
[2996,21655519,{"$f":"'Expenditures 15-22'!E10","v":21655519},0,"OK",20973090,0,null,533849,21506939,null,21506939,null,0,0,{"$f":"VLOOKUP(A3003,'Data Pull totals 5-8'!A:C,3,0)","v":148580},21655519,0]
[2997,47886033.100000001,{"$f":"'Expenditures 15-22'!F10","v":47886033.100000001},0,"OK",47058279.100000001,0,null,144081,47202360.100000001,null,47202360.100000001,null,0,0,{"$f":"VLOOKUP(A3004,'Data Pull totals 5-8'!A:C,3,0)","v":683673},47886033.100000001,0]
[3000,0,null,0,"OK",0,0,null,0,0,null,0,null,0,0,0,0,0]
[3003,7567892.8600000003,{"$f":"'Expenditures 15-22'!D219","v":7567892.8600000003},0,"OK",7433426.8600000003,0,null,133082,7566508.8600000003,null,7566508.8600000003,null,0,0,{"$f":"VLOOKUP(A3010,'Data Pull totals 5-8'!A:C,3,0)","v":1384},7567892.8600000003,0]
[3006,0,null,0,"OK",0,0,null,0,0,null,0,null,0,0,0,0,0]
[3008,0,null,0,"OK",0,0,null,0,0,null,0,null,0,0,0,0,0]
[3012,0,null,0,"OK",0,0,null,0,0,null,0,null,0,0,0,0,0]
[3015,0,null,0,"OK",0,0,null,0,0,null,0,null,0,0,0,0,0]
[3017,13890615,{"$f":"'Acct Summary 7-8'!D33","v":13890615},0,"OK",13890615,0,null,0,13890615,null,13890615,null,0,0,{"$f":"VLOOKUP(A3024,'Data Pull totals 5-8'!A:C,3,0)","v":0},13890615,0]
[3018,444418,{"$f":"'Acct Summary 7-8'!D34","v":444418},0,"OK",444418,0,null,0,444418,null,444418,null,0,0,{"$f":"VLOOKUP(A3025,'Data Pull totals 5-8'!A:C,3,0)","v":0},444418,0]
[3021,2656880773,{"$f":"'Acct Summary 7-8'!E33","v":2656880773},0,"OK",2656880773,0,null,0,2656880773,null,2656880773,null,0,0,{"$f":"VLOOKUP(A3028,'Data Pull totals 5-8'!A:C,3,0)","v":0},2656880773,0]
[3024,0,{"$f":"'Acct Summary 7-8'!F35","v":0},0,"OK",0,0,null,0,0,null,0,null,0,0,0,0,0]
[3027,0,null,0,"OK",0,0,null,0,0,null,0,null,0,0,0,0,0]
[3029,0,null,0,"OK",0,0,null,0,0,null,0,null,0,0,0,0,0]
[3033,0,null,0,"OK",0,0,null,0,0,null,0,null,0,0,0,0,0]
[3036,0,null,0,"OK",0,0,null,0,0,null,0,null,0,0,0,0,0]
[3038,0,null,0,"OK",0,0,null,0,0,null,0,null,0,0,0,0,0]
[3039,0,null,0,"OK",0,0,null,0,0,null,0,null,0,0,0,0,0]
[3042,0,null,0,"OK",0,0,null,0,0,null,0,null,0,0,0,0,0]
[3045,0,null,0,"OK",0,0,null,0,0,null,0,null,0,0,0,0,0]
[3048,0,null,0,"OK",0,0,null,0,0,null,0,null,0,0,0,0,0]
[3050,0,null,0,"OK",0,0,null,0,0,null,0,null,0,0,0,0,0]
[3054,0,null,0,"OK",0,0,null,0,0,null,0,null,0,0,0,0,0]
[3057,0,null,0,"OK",0,0,null,0,0,null,0,null,0,0,0,0,0]
[3059,0,null,0,"OK",0,0,null,0,0,null,0,null,0,0,0,0,0]
[3060,0,null,0,"OK",0,0,null,0,0,null,0,null,0,0,0,0,0]
[3064,0,null,0,"OK",0,0,null,0,0,null,0,null,0,0,0,0,0]
[3066,0,null,0,"OK",0,0,null,0,0,null,0,null,0,0,0,0,0]
[3069,0,null,0,"OK",0,0,null,0,0,null,0,null,0,0,0,0,0]
[3071,0,null,0,"OK",0,0,null,0,0,null,0,null,0,0,0,0,0]
[3075,0,null,0,"OK",0,0,null,0,0,null,0,null,0,0,0,0,0]
[3078,0,null,0,"OK",0,0,null,0,0,null,0,null,0,0,0,0,0]
[3080,0,null,0,"OK",0,0,null,0,0,null,0,null,0,0,0,0,0]
[3081,0,null,0,"OK",0,0,null,0,0,null,0,null,0,0,0,0,0]
[3085,0,null,0,"OK",0,0,null,0,0,null,0,null,0,0,0,0,0]
[3087,0,null,0,"OK",0,0,null,0,0,null,0,null,0,0,0,0,0]
[3090,0,null,0,"OK",0,0,null,0,0,null,0,null,0,0,0,0,0]
[3092,0,null,0,"OK",0,0,null,0,0,null,0,null,0,0,0,0,0]
[3096,0,null,0,"OK",0,0,null,0,0,null,0,null,0,0,0,0,0]
[3099,0,null,0,"OK",0,0,null,0,0,null,0,null,0,0,0,0,0]
[3101,0,null,null,"OK",0,0,null,0,0,null,0,null,0,0,0,0,0]
[3102,0,null,0,"OK",0,0,null,0,0,null,0,null,0,0,0,0,0]
[3106,0,null,0,"OK",0,0,null,0,0,null,0,null,0,0,0,0,0]
[3108,0,null,0,"OK",0,0,null,0,0,null,0,null,0,0,0,0,0]
[3111,0,null,0,"OK",0,0,null,0,0,null,0,null,0,0,0,0,0]
[3113,0,null,0,"OK",0,0,null,0,0,null,0,null,0,0,0,0,0]
[3117,0,null,0,"OK",0,0,null,0,0,null,0,null,0,0,0,0,0]
[3120,0,null,0,"OK",0,0,null,0,0,null,0,null,0,0,0,0,0]
[3122,0,null,0,"OK",0,0,null,0,0,null,0,null,0,0,0,0,0]
[3123,0,null,0,"OK",0,0,null,0,0,null,0,null,0,0,0,0,0]
[3127,0,null,0,"OK",0,0,null,0,0,null,0,null,0,0,0,0,0]
[3129,0,null,0,"OK",0,0,null,0,0,null,0,null,0,0,0,0,0]
[3132,0,null,0,"OK",0,0,null,0,0,null,0,null,0,0,0,0,0]
[3134,0,null,0,"OK",0,0,null,0,0,null,0,null,0,0,0,0,0]
[3138,0,null,0,"OK",0,0,null,0,0,null,0,null,0,0,0,0,0]
[3139,0,null,0,"OK",0,0,null,0,0,null,0,null,0,0,0,0,0]
[3141,0,null,0,"OK",0,0,null,0,0,null,0,null,{"$f":"SUM(J3148-L3148)","v":0},0,0,0,{"$f":"SUM(L3148+P3148-Q3148)","v":0}]
[3144,0,null,0,"OK",0,0,null,0,0,null,0,null,0,0,0,0,0]
[3148,0,null,0,"OK",0,0,null,0,0,null,0,null,0,0,0,0,0]
[3150,0,null,0,"OK",0,0,null,0,0,null,0,null,0,0,0,0,0]
[3153,0,null,0,"OK",0,0,null,0,0,null,0,null,0,0,0,0,0]
[3155,0,null,0,"OK",0,0,null,0,0,null,0,null,0,0,0,0,0]
[3159,0,null,0,"OK",0,0,null,0,0,null,0,null,0,0,0,0,0]
[3160,0,null,0,"OK",0,0,null,0,0,null,0,null,0,0,0,0,0]
[3162,0,null,0,"OK",0,0,null,0,0,null,0,null,0,0,0,0,0]
[3165,92905180.310000002,{"$f":"'Acct Summary 7-8'!I8","v":92905180.310000002},0,"OK",92625933.310000002,0,null,42725,92668658.310000002,null,92668658.310000002,null,0,0,{"$f":"VLOOKUP(A3172,'Data Pull totals 5-8'!A:C,3,0)","v":236522},92905180.310000002,0]
[3169,123178562,{"$f":"'Acct Summary 7-8'!C75","v":123178562},0,"OK",123178562,0,null,0,123178562,null,123178562,null,0,0,{"$f":"VLOOKUP(A3176,'Data Pull totals 5-8'!A:C,3,0)","v":0},123178562,0]
[3171,101269824,{"$f":"'Acct Summary 7-8'!C77","v":101269824},{"$f":"B3178-C3178","v":0},"OK",101365400,0,null,0,101365400,null,101365400,null,0,0,{"$f":"VLOOKUP(A3178,'Data Pull totals 5-8'!A:C,3,0)","v":-95576},101269824,0]
[3174,418035742,{"$f":"'Acct Summary 7-8'!D44","v":418035742},0,"OK",418035742,0,null,0,418035742,null,418035742,null,0,0,{"$f":"VLOOKUP(A3181,'Data Pull totals 5-8'!A:C,3,0)","v":0},418035742,0]
[3176,466366300,{"$f":"'Acct Summary 7-8'!D76","v":466366300},0,"OK",466366300,0,null,0,466366300,null,466366300,null,0,0,{"$f":"VLOOKUP(A3183,'Data Pull totals 5-8'!A:C,3,0)","v":0},466366300,0]
[3180,0,null,0,"OK",0,0,null,0,0,null,0,null,0,0,0,0,0]
[3181,0,null,0,"OK",0,0,null,0,0,null,0,null,0,0,0,0,0]
[3183,0,null,0,"OK",0,0,null,0,0,null,0,null,0,0,0,0,0]
[3186,0,null,0,"OK",0,0,null,0,0,null,0,null,0,0,0,0,0]
[3190,14870822,{"$f":"'Acct Summary 7-8'!F43","v":14870822},0,"OK",14870822,0,null,0,14870822,null,14870822,null,0,0,{"$f":"VLOOKUP(A3197,'Data Pull totals 5-8'!A:C,3,0)","v":0},14870822,0]
[3192,10210782,{"$f":"'Acct Summary 7-8'!F75","v":10210782},0,"OK",10210782,0,null,0,10210782,null,10210782,null,0,0,{"$f":"VLOOKUP(A3199,'Data Pull totals 5-8'!A:C,3,0)","v":0},10210782,0]
[3195,126583477.53999999,{"$f":"'Acct Summary 7-8'!F78","v":126583477.5400002},-2.0861625671386719E-7,"OK",125113966.53999999,1.4901161193847656E-8,null,-269490,124844476.53999999,null,124844476.53999999,null,0,0,{"$f":"VLOOKUP(A3202,'Data Pull totals 5-8'!A:C,3,0)","v":1739001},126583477.53999999,0]
[3197,833358,{"$f":"'Acct Summary 7-8'!G44","v":833358},0,"OK",833358,0,null,0,833358,null,833358,null,0,0,{"$f":"VLOOKUP(A3204,'Data Pull totals 5-8'!A:C,3,0)","v":0},833358,0]
[3201,25508918.439999998,{"$f":"'Acct Summary 7-8'!G78","v":25508918.439999938},5.9604644775390625E-8,{"$f":"IF((D3208 = 0),\"OK\",IF((D3208<-5),\"CHECK ME!\",IF((D3208>5),\"Check Me!\",\"OK\")))","v":"OK"},25316090.439999998,3.7252902984619141E-9,null,98529,25414619.439999998,null,25414619.439999998,null,0,0,{"$f":"VLOOKUP(A3208,'Data Pull totals 5-8'!A:C,3,0)","v":94299},25508918.439999998,0]
[3202,0,null,0,"OK",0,0,null,0,0,null,0,null,0,0,0,0,0]
[3204,0,null,0,"OK",0,0,null,0,0,null,0,null,0,0,0,0,0]
[3207,0,null,0,"OK",0,0,null,0,0,null,0,null,0,0,0,0,0]
[3211,0,null,0,"OK",0,0,null,0,0,null,0,null,0,0,0,0,0]
[3213,3093789864,{"$f":"'Acct Summary 7-8'!E44","v":3093789864},0,"OK",3093694288,0,null,0,3093694288,null,3093694288,null,0,0,{"$f":"VLOOKUP(A3220,'Data Pull totals 5-8'!A:C,3,0)","v":95576},3093789864,0]
[3216,1008240056,{"$f":"'Acct Summary 7-8'!E77","v":1008240056},0,"OK",1008144480,0,null,0,1008144480,null,1008144480,null,0,0,{"$f":"VLOOKUP(A3223,'Data Pull totals 5-8'!A:C,3,0)","v":95576},1008240056,0]
[3218,0,null,null,"OK",0,0,null,0,0,null,0,null,0,0,0,0,0]
[3222,0,null,null,"OK",0,0,null,0,0,null,0,null,0,0,0,0,0]
[3223,0,null,null,"OK",0,0,null,0,0,null,0,null,0,0,0,0,0]
[3225,0,null,0,"OK",0,0,null,0,0,null,0,null,0,0,0,0,0]
[3228,0,null,0,"OK",0,0,null,0,0,null,0,null,0,0,0,0,0]
[3232,0,null,0,"OK",0,0,null,0,0,null,0,null,0,0,0,0,0]
[3234,112195370,{"$f":"'Acct Summary 7-8'!H43","v":112195370},0,"OK",112195370,0,null,0,112195370,null,112195370,null,0,0,{"$f":"VLOOKUP(A3241,'Data Pull totals 5-8'!A:C,3,0)","v":0},112195370,0]
[3237,66590908,{"$f":"'Acct Summary 7-8'!H76","v":66590908},0,"OK",66590908,0,null,0,66590908,null,66590908,null,0,0,{"$f":"VLOOKUP(A3244,'Data Pull totals 5-8'!A:C,3,0)","v":0},66590908,0]
[3240,0,null,0,"OK",0,0,null,0,0,null,0,null,0,0,0,0,0]
[3243,0,null,0,"OK",0,0,null,0,0,null,0,null,0,0,0,0,0]
[3244,0,null,0,"OK",0,0,null,0,0,null,0,null,0,0,0,0,0]
[3246,0,null,0,"OK",0,0,null,0,0,null,0,null,0,0,0,0,0]
[3249,0,null,0,"OK",0,0,null,0,0,null,0,null,0,0,0,0,0]
[3253,0,null,0,"OK",0,0,null,0,0,null,0,null,0,0,0,0,0]
[3255,1488458,{"$f":"'Acct Summary 7-8'!I43","v":1488458},0,"OK",1488458,0,null,0,1488458,null,1488458,null,0,0,{"$f":"VLOOKUP(A3262,'Data Pull totals 5-8'!A:C,3,0)","v":0},1488458,0]
[3258,-94132965,{"$f":"'Acct Summary 7-8'!I77","v":-94132965},0,"OK",-94132965,0,null,0,-94132965,null,-94132965,null,0,0,{"$f":"VLOOKUP(A3265,'Data Pull totals 5-8'!A:C,3,0)","v":0},-94132965,0]
[3261,49690,{"$f":"'Acct Summary 7-8'!I80","v":49690},0,"OK",49690,0,null,0,49690,null,49690,null,0,0,{"$f":"VLOOKUP(A3268,'Data Pull totals 5-8'!A:C,3,0)","v":0},49690,0]
[3264,0,null,0,"OK",0,0,null,0,0,null,0,null,0,0,0,0,0]
[3265,0,null,0,{"$f":"IF((D3272 = 0),\"OK\",IF((D3272<-5),\"CHECK ME!\",IF((D3272>5),\"Check Me!\",\"OK\")))","v":"OK"},0,0,null,0,0,null,0,null,0,0,0,0,0]
[3267,0,null,0,"OK",0,0,null,0,0,null,0,null,0,0,0,0,0]
[3271,0,null,0,"OK",0,0,null,0,0,null,0,null,0,0,0,0,0]
[3274,0,null,0,"OK",0,0,null,0,0,null,0,null,0,0,0,0,0]
[3276,0,null,0,"OK",0,0,null,0,0,null,0,null,0,0,0,0,0]
[3279,0,null,0,"OK",0,0,null,0,0,null,0,null,0,0,0,0,0]
[3282,0,null,0,"OK",0,0,null,0,0,null,0,null,0,0,0,0,0]
[3285,0,null,0,"OK",0,0,null,0,0,null,0,null,0,0,0,0,0]
[3286,0,null,0,"OK",0,0,null,0,0,null,0,null,0,0,0,0,0]
[3288,0,null,0,"OK",0,0,null,0,0,null,0,null,0,0,0,0,0]
[3292,0,null,0,"OK",0,0,null,0,0,null,0,null,0,0,0,0,0]
[3295,0,null,0,"OK",0,0,null,0,0,null,0,null,0,0,0,0,0]
[3297,0,null,0,"OK",0,0,null,0,0,null,0,null,0,0,0,0,0]
[3300,0,null,0,"OK",0,0,null,0,0,null,0,null,0,0,0,0,0]
[3303,0,null,0,"OK",0,0,null,0,0,null,0,null,0,0,0,0,0]
[3306,18857468.539999999,{"$f":"'Expenditures 15-22'!C19","v":18857468.539999999},0,"OK",18549915.539999999,0,null,0,18549915.539999999,null,18549915.539999999,null,0,0,{"$f":"VLOOKUP(A3313,'Data Pull totals 5-8'!A:C,3,0)","v":307553},18857468.539999999,0]
[3307,453122754.07999998,{"$f":"'Expenditures 15-22'!D8","v":453122754.07999998},0,"OK",449772416.07999998,0,null,1263178,451035594.07999998,null,451035594.07999998,null,0,0,{"$f":"VLOOKUP(A3314,'Data Pull totals 5-8'!A:C,3,0)","v":2087160},453122754.07999998,0]
[3309,83354350.00999999,{"$f":"'Expenditures 15-22'!E8","v":83354350.00999999},0,"OK",82761588.00999999,1.4901161193847656E-8,null,7975,82769563.00999999,null,82769563.00999999,null,0,0,{"$f":"VLOOKUP(A3316,'Data Pull totals 5-8'!A:C,3,0)","v":584787},83354350.00999999,0]
[3312,339230,{"$f":"'Expenditures 15-22'!F19","v":339230},0,"OK",339230,0,null,0,339230,null,339230,null,0,0,{"$f":"VLOOKUP(A3319,'Data Pull totals 5-8'!A:C,3,0)","v":0},339230,0]
[3315,61427811,{"$f":"'Expenditures 15-22'!H8","v":61427811},0,"OK",61381968,0,null,0,61381968,null,61381968,null,0,0,{"$f":"VLOOKUP(A3322,'Data Pull totals 5-8'!A:C,3,0)","v":45843},61427811,0]
[3318,0,null,0,"OK",0,0,null,0,0,null,0,null,0,0,0,0,0]
[3321,0,null,0,"OK",0,0,null,0,0,null,0,null,0,0,0,0,0]
[3324,0,null,0,"OK",0,0,null,0,0,null,0,null,0,0,0,0,0]
[3325,0,null,0,"OK",0,0,null,0,0,null,0,null,0,0,0,0,0]
[3328,777474,{"$f":"'Expenditures 15-22'!D228","v":777474},0,"OK",763978,0,null,0,763978,null,763978,null,0,0,{"$f":"VLOOKUP(A3335,'Data Pull totals 5-8'!A:C,3,0)","v":13496},777474,0]
[3330,94115003.590000004,{"$f":"'Expenditures 15-22'!K217","v":94115003.590000004},0,"OK",93434637.590000004,0,null,277407,93712044.590000004,null,93712044.590000004,null,0,0,{"$f":"VLOOKUP(A3337,'Data Pull totals 5-8'!A:C,3,0)","v":402959},94115003.590000004,0]
[3333,0,null,0,"OK",0,0,null,0,0,null,0,null,{"$f":"SUM(J3340-L3340)","v":0},0,0,0,{"$f":"SUM(L3340+P3340-Q3340)","v":0}]
[3336,0,null,0,"OK",0,0,null,0,0,null,0,null,0,0,0,0,0]
[3339,0,null,0,"OK",0,0,null,0,0,null,0,null,0,0,0,0,0]
[3342,0,null,0,"OK",0,0,null,0,0,null,0,null,0,0,0,0,0]
[3345,1116071,{"$f":"'Acct Summary 7-8'!D5","v":1116071},0,"OK",1116071,0,null,0,1116071,null,1116071,null,0,0,{"$f":"VLOOKUP(A3352,'Data Pull totals 5-8'!A:C,3,0)","v":0},1116071,0]
[3346,0,null,0,"OK",0,0,null,0,0,null,0,null,0,0,0,0,0]
[3349,0,null,0,"OK",0,0,null,0,0,null,0,null,0,0,0,0,0]
[3351,0,null,0,"OK",0,0,null,0,0,null,0,null,0,0,0,0,0]
[3354,0,null,0,"OK",0,0,null,0,0,null,0,null,0,0,0,0,0]
[3357,0,null,0,"OK",0,0,null,0,0,null,0,null,0,0,0,0,0]
[3361,392872202.50999999,{"$f":"'Assets-Liab 5-6'!G4","v":392872202.50999999},0,"OK",387951088.50999999,0,null,3411120,391362208.50999999,null,391362208.50999999,null,0,0,{"$f":"VLOOKUP(A3368,'Data Pull totals 5-8'!A:C,3,0)","v":1509994},392872202.50999999,0]
[3363,0,null,{"$f":"B3370-C3370","v":0},"OK",0,0,null,0,0,null,0,null,0,0,0,0,0]
[3366,1708898616.51,{"$f":"'Assets-Liab 5-6'!I4","v":1708898616.51},0,"OK",1707270556.51,0,null,402654,1707673210.51,null,1707673210.51,null,0,0,{"$f":"VLOOKUP(A3373,'Data Pull totals 5-8'!A:C,3,0)","v":1225406},1708898616.51,0]
[3367,0,null,0,"OK",0,0,null,0,0,null,0,null,0,0,0,0,0]
[3370,0,null,0,"OK",0,0,null,0,0,null,0,null,0,0,0,0,0]
[3372,0,null,0,"OK",0,0,null,0,0,null,0,null,0,0,0,0,0]
[3375,0,null,0,"OK",0,0,null,0,0,null,0,null,0,0,0,0,0]
[3378,0,null,0,"OK",0,0,null,0,0,null,0,null,0,0,0,0,0]
[3382,0,null,0,"OK",0,0,null,0,0,null,0,null,0,0,0,0,0]
[3384,0,null,0,"OK",0,0,null,0,0,null,0,null,0,0,0,0,0]
[3387,124371955.86999999,{"$f":"'Tax Sched 24'!C16","v":124371955.86999999},0,"OK",123187033.86999999,1.4901161193847656E-8,null,707503,123894536.86999999,null,123894536.86999999,null,0,0,{"$f":"VLOOKUP(A3394,'Data Pull totals 5-8'!A:C,3,0)","v":477419},124371955.86999999,0]
[3389,310705586.16533262,{"$f":"'Tax Sched 24'!E16","v":310705586.16533262},0,"OK",308153886.16533262,3.5762786865234375E-7,null,1590032,309743918.16533262,null,309743918.16533262,null,0,0,{"$f":"VLOOKUP(A3396,'Data Pull totals 5-8'!A:C,3,0)","v":961668},310705586.16533262,0]
[3390,953569586,{"$f":"'Cap Outlay Deprec 27'!C15","v":953569586},0,"OK",953569586,0,null,0,953569586,null,953569586,null,0,0,{"$f":"VLOOKUP(A3397,'Data Pull totals 5-8'!A:C,3,0)","v":0},953569586,0]
[3393,1057910473.8199999,{"$f":"'Cap Outlay Deprec 27'!F15","v":1057910473.8200002},0,{"$f":"IF((D3400 = 0),\"OK\",IF((D3400<-5),\"CHECK ME!\",IF((D3400>5),\"Check Me!\",\"OK\")))","v":"OK"},1057910473.8199999,1.1920928955078125E-7,null,0,1057910473.8199999,null,1057910473.8199999,null,0,0,{"$f":"VLOOKUP(A3400,'Data Pull totals 5-8'!A:C,3,0)","v":0},1057910473.8199999,0]
[3396,0,null,0,"OK",0,0,null,0,0,null,0,null,0,0,0,0,0]
[3399,0,null,0,"OK",0,0,null,0,0,null,0,null,0,0,0,0,0]
[3403,0,null,0,"OK",0,0,null,0,0,null,0,null,0,0,0,0,0]
[3405,0,null,0,"OK",0,0,null,0,0,null,0,null,0,0,0,0,0]
[3408,0,null,0,"OK",0,0,null,0,0,null,0,null,0,0,0,0,0]
[3410,0,null,0,"OK",0,0,null,0,0,null,0,null,0,0,0,0,0]
[3411,0,null,0,"OK",0,0,null,0,0,null,0,null,0,0,0,0,0]
[3415,0,null,0,"OK",0,0,null,0,0,null,0,null,0,0,0,0,0]
[3417,0,null,0,"OK",0,0,null,0,0,null,0,null,0,0,0,0,0]
[3420,0,null,0,"OK",0,0,null,0,0,null,0,null,0,0,0,0,0]
[3424,110678,{"$f":"'Expenditures 15-22'!F125","v":110678},0,"OK",110678,0,null,0,110678,null,110678,null,0,0,{"$f":"VLOOKUP(A3431,'Data Pull totals 5-8'!A:C,3,0)","v":0},110678,0]
[3426,0,{"$f":"'Expenditures 15-22'!H125","v":0},0,"OK",0,0,null,0,0,null,0,null,0,0,0,0,0]
[3429,1738,{"$f":"'Acct Summary 7-8'!E26","v":1738},0,"OK",1738,0,null,0,1738,null,1738,null,0,0,{"$f":"VLOOKUP(A3436,'Data Pull totals 5-8'!A:C,3,0)","v":0},1738,0]
[3431,85000,{"$f":"'Acct Summary 7-8'!G26","v":85000},0,"OK",85000,0,null,0,85000,null,85000,null,0,0,{"$f":"VLOOKUP(A3438,'Data Pull totals 5-8'!A:C,3,0)","v":0},85000,0]
[3432,9154948,{"$f":"'Acct Summary 7-8'!H26","v":9154948},0,"OK",9154948,0,null,0,9154948,null,9154948,null,0,0,{"$f":"VLOOKUP(A3439,'Data Pull totals 5-8'!A:C,3,0)","v":0},9154948,0]
[3436,0,null,0,"OK",0,0,null,0,0,null,0,null,0,0,0,0,0]
[3438,0,null,0,"OK",0,0,null,0,0,null,0,null,0,0,0,0,0]
[3441,0,null,0,"OK",0,0,null,0,0,null,0,null,0,0,0,0,0]
[3445,0,null,0,"OK",0,0,null,0,0,null,0,null,0,0,0,0,0]
[3447,0,null,0,"OK",0,0,null,0,0,null,0,null,0,0,0,0,0]
[3450,0,null,0,"OK",0,0,null,0,0,null,0,null,0,0,0,0,0]
[3452,0,null,0,"OK",0,0,null,0,0,null,0,null,0,0,0,0,0]
[3453,0,null,0,"OK",0,0,null,0,0,null,0,null,0,0,0,0,0]
[3457,0,null,0,{"$f":"IF((D3464 = 0),\"OK\",IF((D3464<-5),\"CHECK ME!\",IF((D3464>5),\"Check Me!\",\"OK\")))","v":"OK"},0,0,null,0,0,null,0,null,0,0,0,0,0]
[3459,0,null,0,"OK",0,0,null,0,0,null,0,null,0,0,0,0,0]
[3462,0,null,0,"OK",0,0,null,0,0,null,0,null,0,0,0,0,0]
[3466,0,null,0,"OK",0,0,null,0,0,null,0,null,0,0,0,0,0]
[3468,0,null,0,"OK",0,0,null,0,0,null,0,null,0,0,0,0,0]
[3469,895457,{"$f":"'Acct Summary 7-8'!C36","v":895457},0,"OK",895457,0,null,0,895457,null,895457,null,0,0,{"$f":"VLOOKUP(A3476,'Data Pull totals 5-8'!A:C,3,0)","v":0},895457,0]
[3473,14441016,{"$f":"'Acct Summary 7-8'!H36","v":14441016},0,"OK",14441016,0,null,0,14441016,null,14441016,null,0,0,{"$f":"VLOOKUP(A3480,'Data Pull totals 5-8'!A:C,3,0)","v":0},14441016,0]
[3474,0,null,0,"OK",0,0,null,0,0,null,0,null,0,0,0,0,0]
[3478,0,null,0,"OK",0,0,null,0,0,null,0,null,0,0,0,0,0]
[3480,0,null,0,"OK",0,0,null,0,0,null,0,null,0,0,0,0,0]
[3483,0,null,0,"OK",0,0,null,0,0,null,0,null,0,0,0,0,0]
[3485,249518443.78999999,{"$f":"'Assets-Liab 5-6'!K4","v":249518443.78999999},0,"OK",248622325.78999999,0,null,876417,249498742.78999999,null,249498742.78999999,null,0,0,{"$f":"VLOOKUP(A3492,'Data Pull totals 5-8'!A:C,3,0)","v":19701},249518443.78999999,0]
[3489,88053333,{"$f":"'Assets-Liab 5-6'!K5","v":88053333},0,"OK",88053333,0,null,0,88053333,null,88053333,null,0,0,{"$f":"VLOOKUP(A3496,'Data Pull totals 5-8'!A:C,3,0)","v":0},88053333,0]
[3490,17,{"$f":"'Assets-Liab 5-6'!K12","v":17},0,"OK",17,0,null,0,17,null,17,null,0,0,{"$f":"VLOOKUP(A3497,'Data Pull totals 5-8'!A:C,3,0)","v":0},17,0]
[3494,0,null,0,"OK",0,0,null,0,0,null,0,null,0,0,0,0,0]
[3495,0,null,0,"OK",0,0,null,0,0,null,0,null,0,0,0,0,0]
[3499,0,null,0,"OK",0,0,null,0,0,null,0,null,0,0,0,0,0]
[3501,12492502,{"$f":"'Assets-Liab 5-6'!K32","v":12492502},0,"OK",12468284,0,null,21058,12489342,null,12489342,null,0,0,{"$f":"VLOOKUP(A3508,'Data Pull totals 5-8'!A:C,3,0)","v":3160},12492502,0]
[3505,74160835,{"$f":"'Assets-Liab 5-6'!K38","v":74160835},0,"OK",74160835,0,null,0,74160835,null,74160835,null,0,0,{"$f":"VLOOKUP(A3512,'Data Pull totals 5-8'!A:C,3,0)","v":0},74160835,0]
[3506,245065303.59,{"$f":"'Assets-Liab 5-6'!K39","v":245065303.59},0,"OK",244157281.59,0,null,888298,245045579.59,null,245045579.59,null,0,0,{"$f":"VLOOKUP(A3513,'Data Pull totals 5-8'!A:C,3,0)","v":19724},245065303.59,0]
[3510,58757502.359999999,{"$f":"'Acct Summary 7-8'!K8","v":58757502.359999992},0,"OK",58708262.359999999,0,null,42725,58750987.359999999,null,58750987.359999999,null,0,0,{"$f":"VLOOKUP(A3517,'Data Pull totals 5-8'!A:C,3,0)","v":6515},58757502.359999999,0]
[3511,165652408.05000001,{"$f":"'Acct Summary 7-8'!K13","v":165652408.05000001},0,"OK",165652408.05000001,0,null,0,165652408.05000001,null,165652408.05000001,null,0,0,{"$f":"VLOOKUP(A3518,'Data Pull totals 5-8'!A:C,3,0)","v":0},165652408.05000001,0]
[3515,-107875465.69,{"$f":"'Acct Summary 7-8'!K20","v":-107875465.69000003},0,"OK",-107924705.69,0,null,42725,-107881980.69,null,-107881980.69,null,0,0,{"$f":"VLOOKUP(A3522,'Data Pull totals 5-8'!A:C,3,0)","v":6515},-107875465.69,0]
[3516,4557,{"$f":"'Acct Summary 7-8'!K26","v":4557},0,"OK",4557,0,null,0,4557,null,4557,null,0,0,{"$f":"VLOOKUP(A3523,'Data Pull totals 5-8'!A:C,3,0)","v":0},4557,0]
[3520,0,{"$f":"'Acct Summary 7-8'!K35","v":0},0,"OK",0,0,null,0,0,null,0,null,0,0,0,0,0]
[3522,2623139,{"$f":"'Acct Summary 7-8'!K43","v":2623139},0,"OK",2623139,0,null,0,2623139,null,2623139,null,0,0,{"$f":"VLOOKUP(A3529,'Data Pull totals 5-8'!A:C,3,0)","v":0},2623139,0]
[3526,110466919,{"$f":"'Acct Summary 7-8'!K77","v":110466919},0,"OK",110466919,0,null,0,110466919,null,110466919,null,0,0,{"$f":"VLOOKUP(A3533,'Data Pull totals 5-8'!A:C,3,0)","v":0},110466919,0]
[3527,2591453.3100000005,{"$f":"'Acct Summary 7-8'!K78","v":2591453.3099999726},2.7939677238464355E-8,"OK",2542213.3100000005,-4.6566128730773926E-10,null,42725,2584938.3100000005,null,2584938.3100000005,null,0,0,{"$f":"VLOOKUP(A3534,'Data Pull totals 5-8'!A:C,3,0)","v":6515},2591453.3100000005,0]
[3531,0,null,0,"OK",0,0,null,0,0,null,0,null,0,0,0,0,0]
[3532,0,null,0,"OK",0,0,null,0,0,null,0,null,0,0,0,0,0]
[3536,0,null,0,"OK",0,0,null,0,0,null,0,null,0,0,0,0,0]
[3537,0,null,0,"OK",0,0,null,0,0,null,0,null,0,0,0,0,0]
[3541,0,null,0,"OK",0,0,null,0,0,null,0,null,0,0,0,0,0]
[3543,0,null,0,"OK",0,0,null,0,0,null,0,null,0,0,0,0,0]
[3547,0,null,0,"OK",0,0,null,0,0,null,0,null,0,0,0,0,0]
[3548,0,null,0,"OK",0,0,null,0,0,null,0,null,0,0,0,0,0]
[3552,0,null,0,"OK",0,0,null,0,0,null,0,null,0,0,0,0,0]
[3553,0,null,0,"OK",0,0,null,0,0,null,0,null,0,0,0,0,0]
[3557,788477,{"$f":"'Expenditures 15-22'!C349","v":788477},0,"OK",788477,0,null,0,788477,null,788477,null,0,0,{"$f":"VLOOKUP(A3564,'Data Pull totals 5-8'!A:C,3,0)","v":0},788477,0]
[3559,22247,{"$f":"'Expenditures 15-22'!C351","v":22247},0,"OK",22247,0,null,0,22247,null,22247,null,0,0,{"$f":"VLOOKUP(A3566,'Data Pull totals 5-8'!A:C,3,0)","v":0},22247,0]
[3562,0,null,0,"OK",0,0,null,0,0,null,0,null,0,0,0,0,0]
[3564,131500,{"$f":"'Expenditures 15-22'!D349","v":131500},0,"OK",131500,0,null,0,131500,null,131500,null,0,0,{"$f":"VLOOKUP(A3571,'Data Pull totals 5-8'!A:C,3,0)","v":0},131500,0]
[3568,174247,{"$f":"'Expenditures 15-22'!D367","v":174247},0,"OK",174247,0,null,0,174247,null,174247,null,0,0,{"$f":"VLOOKUP(A3575,'Data Pull totals 5-8'!A:C,3,0)","v":0},174247,0]
[3569,0,null,0,"OK",0,0,null,0,0,null,0,null,0,0,0,0,0]
[3573,1530958,{"$f":"'Expenditures 15-22'!E351","v":1530958},0,"OK",1530958,0,null,0,1530958,null,1530958,null,0,0,{"$f":"VLOOKUP(A3580,'Data Pull totals 5-8'!A:C,3,0)","v":0},1530958,0]
[3574,30427026.780000001,{"$f":"'Expenditures 15-22'!E352","v":30427026.780000001},0,"OK",30427026.780000001,0,null,0,30427026.780000001,null,30427026.780000001,null,0,0,{"$f":"VLOOKUP(A3581,'Data Pull totals 5-8'!A:C,3,0)","v":0},30427026.780000001,0]
[3578,789274,{"$f":"'Expenditures 15-22'!F349","v":789274},0,"OK",789274,0,null,0,789274,null,789274,null,0,0,{"$f":"VLOOKUP(A3585,'Data Pull totals 5-8'!A:C,3,0)","v":0},789274,0]
[3580,0,{"$f":"'Expenditures 15-22'!F351","v":0},0,"OK",0,0,null,0,0,null,0,null,0,0,0,0,0]
[3583,0,null,0,"OK",0,0,null,0,0,null,0,null,0,0,0,0,0]
[3585,35203020.219999999,{"$f":"'Expenditures 15-22'!G349","v":35203020.219999999},0,{"$f":"IF((D3592 = 0),\"OK\",IF((D3592<-5),\"CHECK ME!\",IF((D3592>5),\"Check Me!\",\"OK\")))","v":"OK"},35203020.219999999,0,null,0,35203020.219999999,null,35203020.219999999,null,0,0,{"$f":"VLOOKUP(A3592,'Data Pull totals 5-8'!A:C,3,0)","v":0},35203020.219999999,0]
[3589,131892889.27,{"$f":"'Expenditures 15-22'!G367","v":131892889.27},0,"OK",131892889.27,0,null,0,131892889.27,null,131892889.27,null,{"$f":"SUM(J3596-L3596)","v":0},0,{"$f":"VLOOKUP(A3596,'Data Pull totals 5-8'!A:C,3,0)","v":0},131892889.27,{"$f":"SUM(L3596+P3596-Q3596)","v":0}]
[3590,0,null,0,"OK",0,0,null,0,0,null,0,null,0,0,0,0,0]
[3594,26902,{"$f":"'Expenditures 15-22'!H351","v":26902},0,"OK",26902,0,null,0,26902,null,26902,null,0,0,{"$f":"VLOOKUP(A3601,'Data Pull totals 5-8'!A:C,3,0)","v":0},26902,0]
[3595,914904,{"$f":"'Expenditures 15-22'!H352","v":914904},0,"OK",914904,0,null,0,914904,null,914904,null,0,0,{"$f":"VLOOKUP(A3602,'Data Pull totals 5-8'!A:C,3,0)","v":0},914904,0]
[3599,1895464,{"$f":"'Expenditures 15-22'!H367","v":1895464},0,"OK",1895464,0,null,0,1895464,null,1895464,null,0,0,{"$f":"VLOOKUP(A3606,'Data Pull totals 5-8'!A:C,3,0)","v":0},1895464,0]
[3601,0,null,0,"OK",0,0,null,0,0,null,0,null,0,0,0,0,0]
[3604,0,null,0,"OK",0,0,null,0,0,null,0,null,0,0,0,0,0]
[3606,0,null,0,"OK",0,0,null,0,0,null,0,null,0,0,0,0,0]
[3610,1580107,{"$f":"'Expenditures 15-22'!K351","v":1580107},0,"OK",1580107,0,null,0,1580107,null,1580107,null,0,0,{"$f":"VLOOKUP(A3617,'Data Pull totals 5-8'!A:C,3,0)","v":0},1580107,0]
[3611,165652408.05000001,{"$f":"'Expenditures 15-22'!K352","v":165652408.05000001},0,"OK",165652408.05000001,0,null,0,165652408.05000001,null,165652408.05000001,null,0,0,{"$f":"VLOOKUP(A3618,'Data Pull totals 5-8'!A:C,3,0)","v":0},165652408.05000001,0]
[3613,238830,{"$f":"'Expenditures 15-22'!K357","v":238830},0,"OK",0,238830,"ok",0,0,null,238830,null,-238830,-238830,{"$f":"VLOOKUP(A3620,'Data Pull totals 5-8'!A:C,3,0)","v":0},238830,0]
[3616,0,null,0,"OK",0,0,null,0,0,null,0,null,0,0,0,0,0]
[3620,-107875465.69,{"$f":"'Expenditures 15-22'!K368","v":-107875465.69000003},0,"OK",-107924705.69,0,null,42725,-107881980.69,null,-107881980.69,null,0,0,{"$f":"VLOOKUP(A3627,'Data Pull totals 5-8'!A:C,3,0)","v":6515},-107875465.69,0]
[3622,0,{"$f":"'Short-Term Long-Term Debt 25'!C19","v":0},0,"OK",0,0,null,0,0,null,0,null,0,0,0,0,0]
[3625,0,{"$f":"'Short-Term Long-Term Debt 25'!E13","v":0},0,"OK",0,0,null,0,0,null,0,null,0,0,0,0,0]
[3627,0,{"$f":"'Short-Term Long-Term Debt 25'!F13","v":0},0,"OK",0,0,null,0,0,null,0,null,0,0,0,0,0]
[3631,0,null,0,"OK",0,0,null,0,0,null,0,null,0,0,0,0,0]
[3632,0,null,0,"OK",0,0,null,0,0,null,0,null,0,0,0,0,0]
[3634,0,null,0,"OK",0,0,null,0,0,null,0,null,0,0,0,0,0]
[3637,52950,{"$f":"'Acct Summary 7-8'!D30","v":52950},0,"OK",52950,0,null,0,52950,null,52950,null,0,0,{"$f":"VLOOKUP(A3644,'Data Pull totals 5-8'!A:C,3,0)","v":0},52950,0]
[3639,0,null,0,"OK",0,0,null,0,0,null,0,null,0,0,0,0,0]
[3643,0,null,0,"OK",0,0,null,0,0,null,0,null,0,0,0,0,0]
[3646,0,null,0,"OK",0,0,null,0,0,null,0,null,0,0,0,0,0]
[3649,0,null,0,{"$f":"IF((D3656 = 0),\"OK\",IF((D3656<-5),\"CHECK ME!\",IF((D3656>5),\"Check Me!\",\"OK\")))","v":"OK"},0,0,null,0,0,null,0,null,0,0,0,0,0]
[3652,0,null,0,"OK",0,0,null,0,0,null,0,null,0,0,0,0,0]
[3653,0,null,0,"OK",0,0,null,0,0,null,0,null,{"$f":"SUM(J3660-L3660)","v":0},0,0,0,{"$f":"SUM(L3660+P3660-Q3660)","v":0}]
[3655,0,null,0,"OK",0,0,null,0,0,null,0,null,0,0,0,0,0]
[3658,0,"                                                                                                                                                                                                                   ",null,"OK",0,0,null,0,0,null,0,null,0,0,0,0,0]
[3660,1739617,{"$f":"'Expenditures 15-22'!D283","v":1739617},0,"OK",1739617,0,null,0,1739617,null,1739617,null,0,0,{"$f":"VLOOKUP(A3667,'Data Pull totals 5-8'!A:C,3,0)","v":0},1739617,0]
[3664,36774589.710000001,{"$f":"'Tax Sched 24'!B13","v":36774589.710000001},0,"OK",36731864.710000001,0,null,42725,36774589.710000001,null,36774589.710000001,null,0,0,{"$f":"VLOOKUP(A3671,'Data Pull totals 5-8'!A:C,3,0)","v":0},36774589.710000001,0]
[3667,27790682.593277302,{"$f":"'Tax Sched 24'!F13","v":27790682.593277298},0,"OK",27764180.593277302,0,null,26502,27790682.593277302,null,27790682.593277302,null,0,0,{"$f":"VLOOKUP(A3674,'Data Pull totals 5-8'!A:C,3,0)","v":0},27790682.593277302,0]
[3670,0,null,0,"OK",0,0,null,0,0,null,0,null,0,0,0,0,0]
[3673,0,null,0,"OK",0,0,null,0,0,null,0,null,0,0,0,0,0]
[3674,0,null,0,"OK",0,0,null,0,0,null,0,null,0,0,0,0,0]
[3676,0,null,0,"OK",0,0,null,0,0,null,0,null,0,0,0,0,0]
[3679,0,null,0,"OK",0,0,null,0,0,null,0,null,0,0,0,0,0]
[3681,0,null,0,"OK",0,0,null,0,0,null,0,null,0,0,0,0,0]
[3685,0,null,0,"OK",0,0,null,0,0,null,0,null,0,0,0,0,0]
[3688,0,null,0,"OK",0,0,null,0,0,null,0,null,0,0,0,0,0]
[3691,0,null,0,"OK",0,0,null,0,0,null,0,null,0,0,0,0,0]
[3694,0,null,0,"OK",0,0,null,0,0,null,0,null,0,0,0,0,0]
[3695,0,null,0,"OK",0,0,null,0,0,null,0,null,0,0,0,0,0]
[3697,0,null,0,"OK",0,0,null,0,0,null,0,null,0,0,0,0,0]
[3700,0,null,0,"OK",0,0,null,0,0,null,0,null,0,0,0,0,0]
[3703,0,null,0,"OK",0,0,null,0,0,null,0,null,0,0,0,0,0]
[3706,0,null,0,"OK",0,0,null,0,0,null,0,null,0,0,0,0,0]
[3709,0,null,0,"OK",0,0,null,0,0,null,0,null,0,0,0,0,0]
[3712,0,null,0,"OK",0,0,null,0,0,null,0,null,0,0,0,0,0]
[3714,0,null,0,"OK",0,0,null,0,0,null,0,null,0,0,0,0,0]
[3717,0,null,0,"OK",0,0,null,0,0,null,0,null,{"$f":"SUM(J3724-L3724)","v":0},0,0,0,{"$f":"SUM(L3724+P3724-Q3724)","v":0}]
[3718,0,null,0,"OK",0,0,null,0,0,null,0,null,0,0,0,0,0]
[3721,0,null,0,"OK",0,0,null,0,0,null,0,null,0,0,0,0,0]
[3724,0,null,0,"OK",0,0,null,0,0,null,0,null,0,0,0,0,0]
[3727,0,null,0,"OK",0,0,null,0,0,null,0,null,0,0,0,0,0]
[3730,0,null,0,"OK",0,0,null,0,0,null,0,null,0,0,0,0,0]
[3733,0,null,0,"OK",0,0,null,0,0,null,0,null,0,0,0,0,0]
[3735,0,null,0,"OK",0,0,null,0,0,null,0,null,0,0,0,0,0]
[3736,0,null,0,"OK",0,0,null,0,0,null,0,null,0,0,0,0,0]
[3739,0,null,0,"OK",0,0,null,0,0,null,0,null,0,0,0,0,0]
[3742,0,null,0,"OK",0,0,null,0,0,null,0,null,0,0,0,0,0]
[3745,0,null,0,"OK",0,0,null,0,0,null,0,null,0,0,0,0,0]
[3748,0,null,0,"OK",0,0,null,0,0,null,0,null,0,0,0,0,0]
[3751,0,null,0,"OK",0,0,null,0,0,null,0,null,0,0,0,0,0]
[3754,0,null,0,"OK",0,0,null,0,0,null,0,null,0,0,0,0,0]
[3756,0,null,0,"OK",0,0,null,0,0,null,0,null,0,0,0,0,0]
[3757,0,null,0,"OK",0,0,null,0,0,null,0,null,0,0,0,0,0]
[3760,0,null,0,"OK",0,0,null,0,0,null,0,null,0,0,0,0,0]
[3763,0,null,0,"OK",0,0,null,0,0,null,0,null,0,0,0,0,0]
[3766,0,null,0,"OK",0,0,null,0,0,null,0,null,0,0,0,0,0]
[3769,0,null,0,"OK",0,0,null,0,0,null,0,null,0,0,0,0,0]
[3772,0,null,0,"OK",0,0,null,0,0,null,0,null,0,0,0,0,0]
[3775,0,null,0,"OK",0,0,null,0,0,null,0,null,0,0,0,0,0]
[3777,0,null,0,{"$f":"IF((D3784 = 0),\"OK\",IF((D3784<-5),\"CHECK ME!\",IF((D3784>5),\"Check Me!\",\"OK\")))","v":"OK"},0,0,null,0,0,null,0,null,0,0,0,0,0]
[3778,0,null,0,"OK",0,0,null,0,0,null,0,null,0,0,0,0,0]
[3781,0,null,0,"OK",0,0,null,0,0,null,0,null,{"$f":"SUM(J3788-L3788)","v":0},0,0,0,{"$f":"SUM(L3788+P3788-Q3788)","v":0}]
[3784,0,null,0,"OK",0,0,null,0,0,null,0,null,0,0,0,0,0]
[3787,0,null,0,"OK",0,0,null,0,0,null,0,null,0,0,0,0,0]
[3790,0,null,0,"OK",0,0,null,0,0,null,0,null,0,0,0,0,0]
[3793,0,null,0,"OK",0,0,null,0,0,null,0,null,0,0,0,0,0]
[3796,0,null,0,"OK",0,0,null,0,0,null,0,null,0,0,0,0,0]
[3798,0,null,0,"OK",0,0,null,0,0,null,0,null,0,0,0,0,0]
[3799,0,null,0,"OK",0,0,null,0,0,null,0,null,0,0,0,0,0]
[3802,0,null,0,"OK",0,0,null,0,0,null,0,null,0,0,0,0,0]
[3805,0,null,0,"OK",0,0,null,0,0,null,0,null,0,0,0,0,0]
[3808,0,null,0,"OK",0,0,null,0,0,null,0,null,0,0,0,0,0]
[3810,0,null,0,"OK",0,0,null,0,0,null,0,null,0,0,0,0,0]
[3814,0,null,0,"OK",0,0,null,0,0,null,0,null,0,0,0,0,0]
[3817,0,null,0,"OK",0,0,null,0,0,null,0,null,0,0,0,0,0]
[3819,0,null,0,"OK",0,0,null,0,0,null,0,null,0,0,0,0,0]
[3820,0,null,0,"OK",0,0,null,0,0,null,0,null,0,0,0,0,0]
[3823,0,null,0,"OK",0,0,null,0,0,null,0,null,0,0,0,0,0]
[3826,0,null,0,"OK",0,0,null,0,0,null,0,null,0,0,0,0,0]
[3829,0,null,0,"OK",0,0,null,0,0,null,0,null,0,0,0,0,0]
[3831,0,null,0,"OK",0,0,null,0,0,null,0,null,0,0,0,0,0]
[3835,0,null,0,"OK",0,0,null,0,0,null,0,null,0,0,0,0,0]
[3838,0,null,0,"OK",0,0,null,0,0,null,0,null,0,0,0,0,0]
[3840,0,null,0,"OK",0,0,null,0,0,null,0,null,0,0,0,0,0]
[3841,0,null,0,{"$f":"IF((D3848 = 0),\"OK\",IF((D3848<-5),\"CHECK ME!\",IF((D3848>5),\"Check Me!\",\"OK\")))","v":"OK"},0,0,null,0,0,null,0,null,0,0,0,0,0]
[3844,0,null,0,"OK",0,0,null,0,0,null,0,null,0,0,0,0,0]
[3847,0,null,0,"OK",0,0,null,0,0,null,0,null,0,0,0,0,0]
[3850,0,null,0,"OK",0,0,null,0,0,null,0,null,0,0,0,0,0]
[3852,0,null,0,"OK",0,0,null,0,0,null,0,null,0,0,0,0,0]
[3856,0,null,0,"OK",0,0,null,0,0,null,0,null,0,0,0,0,0]
[3859,0,null,0,"OK",0,0,null,0,0,null,0,null,0,0,0,0,0]
[3861,0,null,0,"OK",0,0,null,0,0,null,0,null,0,0,0,0,0]
[3862,0,null,0,"OK",0,0,null,0,0,null,0,null,0,0,0,0,0]
[3865,0,null,0,"OK",0,0,null,0,0,null,0,null,0,0,0,0,0]
[3868,0,null,0,"OK",0,0,null,0,0,null,0,null,0,0,0,0,0]
[3871,0,null,0,"OK",0,0,null,0,0,null,0,null,0,0,0,0,0]
[3873,0,null,0,"OK",0,0,null,0,0,null,0,null,0,0,0,0,0]
[3877,0,null,0,"OK",0,0,null,0,0,null,0,null,0,0,0,0,0]
[3880,0,null,0,"OK",0,0,null,0,0,null,0,null,0,0,0,0,0]
[3882,0,null,0,"OK",0,0,null,0,0,null,0,null,0,0,0,0,0]
[3883,0,null,0,"OK",0,0,null,0,0,null,0,null,0,0,0,0,0]
[3887,0,null,0,"OK",0,0,null,0,0,null,0,null,0,0,0,0,0]
[3889,0,null,0,"OK",0,0,null,0,0,null,0,null,0,0,0,0,0]
[3892,0,null,0,"OK",0,0,null,0,0,null,0,null,0,0,0,0,0]
[3894,0,null,0,"OK",0,0,null,0,0,null,0,null,0,0,0,0,0]
[3898,0,null,0,"OK",0,0,null,0,0,null,0,null,0,0,0,0,0]
[3901,0,null,0,"OK",0,0,null,0,0,null,0,null,0,0,0,0,0]
[3903,0,null,0,"OK",0,0,null,0,0,null,0,null,0,0,0,0,0]
[3904,0,null,0,"OK",0,0,null,0,0,null,0,null,0,0,0,0,0]
[3908,0,null,0,"OK",0,0,null,0,0,null,0,null,0,0,0,0,0]
[3910,0,null,0,"OK",0,0,null,0,0,null,0,null,0,0,0,0,0]
[3913,0,null,0,"OK",0,0,null,0,0,null,0,null,0,0,0,0,0]
[3915,0,null,0,"OK",0,0,null,0,0,null,0,null,0,0,0,0,0]
[3919,0,null,0,"OK",0,0,null,0,0,null,0,null,0,0,0,0,0]
[3922,0,null,0,"OK",0,0,null,0,0,null,0,null,0,0,0,0,0]
[3924,0,null,0,"OK",0,0,null,0,0,null,0,null,0,0,0,0,0]
[3925,0,null,0,"OK",0,0,null,0,0,null,0,null,0,0,0,0,0]
[3929,0,null,0,"OK",0,0,null,0,0,null,0,null,0,0,0,0,0]
[3931,0,null,0,"OK",0,0,null,0,0,null,0,null,0,0,0,0,0]
[3934,0,null,0,"OK",0,0,null,0,0,null,0,null,0,0,0,0,0]
[3936,0,null,0,"OK",0,0,null,0,0,null,0,null,0,0,0,0,0]
[3940,0,null,0,"OK",0,0,null,0,0,null,0,null,0,0,0,0,0]
[3943,0,null,0,"OK",0,0,null,0,0,null,0,null,0,0,0,0,0]
[3945,0,null,0,"OK",0,0,null,0,0,null,0,null,0,0,0,0,0]
[3946,0,null,0,"OK",0,0,null,0,0,null,0,null,0,0,0,0,0]
[3950,0,null,0,"OK",0,0,null,0,0,null,0,null,0,0,0,0,0]
[3952,0,null,0,"OK",0,0,null,0,0,null,0,null,0,0,0,0,0]
[3955,0,null,0,"OK",0,0,null,0,0,null,0,null,0,0,0,0,0]
[3957,0,null,0,"OK",0,0,null,0,0,null,0,null,0,0,0,0,0]
[3961,0,null,0,"OK",0,0,null,0,0,null,0,null,0,0,0,0,0]
[3962,0,null,0,"OK",0,0,null,0,0,null,0,null,0,0,0,0,0]
[3964,0,null,0,"OK",0,0,null,0,0,null,0,null,0,0,0,0,0]
[3967,0,null,0,"OK",0,0,null,0,0,null,0,null,0,0,0,0,0]
[3971,0,null,0,"OK",0,0,null,0,0,null,0,null,0,0,0,0,0]
[3973,0,null,0,"OK",0,0,null,0,0,null,0,null,{"$f":"SUM(J3980-L3980)","v":0},0,0,0,{"$f":"SUM(L3980+P3980-Q3980)","v":0}]
[3976,0,null,0,"OK",0,0,null,0,0,null,0,null,0,0,0,0,0]
[3978,0,null,0,"OK",0,0,null,0,0,null,0,null,0,0,0,0,0]
[3982,0,null,0,"OK",0,0,null,0,0,null,0,null,0,0,0,0,0]
[3983,0,null,0,"OK",0,0,null,0,0,null,0,null,0,0,0,0,0]
[3985,0,null,0,"OK",0,0,null,0,0,null,0,null,0,0,0,0,0]
[3988,0,null,0,"OK",0,0,null,0,0,null,0,null,0,0,0,0,0]
[3992,0,null,0,"OK",0,0,null,0,0,null,0,null,0,0,0,0,0]
[3994,0,null,0,"OK",0,0,null,0,0,null,0,null,0,0,0,0,0]
[3997,0,null,0,"OK",0,0,null,0,0,null,0,null,0,0,0,0,0]
[3999,0,null,0,"OK",0,0,null,0,0,null,0,null,0,0,0,0,0]
[4003,0,null,{"$f":"B4010-C4010","v":0},"OK",0,0,null,0,0,null,0,null,0,0,0,0,0]
[4004,0,null,0,"OK",0,0,null,0,0,null,0,null,0,0,0,0,0]
[4006,0,null,0,"OK",0,0,null,0,0,null,0,null,0,0,0,0,0]
[4009,0,null,0,"OK",0,0,null,0,0,null,0,null,0,0,0,0,0]
[4013,102425,{"$f":"'Expenditures 15-22'!C120","v":102425},0,"OK",102425,0,null,0,102425,null,102425,null,0,0,{"$f":"VLOOKUP(A4020,'Data Pull totals 5-8'!A:C,3,0)","v":0},102425,0]
[4015,66473,{"$f":"'Expenditures 15-22'!E120","v":66473},0,"OK",66473,0,null,0,66473,null,66473,null,0,0,{"$f":"VLOOKUP(A4022,'Data Pull totals 5-8'!A:C,3,0)","v":0},66473,0]
[4018,0,{"$f":"'Expenditures 15-22'!H120","v":0},0,"OK",0,0,null,0,0,null,0,null,0,0,0,0,0]
[4020,442158,{"$f":"'Expenditures 15-22'!C180","v":442158},0,"OK",442158,0,null,0,442158,null,442158,null,0,0,{"$f":"VLOOKUP(A4027,'Data Pull totals 5-8'!A:C,3,0)","v":0},442158,0]
[4024,0,{"$f":"'Expenditures 15-22'!G180","v":0},0,"OK",0,0,null,0,0,null,0,null,0,0,0,0,0]
[4025,0,{"$f":"'Expenditures 15-22'!H180","v":0},0,"OK",0,0,null,0,0,null,0,null,0,0,0,0,0]
[4027,0,null,0,"OK",0,0,null,0,0,null,0,null,0,0,0,0,0]
[4030,0,null,0,"OK",0,0,null,0,0,null,0,null,0,0,0,0,0]
[4034,0,null,0,"OK",0,0,null,0,0,null,0,null,0,0,0,0,0]
[4036,0,null,0,"OK",0,0,null,0,0,null,0,null,0,0,0,0,0]
[4039,0,{"$f":"'Expenditures 15-22'!K308","v":0},0,"OK",0,0,null,0,0,null,0,null,0,0,0,0,0]
[4041,202,{"$f":"'Tax Sched 24'!B17","v":202},0,"OK",202,0,null,0,202,null,202,null,0,0,{"$f":"VLOOKUP(A4048,'Data Pull totals 5-8'!A:C,3,0)","v":0},202,0]
[4045,0,{"$f":"'Tax Sched 24'!C17","v":0},0,"OK",0,0,null,0,0,null,0,null,0,0,0,0,0]
[4046,406212299,{"$f":"'Tax Sched 24'!C18","v":406212299},0,"OK",406212299,0,null,0,406212299,null,406212299,null,0,0,{"$f":"VLOOKUP(A4053,'Data Pull totals 5-8'!A:C,3,0)","v":0},406212299,0]
[4048,7888082.1600000001,{"$f":"'Tax Sched 24'!F18","v":7888082.1600000262},-2.6077032089233398E-8,"OK",7888082.1600000001,0,null,0,7888082.1600000001,null,7888082.1600000001,null,0,0,{"$f":"VLOOKUP(A4055,'Data Pull totals 5-8'!A:C,3,0)","v":0},7888082.1600000001,0]
[4051,0,null,0,"OK",0,0,null,0,0,null,0,null,0,0,0,0,0]
[4055,829841,{"$f":"'Acct Summary 7-8'!F9","v":829841},0,"OK",829841,0,null,0,829841,null,829841,null,0,0,{"$f":"VLOOKUP(A4062,'Data Pull totals 5-8'!A:C,3,0)","v":0},829841,0]
[4057,19598113,{"$f":"'Acct Summary 7-8'!H9","v":19598113},0,"OK",19598113,0,null,0,19598113,null,19598113,null,0,0,{"$f":"VLOOKUP(A4064,'Data Pull totals 5-8'!A:C,3,0)","v":0},19598113,0]
[4060,0,{"$f":"'Acct Summary 7-8'!K9","v":0},0,"OK",0,0,null,0,0,null,0,null,0,0,0,0,0]
[4063,2208553736.8000002,{"$f":"'Acct Summary 7-8'!E10","v":2208553736.8000002},0,"OK",2192067716.8000002,0,null,4764187,2196831903.8000002,null,2196831903.8000002,null,0,0,{"$f":"VLOOKUP(A4070,'Data Pull totals 5-8'!A:C,3,0)","v":11721833},2208553736.8000002,0]
[4066,259493182.61000001,{"$f":"'Acct Summary 7-8'!H10","v":259493182.61000001},0,"OK",259457829.61000001,0,null,8344,259466173.61000001,null,259466173.61000001,null,0,0,{"$f":"VLOOKUP(A4073,'Data Pull totals 5-8'!A:C,3,0)","v":27009},259493182.61000001,0]
[4067,92905180.310000002,{"$f":"'Acct Summary 7-8'!I10","v":92905180.310000002},{"$f":"B4074-C4074","v":0},"OK",92625933.310000002,0,null,42725,92668658.310000002,null,92668658.310000002,null,0,0,{"$f":"VLOOKUP(A4074,'Data Pull totals 5-8'!A:C,3,0)","v":236522},92905180.310000002,0]
[4069,58757502.359999999,{"$f":"'Acct Summary 7-8'!K10","v":58757502.359999992},0,"OK",58708262.359999999,0,null,42725,58750987.359999999,null,58750987.359999999,null,0,0,{"$f":"VLOOKUP(A4076,'Data Pull totals 5-8'!A:C,3,0)","v":6515},58757502.359999999,0]
[4072,829841,{"$f":"'Acct Summary 7-8'!F18","v":829841},0,"OK",829841,0,null,0,829841,null,829841,null,0,0,{"$f":"VLOOKUP(A4079,'Data Pull totals 5-8'!A:C,3,0)","v":0},829841,0]
[4076,2193998898.9099998,{"$f":"'Acct Summary 7-8'!D19","v":2193998898.9099998},0,"OK",2182536021.9099998,0,null,7160645,2189696666.9099998,null,2189696666.9099998,null,0,0,{"$f":"VLOOKUP(A4083,'Data Pull totals 5-8'!A:C,3,0)","v":4302232},2193998898.9099998,0]
[4078,1200040722.1999998,{"$f":"'Acct Summary 7-8'!F19","v":1200040722.1999998},0,"OK",1188974938.1999998,2.384185791015625E-7,null,4845334,1193820272.1999998,null,1193820272.1999998,null,0,0,{"$f":"VLOOKUP(A4085,'Data Pull totals 5-8'!A:C,3,0)","v":6220450},1200040722.1999998,0]
[4081,0,null,0,"OK",0,0,null,0,0,null,0,null,0,0,0,0,0]
[4084,0,null,0,"OK",0,0,null,0,0,null,0,null,0,0,0,0,0]
[4087,0,null,0,"OK",0,0,null,0,0,null,0,null,0,0,0,0,0]
[4088,0,null,0,"OK",0,0,null,0,0,null,0,null,0,0,0,0,0]
[4090,0,null,0,"OK",0,0,null,0,0,null,0,null,0,0,0,0,0]
[4093,0,null,0,"OK",0,0,null,0,0,null,0,null,0,0,0,0,0]
[4097,0,null,0,{"$f":"IF((D4104 = 0),\"OK\",IF((D4104<-5),\"CHECK ME!\",IF((D4104>5),\"Check Me!\",\"OK\")))","v":"OK"},0,0,null,0,0,null,0,null,0,0,0,0,0]
[4099,0,null,0,"OK",0,0,null,0,0,null,0,null,0,0,0,0,0]
[4102,0,null,0,"OK",0,0,null,0,0,null,0,null,0,0,0,0,0]
[4105,61745,{"$f":"'Expenditures 15-22'!K284","v":61745},0,"OK",61745,0,null,0,61745,null,61745,null,0,0,{"$f":"VLOOKUP(A4112,'Data Pull totals 5-8'!A:C,3,0)","v":0},61745,0]
[4108,0,null,0,"OK",0,0,null,0,0,null,0,null,0,0,0,0,0]
[4109,0,null,0,"OK",0,0,null,0,0,null,0,null,0,0,0,0,0]
[4111,20000574898,{"$f":"'Short-Term Long-Term Debt 25'!J49","v":20000574898},0,"OK",19888453637,0,null,23577784,19912031421,null,19912031421,null,0,0,{"$f":"VLOOKUP(A4118,'Data Pull totals 5-8'!A:C,3,0)","v":88543477},20000574898,0]
[4115,0,{"$f":"'Acct Summary 7-8'!G18","v":0},0,"OK",0,0,null,0,0,null,0,null,0,0,0,0,0]
[4118,0,{"$f":"'Revenues 9-14'!D164","v":0},0,"OK",0,0,null,0,0,null,0,null,0,0,0,0,0]
[4120,0,{"$f":"'Revenues 9-14'!G164","v":0},0,"OK",0,0,null,0,0,null,0,null,0,0,0,0,0]
[4123,0,null,0,"OK",0,0,null,0,0,null,0,null,0,0,0,0,0]
[4126,0,null,0,"OK",0,0,null,0,0,null,0,null,0,0,0,0,0]
[4129,0,{"$f":"'Revenues 9-14'!D269","v":0},0,"OK",0,0,null,0,0,null,0,null,0,0,0,0,0]
[4130,0,{"$f":"'Revenues 9-14'!F269","v":0},0,"OK",0,0,null,0,0,null,0,null,0,0,0,0,0]
[4132,0,null,0,"OK",0,0,null,0,0,null,0,null,0,0,0,0,0]
[4135,0,null,0,"OK",0,0,null,0,0,null,0,null,0,0,0,0,0]
[4138,1586397,{"$f":"'Expenditures 15-22'!E134","v":1586397},0,"OK",1586397,0,null,0,1586397,null,1586397,null,0,0,{"$f":"VLOOKUP(A4145,'Data Pull totals 5-8'!A:C,3,0)","v":0},1586397,0]
[4141,2357026,{"$f":"'Expenditures 15-22'!E137","v":2357026},0,"OK",2357026,0,null,0,2357026,null,2357026,null,0,0,{"$f":"VLOOKUP(A4148,'Data Pull totals 5-8'!A:C,3,0)","v":0},2357026,0]
[4144,0,null,0,"OK",0,0,null,0,0,null,0,null,0,0,0,0,0]
[4147,0,null,0,"OK",0,0,null,0,0,null,0,null,0,0,0,0,0]
[4150,14776035,{"$f":"'Expenditures 15-22'!K206","v":14776035},0,"OK",14776035,0,null,0,14776035,null,14776035,null,0,0,{"$f":"VLOOKUP(A4157,'Data Pull totals 5-8'!A:C,3,0)","v":0},14776035,0]
[4151,0,null,0,"OK",0,0,null,0,0,null,0,null,0,0,0,0,0]
[4153,0,null,0,"OK",0,0,null,0,0,null,0,null,0,0,0,0,0]
[4156,0,{"$f":"'Acct Summary 7-8'!E36","v":0},0,"OK",0,0,null,0,0,null,0,null,0,0,0,0,0]
[4159,0,null,0,"OK",0,0,null,0,0,null,0,null,0,0,0,0,0]
[4162,0,null,0,"OK",0,0,null,0,0,null,0,null,0,0,0,0,0]
[4165,0,null,0,"OK",0,0,null,0,0,null,0,null,{"$f":"SUM(J4172-L4172)","v":0},0,0,0,{"$f":"SUM(L4172+P4172-Q4172)","v":0}]
[4168,0,null,0,"OK",0,0,null,0,0,null,0,null,0,0,0,0,0]
[4169,0,{"$f":"'Revenues 9-14'!G139","v":0},0,"OK",0,0,null,0,0,null,0,null,0,0,0,0,0]
[4172,0,null,0,"OK",0,0,null,0,0,null,0,null,0,0,0,0,0]
[4174,0,{"$f":"'Revenues 9-14'!C205","v":0},0,"OK",0,0,null,0,0,null,0,null,0,0,0,0,0]
[4177,0,{"$f":"'Revenues 9-14'!G205","v":0},0,"OK",0,0,null,0,0,null,0,null,0,0,0,0,0]
[4180,0,null,0,"OK",0,0,null,0,0,null,0,null,0,0,0,0,0]
[4183,0,null,0,"OK",0,0,null,0,0,null,0,null,0,0,0,0,0]
[4186,0,null,0,"OK",0,0,null,0,0,null,0,null,0,0,0,0,0]
[4189,0,null,0,"OK",0,0,null,0,0,null,0,null,0,0,0,0,0]
[4190,0,null,0,"OK",0,0,null,0,0,null,0,null,0,0,0,0,0]
[4193,0,null,0,"OK",0,0,null,0,0,null,0,null,0,0,0,0,0]
[4195,0,null,{"$f":"B4202-C4202","v":0},"OK",0,0,null,0,0,null,0,null,0,0,0,0,0]
[4198,0,null,0,"OK",0,0,null,0,0,null,0,null,0,0,0,0,0]
[4201,0,null,0,"OK",0,0,null,0,0,null,0,null,0,0,0,0,0]
[4204,2094384.0980000007,"FP",null,null,2088307.5980000007,-6.9849193096160889E-10,null,1910,2090217.5980000007,null,2090217.5980000007,null,0,0,{"$f":"VLOOKUP(A4211,'Data Pull totals 5-8'!A:C,3,0)","v":4166.5},2094384.0980000007,0]
[4207,2628320,"FP",null,null,2620132,0,null,2610,2622742,null,2622742,null,0,0,{"$f":"VLOOKUP(A4214,'Data Pull totals 5-8'!A:C,3,0)","v":5578},2628320,0]
[4210,0,"FP",null,null,0,0,null,0,0,null,0,null,0,0,0,0,0]
[4212,0,"FP",null,null,0,0,null,0,0,null,0,null,0,0,0,0,0]
[4213,0,null,0,"OK",0,0,null,0,0,null,0,null,0,0,0,0,0]
[4216,0,null,0,"OK",0,0,null,0,0,null,0,null,0,0,0,0,0]
[4219,0,null,0,"OK",0,0,null,0,0,null,0,null,0,0,0,0,0]
[4222,0,null,0,"OK",0,0,null,0,0,null,0,null,0,0,0,0,0]
[4226,0,null,0,"OK",0,0,null,0,0,null,0,null,0,0,0,0,0]
[4228,0,null,0,"OK",0,0,null,0,0,null,0,null,0,0,0,0,0]
[4231,0,null,0,"OK",0,0,null,0,0,null,0,null,0,0,0,0,0]
[4233,0,null,0,"OK",0,0,null,0,0,null,0,null,0,0,0,0,0]
[4234,0,null,0,"OK",0,0,null,0,0,null,0,null,0,0,0,0,0]
[4237,2321860,{"$f":"'Rest Tax Levies-Tort Im 26'!G31","v":2321860},0,"OK",2321860,0,null,0,2321860,null,2321860,null,0,0,{"$f":"VLOOKUP(A4244,'Data Pull totals 5-8'!A:C,3,0)","v":0},2321860,0]
[4240,154636,{"$f":"'Rest Tax Levies-Tort Im 26'!G37","v":154636},0,"OK",154636,0,null,0,154636,null,154636,null,0,0,{"$f":"VLOOKUP(A4247,'Data Pull totals 5-8'!A:C,3,0)","v":0},154636,0]
[4243,30000,{"$f":"'Rest Tax Levies-Tort Im 26'!G40","v":30000},0,"OK",30000,0,null,0,30000,null,30000,null,0,0,{"$f":"VLOOKUP(A4250,'Data Pull totals 5-8'!A:C,3,0)","v":0},30000,0]
[4247,0,{"$f":"'Rest Tax Levies-Tort Im 26'!G44","v":0},0,"OK",0,0,null,0,0,null,0,null,0,0,0,0,0]
[4249,0,{"$f":"'Revenues 9-14'!D130","v":0},0,"OK",0,0,null,0,0,null,0,null,0,0,0,0,0]
[4252,0,{"$f":"'Revenues 9-14'!D149","v":0},0,"OK",0,0,null,0,0,null,0,null,0,0,0,0,0]
[4254,0,{"$f":"'Revenues 9-14'!D153","v":0},0,"OK",0,0,null,0,0,null,0,null,0,0,0,0,0]
[4255,8557,{"$f":"'Revenues 9-14'!F153","v":8557},0,"OK",8557,0,null,0,8557,null,8557,null,0,0,{"$f":"VLOOKUP(A4262,'Data Pull totals 5-8'!A:C,3,0)","v":0},8557,0]
[4259,0,null,{"$f":"B4266-C4266","v":0},"OK",0,0,null,0,0,null,0,null,0,0,0,0,0]
[4261,0,{"$f":"'Revenues 9-14'!F168","v":0},0,"OK",0,0,null,0,0,null,0,null,0,0,0,0,0]
[4264,0,null,0,"OK",0,0,null,0,0,null,0,null,0,0,0,0,0]
[4268,61379,{"$f":"'Revenues 9-14'!D170","v":61379},0,"OK",61379,0,null,0,61379,null,61379,null,0,0,{"$f":"VLOOKUP(A4275,'Data Pull totals 5-8'!A:C,3,0)","v":0},61379,0]
[4270,18774327,{"$f":"'Revenues 9-14'!C200","v":18774327},0,"OK",18472861,0,null,292061,18764922,null,18764922,null,0,0,{"$f":"VLOOKUP(A4277,'Data Pull totals 5-8'!A:C,3,0)","v":9405},18774327,0]
[4273,0,{"$f":"'Revenues 9-14'!F210","v":0},0,"OK",0,0,null,0,0,null,0,null,0,0,0,0,0]
[4275,531755,{"$f":"'Revenues 9-14'!C215","v":531755},0,"OK",531755,0,null,0,531755,null,531755,null,0,0,{"$f":"VLOOKUP(A4282,'Data Pull totals 5-8'!A:C,3,0)","v":0},531755,0]
[4276,0,{"$f":"'Revenues 9-14'!D215","v":0},0,"OK",0,0,null,0,0,null,0,null,0,0,0,0,0]
[4280,0,{"$f":"'Revenues 9-14'!D223","v":0},0,"OK",0,0,null,0,0,null,0,null,0,0,0,0,0]
[4282,0,{"$f":"'Revenues 9-14'!G223","v":0},0,"OK",0,0,null,0,0,null,0,null,0,0,0,0,0]
[4285,0,{"$f":"'Revenues 9-14'!G227","v":0},0,"OK",0,0,null,0,0,null,0,null,0,0,0,0,0]
[4287,0,null,0,"OK",0,0,null,0,0,null,0,null,0,0,0,0,0]
[4291,0,{"$f":"'Revenues 9-14'!D146","v":0},0,"OK",0,0,null,0,0,null,0,null,0,0,0,0,0]
[4294,0,{"$f":"'Revenues 9-14'!G149","v":0},0,"OK",0,0,null,0,0,null,0,null,0,0,0,0,0]
[4296,0,{"$f":"'Revenues 9-14'!G154","v":0},0,"OK",0,0,null,0,0,null,0,null,0,0,0,0,0]
[4297,39707912.890000001,{"$f":"'Revenues 9-14'!C270","v":39707912.890000001},0,"OK",39440537.890000001,0,null,95345,39535882.890000001,null,39535882.890000001,null,0,0,{"$f":"VLOOKUP(A4304,'Data Pull totals 5-8'!A:C,3,0)","v":172030},39707912.890000001,0]
[4301,108664236.93000001,{"$f":"'Revenues 9-14'!C271","v":108664236.93000001},0,"OK",108254019.93000001,0,null,77569,108331588.93000001,null,108331588.93000001,null,0,0,{"$f":"VLOOKUP(A4308,'Data Pull totals 5-8'!A:C,3,0)","v":332648},108664236.93000001,0]
[4303,287900,{"$f":"'Revenues 9-14'!E176","v":287900},0,"OK",287900,0,null,0,287900,null,287900,null,0,0,{"$f":"VLOOKUP(A4310,'Data Pull totals 5-8'!A:C,3,0)","v":0},287900,0]
[4306,0,null,0,"OK",0,0,null,0,0,null,0,null,0,0,0,0,0]
[4308,0,{"$f":"'Revenues 9-14'!E177","v":0},0,"OK",0,0,null,0,0,null,0,null,0,0,0,0,0]
[4312,0,{"$f":"'Revenues 9-14'!I178","v":0},0,"OK",0,0,null,0,0,null,0,null,0,0,0,0,0]
[4313,0,null,0,"OK",0,0,null,0,0,null,0,null,0,0,0,0,0]
[4317,0,{"$f":"'Revenues 9-14'!G188","v":0},0,"OK",0,0,null,0,0,null,0,null,0,0,0,0,0]
[4318,2156985.77,{"$f":"'Revenues 9-14'!C189","v":2156985.77},0,"OK",2156985.77,0,null,0,2156985.77,null,2156985.77,null,0,0,{"$f":"VLOOKUP(A4325,'Data Pull totals 5-8'!A:C,3,0)","v":0},2156985.77,0]
[4322,0,null,0,"OK",0,0,null,0,0,null,0,null,0,0,0,0,0]
[4324,0,null,0,"OK",0,0,null,0,0,null,0,null,0,0,0,0,0]
[4327,0,null,0,"OK",0,0,null,0,0,null,0,null,0,0,0,0,0]
[4329,0,null,0,"OK",0,0,null,0,0,null,0,null,0,0,0,0,0]
[4333,0,{"$f":"'Revenues 9-14'!G190","v":0},0,"OK",0,0,null,0,0,null,0,null,0,0,0,0,0]
[4334,2324191.77,{"$f":"'Revenues 9-14'!C191","v":2324191.77},0,"OK",2324191.77,0,null,0,2324191.77,null,2324191.77,null,0,0,{"$f":"VLOOKUP(A4341,'Data Pull totals 5-8'!A:C,3,0)","v":0},2324191.77,0]
[4338,0,{"$f":"'Revenues 9-14'!C206","v":0},0,"OK",0,0,null,0,0,null,0,null,0,0,0,0,0]
[4339,0,{"$f":"'Revenues 9-14'!D206","v":0},0,"OK",0,0,null,0,0,null,0,null,0,0,0,0,0]
[4343,0,null,0,"OK",0,0,null,0,0,null,0,null,0,0,0,0,0]
[4345,0,null,0,"OK",0,0,null,0,0,null,0,null,0,0,0,0,0]
[4349,35211,{"$f":"'Revenues 9-14'!G214","v":35211},0,"OK",35211,0,null,0,35211,null,35211,null,0,0,{"$f":"VLOOKUP(A4356,'Data Pull totals 5-8'!A:C,3,0)","v":0},35211,0]
[4350,21063617,{"$f":"'Revenues 9-14'!C216","v":21063617},0,"OK",20217773,0,null,845844,21063617,null,21063617,null,0,0,{"$f":"VLOOKUP(A4357,'Data Pull totals 5-8'!A:C,3,0)","v":0},21063617,0]
[4354,25156647,{"$f":"'Revenues 9-14'!C264","v":25156647},0,"OK",25145647,0,null,0,25145647,null,25145647,null,0,0,{"$f":"VLOOKUP(A4361,'Data Pull totals 5-8'!A:C,3,0)","v":11000},25156647,0]
[4355,48571,{"$f":"'Revenues 9-14'!F264","v":48571},0,"OK",48571,0,null,0,48571,null,48571,null,0,0,{"$f":"VLOOKUP(A4362,'Data Pull totals 5-8'!A:C,3,0)","v":0},48571,0]
[4359,0,{"$f":"'Revenues 9-14'!F268","v":0},0,"OK",0,0,null,0,0,null,0,null,0,0,0,0,0]
[4360,18747,{"$f":"'Revenues 9-14'!G268","v":18747},0,"OK",18747,0,null,0,18747,null,18747,null,0,0,{"$f":"VLOOKUP(A4367,'Data Pull totals 5-8'!A:C,3,0)","v":0},18747,0]
[4364,0,null,0,"OK",0,0,null,0,0,null,0,null,0,0,0,0,0]
[4366,0,null,0,"OK",0,0,null,0,0,null,0,null,0,0,0,0,0]
[4370,0,null,0,"OK",0,0,null,0,0,null,0,null,0,0,0,0,0]
[4371,0,null,0,"OK",0,0,null,0,0,null,0,null,0,0,0,0,0]
[4375,0,null,0,"OK",0,0,null,0,0,null,0,null,0,0,0,0,0]
[4376,49958.308999999979,"FP",null,null,49879.508999999976,2.1827872842550278E-11,null,50,49929.508999999976,null,49929.508999999976,null,0,0,{"$f":"VLOOKUP(A4383,'Data Pull totals 5-8'!A:C,3,0)","v":28.8},49958.308999999979,0]
[4380,561491,{"$f":"'Revenues 9-14'!H273","v":561491},0,"OK",561491,0,null,0,561491,null,561491,null,0,0,{"$f":"VLOOKUP(A4387,'Data Pull totals 5-8'!A:C,3,0)","v":0},561491,0]
[4381,0,{"$f":"'Revenues 9-14'!K273","v":0},0,"OK",0,0,null,0,0,null,0,null,0,0,0,0,0]
[4385,4244,{"$f":"'Revenues 9-14'!D271","v":4244},0,"OK",4244,0,null,0,4244,null,4244,null,0,0,{"$f":"VLOOKUP(A4392,'Data Pull totals 5-8'!A:C,3,0)","v":0},4244,0]
[4387,0,{"$f":"'Revenues 9-14'!G271","v":0},{"$f":"B4394-C4394","v":0},"OK",0,0,null,0,0,null,0,null,0,0,0,0,0]
[4391,0,null,0,"OK",0,0,null,0,0,null,0,null,0,0,0,0,0]
[4392,0,null,0,"OK",0,0,null,0,0,null,0,null,0,0,0,0,0]
[4396,0,null,0,"OK",0,0,null,0,0,null,0,null,0,0,0,0,0]
[4397,0,null,0,"OK",0,0,null,0,0,null,0,null,0,0,0,0,0]
[4401,0,null,0,"OK",0,0,null,0,0,null,0,null,0,0,0,0,0]
[4403,0,null,0,"OK",0,0,null,0,0,null,0,null,0,0,0,0,0]
[4406,0,null,0,"OK",0,0,null,0,0,null,0,null,0,0,0,0,0]
[4408,0,null,0,"OK",0,0,null,0,0,null,0,null,0,0,0,0,0]
[4412,0,null,0,"OK",0,0,null,0,0,null,0,null,0,0,0,0,0]
[4413,0,null,0,"OK",0,0,null,0,0,null,0,null,0,0,0,0,0]
[4417,0,null,0,{"$f":"IF((D4424 = 0),\"OK\",IF((D4424<-5),\"CHECK ME!\",IF((D4424>5),\"Check Me!\",\"OK\")))","v":"OK"},0,0,null,0,0,null,0,null,0,0,0,0,0]
[4418,0,null,0,"OK",0,0,null,0,0,null,0,null,0,0,0,0,0]
[4422,0,null,0,"OK",0,0,null,0,0,null,0,null,0,0,0,0,0]
[4424,0,null,0,"OK",0,0,null,0,0,null,0,null,0,0,0,0,0]
[4427,0,null,0,"OK",0,0,null,0,0,null,0,null,0,0,0,0,0]
[4429,0,null,0,"OK",0,0,null,0,0,null,0,null,0,0,0,0,0]
[4433,0,null,0,"OK",0,0,null,0,0,null,0,null,0,0,0,0,0]
[4434,0,null,0,"OK",0,0,null,0,0,null,0,null,0,0,0,0,0]
[4438,0,null,0,"OK",0,0,null,0,0,null,0,null,0,0,0,0,0]
[4439,0,null,0,"OK",0,0,null,0,0,null,0,null,0,0,0,0,0]
[4443,0,null,0,"OK",0,0,null,0,0,null,0,null,0,0,0,0,0]
[4445,0,null,0,"OK",0,0,null,0,0,null,0,null,0,0,0,0,0]
[4448,0,null,0,"OK",0,0,null,0,0,null,0,null,0,0,0,0,0]
[4450,0,null,0,"OK",0,0,null,0,0,null,0,null,0,0,0,0,0]
[4454,0,null,0,"OK",0,0,null,0,0,null,0,null,0,0,0,0,0]
[4455,0,null,0,"OK",0,0,null,0,0,null,0,null,0,0,0,0,0]
[4457,0,null,0,"OK",0,0,null,0,0,null,0,null,0,0,0,0,0]
[4460,0,null,0,"OK",0,0,null,0,0,null,0,null,0,0,0,0,0]
[4462,0,null,0,"OK",0,0,null,0,0,null,0,null,0,0,0,0,0]
[4466,0,null,0,"OK",0,0,null,0,0,null,0,null,0,0,0,0,0]
[4469,0,null,0,"OK",0,0,null,0,0,null,0,null,0,0,0,0,0]
[4471,0,null,0,"OK",0,0,null,0,0,null,0,null,0,0,0,0,0]
[4475,0,null,0,"OK",0,0,null,0,0,null,0,null,0,0,0,0,0]
[4476,0,null,0,"OK",0,0,null,0,0,null,0,null,0,0,0,0,0]
[4478,0,null,0,"OK",0,0,null,0,0,null,0,null,0,0,0,0,0]
[4481,0,null,0,{"$f":"IF((D4488 = 0),\"OK\",IF((D4488<-5),\"CHECK ME!\",IF((D4488>5),\"Check Me!\",\"OK\")))","v":"OK"},0,0,null,0,0,null,0,null,0,0,0,0,0]
[4483,0,null,0,"OK",0,0,null,0,0,null,0,null,0,0,0,0,0]
[4487,0,null,0,"OK",0,0,null,0,0,null,0,null,0,0,0,0,0]
[4490,0,null,0,"OK",0,0,null,0,0,null,0,null,0,0,0,0,0]
[4493,0,null,0,"OK",0,0,null,0,0,null,0,null,0,0,0,0,0]
[4496,0,null,0,"OK",0,0,null,0,0,null,0,null,0,0,0,0,0]
[4497,0,null,0,"OK",0,0,null,0,0,null,0,null,0,0,0,0,0]
[4499,0,null,0,"OK",0,0,null,0,0,null,0,null,0,0,0,0,0]
[4502,0,null,0,"OK",0,0,null,0,0,null,0,null,0,0,0,0,0]
[4504,0,null,0,"OK",0,0,null,0,0,null,0,null,0,0,0,0,0]
[4508,0,null,0,"OK",0,0,null,0,0,null,0,null,0,0,0,0,0]
[4511,0,null,0,"OK",0,0,null,0,0,null,0,null,0,0,0,0,0]
[4514,0,null,0,"OK",0,0,null,0,0,null,0,null,0,0,0,0,0]
[4517,0,null,0,"OK",0,0,null,0,0,null,0,null,0,0,0,0,0]
[4518,0,null,0,"OK",0,0,null,0,0,null,0,null,0,0,0,0,0]
[4520,0,null,0,"OK",0,0,null,0,0,null,0,null,0,0,0,0,0]
[4523,0,null,0,"OK",0,0,null,0,0,null,0,null,0,0,0,0,0]
[4525,0,null,0,"OK",0,0,null,0,0,null,0,null,0,0,0,0,0]
[4529,0,null,0,"OK",0,0,null,0,0,null,0,null,0,0,0,0,0]
[4532,0,null,0,"OK",0,0,null,0,0,null,0,null,0,0,0,0,0]
[4535,0,null,0,"OK",0,0,null,0,0,null,0,null,0,0,0,0,0]
[4537,0,null,0,"OK",0,0,null,0,0,null,0,null,0,0,0,0,0]
[4540,0,null,0,"OK",0,0,null,0,0,null,0,null,0,0,0,0,0]
[4541,0,null,0,"OK",0,0,null,0,0,null,0,null,0,0,0,0,0]
[4544,0,null,0,"OK",0,0,null,0,0,null,0,null,0,0,0,0,0]
[4547,0,null,0,"OK",0,0,null,0,0,null,0,null,0,0,0,0,0]
[4550,0,null,0,"OK",0,0,null,0,0,null,0,null,0,0,0,0,0]
[4553,0,null,0,"OK",0,0,null,0,0,null,0,null,0,0,0,0,0]
[4556,0,null,0,"OK",0,0,null,0,0,null,0,null,0,0,0,0,0]
[4558,0,null,0,"OK",0,0,null,0,0,null,0,null,0,0,0,0,0]
[4561,0,null,0,"OK",0,0,null,0,0,null,0,null,0,0,0,0,0]
[4562,0,null,0,"OK",0,0,null,0,0,null,0,null,0,0,0,0,0]
[4565,0,null,0,"OK",0,0,null,0,0,null,0,null,0,0,0,0,0]
[4568,0,null,0,"OK",0,0,null,0,0,null,0,null,0,0,0,0,0]
[4571,0,null,0,"OK",0,0,null,0,0,null,0,null,0,0,0,0,0]
[4574,0,null,0,"OK",0,0,null,0,0,null,0,null,0,0,0,0,0]
[4577,0,null,0,"OK",0,0,null,0,0,null,0,null,0,0,0,0,0]
[4579,0,null,{"$f":"B4586-C4586","v":0},"OK",0,0,null,0,0,null,0,null,0,0,0,0,0]
[4580,0,null,0,"OK",0,0,null,0,0,null,0,null,0,0,0,0,0]
[4583,0,null,0,"OK",0,0,null,0,0,null,0,null,0,0,0,0,0]
[4586,0,null,0,"OK",0,0,null,0,0,null,0,null,0,0,0,0,0]
[4589,0,null,0,"OK",0,0,null,0,0,null,0,null,0,0,0,0,0]
[4592,0,null,0,"OK",0,0,null,0,0,null,0,null,0,0,0,0,0]
[4595,0,null,0,"OK",0,0,null,0,0,null,0,null,0,0,0,0,0]
[4598,0,null,0,"OK",0,0,null,0,0,null,0,null,0,0,0,0,0]
[4600,0,null,0,"OK",0,0,null,0,0,null,0,null,0,0,0,0,0]
[4601,0,null,0,"OK",0,0,null,0,0,null,0,null,0,0,0,0,0]
[4604,0,null,0,"OK",0,0,null,0,0,null,0,null,0,0,0,0,0]
[4607,0,null,0,"OK",0,0,null,0,0,null,0,null,0,0,0,0,0]
[4610,0,null,0,"OK",0,0,null,0,0,null,0,null,0,0,0,0,0]
[4613,0,null,0,"OK",0,0,null,0,0,null,0,null,{"$f":"SUM(J4620-L4620)","v":0},0,0,0,{"$f":"SUM(L4620+P4620-Q4620)","v":0}]
[4616,0,null,0,"OK",0,0,null,0,0,null,0,null,0,0,0,0,0]
[4619,0,null,0,"OK",0,0,null,0,0,null,0,null,0,0,0,0,0]
[4621,0,null,0,"OK",0,0,null,0,0,null,0,null,0,0,0,0,0]
[4622,0,null,0,"OK",0,0,null,0,0,null,0,null,0,0,0,0,0]
[4625,0,null,0,"OK",0,0,null,0,0,null,0,null,0,0,0,0,0]
[4628,0,null,0,"OK",0,0,null,0,0,null,0,null,0,0,0,0,0]
[4631,0,null,0,"OK",0,0,null,0,0,null,0,null,0,0,0,0,0]
[4633,0,null,0,"OK",0,0,null,0,0,null,0,null,0,0,0,0,0]
[4637,0,null,0,"OK",0,0,null,0,0,null,0,null,0,0,0,0,0]
[4640,0,null,0,"OK",0,0,null,0,0,null,0,null,0,0,0,0,0]
[4642,0,null,0,"OK",0,0,null,0,0,null,0,null,0,0,0,0,0]
[4643,0,null,{"$f":"B4650-C4650","v":0},"OK",0,0,null,0,0,null,0,null,0,0,0,0,0]
[4646,0,null,0,"OK",0,0,null,0,0,null,0,null,0,0,0,0,0]
[4649,0,null,0,"OK",0,0,null,0,0,null,0,null,0,0,0,0,0]
[4652,0,null,0,"OK",0,0,null,0,0,null,0,null,0,0,0,0,0]
[4654,0,null,0,"OK",0,0,null,0,0,null,0,null,0,0,0,0,0]
[4658,0,null,0,"OK",0,0,null,0,0,null,0,null,0,0,0,0,0]
[4661,0,null,0,"OK",0,0,null,0,0,null,0,null,0,0,0,0,0]
[4663,0,null,0,"OK",0,0,null,0,0,null,0,null,0,0,0,0,0]
[4664,0,null,0,"OK",0,0,null,0,0,null,0,null,0,0,0,0,0]
[4667,0,null,0,"OK",0,0,null,0,0,null,0,null,0,0,0,0,0]
[4670,0,null,0,"OK",0,0,null,0,0,null,0,null,0,0,0,0,0]
[4673,0,null,0,{"$f":"IF((D4680 = 0),\"OK\",IF((D4680<-5),\"CHECK ME!\",IF((D4680>5),\"Check Me!\",\"OK\")))","v":"OK"},0,0,null,0,0,null,0,null,0,0,0,0,0]
[4675,0,null,0,"OK",0,0,null,0,0,null,0,null,0,0,0,0,0]
[4679,0,null,0,"OK",0,0,null,0,0,null,0,null,0,0,0,0,0]
[4682,0,null,0,"OK",0,0,null,0,0,null,0,null,0,0,0,0,0]
[4684,0,null,0,"OK",0,0,null,0,0,null,0,null,0,0,0,0,0]
[4685,0,null,0,"OK",0,0,null,0,0,null,0,null,0,0,0,0,0]
[4688,0,null,0,"OK",0,0,null,0,0,null,0,null,0,0,0,0,0]
[4691,0,null,0,"OK",0,0,null,0,0,null,0,null,0,0,0,0,0]
[4694,0,null,0,"OK",0,0,null,0,0,null,0,null,0,0,0,0,0]
[4696,0,null,0,"OK",0,0,null,0,0,null,0,null,0,0,0,0,0]
[4700,4862869,{"$f":"'Revenues 9-14'!C104","v":4862869},0,"OK",4862869,0,null,0,4862869,null,4862869,null,0,0,{"$f":"VLOOKUP(A4707,'Data Pull totals 5-8'!A:C,3,0)","v":0},4862869,0]
[4703,0,null,0,"OK",0,0,null,0,0,null,0,null,0,0,0,0,0]
[4705,0,null,0,"OK",0,0,null,0,0,null,0,null,0,0,0,0,0]
[4706,0,null,0,"OK",0,0,null,0,0,null,0,null,0,0,0,0,0]
[4710,0,{"$f":"'Revenues 9-14'!G135","v":0},0,"OK",0,0,null,0,0,null,0,null,0,0,0,0,0]
[4712,0,null,0,"OK",0,0,null,0,0,null,0,null,0,0,0,0,0]
[4715,0,null,0,"OK",0,0,null,0,0,null,0,null,0,0,0,0,0]
[4717,0,null,0,"OK",0,0,null,0,0,null,0,null,0,0,0,0,0]
[4721,0,null,0,"OK",0,0,null,0,0,null,0,null,0,0,0,0,0]
[4724,0,null,0,"OK",0,0,null,0,0,null,0,null,0,0,0,0,0]
[4726,0,null,0,"OK",0,0,null,0,0,null,0,null,0,0,0,0,0]
[4727,0,null,0,"OK",0,0,null,0,0,null,0,null,0,0,0,0,0]
[4731,31714649,{"$f":"'Revenues 9-14'!C171","v":31714649},0,"OK",31154647,0,null,556989,31711636,null,31711636,null,0,0,{"$f":"VLOOKUP(A4738,'Data Pull totals 5-8'!A:C,3,0)","v":3013},31714649,0]
[4733,6560200,{"$f":"'Revenues 9-14'!E171","v":6560200},0,"OK",3366900,0,null,3193300,6560200,null,6560200,null,0,0,{"$f":"VLOOKUP(A4740,'Data Pull totals 5-8'!A:C,3,0)","v":0},6560200,0]
[4736,15570530,{"$f":"'Revenues 9-14'!H171","v":15570530},0,"OK",15570530,0,null,0,15570530,null,15570530,null,0,0,{"$f":"VLOOKUP(A4743,'Data Pull totals 5-8'!A:C,3,0)","v":0},15570530,0]
[4738,0,{"$f":"'Revenues 9-14'!K171","v":0},0,"OK",0,0,null,0,0,null,0,null,0,0,0,0,0]
[4742,0,null,0,"OK",0,0,null,0,0,null,0,null,0,0,0,0,0]
[4745,19692,{"$f":"'Revenues 9-14'!D183","v":19692},0,"OK",19692,0,null,0,19692,null,19692,null,0,0,{"$f":"VLOOKUP(A4752,'Data Pull totals 5-8'!A:C,3,0)","v":0},19692,0]
[4747,0,{"$f":"'Revenues 9-14'!F183","v":0},0,"OK",0,0,null,0,0,null,0,null,0,0,0,0,0]
[4748,0,null,0,"OK",0,0,null,0,0,null,0,null,0,0,0,0,0]
[4752,5,{"$f":"'Revenues 9-14'!G183","v":5},0,"OK",5,0,null,0,5,null,5,null,0,0,{"$f":"VLOOKUP(A4759,'Data Pull totals 5-8'!A:C,3,0)","v":0},5,0]
[4754,0,null,0,"OK",0,0,null,0,0,null,0,null,0,0,0,0,0]
[4757,0,null,0,"OK",0,0,null,0,0,null,0,null,0,0,0,0,0]
[4759,0,null,0,"OK",0,0,null,0,0,null,0,null,0,0,0,0,0]
[4763,0,null,0,"OK",0,0,null,0,0,null,0,null,0,0,0,0,0]
[4766,0,null,0,"OK",0,0,null,0,0,null,0,null,0,0,0,0,0]
[4768,0,null,0,"OK",0,0,null,0,0,null,0,null,0,0,0,0,0]
[4769,0,null,0,"OK",0,0,null,0,0,null,0,null,0,0,0,0,0]
[4773,0,null,0,"OK",0,0,null,0,0,null,0,null,0,0,0,0,0]
[4775,0,null,0,"OK",0,0,null,0,0,null,0,null,0,0,0,0,0]
[4778,0,null,0,"OK",0,0,null,0,0,null,0,null,0,0,0,0,0]
[4780,0,null,0,"OK",0,0,null,0,0,null,0,null,0,0,0,0,0]
[4784,0,null,0,"OK",0,0,null,0,0,null,0,null,0,0,0,0,0]
[4785,0,null,0,"OK",0,0,null,0,0,null,0,null,0,0,0,0,0]
[4787,0,null,0,"OK",0,0,null,0,0,null,0,null,0,0,0,0,0]
[4790,0,null,0,"OK",0,0,null,0,0,null,0,null,0,0,0,0,0]
[4794,102,{"$f":"'Revenues 9-14'!F272","v":102},0,"OK",102,0,null,0,102,null,102,null,0,0,{"$f":"VLOOKUP(A4801,'Data Pull totals 5-8'!A:C,3,0)","v":0},102,0]
[4796,0,null,0,"OK",0,0,null,0,0,null,0,null,0,0,0,0,0]
[4799,0,null,0,"OK",0,0,null,0,0,null,0,null,0,0,0,0,0]
[4801,0,null,0,{"$f":"IF((D4808 = 0),\"OK\",IF((D4808<-5),\"CHECK ME!\",IF((D4808>5),\"Check Me!\",\"OK\")))","v":"OK"},0,0,null,0,0,null,0,null,0,0,0,0,0]
[4805,0,null,0,"OK",0,0,null,0,0,null,0,null,{"$f":"SUM(J4812-L4812)","v":0},0,0,0,{"$f":"SUM(L4812+P4812-Q4812)","v":0}]
[4806,0,null,0,"OK",0,0,null,0,0,null,0,null,0,0,0,0,0]
[4808,0,null,0,"OK",0,0,null,0,0,null,0,null,0,0,0,0,0]
[4811,0,null,0,"OK",0,0,null,0,0,null,0,null,0,0,0,0,0]
[4815,0,{"$f":"'Revenues 9-14'!E118","v":0},0,"OK",0,0,null,0,0,null,0,null,0,0,0,0,0]
[4817,0,{"$f":"'Revenues 9-14'!G118","v":0},0,"OK",0,0,null,0,0,null,0,null,0,0,0,0,0]
[4820,0,{"$f":"'Revenues 9-14'!K118","v":0},0,"OK",0,0,null,0,0,null,0,null,0,0,0,0,0]
[4822,0,{"$f":"'Revenues 9-14'!D120","v":0},0,"OK",0,0,null,0,0,null,0,null,0,0,0,0,0]
[4826,0,{"$f":"'Revenues 9-14'!H120","v":0},0,"OK",0,0,null,0,0,null,0,null,0,0,0,0,0]
[4827,0,null,0,"OK",0,0,null,0,0,null,0,null,0,0,0,0,0]
[4829,0,null,0,"OK",0,0,null,0,0,null,0,null,0,0,0,0,0]
[4832,0,null,0,"OK",0,0,null,0,0,null,0,null,0,0,0,0,0]
[4836,0,null,0,"OK",0,0,null,0,0,null,0,null,0,0,0,0,0]
[4838,0,null,0,"OK",0,0,null,0,0,null,0,null,0,0,0,0,0]
[4841,0,null,0,"OK",0,0,null,0,0,null,0,null,0,0,0,0,0]
[4843,0,null,0,"OK",0,0,null,0,0,null,0,null,0,0,0,0,0]
[4847,0,null,0,"OK",0,0,null,0,0,null,0,null,0,0,0,0,0]
[4848,0,null,0,"OK",0,0,null,0,0,null,0,null,0,0,0,0,0]
[4850,0,null,0,"OK",0,0,null,0,0,null,0,null,0,0,0,0,0]
[4853,0,null,0,"OK",0,0,null,0,0,null,0,null,0,0,0,0,0]
[4857,8752,{"$f":"'Revenues 9-14'!F165","v":8752},0,"OK",8752,0,null,0,8752,null,8752,null,0,0,{"$f":"VLOOKUP(A4864,'Data Pull totals 5-8'!A:C,3,0)","v":0},8752,0]
[4859,0,{"$f":"'Revenues 9-14'!H165","v":0},0,"OK",0,0,null,0,0,null,0,null,0,0,0,0,0]
[4862,0,null,0,"OK",0,0,null,0,0,null,0,null,0,0,0,0,0]
[4865,0,null,0,{"$f":"IF((D4872 = 0),\"OK\",IF((D4872<-5),\"CHECK ME!\",IF((D4872>5),\"Check Me!\",\"OK\")))","v":"OK"},0,0,null,0,0,null,0,null,0,0,0,0,0]
[4868,0,null,0,"OK",0,0,null,0,0,null,0,null,0,0,0,0,0]
[4869,0,null,0,"OK",0,0,null,0,0,null,0,null,{"$f":"SUM(J4876-L4876)","v":0},0,0,0,{"$f":"SUM(L4876+P4876-Q4876)","v":0}]
[4871,0,null,0,"OK",0,0,null,0,0,null,0,null,0,0,0,0,0]
[4874,0,null,0,"OK",0,0,null,0,0,null,0,null,0,0,0,0,0]
[4878,0,null,0,"OK",0,0,null,0,0,null,0,null,0,0,0,0,0]
[4880,0,null,0,"OK",0,0,null,0,0,null,0,null,0,0,0,0,0]
[4883,335625,{"$f":"'Revenues 9-14'!C177","v":335625},0,"OK",335625,0,null,0,335625,null,335625,null,0,0,{"$f":"VLOOKUP(A4890,'Data Pull totals 5-8'!A:C,3,0)","v":0},335625,0]
[4886,0,{"$f":"'Revenues 9-14'!G177","v":0},0,"OK",0,0,null,0,0,null,0,null,0,0,0,0,0]
[4889,9775,{"$f":"'Revenues 9-14'!H178","v":9775},0,"OK",9775,0,null,0,9775,null,9775,null,0,0,{"$f":"VLOOKUP(A4896,'Data Pull totals 5-8'!A:C,3,0)","v":0},9775,0]
[4890,0,{"$f":"'Revenues 9-14'!K178","v":0},0,"OK",0,0,null,0,0,null,0,null,0,0,0,0,0]
[4892,0,null,0,"OK",0,0,null,0,0,null,0,null,0,0,0,0,0]
[4895,0,null,0,"OK",0,0,null,0,0,null,0,null,0,0,0,0,0]
[4899,0,null,{"$f":"B4906-C4906","v":0},"OK",0,0,null,0,0,null,0,null,0,0,0,0,0]
[4901,0,null,0,"OK",0,0,null,0,0,null,0,null,0,0,0,0,0]
[4904,0,null,0,"OK",0,0,null,0,0,null,0,null,0,0,0,0,0]
[4907,0,null,0,"OK",0,0,null,0,0,null,0,null,0,0,0,0,0]
[4910,0,null,0,"OK",0,0,null,0,0,null,0,null,0,0,0,0,0]
[4911,0,null,0,"OK",0,0,null,0,0,null,0,null,0,0,0,0,0]
[4913,0,null,0,"OK",0,0,null,0,0,null,0,null,0,0,0,0,0]
[4916,0,null,0,"OK",0,0,null,0,0,null,0,null,0,0,0,0,0]
[4920,0,null,0,"OK",0,0,null,0,0,null,0,null,0,0,0,0,0]
[4922,0,null,0,"OK",0,0,null,0,0,null,0,null,0,0,0,0,0]
[4925,0,null,0,"OK",0,0,null,0,0,null,0,null,0,0,0,0,0]
[4928,0,null,0,"OK",0,0,null,0,0,null,0,null,0,0,0,0,0]
[4931,0,null,0,"OK",0,0,null,0,0,null,0,null,0,0,0,0,0]
[4932,0,null,0,"OK",0,0,null,0,0,null,0,null,0,0,0,0,0]
[4934,479684894581,"FP",null,null,479003014468,0,null,95497393,479098511861,null,479098511861,null,0,0,{"$f":"VLOOKUP(A4941,'Data Pull totals 5-8'!A:C,3,0)","v":586382720},479684894581,0]
[4937,0,null,0,"OK",0,0,null,0,0,null,0,null,0,0,0,0,0]
[4941,0,null,0,"OK",0,0,null,0,0,null,0,null,0,0,0,0,0]
[4943,0,null,0,"OK",0,0,null,0,0,null,0,null,0,0,0,0,0]
[4946,0,null,0,"OK",0,0,null,0,0,null,0,null,0,0,0,0,0]
[4949,0,null,0,"OK",0,0,null,0,0,null,0,null,0,0,0,0,0]
[4952,213013589,{"$f":"'Acct Summary 7-8'!D27","v":213013589},0,"OK",213013589,0,null,0,213013589,null,213013589,null,0,0,{"$f":"VLOOKUP(A4959,'Data Pull totals 5-8'!A:C,3,0)","v":0},213013589,0]
[4953,685225,{"$f":"'Acct Summary 7-8'!F27","v":685225},0,"OK",685225,0,null,0,685225,null,685225,null,0,0,{"$f":"VLOOKUP(A4960,'Data Pull totals 5-8'!A:C,3,0)","v":0},685225,0]
[4955,0,null,0,"OK",0,0,null,0,0,null,0,null,0,0,0,0,0]
[4958,0,null,0,"OK",0,0,null,0,0,null,0,null,0,0,0,0,0]
[4961,130408311,{"$f":"'Acct Summary 7-8'!C49","v":130408311},0,"OK",130408311,0,null,0,130408311,null,130408311,null,0,0,{"$f":"VLOOKUP(A4968,'Data Pull totals 5-8'!A:C,3,0)","v":0},130408311,0]
[4964,0,null,0,"OK",0,0,null,0,0,null,0,null,0,0,0,0,0]
[4967,0,null,0,"OK",0,0,null,0,0,null,0,null,0,0,0,0,0]
[4970,0,null,0,"OK",0,0,null,0,0,null,0,null,0,0,0,0,0]
[4973,0,null,0,"OK",0,0,null,0,0,null,0,null,0,0,0,0,0]
[4974,0,null,0,"OK",0,0,null,0,0,null,0,null,0,0,0,0,0]
[4976,0,null,0,"OK",0,0,null,0,0,null,0,null,0,0,0,0,0]
[4979,0,null,0,"OK",0,0,null,0,0,null,0,null,0,0,0,0,0]
[4982,0,null,0,"OK",0,0,null,0,0,null,0,null,0,0,0,0,0]
[4985,0,null,0,"OK",0,0,null,0,0,null,0,null,0,0,0,0,0]
[4988,0,null,0,"OK",0,0,null,0,0,null,0,null,0,0,0,0,0]
[4991,0,null,0,"OK",0,0,null,0,0,null,0,null,0,0,0,0,0]
[4994,0,null,0,"OK",0,0,null,0,0,null,0,null,0,0,0,0,0]
[4995,122606950,{"$f":"'Revenues 9-14'!C163","v":122606950},0,"OK",122606950,0,null,0,122606950,null,122606950,null,0,0,{"$f":"VLOOKUP(A5002,'Data Pull totals 5-8'!A:C,3,0)","v":0},122606950,0]
[4997,0,{"$f":"'Revenues 9-14'!F163","v":0},0,"OK",0,0,null,0,0,null,0,null,{"$f":"SUM(J5004-L5004)","v":0},0,0,0,{"$f":"SUM(L5004+P5004-Q5004)","v":0}]
[5000,12275292688.279999,{"$f":"'Revenues 9-14'!C5","v":12275292688.279999},0,"OK",12250451763.279999,1.9073486328125E-6,null,1632157,12252083920.279999,null,12252083920.279999,null,0,0,{"$f":"VLOOKUP(A5007,'Data Pull totals 5-8'!A:C,3,0)","v":23208768},12275292688.279999,0]
[5003,202,{"$f":"'Revenues 9-14'!C10","v":202},0,"OK",202,0,null,0,202,null,202,null,0,0,{"$f":"VLOOKUP(A5010,'Data Pull totals 5-8'!A:C,3,0)","v":0},202,0]
[5006,1384224.27,{"$f":"'Revenues 9-14'!C14","v":1384224.27},0,"OK",1347483.27,0,null,0,1347483.27,null,1347483.27,null,0,0,{"$f":"VLOOKUP(A5013,'Data Pull totals 5-8'!A:C,3,0)","v":36741},1384224.27,0]
[5009,18579713,{"$f":"'Revenues 9-14'!C17","v":18579713},0,"OK",18564872,0,null,14841,18579713,null,18579713,null,0,0,{"$f":"VLOOKUP(A5016,'Data Pull totals 5-8'!A:C,3,0)","v":0},18579713,0]
[5012,4092120,{"$f":"'Revenues 9-14'!C21","v":4092120},0,"OK",4092120,0,null,0,4092120,null,4092120,null,0,0,{"$f":"VLOOKUP(A5019,'Data Pull totals 5-8'!A:C,3,0)","v":0},4092120,0]
[5013,3305114.52,{"$f":"'Revenues 9-14'!C22","v":3305114.52},0,"OK",3305114.52,0,null,0,3305114.52,null,3305114.52,null,0,0,{"$f":"VLOOKUP(A5020,'Data Pull totals 5-8'!A:C,3,0)","v":0},3305114.52,0]
[5016,668152,{"$f":"'Revenues 9-14'!C26","v":668152},0,"OK",668152,0,null,0,668152,null,668152,null,0,0,{"$f":"VLOOKUP(A5023,'Data Pull totals 5-8'!A:C,3,0)","v":0},668152,0]
[5018,287538,{"$f":"'Revenues 9-14'!C29","v":287538},0,"OK",287538,0,null,0,287538,null,287538,null,0,0,{"$f":"VLOOKUP(A5025,'Data Pull totals 5-8'!A:C,3,0)","v":0},287538,0]
[5021,25169238,{"$f":"'Revenues 9-14'!C33","v":25169238},0,"OK",25169238,0,null,0,25169238,null,25169238,null,0,0,{"$f":"VLOOKUP(A5028,'Data Pull totals 5-8'!A:C,3,0)","v":0},25169238,0]
[5024,2360,{"$f":"'Revenues 9-14'!C37","v":2360},0,"OK",2360,0,null,0,2360,null,2360,null,0,0,{"$f":"VLOOKUP(A5031,'Data Pull totals 5-8'!A:C,3,0)","v":0},2360,0]
[5027,92528063.680000007,{"$f":"'Revenues 9-14'!C65","v":92528063.680000007},{"$f":"B5034-C5034","v":0},"OK",91858044.680000007,0,null,535526,92393570.680000007,null,92393570.680000007,null,0,0,{"$f":"VLOOKUP(A5034,'Data Pull totals 5-8'!A:C,3,0)","v":134493},92528063.680000007,0]
[5030,2876457,{"$f":"'Revenues 9-14'!C70","v":2876457},0,"OK",2876457,0,null,0,2876457,null,2876457,null,0,0,{"$f":"VLOOKUP(A5037,'Data Pull totals 5-8'!A:C,3,0)","v":0},2876457,0]
[5033,4351472.91,{"$f":"'Revenues 9-14'!C73","v":4351472.91},0,"OK",4351472.91,0,null,0,4351472.91,null,4351472.91,null,0,0,{"$f":"VLOOKUP(A5040,'Data Pull totals 5-8'!A:C,3,0)","v":0},4351472.91,0]
[5035,203065131.63,{"$f":"'Revenues 9-14'!C75","v":203065131.63},0,"OK",202470521.63,0,null,103358,202573879.63,null,202573879.63,null,0,0,{"$f":"VLOOKUP(A5042,'Data Pull totals 5-8'!A:C,3,0)","v":491252},203065131.63,0]
[5036,20724459.780000001,{"$f":"'Revenues 9-14'!C77","v":20724459.780000001},0,"OK",20689093.780000001,0,null,18191,20707284.780000001,null,20707284.780000001,null,0,0,{"$f":"VLOOKUP(A5043,'Data Pull totals 5-8'!A:C,3,0)","v":17175},20724459.780000001,0]
[5039,4895864,{"$f":"'Revenues 9-14'!C80","v":4895864},0,"OK",4895864,0,null,0,4895864,null,4895864,null,0,0,{"$f":"VLOOKUP(A5046,'Data Pull totals 5-8'!A:C,3,0)","v":0},4895864,0]
[5042,98284857.289999992,{"$f":"'Revenues 9-14'!C84","v":98284857.289999992},0,"OK",97974708.289999992,1.4901161193847656E-8,null,0,97974708.289999992,null,97974708.289999992,null,0,0,{"$f":"VLOOKUP(A5049,'Data Pull totals 5-8'!A:C,3,0)","v":310149},98284857.289999992,0]
[5045,2683545,{"$f":"'Revenues 9-14'!C87","v":2683545},0,"OK",2680360,0,null,0,2680360,null,2680360,null,0,0,{"$f":"VLOOKUP(A5052,'Data Pull totals 5-8'!A:C,3,0)","v":3185},2683545,0]
[5048,34664,{"$f":"'Revenues 9-14'!C90","v":34664},0,"OK",34664,0,null,0,34664,null,34664,null,0,0,{"$f":"VLOOKUP(A5055,'Data Pull totals 5-8'!A:C,3,0)","v":0},34664,0]
[5051,107379920.29000001,{"$f":"'Revenues 9-14'!C93","v":107379920.28999999},0,"OK",107058172.29000001,0,null,0,107058172.29000001,null,107058172.29000001,null,0,0,{"$f":"VLOOKUP(A5058,'Data Pull totals 5-8'!A:C,3,0)","v":321748},107379920.29000001,0]
[5054,12034366,{"$f":"'Revenues 9-14'!C98","v":12034366},0,"OK",12034366,0,null,0,12034366,null,12034366,null,0,0,{"$f":"VLOOKUP(A5061,'Data Pull totals 5-8'!A:C,3,0)","v":0},12034366,0]
[5056,2231649,{"$f":"'Revenues 9-14'!C105","v":2231649},0,"OK",2231649,0,null,0,2231649,null,2231649,null,0,0,{"$f":"VLOOKUP(A5063,'Data Pull totals 5-8'!A:C,3,0)","v":0},2231649,0]
[5057,46485943,{"$f":"'Revenues 9-14'!C106","v":46485943},0,{"$f":"IF((D5064 = 0),\"OK\",IF((D5064<-5),\"CHECK ME!\",IF((D5064>5),\"Check Me!\",\"OK\")))","v":"OK"},46485943,0,null,0,46485943,null,46485943,null,0,0,{"$f":"VLOOKUP(A5064,'Data Pull totals 5-8'!A:C,3,0)","v":0},46485943,0]
[5060,14324719366.91,{"$f":"'Revenues 9-14'!C109","v":14324719366.909998},0,"OK",14288872231.91,0,null,5803010,14294675241.91,null,14294675241.91,null,0,0,{"$f":"VLOOKUP(A5067,'Data Pull totals 5-8'!A:C,3,0)","v":30044125},14324719366.91,0]
[5063,157063,{"$f":"'Revenues 9-14'!C113","v":157063},0,"OK",157063,0,null,0,157063,null,157063,null,0,0,{"$f":"VLOOKUP(A5070,'Data Pull totals 5-8'!A:C,3,0)","v":0},157063,0]
[5066,2891798,{"$f":"'Revenues 9-14'!C119","v":2891798},0,"OK",2891798,0,null,0,2891798,null,2891798,null,0,0,{"$f":"VLOOKUP(A5073,'Data Pull totals 5-8'!A:C,3,0)","v":0},2891798,0]
[5070,0,null,0,"OK",0,0,null,0,0,null,0,null,0,0,0,0,0]
[5072,144532030,{"$f":"'Revenues 9-14'!C124","v":144532030},0,"OK",142555340,0,null,1432902,143988242,null,143988242,null,0,0,{"$f":"VLOOKUP(A5079,'Data Pull totals 5-8'!A:C,3,0)","v":543788},144532030,0]
[5075,0,null,0,"OK",0,0,null,0,0,null,0,null,0,0,0,0,0]
[5077,0,null,0,"OK",0,0,null,0,0,null,0,null,0,0,0,0,0]
[5078,6525702,{"$f":"'Revenues 9-14'!C128","v":6525702},0,"OK",6410486,0,null,97470,6507956,null,6507956,null,0,0,{"$f":"VLOOKUP(A5085,'Data Pull totals 5-8'!A:C,3,0)","v":17746},6525702,0]
[5081,4501046,{"$f":"'Revenues 9-14'!C129","v":4501046},0,"OK",4353971,0,null,147075,4501046,null,4501046,null,0,0,{"$f":"VLOOKUP(A5088,'Data Pull totals 5-8'!A:C,3,0)","v":0},4501046,0]
[5084,0,null,0,"OK",0,0,null,0,0,null,0,null,0,0,0,0,0]
[5087,1140963,{"$f":"'Revenues 9-14'!C133","v":1140963},0,"OK",1140963,0,null,0,1140963,null,1140963,null,0,0,{"$f":"VLOOKUP(A5094,'Data Pull totals 5-8'!A:C,3,0)","v":0},1140963,0]
[5091,17298662,{"$f":"'Revenues 9-14'!C134","v":17298662},{"$f":"B5098-C5098","v":0},"OK",17253594,0,null,-3069,17250525,null,17250525,null,0,0,{"$f":"VLOOKUP(A5098,'Data Pull totals 5-8'!A:C,3,0)","v":48137},17298662,0]
[5093,0,null,0,"OK",0,0,null,0,0,null,0,null,0,0,0,0,0]
[5096,0,null,0,"OK",0,0,null,0,0,null,0,null,0,0,0,0,0]
[5098,0,null,0,"OK",0,0,null,0,0,null,0,null,0,0,0,0,0]
[5099,0,null,0,"OK",0,0,null,0,0,null,0,null,0,0,0,0,0]
[5103,451518,{"$f":"'Revenues 9-14'!C143","v":451518},0,"OK",451518,0,null,0,451518,null,451518,null,0,0,{"$f":"VLOOKUP(A5110,'Data Pull totals 5-8'!A:C,3,0)","v":0},451518,0]
[5105,0,null,0,"OK",0,0,null,0,0,null,0,null,0,0,0,0,0]
[5108,0,null,0,"OK",0,0,null,0,0,null,0,null,0,0,0,0,0]
[5110,3605207,{"$f":"'Revenues 9-14'!C148","v":3605207},0,"OK",3605207,0,null,0,3605207,null,3605207,null,0,0,{"$f":"VLOOKUP(A5117,'Data Pull totals 5-8'!A:C,3,0)","v":0},3605207,0]
[5114,296180,{"$f":"'Revenues 9-14'!C151","v":296180},0,"OK",296180,0,null,0,296180,null,296180,null,0,0,{"$f":"VLOOKUP(A5121,'Data Pull totals 5-8'!A:C,3,0)","v":0},296180,0]
[5117,49139494,{"$f":"'Revenues 9-14'!C154","v":49139494},0,"OK",49139494,0,null,0,49139494,null,49139494,null,0,0,{"$f":"VLOOKUP(A5124,'Data Pull totals 5-8'!A:C,3,0)","v":0},49139494,0]
[5119,0,null,0,"OK",0,0,null,0,0,null,0,null,0,0,0,0,0]
[5120,75580,{"$f":"'Revenues 9-14'!C155","v":75580},0,"OK",75580,0,null,0,75580,null,75580,null,0,0,{"$f":"VLOOKUP(A5127,'Data Pull totals 5-8'!A:C,3,0)","v":0},75580,0]
[5124,0,null,0,"OK",0,0,null,0,0,null,0,null,0,0,0,0,0]
[5126,12813,{"$f":"'Revenues 9-14'!C156","v":12813},0,"OK",12813,0,null,0,12813,null,12813,null,0,0,{"$f":"VLOOKUP(A5133,'Data Pull totals 5-8'!A:C,3,0)","v":0},12813,0]
[5129,0,null,0,"OK",0,0,null,0,0,null,0,null,0,0,0,0,0]
[5131,0,null,0,"OK",0,0,null,0,0,null,0,null,0,0,0,0,0]
[5135,388808276,{"$f":"'Revenues 9-14'!C158","v":388808276},0,"OK",383700525,0,null,4707274,388407799,null,388407799,null,0,0,{"$f":"VLOOKUP(A5142,'Data Pull totals 5-8'!A:C,3,0)","v":400477},388808276,0]
[5138,830080,{"$f":"'Revenues 9-14'!C159","v":830080},0,"OK",830080,0,null,0,830080,null,830080,null,0,0,{"$f":"VLOOKUP(A5145,'Data Pull totals 5-8'!A:C,3,0)","v":0},830080,0]
[5140,0,null,0,"OK",0,0,null,0,0,null,0,null,0,0,0,0,0]
[5141,0,null,0,"OK",0,0,null,0,0,null,0,null,0,0,0,0,0]
[5145,0,null,0,"OK",0,0,null,0,0,null,0,null,0,0,0,0,0]
[5147,0,null,0,"OK",0,0,null,0,0,null,0,null,0,0,0,0,0]
[5150,0,null,0,"OK",0,0,null,0,0,null,0,null,0,0,0,0,0]
[5152,0,null,0,"OK",0,0,null,0,0,null,0,null,0,0,0,0,0]
[5156,0,null,0,"OK",0,0,null,0,0,null,0,null,0,0,0,0,0]
[5157,0,null,0,"OK",0,0,null,0,0,null,0,null,0,0,0,0,0]
[5161,0,null,0,"OK",0,0,null,0,0,null,0,null,0,0,0,0,0]
[5162,6447581623.0099993,{"$f":"'Revenues 9-14'!C173","v":6447581623.0100002},0,"OK",6377446328.0099993,9.5367431640625E-7,null,52694565,6430140893.0099993,null,6430140893.0099993,null,0,0,{"$f":"VLOOKUP(A5169,'Data Pull totals 5-8'!A:C,3,0)","v":17440730},6447581623.0099993,0]
[5166,0,null,0,"OK",0,0,null,0,0,null,0,null,0,0,0,0,0]
[5168,0,null,0,"OK",0,0,null,0,0,null,0,null,0,0,0,0,0]
[5171,68048769,{"$f":"'Revenues 9-14'!C184","v":68048769},0,"OK",68048769,0,null,0,68048769,null,68048769,null,0,0,{"$f":"VLOOKUP(A5178,'Data Pull totals 5-8'!A:C,3,0)","v":0},68048769,0]
[5173,0,null,0,"OK",0,0,null,0,0,null,0,null,0,0,0,0,0]
[5177,0,null,0,"OK",0,0,null,0,0,null,0,null,0,0,0,0,0]
[5178,429563014.91000003,{"$f":"'Revenues 9-14'!C194","v":429563014.91000003},0,"OK",425665035.91000003,0,null,2410674,428075709.91000003,null,428075709.91000003,null,0,0,{"$f":"VLOOKUP(A5185,'Data Pull totals 5-8'!A:C,3,0)","v":1487305},429563014.91000003,0]
[5182,10003623,{"$f":"'Revenues 9-14'!C198","v":10003623},0,"OK",9831761,0,null,171862,10003623,null,10003623,null,0,0,{"$f":"VLOOKUP(A5189,'Data Pull totals 5-8'!A:C,3,0)","v":0},10003623,0]
[5183,0,null,0,"OK",0,0,null,0,0,null,0,null,0,0,0,0,0]
[5187,2123307,{"$f":"'Revenues 9-14'!C204","v":2123307},0,"OK",2123169,0,null,138,2123307,null,2123307,null,0,0,{"$f":"VLOOKUP(A5194,'Data Pull totals 5-8'!A:C,3,0)","v":0},2123307,0]
[5189,0,null,0,"OK",0,0,null,0,0,null,0,null,{"$f":"SUM(J5196-L5196)","v":0},0,0,0,{"$f":"SUM(L5196+P5196-Q5196)","v":0}]
[5192,0,null,0,"OK",0,0,null,0,0,null,0,null,0,0,0,0,0]
[5194,424331,{"$f":"'Revenues 9-14'!C209","v":424331},0,"OK",424331,0,null,0,424331,null,424331,null,0,0,{"$f":"VLOOKUP(A5201,'Data Pull totals 5-8'!A:C,3,0)","v":0},424331,0]
[5198,0,null,0,"OK",0,0,null,0,0,null,0,null,0,0,0,0,0]
[5199,641387368,{"$f":"'Revenues 9-14'!C211","v":641387368},0,"OK",633862985,0,null,6316806,640179791,null,640179791,null,0,0,{"$f":"VLOOKUP(A5206,'Data Pull totals 5-8'!A:C,3,0)","v":1207577},641387368,0]
[5203,0,null,0,"OK",0,0,null,0,0,null,0,null,0,0,0,0,0]
[5204,0,null,0,"OK",0,0,null,0,0,null,0,null,0,0,0,0,0]
[5208,0,null,0,"OK",0,0,null,0,0,null,0,null,0,0,0,0,0]
[5210,0,null,0,"OK",0,0,null,0,0,null,0,null,0,0,0,0,0]
[5214,3476037,{"$f":"'Revenues 9-14'!C219","v":3476037},0,"OK",3476037,0,null,0,3476037,null,3476037,null,0,0,{"$f":"VLOOKUP(A5221,'Data Pull totals 5-8'!A:C,3,0)","v":0},3476037,0]
[5215,0,null,0,"OK",0,0,null,0,0,null,0,null,0,0,0,0,0]
[5219,47137,{"$f":"'Revenues 9-14'!C222","v":47137},{"$f":"B5226-C5226","v":0},"OK",47137,0,null,0,47137,null,47137,null,0,0,{"$f":"VLOOKUP(A5226,'Data Pull totals 5-8'!A:C,3,0)","v":0},47137,0]
[5220,0,null,0,"OK",0,0,null,0,0,null,0,null,0,0,0,0,0]
[5224,0,null,0,"OK",0,0,null,0,0,null,0,null,0,0,0,0,0]
[5225,402577400.74000001,{"$f":"'Revenues 9-14'!C224","v":402577400.74000001},0,"OK",400029257.74000001,0,null,1665755,401695012.74000001,null,401695012.74000001,null,0,0,{"$f":"VLOOKUP(A5232,'Data Pull totals 5-8'!A:C,3,0)","v":882388},402577400.74000001,0]
[5229,0,null,0,"OK",0,0,null,0,0,null,0,null,0,0,0,0,0]
[5231,0,null,0,"OK",0,0,null,0,0,null,0,null,0,0,0,0,0]
[5235,0,null,0,"OK",0,0,null,0,0,null,0,null,0,0,0,0,0]
[5236,0,null,0,"OK",0,0,null,0,0,null,0,null,0,0,0,0,0]
[5240,5748521,{"$f":"'Revenues 9-14'!C226","v":5748521},0,"OK",5748521,0,null,0,5748521,null,5748521,null,0,0,{"$f":"VLOOKUP(A5247,'Data Pull totals 5-8'!A:C,3,0)","v":0},5748521,0]
[5241,0,null,0,"OK",0,0,null,0,0,null,0,null,0,0,0,0,0]
[5245,0,null,0,"OK",0,0,null,0,0,null,0,null,0,0,0,0,0]
[5247,0,null,0,"OK",0,0,null,0,0,null,0,null,0,0,0,0,0]
[5250,0,null,0,"OK",0,0,null,0,0,null,0,null,0,0,0,0,0]
[5252,54013,{"$f":"'Revenues 9-14'!C265","v":54013},0,"OK",54013,0,null,0,54013,null,54013,null,0,0,{"$f":"VLOOKUP(A5259,'Data Pull totals 5-8'!A:C,3,0)","v":0},54013,0]
[5256,1650086,{"$f":"'Revenues 9-14'!C267","v":1650086},0,"OK",1650086,0,null,0,1650086,null,1650086,null,0,0,{"$f":"VLOOKUP(A5263,'Data Pull totals 5-8'!A:C,3,0)","v":0},1650086,0]
[5257,0,null,0,"OK",0,0,null,0,0,null,0,null,0,0,0,0,0]
[5261,0,null,0,"OK",0,0,null,0,0,null,0,null,0,0,0,0,0]
[5262,0,null,0,"OK",0,0,null,0,0,null,0,null,0,0,0,0,0]
[5266,22848427320.859997,{"$f":"'Revenues 9-14'!C275","v":22848427320.859997},0,"OK",22720475336.859997,3.814697265625E-6,null,75806564,22796281900.859997,null,22796281900.859997,null,0,0,{"$f":"VLOOKUP(A5273,'Data Pull totals 5-8'!A:C,3,0)","v":52145420},22848427320.859997,0]
[5268,0,null,0,"OK",0,0,null,0,0,null,0,null,0,0,0,0,0]
[5271,0,{"$f":"'Revenues 9-14'!D9","v":0},0,"OK",0,0,null,0,0,null,0,null,0,0,0,0,0]
[5273,1530645306.6700001,{"$f":"'Revenues 9-14'!D12","v":1530645306.6700001},0,"OK",1525995751.6700001,0,null,427265,1526423016.6700001,null,1526423016.6700001,null,0,0,{"$f":"VLOOKUP(A5280,'Data Pull totals 5-8'!A:C,3,0)","v":4222290},1530645306.6700001,0]
[5277,990609.7,{"$f":"'Revenues 9-14'!D17","v":990609.7},0,"OK",990609.7,0,null,0,990609.7,null,990609.7,null,0,0,{"$f":"VLOOKUP(A5284,'Data Pull totals 5-8'!A:C,3,0)","v":0},990609.7,0]
[5278,81332471.310000002,{"$f":"'Revenues 9-14'!D18","v":81332471.310000002},0,"OK",81326667.310000002,0,null,0,81326667.310000002,null,81326667.310000002,null,0,0,{"$f":"VLOOKUP(A5285,'Data Pull totals 5-8'!A:C,3,0)","v":5804},81332471.310000002,0]
[5282,24252,{"$f":"'Revenues 9-14'!D77","v":24252},0,"OK",24252,0,null,0,24252,null,24252,null,0,0,{"$f":"VLOOKUP(A5289,'Data Pull totals 5-8'!A:C,3,0)","v":0},24252,0]
[5283,322758,{"$f":"'Revenues 9-14'!D78","v":322758},{"$f":"B5290-C5290","v":0},"OK",322758,0,null,0,322758,null,322758,null,0,0,{"$f":"VLOOKUP(A5290,'Data Pull totals 5-8'!A:C,3,0)","v":0},322758,0]
[5285,0,{"$f":"'Revenues 9-14'!D80","v":0},0,"OK",0,0,null,0,0,null,0,null,0,0,0,0,0]
[5289,6114286,{"$f":"'Revenues 9-14'!D96","v":6114286},0,"OK",6114286,0,null,0,6114286,null,6114286,null,0,0,{"$f":"VLOOKUP(A5296,'Data Pull totals 5-8'!A:C,3,0)","v":0},6114286,0]
[5292,876630,{"$f":"'Revenues 9-14'!D104","v":876630},0,"OK",876630,0,null,0,876630,null,876630,null,0,0,{"$f":"VLOOKUP(A5299,'Data Pull totals 5-8'!A:C,3,0)","v":0},876630,0]
[5294,89591870.750000015,{"$f":"'Revenues 9-14'!D108","v":89591870.75},0,"OK",89478755.750000015,-1.4901161193847656E-8,null,54724,89533479.750000015,null,89533479.750000015,null,0,0,{"$f":"VLOOKUP(A5301,'Data Pull totals 5-8'!A:C,3,0)","v":58391},89591870.750000015,0]
[5298,511071,{"$f":"'Revenues 9-14'!D113","v":511071},0,"OK",511071,0,null,0,511071,null,511071,null,0,0,{"$f":"VLOOKUP(A5305,'Data Pull totals 5-8'!A:C,3,0)","v":0},511071,0]
[5299,1116071,{"$f":"'Revenues 9-14'!D114","v":1116071},0,"OK",1116071,0,null,0,1116071,null,1116071,null,0,0,{"$f":"VLOOKUP(A5306,'Data Pull totals 5-8'!A:C,3,0)","v":0},1116071,0]
[5301,0,{"$f":"'Revenues 9-14'!D119","v":0},0,"OK",0,0,null,0,0,null,0,null,0,0,0,0,0]
[5304,0,null,0,"OK",0,0,null,0,0,null,0,null,0,0,0,0,0]
[5306,544320403,{"$f":"'Revenues 9-14'!D121","v":544320403},0,"OK",539320403,0,null,5000000,544320403,null,544320403,null,0,0,{"$f":"VLOOKUP(A5313,'Data Pull totals 5-8'!A:C,3,0)","v":0},544320403,0]
[5310,0,null,0,"OK",0,0,null,0,0,null,0,null,0,0,0,0,0]
[5313,0,{"$f":"'Revenues 9-14'!D134","v":0},0,{"$f":"IF((D5320 = 0),\"OK\",IF((D5320<-5),\"CHECK ME!\",IF((D5320>5),\"Check Me!\",\"OK\")))","v":"OK"},0,0,null,0,0,null,0,null,0,0,0,0,0]
[5315,0,null,0,"OK",0,0,null,0,0,null,0,null,0,0,0,0,0]
[5319,0,null,0,"OK",0,0,null,0,0,null,0,null,0,0,0,0,0]
[5320,0,null,0,"OK",0,0,null,0,0,null,0,null,0,0,0,0,0]
[5322,0,{"$f":"'Revenues 9-14'!D140","v":0},0,"OK",0,0,null,0,0,null,0,null,0,0,0,0,0]
[5325,0,null,0,"OK",0,0,null,0,0,null,0,null,0,0,0,0,0]
[5327,0,null,0,"OK",0,0,null,0,0,null,0,null,0,0,0,0,0]
[5331,0,null,0,"OK",0,0,null,0,0,null,0,null,0,0,0,0,0]
[5334,0,{"$f":"'Revenues 9-14'!D156","v":0},0,"OK",0,0,null,0,0,null,0,null,0,0,0,0,0]
[5337,0,null,0,"OK",0,0,null,0,0,null,0,null,0,0,0,0,0]
[5340,326020,{"$f":"'Revenues 9-14'!D158","v":326020},0,"OK",326020,0,null,0,326020,null,326020,null,0,0,{"$f":"VLOOKUP(A5347,'Data Pull totals 5-8'!A:C,3,0)","v":0},326020,0]
[5341,0,null,0,"OK",0,0,null,0,0,null,0,null,0,0,0,0,0]
[5343,0,null,0,"OK",0,0,null,0,0,null,0,null,0,0,0,0,0]
[5346,0,null,0,"OK",0,0,null,0,0,null,0,null,0,0,0,0,0]
[5348,0,null,0,"OK",0,0,null,0,0,null,0,null,0,0,0,0,0]
[5352,0,null,0,"OK",0,0,null,0,0,null,0,null,0,0,0,0,0]
[5355,0,null,0,"OK",0,0,null,0,0,null,0,null,0,0,0,0,0]
[5358,0,null,0,"OK",0,0,null,0,0,null,0,null,0,0,0,0,0]
[5360,546116589,{"$f":"'Revenues 9-14'!D173","v":546116589},0,"OK",541116589,0,null,5000000,546116589,null,546116589,null,0,0,{"$f":"VLOOKUP(A5367,'Data Pull totals 5-8'!A:C,3,0)","v":0},546116589,0]
[5363,0,{"$f":"'Revenues 9-14'!D181","v":0},0,"OK",0,0,null,0,0,null,0,null,0,0,0,0,0]
[5364,19692,{"$f":"'Revenues 9-14'!D184","v":19692},0,"OK",19692,0,null,0,19692,null,19692,null,0,0,{"$f":"VLOOKUP(A5371,'Data Pull totals 5-8'!A:C,3,0)","v":0},19692,0]
[5367,0,null,0,"OK",0,0,null,0,0,null,0,null,0,0,0,0,0]
[5369,0,null,0,"OK",0,0,null,0,0,null,0,null,0,0,0,0,0]
[5373,0,null,0,"OK",0,0,null,0,0,null,0,null,0,0,0,0,0]
[5376,0,null,0,"OK",0,0,null,0,0,null,0,null,0,0,0,0,0]
[5379,0,{"$f":"'Revenues 9-14'!D213","v":0},0,"OK",0,0,null,0,0,null,0,null,0,0,0,0,0]
[5381,0,null,0,"OK",0,0,null,0,0,null,0,null,{"$f":"SUM(J5388-L5388)","v":0},0,0,0,{"$f":"SUM(L5388+P5388-Q5388)","v":0}]
[5384,0,null,0,"OK",0,0,null,0,0,null,0,null,0,0,0,0,0]
[5385,0,null,0,"OK",0,0,null,0,0,null,0,null,0,0,0,0,0]
[5388,0,null,0,"OK",0,0,null,0,0,null,0,null,0,0,0,0,0]
[5391,0,null,0,"OK",0,0,null,0,0,null,0,null,0,0,0,0,0]
[5394,0,null,0,"OK",0,0,null,0,0,null,0,null,0,0,0,0,0]
[5397,0,{"$f":"'Revenues 9-14'!D218","v":0},0,"OK",0,0,null,0,0,null,0,null,0,0,0,0,0]
[5400,0,null,0,"OK",0,0,null,0,0,null,0,null,0,0,0,0,0]
[5402,6211,{"$f":"'Revenues 9-14'!D221","v":6211},0,"OK",6211,0,null,0,6211,null,6211,null,0,0,{"$f":"VLOOKUP(A5409,'Data Pull totals 5-8'!A:C,3,0)","v":0},6211,0]
[5405,0,null,0,"OK",0,0,null,0,0,null,0,null,0,0,0,0,0]
[5406,0,null,0,"OK",0,0,null,0,0,null,0,null,0,0,0,0,0]
[5409,155824,{"$f":"'Revenues 9-14'!D224","v":155824},0,"OK",155824,0,null,0,155824,null,155824,null,0,0,{"$f":"VLOOKUP(A5416,'Data Pull totals 5-8'!A:C,3,0)","v":0},155824,0]
[5412,0,null,0,"OK",0,0,null,0,0,null,0,null,0,0,0,0,0]
[5415,0,null,0,"OK",0,0,null,0,0,null,0,null,0,0,0,0,0]
[5418,0,null,0,"OK",0,0,null,0,0,null,0,null,0,0,0,0,0]
[5421,0,null,0,"OK",0,0,null,0,0,null,0,null,0,0,0,0,0]
[5423,0,null,0,"OK",0,0,null,0,0,null,0,null,0,0,0,0,0]
[5426,0,null,0,"OK",0,0,null,0,0,null,0,null,0,0,0,0,0]
[5427,0,{"$f":"'Revenues 9-14'!D228","v":0},0,"OK",0,0,null,0,0,null,0,null,0,0,0,0,0]
[5430,0,null,0,"OK",0,0,null,0,0,null,0,null,0,0,0,0,0]
[5433,0,{"$f":"'Revenues 9-14'!D229","v":0},0,"OK",0,0,null,0,0,null,0,null,0,0,0,0,0]
[5435,0,{"$f":"'Revenues 9-14'!D266","v":0},0,"OK",0,0,null,0,0,null,0,null,0,0,0,0,0]
[5438,0,null,0,"OK",0,0,null,0,0,null,0,null,0,0,0,0,0]
[5442,0,null,0,"OK",0,0,null,0,0,null,0,null,0,0,0,0,0]
[5444,0,null,0,"OK",0,0,null,0,0,null,0,null,0,0,0,0,0]
[5445,0,null,0,"OK",0,0,null,0,0,null,0,null,{"$f":"SUM(J5452-L5452)","v":0},0,0,0,{"$f":"SUM(L5452+P5452-Q5452)","v":0}]
[5448,1580829141.8000002,{"$f":"'Revenues 9-14'!E5","v":1580829141.8000002},0,"OK",1567597322.8000002,-2.384185791015625E-7,null,1570884,1569168206.8000002,null,1569168206.8000002,null,0,0,{"$f":"VLOOKUP(A5455,'Data Pull totals 5-8'!A:C,3,0)","v":11660935},1580829141.8000002,0]
[5451,3614308,{"$f":"'Revenues 9-14'!E11","v":3614308},0,"OK",3614308,0,null,0,3614308,null,3614308,null,0,0,{"$f":"VLOOKUP(A5458,'Data Pull totals 5-8'!A:C,3,0)","v":0},3614308,0]
[5454,50717,{"$f":"'Revenues 9-14'!E15","v":50717},0,"OK",50717,0,null,0,50717,null,50717,null,0,0,{"$f":"VLOOKUP(A5461,'Data Pull totals 5-8'!A:C,3,0)","v":0},50717,0]
[5456,589190,{"$f":"'Revenues 9-14'!E17","v":589190},0,"OK",589190,0,null,0,589190,null,589190,null,0,0,{"$f":"VLOOKUP(A5463,'Data Pull totals 5-8'!A:C,3,0)","v":0},589190,0]
[5459,814098,{"$f":"'Revenues 9-14'!E66","v":814098},0,"OK",814098,0,null,0,814098,null,814098,null,0,0,{"$f":"VLOOKUP(A5466,'Data Pull totals 5-8'!A:C,3,0)","v":0},814098,0]
[5463,766615,{"$f":"'Revenues 9-14'!E104","v":766615},0,"OK",766615,0,null,0,766615,null,766615,null,0,0,{"$f":"VLOOKUP(A5470,'Data Pull totals 5-8'!A:C,3,0)","v":0},766615,0]
[5465,154545732,{"$f":"'Revenues 9-14'!E108","v":154545732},0,"OK",154545729,0,null,3,154545732,null,154545732,null,0,0,{"$f":"VLOOKUP(A5472,'Data Pull totals 5-8'!A:C,3,0)","v":0},154545732,0]
[5466,1816697759.8000002,{"$f":"'Revenues 9-14'!E109","v":1816697759.8000002},0,"OK",1803405039.8000002,-2.384185791015625E-7,null,1570887,1804975926.8000002,null,1804975926.8000002,null,0,0,{"$f":"VLOOKUP(A5473,'Data Pull totals 5-8'!A:C,3,0)","v":11721833},1816697759.8000002,0]
[5469,0,null,0,"OK",0,0,null,0,0,null,0,null,0,0,0,0,0]
[5472,0,null,0,"OK",0,0,null,0,0,null,0,null,0,0,0,0,0]
[5475,0,null,{"$f":"B5482-C5482","v":0},"OK",0,0,null,0,0,null,0,null,0,0,0,0,0]
[5477,0,null,0,"OK",0,0,null,0,0,null,0,null,0,0,0,0,0]
[5481,0,null,0,"OK",0,0,null,0,0,null,0,null,0,0,0,0,0]
[5484,0,null,0,"OK",0,0,null,0,0,null,0,null,0,0,0,0,0]
[5486,0,null,0,"OK",0,0,null,0,0,null,0,null,0,0,0,0,0]
[5487,0,null,0,"OK",0,0,null,0,0,null,0,null,0,0,0,0,0]
[5490,0,null,0,"OK",0,0,null,0,0,null,0,null,0,0,0,0,0]
[5493,0,null,0,"OK",0,0,null,0,0,null,0,null,0,0,0,0,0]
[5496,630748441.68000007,{"$f":"'Revenues 9-14'!F12","v":630748441.68000007},0,"OK",626570313.68000007,-1.1920928955078125E-7,null,170908,626741221.68000007,null,626741221.68000007,null,0,0,{"$f":"VLOOKUP(A5503,'Data Pull totals 5-8'!A:C,3,0)","v":4007220},630748441.68000007,0]
[5498,14725,{"$f":"'Revenues 9-14'!F15","v":14725},0,"OK",14725,0,null,0,14725,null,14725,null,0,0,{"$f":"VLOOKUP(A5505,'Data Pull totals 5-8'!A:C,3,0)","v":0},14725,0]
[5502,6794979,{"$f":"'Revenues 9-14'!F42","v":6794979},0,"OK",6794708,0,null,0,6794708,null,6794708,null,0,0,{"$f":"VLOOKUP(A5509,'Data Pull totals 5-8'!A:C,3,0)","v":271},6794979,0]
[5505,5114422,{"$f":"'Revenues 9-14'!F45","v":5114422},0,{"$f":"IF((D5512 = 0),\"OK\",IF((D5512<-5),\"CHECK ME!\",IF((D5512>5),\"Check Me!\",\"OK\")))","v":"OK"},5114422,0,null,0,5114422,null,5114422,null,0,0,{"$f":"VLOOKUP(A5512,'Data Pull totals 5-8'!A:C,3,0)","v":0},5114422,0]
[5507,59325,{"$f":"'Revenues 9-14'!F48","v":59325},0,"OK",59325,0,null,0,59325,null,59325,null,0,0,{"$f":"VLOOKUP(A5514,'Data Pull totals 5-8'!A:C,3,0)","v":0},59325,0]
[5508,8000,{"$f":"'Revenues 9-14'!F49","v":8000},0,"OK",8000,0,null,0,8000,null,8000,null,0,0,{"$f":"VLOOKUP(A5515,'Data Pull totals 5-8'!A:C,3,0)","v":0},8000,0]
[5511,11321,{"$f":"'Revenues 9-14'!F53","v":11321},0,"OK",11321,0,null,0,11321,null,11321,null,0,0,{"$f":"VLOOKUP(A5518,'Data Pull totals 5-8'!A:C,3,0)","v":0},11321,0]
[5514,187716,{"$f":"'Revenues 9-14'!F57","v":187716},0,"OK",187716,0,null,0,187716,null,187716,null,0,0,{"$f":"VLOOKUP(A5521,'Data Pull totals 5-8'!A:C,3,0)","v":0},187716,0]
[5517,15171,{"$f":"'Revenues 9-14'!F61","v":15171},0,"OK",15171,0,null,0,15171,null,15171,null,0,0,{"$f":"VLOOKUP(A5524,'Data Pull totals 5-8'!A:C,3,0)","v":0},15171,0]
[5519,7708961,{"$f":"'Revenues 9-14'!F65","v":7708961},0,"OK",7627729,0,null,0,7627729,null,7627729,null,0,0,{"$f":"VLOOKUP(A5526,'Data Pull totals 5-8'!A:C,3,0)","v":81232},7708961,0]
[5523,705899,{"$f":"'Revenues 9-14'!F98","v":705899},0,"OK",705899,0,null,0,705899,null,705899,null,0,0,{"$f":"VLOOKUP(A5530,'Data Pull totals 5-8'!A:C,3,0)","v":0},705899,0]
[5526,13091893,{"$f":"'Revenues 9-14'!F108","v":13091893},0,"OK",13091893,0,null,0,13091893,null,13091893,null,0,0,{"$f":"VLOOKUP(A5533,'Data Pull totals 5-8'!A:C,3,0)","v":0},13091893,0]
[5528,45553,{"$f":"'Revenues 9-14'!F111","v":45553},0,"OK",45553,0,null,0,45553,null,45553,null,0,0,{"$f":"VLOOKUP(A5535,'Data Pull totals 5-8'!A:C,3,0)","v":0},45553,0]
[5529,29339,{"$f":"'Revenues 9-14'!F112","v":29339},0,"OK",29339,0,null,0,29339,null,29339,null,0,0,{"$f":"VLOOKUP(A5536,'Data Pull totals 5-8'!A:C,3,0)","v":0},29339,0]
[5533,1574961,{"$f":"'Revenues 9-14'!F119","v":1574961},0,"OK",1574961,0,null,0,1574961,null,1574961,null,0,0,{"$f":"VLOOKUP(A5540,'Data Pull totals 5-8'!A:C,3,0)","v":0},1574961,0]
[5535,0,null,0,"OK",0,0,null,0,0,null,0,null,0,0,0,0,0]
[5538,49293761,{"$f":"'Revenues 9-14'!F121","v":49293761},0,"OK",47493761,0,null,1800000,49293761,null,49293761,null,0,0,{"$f":"VLOOKUP(A5545,'Data Pull totals 5-8'!A:C,3,0)","v":0},49293761,0]
[5540,5625,{"$f":"'Revenues 9-14'!F125","v":5625},0,"OK",5625,0,null,0,5625,null,5625,null,0,0,{"$f":"VLOOKUP(A5547,'Data Pull totals 5-8'!A:C,3,0)","v":0},5625,0]
[5544,0,null,0,"OK",0,0,null,0,0,null,0,null,0,0,0,0,0]
[5547,0,null,0,"OK",0,0,null,0,0,null,0,null,0,0,0,0,0]
[5549,0,null,0,"OK",0,0,null,0,0,null,0,null,0,0,0,0,0]
[5550,0,null,0,"OK",0,0,null,0,0,null,0,null,0,0,0,0,0]
[5554,278137337.91999996,{"$f":"'Revenues 9-14'!F151","v":278137337.91999996},0,"OK",274881825.91999996,5.9604644775390625E-8,null,1388440,276270265.91999996,null,276270265.91999996,null,0,0,{"$f":"VLOOKUP(A5561,'Data Pull totals 5-8'!A:C,3,0)","v":1867072},278137337.91999996,0]
[5556,353389376.62,{"$f":"'Revenues 9-14'!F152","v":353389376.62},0,"OK",350182905.62,0,null,1216496,351399401.62,null,351399401.62,null,0,0,{"$f":"VLOOKUP(A5563,'Data Pull totals 5-8'!A:C,3,0)","v":1989975},353389376.62,0]
[5559,0,null,0,"OK",0,0,null,0,0,null,0,null,0,0,0,0,0]
[5561,0,null,0,"OK",0,0,null,0,0,null,0,null,0,0,0,0,0]
[5565,0,null,0,"OK",0,0,null,0,0,null,0,null,0,0,0,0,0]
[5568,0,null,0,"OK",0,0,null,0,0,null,0,null,0,0,0,0,0]
[5570,0,{"$f":"'Revenues 9-14'!F160","v":0},0,"OK",0,0,null,0,0,null,0,null,0,0,0,0,0]
[5571,0,null,0,"OK",0,0,null,0,0,null,0,null,0,0,0,0,0]
[5575,0,null,0,"OK",0,0,null,0,0,null,0,null,0,0,0,0,0]
[5577,0,null,0,"OK",0,0,null,0,0,null,0,null,0,0,0,0,0]
[5580,0,null,0,"OK",0,0,null,0,0,null,0,null,0,0,0,0,0]
[5582,0,null,0,"OK",0,0,null,0,0,null,0,null,0,0,0,0,0]
[5586,0,null,0,"OK",0,0,null,0,0,null,0,null,0,0,0,0,0]
[5589,0,null,0,"OK",0,0,null,0,0,null,0,null,0,0,0,0,0]
[5591,0,null,0,"OK",0,0,null,0,0,null,0,null,0,0,0,0,0]
[5592,687642458.53999996,{"$f":"'Revenues 9-14'!F173","v":687642458.53999996},0,"OK",679380475.53999996,0,null,4404936,683785411.53999996,null,683785411.53999996,null,0,0,{"$f":"VLOOKUP(A5599,'Data Pull totals 5-8'!A:C,3,0)","v":3857047},687642458.53999996,0]
[5596,0,null,0,"OK",0,0,null,0,0,null,0,null,0,0,0,0,0]
[5598,0,{"$f":"'Revenues 9-14'!F187","v":0},0,"OK",0,0,null,0,0,null,0,null,0,0,0,0,0]
[5601,0,null,0,"OK",0,0,null,0,0,null,0,null,0,0,0,0,0]
[5603,768092,{"$f":"'Revenues 9-14'!F203","v":768092},{"$f":"B5610-C5610","v":0},"OK",768092,0,null,0,768092,null,768092,null,0,0,{"$f":"VLOOKUP(A5610,'Data Pull totals 5-8'!A:C,3,0)","v":0},768092,0]
[5607,0,null,0,"OK",0,0,null,0,0,null,0,null,0,0,0,0,0]
[5608,0,null,0,"OK",0,0,null,0,0,null,0,null,0,0,0,0,0]
[5610,0,{"$f":"'Revenues 9-14'!F207","v":0},0,"OK",0,0,null,0,0,null,0,null,0,0,0,0,0]
[5613,0,null,0,"OK",0,0,null,0,0,null,0,null,0,0,0,0,0]
[5617,0,null,0,"OK",0,0,null,0,0,null,0,null,0,0,0,0,0]
[5619,0,null,0,"OK",0,0,null,0,0,null,0,null,0,0,0,0,0]
[5622,0,null,0,"OK",0,0,null,0,0,null,0,null,0,0,0,0,0]
[5624,0,null,0,"OK",0,0,null,0,0,null,0,null,0,0,0,0,0]
[5628,0,null,0,"OK",0,0,null,0,0,null,0,null,0,0,0,0,0]
[5629,0,null,0,"OK",0,0,null,0,0,null,0,null,0,0,0,0,0]
[5631,0,{"$f":"'Revenues 9-14'!F219","v":0},0,"OK",0,0,null,0,0,null,0,null,0,0,0,0,0]
[5634,55571,{"$f":"'Revenues 9-14'!F220","v":55571},0,"OK",55571,0,null,0,55571,null,55571,null,0,0,{"$f":"VLOOKUP(A5641,'Data Pull totals 5-8'!A:C,3,0)","v":0},55571,0]
[5638,0,null,0,"OK",0,0,null,0,0,null,0,null,0,0,0,0,0]
[5640,0,null,0,"OK",0,0,null,0,0,null,0,null,0,0,0,0,0]
[5643,0,null,0,"OK",0,0,null,0,0,null,0,null,0,0,0,0,0]
[5645,0,{"$f":"'Revenues 9-14'!F265","v":0},0,"OK",0,0,null,0,0,null,0,null,0,0,0,0,0]
[5649,0,{"$f":"'Revenues 9-14'!F267","v":0},0,"OK",0,0,null,0,0,null,0,null,0,0,0,0,0]
[5650,0,null,0,"OK",0,0,null,0,0,null,0,null,0,0,0,0,0]
[5652,1508570,{"$f":"'Revenues 9-14'!F273","v":1508570},0,"OK",1508570,0,null,0,1508570,null,1508570,null,0,0,{"$f":"VLOOKUP(A5659,'Data Pull totals 5-8'!A:C,3,0)","v":0},1508570,0]
[5655,0,null,0,"OK",0,0,null,0,0,null,0,null,0,0,0,0,0]
[5659,1383037909.74,{"$f":"'Revenues 9-14'!F275","v":1383037909.74},0,"OK",1370502614.74,0,null,4575844,1375078458.74,null,1375078458.74,null,0,0,{"$f":"VLOOKUP(A5666,'Data Pull totals 5-8'!A:C,3,0)","v":7959451},1383037909.74,0]
[5661,1812761,{"$f":"'Revenues 9-14'!G7","v":1812761},0,"OK",1812761,0,null,0,1812761,null,1812761,null,0,0,{"$f":"VLOOKUP(A5668,'Data Pull totals 5-8'!A:C,3,0)","v":0},1812761,0]
[5664,577904975.33999991,{"$f":"'Revenues 9-14'!G12","v":577904975.34000003},0,"OK",574089351.33999991,1.1920928955078125E-7,null,1934231,576023582.33999991,null,576023582.33999991,null,0,0,{"$f":"VLOOKUP(A5671,'Data Pull totals 5-8'!A:C,3,0)","v":1881393},577904975.33999991,0]
[5666,46992,{"$f":"'Revenues 9-14'!G15","v":46992},0,"OK",46992,0,null,0,46992,null,46992,null,0,0,{"$f":"VLOOKUP(A5673,'Data Pull totals 5-8'!A:C,3,0)","v":0},46992,0]
[5670,5132579,{"$f":"'Revenues 9-14'!G65","v":5132579},0,"OK",5112665,0,null,0,5112665,null,5112665,null,0,0,{"$f":"VLOOKUP(A5677,'Data Pull totals 5-8'!A:C,3,0)","v":19914},5132579,0]
[5671,-296936,{"$f":"'Revenues 9-14'!G66","v":-296936},0,"OK",-296936,0,null,0,-296936,null,-296936,null,0,0,{"$f":"VLOOKUP(A5678,'Data Pull totals 5-8'!A:C,3,0)","v":0},-296936,0]
[5673,15764,{"$f":"'Revenues 9-14'!G96","v":15764},0,"OK",15764,0,null,0,15764,null,15764,null,0,0,{"$f":"VLOOKUP(A5680,'Data Pull totals 5-8'!A:C,3,0)","v":0},15764,0]
[5676,1447124,{"$f":"'Revenues 9-14'!G108","v":1447124},0,"OK",1447124,0,null,0,1447124,null,1447124,null,0,0,{"$f":"VLOOKUP(A5683,'Data Pull totals 5-8'!A:C,3,0)","v":0},1447124,0]
[5680,0,{"$f":"'Revenues 9-14'!G114","v":0},0,"OK",0,0,null,0,0,null,0,null,0,0,0,0,0]
[5682,0,{"$f":"'Revenues 9-14'!G119","v":0},0,"OK",0,0,null,0,0,null,0,null,0,0,0,0,0]
[5685,0,null,0,"OK",0,0,null,0,0,null,0,null,0,0,0,0,0]
[5688,5193,{"$f":"'Revenues 9-14'!G133","v":5193},0,"OK",5193,0,null,0,5193,null,5193,null,0,0,{"$f":"VLOOKUP(A5695,'Data Pull totals 5-8'!A:C,3,0)","v":0},5193,0]
[5691,10205,{"$f":"'Revenues 9-14'!G140","v":10205},0,"OK",10205,0,null,0,10205,null,10205,null,0,0,{"$f":"VLOOKUP(A5698,'Data Pull totals 5-8'!A:C,3,0)","v":0},10205,0]
[5692,0,null,0,"OK",0,0,null,0,0,null,0,null,0,0,0,0,0]
[5694,0,{"$f":"'Revenues 9-14'!G143","v":0},0,"OK",0,0,null,0,0,null,0,null,0,0,0,0,0]
[5697,0,null,0,{"$f":"IF((D5704 = 0),\"OK\",IF((D5704<-5),\"CHECK ME!\",IF((D5704>5),\"Check Me!\",\"OK\")))","v":"OK"},0,0,null,0,0,null,0,null,0,0,0,0,0]
[5701,0,null,0,"OK",0,0,null,0,0,null,0,null,{"$f":"SUM(J5708-L5708)","v":0},0,0,0,{"$f":"SUM(L5708+P5708-Q5708)","v":0}]
[5703,0,null,0,"OK",0,0,null,0,0,null,0,null,0,0,0,0,0]
[5706,0,{"$f":"'Revenues 9-14'!G159","v":0},0,"OK",0,0,null,0,0,null,0,null,0,0,0,0,0]
[5709,587260,{"$f":"'Revenues 9-14'!G172","v":587260},0,"OK",587260,0,null,0,587260,null,587260,null,0,0,{"$f":"VLOOKUP(A5716,'Data Pull totals 5-8'!A:C,3,0)","v":0},587260,0]
[5712,0,null,0,"OK",0,0,null,0,0,null,0,null,0,0,0,0,0]
[5713,0,null,0,"OK",0,0,null,0,0,null,0,null,0,0,0,0,0]
[5715,0,null,0,"OK",0,0,null,0,0,null,0,null,0,0,0,0,0]
[5718,0,{"$f":"'Revenues 9-14'!G176","v":0},0,"OK",0,0,null,0,0,null,0,null,0,0,0,0,0]
[5722,0,null,0,"OK",0,0,null,0,0,null,0,null,0,0,0,0,0]
[5724,0,{"$f":"'Revenues 9-14'!G187","v":0},0,"OK",0,0,null,0,0,null,0,null,0,0,0,0,0]
[5727,0,null,0,"OK",0,0,null,0,0,null,0,null,0,0,0,0,0]
[5730,154,{"$f":"'Revenues 9-14'!G204","v":154},0,"OK",154,0,null,0,154,null,154,null,0,0,{"$f":"VLOOKUP(A5737,'Data Pull totals 5-8'!A:C,3,0)","v":0},154,0]
[5733,0,null,0,"OK",0,0,null,0,0,null,0,null,0,0,0,0,0]
[5734,0,null,0,"OK",0,0,null,0,0,null,0,null,0,0,0,0,0]
[5736,0,{"$f":"'Revenues 9-14'!G207","v":0},0,"OK",0,0,null,0,0,null,0,null,0,0,0,0,0]
[5739,0,null,0,"OK",0,0,null,0,0,null,0,null,0,0,0,0,0]
[5743,0,null,0,"OK",0,0,null,0,0,null,0,null,0,0,0,0,0]
[5745,0,null,0,"OK",0,0,null,0,0,null,0,null,0,0,0,0,0]
[5748,0,null,0,"OK",0,0,null,0,0,null,0,null,0,0,0,0,0]
[5751,0,null,0,"OK",0,0,null,0,0,null,0,null,0,0,0,0,0]
[5754,0,null,0,"OK",0,0,null,0,0,null,0,null,0,0,0,0,0]
[5755,0,null,0,"OK",0,0,null,0,0,null,0,null,0,0,0,0,0]
[5757,0,{"$f":"'Revenues 9-14'!G219","v":0},0,"OK",0,0,null,0,0,null,0,null,0,0,0,0,0]
[5760,1012852,{"$f":"'Revenues 9-14'!G220","v":1012852},0,"OK",1012852,0,null,0,1012852,null,1012852,null,0,0,{"$f":"VLOOKUP(A5767,'Data Pull totals 5-8'!A:C,3,0)","v":0},1012852,0]
[5763,0,null,0,"OK",0,0,null,0,0,null,0,null,0,0,0,0,0]
[5766,0,null,0,"OK",0,0,null,0,0,null,0,null,0,0,0,0,0]
[5769,0,null,0,"OK",0,0,null,0,0,null,0,null,0,0,0,0,0]
[5772,0,null,0,"OK",0,0,null,0,0,null,0,null,0,0,0,0,0]
[5775,0,null,0,"OK",0,0,null,0,0,null,0,null,0,0,0,0,0]
[5776,0,null,0,"OK",0,0,null,0,0,null,0,null,0,0,0,0,0]
[5778,0,null,0,"OK",0,0,null,0,0,null,0,null,0,0,0,0,0]
[5781,0,null,0,"OK",0,0,null,0,0,null,0,null,0,0,0,0,0]
[5784,0,null,0,"OK",0,0,null,0,0,null,0,null,0,0,0,0,0]
[5787,0,null,0,"OK",0,0,null,0,0,null,0,null,0,0,0,0,0]
[5790,0,null,0,"OK",0,0,null,0,0,null,0,null,0,0,0,0,0]
[5793,0,null,0,"OK",0,0,null,0,0,null,0,null,0,0,0,0,0]
[5796,0,null,0,"OK",0,0,null,0,0,null,0,null,0,0,0,0,0]
[5797,0,{"$f":"'Revenues 9-14'!G266","v":0},0,"OK",0,0,null,0,0,null,0,null,0,0,0,0,0]
[5799,0,{"$f":"'Revenues 9-14'!G267","v":0},0,"OK",0,0,null,0,0,null,0,null,0,0,0,0,0]
[5802,2166551,{"$f":"'Revenues 9-14'!G273","v":2166551},0,"OK",2166551,0,null,0,2166551,null,2166551,null,0,0,{"$f":"VLOOKUP(A5809,'Data Pull totals 5-8'!A:C,3,0)","v":0},2166551,0]
[5805,0,null,0,"OK",0,0,null,0,0,null,0,null,0,0,0,0,0]
[5808,2166556,{"$f":"'Revenues 9-14'!G274","v":2166556},0,"OK",2166556,0,null,0,2166556,null,2166556,null,0,0,{"$f":"VLOOKUP(A5815,'Data Pull totals 5-8'!A:C,3,0)","v":0},2166556,0]
[5811,37018,{"$f":"'Revenues 9-14'!H11","v":37018},0,"OK",37018,0,null,0,37018,null,37018,null,0,0,{"$f":"VLOOKUP(A5818,'Data Pull totals 5-8'!A:C,3,0)","v":0},37018,0]
[5814,0,{"$f":"'Revenues 9-14'!H15","v":0},0,"OK",0,0,null,0,0,null,0,null,0,0,0,0,0]
[5817,4882580,{"$f":"'Revenues 9-14'!H18","v":4882580},0,"OK",4882580,0,null,0,4882580,null,4882580,null,0,0,{"$f":"VLOOKUP(A5824,'Data Pull totals 5-8'!A:C,3,0)","v":0},4882580,0]
[5818,23261024.82,{"$f":"'Revenues 9-14'!H65","v":23261024.82},0,"OK",23248635.82,0,null,8344,23256979.82,null,23256979.82,null,0,0,{"$f":"VLOOKUP(A5825,'Data Pull totals 5-8'!A:C,3,0)","v":4045},23261024.82,0]
[5820,22475399.82,{"$f":"'Revenues 9-14'!H67","v":22475399.82},0,"OK",22463010.82,0,null,8344,22471354.82,null,22471354.82,null,0,0,{"$f":"VLOOKUP(A5827,'Data Pull totals 5-8'!A:C,3,0)","v":4045},22475399.82,0]
[5823,30276,{"$f":"'Revenues 9-14'!H104","v":30276},0,"OK",30276,0,null,0,30276,null,30276,null,0,0,{"$f":"VLOOKUP(A5830,'Data Pull totals 5-8'!A:C,3,0)","v":0},30276,0]
[5826,36938304,{"$f":"'Revenues 9-14'!H117","v":36938304},0,"OK",36938304,0,null,0,36938304,null,36938304,null,0,0,{"$f":"VLOOKUP(A5833,'Data Pull totals 5-8'!A:C,3,0)","v":0},36938304,0]
[5829,0,null,0,"OK",0,0,null,0,0,null,0,null,{"$f":"SUM(J5836-L5836)","v":0},0,0,0,{"$f":"SUM(L5836+P5836-Q5836)","v":0}]
[5832,36938304,{"$f":"'Revenues 9-14'!H121","v":36938304},0,"OK",36938304,0,null,0,36938304,null,36938304,null,0,0,{"$f":"VLOOKUP(A5839,'Data Pull totals 5-8'!A:C,3,0)","v":0},36938304,0]
[5835,0,null,0,"OK",0,0,null,0,0,null,0,null,0,0,0,0,0]
[5838,18734326,{"$f":"'Revenues 9-14'!H172","v":18734326},0,"OK",18734326,0,null,0,18734326,null,18734326,null,0,0,{"$f":"VLOOKUP(A5845,'Data Pull totals 5-8'!A:C,3,0)","v":0},18734326,0]
[5839,0,null,0,"OK",0,0,null,0,0,null,0,null,0,0,0,0,0]
[5841,0,null,0,"OK",0,0,null,0,0,null,0,null,0,0,0,0,0]
[5844,0,null,0,"OK",0,0,null,0,0,null,0,null,0,0,0,0,0]
[5847,184181,{"$f":"'Revenues 9-14'!H184","v":184181},0,"OK",184181,0,null,0,184181,null,184181,null,0,0,{"$f":"VLOOKUP(A5854,'Data Pull totals 5-8'!A:C,3,0)","v":0},184181,0]
[5850,0,null,0,"OK",0,0,null,0,0,null,0,null,0,0,0,0,0]
[5853,755447,{"$f":"'Revenues 9-14'!H274","v":755447},0,"OK",755447,0,null,0,755447,null,755447,null,0,0,{"$f":"VLOOKUP(A5860,'Data Pull totals 5-8'!A:C,3,0)","v":0},755447,0]
[5856,200731,{"$f":"'Revenues 9-14'!I11","v":200731},0,"OK",200731,0,null,0,200731,null,200731,null,0,0,{"$f":"VLOOKUP(A5863,'Data Pull totals 5-8'!A:C,3,0)","v":0},200731,0]
[5858,15244.8,{"$f":"'Revenues 9-14'!I14","v":15244.8},0,"OK",15237.8,0,null,0,15237.8,null,15237.8,null,0,0,{"$f":"VLOOKUP(A5865,'Data Pull totals 5-8'!A:C,3,0)","v":7},15244.8,0]
[5859,2799,{"$f":"'Revenues 9-14'!I15","v":2799},{"$f":"B5866-C5866","v":0},"OK",2799,0,null,0,2799,null,2799,null,0,0,{"$f":"VLOOKUP(A5866,'Data Pull totals 5-8'!A:C,3,0)","v":0},2799,0]
[5862,375238.8,{"$f":"'Revenues 9-14'!I18","v":375238.8},0,"OK",375231.8,0,null,0,375231.8,null,375231.8,null,0,0,{"$f":"VLOOKUP(A5869,'Data Pull totals 5-8'!A:C,3,0)","v":7},375238.8,0]
[5865,23488445.949999999,{"$f":"'Revenues 9-14'!I67","v":23488445.949999999},0,"OK",23474242.949999999,0,null,0,23474242.949999999,null,23474242.949999999,null,0,0,{"$f":"VLOOKUP(A5872,'Data Pull totals 5-8'!A:C,3,0)","v":14203},23488445.949999999,0]
[5868,610,{"$f":"'Revenues 9-14'!I107","v":610},0,"OK",610,0,null,0,610,null,610,null,0,0,{"$f":"VLOOKUP(A5875,'Data Pull totals 5-8'!A:C,3,0)","v":0},610,0]
[5871,0,null,0,"OK",0,0,null,0,0,null,0,null,0,0,0,0,0]
[5874,0,null,0,"OK",0,0,null,0,0,null,0,null,0,0,0,0,0]
[5877,0,null,0,"OK",0,0,null,0,0,null,0,null,0,0,0,0,0]
[5879,0,null,0,"OK",0,0,null,0,0,null,0,null,0,0,0,0,0]
[5880,0,null,0,"OK",0,0,null,0,0,null,0,null,0,0,0,0,0]
[5883,0,null,0,"OK",0,0,null,0,0,null,0,null,0,0,0,0,0]
[5886,0,null,0,"OK",0,0,null,0,0,null,0,null,0,0,0,0,0]
[5889,0,null,0,{"$f":"IF((D5896 = 0),\"OK\",IF((D5896<-5),\"CHECK ME!\",IF((D5896>5),\"Check Me!\",\"OK\")))","v":"OK"},0,0,null,0,0,null,0,null,0,0,0,0,0]
[5892,0,null,0,"OK",0,0,null,0,0,null,0,null,0,0,0,0,0]
[5895,0,null,0,"OK",0,0,null,0,0,null,0,null,0,0,0,0,0]
[5898,0,null,0,"OK",0,0,null,0,0,null,0,null,0,0,0,0,0]
[5900,0,null,0,"OK",0,0,null,0,0,null,0,null,0,0,0,0,0]
[5901,0,null,0,"OK",0,0,null,0,0,null,0,null,0,0,0,0,0]
[5904,0,null,0,"OK",0,0,null,0,0,null,0,null,0,0,0,0,0]
[5907,0,null,0,"OK",0,0,null,0,0,null,0,null,0,0,0,0,0]
[5910,0,null,0,"OK",0,0,null,0,0,null,0,null,0,0,0,0,0]
[5914,0,null,0,"OK",0,0,null,0,0,null,0,null,0,0,0,0,0]
[5916,0,null,0,"OK",0,0,null,0,0,null,0,null,0,0,0,0,0]
[5919,0,null,0,"OK",0,0,null,0,0,null,0,null,0,0,0,0,0]
[5921,0,null,0,"OK",0,0,null,0,0,null,0,null,0,0,0,0,0]
[5922,0,null,0,"OK",0,0,null,0,0,null,0,null,0,0,0,0,0]
[5925,230168,{"$f":"'Revenues 9-14'!K11","v":230168},0,"OK",230168,0,null,0,230168,null,230168,null,0,0,{"$f":"VLOOKUP(A5932,'Data Pull totals 5-8'!A:C,3,0)","v":0},230168,0]
[5928,2940,{"$f":"'Revenues 9-14'!K15","v":2940},0,"OK",2940,0,null,0,2940,null,2940,null,0,0,{"$f":"VLOOKUP(A5935,'Data Pull totals 5-8'!A:C,3,0)","v":0},2940,0]
[5931,52638.8,{"$f":"'Revenues 9-14'!K18","v":52638.8},0,"OK",50955.8,0,null,0,50955.8,null,50955.8,null,0,0,{"$f":"VLOOKUP(A5938,'Data Pull totals 5-8'!A:C,3,0)","v":1683},52638.8,0]
[5933,-173153,{"$f":"'Revenues 9-14'!K66","v":-173153},0,"OK",-173153,0,null,0,-173153,null,-173153,null,0,0,{"$f":"VLOOKUP(A5940,'Data Pull totals 5-8'!A:C,3,0)","v":0},-173153,0]
[5937,54407,{"$f":"'Revenues 9-14'!K107","v":54407},0,"OK",54407,0,null,0,54407,null,54407,null,0,0,{"$f":"VLOOKUP(A5944,'Data Pull totals 5-8'!A:C,3,0)","v":0},54407,0]
[5940,0,{"$f":"'Revenues 9-14'!K119","v":0},0,"OK",0,0,null,0,0,null,0,null,0,0,0,0,0]
[5942,0,null,0,"OK",0,0,null,0,0,null,0,null,0,0,0,0,0]
[5943,0,null,0,"OK",0,0,null,0,0,null,0,null,0,0,0,0,0]
[5947,0,null,0,"OK",0,0,null,0,0,null,0,null,0,0,0,0,0]
[5949,0,null,0,"OK",0,0,null,0,0,null,0,null,0,0,0,0,0]
[5952,0,null,0,"OK",0,0,null,0,0,null,0,null,0,0,0,0,0]
[5954,0,null,0,"OK",0,0,null,0,0,null,0,null,0,0,0,0,0]
[5958,0,null,0,"OK",0,0,null,0,0,null,0,null,0,0,0,0,0]
[5961,0,{"$f":"'Revenues 9-14'!K274","v":0},0,"OK",0,0,null,0,0,null,0,null,0,0,0,0,0]
[5963,634963075.33999991,{"$f":"'Revenues 9-14'!G109","v":634963075.34000003},0,"OK",630708243.33999991,1.1920928955078125E-7,null,2302231,633010474.33999991,null,633010474.33999991,null,0,0,{"$f":"VLOOKUP(A5970,'Data Pull totals 5-8'!A:C,3,0)","v":1952601},634963075.33999991,0]
[5964,183466992.61000001,{"$f":"'Revenues 9-14'!H109","v":183466992.61000001},0,"OK",183431639.61000001,0,null,8344,183439983.61000001,null,183439983.61000001,null,0,0,{"$f":"VLOOKUP(A5971,'Data Pull totals 5-8'!A:C,3,0)","v":27009},183466992.61000001,0]
[5968,0,null,0,"OK",0,0,null,0,0,null,0,null,0,0,0,0,0]
[5970,137024027.72,{"$f":"'Revenues 9-14'!C69","v":137024027.72},0,"OK",136549465.72,0,null,0,136549465.72,null,136549465.72,null,0,0,{"$f":"VLOOKUP(A5977,'Data Pull totals 5-8'!A:C,3,0)","v":474562},137024027.72,0]
[5973,0,null,0,"OK",0,0,null,0,0,null,0,null,0,0,0,0,0]
[5975,0,null,0,"OK",0,0,null,0,0,null,0,null,0,0,0,0,0]
[5979,0,null,0,"OK",0,0,null,0,0,null,0,null,0,0,0,0,0]
[5982,0,null,0,"OK",0,0,null,0,0,null,0,null,0,0,0,0,0]
[5984,0,null,0,"OK",0,0,null,0,0,null,0,null,0,0,0,0,0]
[5985,0,null,0,"OK",0,0,null,0,0,null,0,null,0,0,0,0,0]
[5989,0,null,0,"OK",0,0,null,0,0,null,0,null,0,0,0,0,0]
[5991,0,null,0,"OK",0,0,null,0,0,null,0,null,0,0,0,0,0]
[5994,0,null,0,"OK",0,0,null,0,0,null,0,null,0,0,0,0,0]
[5996,0,null,0,"OK",0,0,null,0,0,null,0,null,0,0,0,0,0]
[6000,0,null,0,"OK",0,0,null,0,0,null,0,null,0,0,0,0,0]
[6001,0,null,0,"OK",0,0,null,0,0,null,0,null,0,0,0,0,0]
[6005,0,null,0,"OK",0,0,null,0,0,null,0,null,0,0,0,0,0]
[6006,0,null,0,"OK",0,0,null,0,0,null,0,null,0,0,0,0,0]
[6010,0,null,0,"OK",0,0,null,0,0,null,0,null,0,0,0,0,0]
[6012,0,null,0,"OK",0,0,null,0,0,null,0,null,0,0,0,0,0]
[6015,396099891,{"$f":"'Short-Term Long-Term Debt 25'!C27","v":396099891},0,"OK",396099891,0,null,0,396099891,null,396099891,null,0,0,{"$f":"VLOOKUP(A6022,'Data Pull totals 5-8'!A:C,3,0)","v":0},396099891,0]
[6017,394497187,{"$f":"'Short-Term Long-Term Debt 25'!E27","v":394497187},0,{"$f":"IF((D6024 = 0),\"OK\",IF((D6024<-5),\"CHECK ME!\",IF((D6024>5),\"Check Me!\",\"OK\")))","v":"OK"},394497187,0,null,0,394497187,null,394497187,null,0,0,{"$f":"VLOOKUP(A6024,'Data Pull totals 5-8'!A:C,3,0)","v":0},394497187,0]
[6021,32891331,{"$f":"'Assets-Liab 5-6'!D7","v":32891331},0,"OK",32891331,0,null,0,32891331,null,32891331,null,{"$f":"SUM(J6028-L6028)","v":0},0,{"$f":"VLOOKUP(A6028,'Data Pull totals 5-8'!A:C,3,0)","v":0},32891331,{"$f":"SUM(L6028+P6028-Q6028)","v":0}]
[6022,586973,{"$f":"'Assets-Liab 5-6'!E7","v":586973},0,"OK",586973,0,null,0,586973,null,586973,null,0,0,{"$f":"VLOOKUP(A6029,'Data Pull totals 5-8'!A:C,3,0)","v":0},586973,0]
[6026,42282890,{"$f":"'Assets-Liab 5-6'!I7","v":42282890},0,"OK",42282890,0,null,0,42282890,null,42282890,null,0,0,{"$f":"VLOOKUP(A6033,'Data Pull totals 5-8'!A:C,3,0)","v":0},42282890,0]
[6027,308635,{"$f":"'Assets-Liab 5-6'!J7","v":308635},0,"OK",308635,0,null,0,308635,null,308635,null,0,0,{"$f":"VLOOKUP(A6034,'Data Pull totals 5-8'!A:C,3,0)","v":0},308635,0]
[6031,46274563,{"$f":"'Assets-Liab 5-6'!E8","v":46274563},0,"OK",46274563,0,null,0,46274563,null,46274563,null,0,0,{"$f":"VLOOKUP(A6038,'Data Pull totals 5-8'!A:C,3,0)","v":0},46274563,0]
[6033,842754,{"$f":"'Assets-Liab 5-6'!G8","v":842754},0,"OK",842754,0,null,0,842754,null,842754,null,0,0,{"$f":"VLOOKUP(A6040,'Data Pull totals 5-8'!A:C,3,0)","v":0},842754,0]
[6036,26,{"$f":"'Assets-Liab 5-6'!J8","v":26},0,"OK",26,0,null,0,26,null,26,null,0,0,{"$f":"VLOOKUP(A6043,'Data Pull totals 5-8'!A:C,3,0)","v":0},26,0]
[6038,43408202,{"$f":"'Assets-Liab 5-6'!C9","v":43408202},0,"OK",39419975,0,null,3988227,43408202,null,43408202,null,0,0,{"$f":"VLOOKUP(A6045,'Data Pull totals 5-8'!A:C,3,0)","v":0},43408202,0]
[6042,480959,{"$f":"'Assets-Liab 5-6'!G9","v":480959},0,"OK",480959,0,null,0,480959,null,480959,null,0,0,{"$f":"VLOOKUP(A6049,'Data Pull totals 5-8'!A:C,3,0)","v":0},480959,0]
[6043,3880069,{"$f":"'Assets-Liab 5-6'!H9","v":3880069},0,"OK",3880069,0,null,0,3880069,null,3880069,null,0,0,{"$f":"VLOOKUP(A6050,'Data Pull totals 5-8'!A:C,3,0)","v":0},3880069,0]
[6047,3044871,{"$f":"'Assets-Liab 5-6'!L9","v":3044871},0,"OK",3044871,0,null,0,3044871,null,3044871,null,0,0,{"$f":"VLOOKUP(A6054,'Data Pull totals 5-8'!A:C,3,0)","v":0},3044871,0]
[6048,0,{"$f":"'Assets-Liab 5-6'!E10","v":0},0,"OK",0,0,null,0,0,null,0,null,0,0,0,0,0]
[6052,27033910,{"$f":"'Assets-Liab 5-6'!C11","v":27033910},0,"OK",26963999,0,null,0,26963999,null,26963999,null,0,0,{"$f":"VLOOKUP(A6059,'Data Pull totals 5-8'!A:C,3,0)","v":69911},27033910,0]
[6054,9279578,{"$f":"'Assets-Liab 5-6'!E11","v":9279578},0,"OK",8725769,0,null,553809,9279578,null,9279578,null,0,0,{"$f":"VLOOKUP(A6061,'Data Pull totals 5-8'!A:C,3,0)","v":0},9279578,0]
[6058,0,{"$f":"'Assets-Liab 5-6'!I11","v":0},0,"OK",0,0,null,0,0,null,0,null,0,0,0,0,0]
[6059,2546242,{"$f":"'Assets-Liab 5-6'!J11","v":2546242},0,"OK",2239991,0,null,306251,2546242,null,2546242,null,0,0,{"$f":"VLOOKUP(A6066,'Data Pull totals 5-8'!A:C,3,0)","v":0},2546242,0]
[6063,321514964.94,{"$f":"'Assets-Liab 5-6'!J13","v":321514964.94},0,"OK",315234006.94,0,null,6280958,321514964.94,null,321514964.94,null,0,0,{"$f":"VLOOKUP(A6070,'Data Pull totals 5-8'!A:C,3,0)","v":0},321514964.94,0]
[6064,41244931,{"$f":"'Assets-Liab 5-6'!C25","v":41244931},0,"OK",41244931,0,null,0,41244931,null,41244931,null,0,0,{"$f":"VLOOKUP(A6071,'Data Pull totals 5-8'!A:C,3,0)","v":0},41244931,0]
[6068,5349622,{"$f":"'Assets-Liab 5-6'!G25","v":5349622},0,"OK",5349622,0,null,0,5349622,null,5349622,null,0,0,{"$f":"VLOOKUP(A6075,'Data Pull totals 5-8'!A:C,3,0)","v":0},5349622,0]
[6069,14605891,{"$f":"'Assets-Liab 5-6'!H25","v":14605891},0,"OK",14605891,0,null,0,14605891,null,14605891,null,0,0,{"$f":"VLOOKUP(A6076,'Data Pull totals 5-8'!A:C,3,0)","v":0},14605891,0]
[6073,1005135,{"$f":"'Assets-Liab 5-6'!D26","v":1005135},0,"OK",1005135,0,null,0,1005135,null,1005135,null,0,0,{"$f":"VLOOKUP(A6080,'Data Pull totals 5-8'!A:C,3,0)","v":0},1005135,0]
[6075,795076,{"$f":"'Assets-Liab 5-6'!F26","v":795076},0,"OK",795076,0,null,0,795076,null,795076,null,0,0,{"$f":"VLOOKUP(A6082,'Data Pull totals 5-8'!A:C,3,0)","v":0},795076,0]
[6079,0,{"$f":"'Assets-Liab 5-6'!J26","v":0},0,"OK",0,0,null,0,0,null,0,null,0,0,0,0,0]
[6080,0,{"$f":"'Assets-Liab 5-6'!K26","v":0},0,"OK",0,0,null,0,0,null,0,null,0,0,0,0,0]
[6084,25650569,{"$f":"'Assets-Liab 5-6'!F27","v":25650569},0,"OK",25392012,0,null,124403,25516415,null,25516415,null,0,0,{"$f":"VLOOKUP(A6091,'Data Pull totals 5-8'!A:C,3,0)","v":134154},25650569,0]
[6085,2602990,{"$f":"'Assets-Liab 5-6'!G27","v":2602990},0,"OK",2602943,0,null,0,2602943,null,2602943,null,{"$f":"SUM(J6092-L6092)","v":0},0,{"$f":"VLOOKUP(A6092,'Data Pull totals 5-8'!A:C,3,0)","v":47},2602990,{"$f":"SUM(L6092+P6092-Q6092)","v":0}]
[6089,14911041,{"$f":"'Assets-Liab 5-6'!K27","v":14911041},0,"OK",14911041,0,null,0,14911041,null,14911041,null,0,0,{"$f":"VLOOKUP(A6096,'Data Pull totals 5-8'!A:C,3,0)","v":0},14911041,0]
[6091,5886022,{"$f":"'Assets-Liab 5-6'!D28","v":5886022},0,"OK",5886022,0,null,0,5886022,null,5886022,null,0,0,{"$f":"VLOOKUP(A6098,'Data Pull totals 5-8'!A:C,3,0)","v":0},5886022,0]
[6094,196148,{"$f":"'Assets-Liab 5-6'!G28","v":196148},0,"OK",196148,0,null,0,196148,null,196148,null,0,0,{"$f":"VLOOKUP(A6101,'Data Pull totals 5-8'!A:C,3,0)","v":0},196148,0]
[6096,0,{"$f":"'Assets-Liab 5-6'!I28","v":0},0,"OK",0,0,null,0,0,null,0,null,0,0,0,0,0]
[6100,2183,{"$f":"'Assets-Liab 5-6'!D29","v":2183},0,"OK",2183,0,null,0,2183,null,2183,null,0,0,{"$f":"VLOOKUP(A6107,'Data Pull totals 5-8'!A:C,3,0)","v":0},2183,0]
[6101,64839,{"$f":"'Assets-Liab 5-6'!E29","v":64839},0,"OK",64839,0,null,0,64839,null,64839,null,0,0,{"$f":"VLOOKUP(A6108,'Data Pull totals 5-8'!A:C,3,0)","v":0},64839,0]
[6105,0,{"$f":"'Assets-Liab 5-6'!I29","v":0},0,"OK",0,0,null,0,0,null,0,null,0,0,0,0,0]
[6106,0,{"$f":"'Assets-Liab 5-6'!J29","v":0},0,"OK",0,0,null,0,0,null,0,null,0,0,0,0,0]
[6108,630064834,{"$f":"'Assets-Liab 5-6'!C30","v":630064834},0,"OK",623659796,0,null,3790323,627450119,null,627450119,null,0,0,{"$f":"VLOOKUP(A6115,'Data Pull totals 5-8'!A:C,3,0)","v":2614715},630064834,0]
[6112,6132972,{"$f":"'Assets-Liab 5-6'!G30","v":6132972},0,"OK",6132972,0,null,0,6132972,null,6132972,null,0,0,{"$f":"VLOOKUP(A6119,'Data Pull totals 5-8'!A:C,3,0)","v":0},6132972,0]
[6115,692857,{"$f":"'Assets-Liab 5-6'!J30","v":692857},0,"OK",692857,0,null,0,692857,null,692857,null,0,0,{"$f":"VLOOKUP(A6122,'Data Pull totals 5-8'!A:C,3,0)","v":0},692857,0]
[6117,0,{"$f":"'Assets-Liab 5-6'!E31","v":0},0,"OK",0,0,null,0,0,null,0,null,0,0,0,0,0]
[6121,48216156,{"$f":"'Assets-Liab 5-6'!C33","v":48216156},0,"OK",48216156,0,null,0,48216156,null,48216156,null,0,0,{"$f":"VLOOKUP(A6128,'Data Pull totals 5-8'!A:C,3,0)","v":0},48216156,0]
[6122,1500000,{"$f":"'Assets-Liab 5-6'!D33","v":1500000},0,"OK",1500000,0,null,0,1500000,null,1500000,null,0,0,{"$f":"VLOOKUP(A6129,'Data Pull totals 5-8'!A:C,3,0)","v":0},1500000,0]
[6126,0,{"$f":"'Assets-Liab 5-6'!H33","v":0},0,"OK",0,0,null,0,0,null,0,null,0,0,0,0,0]
[6127,0,{"$f":"'Assets-Liab 5-6'!I33","v":0},0,"OK",0,0,null,0,0,null,0,null,0,0,0,0,0]
[6129,0,{"$f":"'Assets-Liab 5-6'!K33","v":0},0,"OK",0,0,null,0,0,null,0,null,0,0,0,0,0]
[6133,0,null,0,"OK",0,0,null,0,0,null,0,null,0,0,0,0,0]
[6136,0,null,0,"OK",0,0,null,0,0,null,0,null,0,0,0,0,0]
[6138,0,null,0,"OK",0,0,null,0,0,null,0,null,0,0,0,0,0]
[6142,0,null,0,"OK",0,0,null,0,0,null,0,null,0,0,0,0,0]
[6143,0,{"$f":"'Assets-Liab 5-6'!C37","v":0},0,"OK",0,0,null,0,0,null,0,null,0,0,0,0,0]
[6145,0,{"$f":"'Assets-Liab 5-6'!E37","v":0},0,{"$f":"IF((D6152 = 0),\"OK\",IF((D6152<-5),\"CHECK ME!\",IF((D6152>5),\"Check Me!\",\"OK\")))","v":"OK"},0,0,null,0,0,null,0,null,0,0,0,0,0]
[6148,0,{"$f":"'Assets-Liab 5-6'!H37","v":0},0,"OK",0,0,null,0,0,null,0,null,0,0,0,0,0]
[6150,0,{"$f":"'Assets-Liab 5-6'!J37","v":0},0,"OK",0,0,null,0,0,null,0,null,0,0,0,0,0]
[6154,146370821.78,{"$f":"'Assets-Liab 5-6'!J39","v":146370821.78},0,"OK",146370821.78,0,null,0,146370821.78,null,146370821.78,null,0,0,{"$f":"VLOOKUP(A6161,'Data Pull totals 5-8'!A:C,3,0)","v":0},146370821.78,0]
[6157,56347587,{"$f":"'Assets-Liab 5-6'!J5","v":56347587},0,"OK",56347587,0,null,0,56347587,null,56347587,null,0,0,{"$f":"VLOOKUP(A6164,'Data Pull totals 5-8'!A:C,3,0)","v":0},56347587,0]
[6159,344492569.02999991,{"$f":"'Acct Summary 7-8'!J4","v":344492569.03000003},0,"OK",341131043.02999991,5.9604644775390625E-8,null,3361526,344492569.02999991,null,344492569.02999991,null,0,0,{"$f":"VLOOKUP(A6166,'Data Pull totals 5-8'!A:C,3,0)","v":0},344492569.02999991,0]
[6163,7417186,{"$f":"'Acct Summary 7-8'!J9","v":7417186},0,"OK",7417186,0,null,0,7417186,null,7417186,null,0,0,{"$f":"VLOOKUP(A6170,'Data Pull totals 5-8'!A:C,3,0)","v":0},7417186,0]
[6164,357423126.02999991,{"$f":"'Acct Summary 7-8'!J10","v":357423126.03000003},0,"OK",354061600.02999991,5.9604644775390625E-8,null,3361526,357423126.02999991,null,357423126.02999991,null,0,0,{"$f":"VLOOKUP(A6171,'Data Pull totals 5-8'!A:C,3,0)","v":0},357423126.02999991,0]
[6166,366851717.16999996,{"$f":"'Acct Summary 7-8'!J17","v":366851717.16999996},0,"OK",363498198.16999996,5.9604644775390625E-8,null,3353519,366851717.16999996,null,366851717.16999996,null,0,0,{"$f":"VLOOKUP(A6173,'Data Pull totals 5-8'!A:C,3,0)","v":0},366851717.16999996,0]
[6169,-16845777.140000001,{"$f":"'Acct Summary 7-8'!J20","v":-16845777.139999926},-7.4505805969238281E-8,"OK",-16853784.140000001,0,null,8007,-16845777.140000001,null,-16845777.140000001,null,0,0,{"$f":"VLOOKUP(A6176,'Data Pull totals 5-8'!A:C,3,0)","v":0},-16845777.140000001,0]
[6171,7793,{"$f":"'Acct Summary 7-8'!J28","v":7793},0,"OK",7793,0,null,0,7793,null,7793,null,0,0,{"$f":"VLOOKUP(A6178,'Data Pull totals 5-8'!A:C,3,0)","v":0},7793,0]
[6175,0,{"$f":"'Acct Summary 7-8'!J36","v":0},0,"OK",0,0,null,0,0,null,0,null,0,0,0,0,0]
[6178,2866909,{"$f":"'Acct Summary 7-8'!J50","v":2866909},0,"OK",2866909,0,null,0,2866909,null,2866909,null,0,0,{"$f":"VLOOKUP(A6185,'Data Pull totals 5-8'!A:C,3,0)","v":0},2866909,0]
[6180,3153335,{"$f":"'Acct Summary 7-8'!D54","v":3153335},0,"OK",3153335,0,null,0,3153335,null,3153335,null,0,0,{"$f":"VLOOKUP(A6187,'Data Pull totals 5-8'!A:C,3,0)","v":0},3153335,0]
[6183,398105,{"$f":"'Acct Summary 7-8'!D58","v":398105},0,"OK",398105,0,null,0,398105,null,398105,null,0,0,{"$f":"VLOOKUP(A6190,'Data Pull totals 5-8'!A:C,3,0)","v":0},398105,0]
[6186,3207546,{"$f":"'Acct Summary 7-8'!D62","v":3207546},0,"OK",3207546,0,null,0,3207546,null,3207546,null,0,0,{"$f":"VLOOKUP(A6193,'Data Pull totals 5-8'!A:C,3,0)","v":0},3207546,0]
[6187,1048241,{"$f":"'Acct Summary 7-8'!C66","v":1048241},0,"OK",1048241,0,null,0,1048241,null,1048241,null,0,0,{"$f":"VLOOKUP(A6194,'Data Pull totals 5-8'!A:C,3,0)","v":0},1048241,0]
[6190,500000,{"$f":"'Acct Summary 7-8'!D70","v":500000},0,"OK",500000,0,null,0,500000,null,500000,null,0,0,{"$f":"VLOOKUP(A6197,'Data Pull totals 5-8'!A:C,3,0)","v":0},500000,0]
[6192,14127,{"$f":"'Acct Summary 7-8'!D74","v":14127},0,"OK",14127,0,null,0,14127,null,14127,null,0,0,{"$f":"VLOOKUP(A6199,'Data Pull totals 5-8'!A:C,3,0)","v":0},14127,0]
[6196,0,{"$f":"'Acct Summary 7-8'!K74","v":0},0,"OK",0,0,null,0,0,null,0,null,0,0,0,0,0]
[6199,2602928,{"$f":"'Acct Summary 7-8'!J75","v":2602928},0,"OK",2602928,0,null,0,2602928,null,2602928,null,0,0,{"$f":"VLOOKUP(A6206,'Data Pull totals 5-8'!A:C,3,0)","v":0},2602928,0]
[6202,-20422816.140000001,{"$f":"'Acct Summary 7-8'!J78","v":-20422816.139999926},-7.4505805969238281E-8,"OK",-20430823.140000001,0,null,8007,-20422816.140000001,null,-20422816.140000001,null,0,0,{"$f":"VLOOKUP(A6209,'Data Pull totals 5-8'!A:C,3,0)","v":0},-20422816.140000001,0]
[6204,603182,{"$f":"'Acct Summary 7-8'!J80","v":603182},0,"OK",603182,0,null,0,603182,null,603182,null,0,0,{"$f":"VLOOKUP(A6211,'Data Pull totals 5-8'!A:C,3,0)","v":0},603182,0]
[6207,40533654.850000001,null,null,null,42207368.850000001,0,null,-1678656,40528712.850000001,null,40528712.850000001,null,0,0,{"$f":"VLOOKUP(A6214,'Data Pull totals 5-8'!A:C,3,0)","v":4942},40533654.850000001,0]
[6208,216894687.79999998,null,null,null,216840544.79999998,2.9802322387695313E-8,null,-70171,216770373.79999998,null,216770373.79999998,null,0,0,{"$f":"VLOOKUP(A6215,'Data Pull totals 5-8'!A:C,3,0)","v":124314},216894687.79999998,0]
[6211,226959598.53999999,null,null,null,227345553.53999999,0,null,7007,227352560.53999999,null,227352560.53999999,null,0,0,{"$f":"VLOOKUP(A6218,'Data Pull totals 5-8'!A:C,3,0)","v":-392962},226959598.53999999,0]
[6213,-19819634.140000001,null,null,null,-19827641.140000001,0,null,8007,-19819634.140000001,null,-19819634.140000001,null,{"$f":"SUM(J6220-L6220)","v":0},0,{"$f":"VLOOKUP(A6220,'Data Pull totals 5-8'!A:C,3,0)","v":0},-19819634.140000001,{"$f":"SUM(L6220+P6220-Q6220)","v":0}]
[6217,-128809632907.78676,null,null,null,-128809632907.80402,1.52587890625E-5,null,-1.0564395978691399E-2,-128809632907.81458,null,-128809632907.81458,null,0,0,{"$f":"VLOOKUP(A6224,'Data Pull totals 5-8'!A:C,3,0)","v":2.7819899528435301E-2},-128809632907.78676,0]
[6220,-543147063037.55463,null,null,null,-543147063037.39758,-4.2724609375E-4,null,5.0527594037066102E-3,-543147063037.39252,null,-543147063037.39252,null,0,0,{"$f":"VLOOKUP(A6227,'Data Pull totals 5-8'!A:C,3,0)","v":-0.1621355774297},-543147063037.55463,0]
[6223,-311289818702.1109,null,null,null,-311289818702.48932,3.0517578125E-4,null,4.8097597878189499E-2,-311289818702.44122,null,-311289818702.44122,null,0,0,{"$f":"VLOOKUP(A6230,'Data Pull totals 5-8'!A:C,3,0)","v":0.33030825390387297},-311289818702.1109,0]
[6225,4073256,{"$f":"'Acct Summary 7-8'!E38","v":4073256},0,"OK",4073256,0,null,0,4073256,null,4073256,null,0,0,{"$f":"VLOOKUP(A6232,'Data Pull totals 5-8'!A:C,3,0)","v":0},4073256,0]
[6228,350706755,{"$f":"'Acct Summary 7-8'!H41","v":350706755},0,"OK",350706755,0,null,0,350706755,null,350706755,null,0,0,{"$f":"VLOOKUP(A6235,'Data Pull totals 5-8'!A:C,3,0)","v":0},350706755,0]
[6229,2228850,{"$f":"'Acct Summary 7-8'!C42","v":2228850},0,"OK",2228850,0,null,0,2228850,null,2228850,null,0,0,{"$f":"VLOOKUP(A6236,'Data Pull totals 5-8'!A:C,3,0)","v":0},2228850,0]
[6232,0,{"$f":"'Acct Summary 7-8'!F42","v":0},0,"OK",0,0,null,0,0,null,0,null,0,0,0,0,0]
[6235,0,{"$f":"'Acct Summary 7-8'!K42","v":0},0,"OK",0,0,null,0,0,null,0,null,0,0,0,0,0]
[6238,0,{"$f":"'Revenues 9-14'!H7","v":0},0,"OK",0,0,null,0,0,null,0,null,0,0,0,0,0]
[6241,117082.29,{"$f":"'Revenues 9-14'!J14","v":117082.29},0,"OK",117082.29,0,null,0,117082.29,null,117082.29,null,0,0,{"$f":"VLOOKUP(A6248,'Data Pull totals 5-8'!A:C,3,0)","v":0},117082.29,0]
[6244,35743,{"$f":"'Revenues 9-14'!J17","v":35743},0,"OK",35743,0,null,0,35743,null,35743,null,0,0,{"$f":"VLOOKUP(A6251,'Data Pull totals 5-8'!A:C,3,0)","v":0},35743,0]
[6246,444886,{"$f":"'Revenues 9-14'!C23","v":444886},0,"OK",444886,0,null,0,444886,null,444886,null,0,0,{"$f":"VLOOKUP(A6253,'Data Pull totals 5-8'!A:C,3,0)","v":0},444886,0]
[6249,50790,{"$f":"'Revenues 9-14'!C35","v":50790},0,"OK",50790,0,null,0,50790,null,50790,null,0,0,{"$f":"VLOOKUP(A6256,'Data Pull totals 5-8'!A:C,3,0)","v":0},50790,0]
[6250,174691,{"$f":"'Revenues 9-14'!C39","v":174691},0,"OK",174691,0,null,0,174691,null,174691,null,0,0,{"$f":"VLOOKUP(A6257,'Data Pull totals 5-8'!A:C,3,0)","v":0},174691,0]
[6253,0,{"$f":"'Revenues 9-14'!F54","v":0},0,"OK",0,0,null,0,0,null,0,null,0,0,0,0,0]
[6256,-124706,{"$f":"'Revenues 9-14'!J66","v":-124706},0,"OK",-124706,0,null,0,-124706,null,-124706,null,0,0,{"$f":"VLOOKUP(A6263,'Data Pull totals 5-8'!A:C,3,0)","v":0},-124706,0]
[6258,2802,{"$f":"'Revenues 9-14'!J96","v":2802},0,"OK",2802,0,null,0,2802,null,2802,null,0,0,{"$f":"VLOOKUP(A6265,'Data Pull totals 5-8'!A:C,3,0)","v":0},2802,0]
[6261,520000,{"$f":"'Revenues 9-14'!E97","v":520000},0,"OK",520000,0,null,0,520000,null,520000,null,0,0,{"$f":"VLOOKUP(A6268,'Data Pull totals 5-8'!A:C,3,0)","v":0},520000,0]
[6265,0,{"$f":"'Revenues 9-14'!I97","v":0},0,"OK",0,0,null,0,0,null,0,null,0,0,0,0,0]
[6267,0,{"$f":"'Revenues 9-14'!K97","v":0},0,"OK",0,0,null,0,0,null,0,null,0,0,0,0,0]
[6270,8329878,{"$f":"'Revenues 9-14'!D100","v":8329878},0,"OK",8329878,0,null,0,8329878,null,8329878,null,0,0,{"$f":"VLOOKUP(A6277,'Data Pull totals 5-8'!A:C,3,0)","v":0},8329878,0]
[6271,2645511,{"$f":"'Revenues 9-14'!E100","v":2645511},0,"OK",2645511,0,null,0,2645511,null,2645511,null,0,0,{"$f":"VLOOKUP(A6278,'Data Pull totals 5-8'!A:C,3,0)","v":0},2645511,0]
[6274,9933371,{"$f":"'Revenues 9-14'!H100","v":9933371},0,"OK",9933371,0,null,0,9933371,null,9933371,null,0,0,{"$f":"VLOOKUP(A6281,'Data Pull totals 5-8'!A:C,3,0)","v":0},9933371,0]
[6277,124975,{"$f":"'Revenues 9-14'!K100","v":124975},0,"OK",124975,0,null,0,124975,null,124975,null,{"$f":"SUM(J6284-L6284)","v":0},0,{"$f":"VLOOKUP(A6284,'Data Pull totals 5-8'!A:C,3,0)","v":0},124975,{"$f":"SUM(L6284+P6284-Q6284)","v":0}]
[6279,2231902,{"$f":"'Revenues 9-14'!C102","v":2231902},0,"OK",2231902,0,null,0,2231902,null,2231902,null,0,0,{"$f":"VLOOKUP(A6286,'Data Pull totals 5-8'!A:C,3,0)","v":0},2231902,0]
[6282,0,{"$f":"'Revenues 9-14'!F102","v":0},0,"OK",0,0,null,0,0,null,0,null,0,0,0,0,0]
[6286,0,{"$f":"'Revenues 9-14'!J102","v":0},0,"OK",0,0,null,0,0,null,0,null,0,0,0,0,0]
[6288,234735,{"$f":"'Revenues 9-14'!G104","v":234735},0,"OK",234735,0,null,0,234735,null,234735,null,0,0,{"$f":"VLOOKUP(A6295,'Data Pull totals 5-8'!A:C,3,0)","v":0},234735,0]
[6289,1833003.7300000002,{"$f":"'Revenues 9-14'!J107","v":1833003.7300000002},0,"OK",1833003.7300000002,-2.3283064365386963E-10,null,0,1833003.7300000002,null,1833003.7300000002,null,0,0,{"$f":"VLOOKUP(A6296,'Data Pull totals 5-8'!A:C,3,0)","v":0},1833003.7300000002,0]
[6292,5512259,{"$f":"'Revenues 9-14'!J117","v":5512259},0,"OK",5512259,0,null,0,5512259,null,5512259,null,0,0,{"$f":"VLOOKUP(A6299,'Data Pull totals 5-8'!A:C,3,0)","v":0},5512259,0]
[6295,0,{"$f":"'Revenues 9-14'!J120","v":0},0,"OK",0,0,null,0,0,null,0,null,0,0,0,0,0]
[6298,1836317,{"$f":"'Revenues 9-14'!C136","v":1836317},0,"OK",1836317,0,null,0,1836317,null,1836317,null,0,0,{"$f":"VLOOKUP(A6305,'Data Pull totals 5-8'!A:C,3,0)","v":0},1836317,0]
[6300,89,{"$f":"'Revenues 9-14'!G136","v":89},0,"OK",89,0,null,0,89,null,89,null,0,0,{"$f":"VLOOKUP(A6307,'Data Pull totals 5-8'!A:C,3,0)","v":0},89,0]
[6303,0,{"$f":"'Revenues 9-14'!G137","v":0},0,"OK",0,0,null,0,0,null,0,null,0,0,0,0,0]
[6307,0,{"$f":"'Revenues 9-14'!E148","v":0},0,"OK",0,0,null,0,0,null,0,null,0,0,0,0,0]
[6309,0,{"$f":"'Revenues 9-14'!G148","v":0},0,"OK",0,0,null,0,0,null,0,null,0,0,0,0,0]
[6310,0,{"$f":"'Revenues 9-14'!H148","v":0},0,"OK",0,0,null,0,0,null,0,null,0,0,0,0,0]
[6313,0,{"$f":"'Revenues 9-14'!K148","v":0},0,"OK",0,0,null,0,0,null,0,null,0,0,0,0,0]
[6316,0,{"$f":"'Revenues 9-14'!I149","v":0},0,"OK",0,0,null,0,0,null,0,null,0,0,0,0,0]
[6319,0,{"$f":"'Revenues 9-14'!G151","v":0},0,"OK",0,0,null,0,0,null,0,null,0,0,0,0,0]
[6321,1681,{"$f":"'Revenues 9-14'!C161","v":1681},0,"OK",1681,0,null,0,1681,null,1681,null,0,0,{"$f":"VLOOKUP(A6328,'Data Pull totals 5-8'!A:C,3,0)","v":0},1681,0]
[6325,0,{"$f":"'Revenues 9-14'!F162","v":0},0,"OK",0,0,null,0,0,null,0,null,0,0,0,0,0]
[6328,0,{"$f":"'Revenues 9-14'!D166","v":0},0,"OK",0,0,null,0,0,null,0,null,0,0,0,0,0]
[6330,0,{"$f":"'Revenues 9-14'!F166","v":0},0,"OK",0,0,null,0,0,null,0,null,0,0,0,0,0]
[6331,0,{"$f":"'Revenues 9-14'!G166","v":0},0,"OK",0,0,null,0,0,null,0,null,0,0,0,0,0]
[6335,1112,{"$f":"'Revenues 9-14'!J172","v":1112},0,"OK",1112,0,null,0,1112,null,1112,null,0,0,{"$f":"VLOOKUP(A6342,'Data Pull totals 5-8'!A:C,3,0)","v":0},1112,0]
[6336,5513371,{"$f":"'Revenues 9-14'!J173","v":5513371},0,"OK",5513371,0,null,0,5513371,null,5513371,null,0,0,{"$f":"VLOOKUP(A6343,'Data Pull totals 5-8'!A:C,3,0)","v":0},5513371,0]
[6340,188604,{"$f":"'Revenues 9-14'!C193","v":188604},0,"OK",188604,0,null,0,188604,null,188604,null,0,0,{"$f":"VLOOKUP(A6347,'Data Pull totals 5-8'!A:C,3,0)","v":0},188604,0]
[6342,0,{"$f":"'Revenues 9-14'!G194","v":0},0,"OK",0,0,null,0,0,null,0,null,0,0,0,0,0]
[6346,0,{"$f":"'Revenues 9-14'!G198","v":0},0,"OK",0,0,null,0,0,null,0,null,0,0,0,0,0]
[6349,0,{"$f":"'Revenues 9-14'!C208","v":0},0,"OK",0,0,null,0,0,null,0,null,0,0,0,0,0]
[6351,0,{"$f":"'Revenues 9-14'!F208","v":0},0,"OK",0,0,null,0,0,null,0,null,0,0,0,0,0]
[6352,0,{"$f":"'Revenues 9-14'!G208","v":0},0,"OK",0,0,null,0,0,null,0,null,0,0,0,0,0]
[6356,0,null,0,"OK",0,0,null,0,0,null,0,null,0,0,0,0,0]
[6357,0,null,0,"OK",0,0,null,0,0,null,0,null,0,0,0,0,0]
[6361,0,null,0,"OK",0,0,null,0,0,null,0,null,0,0,0,0,0]
[6363,0,null,0,"OK",0,0,null,0,0,null,0,null,0,0,0,0,0]
[6367,0,null,0,"OK",0,0,null,0,0,null,0,null,0,0,0,0,0]
[6370,0,null,0,"OK",0,0,null,0,0,null,0,null,0,0,0,0,0]
[6372,0,null,0,"OK",0,0,null,0,0,null,0,null,0,0,0,0,0]
[6373,0,null,0,"OK",0,0,null,0,0,null,0,null,0,0,0,0,0]
[6377,0,null,0,"OK",0,0,null,0,0,null,0,null,0,0,0,0,0]
[6379,0,null,0,"OK",0,0,null,0,0,null,0,null,0,0,0,0,0]
[6382,0,null,0,"OK",0,0,null,0,0,null,0,null,0,0,0,0,0]
[6384,0,null,0,"OK",0,0,null,0,0,null,0,null,0,0,0,0,0]
[6388,0,null,0,"OK",0,0,null,0,0,null,0,null,0,0,0,0,0]
[6391,0,null,0,"OK",0,0,null,0,0,null,0,null,0,0,0,0,0]
[6393,0,null,0,"OK",0,0,null,0,0,null,0,null,0,0,0,0,0]
[6394,0,null,0,"OK",0,0,null,0,0,null,0,null,0,0,0,0,0]
[6398,0,null,0,"OK",0,0,null,0,0,null,0,null,0,0,0,0,0]
[6400,0,null,0,"OK",0,0,null,0,0,null,0,null,0,0,0,0,0]
[6403,0,null,0,"OK",0,0,null,0,0,null,0,null,0,0,0,0,0]
[6405,0,null,0,"OK",0,0,null,0,0,null,0,null,{"$f":"SUM(J6412-L6412)","v":0},0,0,0,{"$f":"SUM(L6412+P6412-Q6412)","v":0}]
[6409,0,null,0,"OK",0,0,null,0,0,null,0,null,0,0,0,0,0]
[6412,0,null,0,"OK",0,0,null,0,0,null,0,null,0,0,0,0,0]
[6414,0,null,0,"OK",0,0,null,0,0,null,0,null,0,0,0,0,0]
[6415,0,null,0,"OK",0,0,null,0,0,null,0,null,0,0,0,0,0]
[6419,0,null,0,"OK",0,0,null,0,0,null,0,null,0,0,0,0,0]
[6421,0,null,0,"OK",0,0,null,0,0,null,0,null,0,0,0,0,0]
[6424,0,null,0,"OK",0,0,null,0,0,null,0,null,0,0,0,0,0]
[6426,0,null,0,"OK",0,0,null,0,0,null,0,null,0,0,0,0,0]
[6430,0,null,0,"OK",0,0,null,0,0,null,0,null,0,0,0,0,0]
[6431,0,null,0,"OK",0,0,null,0,0,null,0,null,0,0,0,0,0]
[6433,0,null,0,"OK",0,0,null,0,0,null,0,null,0,0,0,0,0]
[6436,0,null,0,"OK",0,0,null,0,0,null,0,null,0,0,0,0,0]
[6440,0,null,0,"OK",0,0,null,0,0,null,0,null,0,0,0,0,0]
[6442,0,null,0,"OK",0,0,null,0,0,null,0,null,0,0,0,0,0]
[6445,0,null,0,"OK",0,0,null,0,0,null,0,null,0,0,0,0,0]
[6447,0,null,0,"OK",0,0,null,0,0,null,0,null,0,0,0,0,0]
[6451,0,null,0,"OK",0,0,null,0,0,null,0,null,0,0,0,0,0]
[6452,0,null,0,"OK",0,0,null,0,0,null,0,null,0,0,0,0,0]
[6454,0,null,0,"OK",0,0,null,0,0,null,0,null,0,0,0,0,0]
[6457,0,null,0,"OK",0,0,null,0,0,null,0,null,0,0,0,0,0]
[6461,0,null,{"$f":"B6468-C6468","v":0},"OK",0,0,null,0,0,null,0,null,0,0,0,0,0]
[6463,0,null,0,"OK",0,0,null,0,0,null,0,null,0,0,0,0,0]
[6466,0,null,0,"OK",0,0,null,0,0,null,0,null,0,0,0,0,0]
[6468,0,null,0,"OK",0,0,null,0,0,null,0,null,0,0,0,0,0]
[6472,0,null,0,"OK",0,0,null,0,0,null,0,null,0,0,0,0,0]
[6473,0,null,0,"OK",0,0,null,0,0,null,0,null,0,0,0,0,0]
[6475,0,null,0,"OK",0,0,null,0,0,null,0,null,0,0,0,0,0]
[6478,0,null,0,"OK",0,0,null,0,0,null,0,null,0,0,0,0,0]
[6482,0,null,0,"OK",0,0,null,0,0,null,0,null,0,0,0,0,0]
[6484,0,null,0,"OK",0,0,null,0,0,null,0,null,0,0,0,0,0]
[6487,0,null,0,"OK",0,0,null,0,0,null,0,null,0,0,0,0,0]
[6489,0,null,0,"OK",0,0,null,0,0,null,0,null,0,0,0,0,0]
[6493,0,null,0,"OK",0,0,null,0,0,null,0,null,0,0,0,0,0]
[6494,0,null,0,"OK",0,0,null,0,0,null,0,null,0,0,0,0,0]
[6496,0,null,0,"OK",0,0,null,0,0,null,0,null,0,0,0,0,0]
[6499,0,null,0,"OK",0,0,null,0,0,null,0,null,0,0,0,0,0]
[6503,0,null,0,"OK",0,0,null,0,0,null,0,null,0,0,0,0,0]
[6505,0,null,0,"OK",0,0,null,0,0,null,0,null,0,0,0,0,0]
[6508,0,null,0,"OK",0,0,null,0,0,null,0,null,0,0,0,0,0]
[6511,0,null,0,"OK",0,0,null,0,0,null,0,null,0,0,0,0,0]
[6514,0,null,0,"OK",0,0,null,0,0,null,0,null,0,0,0,0,0]
[6515,0,null,0,"OK",0,0,null,0,0,null,0,null,0,0,0,0,0]
[6517,0,null,0,"OK",0,0,null,0,0,null,0,null,0,0,0,0,0]
[6520,0,null,0,"OK",0,0,null,0,0,null,0,null,0,0,0,0,0]
[6524,0,null,0,"OK",0,0,null,0,0,null,0,null,0,0,0,0,0]
[6526,0,null,0,"OK",0,0,null,0,0,null,0,null,0,0,0,0,0]
[6529,0,null,0,{"$f":"IF((D6536 = 0),\"OK\",IF((D6536<-5),\"CHECK ME!\",IF((D6536>5),\"Check Me!\",\"OK\")))","v":"OK"},0,0,null,0,0,null,0,null,0,0,0,0,0]
[6532,0,null,0,"OK",0,0,null,0,0,null,0,null,0,0,0,0,0]
[6535,0,null,0,"OK",0,0,null,0,0,null,0,null,0,0,0,0,0]
[6536,0,null,0,"OK",0,0,null,0,0,null,0,null,0,0,0,0,0]
[6538,0,null,0,"OK",0,0,null,0,0,null,0,null,0,0,0,0,0]
[6541,0,null,0,"OK",0,0,null,0,0,null,0,null,0,0,0,0,0]
[6545,0,null,0,"OK",0,0,null,0,0,null,0,null,0,0,0,0,0]
[6547,0,null,0,"OK",0,0,null,0,0,null,0,null,0,0,0,0,0]
[6550,0,null,0,"OK",0,0,null,0,0,null,0,null,0,0,0,0,0]
[6553,0,{"$f":"'Revenues 9-14'!C230","v":0},0,"OK",0,0,null,0,0,null,0,null,0,0,0,0,0]
[6556,0,{"$f":"'Revenues 9-14'!F230","v":0},0,"OK",0,0,null,0,0,null,0,null,0,0,0,0,0]
[6557,0,{"$f":"'Revenues 9-14'!G230","v":0},0,"OK",0,0,null,0,0,null,0,null,0,0,0,0,0]
[6559,0,{"$f":"'Revenues 9-14'!J230","v":0},0,"OK",0,0,null,0,0,null,0,null,0,0,0,0,0]
[6562,0,{"$f":"'Revenues 9-14'!D231","v":0},0,"OK",0,0,null,0,0,null,0,null,0,0,0,0,0]
[6566,0,{"$f":"'Revenues 9-14'!D232","v":0},0,"OK",0,0,null,0,0,null,0,null,0,0,0,0,0]
[6568,0,{"$f":"'Revenues 9-14'!F232","v":0},0,"OK",0,0,null,0,0,null,0,null,0,0,0,0,0]
[6571,0,{"$f":"'Revenues 9-14'!J232","v":0},0,"OK",0,0,null,0,0,null,0,null,0,0,0,0,0]
[6574,0,{"$f":"'Revenues 9-14'!D233","v":0},0,"OK",0,0,null,0,0,null,0,null,0,0,0,0,0]
[6577,0,{"$f":"'Revenues 9-14'!G233","v":0},0,"OK",0,0,null,0,0,null,0,null,0,0,0,0,0]
[6578,0,{"$f":"'Revenues 9-14'!H233","v":0},0,"OK",0,0,null,0,0,null,0,null,0,0,0,0,0]
[6580,0,{"$f":"'Revenues 9-14'!K233","v":0},0,"OK",0,0,null,0,0,null,0,null,0,0,0,0,0]
[6583,0,{"$f":"'Revenues 9-14'!E234","v":0},0,"OK",0,0,null,0,0,null,0,null,0,0,0,0,0]
[6586,0,{"$f":"'Revenues 9-14'!H234","v":0},0,"OK",0,0,null,0,0,null,0,null,0,0,0,0,0]
[6589,0,{"$f":"'Revenues 9-14'!C235","v":0},{"$f":"B6596-C6596","v":0},"OK",0,0,null,0,0,null,0,null,0,0,0,0,0]
[6592,0,{"$f":"'Revenues 9-14'!F235","v":0},0,"OK",0,0,null,0,0,null,0,null,0,0,0,0,0]
[6595,0,{"$f":"'Revenues 9-14'!J235","v":0},0,"OK",0,0,null,0,0,null,0,null,0,0,0,0,0]
[6598,0,{"$f":"'Revenues 9-14'!D236","v":0},0,"OK",0,0,null,0,0,null,0,null,0,0,0,0,0]
[6599,0,{"$f":"'Revenues 9-14'!E236","v":0},0,"OK",0,0,null,0,0,null,0,null,0,0,0,0,0]
[6601,0,{"$f":"'Revenues 9-14'!G236","v":0},0,"OK",0,0,null,0,0,null,0,null,0,0,0,0,0]
[6604,0,{"$f":"'Revenues 9-14'!K236","v":0},0,"OK",0,0,null,0,0,null,0,null,0,0,0,0,0]
[6607,0,{"$f":"'Revenues 9-14'!E237","v":0},0,"OK",0,0,null,0,0,null,0,null,0,0,0,0,0]
[6610,0,{"$f":"'Revenues 9-14'!H237","v":0},0,"OK",0,0,null,0,0,null,0,null,0,0,0,0,0]
[6613,0,{"$f":"'Revenues 9-14'!C238","v":0},0,"OK",0,0,null,0,0,null,0,null,0,0,0,0,0]
[6616,0,{"$f":"'Revenues 9-14'!F238","v":0},0,"OK",0,0,null,0,0,null,0,null,0,0,0,0,0]
[6619,0,{"$f":"'Revenues 9-14'!J238","v":0},0,"OK",0,0,null,0,0,null,0,null,0,0,0,0,0]
[6620,0,{"$f":"'Revenues 9-14'!K238","v":0},0,"OK",0,0,null,0,0,null,0,null,0,0,0,0,0]
[6622,0,{"$f":"'Revenues 9-14'!D239","v":0},0,"OK",0,0,null,0,0,null,0,null,0,0,0,0,0]
[6625,0,{"$f":"'Revenues 9-14'!G239","v":0},0,"OK",0,0,null,0,0,null,0,null,0,0,0,0,0]
[6628,0,{"$f":"'Revenues 9-14'!K239","v":0},0,"OK",0,0,null,0,0,null,0,null,0,0,0,0,0]
[6631,0,{"$f":"'Revenues 9-14'!F240","v":0},0,"OK",0,0,null,0,0,null,0,null,0,0,0,0,0]
[6634,0,{"$f":"'Revenues 9-14'!D241","v":0},0,"OK",0,0,null,0,0,null,0,null,0,0,0,0,0]
[6637,0,{"$f":"'Revenues 9-14'!E242","v":0},0,"OK",0,0,null,0,0,null,0,null,0,0,0,0,0]
[6640,0,{"$f":"'Revenues 9-14'!H242","v":0},0,"OK",0,0,null,0,0,null,0,null,0,0,0,0,0]
[6641,0,{"$f":"'Revenues 9-14'!J242","v":0},0,"OK",0,0,null,0,0,null,0,null,0,0,0,0,0]
[6643,0,{"$f":"'Revenues 9-14'!C243","v":0},0,"OK",0,0,null,0,0,null,0,null,0,0,0,0,0]
[6646,0,{"$f":"'Revenues 9-14'!F243","v":0},0,"OK",0,0,null,0,0,null,0,null,0,0,0,0,0]
[6649,0,{"$f":"'Revenues 9-14'!J243","v":0},0,"OK",0,0,null,0,0,null,0,null,0,0,0,0,0]
[6652,193446,{"$f":"'Revenues 9-14'!D244","v":193446},0,"OK",193446,0,null,0,193446,null,193446,null,0,0,{"$f":"VLOOKUP(A6659,'Data Pull totals 5-8'!A:C,3,0)","v":0},193446,0]
[6655,0,{"$f":"'Revenues 9-14'!G244","v":0},0,"OK",0,0,null,0,0,null,0,null,0,0,0,0,0]
[6658,0,{"$f":"'Revenues 9-14'!K244","v":0},0,"OK",0,0,null,0,0,null,0,null,0,0,0,0,0]
[6661,11321650,{"$f":"'Revenues 9-14'!E245","v":11321650},0,"OK",11321650,0,null,0,11321650,null,11321650,null,{"$f":"SUM(J6668-L6668)","v":0},0,{"$f":"VLOOKUP(A6668,'Data Pull totals 5-8'!A:C,3,0)","v":0},11321650,{"$f":"SUM(L6668+P6668-Q6668)","v":0}]
[6662,0,{"$f":"'Revenues 9-14'!F245","v":0},0,"OK",0,0,null,0,0,null,0,null,0,0,0,0,0]
[6664,0,{"$f":"'Revenues 9-14'!H245","v":0},0,"OK",0,0,null,0,0,null,0,null,0,0,0,0,0]
[6667,0,{"$f":"'Revenues 9-14'!K245","v":0},0,"OK",0,0,null,0,0,null,0,null,0,0,0,0,0]
[6670,1770463,{"$f":"'Revenues 9-14'!E246","v":1770463},0,"OK",1770463,0,null,0,1770463,null,1770463,null,0,0,{"$f":"VLOOKUP(A6677,'Data Pull totals 5-8'!A:C,3,0)","v":0},1770463,0]
[6673,0,{"$f":"'Revenues 9-14'!H246","v":0},0,"OK",0,0,null,0,0,null,0,null,0,0,0,0,0]
[6676,342813,{"$f":"'Revenues 9-14'!C247","v":342813},0,"OK",342813,0,null,0,342813,null,342813,null,0,0,{"$f":"VLOOKUP(A6683,'Data Pull totals 5-8'!A:C,3,0)","v":0},342813,0]
[6679,0,{"$f":"'Revenues 9-14'!F247","v":0},0,"OK",0,0,null,0,0,null,0,null,0,0,0,0,0]
[6681,340553,{"$f":"'Revenues 9-14'!H247","v":340553},0,"OK",340553,0,null,0,340553,null,340553,null,0,0,{"$f":"VLOOKUP(A6688,'Data Pull totals 5-8'!A:C,3,0)","v":0},340553,0]
[6682,0,{"$f":"'Revenues 9-14'!J247","v":0},0,"OK",0,0,null,0,0,null,0,null,0,0,0,0,0]
[6685,0,{"$f":"'Revenues 9-14'!D248","v":0},0,"OK",0,0,null,0,0,null,0,null,0,0,0,0,0]
[6688,0,{"$f":"'Revenues 9-14'!G248","v":0},0,"OK",0,0,null,0,0,null,0,null,0,0,0,0,0]
[6691,0,{"$f":"'Revenues 9-14'!K248","v":0},0,"OK",0,0,null,0,0,null,0,null,0,0,0,0,0]
[6694,0,{"$f":"'Revenues 9-14'!E249","v":0},0,"OK",0,0,null,0,0,null,0,null,0,0,0,0,0]
[6697,0,{"$f":"'Revenues 9-14'!H249","v":0},0,"OK",0,0,null,0,0,null,0,null,0,0,0,0,0]
[6700,0,{"$f":"'Revenues 9-14'!C250","v":0},0,"OK",0,0,null,0,0,null,0,null,0,0,0,0,0]
[6702,0,{"$f":"'Revenues 9-14'!E250","v":0},0,"OK",0,0,null,0,0,null,0,null,0,0,0,0,0]
[6703,0,{"$f":"'Revenues 9-14'!F250","v":0},0,"OK",0,0,null,0,0,null,0,null,0,0,0,0,0]
[6706,0,{"$f":"'Revenues 9-14'!J250","v":0},0,"OK",0,0,null,0,0,null,0,null,0,0,0,0,0]
[6709,0,{"$f":"'Revenues 9-14'!D251","v":0},0,"OK",0,0,null,0,0,null,0,null,0,0,0,0,0]
[6712,0,{"$f":"'Revenues 9-14'!G251","v":0},0,"OK",0,0,null,0,0,null,0,null,0,0,0,0,0]
[6715,0,{"$f":"'Revenues 9-14'!K251","v":0},0,"OK",0,0,null,0,0,null,0,null,0,0,0,0,0]
[6718,0,{"$f":"'Revenues 9-14'!E252","v":0},0,"OK",0,0,null,0,0,null,0,null,0,0,0,0,0]
[6721,0,{"$f":"'Revenues 9-14'!H252","v":0},0,{"$f":"IF((D6728 = 0),\"OK\",IF((D6728<-5),\"CHECK ME!\",IF((D6728>5),\"Check Me!\",\"OK\")))","v":"OK"},0,0,null,0,0,null,0,null,0,0,0,0,0]
[6723,0,{"$f":"'Revenues 9-14'!K252","v":0},0,"OK",0,0,null,0,0,null,0,null,0,0,0,0,0]
[6724,0,{"$f":"'Revenues 9-14'!C253","v":0},0,"OK",0,0,null,0,0,null,0,null,0,0,0,0,0]
[6727,0,{"$f":"'Revenues 9-14'!F253","v":0},0,"OK",0,0,null,0,0,null,0,null,0,0,0,0,0]
[6730,0,{"$f":"'Revenues 9-14'!J253","v":0},0,"OK",0,0,null,0,0,null,0,null,0,0,0,0,0]
[6733,0,{"$f":"'Revenues 9-14'!D254","v":0},0,"OK",0,0,null,0,0,null,0,null,0,0,0,0,0]
[6736,0,{"$f":"'Revenues 9-14'!G254","v":0},0,"OK",0,0,null,0,0,null,0,null,0,0,0,0,0]
[6739,0,{"$f":"'Revenues 9-14'!K254","v":0},0,"OK",0,0,null,0,0,null,0,null,0,0,0,0,0]
[6742,0,{"$f":"'Revenues 9-14'!E255","v":0},0,"OK",0,0,null,0,0,null,0,null,0,0,0,0,0]
[6744,0,{"$f":"'Revenues 9-14'!G255","v":0},0,"OK",0,0,null,0,0,null,0,null,0,0,0,0,0]
[6745,0,{"$f":"'Revenues 9-14'!H255","v":0},0,"OK",0,0,null,0,0,null,0,null,0,0,0,0,0]
[6748,0,{"$f":"'Revenues 9-14'!C256","v":0},0,"OK",0,0,null,0,0,null,0,null,0,0,0,0,0]
[6751,0,{"$f":"'Revenues 9-14'!F256","v":0},0,"OK",0,0,null,0,0,null,0,null,0,0,0,0,0]
[6754,0,{"$f":"'Revenues 9-14'!J256","v":0},0,"OK",0,0,null,0,0,null,0,null,0,0,0,0,0]
[6756,0,{"$f":"'Revenues 9-14'!C257","v":0},0,"OK",0,0,null,0,0,null,0,null,0,0,0,0,0]
[6760,0,{"$f":"'Revenues 9-14'!G257","v":0},0,"OK",0,0,null,0,0,null,0,null,0,0,0,0,0]
[6763,0,{"$f":"'Revenues 9-14'!K257","v":0},0,"OK",0,0,null,0,0,null,0,null,0,0,0,0,0]
[6765,0,{"$f":"'Revenues 9-14'!D258","v":0},0,"OK",0,0,null,0,0,null,0,null,0,0,0,0,0]
[6766,0,{"$f":"'Revenues 9-14'!E258","v":0},0,"OK",0,0,null,0,0,null,0,null,0,0,0,0,0]
[6769,0,{"$f":"'Revenues 9-14'!H258","v":0},0,"OK",0,0,null,0,0,null,0,null,0,0,0,0,0]
[6772,1520123,{"$f":"'Revenues 9-14'!C259","v":1520123},0,"OK",1520123,0,null,0,1520123,null,1520123,null,0,0,{"$f":"VLOOKUP(A6779,'Data Pull totals 5-8'!A:C,3,0)","v":0},1520123,0]
[6775,0,{"$f":"'Revenues 9-14'!F259","v":0},0,"OK",0,0,null,0,0,null,0,null,0,0,0,0,0]
[6777,340553,{"$f":"'Revenues 9-14'!H259","v":340553},0,"OK",340553,0,null,0,340553,null,340553,null,0,0,{"$f":"VLOOKUP(A6784,'Data Pull totals 5-8'!A:C,3,0)","v":0},340553,0]
[6781,0,{"$f":"'Revenues 9-14'!D262","v":0},{"$f":"B6788-C6788","v":0},"OK",0,0,null,0,0,null,0,null,0,0,0,0,0]
[6784,17257721,{"$f":"'Expenditures 15-22'!J5","v":17257721},0,"OK",17145758,0,null,99884,17245642,null,17245642,null,0,0,{"$f":"VLOOKUP(A6791,'Data Pull totals 5-8'!A:C,3,0)","v":12079},17257721,0]
[6786,260368,{"$f":"'Expenditures 15-22'!J7","v":260368},0,"OK",260368,0,null,0,260368,null,260368,null,0,0,{"$f":"VLOOKUP(A6793,'Data Pull totals 5-8'!A:C,3,0)","v":0},260368,0]
[6787,262379036.94,{"$f":"'Expenditures 15-22'!K7","v":262379036.94},0,"OK",259478061.94,0,null,2781763,262259824.94,null,262259824.94,null,0,0,{"$f":"VLOOKUP(A6794,'Data Pull totals 5-8'!A:C,3,0)","v":119212},262379036.94,0]
[6790,40845,{"$f":"'Expenditures 15-22'!I9","v":40845},0,"OK",40774,0,null,0,40774,null,40774,null,0,0,{"$f":"VLOOKUP(A6797,'Data Pull totals 5-8'!A:C,3,0)","v":71},40845,0]
[6793,4395861,{"$f":"'Expenditures 15-22'!I10","v":4395861},0,"OK",4327555,0,null,0,4327555,null,4327555,null,0,0,{"$f":"VLOOKUP(A6800,'Data Pull totals 5-8'!A:C,3,0)","v":68306},4395861,0]
[6796,0,{"$f":"'Expenditures 15-22'!J11","v":0},0,"OK",0,0,null,0,0,null,0,null,0,0,0,0,0]
[6798,9639,{"$f":"'Expenditures 15-22'!I12","v":9639},0,"OK",9639,0,null,0,9639,null,9639,null,0,0,{"$f":"VLOOKUP(A6805,'Data Pull totals 5-8'!A:C,3,0)","v":0},9639,0]
[6802,1626475,{"$f":"'Expenditures 15-22'!I14","v":1626475},0,"OK",1626475,0,null,0,1626475,null,1626475,null,0,0,{"$f":"VLOOKUP(A6809,'Data Pull totals 5-8'!A:C,3,0)","v":0},1626475,0]
[6805,0,{"$f":"'Expenditures 15-22'!J15","v":0},0,"OK",0,0,null,0,0,null,0,null,0,0,0,0,0]
[6807,6811,{"$f":"'Expenditures 15-22'!J16","v":6811},0,"OK",6811,0,null,0,6811,null,6811,null,0,0,{"$f":"VLOOKUP(A6814,'Data Pull totals 5-8'!A:C,3,0)","v":0},6811,0]
[6808,456,{"$f":"'Expenditures 15-22'!I17","v":456},0,"OK",456,0,null,0,456,null,456,null,0,0,{"$f":"VLOOKUP(A6815,'Data Pull totals 5-8'!A:C,3,0)","v":0},456,0]
[6812,397695,{"$f":"'Expenditures 15-22'!J18","v":397695},0,"OK",397695,0,null,0,397695,null,397695,null,0,0,{"$f":"VLOOKUP(A6819,'Data Pull totals 5-8'!A:C,3,0)","v":0},397695,0]
[6814,17392,{"$f":"'Expenditures 15-22'!J19","v":17392},0,"OK",17392,0,null,0,17392,null,17392,null,0,0,{"$f":"VLOOKUP(A6821,'Data Pull totals 5-8'!A:C,3,0)","v":0},17392,0]
[6817,9363481,{"$f":"'Expenditures 15-22'!H21","v":9363481},0,"OK",9363481,0,null,0,9363481,null,9363481,null,0,0,{"$f":"VLOOKUP(A6824,'Data Pull totals 5-8'!A:C,3,0)","v":0},9363481,0]
[6819,285187645,{"$f":"'Expenditures 15-22'!H22","v":285187645},0,"OK",277661983,0,null,5078303,282740286,null,282740286,null,0,0,{"$f":"VLOOKUP(A6826,'Data Pull totals 5-8'!A:C,3,0)","v":2447359},285187645,0]
[6823,255270,{"$f":"'Expenditures 15-22'!H24","v":255270},0,"OK",255270,0,null,0,255270,null,255270,null,0,0,{"$f":"VLOOKUP(A6830,'Data Pull totals 5-8'!A:C,3,0)","v":0},255270,0]
[6826,0,{"$f":"'Expenditures 15-22'!K25","v":0},0,"OK",0,0,null,0,0,null,0,null,0,0,0,0,0]
[6828,37515,{"$f":"'Expenditures 15-22'!K26","v":37515},0,"OK",37515,0,null,0,37515,null,37515,null,0,0,{"$f":"VLOOKUP(A6835,'Data Pull totals 5-8'!A:C,3,0)","v":0},37515,0]
[6829,1474533,{"$f":"'Expenditures 15-22'!H27","v":1474533},0,"OK",1474533,0,null,0,1474533,null,1474533,null,0,0,{"$f":"VLOOKUP(A6836,'Data Pull totals 5-8'!A:C,3,0)","v":0},1474533,0]
[6833,978527,{"$f":"'Expenditures 15-22'!H29","v":978527},0,"OK",978527,0,null,0,978527,null,978527,null,0,0,{"$f":"VLOOKUP(A6840,'Data Pull totals 5-8'!A:C,3,0)","v":0},978527,0]
[6835,18386,{"$f":"'Expenditures 15-22'!H30","v":18386},0,"OK",18386,0,null,0,18386,null,18386,null,0,0,{"$f":"VLOOKUP(A6842,'Data Pull totals 5-8'!A:C,3,0)","v":0},18386,0]
[6838,0,{"$f":"'Expenditures 15-22'!K31","v":0},0,"OK",0,0,null,0,0,null,0,null,0,0,0,0,0]
[6840,1128041,{"$f":"'Expenditures 15-22'!K32","v":1128041},0,"OK",1128041,0,null,0,1128041,null,1128041,null,0,0,{"$f":"VLOOKUP(A6847,'Data Pull totals 5-8'!A:C,3,0)","v":0},1128041,0]
[6844,406199,{"$f":"'Expenditures 15-22'!J36","v":406199},0,"OK",346157,0,null,60042,406199,null,406199,null,0,0,{"$f":"VLOOKUP(A6851,'Data Pull totals 5-8'!A:C,3,0)","v":0},406199,0]
[6845,67976,{"$f":"'Expenditures 15-22'!I37","v":67976},{"$f":"B6852-C6852","v":0},"OK",67976,0,null,0,67976,null,67976,null,0,0,{"$f":"VLOOKUP(A6852,'Data Pull totals 5-8'!A:C,3,0)","v":0},67976,0]
[6849,24108,{"$f":"'Expenditures 15-22'!I39","v":24108},0,{"$f":"IF((D6856 = 0),\"OK\",IF((D6856<-5),\"CHECK ME!\",IF((D6856>5),\"Check Me!\",\"OK\")))","v":"OK"},24108,0,null,0,24108,null,24108,null,0,0,{"$f":"VLOOKUP(A6856,'Data Pull totals 5-8'!A:C,3,0)","v":0},24108,0]
[6850,252029,{"$f":"'Expenditures 15-22'!J39","v":252029},0,"OK",189758,0,null,62271,252029,null,252029,null,0,0,{"$f":"VLOOKUP(A6857,'Data Pull totals 5-8'!A:C,3,0)","v":0},252029,0]
[6854,110171,{"$f":"'Expenditures 15-22'!J41","v":110171},0,"OK",110171,0,null,0,110171,null,110171,null,0,0,{"$f":"VLOOKUP(A6861,'Data Pull totals 5-8'!A:C,3,0)","v":0},110171,0]
[6856,1912000,{"$f":"'Expenditures 15-22'!J42","v":1912000},0,"OK",1789687,0,null,122313,1912000,null,1912000,null,0,0,{"$f":"VLOOKUP(A6863,'Data Pull totals 5-8'!A:C,3,0)","v":0},1912000,0]
[6859,12420830,{"$f":"'Expenditures 15-22'!I45","v":12420830},0,"OK",12420830,0,null,0,12420830,null,12420830,null,0,0,{"$f":"VLOOKUP(A6866,'Data Pull totals 5-8'!A:C,3,0)","v":0},12420830,0]
[6861,327713,{"$f":"'Expenditures 15-22'!I46","v":327713},0,"OK",327713,0,null,0,327713,null,327713,null,0,0,{"$f":"VLOOKUP(A6868,'Data Pull totals 5-8'!A:C,3,0)","v":0},327713,0]
[6865,88893,{"$f":"'Expenditures 15-22'!I49","v":88893},0,"OK",88893,0,null,0,88893,null,88893,null,0,0,{"$f":"VLOOKUP(A6872,'Data Pull totals 5-8'!A:C,3,0)","v":0},88893,0]
[6866,972783,{"$f":"'Expenditures 15-22'!J49","v":972783},0,"OK",972783,0,null,0,972783,null,972783,null,0,0,{"$f":"VLOOKUP(A6873,'Data Pull totals 5-8'!A:C,3,0)","v":0},972783,0]
[6870,56073,{"$f":"'Expenditures 15-22'!J51","v":56073},0,"OK",56073,0,null,0,56073,null,56073,null,0,0,{"$f":"VLOOKUP(A6877,'Data Pull totals 5-8'!A:C,3,0)","v":0},56073,0]
[6871,1485285,{"$f":"'Expenditures 15-22'!C52","v":1485285},0,"OK",1485285,0,null,0,1485285,null,1485285,null,0,0,{"$f":"VLOOKUP(A6878,'Data Pull totals 5-8'!A:C,3,0)","v":0},1485285,0]
[6875,3344,{"$f":"'Expenditures 15-22'!G52","v":3344},0,"OK",3344,0,null,0,3344,null,3344,null,0,0,{"$f":"VLOOKUP(A6882,'Data Pull totals 5-8'!A:C,3,0)","v":0},3344,0]
[6877,0,{"$f":"'Expenditures 15-22'!I52","v":0},0,"OK",0,0,null,0,0,null,0,null,0,0,0,0,0]
[6880,20515454,null,null,null,20515454,0,null,0,20515454,null,20515454,null,0,0,{"$f":"VLOOKUP(A6887,'Data Pull totals 5-8'!A:C,3,0)","v":0},20515454,0]
[6882,1116962,{"$f":"'Expenditures 15-22'!J53","v":1116962},0,"OK",1116962,0,null,0,1116962,null,1116962,null,0,0,{"$f":"VLOOKUP(A6889,'Data Pull totals 5-8'!A:C,3,0)","v":0},1116962,0]
[6886,3083,{"$f":"'Expenditures 15-22'!J56","v":3083},0,"OK",3083,0,null,0,3083,null,3083,null,0,0,{"$f":"VLOOKUP(A6893,'Data Pull totals 5-8'!A:C,3,0)","v":0},3083,0]
[6887,1933807,{"$f":"'Expenditures 15-22'!I57","v":1933807},0,"OK",1933807,0,null,0,1933807,null,1933807,null,0,0,{"$f":"VLOOKUP(A6894,'Data Pull totals 5-8'!A:C,3,0)","v":0},1933807,0]
[6891,123161,{"$f":"'Expenditures 15-22'!I60","v":123161},0,"OK",123161,0,null,0,123161,null,123161,null,0,0,{"$f":"VLOOKUP(A6898,'Data Pull totals 5-8'!A:C,3,0)","v":0},123161,0]
[6892,327116,{"$f":"'Expenditures 15-22'!J60","v":327116},0,"OK",324463,0,null,0,324463,null,324463,null,0,0,{"$f":"VLOOKUP(A6899,'Data Pull totals 5-8'!A:C,3,0)","v":2653},327116,0]
[6896,142398,{"$f":"'Expenditures 15-22'!J62","v":142398},0,"OK",142398,0,null,0,142398,null,142398,null,0,0,{"$f":"VLOOKUP(A6903,'Data Pull totals 5-8'!A:C,3,0)","v":0},142398,0]
[6898,548483,{"$f":"'Expenditures 15-22'!J63","v":548483},0,"OK",548483,0,null,0,548483,null,548483,null,0,0,{"$f":"VLOOKUP(A6905,'Data Pull totals 5-8'!A:C,3,0)","v":0},548483,0]
[6902,212058,{"$f":"'Expenditures 15-22'!I67","v":212058},0,"OK",212058,0,null,0,212058,null,212058,null,0,0,{"$f":"VLOOKUP(A6909,'Data Pull totals 5-8'!A:C,3,0)","v":0},212058,0]
[6903,15597,{"$f":"'Expenditures 15-22'!J67","v":15597},0,"OK",15597,0,null,0,15597,null,15597,null,0,0,{"$f":"VLOOKUP(A6910,'Data Pull totals 5-8'!A:C,3,0)","v":0},15597,0]
[6907,26459,{"$f":"'Expenditures 15-22'!J69","v":26459},0,"OK",26459,0,null,0,26459,null,26459,null,0,0,{"$f":"VLOOKUP(A6914,'Data Pull totals 5-8'!A:C,3,0)","v":0},26459,0]
[6908,35541,{"$f":"'Expenditures 15-22'!I70","v":35541},0,"OK",35541,0,null,0,35541,null,35541,null,0,0,{"$f":"VLOOKUP(A6915,'Data Pull totals 5-8'!A:C,3,0)","v":0},35541,0]
[6910,19932744,{"$f":"'Expenditures 15-22'!I71","v":19932744},0,"OK",18777255,0,null,0,18777255,null,18777255,null,0,0,{"$f":"VLOOKUP(A6917,'Data Pull totals 5-8'!A:C,3,0)","v":1155489},19932744,0]
[6913,2597514,{"$f":"'Expenditures 15-22'!J72","v":2597514},0,{"$f":"IF((D6920 = 0),\"OK\",IF((D6920<-5),\"CHECK ME!\",IF((D6920>5),\"Check Me!\",\"OK\")))","v":"OK"},2588961,0,null,0,2588961,null,2588961,null,0,0,{"$f":"VLOOKUP(A6920,'Data Pull totals 5-8'!A:C,3,0)","v":8553},2597514,0]
[6917,9913998,{"$f":"'Expenditures 15-22'!J74","v":9913998},0,"OK",9685874,0,null,216097,9901971,null,9901971,null,{"$f":"SUM(J6924-L6924)","v":0},0,{"$f":"VLOOKUP(A6924,'Data Pull totals 5-8'!A:C,3,0)","v":12027},9913998,{"$f":"SUM(L6924+P6924-Q6924)","v":0}]
[6919,43304,{"$f":"'Expenditures 15-22'!J75","v":43304},0,"OK",43304,0,null,0,43304,null,43304,null,0,0,{"$f":"VLOOKUP(A6926,'Data Pull totals 5-8'!A:C,3,0)","v":0},43304,0]
[6923,270146748,{"$f":"'Expenditures 15-22'!K86","v":270146748},0,"OK",269359188,0,null,0,269359188,null,269359188,null,0,0,{"$f":"VLOOKUP(A6930,'Data Pull totals 5-8'!A:C,3,0)","v":787560},270146748,0]
[6924,205900,{"$f":"'Expenditures 15-22'!H87","v":205900},0,"OK",205900,0,null,0,205900,null,205900,null,0,0,{"$f":"VLOOKUP(A6931,'Data Pull totals 5-8'!A:C,3,0)","v":0},205900,0]
[6928,692321,{"$f":"'Expenditures 15-22'!H89","v":692321},0,"OK",316983,0,null,139422,456405,null,456405,null,0,0,{"$f":"VLOOKUP(A6935,'Data Pull totals 5-8'!A:C,3,0)","v":235916},692321,0]
[6929,692321,{"$f":"'Expenditures 15-22'!K89","v":692321},0,"OK",316983,0,null,139422,456405,null,456405,null,0,0,{"$f":"VLOOKUP(A6936,'Data Pull totals 5-8'!A:C,3,0)","v":235916},692321,0]
[6931,1306529,{"$f":"'Expenditures 15-22'!K90","v":1306529},0,"OK",1306529,0,null,0,1306529,null,1306529,null,0,0,{"$f":"VLOOKUP(A6938,'Data Pull totals 5-8'!A:C,3,0)","v":0},1306529,0]
[6935,525020,{"$f":"'Expenditures 15-22'!H93","v":525020},0,"OK",525020,0,null,0,525020,null,525020,null,0,0,{"$f":"VLOOKUP(A6942,'Data Pull totals 5-8'!A:C,3,0)","v":0},525020,0]
[6938,2029848,{"$f":"'Expenditures 15-22'!K94","v":2029848},0,"OK",2029848,0,null,0,2029848,null,2029848,null,0,0,{"$f":"VLOOKUP(A6945,'Data Pull totals 5-8'!A:C,3,0)","v":0},2029848,0]
[6940,0,{"$f":"'Expenditures 15-22'!K95","v":0},0,"OK",0,0,null,0,0,null,0,null,0,0,0,0,0]
[6944,61960,{"$f":"'Expenditures 15-22'!K97","v":61960},0,"OK",61960,0,null,0,61960,null,61960,null,0,0,{"$f":"VLOOKUP(A6951,'Data Pull totals 5-8'!A:C,3,0)","v":0},61960,0]
[6945,15369,{"$f":"'Expenditures 15-22'!H98","v":15369},0,"OK",15369,0,null,0,15369,null,15369,null,0,0,{"$f":"VLOOKUP(A6952,'Data Pull totals 5-8'!A:C,3,0)","v":0},15369,0]
[6949,1391177,{"$f":"'Expenditures 15-22'!K99","v":1391177},0,"OK",1391177,0,null,0,1391177,null,1391177,null,0,0,{"$f":"VLOOKUP(A6956,'Data Pull totals 5-8'!A:C,3,0)","v":0},1391177,0]
[6950,305406,{"$f":"'Expenditures 15-22'!E100","v":305406},0,"OK",305406,0,null,0,305406,null,305406,null,0,0,{"$f":"VLOOKUP(A6957,'Data Pull totals 5-8'!A:C,3,0)","v":0},305406,0]
[6952,4723394,{"$f":"'Expenditures 15-22'!K100","v":4723394},0,"OK",4723394,0,null,0,4723394,null,4723394,null,0,0,{"$f":"VLOOKUP(A6959,'Data Pull totals 5-8'!A:C,3,0)","v":0},4723394,0]
[6956,1754781,{"$f":"'Expenditures 15-22'!K111","v":1754781},0,"OK",1754742,0,null,0,1754742,null,1754742,null,0,0,{"$f":"VLOOKUP(A6963,'Data Pull totals 5-8'!A:C,3,0)","v":39},1754781,0]
[6959,96966192,{"$f":"'Expenditures 15-22'!I114","v":96966192},0,"OK",95346140,0,null,0,95346140,null,95346140,null,0,0,{"$f":"VLOOKUP(A6966,'Data Pull totals 5-8'!A:C,3,0)","v":1620052},96966192,0]
[6961,0,{"$f":"'Expenditures 15-22'!I120","v":0},0,"OK",0,0,null,0,0,null,0,null,0,0,0,0,0]
[6965,1330499,{"$f":"'Expenditures 15-22'!I123","v":1330499},0,"OK",1330499,0,null,0,1330499,null,1330499,null,0,0,{"$f":"VLOOKUP(A6972,'Data Pull totals 5-8'!A:C,3,0)","v":0},1330499,0]
[6966,2098,{"$f":"'Expenditures 15-22'!J123","v":2098},0,"OK",2098,0,null,0,2098,null,2098,null,0,0,{"$f":"VLOOKUP(A6973,'Data Pull totals 5-8'!A:C,3,0)","v":0},2098,0]
[6970,0,{"$f":"'Expenditures 15-22'!J125","v":0},0,"OK",0,0,null,0,0,null,0,null,0,0,0,0,0]
[6971,81391,{"$f":"'Expenditures 15-22'!I126","v":81391},0,"OK",81391,0,null,0,81391,null,81391,null,0,0,{"$f":"VLOOKUP(A6978,'Data Pull totals 5-8'!A:C,3,0)","v":0},81391,0]
[6973,621479,{"$f":"'Expenditures 15-22'!J127","v":621479},{"$f":"B6980-C6980","v":0},"OK",617702,0,null,2110,619812,null,619812,null,0,0,{"$f":"VLOOKUP(A6980,'Data Pull totals 5-8'!A:C,3,0)","v":1667},621479,0]
[6977,621479,{"$f":"'Expenditures 15-22'!J129","v":621479},0,{"$f":"IF((D6984 = 0),\"OK\",IF((D6984<-5),\"CHECK ME!\",IF((D6984>5),\"Check Me!\",\"OK\")))","v":"OK"},617702,0,null,2110,619812,null,619812,null,0,0,{"$f":"VLOOKUP(A6984,'Data Pull totals 5-8'!A:C,3,0)","v":1667},621479,0]
[6980,0,{"$f":"'Revenues 9-14'!J273","v":0},0,"OK",0,0,null,0,0,null,0,null,0,0,0,0,0]
[6982,0,{"$f":"'Revenues 9-14'!H9","v":0},0,"OK",0,0,null,0,0,null,0,null,0,0,0,0,0]
[6986,94504,{"$f":"'Expenditures 15-22'!H147","v":94504},0,"OK",94504,0,null,0,94504,null,94504,null,0,0,{"$f":"VLOOKUP(A6993,'Data Pull totals 5-8'!A:C,3,0)","v":0},94504,0]
[6987,94504,{"$f":"'Expenditures 15-22'!K147","v":94504},0,"OK",94504,0,null,0,94504,null,94504,null,0,0,{"$f":"VLOOKUP(A6994,'Data Pull totals 5-8'!A:C,3,0)","v":0},94504,0]
[6989,371075,{"$f":"'Expenditures 15-22'!K148","v":371075},0,"OK",371075,0,null,0,371075,null,371075,null,0,0,{"$f":"VLOOKUP(A6996,'Data Pull totals 5-8'!A:C,3,0)","v":0},371075,0]
[6992,0,{"$f":"'Expenditures 15-22'!H155","v":0},0,"OK",0,0,null,0,0,null,0,null,0,0,0,0,0]
[6994,350005940.02999991,{"$f":"'Revenues 9-14'!J275","v":350005940.03000003},0,"OK",346644414.02999991,5.9604644775390625E-8,null,3361526,350005940.02999991,null,350005940.02999991,null,0,0,{"$f":"VLOOKUP(A7001,'Data Pull totals 5-8'!A:C,3,0)","v":0},350005940.02999991,0]
[6998,1504327,{"$f":"'Expenditures 15-22'!I182","v":1504327},0,"OK",1504327,0,null,0,1504327,null,1504327,null,0,0,{"$f":"VLOOKUP(A7005,'Data Pull totals 5-8'!A:C,3,0)","v":0},1504327,0]
[7001,0,{"$f":"'Expenditures 15-22'!J183","v":0},0,"OK",0,0,null,0,0,null,0,null,0,0,0,0,0]
[7003,44425,{"$f":"'Expenditures 15-22'!J184","v":44425},0,"OK",44425,0,null,0,44425,null,44425,null,0,0,{"$f":"VLOOKUP(A7010,'Data Pull totals 5-8'!A:C,3,0)","v":0},44425,0]
[7006,1098343,{"$f":"'Expenditures 15-22'!H205","v":1098343},0,"OK",1098343,0,null,0,1098343,null,1098343,null,0,0,{"$f":"VLOOKUP(A7013,'Data Pull totals 5-8'!A:C,3,0)","v":0},1098343,0]
[7009,316865,{"$f":"'Expenditures 15-22'!K207","v":316865},0,"OK",316865,0,null,0,316865,null,316865,null,0,0,{"$f":"VLOOKUP(A7016,'Data Pull totals 5-8'!A:C,3,0)","v":0},316865,0]
[7010,1504327,{"$f":"'Expenditures 15-22'!I210","v":1504327},0,"OK",1504327,0,null,0,1504327,null,1504327,null,0,0,{"$f":"VLOOKUP(A7017,'Data Pull totals 5-8'!A:C,3,0)","v":0},1504327,0]
[7013,4791616.09,{"$f":"'Expenditures 15-22'!K216","v":4791616.09},0,"OK",4671157.09,0,null,119040,4790197.09,null,4790197.09,null,0,0,{"$f":"VLOOKUP(A7020,'Data Pull totals 5-8'!A:C,3,0)","v":1419},4791616.09,0]
[7015,3627222,{"$f":"'Expenditures 15-22'!K218","v":3627222},0,"OK",3597331,0,null,2324,3599655,null,3599655,null,0,0,{"$f":"VLOOKUP(A7022,'Data Pull totals 5-8'!A:C,3,0)","v":27567},3627222,0]
[7019,518360,{"$f":"'Expenditures 15-22'!K226","v":518360},0,"OK",514090,0,null,2557,516647,null,516647,null,0,0,{"$f":"VLOOKUP(A7026,'Data Pull totals 5-8'!A:C,3,0)","v":1713},518360,0]
[7022,6009,{"$f":"'Expenditures 15-22'!D249","v":6009},0,"OK",6009,0,null,0,6009,null,6009,null,0,0,{"$f":"VLOOKUP(A7029,'Data Pull totals 5-8'!A:C,3,0)","v":0},6009,0]
[7024,0,{"$f":"'Expenditures 15-22'!D250","v":0},0,"OK",0,0,null,0,0,null,0,null,0,0,0,0,0]
[7027,0,{"$f":"'Expenditures 15-22'!K251","v":0},0,"OK",0,0,null,0,0,null,0,null,0,0,0,0,0]
[7030,47458,{"$f":"'Expenditures 15-22'!D253","v":47458},0,"OK",47458,0,null,0,47458,null,47458,null,0,0,{"$f":"VLOOKUP(A7037,'Data Pull totals 5-8'!A:C,3,0)","v":0},47458,0]
[7031,47458,{"$f":"'Expenditures 15-22'!K253","v":47458},0,"OK",47458,0,null,0,47458,null,47458,null,0,0,{"$f":"VLOOKUP(A7038,'Data Pull totals 5-8'!A:C,3,0)","v":0},47458,0]
[7034,0,{"$f":"'Expenditures 15-22'!D255","v":0},0,"OK",0,0,null,0,0,null,0,null,0,0,0,0,0]
[7036,79135,{"$f":"'Expenditures 15-22'!D256","v":79135},0,"OK",79135,0,null,0,79135,null,79135,null,0,0,{"$f":"VLOOKUP(A7043,'Data Pull totals 5-8'!A:C,3,0)","v":0},79135,0]
[7040,0,{"$f":"'Expenditures 15-22'!I302","v":0},0,"OK",0,0,null,0,0,null,0,null,0,0,0,0,0]
[7043,6516,{"$f":"'Expenditures 15-22'!J303","v":6516},0,"OK",6516,0,null,0,6516,null,6516,null,0,0,{"$f":"VLOOKUP(A7050,'Data Pull totals 5-8'!A:C,3,0)","v":0},6516,0]
[7046,151672,{"$f":"'Expenditures 15-22'!K306","v":151672},0,"OK",151672,0,null,0,151672,null,151672,null,0,0,{"$f":"VLOOKUP(A7053,'Data Pull totals 5-8'!A:C,3,0)","v":0},151672,0]
[7048,0,{"$f":"'Expenditures 15-22'!H307","v":0},0,"OK",0,0,null,0,0,null,0,null,0,0,0,0,0]
[7051,0,{"$f":"'Expenditures 15-22'!E309","v":0},0,"OK",0,0,null,0,0,null,0,null,0,0,0,0,0]
[7052,716428,{"$f":"'Expenditures 15-22'!H309","v":716428},0,"OK",716428,0,null,0,716428,null,716428,null,0,0,{"$f":"VLOOKUP(A7059,'Data Pull totals 5-8'!A:C,3,0)","v":0},716428,0]
[7055,27164243,{"$f":"'Expenditures 15-22'!I312","v":27164243},0,"OK",27164243,0,null,0,27164243,null,27164243,null,0,0,{"$f":"VLOOKUP(A7062,'Data Pull totals 5-8'!A:C,3,0)","v":0},27164243,0]
[7057,238588,{"$f":"'Expenditures 15-22'!C319","v":238588},0,"OK",238588,0,null,0,238588,null,238588,null,0,0,{"$f":"VLOOKUP(A7064,'Data Pull totals 5-8'!A:C,3,0)","v":0},238588,0]
[7061,0,{"$f":"'Expenditures 15-22'!G319","v":0},0,"OK",0,0,null,0,0,null,0,null,0,0,0,0,0]
[7064,0,{"$f":"'Expenditures 15-22'!J319","v":0},0,"OK",0,0,null,0,0,null,0,null,0,0,0,0,0]
[7067,1941905,{"$f":"'Expenditures 15-22'!D320","v":1941905},0,"OK",1941905,0,null,0,1941905,null,1941905,null,0,0,{"$f":"VLOOKUP(A7074,'Data Pull totals 5-8'!A:C,3,0)","v":0},1941905,0]
[7069,74545,{"$f":"'Expenditures 15-22'!F320","v":74545},0,"OK",74545,0,null,0,74545,null,74545,null,0,0,{"$f":"VLOOKUP(A7076,'Data Pull totals 5-8'!A:C,3,0)","v":0},74545,0]
[7072,0,{"$f":"'Expenditures 15-22'!I320","v":0},0,"OK",0,0,null,0,0,null,0,null,0,0,0,0,0]
[7073,74,{"$f":"'Expenditures 15-22'!J320","v":74},0,"OK",74,0,null,0,74,null,74,null,0,0,{"$f":"VLOOKUP(A7080,'Data Pull totals 5-8'!A:C,3,0)","v":0},74,0]
[7076,279931,{"$f":"'Expenditures 15-22'!D321","v":279931},0,"OK",279931,0,null,0,279931,null,279931,null,0,0,{"$f":"VLOOKUP(A7083,'Data Pull totals 5-8'!A:C,3,0)","v":0},279931,0]
[7079,0,{"$f":"'Expenditures 15-22'!G321","v":0},0,"OK",0,0,null,0,0,null,0,null,0,0,0,0,0]
[7081,0,{"$f":"'Expenditures 15-22'!I321","v":0},0,"OK",0,0,null,0,0,null,0,null,0,0,0,0,0]
[7084,69702,{"$f":"'Expenditures 15-22'!C322","v":69702},0,"OK",69702,0,null,0,69702,null,69702,null,0,0,{"$f":"VLOOKUP(A7091,'Data Pull totals 5-8'!A:C,3,0)","v":0},69702,0]
[7088,25314,{"$f":"'Expenditures 15-22'!G322","v":25314},0,"OK",25314,0,null,0,25314,null,25314,null,0,0,{"$f":"VLOOKUP(A7095,'Data Pull totals 5-8'!A:C,3,0)","v":0},25314,0]
[7090,0,{"$f":"'Expenditures 15-22'!I322","v":0},0,"OK",0,0,null,0,0,null,0,null,0,0,0,0,0]
[7093,16602104,{"$f":"'Expenditures 15-22'!C323","v":16602104},0,"OK",16602104,0,null,0,16602104,null,16602104,null,0,0,{"$f":"VLOOKUP(A7100,'Data Pull totals 5-8'!A:C,3,0)","v":0},16602104,0]
[7094,1210991,{"$f":"'Expenditures 15-22'!D323","v":1210991},0,"OK",1210991,0,null,0,1210991,null,1210991,null,0,0,{"$f":"VLOOKUP(A7101,'Data Pull totals 5-8'!A:C,3,0)","v":0},1210991,0]
[7097,1741072,{"$f":"'Expenditures 15-22'!G323","v":1741072},0,"OK",1741072,0,null,0,1741072,null,1741072,null,0,0,{"$f":"VLOOKUP(A7104,'Data Pull totals 5-8'!A:C,3,0)","v":0},1741072,0]
[7100,0,{"$f":"'Expenditures 15-22'!J323","v":0},0,"OK",0,0,null,0,0,null,0,null,0,0,0,0,0]
[7102,55764,{"$f":"'Expenditures 15-22'!C324","v":55764},0,"OK",55764,0,null,0,55764,null,55764,null,0,0,{"$f":"VLOOKUP(A7109,'Data Pull totals 5-8'!A:C,3,0)","v":0},55764,0]
[7105,0,{"$f":"'Expenditures 15-22'!F324","v":0},0,{"$f":"IF((D7112 = 0),\"OK\",IF((D7112<-5),\"CHECK ME!\",IF((D7112>5),\"Check Me!\",\"OK\")))","v":"OK"},0,0,null,0,0,null,0,null,0,0,0,0,0]
[7109,0,{"$f":"'Expenditures 15-22'!J324","v":0},0,"OK",0,0,null,0,0,null,0,null,{"$f":"SUM(J7116-L7116)","v":0},0,0,0,{"$f":"SUM(L7116+P7116-Q7116)","v":0}]
[7111,122117538.06,{"$f":"'Expenditures 15-22'!C325","v":122117538.06},0,"OK",121154284.06,0,null,963254,122117538.06,null,122117538.06,null,0,0,{"$f":"VLOOKUP(A7118,'Data Pull totals 5-8'!A:C,3,0)","v":0},122117538.06,0]
[7114,599296.37,{"$f":"'Expenditures 15-22'!F325","v":599296.37},0,"OK",599296.37,0,null,0,599296.37,null,599296.37,null,0,0,{"$f":"VLOOKUP(A7121,'Data Pull totals 5-8'!A:C,3,0)","v":0},599296.37,0]
[7115,1987937,{"$f":"'Expenditures 15-22'!G325","v":1987937},0,"OK",1987937,0,null,0,1987937,null,1987937,null,0,0,{"$f":"VLOOKUP(A7122,'Data Pull totals 5-8'!A:C,3,0)","v":0},1987937,0]
[7118,377416,{"$f":"'Expenditures 15-22'!J325","v":377416},0,"OK",377416,0,null,0,377416,null,377416,null,0,0,{"$f":"VLOOKUP(A7125,'Data Pull totals 5-8'!A:C,3,0)","v":0},377416,0]
[7121,0,{"$f":"'Expenditures 15-22'!D326","v":0},0,"OK",0,0,null,0,0,null,0,null,0,0,0,0,0]
[7123,0,{"$f":"'Expenditures 15-22'!F326","v":0},0,"OK",0,0,null,0,0,null,0,null,0,0,0,0,0]
[7126,0,{"$f":"'Expenditures 15-22'!I326","v":0},0,"OK",0,0,null,0,0,null,0,null,0,0,0,0,0]
[7130,64896,{"$f":"'Expenditures 15-22'!D327","v":64896},0,"OK",64896,0,null,0,64896,null,64896,null,0,0,{"$f":"VLOOKUP(A7137,'Data Pull totals 5-8'!A:C,3,0)","v":0},64896,0]
[7132,43294,{"$f":"'Expenditures 15-22'!F327","v":43294},0,"OK",43294,0,null,0,43294,null,43294,null,0,0,{"$f":"VLOOKUP(A7139,'Data Pull totals 5-8'!A:C,3,0)","v":0},43294,0]
[7133,27126,{"$f":"'Expenditures 15-22'!G327","v":27126},0,"OK",27126,0,null,0,27126,null,27126,null,0,0,{"$f":"VLOOKUP(A7140,'Data Pull totals 5-8'!A:C,3,0)","v":0},27126,0]
[7136,0,{"$f":"'Expenditures 15-22'!J327","v":0},0,"OK",0,0,null,0,0,null,0,null,0,0,0,0,0]
[7139,28630614.579999998,{"$f":"'Expenditures 15-22'!D330","v":28630614.579999998},0,"OK",28398690.579999998,0,null,231924,28630614.579999998,null,28630614.579999998,null,0,0,{"$f":"VLOOKUP(A7146,'Data Pull totals 5-8'!A:C,3,0)","v":0},28630614.579999998,0]
[7142,3837743,{"$f":"'Expenditures 15-22'!G330","v":3837743},0,"OK",3837743,0,null,0,3837743,null,3837743,null,0,0,{"$f":"VLOOKUP(A7149,'Data Pull totals 5-8'!A:C,3,0)","v":0},3837743,0]
[7144,314367,{"$f":"'Expenditures 15-22'!I330","v":314367},0,"OK",314367,0,null,0,314367,null,314367,null,0,0,{"$f":"VLOOKUP(A7151,'Data Pull totals 5-8'!A:C,3,0)","v":0},314367,0]
[7147,30962,{"$f":"'Expenditures 15-22'!H337","v":30962},0,"OK",30962,0,null,0,30962,null,30962,null,0,0,{"$f":"VLOOKUP(A7154,'Data Pull totals 5-8'!A:C,3,0)","v":0},30962,0]
[7151,67,{"$f":"'Expenditures 15-22'!H339","v":67},0,"OK",67,0,null,0,67,null,67,null,0,0,{"$f":"VLOOKUP(A7158,'Data Pull totals 5-8'!A:C,3,0)","v":0},67,0]
[7153,31029,{"$f":"'Expenditures 15-22'!H340","v":31029},0,"OK",31029,0,null,0,31029,null,31029,null,0,0,{"$f":"VLOOKUP(A7160,'Data Pull totals 5-8'!A:C,3,0)","v":0},31029,0]
[7154,31029,{"$f":"'Expenditures 15-22'!K340","v":31029},0,"OK",31029,0,null,0,31029,null,31029,null,0,0,{"$f":"VLOOKUP(A7161,'Data Pull totals 5-8'!A:C,3,0)","v":0},31029,0]
[7158,1161692.3700000001,{"$f":"'Expenditures 15-22'!F342","v":1161692.3700000001},0,"OK",1161692.3700000001,0,null,0,1161692.3700000001,null,1161692.3700000001,null,0,0,{"$f":"VLOOKUP(A7165,'Data Pull totals 5-8'!A:C,3,0)","v":0},1161692.3700000001,0]
[7159,3837743,{"$f":"'Expenditures 15-22'!G342","v":3837743},0,"OK",3837743,0,null,0,3837743,null,3837743,null,0,0,{"$f":"VLOOKUP(A7166,'Data Pull totals 5-8'!A:C,3,0)","v":0},3837743,0]
[7163,366851717.16999996,{"$f":"'Expenditures 15-22'!K342","v":366851717.16999996},0,"OK",363498198.16999996,5.9604644775390625E-8,null,3353519,366851717.16999996,null,366851717.16999996,null,0,0,{"$f":"VLOOKUP(A7170,'Data Pull totals 5-8'!A:C,3,0)","v":0},366851717.16999996,0]
[7165,108200,{"$f":"'Expenditures 15-22'!I348","v":108200},{"$f":"B7172-C7172","v":0},"OK",108200,0,null,0,108200,null,108200,null,0,0,{"$f":"VLOOKUP(A7172,'Data Pull totals 5-8'!A:C,3,0)","v":0},108200,0]
[7169,138377,{"$f":"'Expenditures 15-22'!I350","v":138377},0,{"$f":"IF((D7176 = 0),\"OK\",IF((D7176<-5),\"CHECK ME!\",IF((D7176>5),\"Check Me!\",\"OK\")))","v":"OK"},138377,0,null,0,138377,null,138377,null,0,0,{"$f":"VLOOKUP(A7176,'Data Pull totals 5-8'!A:C,3,0)","v":0},138377,0]
[7172,0,{"$f":"'Expenditures 15-22'!J351","v":0},0,"OK",0,0,null,0,0,null,0,null,0,0,0,0,0]
[7174,0,{"$f":"'Expenditures 15-22'!J352","v":0},0,"OK",0,0,null,0,0,null,0,null,0,0,0,0,0]
[7175,238830,{"$f":"'Expenditures 15-22'!H356","v":238830},0,"OK",238830,0,null,0,238830,null,238830,null,0,0,{"$f":"VLOOKUP(A7182,'Data Pull totals 5-8'!A:C,3,0)","v":0},238830,0]
[7179,180239,{"$f":"'Expenditures 15-22'!H363","v":180239},0,"OK",180239,0,null,0,180239,null,180239,null,0,0,{"$f":"VLOOKUP(A7186,'Data Pull totals 5-8'!A:C,3,0)","v":0},180239,0]
[7180,180239,{"$f":"'Expenditures 15-22'!K363","v":180239},0,"OK",180239,0,null,0,180239,null,180239,null,0,0,{"$f":"VLOOKUP(A7187,'Data Pull totals 5-8'!A:C,3,0)","v":0},180239,0]
[7184,0,{"$f":"'Expenditures 15-22'!J367","v":0},0,"OK",0,0,null,0,0,null,0,null,0,0,0,0,0]
[7186,9331138,{"$f":"'Expenditures 15-22'!E7","v":9331138},0,"OK",9216156,0,null,114915,9331071,null,9331071,null,0,0,{"$f":"VLOOKUP(A7193,'Data Pull totals 5-8'!A:C,3,0)","v":67},9331138,0]
[7190,80776336.819999993,{"$f":"'Expenditures 15-22'!C9","v":80776336.819999993},0,"OK",80155661.819999993,0,null,160832,80316493.819999993,null,80316493.819999993,null,0,0,{"$f":"VLOOKUP(A7197,'Data Pull totals 5-8'!A:C,3,0)","v":459843},80776336.819999993,0]
[7193,1379946,{"$f":"'Expenditures 15-22'!F9","v":1379946},0,"OK",1349138,0,null,0,1349138,null,1349138,null,0,0,{"$f":"VLOOKUP(A7200,'Data Pull totals 5-8'!A:C,3,0)","v":30808},1379946,0]
[7195,84810,{"$f":"'Expenditures 15-22'!H9","v":84810},0,"OK",84810,0,null,0,84810,null,84810,null,0,0,{"$f":"VLOOKUP(A7202,'Data Pull totals 5-8'!A:C,3,0)","v":0},84810,0]
[7196,10428749,{"$f":"'Expenditures 15-22'!C11","v":10428749},0,"OK",10428749,0,null,0,10428749,null,10428749,null,0,0,{"$f":"VLOOKUP(A7203,'Data Pull totals 5-8'!A:C,3,0)","v":0},10428749,0]
[7200,215730,{"$f":"'Expenditures 15-22'!G11","v":215730},0,"OK",215730,0,null,0,215730,null,215730,null,0,0,{"$f":"VLOOKUP(A7207,'Data Pull totals 5-8'!A:C,3,0)","v":0},215730,0]
[7201,7910,{"$f":"'Expenditures 15-22'!H11","v":7910},0,"OK",7910,0,null,0,7910,null,7910,null,0,0,{"$f":"VLOOKUP(A7208,'Data Pull totals 5-8'!A:C,3,0)","v":0},7910,0]
[7205,819255,{"$f":"'Expenditures 15-22'!F17","v":819255},0,"OK",816405,0,null,0,816405,null,816405,null,0,0,{"$f":"VLOOKUP(A7212,'Data Pull totals 5-8'!A:C,3,0)","v":2850},819255,0]
[7207,86549,{"$f":"'Expenditures 15-22'!H17","v":86549},0,"OK",86549,0,null,0,86549,null,86549,null,0,0,{"$f":"VLOOKUP(A7214,'Data Pull totals 5-8'!A:C,3,0)","v":0},86549,0]
[7211,0,{"$f":"'ARRA Sched 23'!C7","v":0},0,"OK",0,0,null,0,0,null,0,null,0,0,0,0,0]
[7214,0,{"$f":"'ARRA Sched 23'!C10","v":0},0,"OK",0,0,null,0,0,null,0,null,0,0,0,0,0]
[7216,0,{"$f":"'ARRA Sched 23'!C12","v":0},0,"OK",0,0,null,0,0,null,0,null,0,0,0,0,0]
[7217,0,{"$f":"'ARRA Sched 23'!C13","v":0},0,"OK",0,0,null,0,0,null,0,null,0,0,0,0,0]
[7221,0,{"$f":"'ARRA Sched 23'!C17","v":0},0,"OK",0,0,null,0,0,null,0,null,0,0,0,0,0]
[7223,0,{"$f":"'ARRA Sched 23'!C19","v":0},0,"OK",0,0,null,0,0,null,0,null,0,0,0,0,0]
[7226,0,{"$f":"'ARRA Sched 23'!C22","v":0},0,"OK",0,0,null,0,0,null,0,null,0,0,0,0,0]
[7228,0,{"$f":"'ARRA Sched 23'!C24","v":0},0,"OK",0,0,null,0,0,null,0,null,0,0,0,0,0]
[7232,0,{"$f":"'ARRA Sched 23'!C28","v":0},0,"OK",0,0,null,0,0,null,0,null,0,0,0,0,0]
[7235,0,{"$f":"'ARRA Sched 23'!C31","v":0},0,"OK",0,0,null,0,0,null,0,null,0,0,0,0,0]
[7236,0,{"$f":"'ARRA Sched 23'!C32","v":0},0,"OK",0,0,null,0,0,null,0,null,0,0,0,0,0]
[7237,0,{"$f":"'ARRA Sched 23'!C34","v":0},0,"OK",0,0,null,0,0,null,0,null,{"$f":"SUM(J7244-L7244)","v":0},0,0,0,{"$f":"SUM(L7244+P7244-Q7244)","v":0}]
[7238,0,{"$f":"'ARRA Sched 23'!C35","v":0},0,"OK",0,0,null,0,0,null,0,null,0,0,0,0,0]
[7239,0,{"$f":"'ARRA Sched 23'!D5","v":0},0,"OK",0,0,null,0,0,null,0,null,0,0,0,0,0]
[7240,0,{"$f":"'ARRA Sched 23'!D6","v":0},0,"OK",0,0,null,0,0,null,0,null,0,0,0,0,0]
[7241,0,{"$f":"'ARRA Sched 23'!D7","v":0},0,"OK",0,0,null,0,0,null,0,null,0,0,0,0,0]
[7242,0,{"$f":"'ARRA Sched 23'!D8","v":0},0,"OK",0,0,null,0,0,null,0,null,0,0,0,0,0]
[7243,0,{"$f":"'ARRA Sched 23'!D9","v":0},0,"OK",0,0,null,0,0,null,0,null,0,0,0,0,0]
[7244,0,{"$f":"'ARRA Sched 23'!D10","v":0},0,"OK",0,0,null,0,0,null,0,null,0,0,0,0,0]
[7245,0,{"$f":"'ARRA Sched 23'!D11","v":0},0,"OK",0,0,null,0,0,null,0,null,0,0,0,0,0]
[7246,0,{"$f":"'ARRA Sched 23'!D12","v":0},0,"OK",0,0,null,0,0,null,0,null,0,0,0,0,0]
[7247,0,{"$f":"'ARRA Sched 23'!D13","v":0},0,"OK",0,0,null,0,0,null,0,null,0,0,0,0,0]
[7248,0,{"$f":"'ARRA Sched 23'!D14","v":0},0,"OK",0,0,null,0,0,null,0,null,0,0,0,0,0]
[7249,0,{"$f":"'ARRA Sched 23'!D15","v":0},0,"OK",0,0,null,0,0,null,0,null,0,0,0,0,0]
[7250,0,{"$f":"'ARRA Sched 23'!D16","v":0},0,"OK",0,0,null,0,0,null,0,null,0,0,0,0,0]
[7251,0,{"$f":"'ARRA Sched 23'!D17","v":0},0,"OK",0,0,null,0,0,null,0,null,0,0,0,0,0]
[7252,0,{"$f":"'ARRA Sched 23'!D18","v":0},0,"OK",0,0,null,0,0,null,0,null,0,0,0,0,0]
[7253,0,{"$f":"'ARRA Sched 23'!D19","v":0},0,"OK",0,0,null,0,0,null,0,null,0,0,0,0,0]
[7254,0,{"$f":"'ARRA Sched 23'!D20","v":0},0,"OK",0,0,null,0,0,null,0,null,0,0,0,0,0]
[7255,0,{"$f":"'ARRA Sched 23'!D21","v":0},0,"OK",0,0,null,0,0,null,0,null,0,0,0,0,0]
[7256,0,{"$f":"'ARRA Sched 23'!D22","v":0},0,"OK",0,0,null,0,0,null,0,null,0,0,0,0,0]
[7257,0,{"$f":"'ARRA Sched 23'!D23","v":0},0,"OK",0,0,null,0,0,null,0,null,0,0,0,0,0]
[7258,0,{"$f":"'ARRA Sched 23'!D24","v":0},0,"OK",0,0,null,0,0,null,0,null,0,0,0,0,0]
[7259,0,{"$f":"'ARRA Sched 23'!D25","v":0},0,"OK",0,0,null,0,0,null,0,null,0,0,0,0,0]
[7260,0,{"$f":"'ARRA Sched 23'!D26","v":0},0,"OK",0,0,null,0,0,null,0,null,0,0,0,0,0]
[7261,0,{"$f":"'ARRA Sched 23'!D27","v":0},0,"OK",0,0,null,0,0,null,0,null,0,0,0,0,0]
[7262,0,{"$f":"'ARRA Sched 23'!D28","v":0},0,"OK",0,0,null,0,0,null,0,null,0,0,0,0,0]
[7263,0,{"$f":"'ARRA Sched 23'!D29","v":0},0,"OK",0,0,null,0,0,null,0,null,0,0,0,0,0]
[7264,0,{"$f":"'ARRA Sched 23'!D30","v":0},0,"OK",0,0,null,0,0,null,0,null,0,0,0,0,0]
[7265,0,{"$f":"'ARRA Sched 23'!D31","v":0},0,"OK",0,0,null,0,0,null,0,null,0,0,0,0,0]
[7266,0,{"$f":"'ARRA Sched 23'!D32","v":0},0,"OK",0,0,null,0,0,null,0,null,0,0,0,0,0]
[7267,0,{"$f":"'ARRA Sched 23'!D34","v":0},0,"OK",0,0,null,0,0,null,0,null,0,0,0,0,0]
[7268,0,{"$f":"'ARRA Sched 23'!E5","v":0},0,"OK",0,0,null,0,0,null,0,null,0,0,0,0,0]
[7269,0,{"$f":"'ARRA Sched 23'!E6","v":0},0,"OK",0,0,null,0,0,null,0,null,0,0,0,0,0]
[7270,0,{"$f":"'ARRA Sched 23'!E7","v":0},0,"OK",0,0,null,0,0,null,0,null,0,0,0,0,0]
[7271,0,{"$f":"'ARRA Sched 23'!E8","v":0},0,"OK",0,0,null,0,0,null,0,null,0,0,0,0,0]
[7272,0,{"$f":"'ARRA Sched 23'!E9","v":0},0,"OK",0,0,null,0,0,null,0,null,0,0,0,0,0]
[7273,0,{"$f":"'ARRA Sched 23'!E10","v":0},0,"OK",0,0,null,0,0,null,0,null,0,0,0,0,0]
[7274,0,{"$f":"'ARRA Sched 23'!E11","v":0},0,"OK",0,0,null,0,0,null,0,null,0,0,0,0,0]
[7275,0,{"$f":"'ARRA Sched 23'!E12","v":0},0,"OK",0,0,null,0,0,null,0,null,0,0,0,0,0]
[7276,0,{"$f":"'ARRA Sched 23'!E13","v":0},0,"OK",0,0,null,0,0,null,0,null,0,0,0,0,0]
[7277,0,{"$f":"'ARRA Sched 23'!E14","v":0},0,"OK",0,0,null,0,0,null,0,null,0,0,0,0,0]
[7278,0,{"$f":"'ARRA Sched 23'!E15","v":0},0,"OK",0,0,null,0,0,null,0,null,0,0,0,0,0]
[7279,0,{"$f":"'ARRA Sched 23'!E16","v":0},0,"OK",0,0,null,0,0,null,0,null,0,0,0,0,0]
[7280,0,{"$f":"'ARRA Sched 23'!E17","v":0},0,"OK",0,0,null,0,0,null,0,null,0,0,0,0,0]
[7281,0,{"$f":"'ARRA Sched 23'!E18","v":0},0,"OK",0,0,null,0,0,null,0,null,0,0,0,0,0]
[7282,0,{"$f":"'ARRA Sched 23'!E19","v":0},0,"OK",0,0,null,0,0,null,0,null,0,0,0,0,0]
[7283,0,{"$f":"'ARRA Sched 23'!E20","v":0},0,"OK",0,0,null,0,0,null,0,null,0,0,0,0,0]
[7284,0,{"$f":"'ARRA Sched 23'!E21","v":0},0,"OK",0,0,null,0,0,null,0,null,0,0,0,0,0]
[7285,0,{"$f":"'ARRA Sched 23'!E22","v":0},0,"OK",0,0,null,0,0,null,0,null,0,0,0,0,0]
[7286,0,{"$f":"'ARRA Sched 23'!E23","v":0},0,"OK",0,0,null,0,0,null,0,null,0,0,0,0,0]
[7287,0,{"$f":"'ARRA Sched 23'!E24","v":0},0,"OK",0,0,null,0,0,null,0,null,0,0,0,0,0]
[7288,0,{"$f":"'ARRA Sched 23'!E25","v":0},0,"OK",0,0,null,0,0,null,0,null,0,0,0,0,0]
[7289,0,{"$f":"'ARRA Sched 23'!E26","v":0},0,"OK",0,0,null,0,0,null,0,null,0,0,0,0,0]
[7290,0,{"$f":"'ARRA Sched 23'!E27","v":0},0,"OK",0,0,null,0,0,null,0,null,0,0,0,0,0]
[7291,0,{"$f":"'ARRA Sched 23'!E28","v":0},0,"OK",0,0,null,0,0,null,0,null,0,0,0,0,0]
[7292,0,{"$f":"'ARRA Sched 23'!E29","v":0},0,"OK",0,0,null,0,0,null,0,null,0,0,0,0,0]
[7293,0,{"$f":"'ARRA Sched 23'!E30","v":0},{"$f":"B7300-C7300","v":0},"OK",0,0,null,0,0,null,0,null,0,0,0,0,0]
[7294,0,{"$f":"'ARRA Sched 23'!E31","v":0},0,"OK",0,0,null,0,0,null,0,null,0,0,0,0,0]
[7295,0,{"$f":"'ARRA Sched 23'!E32","v":0},0,"OK",0,0,null,0,0,null,0,null,0,0,0,0,0]
[7296,0,{"$f":"'ARRA Sched 23'!E34","v":0},0,"OK",0,0,null,0,0,null,0,null,0,0,0,0,0]
[7297,0,{"$f":"'ARRA Sched 23'!F5","v":0},0,{"$f":"IF((D7304 = 0),\"OK\",IF((D7304<-5),\"CHECK ME!\",IF((D7304>5),\"Check Me!\",\"OK\")))","v":"OK"},0,0,null,0,0,null,0,null,0,0,0,0,0]
[7298,0,{"$f":"'ARRA Sched 23'!F6","v":0},0,"OK",0,0,null,0,0,null,0,null,0,0,0,0,0]
[7299,0,{"$f":"'ARRA Sched 23'!F7","v":0},0,"OK",0,0,null,0,0,null,0,null,0,0,0,0,0]
[7300,0,{"$f":"'ARRA Sched 23'!F8","v":0},0,"OK",0,0,null,0,0,null,0,null,0,0,0,0,0]
[7301,0,{"$f":"'ARRA Sched 23'!F9","v":0},0,"OK",0,0,null,0,0,null,0,null,{"$f":"SUM(J7308-L7308)","v":0},0,0,0,{"$f":"SUM(L7308+P7308-Q7308)","v":0}]
[7302,0,{"$f":"'ARRA Sched 23'!F10","v":0},0,"OK",0,0,null,0,0,null,0,null,0,0,0,0,0]
[7303,0,{"$f":"'ARRA Sched 23'!F11","v":0},0,"OK",0,0,null,0,0,null,0,null,0,0,0,0,0]
[7304,0,{"$f":"'ARRA Sched 23'!F12","v":0},0,"OK",0,0,null,0,0,null,0,null,0,0,0,0,0]
[7305,0,{"$f":"'ARRA Sched 23'!F13","v":0},0,"OK",0,0,null,0,0,null,0,null,0,0,0,0,0]
[7306,0,{"$f":"'ARRA Sched 23'!F14","v":0},0,"OK",0,0,null,0,0,null,0,null,0,0,0,0,0]
[7307,0,{"$f":"'ARRA Sched 23'!F15","v":0},0,"OK",0,0,null,0,0,null,0,null,0,0,0,0,0]
[7308,0,{"$f":"'ARRA Sched 23'!F16","v":0},0,"OK",0,0,null,0,0,null,0,null,0,0,0,0,0]
[7309,0,{"$f":"'ARRA Sched 23'!F17","v":0},0,"OK",0,0,null,0,0,null,0,null,0,0,0,0,0]
[7310,0,{"$f":"'ARRA Sched 23'!F18","v":0},0,"OK",0,0,null,0,0,null,0,null,0,0,0,0,0]
[7311,0,{"$f":"'ARRA Sched 23'!F19","v":0},0,"OK",0,0,null,0,0,null,0,null,0,0,0,0,0]
[7312,0,{"$f":"'ARRA Sched 23'!F20","v":0},0,"OK",0,0,null,0,0,null,0,null,0,0,0,0,0]
[7313,0,{"$f":"'ARRA Sched 23'!F21","v":0},0,"OK",0,0,null,0,0,null,0,null,0,0,0,0,0]
[7314,0,{"$f":"'ARRA Sched 23'!F22","v":0},0,"OK",0,0,null,0,0,null,0,null,0,0,0,0,0]
[7315,0,{"$f":"'ARRA Sched 23'!F23","v":0},0,"OK",0,0,null,0,0,null,0,null,0,0,0,0,0]
[7316,0,{"$f":"'ARRA Sched 23'!F24","v":0},0,"OK",0,0,null,0,0,null,0,null,0,0,0,0,0]
[7317,0,{"$f":"'ARRA Sched 23'!F25","v":0},0,"OK",0,0,null,0,0,null,0,null,0,0,0,0,0]
[7318,0,{"$f":"'ARRA Sched 23'!F26","v":0},0,"OK",0,0,null,0,0,null,0,null,0,0,0,0,0]
[7319,0,{"$f":"'ARRA Sched 23'!F27","v":0},0,"OK",0,0,null,0,0,null,0,null,0,0,0,0,0]
[7320,0,{"$f":"'ARRA Sched 23'!F28","v":0},0,"OK",0,0,null,0,0,null,0,null,0,0,0,0,0]
[7321,0,{"$f":"'ARRA Sched 23'!F29","v":0},0,"OK",0,0,null,0,0,null,0,null,0,0,0,0,0]
[7322,0,{"$f":"'ARRA Sched 23'!F30","v":0},0,"OK",0,0,null,0,0,null,0,null,0,0,0,0,0]
[7323,0,{"$f":"'ARRA Sched 23'!F31","v":0},0,"OK",0,0,null,0,0,null,0,null,0,0,0,0,0]
[7324,0,{"$f":"'ARRA Sched 23'!F32","v":0},0,"OK",0,0,null,0,0,null,0,null,0,0,0,0,0]
[7325,0,{"$f":"'ARRA Sched 23'!F34","v":0},0,"OK",0,0,null,0,0,null,0,null,0,0,0,0,0]
[7326,0,{"$f":"'ARRA Sched 23'!G5","v":0},0,"OK",0,0,null,0,0,null,0,null,0,0,0,0,0]
[7327,0,{"$f":"'ARRA Sched 23'!G6","v":0},0,"OK",0,0,null,0,0,null,0,null,0,0,0,0,0]
[7328,0,{"$f":"'ARRA Sched 23'!G7","v":0},0,"OK",0,0,null,0,0,null,0,null,0,0,0,0,0]
[7329,0,{"$f":"'ARRA Sched 23'!G8","v":0},0,"OK",0,0,null,0,0,null,0,null,0,0,0,0,0]
[7330,0,{"$f":"'ARRA Sched 23'!G9","v":0},0,"OK",0,0,null,0,0,null,0,null,0,0,0,0,0]
[7331,0,{"$f":"'ARRA Sched 23'!G10","v":0},0,"OK",0,0,null,0,0,null,0,null,0,0,0,0,0]
[7332,0,{"$f":"'ARRA Sched 23'!G11","v":0},0,"OK",0,0,null,0,0,null,0,null,0,0,0,0,0]
[7333,0,{"$f":"'ARRA Sched 23'!G12","v":0},0,"OK",0,0,null,0,0,null,0,null,0,0,0,0,0]
[7334,0,{"$f":"'ARRA Sched 23'!G13","v":0},0,"OK",0,0,null,0,0,null,0,null,0,0,0,0,0]
[7335,0,{"$f":"'ARRA Sched 23'!G14","v":0},0,"OK",0,0,null,0,0,null,0,null,0,0,0,0,0]
[7336,0,{"$f":"'ARRA Sched 23'!G15","v":0},0,"OK",0,0,null,0,0,null,0,null,0,0,0,0,0]
[7337,0,{"$f":"'ARRA Sched 23'!G16","v":0},0,"OK",0,0,null,0,0,null,0,null,0,0,0,0,0]
[7338,0,{"$f":"'ARRA Sched 23'!G17","v":0},0,"OK",0,0,null,0,0,null,0,null,0,0,0,0,0]
[7339,0,{"$f":"'ARRA Sched 23'!G18","v":0},0,"OK",0,0,null,0,0,null,0,null,0,0,0,0,0]
[7340,0,{"$f":"'ARRA Sched 23'!G19","v":0},0,"OK",0,0,null,0,0,null,0,null,0,0,0,0,0]
[7341,0,{"$f":"'ARRA Sched 23'!G20","v":0},0,"OK",0,0,null,0,0,null,0,null,0,0,0,0,0]
[7342,0,{"$f":"'ARRA Sched 23'!G21","v":0},0,"OK",0,0,null,0,0,null,0,null,0,0,0,0,0]
[7343,0,{"$f":"'ARRA Sched 23'!G22","v":0},0,"OK",0,0,null,0,0,null,0,null,0,0,0,0,0]
[7344,0,{"$f":"'ARRA Sched 23'!G23","v":0},0,"OK",0,0,null,0,0,null,0,null,0,0,0,0,0]
[7345,0,{"$f":"'ARRA Sched 23'!G24","v":0},0,"OK",0,0,null,0,0,null,0,null,0,0,0,0,0]
[7346,0,{"$f":"'ARRA Sched 23'!G25","v":0},0,"OK",0,0,null,0,0,null,0,null,0,0,0,0,0]
[7347,0,{"$f":"'ARRA Sched 23'!G26","v":0},0,"OK",0,0,null,0,0,null,0,null,0,0,0,0,0]
[7348,0,{"$f":"'ARRA Sched 23'!G27","v":0},0,"OK",0,0,null,0,0,null,0,null,0,0,0,0,0]
[7349,0,{"$f":"'ARRA Sched 23'!G28","v":0},0,"OK",0,0,null,0,0,null,0,null,0,0,0,0,0]
[7350,0,{"$f":"'ARRA Sched 23'!G29","v":0},0,"OK",0,0,null,0,0,null,0,null,0,0,0,0,0]
[7351,0,{"$f":"'ARRA Sched 23'!G30","v":0},0,"OK",0,0,null,0,0,null,0,null,0,0,0,0,0]
[7352,0,{"$f":"'ARRA Sched 23'!G31","v":0},0,"OK",0,0,null,0,0,null,0,null,0,0,0,0,0]
[7353,0,{"$f":"'ARRA Sched 23'!G32","v":0},0,"OK",0,0,null,0,0,null,0,null,0,0,0,0,0]
[7354,0,{"$f":"'ARRA Sched 23'!G34","v":0},0,"OK",0,0,null,0,0,null,0,null,0,0,0,0,0]
[7355,0,{"$f":"'ARRA Sched 23'!H5","v":0},0,"OK",0,0,null,0,0,null,0,null,0,0,0,0,0]
[7356,0,{"$f":"'ARRA Sched 23'!H6","v":0},0,"OK",0,0,null,0,0,null,0,null,0,0,0,0,0]
[7357,0,null,{"$f":"B7364-C7364","v":0},"OK",0,0,null,0,0,null,0,null,0,0,0,0,0]
[7358,0,{"$f":"'ARRA Sched 23'!H8","v":0},0,"OK",0,0,null,0,0,null,0,null,0,0,0,0,0]
[7359,0,{"$f":"'ARRA Sched 23'!H9","v":0},0,"OK",0,0,null,0,0,null,0,null,0,0,0,0,0]
[7360,0,{"$f":"'ARRA Sched 23'!H10","v":0},0,"OK",0,0,null,0,0,null,0,null,0,0,0,0,0]
[7361,0,{"$f":"'ARRA Sched 23'!H11","v":0},0,{"$f":"IF((D7368 = 0),\"OK\",IF((D7368<-5),\"CHECK ME!\",IF((D7368>5),\"Check Me!\",\"OK\")))","v":"OK"},0,0,null,0,0,null,0,null,0,0,0,0,0]
[7362,0,{"$f":"'ARRA Sched 23'!H12","v":0},0,"OK",0,0,null,0,0,null,0,null,0,0,0,0,0]
[7363,0,{"$f":"'ARRA Sched 23'!H13","v":0},0,"OK",0,0,null,0,0,null,0,null,0,0,0,0,0]
[7364,0,{"$f":"'ARRA Sched 23'!H14","v":0},0,"OK",0,0,null,0,0,null,0,null,0,0,0,0,0]
[7365,0,{"$f":"'ARRA Sched 23'!H15","v":0},0,"OK",0,0,null,0,0,null,0,null,{"$f":"SUM(J7372-L7372)","v":0},0,0,0,{"$f":"SUM(L7372+P7372-Q7372)","v":0}]
[7366,0,{"$f":"'ARRA Sched 23'!H16","v":0},0,"OK",0,0,null,0,0,null,0,null,0,0,0,0,0]
[7367,0,{"$f":"'ARRA Sched 23'!H17","v":0},0,"OK",0,0,null,0,0,null,0,null,0,0,0,0,0]
[7368,0,{"$f":"'ARRA Sched 23'!H18","v":0},0,"OK",0,0,null,0,0,null,0,null,0,0,0,0,0]
[7369,0,{"$f":"'ARRA Sched 23'!H19","v":0},0,"OK",0,0,null,0,0,null,0,null,0,0,0,0,0]
[7370,0,{"$f":"'ARRA Sched 23'!H20","v":0},0,"OK",0,0,null,0,0,null,0,null,0,0,0,0,0]
[7371,0,{"$f":"'ARRA Sched 23'!H21","v":0},0,"OK",0,0,null,0,0,null,0,null,0,0,0,0,0]
[7372,0,{"$f":"'ARRA Sched 23'!H22","v":0},0,"OK",0,0,null,0,0,null,0,null,0,0,0,0,0]
[7373,0,{"$f":"'ARRA Sched 23'!H23","v":0},0,"OK",0,0,null,0,0,null,0,null,0,0,0,0,0]
[7374,0,{"$f":"'ARRA Sched 23'!H24","v":0},0,"OK",0,0,null,0,0,null,0,null,0,0,0,0,0]
[7375,0,{"$f":"'ARRA Sched 23'!H25","v":0},0,"OK",0,0,null,0,0,null,0,null,0,0,0,0,0]
[7376,0,{"$f":"'ARRA Sched 23'!H26","v":0},0,"OK",0,0,null,0,0,null,0,null,0,0,0,0,0]
[7377,0,{"$f":"'ARRA Sched 23'!H27","v":0},0,"OK",0,0,null,0,0,null,0,null,0,0,0,0,0]
[7378,0,{"$f":"'ARRA Sched 23'!H28","v":0},0,"OK",0,0,null,0,0,null,0,null,0,0,0,0,0]
[7379,0,{"$f":"'ARRA Sched 23'!H29","v":0},0,"OK",0,0,null,0,0,null,0,null,0,0,0,0,0]
[7380,0,{"$f":"'ARRA Sched 23'!H30","v":0},0,"OK",0,0,null,0,0,null,0,null,0,0,0,0,0]
[7381,0,{"$f":"'ARRA Sched 23'!H31","v":0},0,"OK",0,0,null,0,0,null,0,null,0,0,0,0,0]
[7382,0,{"$f":"'ARRA Sched 23'!H32","v":0},0,"OK",0,0,null,0,0,null,0,null,0,0,0,0,0]
[7383,0,null,0,"OK",0,0,null,0,0,null,0,null,0,0,0,0,0]
[7384,0,{"$f":"'ARRA Sched 23'!I5","v":0},0,"OK",0,0,null,0,0,null,0,null,0,0,0,0,0]
[7385,0,{"$f":"'ARRA Sched 23'!I6","v":0},0,"OK",0,0,null,0,0,null,0,null,0,0,0,0,0]
[7386,0,{"$f":"'ARRA Sched 23'!I7","v":0},0,"OK",0,0,null,0,0,null,0,null,0,0,0,0,0]
[7387,0,{"$f":"'ARRA Sched 23'!I8","v":0},0,"OK",0,0,null,0,0,null,0,null,0,0,0,0,0]
[7388,0,{"$f":"'ARRA Sched 23'!I9","v":0},0,"OK",0,0,null,0,0,null,0,null,0,0,0,0,0]
[7389,0,{"$f":"'ARRA Sched 23'!I10","v":0},0,"OK",0,0,null,0,0,null,0,null,0,0,0,0,0]
[7390,0,{"$f":"'ARRA Sched 23'!I11","v":0},0,"OK",0,0,null,0,0,null,0,null,0,0,0,0,0]
[7391,0,{"$f":"'ARRA Sched 23'!I12","v":0},0,"OK",0,0,null,0,0,null,0,null,0,0,0,0,0]
[7392,0,{"$f":"'ARRA Sched 23'!I13","v":0},0,"OK",0,0,null,0,0,null,0,null,0,0,0,0,0]
[7393,0,{"$f":"'ARRA Sched 23'!I14","v":0},0,"OK",0,0,null,0,0,null,0,null,0,0,0,0,0]
[7394,0,{"$f":"'ARRA Sched 23'!I15","v":0},0,"OK",0,0,null,0,0,null,0,null,0,0,0,0,0]
[7395,0,{"$f":"'ARRA Sched 23'!I16","v":0},0,"OK",0,0,null,0,0,null,0,null,0,0,0,0,0]
[7396,0,{"$f":"'ARRA Sched 23'!I17","v":0},0,"OK",0,0,null,0,0,null,0,null,0,0,0,0,0]
[7397,0,{"$f":"'ARRA Sched 23'!I18","v":0},0,"OK",0,0,null,0,0,null,0,null,0,0,0,0,0]
[7398,0,{"$f":"'ARRA Sched 23'!I19","v":0},0,"OK",0,0,null,0,0,null,0,null,0,0,0,0,0]
[7399,0,{"$f":"'ARRA Sched 23'!I20","v":0},0,"OK",0,0,null,0,0,null,0,null,0,0,0,0,0]
[7400,0,{"$f":"'ARRA Sched 23'!I21","v":0},0,"OK",0,0,null,0,0,null,0,null,0,0,0,0,0]
[7401,0,{"$f":"'ARRA Sched 23'!I22","v":0},0,"OK",0,0,null,0,0,null,0,null,0,0,0,0,0]
[7402,0,{"$f":"'ARRA Sched 23'!I23","v":0},0,"OK",0,0,null,0,0,null,0,null,0,0,0,0,0]
[7403,0,{"$f":"'ARRA Sched 23'!I24","v":0},0,"OK",0,0,null,0,0,null,0,null,0,0,0,0,0]
[7404,0,{"$f":"'ARRA Sched 23'!I25","v":0},0,"OK",0,0,null,0,0,null,0,null,0,0,0,0,0]
[7405,0,{"$f":"'ARRA Sched 23'!I26","v":0},0,"OK",0,0,null,0,0,null,0,null,0,0,0,0,0]
[7406,0,{"$f":"'ARRA Sched 23'!I27","v":0},0,"OK",0,0,null,0,0,null,0,null,0,0,0,0,0]
[7407,0,{"$f":"'ARRA Sched 23'!I28","v":0},0,"OK",0,0,null,0,0,null,0,null,0,0,0,0,0]
[7408,0,{"$f":"'ARRA Sched 23'!I29","v":0},0,"OK",0,0,null,0,0,null,0,null,0,0,0,0,0]
[7409,0,{"$f":"'ARRA Sched 23'!I30","v":0},0,"OK",0,0,null,0,0,null,0,null,0,0,0,0,0]
[7410,0,{"$f":"'ARRA Sched 23'!I31","v":0},0,"OK",0,0,null,0,0,null,0,null,0,0,0,0,0]
[7411,0,{"$f":"'ARRA Sched 23'!I32","v":0},0,"OK",0,0,null,0,0,null,0,null,0,0,0,0,0]
[7412,0,{"$f":"'ARRA Sched 23'!I34","v":0},0,"OK",0,0,null,0,0,null,0,null,0,0,0,0,0]
[7413,0,{"$f":"'ARRA Sched 23'!J5","v":0},0,"OK",0,0,null,0,0,null,0,null,0,0,0,0,0]
[7414,0,{"$f":"'ARRA Sched 23'!J6","v":0},0,"OK",0,0,null,0,0,null,0,null,0,0,0,0,0]
[7415,0,{"$f":"'ARRA Sched 23'!J7","v":0},0,"OK",0,0,null,0,0,null,0,null,0,0,0,0,0]
[7416,0,{"$f":"'ARRA Sched 23'!J8","v":0},0,"OK",0,0,null,0,0,null,0,null,0,0,0,0,0]
[7417,0,{"$f":"'ARRA Sched 23'!J9","v":0},0,"OK",0,0,null,0,0,null,0,null,0,0,0,0,0]
[7418,0,{"$f":"'ARRA Sched 23'!J10","v":0},0,"OK",0,0,null,0,0,null,0,null,0,0,0,0,0]
[7419,0,{"$f":"'ARRA Sched 23'!J11","v":0},0,"OK",0,0,null,0,0,null,0,null,0,0,0,0,0]
[7420,0,{"$f":"'ARRA Sched 23'!J12","v":0},0,"OK",0,0,null,0,0,null,0,null,0,0,0,0,0]
[7421,0,{"$f":"'ARRA Sched 23'!J13","v":0},{"$f":"B7428-C7428","v":0},"OK",0,0,null,0,0,null,0,null,0,0,0,0,0]
[7422,0,{"$f":"'ARRA Sched 23'!J14","v":0},0,"OK",0,0,null,0,0,null,0,null,0,0,0,0,0]
[7423,0,{"$f":"'ARRA Sched 23'!J15","v":0},0,"OK",0,0,null,0,0,null,0,null,0,0,0,0,0]
[7424,0,{"$f":"'ARRA Sched 23'!J16","v":0},0,"OK",0,0,null,0,0,null,0,null,0,0,0,0,0]
[7425,0,{"$f":"'ARRA Sched 23'!J17","v":0},0,{"$f":"IF((D7432 = 0),\"OK\",IF((D7432<-5),\"CHECK ME!\",IF((D7432>5),\"Check Me!\",\"OK\")))","v":"OK"},0,0,null,0,0,null,0,null,0,0,0,0,0]
[7426,0,{"$f":"'ARRA Sched 23'!J18","v":0},0,"OK",0,0,null,0,0,null,0,null,0,0,0,0,0]
[7427,0,{"$f":"'ARRA Sched 23'!J19","v":0},0,"OK",0,0,null,0,0,null,0,null,0,0,0,0,0]
[7428,0,{"$f":"'ARRA Sched 23'!J20","v":0},0,"OK",0,0,null,0,0,null,0,null,0,0,0,0,0]
[7429,0,{"$f":"'ARRA Sched 23'!J21","v":0},0,"OK",0,0,null,0,0,null,0,null,{"$f":"SUM(J7436-L7436)","v":0},0,0,0,{"$f":"SUM(L7436+P7436-Q7436)","v":0}]
[7430,0,{"$f":"'ARRA Sched 23'!J22","v":0},0,"OK",0,0,null,0,0,null,0,null,0,0,0,0,0]
[7431,0,{"$f":"'ARRA Sched 23'!J23","v":0},0,"OK",0,0,null,0,0,null,0,null,0,0,0,0,0]
[7432,0,{"$f":"'ARRA Sched 23'!J24","v":0},0,"OK",0,0,null,0,0,null,0,null,0,0,0,0,0]
[7433,0,{"$f":"'ARRA Sched 23'!J25","v":0},0,"OK",0,0,null,0,0,null,0,null,0,0,0,0,0]
[7434,0,{"$f":"'ARRA Sched 23'!J26","v":0},0,"OK",0,0,null,0,0,null,0,null,0,0,0,0,0]
[7435,0,{"$f":"'ARRA Sched 23'!J27","v":0},0,"OK",0,0,null,0,0,null,0,null,0,0,0,0,0]
[7436,0,{"$f":"'ARRA Sched 23'!J28","v":0},0,"OK",0,0,null,0,0,null,0,null,0,0,0,0,0]
[7437,0,{"$f":"'ARRA Sched 23'!J29","v":0},0,"OK",0,0,null,0,0,null,0,null,0,0,0,0,0]
[7438,0,{"$f":"'ARRA Sched 23'!J30","v":0},0,"OK",0,0,null,0,0,null,0,null,0,0,0,0,0]
[7439,0,{"$f":"'ARRA Sched 23'!J31","v":0},0,"OK",0,0,null,0,0,null,0,null,0,0,0,0,0]
[7440,0,{"$f":"'ARRA Sched 23'!J32","v":0},0,"OK",0,0,null,0,0,null,0,null,0,0,0,0,0]
[7441,0,{"$f":"'ARRA Sched 23'!J34","v":0},0,"OK",0,0,null,0,0,null,0,null,0,0,0,0,0]
[7442,0,{"$f":"'ARRA Sched 23'!L5","v":0},0,"OK",0,0,null,0,0,null,0,null,0,0,0,0,0]
[7443,0,{"$f":"'ARRA Sched 23'!L6","v":0},0,"OK",0,0,null,0,0,null,0,null,0,0,0,0,0]
[7444,0,{"$f":"'ARRA Sched 23'!L7","v":0},0,"OK",0,0,null,0,0,null,0,null,0,0,0,0,0]
[7445,0,{"$f":"'ARRA Sched 23'!L8","v":0},0,"OK",0,0,null,0,0,null,0,null,0,0,0,0,0]
[7446,0,{"$f":"'ARRA Sched 23'!L9","v":0},0,"OK",0,0,null,0,0,null,0,null,0,0,0,0,0]
[7447,0,{"$f":"'ARRA Sched 23'!L10","v":0},0,"OK",0,0,null,0,0,null,0,null,0,0,0,0,0]
[7448,0,{"$f":"'ARRA Sched 23'!L11","v":0},0,"OK",0,0,null,0,0,null,0,null,0,0,0,0,0]
[7449,0,{"$f":"'ARRA Sched 23'!L12","v":0},0,"OK",0,0,null,0,0,null,0,null,0,0,0,0,0]
[7450,0,{"$f":"'ARRA Sched 23'!L13","v":0},0,"OK",0,0,null,0,0,null,0,null,0,0,0,0,0]
[7451,0,{"$f":"'ARRA Sched 23'!L14","v":0},0,"OK",0,0,null,0,0,null,0,null,0,0,0,0,0]
[7452,0,{"$f":"'ARRA Sched 23'!L15","v":0},0,"OK",0,0,null,0,0,null,0,null,0,0,0,0,0]
[7453,0,{"$f":"'ARRA Sched 23'!L16","v":0},0,"OK",0,0,null,0,0,null,0,null,0,0,0,0,0]
[7454,0,{"$f":"'ARRA Sched 23'!L17","v":0},0,"OK",0,0,null,0,0,null,0,null,0,0,0,0,0]
[7455,0,{"$f":"'ARRA Sched 23'!L18","v":0},0,"OK",0,0,null,0,0,null,0,null,0,0,0,0,0]
[7456,0,{"$f":"'ARRA Sched 23'!L19","v":0},0,"OK",0,0,null,0,0,null,0,null,0,0,0,0,0]
[7457,0,{"$f":"'ARRA Sched 23'!L20","v":0},0,"OK",0,0,null,0,0,null,0,null,0,0,0,0,0]
[7458,0,{"$f":"'ARRA Sched 23'!L21","v":0},0,"OK",0,0,null,0,0,null,0,null,0,0,0,0,0]
[7459,0,{"$f":"'ARRA Sched 23'!L22","v":0},0,"OK",0,0,null,0,0,null,0,null,0,0,0,0,0]
[7460,0,{"$f":"'ARRA Sched 23'!L23","v":0},0,"OK",0,0,null,0,0,null,0,null,0,0,0,0,0]
[7461,0,{"$f":"'ARRA Sched 23'!L24","v":0},0,"OK",0,0,null,0,0,null,0,null,0,0,0,0,0]
[7462,0,{"$f":"'ARRA Sched 23'!L25","v":0},0,"OK",0,0,null,0,0,null,0,null,0,0,0,0,0]
[7463,0,{"$f":"'ARRA Sched 23'!L26","v":0},0,"OK",0,0,null,0,0,null,0,null,0,0,0,0,0]
[7464,0,{"$f":"'ARRA Sched 23'!L27","v":0},0,"OK",0,0,null,0,0,null,0,null,0,0,0,0,0]
[7465,0,{"$f":"'ARRA Sched 23'!L28","v":0},0,"OK",0,0,null,0,0,null,0,null,0,0,0,0,0]
[7466,0,{"$f":"'ARRA Sched 23'!L29","v":0},0,"OK",0,0,null,0,0,null,0,null,0,0,0,0,0]
[7467,0,{"$f":"'ARRA Sched 23'!L30","v":0},0,"OK",0,0,null,0,0,null,0,null,0,0,0,0,0]
[7468,0,{"$f":"'ARRA Sched 23'!L31","v":0},0,"OK",0,0,null,0,0,null,0,null,0,0,0,0,0]
[7469,0,{"$f":"'ARRA Sched 23'!L32","v":0},0,"OK",0,0,null,0,0,null,0,null,0,0,0,0,0]
[7470,0,{"$f":"'ARRA Sched 23'!L34","v":0},0,"OK",0,0,null,0,0,null,0,null,0,0,0,0,0]
[7471,0,"ARRA",null,null,0,0,null,0,0,null,0,null,0,0,0,0,0]
[7472,0,null,0,"OK",0,0,null,0,0,null,0,null,0,0,0,0,0]
[7473,0,null,0,"OK",0,0,null,0,0,null,0,null,0,0,0,0,0]
[7474,0,null,0,"OK",0,0,null,0,0,null,0,null,0,0,0,0,0]
[7475,0,null,0,"OK",0,0,null,0,0,null,0,null,0,0,0,0,0]
[7476,0,null,0,"OK",0,0,null,0,0,null,0,null,0,0,0,0,0]
[7477,0,null,0,"OK",0,0,null,0,0,null,0,null,0,0,0,0,0]
[7478,0,null,0,"OK",0,0,null,0,0,null,0,null,0,0,0,0,0]
[7479,0,null,0,"OK",0,0,null,0,0,null,0,null,0,0,0,0,0]
[7480,0,null,0,"OK",0,0,null,0,0,null,0,null,0,0,0,0,0]
[7481,0,null,0,"OK",0,0,null,0,0,null,0,null,0,0,0,0,0]
[7482,0,null,0,"OK",0,0,null,0,0,null,0,null,0,0,0,0,0]
[7483,0,null,0,"OK",0,0,null,0,0,null,0,null,0,0,0,0,0]
[7484,0,null,0,"OK",0,0,null,0,0,null,0,null,0,0,0,0,0]
[7485,0,null,{"$f":"B7492-C7492","v":0},"OK",0,0,null,0,0,null,0,null,0,0,0,0,0]
[7486,0,null,0,"OK",0,0,null,0,0,null,0,null,0,0,0,0,0]
[7487,0,null,0,"OK",0,0,null,0,0,null,0,null,0,0,0,0,0]
[7488,0,null,0,"OK",0,0,null,0,0,null,0,null,0,0,0,0,0]
[7489,0,null,0,{"$f":"IF((D7496 = 0),\"OK\",IF((D7496<-5),\"CHECK ME!\",IF((D7496>5),\"Check Me!\",\"OK\")))","v":"OK"},0,0,null,0,0,null,0,null,0,0,0,0,0]
[7490,0,null,0,"OK",0,0,null,0,0,null,0,null,0,0,0,0,0]
[7491,0,null,0,"OK",0,0,null,0,0,null,0,null,0,0,0,0,0]
[7492,0,null,0,"OK",0,0,null,0,0,null,0,null,0,0,0,0,0]
[7493,0,null,0,"OK",0,0,null,0,0,null,0,null,{"$f":"SUM(J7500-L7500)","v":0},0,0,0,{"$f":"SUM(L7500+P7500-Q7500)","v":0}]
[7494,0,null,0,"OK",0,0,null,0,0,null,0,null,0,0,0,0,0]
[7495,0,null,0,"OK",0,0,null,0,0,null,0,null,0,0,0,0,0]
[7496,0,null,0,"OK",0,0,null,0,0,null,0,null,0,0,0,0,0]
[7497,0,null,0,"OK",0,0,null,0,0,null,0,null,0,0,0,0,0]
[7498,0,null,0,"OK",0,0,null,0,0,null,0,null,0,0,0,0,0]
[7499,0,"ARRA",null,null,0,0,null,0,0,null,0,null,0,0,0,0,0]
[7500,0,"ARRA",null,null,0,0,null,0,0,null,0,null,0,0,0,0,0]
[7501,0,null,0,"OK",0,0,null,0,0,null,0,null,0,0,0,0,0]
[7502,0,null,0,"OK",0,0,null,0,0,null,0,null,0,0,0,0,0]
[7503,0,null,0,"OK",0,0,null,0,0,null,0,null,0,0,0,0,0]
[7504,0,null,0,"OK",0,0,null,0,0,null,0,null,0,0,0,0,0]
[7505,0,null,0,"OK",0,0,null,0,0,null,0,null,0,0,0,0,0]
[7506,0,null,0,"OK",0,0,null,0,0,null,0,null,0,0,0,0,0]
[7507,0,null,0,"OK",0,0,null,0,0,null,0,null,0,0,0,0,0]
[7508,0,null,0,"OK",0,0,null,0,0,null,0,null,0,0,0,0,0]
[7509,0,null,0,"OK",0,0,null,0,0,null,0,null,0,0,0,0,0]
[7510,0,null,0,"OK",0,0,null,0,0,null,0,null,0,0,0,0,0]
[7511,0,null,0,"OK",0,0,null,0,0,null,0,null,0,0,0,0,0]
[7512,0,null,0,"OK",0,0,null,0,0,null,0,null,0,0,0,0,0]
[7513,0,null,0,"OK",0,0,null,0,0,null,0,null,0,0,0,0,0]
[7514,0,null,0,"OK",0,0,null,0,0,null,0,null,0,0,0,0,0]
[7515,0,null,0,"OK",0,0,null,0,0,null,0,null,0,0,0,0,0]
[7516,0,null,0,"OK",0,0,null,0,0,null,0,null,0,0,0,0,0]
[7517,0,null,0,"OK",0,0,null,0,0,null,0,null,0,0,0,0,0]
[7518,0,null,0,"OK",0,0,null,0,0,null,0,null,0,0,0,0,0]
[7519,0,null,0,"OK",0,0,null,0,0,null,0,null,0,0,0,0,0]
[7520,0,null,0,"OK",0,0,null,0,0,null,0,null,0,0,0,0,0]
[7521,0,null,0,"OK",0,0,null,0,0,null,0,null,0,0,0,0,0]
[7522,0,null,0,"OK",0,0,null,0,0,null,0,null,0,0,0,0,0]
[7523,0,null,0,"OK",0,0,null,0,0,null,0,null,0,0,0,0,0]
[7524,0,null,0,"OK",0,0,null,0,0,null,0,null,0,0,0,0,0]
[7525,0,null,0,"OK",0,0,null,0,0,null,0,null,0,0,0,0,0]
[7526,0,null,0,"OK",0,0,null,0,0,null,0,null,0,0,0,0,0]
[7527,0,null,0,"OK",0,0,null,0,0,null,0,null,0,0,0,0,0]
[7528,0,"ARRA",null,null,0,0,null,0,0,null,0,null,0,0,0,0,0]
[7529,0,{"$f":"'Cap Outlay Deprec 27'!E3","v":0},0,"OK",0,0,null,0,0,null,0,null,0,0,0,0,0]
[7530,1414796,{"$f":"'Cap Outlay Deprec 27'!F3","v":1414796},0,"OK",1414796,0,null,0,1414796,null,1414796,null,0,0,{"$f":"VLOOKUP(A7537,'Data Pull totals 5-8'!A:C,3,0)","v":0},1414796,0]
[7531,2380,{"$f":"'Cap Outlay Deprec 27'!H3","v":2380},0,"OK",2380,0,null,0,2380,null,2380,null,0,0,{"$f":"VLOOKUP(A7538,'Data Pull totals 5-8'!A:C,3,0)","v":0},2380,0]
[7532,1190,{"$f":"'Cap Outlay Deprec 27'!I3","v":1190},0,"OK",1190,0,null,0,1190,null,1190,null,0,0,{"$f":"VLOOKUP(A7539,'Data Pull totals 5-8'!A:C,3,0)","v":0},1190,0]
[7533,0,{"$f":"'Cap Outlay Deprec 27'!J3","v":0},0,"OK",0,0,null,0,0,null,0,null,0,0,0,0,0]
[7534,3570,{"$f":"'Cap Outlay Deprec 27'!K3","v":3570},0,"OK",3570,0,null,0,3570,null,3570,null,0,0,{"$f":"VLOOKUP(A7541,'Data Pull totals 5-8'!A:C,3,0)","v":0},3570,0]
[7535,1411226,{"$f":"'Cap Outlay Deprec 27'!L3","v":1411226},0,"OK",1411226,0,null,0,1411226,null,1411226,null,0,0,{"$f":"VLOOKUP(A7542,'Data Pull totals 5-8'!A:C,3,0)","v":0},1411226,0]
[7536,28925765,{"$f":"'Cap Outlay Deprec 27'!C6","v":28925765},0,"OK",28925765,0,null,0,28925765,null,28925765,null,0,0,{"$f":"VLOOKUP(A7543,'Data Pull totals 5-8'!A:C,3,0)","v":0},28925765,0]
[7537,289617,{"$f":"'Cap Outlay Deprec 27'!D6","v":289617},0,"OK",289617,0,null,0,289617,null,289617,null,0,0,{"$f":"VLOOKUP(A7544,'Data Pull totals 5-8'!A:C,3,0)","v":0},289617,0]
[7538,11295,{"$f":"'Cap Outlay Deprec 27'!E6","v":11295},0,"OK",11295,0,null,0,11295,null,11295,null,0,0,{"$f":"VLOOKUP(A7545,'Data Pull totals 5-8'!A:C,3,0)","v":0},11295,0]
[7539,29204087,{"$f":"'Cap Outlay Deprec 27'!F6","v":29204087},0,"OK",29204087,0,null,0,29204087,null,29204087,null,0,0,{"$f":"VLOOKUP(A7546,'Data Pull totals 5-8'!A:C,3,0)","v":0},29204087,0]
[7540,9374779,{"$f":"'Cap Outlay Deprec 27'!H6","v":9374779},0,"OK",9374779,0,null,0,9374779,null,9374779,null,0,0,{"$f":"VLOOKUP(A7547,'Data Pull totals 5-8'!A:C,3,0)","v":0},9374779,0]
[7541,545442,{"$f":"'Cap Outlay Deprec 27'!I6","v":545442},0,"OK",545442,0,null,0,545442,null,545442,null,0,0,{"$f":"VLOOKUP(A7548,'Data Pull totals 5-8'!A:C,3,0)","v":0},545442,0]
[7542,11295,{"$f":"'Cap Outlay Deprec 27'!J6","v":11295},0,"OK",11295,0,null,0,11295,null,11295,null,0,0,{"$f":"VLOOKUP(A7549,'Data Pull totals 5-8'!A:C,3,0)","v":0},11295,0]
[7543,9908926,{"$f":"'Cap Outlay Deprec 27'!K6","v":9908926},0,"OK",9908926,0,null,0,9908926,null,9908926,null,0,0,{"$f":"VLOOKUP(A7550,'Data Pull totals 5-8'!A:C,3,0)","v":0},9908926,0]
[7544,19295161,{"$f":"'Cap Outlay Deprec 27'!L6","v":19295161},0,"OK",19295161,0,null,0,19295161,null,19295161,null,0,0,{"$f":"VLOOKUP(A7551,'Data Pull totals 5-8'!A:C,3,0)","v":0},19295161,0]
[7545,154248989.25999999,{"$f":"'Cap Outlay Deprec 27'!C9","v":154248989.25999999},0,"OK",154248989.25999999,0,null,0,154248989.25999999,null,154248989.25999999,null,0,0,{"$f":"VLOOKUP(A7552,'Data Pull totals 5-8'!A:C,3,0)","v":0},154248989.25999999,0]
[7546,2441057.44,{"$f":"'Cap Outlay Deprec 27'!D9","v":2441057.44},0,"OK",2441057.44,0,null,0,2441057.44,null,2441057.44,null,0,0,{"$f":"VLOOKUP(A7553,'Data Pull totals 5-8'!A:C,3,0)","v":0},2441057.44,0]
[7547,0,{"$f":"'Cap Outlay Deprec 27'!E9","v":0},0,"OK",0,0,null,0,0,null,0,null,0,0,0,0,0]
[7548,156690046.69999999,{"$f":"'Cap Outlay Deprec 27'!F9","v":156690046.69999999},0,"OK",156690046.69999999,0,null,0,156690046.69999999,null,156690046.69999999,null,0,0,{"$f":"VLOOKUP(A7555,'Data Pull totals 5-8'!A:C,3,0)","v":0},156690046.69999999,0]
[7549,54060313.890000001,{"$f":"'Cap Outlay Deprec 27'!H9","v":54060313.890000001},{"$f":"B7556-C7556","v":0},"OK",54060313.890000001,0,null,0,54060313.890000001,null,54060313.890000001,null,0,0,{"$f":"VLOOKUP(A7556,'Data Pull totals 5-8'!A:C,3,0)","v":0},54060313.890000001,0]
[7550,4377901.55,{"$f":"'Cap Outlay Deprec 27'!I9","v":4377901.55},0,"OK",4377901.55,0,null,0,4377901.55,null,4377901.55,null,0,0,{"$f":"VLOOKUP(A7557,'Data Pull totals 5-8'!A:C,3,0)","v":0},4377901.55,0]
[7551,0,{"$f":"'Cap Outlay Deprec 27'!J9","v":0},0,"OK",0,0,null,0,0,null,0,null,0,0,0,0,0]
[7552,58438215.439999998,{"$f":"'Cap Outlay Deprec 27'!K9","v":58438215.439999998},0,"OK",58438215.439999998,0,null,0,58438215.439999998,null,58438215.439999998,null,0,0,{"$f":"VLOOKUP(A7559,'Data Pull totals 5-8'!A:C,3,0)","v":0},58438215.439999998,0]
[7553,98251831.25999999,{"$f":"'Cap Outlay Deprec 27'!L9","v":98251831.25999999},0,{"$f":"IF((D7560 = 0),\"OK\",IF((D7560<-5),\"CHECK ME!\",IF((D7560>5),\"Check Me!\",\"OK\")))","v":"OK"},98251831.25999999,1.4901161193847656E-8,null,0,98251831.25999999,null,98251831.25999999,null,0,0,{"$f":"VLOOKUP(A7560,'Data Pull totals 5-8'!A:C,3,0)","v":0},98251831.25999999,0]
[7554,46414943.93,{"$f":"'Cap Outlay Deprec 27'!C14","v":46414943.93},0,"OK",46414943.93,0,null,0,46414943.93,null,46414943.93,null,0,0,{"$f":"VLOOKUP(A7561,'Data Pull totals 5-8'!A:C,3,0)","v":0},46414943.93,0]
[7555,5376737.6899999995,{"$f":"'Cap Outlay Deprec 27'!D14","v":5376737.6899999995},0,"OK",5376737.6899999995,9.3132257461547852E-10,null,0,5376737.6899999995,null,5376737.6899999995,null,0,0,{"$f":"VLOOKUP(A7562,'Data Pull totals 5-8'!A:C,3,0)","v":0},5376737.6899999995,0]
[7556,1307469,{"$f":"'Cap Outlay Deprec 27'!E14","v":1307469},0,"OK",1307469,0,null,0,1307469,null,1307469,null,0,0,{"$f":"VLOOKUP(A7563,'Data Pull totals 5-8'!A:C,3,0)","v":0},1307469,0]
[7557,50484212.620000005,{"$f":"'Cap Outlay Deprec 27'!F14","v":50484212.619999997},0,"OK",50484212.620000005,-7.4505805969238281E-9,null,0,50484212.620000005,null,50484212.620000005,null,{"$f":"SUM(J7564-L7564)","v":0},0,{"$f":"VLOOKUP(A7564,'Data Pull totals 5-8'!A:C,3,0)","v":0},50484212.620000005,{"$f":"SUM(L7564+P7564-Q7564)","v":0}]
[7558,40291842.950000003,{"$f":"'Cap Outlay Deprec 27'!H14","v":40291842.950000003},0,"OK",40291842.950000003,0,null,0,40291842.950000003,null,40291842.950000003,null,0,0,{"$f":"VLOOKUP(A7565,'Data Pull totals 5-8'!A:C,3,0)","v":0},40291842.950000003,0]
[7559,3850567,{"$f":"'Cap Outlay Deprec 27'!I14","v":3850567},0,"OK",3850567,0,null,0,3850567,null,3850567,null,0,0,{"$f":"VLOOKUP(A7566,'Data Pull totals 5-8'!A:C,3,0)","v":0},3850567,0]
[7560,1574931,{"$f":"'Cap Outlay Deprec 27'!J14","v":1574931},0,"OK",1574931,0,null,0,1574931,null,1574931,null,0,0,{"$f":"VLOOKUP(A7567,'Data Pull totals 5-8'!A:C,3,0)","v":0},1574931,0]
[7561,42567478.950000003,{"$f":"'Cap Outlay Deprec 27'!K14","v":42567478.950000003},0,"OK",42567478.950000003,0,null,0,42567478.950000003,null,42567478.950000003,null,0,0,{"$f":"VLOOKUP(A7568,'Data Pull totals 5-8'!A:C,3,0)","v":0},42567478.950000003,0]
[7562,7916733.6699999999,{"$f":"'Cap Outlay Deprec 27'!L14","v":7916733.6699999943},0,"OK",7916733.6699999999,0,null,0,7916733.6699999999,null,7916733.6699999999,null,0,0,{"$f":"VLOOKUP(A7569,'Data Pull totals 5-8'!A:C,3,0)","v":0},7916733.6699999999,0]
[7563,135994484,{"$f":"'Cap Outlay Deprec 27'!F17","v":135994484},0,"OK",134348857,0,null,0,134348857,null,134348857,null,0,0,{"$f":"VLOOKUP(A7570,'Data Pull totals 5-8'!A:C,3,0)","v":1645627},135994484,0]
[7564,13599448.399999995,{"$f":"'Cap Outlay Deprec 27'!I17","v":13599448.399999995},0,"OK",13434885.699999996,3.7252902984619141E-9,null,0,13434885.699999996,null,13434885.699999996,null,0,0,{"$f":"VLOOKUP(A7571,'Data Pull totals 5-8'!A:C,3,0)","v":164562.70000000001},13599448.399999995,0]
[7565,0,null,0,"OK",0,0,null,0,0,null,0,null,0,0,0,0,0]
[7566,0,null,0,"OK",0,0,null,0,0,null,0,null,0,0,0,0,0]
[7567,0,null,0,"OK",0,0,null,0,0,null,0,null,0,0,0,0,0]
[7568,0,null,0,"OK",0,0,null,0,0,null,0,null,0,0,0,0,0]
[7569,0,null,0,"OK",0,0,null,0,0,null,0,null,0,0,0,0,0]
[7570,1334579806.3500001,{"$f":"'Cap Outlay Deprec 27'!I18","v":1334579806.3499999},0,"OK",1326814789.6500001,0,null,5122976,1331937765.6500001,null,1331937765.6500001,null,0,0,{"$f":"VLOOKUP(A7577,'Data Pull totals 5-8'!A:C,3,0)","v":2642040.7000000002},1334579806.3500001,0]
[7571,0,null,0,"OK",0,0,null,0,0,null,0,null,0,0,0,0,0]
[7572,0,null,0,"OK",0,0,null,0,0,null,0,null,0,0,0,0,0]
[7573,0,null,0,"OK",0,0,null,0,0,null,0,null,0,0,0,0,0]
[7574,0,"ARRA",null,null,0,0,null,0,0,null,0,null,0,0,0,0,0]
[7575,32723,{"$f":"'Revenues 9-14'!G106","v":32723},0,"OK",32723,0,null,0,32723,null,32723,null,0,0,{"$f":"VLOOKUP(A7582,'Data Pull totals 5-8'!A:C,3,0)","v":0},32723,0]
[7576,1539978,{"$f":"'Revenues 9-14'!H106","v":1539978},0,"OK",1539978,0,null,0,1539978,null,1539978,null,0,0,{"$f":"VLOOKUP(A7583,'Data Pull totals 5-8'!A:C,3,0)","v":0},1539978,0]
[7577,439,{"$f":"'Revenues 9-14'!J106","v":439},0,"OK",439,0,null,0,439,null,439,null,0,0,{"$f":"VLOOKUP(A7584,'Data Pull totals 5-8'!A:C,3,0)","v":0},439,0]
[7578,34902,{"$f":"'Revenues 9-14'!K106","v":34902},0,"OK",34902,0,null,0,34902,null,34902,null,0,0,{"$f":"VLOOKUP(A7585,'Data Pull totals 5-8'!A:C,3,0)","v":0},34902,0]
[7579,0,{"$f":"'ARRA Sched 23'!C33","v":0},0,"OK",0,0,null,0,0,null,0,null,0,0,0,0,0]
[7580,0,{"$f":"'ARRA Sched 23'!D33","v":0},0,"OK",0,0,null,0,0,null,0,null,0,0,0,0,0]
[7581,0,{"$f":"'ARRA Sched 23'!E33","v":0},0,"OK",0,0,null,0,0,null,0,null,0,0,0,0,0]
[7582,0,{"$f":"'ARRA Sched 23'!F33","v":0},0,"OK",0,0,null,0,0,null,0,null,0,0,0,0,0]
[7583,0,{"$f":"'ARRA Sched 23'!G33","v":0},0,"OK",0,0,null,0,0,null,0,null,0,0,0,0,0]
[7584,0,{"$f":"'ARRA Sched 23'!H33","v":0},0,"OK",0,0,null,0,0,null,0,null,0,0,0,0,0]
[7585,0,{"$f":"'ARRA Sched 23'!I33","v":0},0,"OK",0,0,null,0,0,null,0,null,0,0,0,0,0]
[7586,0,{"$f":"'ARRA Sched 23'!J33","v":0},0,"OK",0,0,null,0,0,null,0,null,0,0,0,0,0]
[7587,0,{"$f":"'ARRA Sched 23'!L33","v":0},0,"OK",0,0,null,0,0,null,0,null,0,0,0,0,0]
[7588,0,null,0,"OK",0,0,null,0,0,null,0,null,0,0,0,0,0]
[7589,0,null,0,"OK",0,0,null,0,0,null,0,null,0,0,0,0,0]
[7590,286379,{"$f":"'Acct Summary 7-8'!C55","v":286379},0,"OK",286379,0,null,0,286379,null,286379,null,0,0,{"$f":"VLOOKUP(A7597,'Data Pull totals 5-8'!A:C,3,0)","v":0},286379,0]
[7591,0,{"$f":"'Acct Summary 7-8'!D55","v":0},0,"OK",0,0,null,0,0,null,0,null,0,0,0,0,0]
[7592,0,{"$f":"'Acct Summary 7-8'!H55","v":0},0,"OK",0,0,null,0,0,null,0,null,0,0,0,0,0]
[7593,8911150,{"$f":"'Acct Summary 7-8'!C56","v":8911150},0,"OK",8911150,0,null,0,8911150,null,8911150,null,0,0,{"$f":"VLOOKUP(A7600,'Data Pull totals 5-8'!A:C,3,0)","v":0},8911150,0]
[7594,1784421,{"$f":"'Acct Summary 7-8'!D56","v":1784421},0,"OK",1784421,0,null,0,1784421,null,1784421,null,0,0,{"$f":"VLOOKUP(A7601,'Data Pull totals 5-8'!A:C,3,0)","v":0},1784421,0]
[7595,17000,{"$f":"'Acct Summary 7-8'!H56","v":17000},0,"OK",17000,0,null,0,17000,null,17000,null,0,0,{"$f":"VLOOKUP(A7602,'Data Pull totals 5-8'!A:C,3,0)","v":0},17000,0]
[7596,17136081,{"$f":"'Acct Summary 7-8'!C57","v":17136081},0,"OK",17136081,0,null,0,17136081,null,17136081,null,0,0,{"$f":"VLOOKUP(A7603,'Data Pull totals 5-8'!A:C,3,0)","v":0},17136081,0]
[7597,3531133,{"$f":"'Acct Summary 7-8'!D57","v":3531133},0,"OK",3531133,0,null,0,3531133,null,3531133,null,0,0,{"$f":"VLOOKUP(A7604,'Data Pull totals 5-8'!A:C,3,0)","v":0},3531133,0]
[7598,13830568,{"$f":"'Acct Summary 7-8'!H57","v":13830568},0,"OK",13830568,0,null,0,13830568,null,13830568,null,0,0,{"$f":"VLOOKUP(A7605,'Data Pull totals 5-8'!A:C,3,0)","v":0},13830568,0]
[7599,90923,{"$f":"'Acct Summary 7-8'!C59","v":90923},0,"OK",90923,0,null,0,90923,null,90923,null,0,0,{"$f":"VLOOKUP(A7606,'Data Pull totals 5-8'!A:C,3,0)","v":0},90923,0]
[7600,0,{"$f":"'Acct Summary 7-8'!D59","v":0},0,"OK",0,0,null,0,0,null,0,null,0,0,0,0,0]
[7601,0,{"$f":"'Acct Summary 7-8'!H59","v":0},0,"OK",0,0,null,0,0,null,0,null,0,0,0,0,0]
[7602,353175,{"$f":"'Acct Summary 7-8'!C60","v":353175},0,"OK",353175,0,null,0,353175,null,353175,null,0,0,{"$f":"VLOOKUP(A7609,'Data Pull totals 5-8'!A:C,3,0)","v":0},353175,0]
[7603,48687,{"$f":"'Acct Summary 7-8'!D60","v":48687},0,"OK",48687,0,null,0,48687,null,48687,null,0,0,{"$f":"VLOOKUP(A7610,'Data Pull totals 5-8'!A:C,3,0)","v":0},48687,0]
[7604,0,{"$f":"'Acct Summary 7-8'!H60","v":0},0,"OK",0,0,null,0,0,null,0,null,0,0,0,0,0]
[7605,521244,{"$f":"'Acct Summary 7-8'!C61","v":521244},0,"OK",521244,0,null,0,521244,null,521244,null,0,0,{"$f":"VLOOKUP(A7612,'Data Pull totals 5-8'!A:C,3,0)","v":0},521244,0]
[7606,813112,{"$f":"'Acct Summary 7-8'!D61","v":813112},0,"OK",813112,0,null,0,813112,null,813112,null,0,0,{"$f":"VLOOKUP(A7613,'Data Pull totals 5-8'!A:C,3,0)","v":0},813112,0]
[7607,37052,{"$f":"'Acct Summary 7-8'!H61","v":37052},0,"OK",37052,0,null,0,37052,null,37052,null,0,0,{"$f":"VLOOKUP(A7614,'Data Pull totals 5-8'!A:C,3,0)","v":0},37052,0]
[7608,795000,{"$f":"'Acct Summary 7-8'!C63","v":795000},0,"OK",795000,0,null,0,795000,null,795000,null,0,0,{"$f":"VLOOKUP(A7615,'Data Pull totals 5-8'!A:C,3,0)","v":0},795000,0]
[7609,410400,{"$f":"'Acct Summary 7-8'!D63","v":410400},0,"OK",410400,0,null,0,410400,null,410400,null,0,0,{"$f":"VLOOKUP(A7616,'Data Pull totals 5-8'!A:C,3,0)","v":0},410400,0]
[7610,1664755,{"$f":"'Acct Summary 7-8'!C64","v":1664755},0,"OK",1664755,0,null,0,1664755,null,1664755,null,0,0,{"$f":"VLOOKUP(A7617,'Data Pull totals 5-8'!A:C,3,0)","v":0},1664755,0]
[7611,3075016,{"$f":"'Acct Summary 7-8'!D64","v":3075016},0,"OK",3075016,0,null,0,3075016,null,3075016,null,0,0,{"$f":"VLOOKUP(A7618,'Data Pull totals 5-8'!A:C,3,0)","v":0},3075016,0]
[7612,14103898,{"$f":"'Acct Summary 7-8'!C65","v":14103898},0,"OK",14103898,0,null,0,14103898,null,14103898,null,0,0,{"$f":"VLOOKUP(A7619,'Data Pull totals 5-8'!A:C,3,0)","v":0},14103898,0]
[7613,11765442,{"$f":"'Acct Summary 7-8'!D65","v":11765442},{"$f":"B7620-C7620","v":0},"OK",11765442,0,null,0,11765442,null,11765442,null,0,0,{"$f":"VLOOKUP(A7620,'Data Pull totals 5-8'!A:C,3,0)","v":0},11765442,0]
[7614,903175,{"$f":"'Acct Summary 7-8'!C67","v":903175},0,"OK",903175,0,null,0,903175,null,903175,null,0,0,{"$f":"VLOOKUP(A7621,'Data Pull totals 5-8'!A:C,3,0)","v":0},903175,0]
[7615,0,{"$f":"'Acct Summary 7-8'!D67","v":0},0,"OK",0,0,null,0,0,null,0,null,0,0,0,0,0]
[7616,288908,{"$f":"'Acct Summary 7-8'!C68","v":288908},0,"OK",288908,0,null,0,288908,null,288908,null,0,0,{"$f":"VLOOKUP(A7623,'Data Pull totals 5-8'!A:C,3,0)","v":0},288908,0]
[7617,2148844,{"$f":"'Acct Summary 7-8'!D68","v":2148844},0,{"$f":"IF((D7624 = 0),\"OK\",IF((D7624<-5),\"CHECK ME!\",IF((D7624>5),\"Check Me!\",\"OK\")))","v":"OK"},2148844,0,null,0,2148844,null,2148844,null,0,0,{"$f":"VLOOKUP(A7624,'Data Pull totals 5-8'!A:C,3,0)","v":0},2148844,0]
[7618,2143075,{"$f":"'Acct Summary 7-8'!C69","v":2143075},0,"OK",2143075,0,null,0,2143075,null,2143075,null,0,0,{"$f":"VLOOKUP(A7625,'Data Pull totals 5-8'!A:C,3,0)","v":0},2143075,0]
[7619,4751395,{"$f":"'Acct Summary 7-8'!D69","v":4751395},0,"OK",4751395,0,null,0,4751395,null,4751395,null,0,0,{"$f":"VLOOKUP(A7626,'Data Pull totals 5-8'!A:C,3,0)","v":0},4751395,0]
[7620,40433,{"$f":"'Acct Summary 7-8'!C71","v":40433},0,"OK",40433,0,null,0,40433,null,40433,null,0,0,{"$f":"VLOOKUP(A7627,'Data Pull totals 5-8'!A:C,3,0)","v":0},40433,0]
[7621,40311,{"$f":"'Acct Summary 7-8'!D71","v":40311},0,"OK",40311,0,null,0,40311,null,40311,null,{"$f":"SUM(J7628-L7628)","v":0},0,{"$f":"VLOOKUP(A7628,'Data Pull totals 5-8'!A:C,3,0)","v":0},40311,{"$f":"SUM(L7628+P7628-Q7628)","v":0}]
[7622,175000,{"$f":"'Acct Summary 7-8'!C72","v":175000},0,"OK",175000,0,null,0,175000,null,175000,null,0,0,{"$f":"VLOOKUP(A7629,'Data Pull totals 5-8'!A:C,3,0)","v":0},175000,0]
[7623,36348180,{"$f":"'Acct Summary 7-8'!D72","v":36348180},0,"OK",36348180,0,null,0,36348180,null,36348180,null,0,0,{"$f":"VLOOKUP(A7630,'Data Pull totals 5-8'!A:C,3,0)","v":0},36348180,0]
[7624,64380359,{"$f":"'Acct Summary 7-8'!C73","v":64380359},0,"OK",64380359,0,null,0,64380359,null,64380359,null,0,0,{"$f":"VLOOKUP(A7631,'Data Pull totals 5-8'!A:C,3,0)","v":0},64380359,0]
[7625,249222472,{"$f":"'Acct Summary 7-8'!D73","v":249222472},0,"OK",249222472,0,null,0,249222472,null,249222472,null,0,0,{"$f":"VLOOKUP(A7632,'Data Pull totals 5-8'!A:C,3,0)","v":0},249222472,0]
[7626,4994178,{"$f":"'Revenues 9-14'!C199","v":4994178},0,"OK",4819873,0,null,174305,4994178,null,4994178,null,0,0,{"$f":"VLOOKUP(A7633,'Data Pull totals 5-8'!A:C,3,0)","v":0},4994178,0]
[7627,0,{"$f":"'Expenditures 15-22'!C328","v":0},0,"OK",0,0,null,0,0,null,0,null,0,0,0,0,0]
[7628,0,{"$f":"'Expenditures 15-22'!D328","v":0},0,"OK",0,0,null,0,0,null,0,null,0,0,0,0,0]
[7629,14200740,{"$f":"'Expenditures 15-22'!E328","v":14200740},0,"OK",14200740,0,null,0,14200740,null,14200740,null,0,0,{"$f":"VLOOKUP(A7636,'Data Pull totals 5-8'!A:C,3,0)","v":0},14200740,0]
[7630,95,{"$f":"'Expenditures 15-22'!F328","v":95},0,"OK",95,0,null,0,95,null,95,null,0,0,{"$f":"VLOOKUP(A7637,'Data Pull totals 5-8'!A:C,3,0)","v":0},95,0]
[7631,53706,{"$f":"'Expenditures 15-22'!G328","v":53706},0,"OK",53706,0,null,0,53706,null,53706,null,0,0,{"$f":"VLOOKUP(A7638,'Data Pull totals 5-8'!A:C,3,0)","v":0},53706,0]
[7632,0,{"$f":"'Expenditures 15-22'!H328","v":0},0,"OK",0,0,null,0,0,null,0,null,0,0,0,0,0]
[7633,0,{"$f":"'Expenditures 15-22'!I328","v":0},0,"OK",0,0,null,0,0,null,0,null,0,0,0,0,0]
[7634,0,{"$f":"'Expenditures 15-22'!J328","v":0},0,"OK",0,0,null,0,0,null,0,null,0,0,0,0,0]
[7635,14254541,{"$f":"'Expenditures 15-22'!K328","v":14254541},0,"OK",14254541,0,null,0,14254541,null,14254541,null,0,0,{"$f":"VLOOKUP(A7642,'Data Pull totals 5-8'!A:C,3,0)","v":0},14254541,0]
[7636,22400,{"$f":"'Expenditures 15-22'!C329","v":22400},0,"OK",22400,0,null,0,22400,null,22400,null,0,0,{"$f":"VLOOKUP(A7643,'Data Pull totals 5-8'!A:C,3,0)","v":0},22400,0]
[7637,0,{"$f":"'Expenditures 15-22'!D329","v":0},0,"OK",0,0,null,0,0,null,0,null,0,0,0,0,0]
[7638,1257532,{"$f":"'Expenditures 15-22'!E329","v":1257532},0,"OK",1257532,0,null,0,1257532,null,1257532,null,0,0,{"$f":"VLOOKUP(A7645,'Data Pull totals 5-8'!A:C,3,0)","v":0},1257532,0]
[7639,8257,{"$f":"'Expenditures 15-22'!F329","v":8257},0,"OK",8257,0,null,0,8257,null,8257,null,0,0,{"$f":"VLOOKUP(A7646,'Data Pull totals 5-8'!A:C,3,0)","v":0},8257,0]
[7640,0,{"$f":"'Expenditures 15-22'!G329","v":0},0,"OK",0,0,null,0,0,null,0,null,0,0,0,0,0]
[7641,0,{"$f":"'Expenditures 15-22'!H329","v":0},0,"OK",0,0,null,0,0,null,0,null,0,0,0,0,0]
[7642,0,{"$f":"'Expenditures 15-22'!I329","v":0},0,"OK",0,0,null,0,0,null,0,null,0,0,0,0,0]
[7643,0,{"$f":"'Expenditures 15-22'!J329","v":0},0,"OK",0,0,null,0,0,null,0,null,0,0,0,0,0]
[7644,1288189,{"$f":"'Expenditures 15-22'!K329","v":1288189},0,"OK",1288189,0,null,0,1288189,null,1288189,null,0,0,{"$f":"VLOOKUP(A7651,'Data Pull totals 5-8'!A:C,3,0)","v":0},1288189,0]
[7645,181415,{"$f":"'Revenues 9-14'!H170","v":181415},0,"OK",181415,0,null,0,181415,null,181415,null,0,0,{"$f":"VLOOKUP(A7652,'Data Pull totals 5-8'!A:C,3,0)","v":0},181415,0]
[7646,48069,{"$f":"'Expenditures 15-22'!I64","v":48069},0,"OK",48069,0,null,0,48069,null,48069,null,0,0,{"$f":"VLOOKUP(A7653,'Data Pull totals 5-8'!A:C,3,0)","v":0},48069,0]
[7647,51885609,{"$f":"'Rest Tax Levies-Tort Im 26'!J3","v":51885609},0,"OK",51885609,0,null,0,51885609,null,51885609,null,0,0,{"$f":"VLOOKUP(A7654,'Data Pull totals 5-8'!A:C,3,0)","v":0},51885609,0]
[7648,3517061,{"$f":"'Rest Tax Levies-Tort Im 26'!K3","v":3517061},0,"OK",3517061,0,null,0,3517061,null,3517061,null,0,0,{"$f":"VLOOKUP(A7655,'Data Pull totals 5-8'!A:C,3,0)","v":0},3517061,0]
[7649,2663537.23,{"$f":"'Rest Tax Levies-Tort Im 26'!J6","v":2663537.23},0,"OK",2663537.23,0,null,0,2663537.23,null,2663537.23,null,0,0,{"$f":"VLOOKUP(A7656,'Data Pull totals 5-8'!A:C,3,0)","v":0},2663537.23,0]
[7650,97435.09,{"$f":"'Rest Tax Levies-Tort Im 26'!K6","v":97435.09},0,"OK",97435.09,0,null,0,97435.09,null,97435.09,null,0,0,{"$f":"VLOOKUP(A7657,'Data Pull totals 5-8'!A:C,3,0)","v":0},97435.09,0]
[7651,7328379.46,{"$f":"'Rest Tax Levies-Tort Im 26'!K7","v":7328379.46},0,"OK",7306904.46,0,null,0,7306904.46,null,7306904.46,null,0,0,{"$f":"VLOOKUP(A7658,'Data Pull totals 5-8'!A:C,3,0)","v":21475},7328379.46,0]
[7652,92268617.579999998,{"$f":"'Rest Tax Levies-Tort Im 26'!J8","v":92268617.579999998},0,"OK",92268617.579999998,0,null,0,92268617.579999998,null,92268617.579999998,null,0,0,{"$f":"VLOOKUP(A7659,'Data Pull totals 5-8'!A:C,3,0)","v":0},92268617.579999998,0]
[7653,16513131.93,{"$f":"'Rest Tax Levies-Tort Im 26'!K9","v":16513131.93},0,"OK",16431518.93,0,null,25855,16457373.93,null,16457373.93,null,0,0,{"$f":"VLOOKUP(A7660,'Data Pull totals 5-8'!A:C,3,0)","v":55758},16513131.93,0]
[7654,3103613,{"$f":"'Rest Tax Levies-Tort Im 26'!J10","v":3103613},0,"OK",3103613,0,null,0,3103613,null,3103613,null,0,0,{"$f":"VLOOKUP(A7661,'Data Pull totals 5-8'!A:C,3,0)","v":0},3103613,0]
[7655,419190,{"$f":"'Rest Tax Levies-Tort Im 26'!K10","v":419190},0,"OK",419190,0,null,0,419190,null,419190,null,0,0,{"$f":"VLOOKUP(A7662,'Data Pull totals 5-8'!A:C,3,0)","v":0},419190,0]
[7656,14575787,{"$f":"'Rest Tax Levies-Tort Im 26'!J11","v":14575787},0,"OK",14575787,0,null,0,14575787,null,14575787,null,0,0,{"$f":"VLOOKUP(A7663,'Data Pull totals 5-8'!A:C,3,0)","v":0},14575787,0]
[7657,112611554.81,{"$f":"'Rest Tax Levies-Tort Im 26'!J12","v":112611554.81},0,"OK",112611554.81,0,null,0,112611554.81,null,112611554.81,null,0,0,{"$f":"VLOOKUP(A7664,'Data Pull totals 5-8'!A:C,3,0)","v":0},112611554.81,0]
[7658,24358136.48,{"$f":"'Rest Tax Levies-Tort Im 26'!K12","v":24358136.48},0,"OK",24255048.48,0,null,25855,24280903.48,null,24280903.48,null,0,0,{"$f":"VLOOKUP(A7665,'Data Pull totals 5-8'!A:C,3,0)","v":77233},24358136.48,0]
[7659,453902063.52999997,{"$f":"'Rest Tax Levies-Tort Im 26'!H14","v":453902063.52999997},0,"OK",449655083.52999997,0,null,34186,449689269.52999997,null,449689269.52999997,null,0,0,{"$f":"VLOOKUP(A7666,'Data Pull totals 5-8'!A:C,3,0)","v":4212794},453902063.52999997,0]
[7660,21033894.91,{"$f":"'Rest Tax Levies-Tort Im 26'!K14","v":21033894.91},0,"OK",20930806.91,0,null,25855,20956661.91,null,20956661.91,null,0,0,{"$f":"VLOOKUP(A7667,'Data Pull totals 5-8'!A:C,3,0)","v":77233},21033894.91,0]
[7661,51379545.140000001,{"$f":"'Rest Tax Levies-Tort Im 26'!J15","v":51379545.140000001},0,"OK",51379545.140000001,0,null,0,51379545.140000001,null,51379545.140000001,null,0,0,{"$f":"VLOOKUP(A7668,'Data Pull totals 5-8'!A:C,3,0)","v":0},51379545.140000001,0]
[7662,114416,{"$f":"'Rest Tax Levies-Tort Im 26'!K15","v":114416},0,"OK",114416,0,null,0,114416,null,114416,null,0,0,{"$f":"VLOOKUP(A7669,'Data Pull totals 5-8'!A:C,3,0)","v":0},114416,0]
[7663,17078070.77,{"$f":"'Rest Tax Levies-Tort Im 26'!J18","v":17078070.77},0,"OK",17078070.77,0,null,0,17078070.77,null,17078070.77,null,0,0,{"$f":"VLOOKUP(A7670,'Data Pull totals 5-8'!A:C,3,0)","v":0},17078070.77,0]
[7664,24612084,{"$f":"'Rest Tax Levies-Tort Im 26'!J19","v":24612084},0,"OK",24612084,0,null,0,24612084,null,24612084,null,0,0,{"$f":"VLOOKUP(A7671,'Data Pull totals 5-8'!A:C,3,0)","v":0},24612084,0]
[7665,24085,{"$f":"'Rest Tax Levies-Tort Im 26'!J20","v":24085},0,"OK",24085,0,null,0,24085,null,24085,null,0,0,{"$f":"VLOOKUP(A7672,'Data Pull totals 5-8'!A:C,3,0)","v":0},24085,0]
[7666,41714239.769999996,{"$f":"'Rest Tax Levies-Tort Im 26'!J21","v":41714239.769999996},0,"OK",41714239.769999996,7.4505805969238281E-9,null,0,41714239.769999996,null,41714239.769999996,null,0,0,{"$f":"VLOOKUP(A7673,'Data Pull totals 5-8'!A:C,3,0)","v":0},41714239.769999996,0]
[7667,35306169,{"$f":"'Revenues 9-14'!E103","v":35306169},0,"OK",35306169,0,null,0,35306169,null,35306169,null,0,0,{"$f":"VLOOKUP(A7674,'Data Pull totals 5-8'!A:C,3,0)","v":0},35306169,0]
[7668,431118,{"$f":"'Rest Tax Levies-Tort Im 26'!K22","v":431118},0,"OK",431118,0,null,0,431118,null,431118,null,0,0,{"$f":"VLOOKUP(A7675,'Data Pull totals 5-8'!A:C,3,0)","v":0},431118,0]
[7669,94314060.909999996,{"$f":"'Rest Tax Levies-Tort Im 26'!J23","v":94314060.909999996},0,"OK",94314060.909999996,0,null,0,94314060.909999996,null,94314060.909999996,null,0,0,{"$f":"VLOOKUP(A7676,'Data Pull totals 5-8'!A:C,3,0)","v":0},94314060.909999996,0]
[7670,75023622.49000001,{"$f":"'Revenues 9-14'!H103","v":75023622.49000001},0,"OK",75023622.49000001,-1.4901161193847656E-8,null,0,75023622.49000001,null,75023622.49000001,null,0,0,{"$f":"VLOOKUP(A7677,'Data Pull totals 5-8'!A:C,3,0)","v":0},75023622.49000001,0]
[7671,70183102.900000006,{"$f":"'Rest Tax Levies-Tort Im 26'!J24","v":70183102.900000006},0,"OK",70183102.900000006,0,null,0,70183102.900000006,null,70183102.900000006,null,0,0,{"$f":"VLOOKUP(A7678,'Data Pull totals 5-8'!A:C,3,0)","v":0},70183102.900000006,0]
[7672,6295768.5700000003,{"$f":"'Rest Tax Levies-Tort Im 26'!K24","v":6295768.5700000003},0,"OK",6295768.5700000003,0,null,0,6295768.5700000003,null,6295768.5700000003,null,0,0,{"$f":"VLOOKUP(A7679,'Data Pull totals 5-8'!A:C,3,0)","v":0},6295768.5700000003,0]
[7673,331748,{"$f":"'Rest Tax Levies-Tort Im 26'!G25","v":331748},0,"OK",331748,0,null,0,331748,null,331748,null,0,0,{"$f":"VLOOKUP(A7680,'Data Pull totals 5-8'!A:C,3,0)","v":0},331748,0]
[7674,360408,{"$f":"'Rest Tax Levies-Tort Im 26'!H25","v":360408},0,"OK",360408,0,null,0,360408,null,360408,null,0,0,{"$f":"VLOOKUP(A7681,'Data Pull totals 5-8'!A:C,3,0)","v":0},360408,0]
[7675,0,{"$f":"'Rest Tax Levies-Tort Im 26'!I25","v":0},0,"OK",0,0,null,0,0,null,0,null,0,0,0,0,0]
[7676,27022763,{"$f":"'Rest Tax Levies-Tort Im 26'!J25","v":27022763},0,"OK",27022763,0,null,0,27022763,null,27022763,null,0,0,{"$f":"VLOOKUP(A7683,'Data Pull totals 5-8'!A:C,3,0)","v":0},27022763,0]
[7677,252151,{"$f":"'Rest Tax Levies-Tort Im 26'!K25","v":252151},{"$f":"B7684-C7684","v":0},"OK",252151,0,null,0,252151,null,252151,null,0,0,{"$f":"VLOOKUP(A7684,'Data Pull totals 5-8'!A:C,3,0)","v":0},252151,0]
[7678,460630,{"$f":"'Rest Tax Levies-Tort Im 26'!G26","v":460630},0,"OK",460630,0,null,0,460630,null,460630,null,0,0,{"$f":"VLOOKUP(A7685,'Data Pull totals 5-8'!A:C,3,0)","v":0},460630,0]
[7679,5129537.1000000015,{"$f":"'Rest Tax Levies-Tort Im 26'!H26","v":5129537.1000000238},-2.2351741790771484E-8,"OK",5129537.1000000015,-1.862645149230957E-9,null,0,5129537.1000000015,null,5129537.1000000015,null,0,0,{"$f":"VLOOKUP(A7686,'Data Pull totals 5-8'!A:C,3,0)","v":0},5129537.1000000015,0]
[7680,0,{"$f":"'Rest Tax Levies-Tort Im 26'!I26","v":0},0,"OK",0,0,null,0,0,null,0,null,0,0,0,0,0]
[7681,43160339.900000006,{"$f":"'Rest Tax Levies-Tort Im 26'!J26","v":43160339.900000006},0,{"$f":"IF((D7688 = 0),\"OK\",IF((D7688<-5),\"CHECK ME!\",IF((D7688>5),\"Check Me!\",\"OK\")))","v":"OK"},43160339.900000006,-7.4505805969238281E-9,null,0,43160339.900000006,null,43160339.900000006,null,0,0,{"$f":"VLOOKUP(A7688,'Data Pull totals 5-8'!A:C,3,0)","v":0},43160339.900000006,0]
[7682,6043617.5700000003,{"$f":"'Rest Tax Levies-Tort Im 26'!K26","v":6043617.5700000003},0,"OK",6043617.5700000003,0,null,0,6043617.5700000003,null,6043617.5700000003,null,0,0,{"$f":"VLOOKUP(A7689,'Data Pull totals 5-8'!A:C,3,0)","v":0},6043617.5700000003,0]
[7683,0,null,0,"OK",0,0,null,0,0,null,0,null,0,0,0,0,0]
[7684,561491,{"$f":"'Expenditures 15-22'!H364","v":561491},0,"OK",561491,0,null,0,561491,null,561491,null,0,0,{"$f":"VLOOKUP(A7691,'Data Pull totals 5-8'!A:C,3,0)","v":0},561491,0]
[7685,561491,{"$f":"'Expenditures 15-22'!K364","v":561491},0,"OK",561491,0,null,0,561491,null,561491,null,{"$f":"SUM(J7692-L7692)","v":0},0,{"$f":"VLOOKUP(A7692,'Data Pull totals 5-8'!A:C,3,0)","v":0},561491,{"$f":"SUM(L7692+P7692-Q7692)","v":0}]
[7686,48635868,{"$f":"'Revenues 9-14'!E273","v":48635868},0,"OK",48635868,0,null,0,48635868,null,48635868,null,0,0,{"$f":"VLOOKUP(A7693,'Data Pull totals 5-8'!A:C,3,0)","v":0},48635868,0]
[7687,67070538,{"$f":"'Acct Summary 7-8'!C25","v":67070538},0,"OK",67070538,0,null,0,67070538,null,67070538,null,0,0,{"$f":"VLOOKUP(A7694,'Data Pull totals 5-8'!A:C,3,0)","v":0},67070538,0]
[7688,146451090,{"$f":"'Acct Summary 7-8'!D25","v":146451090},0,"OK",146451090,0,null,0,146451090,null,146451090,null,0,0,{"$f":"VLOOKUP(A7695,'Data Pull totals 5-8'!A:C,3,0)","v":0},146451090,0]
[7689,12249576,{"$f":"'Acct Summary 7-8'!E25","v":12249576},0,"OK",12249576,0,null,0,12249576,null,12249576,null,0,0,{"$f":"VLOOKUP(A7696,'Data Pull totals 5-8'!A:C,3,0)","v":0},12249576,0]
[7690,21978696,{"$f":"'Acct Summary 7-8'!F25","v":21978696},0,"OK",21978696,0,null,0,21978696,null,21978696,null,0,0,{"$f":"VLOOKUP(A7697,'Data Pull totals 5-8'!A:C,3,0)","v":0},21978696,0]
[7691,701289,{"$f":"'Acct Summary 7-8'!G25","v":701289},0,"OK",701289,0,null,0,701289,null,701289,null,0,0,{"$f":"VLOOKUP(A7698,'Data Pull totals 5-8'!A:C,3,0)","v":0},701289,0]
[7692,72653795,{"$f":"'Acct Summary 7-8'!H25","v":72653795},0,"OK",72653795,0,null,0,72653795,null,72653795,null,0,0,{"$f":"VLOOKUP(A7699,'Data Pull totals 5-8'!A:C,3,0)","v":0},72653795,0]
[7693,866900,{"$f":"'Acct Summary 7-8'!J25","v":866900},0,"OK",866900,0,null,0,866900,null,866900,null,0,0,{"$f":"VLOOKUP(A7700,'Data Pull totals 5-8'!A:C,3,0)","v":0},866900,0]
[7694,6995555,{"$f":"'Acct Summary 7-8'!K25","v":6995555},0,"OK",6995555,0,null,0,6995555,null,6995555,null,0,0,{"$f":"VLOOKUP(A7701,'Data Pull totals 5-8'!A:C,3,0)","v":0},6995555,0]
[7695,14028967.1,null,14028967.1,"Audit Quest",14028967.1,0,null,0,14028967.1,null,14028967.1,null,0,0,{"$f":"VLOOKUP(A7702,'Data Pull totals 5-8'!A:C,3,0)","v":0},14028967.1,0]
[7696,0,null,0,"Audit Quest",0,0,null,0,0,null,0,null,0,0,0,0,0]
[7697,87060037.129999995,null,87060037.129999995,"Audit Quest",86068243.129999995,0,null,991794,87060037.129999995,null,87060037.129999995,null,0,0,{"$f":"VLOOKUP(A7704,'Data Pull totals 5-8'!A:C,3,0)","v":0},87060037.129999995,0]
[7698,56649120.009999998,null,56649120.009999998,"Audit Quest",55532953.009999998,0,null,0,55532953.009999998,null,55532953.009999998,null,0,0,{"$f":"VLOOKUP(A7705,'Data Pull totals 5-8'!A:C,3,0)","v":1116167},56649120.009999998,0]
[7699,143709157.13999999,null,143709157.13999999,"Audit Quest",141601196.13999999,0,null,991794,142592990.13999999,null,142592990.13999999,null,0,0,{"$f":"VLOOKUP(A7706,'Data Pull totals 5-8'!A:C,3,0)","v":1116167},143709157.13999999,0]
[7700,54797,{"$f":"'Revenues 9-14'!C260","v":54797},0,"OK",54797,0,null,0,54797,null,54797,null,0,0,{"$f":"VLOOKUP(A7707,'Data Pull totals 5-8'!A:C,3,0)","v":0},54797,0]
[7701,704161333,{"$f":"'Expenditures 15-22'!E6","v":704161333},0,"OK",702733145,0,null,1428188,704161333,null,704161333,null,0,0,{"$f":"VLOOKUP(A7708,'Data Pull totals 5-8'!A:C,3,0)","v":0},704161333,0]
[7702,704161333,{"$f":"'Expenditures 15-22'!K6","v":704161333},0,"OK",702733145,0,null,1428188,704161333,null,704161333,null,0,0,{"$f":"VLOOKUP(A7709,'Data Pull totals 5-8'!A:C,3,0)","v":0},704161333,0]
[7703,0,{"$f":"'Revenues 9-14'!F58","v":0},0,"OK",0,0,null,0,0,null,0,null,0,0,0,0,0]
[7704,11601939,{"$f":"'Revenues 9-14'!C261","v":11601939},0,"OK",11601939,0,null,0,11601939,null,11601939,null,0,0,{"$f":"VLOOKUP(A7711,'Data Pull totals 5-8'!A:C,3,0)","v":0},11601939,0]
[7705,0,{"$f":"'Revenues 9-14'!D261","v":0},0,"OK",0,0,null,0,0,null,0,null,0,0,0,0,0]
[7706,0,{"$f":"'Revenues 9-14'!E261","v":0},0,"OK",0,0,null,0,0,null,0,null,0,0,0,0,0]
[7707,198119,{"$f":"'Revenues 9-14'!F261","v":198119},0,"OK",198119,0,null,0,198119,null,198119,null,0,0,{"$f":"VLOOKUP(A7714,'Data Pull totals 5-8'!A:C,3,0)","v":0},198119,0]
[7708,27406,{"$f":"'Revenues 9-14'!G261","v":27406},0,"OK",27406,0,null,0,27406,null,27406,null,0,0,{"$f":"VLOOKUP(A7715,'Data Pull totals 5-8'!A:C,3,0)","v":0},27406,0]
[7709,0,{"$f":"'Revenues 9-14'!H261","v":0},0,"OK",0,0,null,0,0,null,0,null,0,0,0,0,0]
[7710,0,{"$f":"'Revenues 9-14'!J261","v":0},0,"OK",0,0,null,0,0,null,0,null,0,0,0,0,0]
[7711,0,{"$f":"'Revenues 9-14'!K261","v":0},0,"OK",0,0,null,0,0,null,0,null,0,0,0,0,0]
[7712,1220276,{"$f":"'Rest Tax Levies-Tort Im 26'!J22","v":1220276},0,"OK",1220276,0,null,0,1220276,null,1220276,null,0,0,{"$f":"VLOOKUP(A7719,'Data Pull totals 5-8'!A:C,3,0)","v":0},1220276,0]
[7713,390000,{"$f":"'Expenditures 15-22'!E133","v":390000},0,"OK",390000,0,null,0,390000,null,390000,null,0,0,{"$f":"VLOOKUP(A7720,'Data Pull totals 5-8'!A:C,3,0)","v":0},390000,0]
[7714,153556,{"$f":"'Expenditures 15-22'!H133","v":153556},0,"OK",153556,0,null,0,153556,null,153556,null,0,0,{"$f":"VLOOKUP(A7721,'Data Pull totals 5-8'!A:C,3,0)","v":0},153556,0]
[7715,543556,{"$f":"'Expenditures 15-22'!K133","v":543556},0,"OK",543556,0,null,0,543556,null,543556,null,0,0,{"$f":"VLOOKUP(A7722,'Data Pull totals 5-8'!A:C,3,0)","v":0},543556,0]
[7716,6559,{"$f":"'Expenditures 15-22'!H157","v":6559},0,"OK",6559,0,null,0,6559,null,6559,null,0,0,{"$f":"VLOOKUP(A7723,'Data Pull totals 5-8'!A:C,3,0)","v":0},6559,0]
[7717,6559,{"$f":"'Expenditures 15-22'!K157","v":6559},0,"OK",6559,0,null,0,6559,null,6559,null,0,0,{"$f":"VLOOKUP(A7724,'Data Pull totals 5-8'!A:C,3,0)","v":0},6559,0]
[7718,95572,{"$f":"'Expenditures 15-22'!H158","v":95572},0,"OK",95572,0,null,0,95572,null,95572,null,0,0,{"$f":"VLOOKUP(A7725,'Data Pull totals 5-8'!A:C,3,0)","v":0},95572,0]
[7719,95572,{"$f":"'Expenditures 15-22'!K158","v":95572},0,"OK",95572,0,null,0,95572,null,95572,null,0,0,{"$f":"VLOOKUP(A7726,'Data Pull totals 5-8'!A:C,3,0)","v":0},95572,0]
[7720,37852,{"$f":"'Expenditures 15-22'!H159","v":37852},0,"OK",37852,0,null,0,37852,null,37852,null,0,0,{"$f":"VLOOKUP(A7727,'Data Pull totals 5-8'!A:C,3,0)","v":0},37852,0]
[7721,37852,{"$f":"'Expenditures 15-22'!K159","v":37852},0,"OK",37852,0,null,0,37852,null,37852,null,0,0,{"$f":"VLOOKUP(A7728,'Data Pull totals 5-8'!A:C,3,0)","v":0},37852,0]
[7722,719170,{"$f":"'Expenditures 15-22'!D282","v":719170},0,"OK",719170,0,null,0,719170,null,719170,null,0,0,{"$f":"VLOOKUP(A7729,'Data Pull totals 5-8'!A:C,3,0)","v":0},719170,0]
[7723,719170,{"$f":"'Expenditures 15-22'!K282","v":719170},0,"OK",719170,0,null,0,719170,null,719170,null,0,0,{"$f":"VLOOKUP(A7730,'Data Pull totals 5-8'!A:C,3,0)","v":0},719170,0]
[7724,203421,{"$f":"'Expenditures 15-22'!H332","v":203421},0,"OK",203421,0,null,0,203421,null,203421,null,0,0,{"$f":"VLOOKUP(A7731,'Data Pull totals 5-8'!A:C,3,0)","v":0},203421,0]
[7725,203421,{"$f":"'Expenditures 15-22'!K332","v":203421},0,"OK",203421,0,null,0,203421,null,203421,null,0,0,{"$f":"VLOOKUP(A7732,'Data Pull totals 5-8'!A:C,3,0)","v":0},203421,0]
[7726,294415,{"$f":"'Expenditures 15-22'!H333","v":294415},0,"OK",294415,0,null,0,294415,null,294415,null,0,0,{"$f":"VLOOKUP(A7733,'Data Pull totals 5-8'!A:C,3,0)","v":0},294415,0]
[7727,294415,{"$f":"'Expenditures 15-22'!K333","v":294415},0,"OK",294415,0,null,0,294415,null,294415,null,0,0,{"$f":"VLOOKUP(A7734,'Data Pull totals 5-8'!A:C,3,0)","v":0},294415,0]
[7728,497836,{"$f":"'Expenditures 15-22'!H334","v":497836},0,"OK",497836,0,null,0,497836,null,497836,null,0,0,{"$f":"VLOOKUP(A7735,'Data Pull totals 5-8'!A:C,3,0)","v":0},497836,0]
[7729,497836,{"$f":"'Expenditures 15-22'!K334","v":497836},0,"OK",497836,0,null,0,497836,null,497836,null,0,0,{"$f":"VLOOKUP(A7736,'Data Pull totals 5-8'!A:C,3,0)","v":0},497836,0]
[7730,0,{"$f":"'Expenditures 15-22'!H354","v":0},0,"OK",0,0,null,0,0,null,0,null,0,0,0,0,0]
[7731,0,{"$f":"'Expenditures 15-22'!K354","v":0},0,"OK",0,0,null,0,0,null,0,null,0,0,0,0,0]
[7732,0,{"$f":"'Expenditures 15-22'!H355","v":0},0,"OK",0,0,null,0,0,null,0,null,0,0,0,0,0]
[7733,0,{"$f":"'Expenditures 15-22'!K355","v":0},0,"OK",0,0,null,0,0,null,0,null,0,0,0,0,0]
[7734,0,{"$f":"'Expenditures 15-22'!E138","v":0},0,"OK",0,0,null,0,0,null,0,null,0,0,0,0,0]
[7735,497836,{"$f":"'Expenditures 15-22'!K334","v":497836},0,"OK",497836,0,null,0,497836,null,497836,null,0,0,{"$f":"VLOOKUP(A7742,'Data Pull totals 5-8'!A:C,3,0)","v":0},497836,0]

{"sheet":"Crete Monee Totals 5-8","index":16,"n_rows":868,"n_cols":2,"rows_kept":868,"cut":false,"hidden":true,"merged":[]}
["txtFieldNum","56099201U26"]
[4,14334347]
[16,30629001]
[25,1730566]
[27,14116446]
[30,19605234]
[31,10953856]
[32,30629001]
[36,2132081]
[47,7695]
[48,6490423]
[58,2116742]
[61,2412088]
[62,4078335]
[63,6490423]
[65,5919005]
[70,10344951]
[73,5876423]
[78,5876423]
[79,4468528]
[80,10344951]
[84,1952358]
[96,10904127]
[103,287]
[105,1938312]
[108,2072761]
[109,8831366]
[110,10904127]
[112,949264]
[119,2459258]
[123,164204]
[124,942434]
[127,1106685]
[128,1352573]
[129,2459258]
[142,3513685]
[150,1090022]
[151,2423663]
[152,3513685]
[212,2491235]
[213,116080449]
[215,3274556]
[218,121846240]
[219,121846240]
[220,121846240]
[221,4468528]
[222,88543477]
[223,93012005]
[224,93012005]
[226,93012005]
[227,93012005]
[644,15639539]
[656,14262]
[657,1217562]
[658,72722]
[659,24516748]
[660,716700]
[661,545674]
[662,407918]
[663,552677]
[664,925333]
[665,122631]
[666,3270933]
[667,536529]
[668,166571]
[670,703100]
[672,422769]
[673,422769]
[674,2283482]
[675,975580]
[676,3259062]
[677,210941]
[678,356891]
[679,454017]
[681,783586]
[684,1805435]
[686,125637]
[687,279819]
[688,450916]
[690,645901]
[692,1502273]
[693,18334]
[694,10981906]
[695,34607]
[696,35533261]
[702,1836213]
[715,15165]
[716,1383]
[717,4137422]
[718,99797]
[719,85298]
[720,76979]
[721,33060]
[722,95944]
[723,8178]
[724,399256]
[725,72814]
[726,36656]
[728,109470]
[729,10087]
[730,59684]
[731,211742]
[732,596206]
[733,271224]
[734,867430]
[735,46656]
[736,39231]
[737,120654]
[739,161667]
[742,368208]
[744,20875]
[745,41714]
[746,71989]
[748,103882]
[750,238460]
[752,2194566]
[753,628]
[754,6332616]
[760,53466]
[767,1260]
[773,139303]
[775,971343]
[777,2926]
[778,2538]
[779,1113]
[780,178]
[782,6755]
[783,291050]
[784,14090]
[785,116748]
[786,421888]
[787,412094]
[788,4873]
[789,1105122]
[790,4180]
[791,300]
[792,4480]
[793,56480]
[794,12739]
[795,129880]
[797,6817]
[800,205916]
[803,42327]
[804,117631]
[806,1477224]
[808,1637182]
[810,3381343]
[811,263488]
[812,4616174]
[818,734213]
[825,2557]
[831,107889]
[832,215]
[833,1599137]
[834,26645]
[835,11465]
[836,4043]
[837,20500]
[840,62653]
[841,21204]
[842,8711]
[843,44930]
[844,74845]
[845,23077]
[846,4025]
[847,27102]
[848,32975]
[849,4855]
[850,37830]
[851,43726]
[852,11098]
[853,114]
[855,1003597]
[858,1058535]
[861,23291]
[862,92459]
[864,476423]
[866,592173]
[867,331]
[868,1853469]
[869,51681]
[870,3504287]
[876,43455]
[889,20260]
[891,79768]
[912,62053]
[916,62053]
[922,10747]
[924,10747]
[926,72800]
[928,152568]
[934,4414]
[947,37763]
[949,2535379]
[957,2741]
[960,2741]
[961,19941]
[962,-4506]
[963,15435]
[964,4206]
[966,4206]
[967,370]
[971,3533]
[974,3903]
[977,790]
[978,3846]
[980,556]
[982,5192]
[984,31477]
[985,1081]
[986,1180976]
[993,3748952]
[1032,18336539]
[1039,3817]
[1044,14262]
[1045,1539513]
[1046,74320]
[1047,33949825]
[1048,843142]
[1049,645363]
[1050,530322]
[1051,607350]
[1052,1021455]
[1053,130809]
[1054,3778441]
[1055,924338]
[1056,226028]
[1057,161678]
[1058,1312044]
[1059,465199]
[1060,486845]
[1061,1782170]
[1062,2921870]
[1063,1251959]
[1064,4173829]
[1065,655009]
[1066,422612]
[1067,704665]
[1068,62053]
[1069,1989935]
[1072,3834274]
[1074,146512]
[1075,387941]
[1076,738654]
[1078,3876962]
[1080,5150069]
[1081,18665]
[1082,20049492]
[1083,353255]
[1084,1180976]
[1091,55533587]
[1092,-3388167]
[1160,1716883]
[1162,1716883]
[1164,1716883]
[1165,1716883]
[1168,373015]
[1170,373015]
[1172,373015]
[1173,373015]
[1176,882789]
[1178,882789]
[1180,882789]
[1181,882789]
[1184,1149873]
[1186,1149873]
[1188,1149873]
[1189,1149873]
[1192,150313]
[1195,150313]
[1197,150313]
[1198,150313]
[1201,2117]
[1203,2117]
[1205,2117]
[1212,2117]
[1215,4302232]
[1218,4302232]
[1220,4302232]
[1227,4302232]
[1228,4942]
[1246,725]
[1247,725]
[1248,725]
[1251,1200978]
[1254,10491392]
[1256,11692370]
[1257,11692370]
[1265,1200978]
[1268,10491392]
[1269,725]
[1270,11693095]
[1271,11693095]
[1272,28738]
[1274,333807]
[1278,333807]
[1279,333807]
[1280,26214]
[1284,26214]
[1285,26214]
[1286,5860429]
[1290,5860429]
[1292,5860429]
[1316,6220450]
[1320,6220450]
[1327,6220450]
[1328,1739001]
[1346,1188]
[1347,42200]
[1348,4150]
[1349,736524]
[1350,18906]
[1351,16682]
[1352,66111]
[1353,6170]
[1354,12829]
[1355,15870]
[1356,136568]
[1357,34000]
[1358,19007]
[1360,53007]
[1362,18175]
[1363,18175]
[1364,134318]
[1365,14019]
[1366,148337]
[1367,11297]
[1368,58582]
[1370,345253]
[1371,17280]
[1372,128888]
[1375,561300]
[1377,1818]
[1378,42756]
[1379,50002]
[1381,106010]
[1383,200586]
[1384,2971]
[1385,1120944]
[1386,834]
[1387,1858302]
[1410,1188]
[1411,42200]
[1412,4150]
[1413,736524]
[1414,18906]
[1415,16682]
[1416,66111]
[1417,6170]
[1418,12829]
[1419,15870]
[1420,136568]
[1421,34000]
[1422,19007]
[1424,53007]
[1426,18175]
[1427,18175]
[1428,134318]
[1429,14019]
[1430,148337]
[1431,11297]
[1432,58582]
[1434,345253]
[1435,17280]
[1436,128888]
[1439,561300]
[1441,1818]
[1442,42756]
[1443,50002]
[1445,106010]
[1447,200586]
[1448,2971]
[1449,1120944]
[1450,834]
[1456,1858302]
[1457,94299]
[1470,233026]
[1474,233026]
[1475,233026]
[1482,186945]
[1486,186945]
[1487,186945]
[1494,419971]
[1498,419971]
[1499,419971]
[1500,-392962]
[1556,14507510]
[1569,11023767]
[1570,4073393]
[1583,4078335]
[1584,4344214]
[1597,4468528]
[1598,7092365]
[1611,8831366]
[1612,1204907]
[1625,1352573]
[1626,2816625]
[1639,2423663]
[1683,23208768]
[1684,4222290]
[1685,11660935]
[1686,4007220]
[1687,940697]
[1688,222312]
[1692,4573]
[1693,4212794]
[1698,49420285]
[1699,11079700]
[1700,2077688]
[1701,5707168]
[1702,2043397]
[1703,463278]
[1704,138473]
[1708,1371]
[1709,2078090]
[1714,24052442]
[1715,12129068]
[1716,2144602]
[1717,5953767]
[1718,1963823]
[1719,477419]
[1720,83839]
[1724,3202]
[1725,2134704]
[1730,25367843]
[1731,12302568]
[1732,2175279]
[1733,6038932]
[1734,1991915]
[1735,484249]
[1736,85039]
[1740,3248]
[1741,2165240]
[1746,25730719]
[1747,24431636]
[1748,4319881]
[1749,11992699]
[1750,3955738]
[1751,961668]
[1752,168878]
[1756,6450]
[1757,4299944]
[1762,51098562]
[1878,98664289]
[1912,4212794]
[1916,4212794]
[1921,4212794]
[1947,2491235]
[1948,111393707]
[1949,4123638]
[1951,3014850]
[1952,121023430]
[1954,489424]
[1955,73680]
[1957,259706]
[1958,822810]
[1965,2491235]
[1966,111883131]
[1967,4197318]
[1969,3274556]
[1970,121846240]
[1972,30826307]
[1973,2907054]
[1975,2520565]
[1976,36253926]
[1978,2178438]
[1979,135973]
[1981,163067]
[1982,2477478]
[1990,33004745]
[1991,3043027]
[1993,2683632]
[1994,38731404]
[1995,2491235]
[1996,78878386]
[1997,1154291]
[1999,590924]
[2000,83114836]
[2028,1180976]
[2374,69911]
[2490,30044125]
[2492,17440730]
[2493,4660565]
[2494,52145420]
[2495,33949825]
[2496,20049492]
[2497,353255]
[2498,1180976]
[2499,39]
[2500,55533587]
[2501,-3388167]
[2503,4307174]
[2507,4307174]
[2508,4302232]
[2512,4302232]
[2513,4942]
[2530,4102404]
[2532,3857047]
[2534,7959451]
[2535,6220450]
[2539,6220450]
[2540,1739001]
[2542,1952601]
[2545,1952601]
[2546,736524]
[2547,1120944]
[2548,834]
[2551,1858302]
[2552,94299]
[2553,53367]
[2569,11721833]
[2571,11721833]
[2573,11693095]
[2574,11693095]
[2575,28738]
[2594,27009]
[2597,27009]
[2598,419971]
[2600,419971]
[2601,-392962]
[2819,83350]
[2827,1308756]
[2834,302818]
[2847,82750]
[2849,82750]
[2851,1226006]
[2852,1308756]
[2853,302818]
[2855,302818]
[2856,302818]
[2994,94750]
[2995,22529]
[2996,148580]
[2997,683673]
[3001,1017838]
[3003,1384]
[3004,1384]
[3164,236522]
[3165,236522]
[3166,236522]
[3170,95576]
[3171,-95576]
[3172,-3483743]
[3178,4942]
[3195,1739001]
[3201,94299]
[3212,95576]
[3213,95576]
[3216,95576]
[3217,124314]
[3239,-392962]
[3259,236522]
[3260,989484]
[3262,1226006]
[3305,6481433]
[3306,307553]
[3307,2087160]
[3308,62880]
[3309,584787]
[3311,36028]
[3315,45843]
[3319,9250092]
[3320,370433]
[3326,240448]
[3327,402959]
[3328,13496]
[3329,240448]
[3330,402959]
[3331,13496]
[3350,15466754]
[3353,4350647]
[3356,4425946]
[3358,7968996]
[3361,1509994]
[3364,3513685]
[3366,1225406]
[3374,302818]
[3385,940696]
[3386,463277]
[3387,477419]
[3388,484249]
[3389,961668]
[3485,19701]
[3487,3183]
[3491,22884]
[3501,3160]
[3504,3160]
[3506,19724]
[3507,22884]
[3508,6515]
[3510,6515]
[3515,6515]
[3527,6515]
[3528,13209]
[3530,19724]
[3620,6515]
[3669,1003597]
[4052,22642632]
[4061,74788052]
[4062,4307174]
[4063,11721833]
[4064,7959451]
[4065,1952601]
[4066,27009]
[4067,236522]
[4069,6515]
[4070,22642632]
[4075,78176219]
[4076,4302232]
[4077,11693095]
[4078,6220450]
[4079,1858302]
[4080,419971]
[4110,93012005]
[4111,88543477]
[4112,10491392]
[4116,4839108]
[4204,4166.5]
[4205,736.7]
[4206,674.6]
[4207,5578]
[4208,25159474]
[4270,9405]
[4283,26700]
[4297,172030]
[4301,332648]
[4354,11000]
[4357,97149]
[4376,28.8]
[4731,3013]
[4934,586382720]
[4935,80920815.359999999]
[4936,93012005]
[5000,23208768]
[5002,4212794]
[5005,27421562]
[5006,36741]
[5008,852974]
[5010,889715]
[5014,3952]
[5026,3952]
[5027,134493]
[5029,134493]
[5034,16690]
[5035,491252]
[5036,17175]
[5038,43196]
[5040,784]
[5041,61155]
[5042,310149]
[5045,3185]
[5049,8414]
[5051,321748]
[5055,689283]
[5058,9490]
[5059,720248]
[5060,30044125]
[5065,15597626]
[5071,15597626]
[5072,543788]
[5076,734359]
[5078,17746]
[5086,1295893]
[5091,48137]
[5100,48137]
[5102,18364]
[5104,18364]
[5106,21462]
[5107,55758]
[5135,400477]
[5153,1843104]
[5162,17440730]
[5178,1487305]
[5180,434363]
[5185,1931073]
[5186,1207577]
[5199,1207577]
[5213,42508]
[5217,811164]
[5218,28716]
[5225,882388]
[5243,26700]
[5259,4660565]
[5265,4660565]
[5266,52145420]
[5267,4222290]
[5273,4222290]
[5274,5804]
[5278,5804]
[5279,20689]
[5281,20689]
[5288,24670]
[5293,33721]
[5294,58391]
[5295,4307174]
[5447,4307174]
[5448,11660935]
[5452,11660935]
[5453,15942]
[5457,15942]
[5458,44956]
[5460,44956]
[5466,11721833]
[5491,11721833]
[5492,4007220]
[5496,4007220]
[5497,5710]
[5501,5710]
[5502,271]
[5503,7971]
[5518,8242]
[5519,81232]
[5521,81232]
[5527,4102404]
[5554,1867072]
[5556,1989975]
[5557,3857047]
[5583,3857047]
[5592,3857047]
[5659,7959451]
[5660,940697]
[5662,940696]
[5664,1881393]
[5665,1294]
[5667,50000]
[5669,51294]
[5670,19914]
[5672,19914]
[5809,1952601]
[5818,4045]
[5820,4045]
[5825,22964]
[5854,27009]
[5855,222312]
[5857,222312]
[5858,7]
[5862,7]
[5863,14203]
[5865,14203]
[5885,236522]
[5924,4573]
[5926,4573]
[5927,1683]
[5931,1683]
[5932,259]
[5934,259]
[5962,6515]
[5963,1952601]
[5964,27009]
[5965,236522]
[5967,6515]
[5970,474562]
[5974,219161]
[6013,4351.46]
[6029,757989]
[6032,982773]
[6052,69911]
[6081,1143507]
[6082,291145]
[6084,134154]
[6085,47]
[6086,1090022]
[6108,2614715]
[6109,4201]
[6111,8]
[6191,95576]
[6206,-3483743]
[6207,4942]
[6208,124314]
[6209,1739001]
[6210,147666]
[6211,-392962]
[6212,236522]
[6214,6515]
[6215,-0.31602110240537601]
[6216,1.21176901848426E-3]
[6217,2.7819899528435301E-2]
[6218,0.19691189335828699]
[6219,0.109174144389989]
[6220,-0.1621355774297]
[6221,0.192920752426987]
[6222,-2146826281]
[6223,0.33030825390387297]
[6264,22964]
[6278,21475]
[6666,102466]
[6783,13160]
[6784,12079]
[6787,119212]
[6788,14841]
[6790,71]
[6792,621225]
[6793,68306]
[6803,1571]
[6810,155215]
[6819,2447359]
[6820,2447359]
[6841,96378]
[6842,13650]
[6847,38844]
[6855,38844]
[6872,141971]
[6873,688155]
[6879,830126]
[6884,821]
[6888,821]
[6889,296836]
[6892,2653]
[6897,30735]
[6900,327571]
[6901,2653]
[6909,1813]
[6910,1155489]
[6911,6740]
[6912,1155489]
[6913,8553]
[6916,1521904]
[6917,12027]
[6918,1770]
[6922,787560]
[6923,787560]
[6926,157500]
[6927,157500]
[6928,235916]
[6929,235916]
[6934,1180976]
[6955,39]
[6956,39]
[6957,39]
[6958,39]
[6959,1620052]
[6960,25677]
[6967,25575]
[6968,1667]
[6972,25575]
[6973,1667]
[6976,25575]
[6977,1667]
[6990,25575]
[6991,1667]
[7012,1419]
[7013,1419]
[7014,27567]
[7015,27567]
[7018,1713]
[7019,1713]
[7185,15775]
[7186,67]
[7187,904]
[7190,459843]
[7191,89035]
[7192,41468]
[7193,30808]
[7202,126618]
[7203,7282]
[7204,2412]
[7205,2850]
[7206,16053]
[7563,1645627]
[7564,164562.70000000001]
[7570,2642040.7000000002]
[7651,21475]
[7653,55758]
[7658,77233]
[7659,4212794]
[7660,77233]
[7698,1116167]
[7699,1116167]

{"sheet":"Data Pull totals 5-8","index":17,"n_rows":2407,"n_cols":6,"rows_kept":2407,"cut":false,"hidden":true,"merged":[]}
["txtFieldNum","2018","Crete Monee","5-7 data w/o Crete","5/7 data","variance"]
[4,4463715231,{"$f":"VLOOKUP(A2,'Crete Monee Totals 5-8'!A:B,2,0)","v":14334347},{"$f":"SUM(B2-C2)","v":4449380884},{"$f":"VLOOKUP(A2,'AFR18'!A:L,12,0)","v":4449380884},{"$f":"SUM(D2-E2)","v":0}]
[11,10965222,0,{"$f":"SUM(B3-C3)","v":10965222},{"$f":"VLOOKUP(A3,'AFR18'!A:L,12,0)","v":10965222},{"$f":"SUM(D3-E3)","v":0}]
[12,2085627941,0,2085627941,{"$f":"VLOOKUP(A4,'AFR18'!A:L,12,0)","v":2085627941},0]
[15,8487467,0,8487467,{"$f":"VLOOKUP(A5,'AFR18'!A:L,12,0)","v":8487467},0]
[16,13634952265.32,{"$f":"VLOOKUP(A6,'Crete Monee Totals 5-8'!A:B,2,0)","v":30629001},13604323264.32,{"$f":"VLOOKUP(A6,'AFR18'!A:L,12,0)","v":13604323264.32},0]
[25,114934456,{"$f":"VLOOKUP(A7,'Crete Monee Totals 5-8'!A:B,2,0)","v":1730566},113203890,{"$f":"VLOOKUP(A7,'AFR18'!A:L,12,0)","v":113203890},0]
[27,4530643413,{"$f":"VLOOKUP(A8,'Crete Monee Totals 5-8'!A:B,2,0)","v":14116446},4516526967,{"$f":"VLOOKUP(A8,'AFR18'!A:L,12,0)","v":4516526967},0]
[30,6123509399,{"$f":"VLOOKUP(A9,'Crete Monee Totals 5-8'!A:B,2,0)","v":19605234},6103904165,{"$f":"VLOOKUP(A9,'AFR18'!A:L,12,0)","v":6103904165},0]
[31,7266244447.5900002,{"$f":"VLOOKUP(A10,'Crete Monee Totals 5-8'!A:B,2,0)","v":10953856},7255290591.5900002,{"$f":"VLOOKUP(A10,'AFR18'!A:L,12,0)","v":7255290591.5900002},0]
[32,13634952265.589998,{"$f":"VLOOKUP(A11,'Crete Monee Totals 5-8'!A:B,2,0)","v":30629001},13604323264.589998,{"$f":"VLOOKUP(A11,'AFR18'!A:L,12,0)","v":13604323264.589998},0]
[36,451223371,{"$f":"VLOOKUP(A12,'Crete Monee Totals 5-8'!A:B,2,0)","v":2132081},449091290,{"$f":"VLOOKUP(A12,'AFR18'!A:L,12,0)","v":449091290},0]
[43,98822,0,98822,{"$f":"VLOOKUP(A13,'AFR18'!A:L,12,0)","v":98822},0]
[44,352727831,0,352727831,{"$f":"VLOOKUP(A14,'AFR18'!A:L,12,0)","v":352727831},0]
[47,817216,{"$f":"VLOOKUP(A15,'Crete Monee Totals 5-8'!A:B,2,0)","v":7695},809521,{"$f":"VLOOKUP(A15,'AFR18'!A:L,12,0)","v":809521},0]
[48,2010879848.2,{"$f":"VLOOKUP(A16,'Crete Monee Totals 5-8'!A:B,2,0)","v":6490423},2004389425.2,{"$f":"VLOOKUP(A16,'AFR18'!A:L,12,0)","v":2004389425.2},0]
[56,109272,0,109272,{"$f":"VLOOKUP(A17,'AFR18'!A:L,12,0)","v":109272},0]
[58,535113520,{"$f":"VLOOKUP(A18,'Crete Monee Totals 5-8'!A:B,2,0)","v":2116742},532996778,{"$f":"VLOOKUP(A18,'AFR18'!A:L,12,0)","v":532996778},0]
[61,647818486,{"$f":"VLOOKUP(A19,'Crete Monee Totals 5-8'!A:B,2,0)","v":2412088},645406398,{"$f":"VLOOKUP(A19,'AFR18'!A:L,12,0)","v":645406398},0]
[62,1157229642.95,{"$f":"VLOOKUP(A20,'Crete Monee Totals 5-8'!A:B,2,0)","v":4078335},1153151307.95,{"$f":"VLOOKUP(A20,'AFR18'!A:L,12,0)","v":1153151307.95},0]
[63,2010879847.95,{"$f":"VLOOKUP(A21,'Crete Monee Totals 5-8'!A:B,2,0)","v":6490423},2004389424.95,{"$f":"VLOOKUP(A21,'AFR18'!A:L,12,0)","v":2004389424.95},0]
[65,458957980,{"$f":"VLOOKUP(A22,'Crete Monee Totals 5-8'!A:B,2,0)","v":5919005},453038975,{"$f":"VLOOKUP(A22,'AFR18'!A:L,12,0)","v":453038975},0]
[68,192660768,0,192660768,{"$f":"VLOOKUP(A23,'AFR18'!A:L,12,0)","v":192660768},0]
[69,13754738,0,13754738,{"$f":"VLOOKUP(A24,'AFR18'!A:L,12,0)","v":13754738},0]
[70,2129344853,{"$f":"VLOOKUP(A25,'Crete Monee Totals 5-8'!A:B,2,0)","v":10344951},2118999902,{"$f":"VLOOKUP(A25,'AFR18'!A:L,12,0)","v":2118999902},0]
[73,466225040,{"$f":"VLOOKUP(A26,'Crete Monee Totals 5-8'!A:B,2,0)","v":5876423},460348617,{"$f":"VLOOKUP(A26,'AFR18'!A:L,12,0)","v":460348617},0]
[78,475182762,{"$f":"VLOOKUP(A27,'Crete Monee Totals 5-8'!A:B,2,0)","v":5876423},469306339,{"$f":"VLOOKUP(A27,'AFR18'!A:L,12,0)","v":469306339},0]
[79,617255521.88,{"$f":"VLOOKUP(A28,'Crete Monee Totals 5-8'!A:B,2,0)","v":4468528},612786993.88,{"$f":"VLOOKUP(A28,'AFR18'!A:L,12,0)","v":612786993.88},0]
[80,2129344852.8800001,{"$f":"VLOOKUP(A29,'Crete Monee Totals 5-8'!A:B,2,0)","v":10344951},2118999901.8800001,{"$f":"VLOOKUP(A29,'AFR18'!A:L,12,0)","v":2118999901.8800001},0]
[84,161275392,{"$f":"VLOOKUP(A30,'Crete Monee Totals 5-8'!A:B,2,0)","v":1952358},159323034,{"$f":"VLOOKUP(A30,'AFR18'!A:L,12,0)","v":159323034},0]
[92,210291838,0,210291838,{"$f":"VLOOKUP(A31,'AFR18'!A:L,12,0)","v":210291838},0]
[95,188063,0,188063,{"$f":"VLOOKUP(A32,'AFR18'!A:L,12,0)","v":188063},0]
[96,1219805434.4400001,{"$f":"VLOOKUP(A33,'Crete Monee Totals 5-8'!A:B,2,0)","v":10904127},1208901307.4400001,{"$f":"VLOOKUP(A33,'AFR18'!A:L,12,0)","v":1208901307.4400001},0]
[103,661028,{"$f":"VLOOKUP(A34,'Crete Monee Totals 5-8'!A:B,2,0)","v":287},660741,{"$f":"VLOOKUP(A34,'AFR18'!A:L,12,0)","v":660741},0]
[105,300149230,{"$f":"VLOOKUP(A35,'Crete Monee Totals 5-8'!A:B,2,0)","v":1938312},298210918,{"$f":"VLOOKUP(A35,'AFR18'!A:L,12,0)","v":298210918},0]
[108,359145224,{"$f":"VLOOKUP(A36,'Crete Monee Totals 5-8'!A:B,2,0)","v":2072761},357072463,{"$f":"VLOOKUP(A36,'AFR18'!A:L,12,0)","v":357072463},0]
[109,693404368.85000002,{"$f":"VLOOKUP(A37,'Crete Monee Totals 5-8'!A:B,2,0)","v":8831366},684573002.85000002,{"$f":"VLOOKUP(A37,'AFR18'!A:L,12,0)","v":684573002.85000002},0]
[110,1219805433.8499999,{"$f":"VLOOKUP(A38,'Crete Monee Totals 5-8'!A:B,2,0)","v":10904127},1208901306.8499999,{"$f":"VLOOKUP(A38,'AFR18'!A:L,12,0)","v":1208901306.8499999},0]
[112,159360043,{"$f":"VLOOKUP(A39,'Crete Monee Totals 5-8'!A:B,2,0)","v":949264},158410779,{"$f":"VLOOKUP(A39,'AFR18'!A:L,12,0)","v":158410779},0]
[116,109853870,0,109853870,{"$f":"VLOOKUP(A40,'AFR18'!A:L,12,0)","v":109853870},0]
[118,22713,0,22713,{"$f":"VLOOKUP(A41,'AFR18'!A:L,12,0)","v":22713},0]
[119,664059480.50999999,{"$f":"VLOOKUP(A42,'Crete Monee Totals 5-8'!A:B,2,0)","v":2459258},661600222.50999999,{"$f":"VLOOKUP(A42,'AFR18'!A:L,12,0)","v":661600222.50999999},0]
[123,5603839,{"$f":"VLOOKUP(A43,'Crete Monee Totals 5-8'!A:B,2,0)","v":164204},5439635,{"$f":"VLOOKUP(A43,'AFR18'!A:L,12,0)","v":5439635},0]
[124,175968464,{"$f":"VLOOKUP(A44,'Crete Monee Totals 5-8'!A:B,2,0)","v":942434},175026030,{"$f":"VLOOKUP(A44,'AFR18'!A:L,12,0)","v":175026030},0]
[127,195905778,{"$f":"VLOOKUP(A45,'Crete Monee Totals 5-8'!A:B,2,0)","v":1106685},194799093,{"$f":"VLOOKUP(A45,'AFR18'!A:L,12,0)","v":194799093},0]
[128,322261703.58000004,{"$f":"VLOOKUP(A46,'Crete Monee Totals 5-8'!A:B,2,0)","v":1352573},320909130.58000004,{"$f":"VLOOKUP(A46,'AFR18'!A:L,12,0)","v":320909130.58000004},0]
[129,664059480.58000004,{"$f":"VLOOKUP(A47,'Crete Monee Totals 5-8'!A:B,2,0)","v":2459258},661600222.58000004,{"$f":"VLOOKUP(A47,'AFR18'!A:L,12,0)","v":661600222.58000004},0]
[138,459294954,0,459294954,{"$f":"VLOOKUP(A48,'AFR18'!A:L,12,0)","v":459294954},0]
[141,34045,0,34045,{"$f":"VLOOKUP(A49,'AFR18'!A:L,12,0)","v":34045},0]
[142,2640275571,{"$f":"VLOOKUP(A50,'Crete Monee Totals 5-8'!A:B,2,0)","v":3513685},2636761886,{"$f":"VLOOKUP(A50,'AFR18'!A:L,12,0)","v":2636761886},0]
[145,9113,0,9113,{"$f":"VLOOKUP(A51,'AFR18'!A:L,12,0)","v":9113},0]
[147,17494828,0,17494828,{"$f":"VLOOKUP(A52,'AFR18'!A:L,12,0)","v":17494828},0]
[150,188343915,{"$f":"VLOOKUP(A53,'Crete Monee Totals 5-8'!A:B,2,0)","v":1090022},187253893,{"$f":"VLOOKUP(A53,'AFR18'!A:L,12,0)","v":187253893},0]
[151,1212270301,{"$f":"VLOOKUP(A54,'Crete Monee Totals 5-8'!A:B,2,0)","v":2423663},1209846638,{"$f":"VLOOKUP(A54,'AFR18'!A:L,12,0)","v":1209846638},0]
[152,2640275571,{"$f":"VLOOKUP(A55,'Crete Monee Totals 5-8'!A:B,2,0)","v":3513685},2636761886,{"$f":"VLOOKUP(A55,'AFR18'!A:L,12,0)","v":2636761886},0]
[212,1324789248,{"$f":"VLOOKUP(A56,'Crete Monee Totals 5-8'!A:B,2,0)","v":2491235},1322298013,{"$f":"VLOOKUP(A56,'AFR18'!A:L,12,0)","v":1322298013},0]
[213,35041727478.099998,{"$f":"VLOOKUP(A57,'Crete Monee Totals 5-8'!A:B,2,0)","v":116080449},34925647029.099998,{"$f":"VLOOKUP(A57,'AFR18'!A:L,12,0)","v":34925647029.099998},0]
[214,1971193145.51,0,1971193145.51,{"$f":"VLOOKUP(A58,'AFR18'!A:L,12,0)","v":1971193145.51},0]
[215,3714249063,{"$f":"VLOOKUP(A59,'Crete Monee Totals 5-8'!A:B,2,0)","v":3274556},3710974507,{"$f":"VLOOKUP(A59,'AFR18'!A:L,12,0)","v":3710974507},0]
[218,43113898681.610001,{"$f":"VLOOKUP(A60,'Crete Monee Totals 5-8'!A:B,2,0)","v":121846240},42992052441.610001,{"$f":"VLOOKUP(A60,'AFR18'!A:L,12,0)","v":42992052441.610001},0]
[219,43113898681.610001,{"$f":"VLOOKUP(A61,'Crete Monee Totals 5-8'!A:B,2,0)","v":121846240},42992052441.610001,{"$f":"VLOOKUP(A61,'AFR18'!A:L,12,0)","v":42992052441.610001},0]
[220,43113898681.610001,{"$f":"VLOOKUP(A62,'Crete Monee Totals 5-8'!A:B,2,0)","v":121846240},42992052441.610001,{"$f":"VLOOKUP(A62,'AFR18'!A:L,12,0)","v":42992052441.610001},0]
[221,1649628613,{"$f":"VLOOKUP(A63,'Crete Monee Totals 5-8'!A:B,2,0)","v":4468528},1645160085,{"$f":"VLOOKUP(A63,'AFR18'!A:L,12,0)","v":1645160085},0]
[222,20000728898,{"$f":"VLOOKUP(A64,'Crete Monee Totals 5-8'!A:B,2,0)","v":88543477},19912185421,{"$f":"VLOOKUP(A64,'AFR18'!A:L,12,0)","v":19912185421},0]
[223,21650357511,{"$f":"VLOOKUP(A65,'Crete Monee Totals 5-8'!A:B,2,0)","v":93012005},21557345506,{"$f":"VLOOKUP(A65,'AFR18'!A:L,12,0)","v":21557345506},0]
[224,21650268294,{"$f":"VLOOKUP(A66,'Crete Monee Totals 5-8'!A:B,2,0)","v":93012005},21557256289,{"$f":"VLOOKUP(A66,'AFR18'!A:L,12,0)","v":21557256289},0]
[226,21650268294,{"$f":"VLOOKUP(A67,'Crete Monee Totals 5-8'!A:B,2,0)","v":93012005},{"$f":"SUM(B67-C67)","v":21557256289},{"$f":"VLOOKUP(A67,'AFR18'!A:L,12,0)","v":21557256289},{"$f":"SUM(D67-E67)","v":0}]
[227,21650268294,{"$f":"VLOOKUP(A68,'Crete Monee Totals 5-8'!A:B,2,0)","v":93012005},21557256289,{"$f":"VLOOKUP(A68,'AFR18'!A:L,12,0)","v":21557256289},0]
[259,19734469,0,19734469,{"$f":"VLOOKUP(A69,'AFR18'!A:L,12,0)","v":19734469},0]
[260,5656749,0,5656749,{"$f":"VLOOKUP(A70,'AFR18'!A:L,12,0)","v":5656749},0]
[262,13385462,0,13385462,{"$f":"VLOOKUP(A71,'AFR18'!A:L,12,0)","v":13385462},0]
[263,24190,0,24190,{"$f":"VLOOKUP(A72,'AFR18'!A:L,12,0)","v":24190},0]
[371,4568411,0,4568411,{"$f":"VLOOKUP(A73,'AFR18'!A:L,12,0)","v":4568411},0]
[439,116325619,0,116325619,{"$f":"VLOOKUP(A74,'AFR18'!A:L,12,0)","v":116325619},0]
[440,220808,0,220808,{"$f":"VLOOKUP(A75,'AFR18'!A:L,12,0)","v":220808},0]
[557,956982138,0,956982138,{"$f":"VLOOKUP(A76,'AFR18'!A:L,12,0)","v":956982138},0]
[558,41601698,0,41601698,{"$f":"VLOOKUP(A77,'AFR18'!A:L,12,0)","v":41601698},0]
[559,575570,0,575570,{"$f":"VLOOKUP(A78,'AFR18'!A:L,12,0)","v":575570},0]
[590,311901711,0,311901711,{"$f":"VLOOKUP(A79,'AFR18'!A:L,12,0)","v":311901711},0]
[591,7162087,0,7162087,{"$f":"VLOOKUP(A80,'AFR18'!A:L,12,0)","v":7162087},0]
[644,6756811393.6300001,{"$f":"VLOOKUP(A81,'Crete Monee Totals 5-8'!A:B,2,0)","v":15639539},6741171854.6300001,{"$f":"VLOOKUP(A81,'AFR18'!A:L,12,0)","v":6741171854.6300001},0]
[645,53496043,0,53496043,{"$f":"VLOOKUP(A82,'AFR18'!A:L,12,0)","v":53496043},0]
[651,357544899,0,357544899,{"$f":"VLOOKUP(A83,'AFR18'!A:L,12,0)","v":357544899},0]
[655,8234532,0,8234532,{"$f":"VLOOKUP(A84,'AFR18'!A:L,12,0)","v":8234532},0]
[656,169314023.82999998,{"$f":"VLOOKUP(A85,'Crete Monee Totals 5-8'!A:B,2,0)","v":14262},169299761.82999998,{"$f":"VLOOKUP(A85,'AFR18'!A:L,12,0)","v":169299761.82999998},0]
[657,287818934.90999997,{"$f":"VLOOKUP(A86,'Crete Monee Totals 5-8'!A:B,2,0)","v":1217562},286601372.90999997,{"$f":"VLOOKUP(A86,'AFR18'!A:L,12,0)","v":286601372.90999997},0]
[658,47699758,{"$f":"VLOOKUP(A87,'Crete Monee Totals 5-8'!A:B,2,0)","v":72722},47627036,{"$f":"VLOOKUP(A87,'AFR18'!A:L,12,0)","v":47627036},0]
[659,10076797754.52,{"$f":"VLOOKUP(A88,'Crete Monee Totals 5-8'!A:B,2,0)","v":24516748},10052281006.52,{"$f":"VLOOKUP(A88,'AFR18'!A:L,12,0)","v":10052281006.52},0]
[660,268594515,{"$f":"VLOOKUP(A89,'Crete Monee Totals 5-8'!A:B,2,0)","v":716700},267877815,{"$f":"VLOOKUP(A89,'AFR18'!A:L,12,0)","v":267877815},0]
[661,306056886.84000003,{"$f":"VLOOKUP(A90,'Crete Monee Totals 5-8'!A:B,2,0)","v":545674},305511212.84000003,{"$f":"VLOOKUP(A90,'AFR18'!A:L,12,0)","v":305511212.84000003},0]
[662,154266626.16,{"$f":"VLOOKUP(A91,'Crete Monee Totals 5-8'!A:B,2,0)","v":407918},153858708.16,{"$f":"VLOOKUP(A91,'AFR18'!A:L,12,0)","v":153858708.16},0]
[663,124928753,{"$f":"VLOOKUP(A92,'Crete Monee Totals 5-8'!A:B,2,0)","v":552677},124376076,{"$f":"VLOOKUP(A92,'AFR18'!A:L,12,0)","v":124376076},0]
[664,198791209.88,{"$f":"VLOOKUP(A93,'Crete Monee Totals 5-8'!A:B,2,0)","v":925333},197865876.88,{"$f":"VLOOKUP(A93,'AFR18'!A:L,12,0)","v":197865876.88},0]
[665,70374127,{"$f":"VLOOKUP(A94,'Crete Monee Totals 5-8'!A:B,2,0)","v":122631},70251496,{"$f":"VLOOKUP(A94,'AFR18'!A:L,12,0)","v":70251496},0]
[666,1123012117.8800001,{"$f":"VLOOKUP(A95,'Crete Monee Totals 5-8'!A:B,2,0)","v":3270933},1119741184.8800001,{"$f":"VLOOKUP(A95,'AFR18'!A:L,12,0)","v":1119741184.8800001},0]
[667,280447313,{"$f":"VLOOKUP(A96,'Crete Monee Totals 5-8'!A:B,2,0)","v":536529},279910784,{"$f":"VLOOKUP(A96,'AFR18'!A:L,12,0)","v":279910784},0]
[668,220799197.11000001,{"$f":"VLOOKUP(A97,'Crete Monee Totals 5-8'!A:B,2,0)","v":166571},220632626.11000001,{"$f":"VLOOKUP(A97,'AFR18'!A:L,12,0)","v":220632626.11000001},0]
[669,13958619,0,13958619,{"$f":"VLOOKUP(A98,'AFR18'!A:L,12,0)","v":13958619},0]
[670,515205129.11000001,{"$f":"VLOOKUP(A99,'Crete Monee Totals 5-8'!A:B,2,0)","v":703100},514502029.11000001,{"$f":"VLOOKUP(A99,'AFR18'!A:L,12,0)","v":514502029.11000001},0]
[671,31051748,0,31051748,{"$f":"VLOOKUP(A100,'AFR18'!A:L,12,0)","v":31051748},0]
[672,178360664.69,{"$f":"VLOOKUP(A101,'Crete Monee Totals 5-8'!A:B,2,0)","v":422769},177937895.69,{"$f":"VLOOKUP(A101,'AFR18'!A:L,12,0)","v":177937895.69},0]
[673,283414011.69,{"$f":"VLOOKUP(A102,'Crete Monee Totals 5-8'!A:B,2,0)","v":422769},282991242.69,{"$f":"VLOOKUP(A102,'AFR18'!A:L,12,0)","v":282991242.69},0]
[674,876687573.63999999,{"$f":"VLOOKUP(A103,'Crete Monee Totals 5-8'!A:B,2,0)","v":2283482},874404091.63999999,{"$f":"VLOOKUP(A103,'AFR18'!A:L,12,0)","v":874404091.63999999},0]
[675,43318310,{"$f":"VLOOKUP(A104,'Crete Monee Totals 5-8'!A:B,2,0)","v":975580},42342730,{"$f":"VLOOKUP(A104,'AFR18'!A:L,12,0)","v":42342730},0]
[676,920005883.63999999,{"$f":"VLOOKUP(A105,'Crete Monee Totals 5-8'!A:B,2,0)","v":3259062},916746821.63999999,{"$f":"VLOOKUP(A105,'AFR18'!A:L,12,0)","v":916746821.63999999},0]
[677,50308998,{"$f":"VLOOKUP(A106,'Crete Monee Totals 5-8'!A:B,2,0)","v":210941},50098057,{"$f":"VLOOKUP(A106,'AFR18'!A:L,12,0)","v":50098057},0]
[678,109376132.69,{"$f":"VLOOKUP(A107,'Crete Monee Totals 5-8'!A:B,2,0)","v":356891},109019241.69,{"$f":"VLOOKUP(A107,'AFR18'!A:L,12,0)","v":109019241.69},0]
[679,90233291.159999996,{"$f":"VLOOKUP(A108,'Crete Monee Totals 5-8'!A:B,2,0)","v":454017},89779274.159999996,{"$f":"VLOOKUP(A108,'AFR18'!A:L,12,0)","v":89779274.159999996},0]
[680,19237105,0,19237105,{"$f":"VLOOKUP(A109,'AFR18'!A:L,12,0)","v":19237105},0]
[681,216404843.12,{"$f":"VLOOKUP(A110,'Crete Monee Totals 5-8'!A:B,2,0)","v":783586},215621257.12,{"$f":"VLOOKUP(A110,'AFR18'!A:L,12,0)","v":215621257.12},0]
[682,10997332,0,10997332,{"$f":"VLOOKUP(A111,'AFR18'!A:L,12,0)","v":10997332},0]
[684,496557701.96999997,{"$f":"VLOOKUP(A112,'Crete Monee Totals 5-8'!A:B,2,0)","v":1805435},494752266.96999997,{"$f":"VLOOKUP(A112,'AFR18'!A:L,12,0)","v":494752266.96999997},0]
[685,7546862,0,7546862,{"$f":"VLOOKUP(A113,'AFR18'!A:L,12,0)","v":7546862},0]
[686,16081191,{"$f":"VLOOKUP(A114,'Crete Monee Totals 5-8'!A:B,2,0)","v":125637},15955554,{"$f":"VLOOKUP(A114,'AFR18'!A:L,12,0)","v":15955554},0]
[687,24489881,{"$f":"VLOOKUP(A115,'Crete Monee Totals 5-8'!A:B,2,0)","v":279819},24210062,{"$f":"VLOOKUP(A115,'AFR18'!A:L,12,0)","v":24210062},0]
[688,61265263,{"$f":"VLOOKUP(A116,'Crete Monee Totals 5-8'!A:B,2,0)","v":450916},60814347,{"$f":"VLOOKUP(A116,'AFR18'!A:L,12,0)","v":60814347},0]
[690,100263695.68000001,{"$f":"VLOOKUP(A117,'Crete Monee Totals 5-8'!A:B,2,0)","v":645901},99617794.680000007,{"$f":"VLOOKUP(A117,'AFR18'!A:L,12,0)","v":99617794.680000007},0]
[692,209646892.68000001,{"$f":"VLOOKUP(A118,'Crete Monee Totals 5-8'!A:B,2,0)","v":1502273},208144619.68000001,{"$f":"VLOOKUP(A118,'AFR18'!A:L,12,0)","v":208144619.68000001},0]
[693,13160841,{"$f":"VLOOKUP(A119,'Crete Monee Totals 5-8'!A:B,2,0)","v":18334},13142507,{"$f":"VLOOKUP(A119,'AFR18'!A:L,12,0)","v":13142507},0]
[694,3561002577.9700003,{"$f":"VLOOKUP(A120,'Crete Monee Totals 5-8'!A:B,2,0)","v":10981906},3550020671.9700003,{"$f":"VLOOKUP(A120,'AFR18'!A:L,12,0)","v":3550020671.9700003},0]
[695,71949497,{"$f":"VLOOKUP(A121,'Crete Monee Totals 5-8'!A:B,2,0)","v":34607},71914890,{"$f":"VLOOKUP(A121,'AFR18'!A:L,12,0)","v":71914890},0]
[696,13709749829.49,{"$f":"VLOOKUP(A122,'Crete Monee Totals 5-8'!A:B,2,0)","v":35533261},13674216568.49,{"$f":"VLOOKUP(A122,'AFR18'!A:L,12,0)","v":13674216568.49},0]
[702,1822034676.8499999,{"$f":"VLOOKUP(A123,'Crete Monee Totals 5-8'!A:B,2,0)","v":1836213},1820198463.8499999,{"$f":"VLOOKUP(A123,'AFR18'!A:L,12,0)","v":1820198463.8499999},0]
[703,9978449,0,9978449,{"$f":"VLOOKUP(A124,'AFR18'!A:L,12,0)","v":9978449},0]
[709,77589893,0,77589893,{"$f":"VLOOKUP(A125,'AFR18'!A:L,12,0)","v":77589893},0]
[713,757212,0,757212,{"$f":"VLOOKUP(A126,'AFR18'!A:L,12,0)","v":757212},0]
[714,34246764.590000004,0,34246764.590000004,{"$f":"VLOOKUP(A127,'AFR18'!A:L,12,0)","v":34246764.590000004},0]
[715,20992610.619999997,{"$f":"VLOOKUP(A128,'Crete Monee Totals 5-8'!A:B,2,0)","v":15165},20977445.619999997,{"$f":"VLOOKUP(A128,'AFR18'!A:L,12,0)","v":20977445.619999997},0]
[716,2035049.77,{"$f":"VLOOKUP(A129,'Crete Monee Totals 5-8'!A:B,2,0)","v":1383},2033666.77,{"$f":"VLOOKUP(A129,'AFR18'!A:L,12,0)","v":2033666.77},0]
[717,2543322830.9899998,{"$f":"VLOOKUP(A130,'Crete Monee Totals 5-8'!A:B,2,0)","v":4137422},2539185408.9899998,{"$f":"VLOOKUP(A130,'AFR18'!A:L,12,0)","v":2539185408.9899998},0]
[718,55238225,{"$f":"VLOOKUP(A131,'Crete Monee Totals 5-8'!A:B,2,0)","v":99797},{"$f":"SUM(B131-C131)","v":55138428},{"$f":"VLOOKUP(A131,'AFR18'!A:L,12,0)","v":55138428},{"$f":"SUM(D131-E131)","v":0}]
[719,63411190.75,{"$f":"VLOOKUP(A132,'Crete Monee Totals 5-8'!A:B,2,0)","v":85298},63325892.75,{"$f":"VLOOKUP(A132,'AFR18'!A:L,12,0)","v":63325892.75},0]
[720,31869492.219999999,{"$f":"VLOOKUP(A133,'Crete Monee Totals 5-8'!A:B,2,0)","v":76979},31792513.219999999,{"$f":"VLOOKUP(A133,'AFR18'!A:L,12,0)","v":31792513.219999999},0]
[721,23346906,{"$f":"VLOOKUP(A134,'Crete Monee Totals 5-8'!A:B,2,0)","v":33060},23313846,{"$f":"VLOOKUP(A134,'AFR18'!A:L,12,0)","v":23313846},0]
[722,37521044.019999996,{"$f":"VLOOKUP(A135,'Crete Monee Totals 5-8'!A:B,2,0)","v":95944},37425100.019999996,{"$f":"VLOOKUP(A135,'AFR18'!A:L,12,0)","v":37425100.019999996},0]
[723,12308047,{"$f":"VLOOKUP(A136,'Crete Monee Totals 5-8'!A:B,2,0)","v":8178},12299869,{"$f":"VLOOKUP(A136,'AFR18'!A:L,12,0)","v":12299869},0]
[724,223694904.99000001,{"$f":"VLOOKUP(A137,'Crete Monee Totals 5-8'!A:B,2,0)","v":399256},223295648.99000001,{"$f":"VLOOKUP(A137,'AFR18'!A:L,12,0)","v":223295648.99000001},0]
[725,60734288.57,{"$f":"VLOOKUP(A138,'Crete Monee Totals 5-8'!A:B,2,0)","v":72814},60661474.57,{"$f":"VLOOKUP(A138,'AFR18'!A:L,12,0)","v":60661474.57},0]
[726,44852028,{"$f":"VLOOKUP(A139,'Crete Monee Totals 5-8'!A:B,2,0)","v":36656},44815372,{"$f":"VLOOKUP(A139,'AFR18'!A:L,12,0)","v":44815372},0]
[727,1940491,0,1940491,{"$f":"VLOOKUP(A140,'AFR18'!A:L,12,0)","v":1940491},0]
[728,107526807.56999999,{"$f":"VLOOKUP(A141,'Crete Monee Totals 5-8'!A:B,2,0)","v":109470},107417337.56999999,{"$f":"VLOOKUP(A141,'AFR18'!A:L,12,0)","v":107417337.56999999},0]
[729,24918387,{"$f":"VLOOKUP(A142,'Crete Monee Totals 5-8'!A:B,2,0)","v":10087},24908300,{"$f":"VLOOKUP(A142,'AFR18'!A:L,12,0)","v":24908300},0]
[730,34872831,{"$f":"VLOOKUP(A143,'Crete Monee Totals 5-8'!A:B,2,0)","v":59684},34813147,{"$f":"VLOOKUP(A143,'AFR18'!A:L,12,0)","v":34813147},0]
[731,78587099,{"$f":"VLOOKUP(A144,'Crete Monee Totals 5-8'!A:B,2,0)","v":211742},78375357,{"$f":"VLOOKUP(A144,'AFR18'!A:L,12,0)","v":78375357},0]
[732,207302324.60000002,{"$f":"VLOOKUP(A145,'Crete Monee Totals 5-8'!A:B,2,0)","v":596206},206706118.60000002,{"$f":"VLOOKUP(A145,'AFR18'!A:L,12,0)","v":206706118.60000002},0]
[733,10293320,{"$f":"VLOOKUP(A146,'Crete Monee Totals 5-8'!A:B,2,0)","v":271224},10022096,{"$f":"VLOOKUP(A146,'AFR18'!A:L,12,0)","v":10022096},0]
[734,217595644.60000002,{"$f":"VLOOKUP(A147,'Crete Monee Totals 5-8'!A:B,2,0)","v":867430},216728214.60000002,{"$f":"VLOOKUP(A147,'AFR18'!A:L,12,0)","v":216728214.60000002},0]
[735,10062588,{"$f":"VLOOKUP(A148,'Crete Monee Totals 5-8'!A:B,2,0)","v":46656},10015932,{"$f":"VLOOKUP(A148,'AFR18'!A:L,12,0)","v":10015932},0]
[736,20705644,{"$f":"VLOOKUP(A149,'Crete Monee Totals 5-8'!A:B,2,0)","v":39231},20666413,{"$f":"VLOOKUP(A149,'AFR18'!A:L,12,0)","v":20666413},0]
[737,18275345,{"$f":"VLOOKUP(A150,'Crete Monee Totals 5-8'!A:B,2,0)","v":120654},18154691,{"$f":"VLOOKUP(A150,'AFR18'!A:L,12,0)","v":18154691},0]
[738,6861872,0,6861872,{"$f":"VLOOKUP(A151,'AFR18'!A:L,12,0)","v":6861872},0]
[739,55493635,{"$f":"VLOOKUP(A152,'Crete Monee Totals 5-8'!A:B,2,0)","v":161667},55331968,{"$f":"VLOOKUP(A152,'AFR18'!A:L,12,0)","v":55331968},0]
[740,2285625,0,2285625,{"$f":"VLOOKUP(A153,'AFR18'!A:L,12,0)","v":2285625},0]
[742,113684709,{"$f":"VLOOKUP(A154,'Crete Monee Totals 5-8'!A:B,2,0)","v":368208},113316501,{"$f":"VLOOKUP(A154,'AFR18'!A:L,12,0)","v":113316501},0]
[743,1527345,0,1527345,{"$f":"VLOOKUP(A155,'AFR18'!A:L,12,0)","v":1527345},0]
[744,2905211,{"$f":"VLOOKUP(A156,'Crete Monee Totals 5-8'!A:B,2,0)","v":20875},2884336,{"$f":"VLOOKUP(A156,'AFR18'!A:L,12,0)","v":2884336},0]
[745,5828418,{"$f":"VLOOKUP(A157,'Crete Monee Totals 5-8'!A:B,2,0)","v":41714},5786704,{"$f":"VLOOKUP(A157,'AFR18'!A:L,12,0)","v":5786704},0]
[746,29363741,{"$f":"VLOOKUP(A158,'Crete Monee Totals 5-8'!A:B,2,0)","v":71989},29291752,{"$f":"VLOOKUP(A158,'AFR18'!A:L,12,0)","v":29291752},0]
[748,17265193,{"$f":"VLOOKUP(A159,'Crete Monee Totals 5-8'!A:B,2,0)","v":103882},17161311,{"$f":"VLOOKUP(A159,'AFR18'!A:L,12,0)","v":17161311},0]
[750,56889908,{"$f":"VLOOKUP(A160,'Crete Monee Totals 5-8'!A:B,2,0)","v":238460},56651448,{"$f":"VLOOKUP(A160,'AFR18'!A:L,12,0)","v":56651448},0]
[751,7489563,0,7489563,{"$f":"VLOOKUP(A161,'AFR18'!A:L,12,0)","v":7489563},0]
[752,805468636.15999997,{"$f":"VLOOKUP(A162,'Crete Monee Totals 5-8'!A:B,2,0)","v":2194566},803274070.15999997,{"$f":"VLOOKUP(A162,'AFR18'!A:L,12,0)","v":803274070.15999997},0]
[753,12853444,{"$f":"VLOOKUP(A163,'Crete Monee Totals 5-8'!A:B,2,0)","v":628},12852816,{"$f":"VLOOKUP(A163,'AFR18'!A:L,12,0)","v":12852816},0]
[754,3361644911.1500001,{"$f":"VLOOKUP(A164,'Crete Monee Totals 5-8'!A:B,2,0)","v":6332616},3355312295.1500001,{"$f":"VLOOKUP(A164,'AFR18'!A:L,12,0)","v":3355312295.1500001},0]
[760,118216857.58999999,{"$f":"VLOOKUP(A165,'Crete Monee Totals 5-8'!A:B,2,0)","v":53466},118163391.58999999,{"$f":"VLOOKUP(A165,'AFR18'!A:L,12,0)","v":118163391.58999999},0]
[761,532417,0,532417,{"$f":"VLOOKUP(A166,'AFR18'!A:L,12,0)","v":532417},0]
[767,3006103,{"$f":"VLOOKUP(A167,'Crete Monee Totals 5-8'!A:B,2,0)","v":1260},3004843,{"$f":"VLOOKUP(A167,'AFR18'!A:L,12,0)","v":3004843},0]
[771,1571457,0,1571457,{"$f":"VLOOKUP(A168,'AFR18'!A:L,12,0)","v":1571457},0]
[772,7573657,0,7573657,{"$f":"VLOOKUP(A169,'AFR18'!A:L,12,0)","v":7573657},0]
[773,45814149.879999995,{"$f":"VLOOKUP(A170,'Crete Monee Totals 5-8'!A:B,2,0)","v":139303},45674846.879999995,{"$f":"VLOOKUP(A170,'AFR18'!A:L,12,0)","v":45674846.879999995},0]
[774,1843734,0,1843734,{"$f":"VLOOKUP(A171,'AFR18'!A:L,12,0)","v":1843734},0]
[775,1001894755.4799999,{"$f":"VLOOKUP(A172,'Crete Monee Totals 5-8'!A:B,2,0)","v":971343},1000923412.4799999,{"$f":"VLOOKUP(A172,'AFR18'!A:L,12,0)","v":1000923412.4799999},0]
[776,12748405,0,12748405,{"$f":"VLOOKUP(A173,'AFR18'!A:L,12,0)","v":12748405},0]
[777,12952764,{"$f":"VLOOKUP(A174,'Crete Monee Totals 5-8'!A:B,2,0)","v":2926},12949838,{"$f":"VLOOKUP(A174,'AFR18'!A:L,12,0)","v":12949838},0]
[778,34798615,{"$f":"VLOOKUP(A175,'Crete Monee Totals 5-8'!A:B,2,0)","v":2538},34796077,{"$f":"VLOOKUP(A175,'AFR18'!A:L,12,0)","v":34796077},0]
[779,7533541,{"$f":"VLOOKUP(A176,'Crete Monee Totals 5-8'!A:B,2,0)","v":1113},7532428,{"$f":"VLOOKUP(A176,'AFR18'!A:L,12,0)","v":7532428},0]
[780,24515647,{"$f":"VLOOKUP(A177,'Crete Monee Totals 5-8'!A:B,2,0)","v":178},24515469,{"$f":"VLOOKUP(A177,'AFR18'!A:L,12,0)","v":24515469},0]
[781,12962938,0,12962938,{"$f":"VLOOKUP(A178,'AFR18'!A:L,12,0)","v":12962938},0]
[782,105511910,{"$f":"VLOOKUP(A179,'Crete Monee Totals 5-8'!A:B,2,0)","v":6755},105505155,{"$f":"VLOOKUP(A179,'AFR18'!A:L,12,0)","v":105505155},0]
[783,101939249.48,{"$f":"VLOOKUP(A180,'Crete Monee Totals 5-8'!A:B,2,0)","v":291050},101648199.48,{"$f":"VLOOKUP(A180,'AFR18'!A:L,12,0)","v":101648199.48},0]
[784,39760327.620000005,{"$f":"VLOOKUP(A181,'Crete Monee Totals 5-8'!A:B,2,0)","v":14090},39746237.620000005,{"$f":"VLOOKUP(A181,'AFR18'!A:L,12,0)","v":39746237.620000005},0]
[785,22975295,{"$f":"VLOOKUP(A182,'Crete Monee Totals 5-8'!A:B,2,0)","v":116748},22858547,{"$f":"VLOOKUP(A182,'AFR18'!A:L,12,0)","v":22858547},0]
[786,164674872.09999999,{"$f":"VLOOKUP(A183,'Crete Monee Totals 5-8'!A:B,2,0)","v":421888},164252984.09999999,{"$f":"VLOOKUP(A183,'AFR18'!A:L,12,0)","v":164252984.09999999},0]
[787,111483481.76000001,{"$f":"VLOOKUP(A184,'Crete Monee Totals 5-8'!A:B,2,0)","v":412094},111071387.76000001,{"$f":"VLOOKUP(A184,'AFR18'!A:L,12,0)","v":111071387.76000001},0]
[788,12258202.879999999,{"$f":"VLOOKUP(A185,'Crete Monee Totals 5-8'!A:B,2,0)","v":4873},12253329.879999999,{"$f":"VLOOKUP(A185,'AFR18'!A:L,12,0)","v":12253329.879999999},0]
[789,145194612.63999999,{"$f":"VLOOKUP(A186,'Crete Monee Totals 5-8'!A:B,2,0)","v":1105122},144089490.63999999,{"$f":"VLOOKUP(A186,'AFR18'!A:L,12,0)","v":144089490.63999999},0]
[790,21808064.329999998,{"$f":"VLOOKUP(A187,'Crete Monee Totals 5-8'!A:B,2,0)","v":4180},21803884.329999998,{"$f":"VLOOKUP(A187,'AFR18'!A:L,12,0)","v":21803884.329999998},0]
[791,382388,{"$f":"VLOOKUP(A188,'Crete Monee Totals 5-8'!A:B,2,0)","v":300},382088,{"$f":"VLOOKUP(A188,'AFR18'!A:L,12,0)","v":382088},0]
[792,22190452.329999998,{"$f":"VLOOKUP(A189,'Crete Monee Totals 5-8'!A:B,2,0)","v":4480},22185972.329999998,{"$f":"VLOOKUP(A189,'AFR18'!A:L,12,0)","v":22185972.329999998},0]
[793,5915267,{"$f":"VLOOKUP(A190,'Crete Monee Totals 5-8'!A:B,2,0)","v":56480},5858787,{"$f":"VLOOKUP(A190,'AFR18'!A:L,12,0)","v":5858787},0]
[794,31438751.790000003,{"$f":"VLOOKUP(A191,'Crete Monee Totals 5-8'!A:B,2,0)","v":12739},31426012.790000003,{"$f":"VLOOKUP(A191,'AFR18'!A:L,12,0)","v":31426012.790000003},0]
[795,72429514,{"$f":"VLOOKUP(A192,'Crete Monee Totals 5-8'!A:B,2,0)","v":129880},72299634,{"$f":"VLOOKUP(A192,'AFR18'!A:L,12,0)","v":72299634},0]
[796,109471562,0,109471562,{"$f":"VLOOKUP(A193,'AFR18'!A:L,12,0)","v":109471562},0]
[797,202617370.83000001,{"$f":"VLOOKUP(A194,'Crete Monee Totals 5-8'!A:B,2,0)","v":6817},202610553.83000001,{"$f":"VLOOKUP(A194,'AFR18'!A:L,12,0)","v":202610553.83000001},0]
[798,9997150.629999999,0,{"$f":"SUM(B195-C195)","v":9997150.629999999},{"$f":"VLOOKUP(A195,'AFR18'!A:L,12,0)","v":9997150.629999999},{"$f":"SUM(D195-E195)","v":0}]
[800,431869616.25,{"$f":"VLOOKUP(A196,'Crete Monee Totals 5-8'!A:B,2,0)","v":205916},431663700.25,{"$f":"VLOOKUP(A196,'AFR18'!A:L,12,0)","v":431663700.25},0]
[801,2264478,0,2264478,{"$f":"VLOOKUP(A197,'AFR18'!A:L,12,0)","v":2264478},0]
[802,5319354,0,5319354,{"$f":"VLOOKUP(A198,'AFR18'!A:L,12,0)","v":5319354},0]
[803,16403015,{"$f":"VLOOKUP(A199,'Crete Monee Totals 5-8'!A:B,2,0)","v":42327},16360688,{"$f":"VLOOKUP(A199,'AFR18'!A:L,12,0)","v":16360688},0]
[804,15391306,{"$f":"VLOOKUP(A200,'Crete Monee Totals 5-8'!A:B,2,0)","v":117631},15273675,{"$f":"VLOOKUP(A200,'AFR18'!A:L,12,0)","v":15273675},0]
[806,91617766,{"$f":"VLOOKUP(A201,'Crete Monee Totals 5-8'!A:B,2,0)","v":1477224},90140542,{"$f":"VLOOKUP(A201,'AFR18'!A:L,12,0)","v":90140542},0]
[808,130995919,{"$f":"VLOOKUP(A202,'Crete Monee Totals 5-8'!A:B,2,0)","v":1637182},129358737,{"$f":"VLOOKUP(A202,'AFR18'!A:L,12,0)","v":129358737},0]
[809,11016685,0,11016685,{"$f":"VLOOKUP(A203,'AFR18'!A:L,12,0)","v":11016685},0]
[810,1011454067.3200001,{"$f":"VLOOKUP(A204,'Crete Monee Totals 5-8'!A:B,2,0)","v":3381343},1008072724.3200001,{"$f":"VLOOKUP(A204,'AFR18'!A:L,12,0)","v":1008072724.3200001},0]
[811,51094488,{"$f":"VLOOKUP(A205,'Crete Monee Totals 5-8'!A:B,2,0)","v":263488},50831000,{"$f":"VLOOKUP(A205,'AFR18'!A:L,12,0)","v":50831000},0]
[812,2272717531.21,{"$f":"VLOOKUP(A206,'Crete Monee Totals 5-8'!A:B,2,0)","v":4616174},2268101357.21,{"$f":"VLOOKUP(A206,'AFR18'!A:L,12,0)","v":2268101357.21},0]
[818,298254392.07000005,{"$f":"VLOOKUP(A207,'Crete Monee Totals 5-8'!A:B,2,0)","v":734213},297520179.07000005,{"$f":"VLOOKUP(A207,'AFR18'!A:L,12,0)","v":297520179.07000005},0]
[819,550399,0,550399,{"$f":"VLOOKUP(A208,'AFR18'!A:L,12,0)","v":550399},0]
[825,7046593,{"$f":"VLOOKUP(A209,'Crete Monee Totals 5-8'!A:B,2,0)","v":2557},7044036,{"$f":"VLOOKUP(A209,'AFR18'!A:L,12,0)","v":7044036},0]
[829,1015158,0,1015158,{"$f":"VLOOKUP(A210,'AFR18'!A:L,12,0)","v":1015158},0]
[830,16213497.24,0,16213497.24,{"$f":"VLOOKUP(A211,'AFR18'!A:L,12,0)","v":16213497.24},0]
[831,30232898.289999999,{"$f":"VLOOKUP(A212,'Crete Monee Totals 5-8'!A:B,2,0)","v":107889},30125009.289999999,{"$f":"VLOOKUP(A212,'AFR18'!A:L,12,0)","v":30125009.289999999},0]
[832,2687911,{"$f":"VLOOKUP(A213,'Crete Monee Totals 5-8'!A:B,2,0)","v":215},2687696,{"$f":"VLOOKUP(A213,'AFR18'!A:L,12,0)","v":2687696},0]
[833,436855777.85000002,{"$f":"VLOOKUP(A214,'Crete Monee Totals 5-8'!A:B,2,0)","v":1599137},435256640.85000002,{"$f":"VLOOKUP(A214,'AFR18'!A:L,12,0)","v":435256640.85000002},0]
[834,5102169,{"$f":"VLOOKUP(A215,'Crete Monee Totals 5-8'!A:B,2,0)","v":26645},5075524,{"$f":"VLOOKUP(A215,'AFR18'!A:L,12,0)","v":5075524},0]
[835,4145442,{"$f":"VLOOKUP(A216,'Crete Monee Totals 5-8'!A:B,2,0)","v":11465},4133977,{"$f":"VLOOKUP(A216,'AFR18'!A:L,12,0)","v":4133977},0]
[836,3419864,{"$f":"VLOOKUP(A217,'Crete Monee Totals 5-8'!A:B,2,0)","v":4043},3415821,{"$f":"VLOOKUP(A217,'AFR18'!A:L,12,0)","v":3415821},0]
[837,1356824,{"$f":"VLOOKUP(A218,'Crete Monee Totals 5-8'!A:B,2,0)","v":20500},1336324,{"$f":"VLOOKUP(A218,'AFR18'!A:L,12,0)","v":1336324},0]
[838,1115060,0,1115060,{"$f":"VLOOKUP(A219,'AFR18'!A:L,12,0)","v":1115060},0]
[839,4604410.6899999995,0,4604410.6899999995,{"$f":"VLOOKUP(A220,'AFR18'!A:L,12,0)","v":4604410.6899999995},0]
[840,19743769.689999998,{"$f":"VLOOKUP(A221,'Crete Monee Totals 5-8'!A:B,2,0)","v":62653},19681116.689999998,{"$f":"VLOOKUP(A221,'AFR18'!A:L,12,0)","v":19681116.689999998},0]
[841,34733575,{"$f":"VLOOKUP(A222,'Crete Monee Totals 5-8'!A:B,2,0)","v":21204},34712371,{"$f":"VLOOKUP(A222,'AFR18'!A:L,12,0)","v":34712371},0]
[842,42511124,{"$f":"VLOOKUP(A223,'Crete Monee Totals 5-8'!A:B,2,0)","v":8711},42502413,{"$f":"VLOOKUP(A223,'AFR18'!A:L,12,0)","v":42502413},0]
[843,6844940,{"$f":"VLOOKUP(A224,'Crete Monee Totals 5-8'!A:B,2,0)","v":44930},6800010,{"$f":"VLOOKUP(A224,'AFR18'!A:L,12,0)","v":6800010},0]
[844,84089639,{"$f":"VLOOKUP(A225,'Crete Monee Totals 5-8'!A:B,2,0)","v":74845},84014794,{"$f":"VLOOKUP(A225,'AFR18'!A:L,12,0)","v":84014794},0]
[845,6242114.5800000001,{"$f":"VLOOKUP(A226,'Crete Monee Totals 5-8'!A:B,2,0)","v":23077},6219037.5800000001,{"$f":"VLOOKUP(A226,'AFR18'!A:L,12,0)","v":6219037.5800000001},0]
[846,4057871.45,{"$f":"VLOOKUP(A227,'Crete Monee Totals 5-8'!A:B,2,0)","v":4025},4053846.45,{"$f":"VLOOKUP(A227,'AFR18'!A:L,12,0)","v":4053846.45},0]
[847,11764393.029999999,{"$f":"VLOOKUP(A228,'Crete Monee Totals 5-8'!A:B,2,0)","v":27102},11737291.029999999,{"$f":"VLOOKUP(A228,'AFR18'!A:L,12,0)","v":11737291.029999999},0]
[848,17287270.149999999,{"$f":"VLOOKUP(A229,'Crete Monee Totals 5-8'!A:B,2,0)","v":32975},17254295.149999999,{"$f":"VLOOKUP(A229,'AFR18'!A:L,12,0)","v":17254295.149999999},0]
[849,208142,{"$f":"VLOOKUP(A230,'Crete Monee Totals 5-8'!A:B,2,0)","v":4855},203287,{"$f":"VLOOKUP(A230,'AFR18'!A:L,12,0)","v":203287},0]
[850,17495412.149999999,{"$f":"VLOOKUP(A231,'Crete Monee Totals 5-8'!A:B,2,0)","v":37830},17457582.149999999,{"$f":"VLOOKUP(A231,'AFR18'!A:L,12,0)","v":17457582.149999999},0]
[851,1332507,{"$f":"VLOOKUP(A232,'Crete Monee Totals 5-8'!A:B,2,0)","v":43726},1288781,{"$f":"VLOOKUP(A232,'AFR18'!A:L,12,0)","v":1288781},0]
[852,4536208.59,{"$f":"VLOOKUP(A233,'Crete Monee Totals 5-8'!A:B,2,0)","v":11098},4525110.59,{"$f":"VLOOKUP(A233,'AFR18'!A:L,12,0)","v":4525110.59},0]
[853,31151230,{"$f":"VLOOKUP(A234,'Crete Monee Totals 5-8'!A:B,2,0)","v":114},31151116,{"$f":"VLOOKUP(A234,'AFR18'!A:L,12,0)","v":31151116},0]
[854,930489,0,930489,{"$f":"VLOOKUP(A235,'AFR18'!A:L,12,0)","v":930489},0]
[855,286163744.51999998,{"$f":"VLOOKUP(A236,'Crete Monee Totals 5-8'!A:B,2,0)","v":1003597},285160147.51999998,{"$f":"VLOOKUP(A236,'AFR18'!A:L,12,0)","v":285160147.51999998},0]
[856,4915671,0,4915671,{"$f":"VLOOKUP(A237,'AFR18'!A:L,12,0)","v":4915671},0]
[858,329029850.11000001,{"$f":"VLOOKUP(A238,'Crete Monee Totals 5-8'!A:B,2,0)","v":1058535},327971315.11000001,{"$f":"VLOOKUP(A238,'AFR18'!A:L,12,0)","v":327971315.11000001},0]
[859,261901,0,261901,{"$f":"VLOOKUP(A239,'AFR18'!A:L,12,0)","v":261901},0]
[860,824442,0,824442,{"$f":"VLOOKUP(A240,'AFR18'!A:L,12,0)","v":824442},0]
[861,6163384,{"$f":"VLOOKUP(A241,'Crete Monee Totals 5-8'!A:B,2,0)","v":23291},6140093,{"$f":"VLOOKUP(A241,'AFR18'!A:L,12,0)","v":6140093},0]
[862,1757397,{"$f":"VLOOKUP(A242,'Crete Monee Totals 5-8'!A:B,2,0)","v":92459},1664938,{"$f":"VLOOKUP(A242,'AFR18'!A:L,12,0)","v":1664938},0]
[864,45671959,{"$f":"VLOOKUP(A243,'Crete Monee Totals 5-8'!A:B,2,0)","v":476423},45195536,{"$f":"VLOOKUP(A243,'AFR18'!A:L,12,0)","v":45195536},0]
[866,54679083,{"$f":"VLOOKUP(A244,'Crete Monee Totals 5-8'!A:B,2,0)","v":592173},54086910,{"$f":"VLOOKUP(A244,'AFR18'!A:L,12,0)","v":54086910},0]
[867,6818541,{"$f":"VLOOKUP(A245,'Crete Monee Totals 5-8'!A:B,2,0)","v":331},6818210,{"$f":"VLOOKUP(A245,'AFR18'!A:L,12,0)","v":6818210},0]
[868,523620687.97999996,{"$f":"VLOOKUP(A246,'Crete Monee Totals 5-8'!A:B,2,0)","v":1853469},521767218.97999996,{"$f":"VLOOKUP(A246,'AFR18'!A:L,12,0)","v":521767218.97999996},0]
[869,10866848,{"$f":"VLOOKUP(A247,'Crete Monee Totals 5-8'!A:B,2,0)","v":51681},10815167,{"$f":"VLOOKUP(A247,'AFR18'!A:L,12,0)","v":10815167},0]
[870,971343313.83000004,{"$f":"VLOOKUP(A248,'Crete Monee Totals 5-8'!A:B,2,0)","v":3504287},967839026.83000004,{"$f":"VLOOKUP(A248,'AFR18'!A:L,12,0)","v":967839026.83000004},0]
[876,39678418.5,{"$f":"VLOOKUP(A249,'Crete Monee Totals 5-8'!A:B,2,0)","v":43455},39634963.5,{"$f":"VLOOKUP(A249,'AFR18'!A:L,12,0)","v":39634963.5},0]
[877,5435,0,5435,{"$f":"VLOOKUP(A250,'AFR18'!A:L,12,0)","v":5435},0]
[883,98275,0,98275,{"$f":"VLOOKUP(A251,'AFR18'!A:L,12,0)","v":98275},0]
[887,48943,0,48943,{"$f":"VLOOKUP(A252,'AFR18'!A:L,12,0)","v":48943},0]
[888,5440346.9100000001,0,5440346.9100000001,{"$f":"VLOOKUP(A253,'AFR18'!A:L,12,0)","v":5440346.9100000001},0]
[889,3285849,{"$f":"VLOOKUP(A254,'Crete Monee Totals 5-8'!A:B,2,0)","v":20260},3265589,{"$f":"VLOOKUP(A254,'AFR18'!A:L,12,0)","v":3265589},0]
[890,19020,0,19020,{"$f":"VLOOKUP(A255,'AFR18'!A:L,12,0)","v":19020},0]
[891,59893830.68,{"$f":"VLOOKUP(A256,'Crete Monee Totals 5-8'!A:B,2,0)","v":79768},59814062.68,{"$f":"VLOOKUP(A256,'AFR18'!A:L,12,0)","v":59814062.68},0]
[892,128225,0,128225,{"$f":"VLOOKUP(A257,'AFR18'!A:L,12,0)","v":128225},0]
[893,52906,0,52906,{"$f":"VLOOKUP(A258,'AFR18'!A:L,12,0)","v":52906},0]
[894,406625,0,{"$f":"SUM(B259-C259)","v":406625},{"$f":"VLOOKUP(A259,'AFR18'!A:L,12,0)","v":406625},{"$f":"SUM(D259-E259)","v":0}]
[895,5340,0,5340,{"$f":"VLOOKUP(A260,'AFR18'!A:L,12,0)","v":5340},0]
[896,181147,0,181147,{"$f":"VLOOKUP(A261,'AFR18'!A:L,12,0)","v":181147},0]
[897,787537,0,787537,{"$f":"VLOOKUP(A262,'AFR18'!A:L,12,0)","v":787537},0]
[898,1561780,0,1561780,{"$f":"VLOOKUP(A263,'AFR18'!A:L,12,0)","v":1561780},0]
[899,6827680,0,6827680,{"$f":"VLOOKUP(A264,'AFR18'!A:L,12,0)","v":6827680},0]
[900,25432965,0,25432965,{"$f":"VLOOKUP(A265,'AFR18'!A:L,12,0)","v":25432965},0]
[901,53753,0,53753,{"$f":"VLOOKUP(A266,'AFR18'!A:L,12,0)","v":53753},0]
[902,32314398,0,32314398,{"$f":"VLOOKUP(A267,'AFR18'!A:L,12,0)","v":32314398},0]
[903,473715,0,473715,{"$f":"VLOOKUP(A268,'AFR18'!A:L,12,0)","v":473715},0]
[904,362208,0,362208,{"$f":"VLOOKUP(A269,'AFR18'!A:L,12,0)","v":362208},0]
[905,904985,0,904985,{"$f":"VLOOKUP(A270,'AFR18'!A:L,12,0)","v":904985},0]
[906,1114046.3,0,1114046.3,{"$f":"VLOOKUP(A271,'AFR18'!A:L,12,0)","v":1114046.3},0]
[907,38433,0,38433,{"$f":"VLOOKUP(A272,'AFR18'!A:L,12,0)","v":38433},0]
[908,1152479.3,0,1152479.3,{"$f":"VLOOKUP(A273,'AFR18'!A:L,12,0)","v":1152479.3},0]
[909,279262,0,279262,{"$f":"VLOOKUP(A274,'AFR18'!A:L,12,0)","v":279262},0]
[910,1177269.8199999998,0,1177269.8199999998,{"$f":"VLOOKUP(A275,'AFR18'!A:L,12,0)","v":1177269.8199999998},0]
[911,13290712,0,13290712,{"$f":"VLOOKUP(A276,'AFR18'!A:L,12,0)","v":13290712},0]
[912,162356,{"$f":"VLOOKUP(A277,'Crete Monee Totals 5-8'!A:B,2,0)","v":62053},100303,{"$f":"VLOOKUP(A277,'AFR18'!A:L,12,0)","v":100303},0]
[913,6014640.6600000001,0,6014640.6600000001,{"$f":"VLOOKUP(A278,'AFR18'!A:L,12,0)","v":6014640.6600000001},0]
[914,1726802,0,1726802,{"$f":"VLOOKUP(A279,'AFR18'!A:L,12,0)","v":1726802},0]
[916,22651042.48,{"$f":"VLOOKUP(A280,'Crete Monee Totals 5-8'!A:B,2,0)","v":62053},22588989.48,{"$f":"VLOOKUP(A280,'AFR18'!A:L,12,0)","v":22588989.48},0]
[917,111124,0,111124,{"$f":"VLOOKUP(A281,'AFR18'!A:L,12,0)","v":111124},0]
[918,240238,0,240238,{"$f":"VLOOKUP(A282,'AFR18'!A:L,12,0)","v":240238},0]
[919,6321928,0,6321928,{"$f":"VLOOKUP(A283,'AFR18'!A:L,12,0)","v":6321928},0]
[920,236522,0,236522,{"$f":"VLOOKUP(A284,'AFR18'!A:L,12,0)","v":236522},0]
[922,45564329,{"$f":"VLOOKUP(A285,'Crete Monee Totals 5-8'!A:B,2,0)","v":10747},45553582,{"$f":"VLOOKUP(A285,'AFR18'!A:L,12,0)","v":45553582},0]
[924,52474141,{"$f":"VLOOKUP(A286,'Crete Monee Totals 5-8'!A:B,2,0)","v":10747},52463394,{"$f":"VLOOKUP(A286,'AFR18'!A:L,12,0)","v":52463394},0]
[925,1433450,0,1433450,{"$f":"VLOOKUP(A287,'AFR18'!A:L,12,0)","v":1433450},0]
[926,112492275.77999999,{"$f":"VLOOKUP(A288,'Crete Monee Totals 5-8'!A:B,2,0)","v":72800},112419475.77999999,{"$f":"VLOOKUP(A288,'AFR18'!A:L,12,0)","v":112419475.77999999},0]
[927,1035297,0,1035297,{"$f":"VLOOKUP(A289,'AFR18'!A:L,12,0)","v":1035297},0]
[928,173421403.46000001,{"$f":"VLOOKUP(A290,'Crete Monee Totals 5-8'!A:B,2,0)","v":152568},173268835.46000001,{"$f":"VLOOKUP(A290,'AFR18'!A:L,12,0)","v":173268835.46000001},0]
[934,9069295,{"$f":"VLOOKUP(A291,'Crete Monee Totals 5-8'!A:B,2,0)","v":4414},9064881,{"$f":"VLOOKUP(A291,'AFR18'!A:L,12,0)","v":9064881},0]
[935,56094,0,56094,{"$f":"VLOOKUP(A292,'AFR18'!A:L,12,0)","v":56094},0]
[941,63945,0,63945,{"$f":"VLOOKUP(A293,'AFR18'!A:L,12,0)","v":63945},0]
[945,37750,0,37750,{"$f":"VLOOKUP(A294,'AFR18'!A:L,12,0)","v":37750},0]
[946,2902198,0,2902198,{"$f":"VLOOKUP(A295,'AFR18'!A:L,12,0)","v":2902198},0]
[947,9645390,{"$f":"VLOOKUP(A296,'Crete Monee Totals 5-8'!A:B,2,0)","v":37763},9607627,{"$f":"VLOOKUP(A296,'AFR18'!A:L,12,0)","v":9607627},0]
[948,590017,0,590017,{"$f":"VLOOKUP(A297,'AFR18'!A:L,12,0)","v":590017},0]
[949,387764326,{"$f":"VLOOKUP(A298,'Crete Monee Totals 5-8'!A:B,2,0)","v":2535379},385228947,{"$f":"VLOOKUP(A298,'AFR18'!A:L,12,0)","v":385228947},0]
[950,71519,0,71519,{"$f":"VLOOKUP(A299,'AFR18'!A:L,12,0)","v":71519},0]
[951,774353,0,774353,{"$f":"VLOOKUP(A300,'AFR18'!A:L,12,0)","v":774353},0]
[952,148404,0,148404,{"$f":"VLOOKUP(A301,'AFR18'!A:L,12,0)","v":148404},0]
[953,36736,0,36736,{"$f":"VLOOKUP(A302,'AFR18'!A:L,12,0)","v":36736},0]
[954,43115,0,43115,{"$f":"VLOOKUP(A303,'AFR18'!A:L,12,0)","v":43115},0]
[955,273263,0,273263,{"$f":"VLOOKUP(A304,'AFR18'!A:L,12,0)","v":273263},0]
[956,1347390,0,1347390,{"$f":"VLOOKUP(A305,'AFR18'!A:L,12,0)","v":1347390},0]
[957,2537993,{"$f":"VLOOKUP(A306,'Crete Monee Totals 5-8'!A:B,2,0)","v":2741},2535252,{"$f":"VLOOKUP(A306,'AFR18'!A:L,12,0)","v":2535252},0]
[958,978494,0,978494,{"$f":"VLOOKUP(A307,'AFR18'!A:L,12,0)","v":978494},0]
[959,88172,0,88172,{"$f":"VLOOKUP(A308,'AFR18'!A:L,12,0)","v":88172},0]
[960,3604659,{"$f":"VLOOKUP(A309,'Crete Monee Totals 5-8'!A:B,2,0)","v":2741},3601918,{"$f":"VLOOKUP(A309,'AFR18'!A:L,12,0)","v":3601918},0]
[961,11298552.51,{"$f":"VLOOKUP(A310,'Crete Monee Totals 5-8'!A:B,2,0)","v":19941},11278611.51,{"$f":"VLOOKUP(A310,'AFR18'!A:L,12,0)","v":11278611.51},0]
[962,3332787.63,{"$f":"VLOOKUP(A311,'Crete Monee Totals 5-8'!A:B,2,0)","v":-4506},3337293.63,{"$f":"VLOOKUP(A311,'AFR18'!A:L,12,0)","v":3337293.63},0]
[963,16325238.140000001,{"$f":"VLOOKUP(A312,'Crete Monee Totals 5-8'!A:B,2,0)","v":15435},16309803.140000001,{"$f":"VLOOKUP(A312,'AFR18'!A:L,12,0)","v":16309803.140000001},0]
[964,2373609.7599999998,{"$f":"VLOOKUP(A313,'Crete Monee Totals 5-8'!A:B,2,0)","v":4206},2369403.7599999998,{"$f":"VLOOKUP(A313,'AFR18'!A:L,12,0)","v":2369403.7599999998},0]
[965,22530,0,22530,{"$f":"VLOOKUP(A314,'AFR18'!A:L,12,0)","v":22530},0]
[966,2396139.7599999998,{"$f":"VLOOKUP(A315,'Crete Monee Totals 5-8'!A:B,2,0)","v":4206},2391933.7599999998,{"$f":"VLOOKUP(A315,'AFR18'!A:L,12,0)","v":2391933.7599999998},0]
[967,736033,{"$f":"VLOOKUP(A316,'Crete Monee Totals 5-8'!A:B,2,0)","v":370},735663,{"$f":"VLOOKUP(A316,'AFR18'!A:L,12,0)","v":735663},0]
[968,3208027,0,3208027,{"$f":"VLOOKUP(A317,'AFR18'!A:L,12,0)","v":3208027},0]
[969,286836,0,286836,{"$f":"VLOOKUP(A318,'AFR18'!A:L,12,0)","v":286836},0]
[970,3962,0,3962,{"$f":"VLOOKUP(A319,'AFR18'!A:L,12,0)","v":3962},0]
[971,1369384,{"$f":"VLOOKUP(A320,'Crete Monee Totals 5-8'!A:B,2,0)","v":3533},1365851,{"$f":"VLOOKUP(A320,'AFR18'!A:L,12,0)","v":1365851},0]
[972,131205,0,131205,{"$f":"VLOOKUP(A321,'AFR18'!A:L,12,0)","v":131205},0]
[974,5735447,{"$f":"VLOOKUP(A322,'Crete Monee Totals 5-8'!A:B,2,0)","v":3903},5731544,{"$f":"VLOOKUP(A322,'AFR18'!A:L,12,0)","v":5731544},0]
[975,8040,0,{"$f":"SUM(B323-C323)","v":8040},{"$f":"VLOOKUP(A323,'AFR18'!A:L,12,0)","v":8040},{"$f":"SUM(D323-E323)","v":0}]
[976,24896,0,24896,{"$f":"VLOOKUP(A324,'AFR18'!A:L,12,0)","v":24896},0]
[977,364460,{"$f":"VLOOKUP(A325,'Crete Monee Totals 5-8'!A:B,2,0)","v":790},363670,{"$f":"VLOOKUP(A325,'AFR18'!A:L,12,0)","v":363670},0]
[978,457091,{"$f":"VLOOKUP(A326,'Crete Monee Totals 5-8'!A:B,2,0)","v":3846},453245,{"$f":"VLOOKUP(A326,'AFR18'!A:L,12,0)","v":453245},0]
[980,1258165,{"$f":"VLOOKUP(A327,'Crete Monee Totals 5-8'!A:B,2,0)","v":556},1257609,{"$f":"VLOOKUP(A327,'AFR18'!A:L,12,0)","v":1257609},0]
[982,2112652,{"$f":"VLOOKUP(A328,'Crete Monee Totals 5-8'!A:B,2,0)","v":5192},2107460,{"$f":"VLOOKUP(A328,'AFR18'!A:L,12,0)","v":2107460},0]
[983,835808,0,835808,{"$f":"VLOOKUP(A329,'AFR18'!A:L,12,0)","v":835808},0]
[984,32357333.900000002,{"$f":"VLOOKUP(A330,'Crete Monee Totals 5-8'!A:B,2,0)","v":31477},32325856.900000002,{"$f":"VLOOKUP(A330,'AFR18'!A:L,12,0)","v":32325856.900000002},0]
[985,8089812,{"$f":"VLOOKUP(A331,'Crete Monee Totals 5-8'!A:B,2,0)","v":1081},8088731,{"$f":"VLOOKUP(A331,'AFR18'!A:L,12,0)","v":8088731},0]
[986,532923686.52999997,{"$f":"VLOOKUP(A332,'Crete Monee Totals 5-8'!A:B,2,0)","v":1180976},531742710.52999997,{"$f":"VLOOKUP(A332,'AFR18'!A:L,12,0)","v":531742710.52999997},0]
[987,996434,0,996434,{"$f":"VLOOKUP(A333,'AFR18'!A:L,12,0)","v":996434},0]
[988,130730,0,130730,{"$f":"VLOOKUP(A334,'AFR18'!A:L,12,0)","v":130730},0]
[990,293196,0,293196,{"$f":"VLOOKUP(A335,'AFR18'!A:L,12,0)","v":293196},0]
[992,32394652,0,32394652,{"$f":"VLOOKUP(A336,'AFR18'!A:L,12,0)","v":32394652},0]
[993,995284591.42999995,{"$f":"VLOOKUP(A337,'Crete Monee Totals 5-8'!A:B,2,0)","v":3748952},991535639.42999995,{"$f":"VLOOKUP(A337,'AFR18'!A:L,12,0)","v":991535639.42999995},0]
[1032,9094046222.6399994,{"$f":"VLOOKUP(A338,'Crete Monee Totals 5-8'!A:B,2,0)","v":18336539},9075709683.6399994,{"$f":"VLOOKUP(A338,'AFR18'!A:L,12,0)","v":9075709683.6399994},0]
[1033,64631212,0,64631212,{"$f":"VLOOKUP(A339,'AFR18'!A:L,12,0)","v":64631212},0]
[1039,445812880,{"$f":"VLOOKUP(A340,'Crete Monee Totals 5-8'!A:B,2,0)","v":3817},445809063,{"$f":"VLOOKUP(A340,'AFR18'!A:L,12,0)","v":445809063},0]
[1043,11680729,0,11680729,{"$f":"VLOOKUP(A341,'AFR18'!A:L,12,0)","v":11680729},0]
[1044,239632882.56999999,{"$f":"VLOOKUP(A342,'Crete Monee Totals 5-8'!A:B,2,0)","v":14262},239618620.56999999,{"$f":"VLOOKUP(A342,'AFR18'!A:L,12,0)","v":239618620.56999999},0]
[1045,399458362.69999999,{"$f":"VLOOKUP(A343,'Crete Monee Totals 5-8'!A:B,2,0)","v":1539513},397918849.69999999,{"$f":"VLOOKUP(A343,'AFR18'!A:L,12,0)","v":397918849.69999999},0]
[1046,54875489.770000003,{"$f":"VLOOKUP(A344,'Crete Monee Totals 5-8'!A:B,2,0)","v":74320},54801169.770000003,{"$f":"VLOOKUP(A344,'AFR18'!A:L,12,0)","v":54801169.770000003},0]
[1047,14575394777.520002,{"$f":"VLOOKUP(A345,'Crete Monee Totals 5-8'!A:B,2,0)","v":33949825},14541444952.520002,{"$f":"VLOOKUP(A345,'AFR18'!A:L,12,0)","v":14541444952.520002},0]
[1048,342415999,{"$f":"VLOOKUP(A346,'Crete Monee Totals 5-8'!A:B,2,0)","v":843142},341572857,{"$f":"VLOOKUP(A346,'AFR18'!A:L,12,0)","v":341572857},0]
[1049,388175192.58999997,{"$f":"VLOOKUP(A347,'Crete Monee Totals 5-8'!A:B,2,0)","v":645363},387529829.58999997,{"$f":"VLOOKUP(A347,'AFR18'!A:L,12,0)","v":387529829.58999997},0]
[1050,225352793.38,{"$f":"VLOOKUP(A348,'Crete Monee Totals 5-8'!A:B,2,0)","v":530322},224822471.38,{"$f":"VLOOKUP(A348,'AFR18'!A:L,12,0)","v":224822471.38},0]
[1051,157484237,{"$f":"VLOOKUP(A349,'Crete Monee Totals 5-8'!A:B,2,0)","v":607350},156876887,{"$f":"VLOOKUP(A349,'AFR18'!A:L,12,0)","v":156876887},0]
[1052,262489955.90000001,{"$f":"VLOOKUP(A350,'Crete Monee Totals 5-8'!A:B,2,0)","v":1021455},261468500.90000001,{"$f":"VLOOKUP(A350,'AFR18'!A:L,12,0)","v":261468500.90000001},0]
[1053,101546181.69,{"$f":"VLOOKUP(A351,'Crete Monee Totals 5-8'!A:B,2,0)","v":130809},101415372.69,{"$f":"VLOOKUP(A351,'AFR18'!A:L,12,0)","v":101415372.69},0]
[1054,1477464359.5599999,{"$f":"VLOOKUP(A352,'Crete Monee Totals 5-8'!A:B,2,0)","v":3778441},1473685918.5599999,{"$f":"VLOOKUP(A352,'AFR18'!A:L,12,0)","v":1473685918.5599999},0]
[1055,493835491.05000001,{"$f":"VLOOKUP(A353,'Crete Monee Totals 5-8'!A:B,2,0)","v":924338},492911153.05000001,{"$f":"VLOOKUP(A353,'AFR18'!A:L,12,0)","v":492911153.05000001},0]
[1056,386993967.73000002,{"$f":"VLOOKUP(A354,'Crete Monee Totals 5-8'!A:B,2,0)","v":226028},386767939.73000002,{"$f":"VLOOKUP(A354,'AFR18'!A:L,12,0)","v":386767939.73000002},0]
[1057,46198146,{"$f":"VLOOKUP(A355,'Crete Monee Totals 5-8'!A:B,2,0)","v":161678},46036468,{"$f":"VLOOKUP(A355,'AFR18'!A:L,12,0)","v":46036468},0]
[1058,927027604.77999997,{"$f":"VLOOKUP(A356,'Crete Monee Totals 5-8'!A:B,2,0)","v":1312044},925715560.77999997,{"$f":"VLOOKUP(A356,'AFR18'!A:L,12,0)","v":925715560.77999997},0]
[1059,186529674.84999999,{"$f":"VLOOKUP(A357,'Crete Monee Totals 5-8'!A:B,2,0)","v":465199},186064475.84999999,{"$f":"VLOOKUP(A357,'AFR18'!A:L,12,0)","v":186064475.84999999},0]
[1060,233536080.65000001,{"$f":"VLOOKUP(A358,'Crete Monee Totals 5-8'!A:B,2,0)","v":486845},233049235.65000001,{"$f":"VLOOKUP(A358,'AFR18'!A:L,12,0)","v":233049235.65000001},0]
[1061,537753898.5,{"$f":"VLOOKUP(A359,'Crete Monee Totals 5-8'!A:B,2,0)","v":1782170},535971728.5,{"$f":"VLOOKUP(A359,'AFR18'!A:L,12,0)","v":535971728.5},0]
[1062,1130256236.78,{"$f":"VLOOKUP(A360,'Crete Monee Totals 5-8'!A:B,2,0)","v":2921870},1127334366.78,{"$f":"VLOOKUP(A360,'AFR18'!A:L,12,0)","v":1127334366.78},0]
[1063,54267350,{"$f":"VLOOKUP(A361,'Crete Monee Totals 5-8'!A:B,2,0)","v":1251959},53015391,{"$f":"VLOOKUP(A361,'AFR18'!A:L,12,0)","v":53015391},0]
[1064,1184523586.78,{"$f":"VLOOKUP(A362,'Crete Monee Totals 5-8'!A:B,2,0)","v":4173829},1180349757.78,{"$f":"VLOOKUP(A362,'AFR18'!A:L,12,0)","v":1180349757.78},0]
[1065,69053570,{"$f":"VLOOKUP(A363,'Crete Monee Totals 5-8'!A:B,2,0)","v":655009},68398561,{"$f":"VLOOKUP(A363,'AFR18'!A:L,12,0)","v":68398561},0]
[1066,170892310.88999999,{"$f":"VLOOKUP(A364,'Crete Monee Totals 5-8'!A:B,2,0)","v":422612},170469698.88999999,{"$f":"VLOOKUP(A364,'AFR18'!A:L,12,0)","v":170469698.88999999},0]
[1067,226997815.16,{"$f":"VLOOKUP(A365,'Crete Monee Totals 5-8'!A:B,2,0)","v":704665},226293150.16,{"$f":"VLOOKUP(A365,'AFR18'!A:L,12,0)","v":226293150.16},0]
[1068,136812110,{"$f":"VLOOKUP(A366,'Crete Monee Totals 5-8'!A:B,2,0)","v":62053},136750057,{"$f":"VLOOKUP(A366,'AFR18'!A:L,12,0)","v":136750057},0]
[1069,770312748.13,{"$f":"VLOOKUP(A367,'Crete Monee Totals 5-8'!A:B,2,0)","v":1989935},768322813.13,{"$f":"VLOOKUP(A367,'AFR18'!A:L,12,0)","v":768322813.13},0]
[1070,30148653.629999999,0,30148653.629999999,{"$f":"VLOOKUP(A368,'AFR18'!A:L,12,0)","v":30148653.629999999},0]
[1072,1404217207.8100002,{"$f":"VLOOKUP(A369,'Crete Monee Totals 5-8'!A:B,2,0)","v":3834274},1400382933.8100002,{"$f":"VLOOKUP(A369,'AFR18'!A:L,12,0)","v":1400382933.8100002},0]
[1073,11947405,0,11947405,{"$f":"VLOOKUP(A370,'AFR18'!A:L,12,0)","v":11947405},0]
[1074,25428545,{"$f":"VLOOKUP(A371,'Crete Monee Totals 5-8'!A:B,2,0)","v":146512},25282033,{"$f":"VLOOKUP(A371,'AFR18'!A:L,12,0)","v":25282033},0]
[1075,62354292,{"$f":"VLOOKUP(A372,'Crete Monee Totals 5-8'!A:B,2,0)","v":387941},61966351,{"$f":"VLOOKUP(A372,'AFR18'!A:L,12,0)","v":61966351},0]
[1076,110952067,{"$f":"VLOOKUP(A373,'Crete Monee Totals 5-8'!A:B,2,0)","v":738654},110213413,{"$f":"VLOOKUP(A373,'AFR18'!A:L,12,0)","v":110213413},0]
[1078,321655118.68000001,{"$f":"VLOOKUP(A374,'Crete Monee Totals 5-8'!A:B,2,0)","v":3876962},317778156.68000001,{"$f":"VLOOKUP(A374,'AFR18'!A:L,12,0)","v":317778156.68000001},0]
[1080,532337427.68000001,{"$f":"VLOOKUP(A375,'Crete Monee Totals 5-8'!A:B,2,0)","v":5150069},527187358.68000001,{"$f":"VLOOKUP(A375,'AFR18'!A:L,12,0)","v":527187358.68000001},0]
[1081,41405050,{"$f":"VLOOKUP(A376,'Crete Monee Totals 5-8'!A:B,2,0)","v":18665},41386385,{"$f":"VLOOKUP(A376,'AFR18'!A:L,12,0)","v":41386385},0]
[1082,6104729135.1100006,{"$f":"VLOOKUP(A377,'Crete Monee Totals 5-8'!A:B,2,0)","v":20049492},6084679643.1100006,{"$f":"VLOOKUP(A377,'AFR18'!A:L,12,0)","v":6084679643.1100006},0]
[1083,157232594,{"$f":"VLOOKUP(A378,'Crete Monee Totals 5-8'!A:B,2,0)","v":353255},156879339,{"$f":"VLOOKUP(A378,'AFR18'!A:L,12,0)","v":156879339},0]
[1084,741197906.94000006,{"$f":"VLOOKUP(A379,'Crete Monee Totals 5-8'!A:B,2,0)","v":1180976},740016930.94000006,{"$f":"VLOOKUP(A379,'AFR18'!A:L,12,0)","v":740016930.94000006},0]
[1085,996434,0,996434,{"$f":"VLOOKUP(A380,'AFR18'!A:L,12,0)","v":996434},0]
[1086,130730,0,130730,{"$f":"VLOOKUP(A381,'AFR18'!A:L,12,0)","v":130730},0]
[1088,293196,0,293196,{"$f":"VLOOKUP(A382,'AFR18'!A:L,12,0)","v":293196},0]
[1090,32394652,0,32394652,{"$f":"VLOOKUP(A383,'AFR18'!A:L,12,0)","v":32394652},0]
[1091,21612703846.57,{"$f":"VLOOKUP(A384,'Crete Monee Totals 5-8'!A:B,2,0)","v":55533587},21557170259.57,{"$f":"VLOOKUP(A384,'AFR18'!A:L,12,0)","v":21557170259.57},0]
[1092,1235723474.29,{"$f":"VLOOKUP(A385,'Crete Monee Totals 5-8'!A:B,2,0)","v":-3388167},1239111641.29,{"$f":"VLOOKUP(A385,'AFR18'!A:L,12,0)","v":1239111641.29},0]
[1158,2729805,0,2729805,{"$f":"VLOOKUP(A386,'AFR18'!A:L,12,0)","v":2729805},0]
[1159,1045563,0,{"$f":"SUM(B387-C387)","v":1045563},{"$f":"VLOOKUP(A387,'AFR18'!A:L,12,0)","v":1045563},{"$f":"SUM(D387-E387)","v":0}]
[1160,610675508.8599999,{"$f":"VLOOKUP(A388,'Crete Monee Totals 5-8'!A:B,2,0)","v":1716883},608958625.8599999,{"$f":"VLOOKUP(A388,'AFR18'!A:L,12,0)","v":608958625.8599999},0]
[1162,614514065.8599999,{"$f":"VLOOKUP(A389,'Crete Monee Totals 5-8'!A:B,2,0)","v":1716883},612797182.8599999,{"$f":"VLOOKUP(A389,'AFR18'!A:L,12,0)","v":612797182.8599999},0]
[1163,1113815,0,1113815,{"$f":"VLOOKUP(A390,'AFR18'!A:L,12,0)","v":1113815},0]
[1164,615730305.8599999,{"$f":"VLOOKUP(A391,'Crete Monee Totals 5-8'!A:B,2,0)","v":1716883},614013422.8599999,{"$f":"VLOOKUP(A391,'AFR18'!A:L,12,0)","v":614013422.8599999},0]
[1165,616044748.8599999,{"$f":"VLOOKUP(A392,'Crete Monee Totals 5-8'!A:B,2,0)","v":1716883},614327865.8599999,{"$f":"VLOOKUP(A392,'AFR18'!A:L,12,0)","v":614327865.8599999},0]
[1166,492107,0,492107,{"$f":"VLOOKUP(A393,'AFR18'!A:L,12,0)","v":492107},0]
[1167,150047,0,150047,{"$f":"VLOOKUP(A394,'AFR18'!A:L,12,0)","v":150047},0]
[1168,123255576.03,{"$f":"VLOOKUP(A395,'Crete Monee Totals 5-8'!A:B,2,0)","v":373015},122882561.03,{"$f":"VLOOKUP(A395,'AFR18'!A:L,12,0)","v":122882561.03},0]
[1170,123911374.03,{"$f":"VLOOKUP(A396,'Crete Monee Totals 5-8'!A:B,2,0)","v":373015},123538359.03,{"$f":"VLOOKUP(A396,'AFR18'!A:L,12,0)","v":123538359.03},0]
[1171,183731,0,183731,{"$f":"VLOOKUP(A397,'AFR18'!A:L,12,0)","v":183731},0]
[1172,124386369.03,{"$f":"VLOOKUP(A398,'Crete Monee Totals 5-8'!A:B,2,0)","v":373015},124013354.03,{"$f":"VLOOKUP(A398,'AFR18'!A:L,12,0)","v":124013354.03},0]
[1173,124386388.03,{"$f":"VLOOKUP(A399,'Crete Monee Totals 5-8'!A:B,2,0)","v":373015},124013373.03,{"$f":"VLOOKUP(A399,'AFR18'!A:L,12,0)","v":124013373.03},0]
[1174,1390461,0,1390461,{"$f":"VLOOKUP(A400,'AFR18'!A:L,12,0)","v":1390461},0]
[1175,13249969,0,13249969,{"$f":"VLOOKUP(A401,'AFR18'!A:L,12,0)","v":13249969},0]
[1176,637259012.98000002,{"$f":"VLOOKUP(A402,'Crete Monee Totals 5-8'!A:B,2,0)","v":882789},636376223.98000002,{"$f":"VLOOKUP(A402,'AFR18'!A:L,12,0)","v":636376223.98000002},0]
[1178,652176957.09000003,{"$f":"VLOOKUP(A403,'Crete Monee Totals 5-8'!A:B,2,0)","v":882789},651294168.09000003,{"$f":"VLOOKUP(A403,'AFR18'!A:L,12,0)","v":651294168.09000003},0]
[1179,1971924,0,1971924,{"$f":"VLOOKUP(A404,'AFR18'!A:L,12,0)","v":1971924},0]
[1180,654215354.09000003,{"$f":"VLOOKUP(A405,'Crete Monee Totals 5-8'!A:B,2,0)","v":882789},653332565.09000003,{"$f":"VLOOKUP(A405,'AFR18'!A:L,12,0)","v":653332565.09000003},0]
[1181,656627702.09000003,{"$f":"VLOOKUP(A406,'Crete Monee Totals 5-8'!A:B,2,0)","v":882789},655744913.09000003,{"$f":"VLOOKUP(A406,'AFR18'!A:L,12,0)","v":655744913.09000003},0]
[1182,49148,0,49148,{"$f":"VLOOKUP(A407,'AFR18'!A:L,12,0)","v":49148},0]
[1183,524525,0,524525,{"$f":"VLOOKUP(A408,'AFR18'!A:L,12,0)","v":524525},0]
[1184,469630568.32999998,{"$f":"VLOOKUP(A409,'Crete Monee Totals 5-8'!A:B,2,0)","v":1149873},468480695.32999998,{"$f":"VLOOKUP(A409,'AFR18'!A:L,12,0)","v":468480695.32999998},0]
[1186,470314919.32999998,{"$f":"VLOOKUP(A410,'Crete Monee Totals 5-8'!A:B,2,0)","v":1149873},469165046.32999998,{"$f":"VLOOKUP(A410,'AFR18'!A:L,12,0)","v":469165046.32999998},0]
[1187,88374,0,88374,{"$f":"VLOOKUP(A411,'AFR18'!A:L,12,0)","v":88374},0]
[1188,470406503.32999998,{"$f":"VLOOKUP(A412,'Crete Monee Totals 5-8'!A:B,2,0)","v":1149873},469256630.32999998,{"$f":"VLOOKUP(A412,'AFR18'!A:L,12,0)","v":469256630.32999998},0]
[1189,470416586.32999998,{"$f":"VLOOKUP(A413,'Crete Monee Totals 5-8'!A:B,2,0)","v":1149873},469266713.32999998,{"$f":"VLOOKUP(A413,'AFR18'!A:L,12,0)","v":469266713.32999998},0]
[1190,278746,0,278746,{"$f":"VLOOKUP(A414,'AFR18'!A:L,12,0)","v":278746},0]
[1191,118952872,0,118952872,{"$f":"VLOOKUP(A415,'AFR18'!A:L,12,0)","v":118952872},0]
[1192,178997104.59999999,{"$f":"VLOOKUP(A416,'Crete Monee Totals 5-8'!A:B,2,0)","v":150313},178846791.59999999,{"$f":"VLOOKUP(A416,'AFR18'!A:L,12,0)","v":178846791.59999999},0]
[1193,331017,0,331017,{"$f":"VLOOKUP(A417,'AFR18'!A:L,12,0)","v":331017},0]
[1195,298663033.60000002,{"$f":"VLOOKUP(A418,'Crete Monee Totals 5-8'!A:B,2,0)","v":150313},298512720.60000002,{"$f":"VLOOKUP(A418,'AFR18'!A:L,12,0)","v":298512720.60000002},0]
[1196,407229,0,407229,{"$f":"VLOOKUP(A419,'AFR18'!A:L,12,0)","v":407229},0]
[1197,299072016.60000002,{"$f":"VLOOKUP(A420,'Crete Monee Totals 5-8'!A:B,2,0)","v":150313},298921703.60000002,{"$f":"VLOOKUP(A420,'AFR18'!A:L,12,0)","v":298921703.60000002},0]
[1198,299119187.60000002,{"$f":"VLOOKUP(A421,'Crete Monee Totals 5-8'!A:B,2,0)","v":150313},298968874.60000002,{"$f":"VLOOKUP(A421,'AFR18'!A:L,12,0)","v":298968874.60000002},0]
[1199,49581,0,49581,{"$f":"VLOOKUP(A422,'AFR18'!A:L,12,0)","v":49581},0]
[1200,391513,0,391513,{"$f":"VLOOKUP(A423,'AFR18'!A:L,12,0)","v":391513},0]
[1201,2786918,{"$f":"VLOOKUP(A424,'Crete Monee Totals 5-8'!A:B,2,0)","v":2117},2784801,{"$f":"VLOOKUP(A424,'AFR18'!A:L,12,0)","v":2784801},0]
[1203,3228012,{"$f":"VLOOKUP(A425,'Crete Monee Totals 5-8'!A:B,2,0)","v":2117},3225895,{"$f":"VLOOKUP(A425,'AFR18'!A:L,12,0)","v":3225895},0]
[1204,7015,0,7015,{"$f":"VLOOKUP(A426,'AFR18'!A:L,12,0)","v":7015},0]
[1205,3235027,{"$f":"VLOOKUP(A427,'Crete Monee Totals 5-8'!A:B,2,0)","v":2117},3232910,{"$f":"VLOOKUP(A427,'AFR18'!A:L,12,0)","v":3232910},0]
[1206,3315452,0,3315452,{"$f":"VLOOKUP(A428,'AFR18'!A:L,12,0)","v":3315452},0]
[1207,42020,0,42020,{"$f":"VLOOKUP(A429,'AFR18'!A:L,12,0)","v":42020},0]
[1209,52484,0,52484,{"$f":"VLOOKUP(A430,'AFR18'!A:L,12,0)","v":52484},0]
[1211,465579,0,465579,{"$f":"VLOOKUP(A431,'AFR18'!A:L,12,0)","v":465579},0]
[1212,8466058,{"$f":"VLOOKUP(A432,'Crete Monee Totals 5-8'!A:B,2,0)","v":2117},8463941,{"$f":"VLOOKUP(A432,'AFR18'!A:L,12,0)","v":8463941},0]
[1213,4995879,0,4995879,{"$f":"VLOOKUP(A433,'AFR18'!A:L,12,0)","v":4995879},0]
[1214,135647086,0,135647086,{"$f":"VLOOKUP(A434,'AFR18'!A:L,12,0)","v":135647086},0]
[1215,2031689555.8000002,{"$f":"VLOOKUP(A435,'Crete Monee Totals 5-8'!A:B,2,0)","v":4302232},2027387323.8000002,{"$f":"VLOOKUP(A435,'AFR18'!A:L,12,0)","v":2027387323.8000002},0]
[1216,412408,0,412408,{"$f":"VLOOKUP(A436,'AFR18'!A:L,12,0)","v":412408},0]
[1218,2173316550.9099998,{"$f":"VLOOKUP(A437,'Crete Monee Totals 5-8'!A:B,2,0)","v":4302232},2169014318.9099998,{"$f":"VLOOKUP(A437,'AFR18'!A:L,12,0)","v":2169014318.9099998},0]
[1219,3791478,0,3791478,{"$f":"VLOOKUP(A438,'AFR18'!A:L,12,0)","v":3791478},0]
[1220,2177573154.9099998,{"$f":"VLOOKUP(A439,'Crete Monee Totals 5-8'!A:B,2,0)","v":4302232},2173270922.9099998,{"$f":"VLOOKUP(A439,'AFR18'!A:L,12,0)","v":2173270922.9099998},0]
[1221,5672478,0,5672478,{"$f":"VLOOKUP(A440,'AFR18'!A:L,12,0)","v":5672478},0]
[1222,42020,0,42020,{"$f":"VLOOKUP(A441,'AFR18'!A:L,12,0)","v":42020},0]
[1224,52484,0,52484,{"$f":"VLOOKUP(A442,'AFR18'!A:L,12,0)","v":52484},0]
[1226,465579,0,465579,{"$f":"VLOOKUP(A443,'AFR18'!A:L,12,0)","v":465579},0]
[1227,2185589127.9099998,{"$f":"VLOOKUP(A444,'Crete Monee Totals 5-8'!A:B,2,0)","v":4302232},2181286895.9099998,{"$f":"VLOOKUP(A444,'AFR18'!A:L,12,0)","v":2181286895.9099998},0]
[1228,87171775.850000009,{"$f":"VLOOKUP(A445,'Crete Monee Totals 5-8'!A:B,2,0)","v":4942},87166833.850000009,{"$f":"VLOOKUP(A445,'AFR18'!A:L,12,0)","v":87166833.850000009},0]
[1246,5178488,{"$f":"VLOOKUP(A446,'Crete Monee Totals 5-8'!A:B,2,0)","v":725},5177763,{"$f":"VLOOKUP(A446,'AFR18'!A:L,12,0)","v":5177763},0]
[1247,5178488,{"$f":"VLOOKUP(A447,'Crete Monee Totals 5-8'!A:B,2,0)","v":725},5177763,{"$f":"VLOOKUP(A447,'AFR18'!A:L,12,0)","v":5177763},0]
[1248,5178488,{"$f":"VLOOKUP(A448,'Crete Monee Totals 5-8'!A:B,2,0)","v":725},5177763,{"$f":"VLOOKUP(A448,'AFR18'!A:L,12,0)","v":5177763},0]
[1249,17709,0,17709,{"$f":"VLOOKUP(A449,'AFR18'!A:L,12,0)","v":17709},0]
[1251,1017999205,{"$f":"VLOOKUP(A450,'Crete Monee Totals 5-8'!A:B,2,0)","v":1200978},1016798227,{"$f":"VLOOKUP(A450,'AFR18'!A:L,12,0)","v":1016798227},0]
[1252,616678,0,{"$f":"SUM(B451-C451)","v":616678},{"$f":"VLOOKUP(A451,'AFR18'!A:L,12,0)","v":616678},{"$f":"SUM(D451-E451)","v":0}]
[1253,2583817,0,2583817,{"$f":"VLOOKUP(A452,'AFR18'!A:L,12,0)","v":2583817},0]
[1254,1889344526,{"$f":"VLOOKUP(A453,'Crete Monee Totals 5-8'!A:B,2,0)","v":10491392},1878853134,{"$f":"VLOOKUP(A453,'AFR18'!A:L,12,0)","v":1878853134},0]
[1255,83881742,0,83881742,{"$f":"VLOOKUP(A454,'AFR18'!A:L,12,0)","v":83881742},0]
[1256,2993809290,{"$f":"VLOOKUP(A455,'Crete Monee Totals 5-8'!A:B,2,0)","v":11692370},2982116920,{"$f":"VLOOKUP(A455,'AFR18'!A:L,12,0)","v":2982116920},0]
[1257,2993949273,{"$f":"VLOOKUP(A456,'Crete Monee Totals 5-8'!A:B,2,0)","v":11692370},2982256903,{"$f":"VLOOKUP(A456,'AFR18'!A:L,12,0)","v":2982256903},0]
[1263,17709,0,17709,{"$f":"VLOOKUP(A457,'AFR18'!A:L,12,0)","v":17709},0]
[1265,1017999205,{"$f":"VLOOKUP(A458,'Crete Monee Totals 5-8'!A:B,2,0)","v":1200978},1016798227,{"$f":"VLOOKUP(A458,'AFR18'!A:L,12,0)","v":1016798227},0]
[1266,616678,0,616678,{"$f":"VLOOKUP(A459,'AFR18'!A:L,12,0)","v":616678},0]
[1267,2583817,0,2583817,{"$f":"VLOOKUP(A460,'AFR18'!A:L,12,0)","v":2583817},0]
[1268,1889344526,{"$f":"VLOOKUP(A461,'Crete Monee Totals 5-8'!A:B,2,0)","v":10491392},1878853134,{"$f":"VLOOKUP(A461,'AFR18'!A:L,12,0)","v":1878853134},0]
[1269,89060230,{"$f":"VLOOKUP(A462,'Crete Monee Totals 5-8'!A:B,2,0)","v":725},89059505,{"$f":"VLOOKUP(A462,'AFR18'!A:L,12,0)","v":89059505},0]
[1270,2998987778,{"$f":"VLOOKUP(A463,'Crete Monee Totals 5-8'!A:B,2,0)","v":11693095},2987294683,{"$f":"VLOOKUP(A463,'AFR18'!A:L,12,0)","v":2987294683},0]
[1271,2999127761,{"$f":"VLOOKUP(A464,'Crete Monee Totals 5-8'!A:B,2,0)","v":11693095},2987434666,{"$f":"VLOOKUP(A464,'AFR18'!A:L,12,0)","v":2987434666},0]
[1272,-790574024.20000005,{"$f":"VLOOKUP(A465,'Crete Monee Totals 5-8'!A:B,2,0)","v":28738},-790602762.20000005,{"$f":"VLOOKUP(A465,'AFR18'!A:L,12,0)","v":-790602762.20000005},0]
[1274,250349814.88,{"$f":"VLOOKUP(A466,'Crete Monee Totals 5-8'!A:B,2,0)","v":333807},250016007.88,{"$f":"VLOOKUP(A466,'AFR18'!A:L,12,0)","v":250016007.88},0]
[1277,1252696,0,1252696,{"$f":"VLOOKUP(A467,'AFR18'!A:L,12,0)","v":1252696},0]
[1278,252044668.88,{"$f":"VLOOKUP(A468,'Crete Monee Totals 5-8'!A:B,2,0)","v":333807},251710861.88,{"$f":"VLOOKUP(A468,'AFR18'!A:L,12,0)","v":251710861.88},0]
[1279,252082332.88,{"$f":"VLOOKUP(A469,'Crete Monee Totals 5-8'!A:B,2,0)","v":333807},251748525.88,{"$f":"VLOOKUP(A469,'AFR18'!A:L,12,0)","v":251748525.88},0]
[1280,43444975.32,{"$f":"VLOOKUP(A470,'Crete Monee Totals 5-8'!A:B,2,0)","v":26214},43418761.32,{"$f":"VLOOKUP(A470,'AFR18'!A:L,12,0)","v":43418761.32},0]
[1283,283749,0,283749,{"$f":"VLOOKUP(A471,'AFR18'!A:L,12,0)","v":283749},0]
[1284,43775020.32,{"$f":"VLOOKUP(A472,'Crete Monee Totals 5-8'!A:B,2,0)","v":26214},43748806.32,{"$f":"VLOOKUP(A472,'AFR18'!A:L,12,0)","v":43748806.32},0]
[1285,43775749.32,{"$f":"VLOOKUP(A473,'Crete Monee Totals 5-8'!A:B,2,0)","v":26214},43749535.32,{"$f":"VLOOKUP(A473,'AFR18'!A:L,12,0)","v":43749535.32},0]
[1286,721182148.89999998,{"$f":"VLOOKUP(A474,'Crete Monee Totals 5-8'!A:B,2,0)","v":5860429},715321719.89999998,{"$f":"VLOOKUP(A474,'AFR18'!A:L,12,0)","v":715321719.89999998},0]
[1289,339444,0,339444,{"$f":"VLOOKUP(A475,'AFR18'!A:L,12,0)","v":339444},0]
[1290,723759926.89999998,{"$f":"VLOOKUP(A476,'Crete Monee Totals 5-8'!A:B,2,0)","v":5860429},717899497.89999998,{"$f":"VLOOKUP(A476,'AFR18'!A:L,12,0)","v":717899497.89999998},0]
[1291,12729286,0,12729286,{"$f":"VLOOKUP(A477,'AFR18'!A:L,12,0)","v":12729286},0]
[1292,736663388.89999998,{"$f":"VLOOKUP(A478,'Crete Monee Totals 5-8'!A:B,2,0)","v":5860429},730802959.89999998,{"$f":"VLOOKUP(A478,'AFR18'!A:L,12,0)","v":730802959.89999998},0]
[1293,67522247.349999994,0,67522247.349999994,{"$f":"VLOOKUP(A479,'AFR18'!A:L,12,0)","v":67522247.349999994},0]
[1296,75692,0,75692,{"$f":"VLOOKUP(A480,'AFR18'!A:L,12,0)","v":75692},0]
[1297,67625025.349999994,0,67625025.349999994,{"$f":"VLOOKUP(A481,'AFR18'!A:L,12,0)","v":67625025.349999994},0]
[1298,67628153.349999994,0,67628153.349999994,{"$f":"VLOOKUP(A482,'AFR18'!A:L,12,0)","v":67628153.349999994},0]
[1299,74031959.75,0,74031959.75,{"$f":"VLOOKUP(A483,'AFR18'!A:L,12,0)","v":74031959.75},0]
[1303,74031959.75,0,74031959.75,{"$f":"VLOOKUP(A484,'AFR18'!A:L,12,0)","v":74031959.75},0]
[1304,74031959.75,0,74031959.75,{"$f":"VLOOKUP(A485,'AFR18'!A:L,12,0)","v":74031959.75},0]
[1305,3008866,0,3008866,{"$f":"VLOOKUP(A486,'AFR18'!A:L,12,0)","v":3008866},0]
[1308,8731,0,8731,{"$f":"VLOOKUP(A487,'AFR18'!A:L,12,0)","v":8731},0]
[1309,3017597,0,3017597,{"$f":"VLOOKUP(A488,'AFR18'!A:L,12,0)","v":3017597},0]
[1310,10649,0,10649,{"$f":"VLOOKUP(A489,'AFR18'!A:L,12,0)","v":10649},0]
[1312,173198,0,173198,{"$f":"VLOOKUP(A490,'AFR18'!A:L,12,0)","v":173198},0]
[1314,16375090,0,16375090,{"$f":"VLOOKUP(A491,'AFR18'!A:L,12,0)","v":16375090},0]
[1315,23480545,0,23480545,{"$f":"VLOOKUP(A492,'AFR18'!A:L,12,0)","v":23480545},0]
[1316,1161088764.1999998,{"$f":"VLOOKUP(A493,'Crete Monee Totals 5-8'!A:B,2,0)","v":6220450},1154868314.1999998,{"$f":"VLOOKUP(A493,'AFR18'!A:L,12,0)","v":1154868314.1999998},0]
[1319,1960312,0,1960312,{"$f":"VLOOKUP(A494,'AFR18'!A:L,12,0)","v":1960312},0]
[1320,1165802950.1999998,{"$f":"VLOOKUP(A495,'Crete Monee Totals 5-8'!A:B,2,0)","v":6220450},1159582500.1999998,{"$f":"VLOOKUP(A495,'AFR18'!A:L,12,0)","v":1159582500.1999998},0]
[1321,15567144,0,15567144,{"$f":"VLOOKUP(A496,'AFR18'!A:L,12,0)","v":15567144},0]
[1322,10649,0,10649,{"$f":"VLOOKUP(A497,'AFR18'!A:L,12,0)","v":10649},0]
[1324,173198,0,173198,{"$f":"VLOOKUP(A498,'AFR18'!A:L,12,0)","v":173198},0]
[1326,16375090,0,16375090,{"$f":"VLOOKUP(A499,'AFR18'!A:L,12,0)","v":16375090},0]
[1327,1199210881.1999998,{"$f":"VLOOKUP(A500,'Crete Monee Totals 5-8'!A:B,2,0)","v":6220450},1192990431.1999998,{"$f":"VLOOKUP(A500,'AFR18'!A:L,12,0)","v":1192990431.1999998},0]
[1328,183827028.53999999,{"$f":"VLOOKUP(A501,'Crete Monee Totals 5-8'!A:B,2,0)","v":1739001},182088027.53999999,{"$f":"VLOOKUP(A501,'AFR18'!A:L,12,0)","v":182088027.53999999},0]
[1335,717612,0,717612,{"$f":"VLOOKUP(A502,'AFR18'!A:L,12,0)","v":717612},0]
[1341,7874022,0,7874022,{"$f":"VLOOKUP(A503,'AFR18'!A:L,12,0)","v":7874022},0]
[1345,705456,0,705456,{"$f":"VLOOKUP(A504,'AFR18'!A:L,12,0)","v":705456},0]
[1346,2907885.37,{"$f":"VLOOKUP(A505,'Crete Monee Totals 5-8'!A:B,2,0)","v":1188},2906697.37,{"$f":"VLOOKUP(A505,'AFR18'!A:L,12,0)","v":2906697.37},0]
[1347,11813419.68,{"$f":"VLOOKUP(A506,'Crete Monee Totals 5-8'!A:B,2,0)","v":42200},11771219.68,{"$f":"VLOOKUP(A506,'AFR18'!A:L,12,0)","v":11771219.68},0]
[1348,1893851.9,{"$f":"VLOOKUP(A507,'Crete Monee Totals 5-8'!A:B,2,0)","v":4150},1889701.9,{"$f":"VLOOKUP(A507,'AFR18'!A:L,12,0)","v":1889701.9},0]
[1349,242327922.34000003,{"$f":"VLOOKUP(A508,'Crete Monee Totals 5-8'!A:B,2,0)","v":736524},241591398.34000003,{"$f":"VLOOKUP(A508,'AFR18'!A:L,12,0)","v":241591398.34000003},0]
[1350,8227412,{"$f":"VLOOKUP(A509,'Crete Monee Totals 5-8'!A:B,2,0)","v":18906},8208506,{"$f":"VLOOKUP(A509,'AFR18'!A:L,12,0)","v":8208506},0]
[1351,6860757,{"$f":"VLOOKUP(A510,'Crete Monee Totals 5-8'!A:B,2,0)","v":16682},6844075,{"$f":"VLOOKUP(A510,'AFR18'!A:L,12,0)","v":6844075},0]
[1352,17380207.640000001,{"$f":"VLOOKUP(A511,'Crete Monee Totals 5-8'!A:B,2,0)","v":66111},17314096.640000001,{"$f":"VLOOKUP(A511,'AFR18'!A:L,12,0)","v":17314096.640000001},0]
[1353,1826358,{"$f":"VLOOKUP(A512,'Crete Monee Totals 5-8'!A:B,2,0)","v":6170},1820188,{"$f":"VLOOKUP(A512,'AFR18'!A:L,12,0)","v":1820188},0]
[1354,2755530,{"$f":"VLOOKUP(A513,'Crete Monee Totals 5-8'!A:B,2,0)","v":12829},2742701,{"$f":"VLOOKUP(A513,'AFR18'!A:L,12,0)","v":2742701},0]
[1355,6761330,{"$f":"VLOOKUP(A514,'Crete Monee Totals 5-8'!A:B,2,0)","v":15870},6745460,{"$f":"VLOOKUP(A514,'AFR18'!A:L,12,0)","v":6745460},0]
[1356,43811594.640000001,{"$f":"VLOOKUP(A515,'Crete Monee Totals 5-8'!A:B,2,0)","v":136568},{"$f":"SUM(B515-C515)","v":43675026.640000001},{"$f":"VLOOKUP(A515,'AFR18'!A:L,12,0)","v":43675026.640000001},{"$f":"SUM(D515-E515)","v":0}]
[1357,7933295.8200000003,{"$f":"VLOOKUP(A516,'Crete Monee Totals 5-8'!A:B,2,0)","v":34000},7899295.8200000003,{"$f":"VLOOKUP(A516,'AFR18'!A:L,12,0)","v":7899295.8200000003},0]
[1358,17036872.75,{"$f":"VLOOKUP(A517,'Crete Monee Totals 5-8'!A:B,2,0)","v":19007},17017865.75,{"$f":"VLOOKUP(A517,'AFR18'!A:L,12,0)","v":17017865.75},0]
[1359,653223,0,653223,{"$f":"VLOOKUP(A518,'AFR18'!A:L,12,0)","v":653223},0]
[1360,25623391.57,{"$f":"VLOOKUP(A519,'Crete Monee Totals 5-8'!A:B,2,0)","v":53007},25570384.57,{"$f":"VLOOKUP(A519,'AFR18'!A:L,12,0)","v":25570384.57},0]
[1361,9615542,0,9615542,{"$f":"VLOOKUP(A520,'AFR18'!A:L,12,0)","v":9615542},0]
[1362,9993548.1099999994,{"$f":"VLOOKUP(A521,'Crete Monee Totals 5-8'!A:B,2,0)","v":18175},9975373.1099999994,{"$f":"VLOOKUP(A521,'AFR18'!A:L,12,0)","v":9975373.1099999994},0]
[1363,28028958.300000001,{"$f":"VLOOKUP(A522,'Crete Monee Totals 5-8'!A:B,2,0)","v":18175},28010783.300000001,{"$f":"VLOOKUP(A522,'AFR18'!A:L,12,0)","v":28010783.300000001},0]
[1364,44929378.339999996,{"$f":"VLOOKUP(A523,'Crete Monee Totals 5-8'!A:B,2,0)","v":134318},44795060.339999996,{"$f":"VLOOKUP(A523,'AFR18'!A:L,12,0)","v":44795060.339999996},0]
[1365,1977560,{"$f":"VLOOKUP(A524,'Crete Monee Totals 5-8'!A:B,2,0)","v":14019},1963541,{"$f":"VLOOKUP(A524,'AFR18'!A:L,12,0)","v":1963541},0]
[1366,46906938.339999996,{"$f":"VLOOKUP(A525,'Crete Monee Totals 5-8'!A:B,2,0)","v":148337},46758601.339999996,{"$f":"VLOOKUP(A525,'AFR18'!A:L,12,0)","v":46758601.339999996},0]
[1367,4126938,{"$f":"VLOOKUP(A526,'Crete Monee Totals 5-8'!A:B,2,0)","v":11297},4115641,{"$f":"VLOOKUP(A526,'AFR18'!A:L,12,0)","v":4115641},0]
[1368,17336980.850000001,{"$f":"VLOOKUP(A527,'Crete Monee Totals 5-8'!A:B,2,0)","v":58582},17278398.850000001,{"$f":"VLOOKUP(A527,'AFR18'!A:L,12,0)","v":17278398.850000001},0]
[1369,328662,0,328662,{"$f":"VLOOKUP(A528,'AFR18'!A:L,12,0)","v":328662},0]
[1370,113409003.76000001,{"$f":"VLOOKUP(A529,'Crete Monee Totals 5-8'!A:B,2,0)","v":345253},113063750.76000001,{"$f":"VLOOKUP(A529,'AFR18'!A:L,12,0)","v":113063750.76000001},0]
[1371,42957400.640000001,{"$f":"VLOOKUP(A530,'Crete Monee Totals 5-8'!A:B,2,0)","v":17280},42940120.640000001,{"$f":"VLOOKUP(A530,'AFR18'!A:L,12,0)","v":42940120.640000001},0]
[1372,22751663.460000001,{"$f":"VLOOKUP(A531,'Crete Monee Totals 5-8'!A:B,2,0)","v":128888},22622775.460000001,{"$f":"VLOOKUP(A531,'AFR18'!A:L,12,0)","v":22622775.460000001},0]
[1373,1763853,0,1763853,{"$f":"VLOOKUP(A532,'AFR18'!A:L,12,0)","v":1763853},0]
[1375,202674501.71000001,{"$f":"VLOOKUP(A533,'Crete Monee Totals 5-8'!A:B,2,0)","v":561300},202113201.71000001,{"$f":"VLOOKUP(A533,'AFR18'!A:L,12,0)","v":202113201.71000001},0]
[1376,400555,0,400555,{"$f":"VLOOKUP(A534,'AFR18'!A:L,12,0)","v":400555},0]
[1377,1188401,{"$f":"VLOOKUP(A535,'Crete Monee Totals 5-8'!A:B,2,0)","v":1818},1186583,{"$f":"VLOOKUP(A535,'AFR18'!A:L,12,0)","v":1186583},0]
[1378,4194119,{"$f":"VLOOKUP(A536,'Crete Monee Totals 5-8'!A:B,2,0)","v":42756},4151363,{"$f":"VLOOKUP(A536,'AFR18'!A:L,12,0)","v":4151363},0]
[1379,5393397,{"$f":"VLOOKUP(A537,'Crete Monee Totals 5-8'!A:B,2,0)","v":50002},5343395,{"$f":"VLOOKUP(A537,'AFR18'!A:L,12,0)","v":5343395},0]
[1381,15341270,{"$f":"VLOOKUP(A538,'Crete Monee Totals 5-8'!A:B,2,0)","v":106010},15235260,{"$f":"VLOOKUP(A538,'AFR18'!A:L,12,0)","v":15235260},0]
[1383,26517742,{"$f":"VLOOKUP(A539,'Crete Monee Totals 5-8'!A:B,2,0)","v":200586},26317156,{"$f":"VLOOKUP(A539,'AFR18'!A:L,12,0)","v":26317156},0]
[1384,1489513,{"$f":"VLOOKUP(A540,'Crete Monee Totals 5-8'!A:B,2,0)","v":2971},1486542,{"$f":"VLOOKUP(A540,'AFR18'!A:L,12,0)","v":1486542},0]
[1385,375052639.55999994,{"$f":"VLOOKUP(A541,'Crete Monee Totals 5-8'!A:B,2,0)","v":1120944},373931695.55999994,{"$f":"VLOOKUP(A541,'AFR18'!A:L,12,0)","v":373931695.55999994},0]
[1386,5728822,{"$f":"VLOOKUP(A542,'Crete Monee Totals 5-8'!A:B,2,0)","v":834},5727988,{"$f":"VLOOKUP(A542,'AFR18'!A:L,12,0)","v":5727988},0]
[1387,625629915.89999998,{"$f":"VLOOKUP(A543,'Crete Monee Totals 5-8'!A:B,2,0)","v":1858302},623771613.89999998,{"$f":"VLOOKUP(A543,'AFR18'!A:L,12,0)","v":623771613.89999998},0]
[1399,717612,0,717612,{"$f":"VLOOKUP(A544,'AFR18'!A:L,12,0)","v":717612},0]
[1405,7874022,0,7874022,{"$f":"VLOOKUP(A545,'AFR18'!A:L,12,0)","v":7874022},0]
[1409,705456,0,705456,{"$f":"VLOOKUP(A546,'AFR18'!A:L,12,0)","v":705456},0]
[1410,2907885.37,{"$f":"VLOOKUP(A547,'Crete Monee Totals 5-8'!A:B,2,0)","v":1188},2906697.37,{"$f":"VLOOKUP(A547,'AFR18'!A:L,12,0)","v":2906697.37},0]
[1411,11813419.68,{"$f":"VLOOKUP(A548,'Crete Monee Totals 5-8'!A:B,2,0)","v":42200},11771219.68,{"$f":"VLOOKUP(A548,'AFR18'!A:L,12,0)","v":11771219.68},0]
[1412,1893851.9,{"$f":"VLOOKUP(A549,'Crete Monee Totals 5-8'!A:B,2,0)","v":4150},1889701.9,{"$f":"VLOOKUP(A549,'AFR18'!A:L,12,0)","v":1889701.9},0]
[1413,242327922.34000003,{"$f":"VLOOKUP(A550,'Crete Monee Totals 5-8'!A:B,2,0)","v":736524},241591398.34000003,{"$f":"VLOOKUP(A550,'AFR18'!A:L,12,0)","v":241591398.34000003},0]
[1414,8227412,{"$f":"VLOOKUP(A551,'Crete Monee Totals 5-8'!A:B,2,0)","v":18906},8208506,{"$f":"VLOOKUP(A551,'AFR18'!A:L,12,0)","v":8208506},0]
[1415,6860757,{"$f":"VLOOKUP(A552,'Crete Monee Totals 5-8'!A:B,2,0)","v":16682},6844075,{"$f":"VLOOKUP(A552,'AFR18'!A:L,12,0)","v":6844075},0]
[1416,17380207.640000001,{"$f":"VLOOKUP(A553,'Crete Monee Totals 5-8'!A:B,2,0)","v":66111},17314096.640000001,{"$f":"VLOOKUP(A553,'AFR18'!A:L,12,0)","v":17314096.640000001},0]
[1417,1826358,{"$f":"VLOOKUP(A554,'Crete Monee Totals 5-8'!A:B,2,0)","v":6170},1820188,{"$f":"VLOOKUP(A554,'AFR18'!A:L,12,0)","v":1820188},0]
[1418,2755530,{"$f":"VLOOKUP(A555,'Crete Monee Totals 5-8'!A:B,2,0)","v":12829},2742701,{"$f":"VLOOKUP(A555,'AFR18'!A:L,12,0)","v":2742701},0]
[1419,6761330,{"$f":"VLOOKUP(A556,'Crete Monee Totals 5-8'!A:B,2,0)","v":15870},6745460,{"$f":"VLOOKUP(A556,'AFR18'!A:L,12,0)","v":6745460},0]
[1420,43811594.640000001,{"$f":"VLOOKUP(A557,'Crete Monee Totals 5-8'!A:B,2,0)","v":136568},43675026.640000001,{"$f":"VLOOKUP(A557,'AFR18'!A:L,12,0)","v":43675026.640000001},0]
[1421,7933295.8200000003,{"$f":"VLOOKUP(A558,'Crete Monee Totals 5-8'!A:B,2,0)","v":34000},7899295.8200000003,{"$f":"VLOOKUP(A558,'AFR18'!A:L,12,0)","v":7899295.8200000003},0]
[1422,17036872.75,{"$f":"VLOOKUP(A559,'Crete Monee Totals 5-8'!A:B,2,0)","v":19007},17017865.75,{"$f":"VLOOKUP(A559,'AFR18'!A:L,12,0)","v":17017865.75},0]
[1423,653223,0,653223,{"$f":"VLOOKUP(A560,'AFR18'!A:L,12,0)","v":653223},0]
[1424,25623391.57,{"$f":"VLOOKUP(A561,'Crete Monee Totals 5-8'!A:B,2,0)","v":53007},25570384.57,{"$f":"VLOOKUP(A561,'AFR18'!A:L,12,0)","v":25570384.57},0]
[1425,9615542,0,9615542,{"$f":"VLOOKUP(A562,'AFR18'!A:L,12,0)","v":9615542},0]
[1426,9993548.1099999994,{"$f":"VLOOKUP(A563,'Crete Monee Totals 5-8'!A:B,2,0)","v":18175},9975373.1099999994,{"$f":"VLOOKUP(A563,'AFR18'!A:L,12,0)","v":9975373.1099999994},0]
[1427,28028958.300000001,{"$f":"VLOOKUP(A564,'Crete Monee Totals 5-8'!A:B,2,0)","v":18175},28010783.300000001,{"$f":"VLOOKUP(A564,'AFR18'!A:L,12,0)","v":28010783.300000001},0]
[1428,44929378.339999996,{"$f":"VLOOKUP(A565,'Crete Monee Totals 5-8'!A:B,2,0)","v":134318},44795060.339999996,{"$f":"VLOOKUP(A565,'AFR18'!A:L,12,0)","v":44795060.339999996},0]
[1429,1977560,{"$f":"VLOOKUP(A566,'Crete Monee Totals 5-8'!A:B,2,0)","v":14019},1963541,{"$f":"VLOOKUP(A566,'AFR18'!A:L,12,0)","v":1963541},0]
[1430,46906938.339999996,{"$f":"VLOOKUP(A567,'Crete Monee Totals 5-8'!A:B,2,0)","v":148337},46758601.339999996,{"$f":"VLOOKUP(A567,'AFR18'!A:L,12,0)","v":46758601.339999996},0]
[1431,4126938,{"$f":"VLOOKUP(A568,'Crete Monee Totals 5-8'!A:B,2,0)","v":11297},4115641,{"$f":"VLOOKUP(A568,'AFR18'!A:L,12,0)","v":4115641},0]
[1432,17336980.850000001,{"$f":"VLOOKUP(A569,'Crete Monee Totals 5-8'!A:B,2,0)","v":58582},17278398.850000001,{"$f":"VLOOKUP(A569,'AFR18'!A:L,12,0)","v":17278398.850000001},0]
[1433,328662,0,328662,{"$f":"VLOOKUP(A570,'AFR18'!A:L,12,0)","v":328662},0]
[1434,113409003.76000001,{"$f":"VLOOKUP(A571,'Crete Monee Totals 5-8'!A:B,2,0)","v":345253},113063750.76000001,{"$f":"VLOOKUP(A571,'AFR18'!A:L,12,0)","v":113063750.76000001},0]
[1435,42957400.640000001,{"$f":"VLOOKUP(A572,'Crete Monee Totals 5-8'!A:B,2,0)","v":17280},42940120.640000001,{"$f":"VLOOKUP(A572,'AFR18'!A:L,12,0)","v":42940120.640000001},0]
[1436,22751663.460000001,{"$f":"VLOOKUP(A573,'Crete Monee Totals 5-8'!A:B,2,0)","v":128888},22622775.460000001,{"$f":"VLOOKUP(A573,'AFR18'!A:L,12,0)","v":22622775.460000001},0]
[1437,1763853,0,1763853,{"$f":"VLOOKUP(A574,'AFR18'!A:L,12,0)","v":1763853},0]
[1439,202674501.71000001,{"$f":"VLOOKUP(A575,'Crete Monee Totals 5-8'!A:B,2,0)","v":561300},202113201.71000001,{"$f":"VLOOKUP(A575,'AFR18'!A:L,12,0)","v":202113201.71000001},0]
[1440,400555,0,400555,{"$f":"VLOOKUP(A576,'AFR18'!A:L,12,0)","v":400555},0]
[1441,1188401,{"$f":"VLOOKUP(A577,'Crete Monee Totals 5-8'!A:B,2,0)","v":1818},1186583,{"$f":"VLOOKUP(A577,'AFR18'!A:L,12,0)","v":1186583},0]
[1442,4194119,{"$f":"VLOOKUP(A578,'Crete Monee Totals 5-8'!A:B,2,0)","v":42756},4151363,{"$f":"VLOOKUP(A578,'AFR18'!A:L,12,0)","v":4151363},0]
[1443,5393397,{"$f":"VLOOKUP(A579,'Crete Monee Totals 5-8'!A:B,2,0)","v":50002},{"$f":"SUM(B579-C579)","v":5343395},{"$f":"VLOOKUP(A579,'AFR18'!A:L,12,0)","v":5343395},{"$f":"SUM(D579-E579)","v":0}]
[1445,15341270,{"$f":"VLOOKUP(A580,'Crete Monee Totals 5-8'!A:B,2,0)","v":106010},15235260,{"$f":"VLOOKUP(A580,'AFR18'!A:L,12,0)","v":15235260},0]
[1447,26517742,{"$f":"VLOOKUP(A581,'Crete Monee Totals 5-8'!A:B,2,0)","v":200586},26317156,{"$f":"VLOOKUP(A581,'AFR18'!A:L,12,0)","v":26317156},0]
[1448,1489513,{"$f":"VLOOKUP(A582,'Crete Monee Totals 5-8'!A:B,2,0)","v":2971},1486542,{"$f":"VLOOKUP(A582,'AFR18'!A:L,12,0)","v":1486542},0]
[1449,375052639.55999994,{"$f":"VLOOKUP(A583,'Crete Monee Totals 5-8'!A:B,2,0)","v":1120944},373931695.55999994,{"$f":"VLOOKUP(A583,'AFR18'!A:L,12,0)","v":373931695.55999994},0]
[1450,5728822,{"$f":"VLOOKUP(A584,'Crete Monee Totals 5-8'!A:B,2,0)","v":834},5727988,{"$f":"VLOOKUP(A584,'AFR18'!A:L,12,0)","v":5727988},0]
[1456,625629915.89999998,{"$f":"VLOOKUP(A585,'Crete Monee Totals 5-8'!A:B,2,0)","v":1858302},623771613.89999998,{"$f":"VLOOKUP(A585,'AFR18'!A:L,12,0)","v":623771613.89999998},0]
[1457,24723070.439999998,{"$f":"VLOOKUP(A586,'Crete Monee Totals 5-8'!A:B,2,0)","v":94299},24628771.439999998,{"$f":"VLOOKUP(A586,'AFR18'!A:L,12,0)","v":24628771.439999998},0]
[1458,1820904,0,1820904,{"$f":"VLOOKUP(A587,'AFR18'!A:L,12,0)","v":1820904},0]
[1461,4555,0,4555,{"$f":"VLOOKUP(A588,'AFR18'!A:L,12,0)","v":4555},0]
[1462,1825459,0,1825459,{"$f":"VLOOKUP(A589,'AFR18'!A:L,12,0)","v":1825459},0]
[1463,1825459,0,1825459,{"$f":"VLOOKUP(A590,'AFR18'!A:L,12,0)","v":1825459},0]
[1464,285260,0,285260,{"$f":"VLOOKUP(A591,'AFR18'!A:L,12,0)","v":285260},0]
[1467,585,0,585,{"$f":"VLOOKUP(A592,'AFR18'!A:L,12,0)","v":585},0]
[1468,285845,0,285845,{"$f":"VLOOKUP(A593,'AFR18'!A:L,12,0)","v":285845},0]
[1469,285845,0,285845,{"$f":"VLOOKUP(A594,'AFR18'!A:L,12,0)","v":285845},0]
[1470,82732503.819999993,{"$f":"VLOOKUP(A595,'Crete Monee Totals 5-8'!A:B,2,0)","v":233026},82499477.819999993,{"$f":"VLOOKUP(A595,'AFR18'!A:L,12,0)","v":82499477.819999993},0]
[1473,1973468,0,1973468,{"$f":"VLOOKUP(A596,'AFR18'!A:L,12,0)","v":1973468},0]
[1474,84705971.819999993,{"$f":"VLOOKUP(A597,'Crete Monee Totals 5-8'!A:B,2,0)","v":233026},84472945.819999993,{"$f":"VLOOKUP(A597,'AFR18'!A:L,12,0)","v":84472945.819999993},0]
[1475,84705971.819999993,{"$f":"VLOOKUP(A598,'Crete Monee Totals 5-8'!A:B,2,0)","v":233026},84472945.819999993,{"$f":"VLOOKUP(A598,'AFR18'!A:L,12,0)","v":84472945.819999993},0]
[1476,4909856,0,4909856,{"$f":"VLOOKUP(A599,'AFR18'!A:L,12,0)","v":4909856},0]
[1479,98732,0,98732,{"$f":"VLOOKUP(A600,'AFR18'!A:L,12,0)","v":98732},0]
[1480,5008588,0,5008588,{"$f":"VLOOKUP(A601,'AFR18'!A:L,12,0)","v":5008588},0]
[1481,5008588,0,5008588,{"$f":"VLOOKUP(A602,'AFR18'!A:L,12,0)","v":5008588},0]
[1482,1367463558.25,{"$f":"VLOOKUP(A603,'Crete Monee Totals 5-8'!A:B,2,0)","v":186945},1367276613.25,{"$f":"VLOOKUP(A603,'AFR18'!A:L,12,0)","v":1367276613.25},0]
[1485,7254879,0,7254879,{"$f":"VLOOKUP(A604,'AFR18'!A:L,12,0)","v":7254879},0]
[1486,1374718437.25,{"$f":"VLOOKUP(A605,'Crete Monee Totals 5-8'!A:B,2,0)","v":186945},1374531492.25,{"$f":"VLOOKUP(A605,'AFR18'!A:L,12,0)","v":1374531492.25},0]
[1487,1374718437.25,{"$f":"VLOOKUP(A606,'Crete Monee Totals 5-8'!A:B,2,0)","v":186945},1374531492.25,{"$f":"VLOOKUP(A606,'AFR18'!A:L,12,0)","v":1374531492.25},0]
[1488,10834139,0,10834139,{"$f":"VLOOKUP(A607,'AFR18'!A:L,12,0)","v":10834139},0]
[1491,1465588,0,1465588,{"$f":"VLOOKUP(A608,'AFR18'!A:L,12,0)","v":1465588},0]
[1492,12299727,0,12299727,{"$f":"VLOOKUP(A609,'AFR18'!A:L,12,0)","v":12299727},0]
[1493,13167827,0,13167827,{"$f":"VLOOKUP(A610,'AFR18'!A:L,12,0)","v":13167827},0]
[1494,1495216980.0699999,{"$f":"VLOOKUP(A611,'Crete Monee Totals 5-8'!A:B,2,0)","v":419971},1494797009.0699999,{"$f":"VLOOKUP(A611,'AFR18'!A:L,12,0)","v":1494797009.0699999},0]
[1497,10797807,0,10797807,{"$f":"VLOOKUP(A612,'AFR18'!A:L,12,0)","v":10797807},0]
[1498,1506014787.0699999,{"$f":"VLOOKUP(A613,'Crete Monee Totals 5-8'!A:B,2,0)","v":419971},1505594816.0699999,{"$f":"VLOOKUP(A613,'AFR18'!A:L,12,0)","v":1505594816.0699999},0]
[1499,1506882887.0699999,{"$f":"VLOOKUP(A614,'Crete Monee Totals 5-8'!A:B,2,0)","v":419971},1506462916.0699999,{"$f":"VLOOKUP(A614,'AFR18'!A:L,12,0)","v":1506462916.0699999},0]
[1500,-1266987817.46,{"$f":"VLOOKUP(A615,'Crete Monee Totals 5-8'!A:B,2,0)","v":-392962},-1266594855.46,{"$f":"VLOOKUP(A615,'AFR18'!A:L,12,0)","v":-1266594855.46},0]
[1556,6173172812.0100002,{"$f":"VLOOKUP(A616,'Crete Monee Totals 5-8'!A:B,2,0)","v":14507510},6158665302.0100002,{"$f":"VLOOKUP(A616,'AFR18'!A:L,12,0)","v":6158665302.0100002},0]
[1569,7511442867.3000002,{"$f":"VLOOKUP(A617,'Crete Monee Totals 5-8'!A:B,2,0)","v":11023767},7500419100.3000002,{"$f":"VLOOKUP(A617,'AFR18'!A:L,12,0)","v":7500419100.3000002},0]
[1570,1322527707,{"$f":"VLOOKUP(A618,'Crete Monee Totals 5-8'!A:B,2,0)","v":4073393},1318454314,{"$f":"VLOOKUP(A618,'AFR18'!A:L,12,0)","v":1318454314},0]
[1583,1363061361.8500001,{"$f":"VLOOKUP(A619,'Crete Monee Totals 5-8'!A:B,2,0)","v":4078335},1358983026.8500001,{"$f":"VLOOKUP(A619,'AFR18'!A:L,12,0)","v":1358983026.8500001},0]
[1584,1437267403,{"$f":"VLOOKUP(A620,'Crete Monee Totals 5-8'!A:B,2,0)","v":4344214},1432923189,{"$f":"VLOOKUP(A620,'AFR18'!A:L,12,0)","v":1432923189},0]
[1597,1654162090.8000002,{"$f":"VLOOKUP(A621,'Crete Monee Totals 5-8'!A:B,2,0)","v":4468528},1649693562.8000002,{"$f":"VLOOKUP(A621,'AFR18'!A:L,12,0)","v":1649693562.8000002},0]
[1598,734320909,{"$f":"VLOOKUP(A622,'Crete Monee Totals 5-8'!A:B,2,0)","v":7092365},727228544,{"$f":"VLOOKUP(A622,'AFR18'!A:L,12,0)","v":727228544},0]
[1611,860660209.54000008,{"$f":"VLOOKUP(A623,'Crete Monee Totals 5-8'!A:B,2,0)","v":8831366},851828843.54000008,{"$f":"VLOOKUP(A623,'AFR18'!A:L,12,0)","v":851828843.54000008},0]
[1612,442554093,{"$f":"VLOOKUP(A624,'Crete Monee Totals 5-8'!A:B,2,0)","v":1204907},441349186,{"$f":"VLOOKUP(A624,'AFR18'!A:L,12,0)","v":441349186},0]
[1625,468153702.44,{"$f":"VLOOKUP(A625,'Crete Monee Totals 5-8'!A:B,2,0)","v":1352573},466801129.44,{"$f":"VLOOKUP(A625,'AFR18'!A:L,12,0)","v":466801129.44},0]
[1626,2224706463,{"$f":"VLOOKUP(A626,'Crete Monee Totals 5-8'!A:B,2,0)","v":2816625},2221889838,{"$f":"VLOOKUP(A626,'AFR18'!A:L,12,0)","v":2221889838},0]
[1639,2451666061.54,{"$f":"VLOOKUP(A627,'Crete Monee Totals 5-8'!A:B,2,0)","v":2423663},2449242398.54,{"$f":"VLOOKUP(A627,'AFR18'!A:L,12,0)","v":2449242398.54},0]
[1683,11940011410.279999,{"$f":"VLOOKUP(A628,'Crete Monee Totals 5-8'!A:B,2,0)","v":23208768},11916802642.279999,{"$f":"VLOOKUP(A628,'AFR18'!A:L,12,0)","v":11916802642.279999},0]
[1684,1530756934.6700001,{"$f":"VLOOKUP(A629,'Crete Monee Totals 5-8'!A:B,2,0)","v":4222290},1526534644.6700001,{"$f":"VLOOKUP(A629,'AFR18'!A:L,12,0)","v":1526534644.6700001},0]
[1685,1584395764.8000002,{"$f":"VLOOKUP(A630,'Crete Monee Totals 5-8'!A:B,2,0)","v":11660935},1572734829.8000002,{"$f":"VLOOKUP(A630,'AFR18'!A:L,12,0)","v":1572734829.8000002},0]
[1686,631264425.68000007,{"$f":"VLOOKUP(A631,'Crete Monee Totals 5-8'!A:B,2,0)","v":4007220},627257205.68000007,{"$f":"VLOOKUP(A631,'AFR18'!A:L,12,0)","v":627257205.68000007},0]
[1687,274125679.84000003,{"$f":"VLOOKUP(A632,'Crete Monee Totals 5-8'!A:B,2,0)","v":940697},273184982.84000003,{"$f":"VLOOKUP(A632,'AFR18'!A:L,12,0)","v":273184982.84000003},0]
[1688,68642339.560000002,{"$f":"VLOOKUP(A633,'Crete Monee Totals 5-8'!A:B,2,0)","v":222312},68420027.560000002,{"$f":"VLOOKUP(A633,'AFR18'!A:L,12,0)","v":68420027.560000002},0]
[1690,9526435,0,9526435,{"$f":"VLOOKUP(A634,'AFR18'!A:L,12,0)","v":9526435},0]
[1691,336083725.00999999,0,336083725.00999999,{"$f":"VLOOKUP(A635,'AFR18'!A:L,12,0)","v":336083725.00999999},0]
[1692,54790902.559999995,{"$f":"VLOOKUP(A636,'Crete Monee Totals 5-8'!A:B,2,0)","v":4573},54786329.559999995,{"$f":"VLOOKUP(A636,'AFR18'!A:L,12,0)","v":54786329.559999995},0]
[1693,489420499.32999998,{"$f":"VLOOKUP(A637,'Crete Monee Totals 5-8'!A:B,2,0)","v":4212794},485207705.32999998,{"$f":"VLOOKUP(A637,'AFR18'!A:L,12,0)","v":485207705.32999998},0]
[1698,17684865459.939999,{"$f":"VLOOKUP(A638,'Crete Monee Totals 5-8'!A:B,2,0)","v":49420285},17635445174.939999,{"$f":"VLOOKUP(A638,'AFR18'!A:L,12,0)","v":17635445174.939999},0]
[1699,5194889780.1099997,{"$f":"VLOOKUP(A639,'Crete Monee Totals 5-8'!A:B,2,0)","v":11079700},5183810080.1099997,{"$f":"VLOOKUP(A639,'AFR18'!A:L,12,0)","v":5183810080.1099997},0]
[1700,857560573.44999993,{"$f":"VLOOKUP(A640,'Crete Monee Totals 5-8'!A:B,2,0)","v":2077688},855482885.44999993,{"$f":"VLOOKUP(A640,'AFR18'!A:L,12,0)","v":855482885.44999993},0]
[1701,881792958.13,{"$f":"VLOOKUP(A641,'Crete Monee Totals 5-8'!A:B,2,0)","v":5707168},876085790.13,{"$f":"VLOOKUP(A641,'AFR18'!A:L,12,0)","v":876085790.13},0]
[1702,379994207.68000001,{"$f":"VLOOKUP(A642,'Crete Monee Totals 5-8'!A:B,2,0)","v":2043397},377950810.68000001,{"$f":"VLOOKUP(A642,'AFR18'!A:L,12,0)","v":377950810.68000001},0]
[1703,167306774.93000001,{"$f":"VLOOKUP(A643,'Crete Monee Totals 5-8'!A:B,2,0)","v":463278},{"$f":"SUM(B643-C643)","v":166843496.93000001},{"$f":"VLOOKUP(A643,'AFR18'!A:L,12,0)","v":166843496.93000001},{"$f":"SUM(D643-E643)","v":0}]
[1704,45734387.100000001,{"$f":"VLOOKUP(A644,'Crete Monee Totals 5-8'!A:B,2,0)","v":138473},45595914.100000001,{"$f":"VLOOKUP(A644,'AFR18'!A:L,12,0)","v":45595914.100000001},0]
[1706,1958956,0,1958956,{"$f":"VLOOKUP(A645,'AFR18'!A:L,12,0)","v":1958956},0]
[1707,226643430.05000001,0,226643430.05000001,{"$f":"VLOOKUP(A646,'AFR18'!A:L,12,0)","v":226643430.05000001},0]
[1708,37614977.009999998,{"$f":"VLOOKUP(A647,'Crete Monee Totals 5-8'!A:B,2,0)","v":1371},37613606.009999998,{"$f":"VLOOKUP(A647,'AFR18'!A:L,12,0)","v":37613606.009999998},0]
[1709,253893983.64999998,{"$f":"VLOOKUP(A648,'Crete Monee Totals 5-8'!A:B,2,0)","v":2078090},251815893.64999998,{"$f":"VLOOKUP(A648,'AFR18'!A:L,12,0)","v":251815893.64999998},0]
[1714,8274772316.4499979,{"$f":"VLOOKUP(A649,'Crete Monee Totals 5-8'!A:B,2,0)","v":24052442},8250719874.4499979,{"$f":"VLOOKUP(A649,'AFR18'!A:L,12,0)","v":8250719874.4499979},0]
[1715,6745121630.170001,{"$f":"VLOOKUP(A650,'Crete Monee Totals 5-8'!A:B,2,0)","v":12129068},6732992562.170001,{"$f":"VLOOKUP(A650,'AFR18'!A:L,12,0)","v":6732992562.170001},0]
[1716,673196361.22000003,{"$f":"VLOOKUP(A651,'Crete Monee Totals 5-8'!A:B,2,0)","v":2144602},671051759.22000003,{"$f":"VLOOKUP(A651,'AFR18'!A:L,12,0)","v":671051759.22000003},0]
[1717,702602806.67000008,{"$f":"VLOOKUP(A652,'Crete Monee Totals 5-8'!A:B,2,0)","v":5953767},696649039.67000008,{"$f":"VLOOKUP(A652,'AFR18'!A:L,12,0)","v":696649039.67000008},0]
[1718,251270218,{"$f":"VLOOKUP(A653,'Crete Monee Totals 5-8'!A:B,2,0)","v":1963823},249306395,{"$f":"VLOOKUP(A653,'AFR18'!A:L,12,0)","v":249306395},0]
[1719,106818904.91000001,{"$f":"VLOOKUP(A654,'Crete Monee Totals 5-8'!A:B,2,0)","v":477419},106341485.91000001,{"$f":"VLOOKUP(A654,'AFR18'!A:L,12,0)","v":106341485.91000001},0]
[1720,22907952.460000001,{"$f":"VLOOKUP(A655,'Crete Monee Totals 5-8'!A:B,2,0)","v":83839},22824113.460000001,{"$f":"VLOOKUP(A655,'AFR18'!A:L,12,0)","v":22824113.460000001},0]
[1722,7567479,0,7567479,{"$f":"VLOOKUP(A656,'AFR18'!A:L,12,0)","v":7567479},0]
[1723,109440294.95999999,0,109440294.95999999,{"$f":"VLOOKUP(A657,'AFR18'!A:L,12,0)","v":109440294.95999999},0]
[1724,17175925.550000001,{"$f":"VLOOKUP(A658,'Crete Monee Totals 5-8'!A:B,2,0)","v":3202},17172723.550000001,{"$f":"VLOOKUP(A658,'AFR18'!A:L,12,0)","v":17172723.550000001},0]
[1725,235526515.68000004,{"$f":"VLOOKUP(A659,'Crete Monee Totals 5-8'!A:B,2,0)","v":2134704},233391811.68000004,{"$f":"VLOOKUP(A659,'AFR18'!A:L,12,0)","v":233391811.68000004},0]
[1730,9410093144.4899998,{"$f":"VLOOKUP(A660,'Crete Monee Totals 5-8'!A:B,2,0)","v":25367843},9384725301.4899998,{"$f":"VLOOKUP(A660,'AFR18'!A:L,12,0)","v":9384725301.4899998},0]
[1731,5480825267.5782604,{"$f":"VLOOKUP(A661,'Crete Monee Totals 5-8'!A:B,2,0)","v":12302568},5468522699.5782604,{"$f":"VLOOKUP(A661,'AFR18'!A:L,12,0)","v":5468522699.5782604},0]
[1732,886910968.19574142,{"$f":"VLOOKUP(A662,'Crete Monee Totals 5-8'!A:B,2,0)","v":2175279},884735689.19574142,{"$f":"VLOOKUP(A662,'AFR18'!A:L,12,0)","v":884735689.19574142},0]
[1733,880766333.6945461,{"$f":"VLOOKUP(A663,'Crete Monee Totals 5-8'!A:B,2,0)","v":6038932},874727401.6945461,{"$f":"VLOOKUP(A663,'AFR18'!A:L,12,0)","v":874727401.6945461},0]
[1734,350071114.55578548,{"$f":"VLOOKUP(A664,'Crete Monee Totals 5-8'!A:B,2,0)","v":1991915},348079199.55578548,{"$f":"VLOOKUP(A664,'AFR18'!A:L,12,0)","v":348079199.55578548},0]
[1735,165578448.00204197,{"$f":"VLOOKUP(A665,'Crete Monee Totals 5-8'!A:B,2,0)","v":484249},165094199.00204197,{"$f":"VLOOKUP(A665,'AFR18'!A:L,12,0)","v":165094199.00204197},0]
[1736,45689513.033277296,{"$f":"VLOOKUP(A666,'Crete Monee Totals 5-8'!A:B,2,0)","v":85039},45604474.033277296,{"$f":"VLOOKUP(A666,'AFR18'!A:L,12,0)","v":45604474.033277296},0]
[1738,1491940,0,1491940,{"$f":"VLOOKUP(A667,'AFR18'!A:L,12,0)","v":1491940},0]
[1739,225386866.002776,0,225386866.002776,{"$f":"VLOOKUP(A668,'AFR18'!A:L,12,0)","v":225386866.002776},0]
[1740,38202087.587277301,{"$f":"VLOOKUP(A669,'Crete Monee Totals 5-8'!A:B,2,0)","v":3248},38198839.587277301,{"$f":"VLOOKUP(A669,'AFR18'!A:L,12,0)","v":38198839.587277301},0]
[1741,261737850.34719247,{"$f":"VLOOKUP(A670,'Crete Monee Totals 5-8'!A:B,2,0)","v":2165240},259572610.34719247,{"$f":"VLOOKUP(A670,'AFR18'!A:L,12,0)","v":259572610.34719247},0]
[1746,8558672784.0455084,{"$f":"VLOOKUP(A671,'Crete Monee Totals 5-8'!A:B,2,0)","v":25730719},8532942065.0455084,{"$f":"VLOOKUP(A671,'AFR18'!A:L,12,0)","v":8532942065.0455084},0]
[1747,12225946897.74826,{"$f":"VLOOKUP(A672,'Crete Monee Totals 5-8'!A:B,2,0)","v":24431636},12201515261.74826,{"$f":"VLOOKUP(A672,'AFR18'!A:L,12,0)","v":12201515261.74826},0]
[1748,1560107329.4157414,{"$f":"VLOOKUP(A673,'Crete Monee Totals 5-8'!A:B,2,0)","v":4319881},1555787448.4157414,{"$f":"VLOOKUP(A673,'AFR18'!A:L,12,0)","v":1555787448.4157414},0]
[1749,1583369140.3645461,{"$f":"VLOOKUP(A674,'Crete Monee Totals 5-8'!A:B,2,0)","v":11992699},1571376441.3645461,{"$f":"VLOOKUP(A674,'AFR18'!A:L,12,0)","v":1571376441.3645461},0]
[1750,601341332.55578566,{"$f":"VLOOKUP(A675,'Crete Monee Totals 5-8'!A:B,2,0)","v":3955738},597385594.55578566,{"$f":"VLOOKUP(A675,'AFR18'!A:L,12,0)","v":597385594.55578566},0]
[1751,272397352.91204202,{"$f":"VLOOKUP(A676,'Crete Monee Totals 5-8'!A:B,2,0)","v":961668},271435684.91204202,{"$f":"VLOOKUP(A676,'AFR18'!A:L,12,0)","v":271435684.91204202},0]
[1752,68597465.493277282,{"$f":"VLOOKUP(A677,'Crete Monee Totals 5-8'!A:B,2,0)","v":168878},68428587.493277282,{"$f":"VLOOKUP(A677,'AFR18'!A:L,12,0)","v":68428587.493277282},0]
[1754,9059419,0,9059419,{"$f":"VLOOKUP(A678,'AFR18'!A:L,12,0)","v":9059419},0]
[1755,334827160.96277601,0,334827160.96277601,{"$f":"VLOOKUP(A679,'AFR18'!A:L,12,0)","v":334827160.96277601},0]
[1756,55378013.137277298,{"$f":"VLOOKUP(A680,'Crete Monee Totals 5-8'!A:B,2,0)","v":6450},55371563.137277298,{"$f":"VLOOKUP(A680,'AFR18'!A:L,12,0)","v":55371563.137277298},0]
[1757,497264366.02719253,{"$f":"VLOOKUP(A681,'Crete Monee Totals 5-8'!A:B,2,0)","v":4299944},492964422.02719253,{"$f":"VLOOKUP(A681,'AFR18'!A:L,12,0)","v":492964422.02719253},0]
[1762,17968765928.535511,{"$f":"VLOOKUP(A682,'Crete Monee Totals 5-8'!A:B,2,0)","v":51098562},17917667366.535511,{"$f":"VLOOKUP(A682,'AFR18'!A:L,12,0)","v":17917667366.535511},0]
[1764,16924218,0,16924218,{"$f":"VLOOKUP(A683,'AFR18'!A:L,12,0)","v":16924218},0]
[1765,4000000,0,4000000,{"$f":"VLOOKUP(A684,'AFR18'!A:L,12,0)","v":4000000},0]
[1767,1000000,0,1000000,{"$f":"VLOOKUP(A685,'AFR18'!A:L,12,0)","v":1000000},0]
[1772,21924218,0,21924218,{"$f":"VLOOKUP(A686,'AFR18'!A:L,12,0)","v":21924218},0]
[1773,958017900,0,958017900,{"$f":"VLOOKUP(A687,'AFR18'!A:L,12,0)","v":958017900},0]
[1774,50000,0,50000,{"$f":"VLOOKUP(A688,'AFR18'!A:L,12,0)","v":50000},0]
[1776,958067900,0,958067900,{"$f":"VLOOKUP(A689,'AFR18'!A:L,12,0)","v":958067900},0]
[1778,80200000,0,80200000,{"$f":"VLOOKUP(A690,'AFR18'!A:L,12,0)","v":80200000},0]
[1779,200350,0,200350,{"$f":"VLOOKUP(A691,'AFR18'!A:L,12,0)","v":200350},0]
[1781,1000000,0,1000000,{"$f":"VLOOKUP(A692,'AFR18'!A:L,12,0)","v":1000000},0]
[1786,81400350,0,81400350,{"$f":"VLOOKUP(A693,'AFR18'!A:L,12,0)","v":81400350},0]
[1787,1206439050,0,1206439050,{"$f":"VLOOKUP(A694,'AFR18'!A:L,12,0)","v":1206439050},0]
[1788,80000,0,80000,{"$f":"VLOOKUP(A695,'AFR18'!A:L,12,0)","v":80000},0]
[1790,1206519050,0,1206519050,{"$f":"VLOOKUP(A696,'AFR18'!A:L,12,0)","v":1206519050},0]
[1792,87024218,0,87024218,{"$f":"VLOOKUP(A697,'AFR18'!A:L,12,0)","v":87024218},0]
[1793,4100000,0,4100000,{"$f":"VLOOKUP(A698,'AFR18'!A:L,12,0)","v":4100000},0]
[1795,1000000,0,1000000,{"$f":"VLOOKUP(A699,'AFR18'!A:L,12,0)","v":1000000},0]
[1800,92124218,0,92124218,{"$f":"VLOOKUP(A700,'AFR18'!A:L,12,0)","v":92124218},0]
[1801,1558106900,0,1558106900,{"$f":"VLOOKUP(A701,'AFR18'!A:L,12,0)","v":1558106900},0]
[1802,50000,0,50000,{"$f":"VLOOKUP(A702,'AFR18'!A:L,12,0)","v":50000},0]
[1804,1558156900,0,1558156900,{"$f":"VLOOKUP(A703,'AFR18'!A:L,12,0)","v":1558156900},0]
[1806,10100000,0,10100000,{"$f":"VLOOKUP(A704,'AFR18'!A:L,12,0)","v":10100000},0]
[1807,100350,0,100350,{"$f":"VLOOKUP(A705,'AFR18'!A:L,12,0)","v":100350},0]
[1809,1000000,0,1000000,{"$f":"VLOOKUP(A706,'AFR18'!A:L,12,0)","v":1000000},0]
[1814,11200350,0,{"$f":"SUM(B707-C707)","v":11200350},{"$f":"VLOOKUP(A707,'AFR18'!A:L,12,0)","v":11200350},{"$f":"SUM(D707-E707)","v":0}]
[1815,606350050,0,606350050,{"$f":"VLOOKUP(A708,'AFR18'!A:L,12,0)","v":606350050},0]
[1816,80000,0,80000,{"$f":"VLOOKUP(A709,'AFR18'!A:L,12,0)","v":80000},0]
[1818,606430050,0,606430050,{"$f":"VLOOKUP(A710,'AFR18'!A:L,12,0)","v":606430050},0]
[1878,21070770001,{"$f":"VLOOKUP(A711,'Crete Monee Totals 5-8'!A:B,2,0)","v":98664289},20972105712,{"$f":"VLOOKUP(A711,'AFR18'!A:L,12,0)","v":20972105712},0]
[1879,4112600847,0,4112600847,{"$f":"VLOOKUP(A712,'AFR18'!A:L,12,0)","v":4112600847},0]
[1887,892197,0,892197,{"$f":"VLOOKUP(A713,'AFR18'!A:L,12,0)","v":892197},0]
[1889,158,0,158,{"$f":"VLOOKUP(A714,'AFR18'!A:L,12,0)","v":158},0]
[1892,158,0,158,{"$f":"VLOOKUP(A715,'AFR18'!A:L,12,0)","v":158},0]
[1894,99977,0,99977,{"$f":"VLOOKUP(A716,'AFR18'!A:L,12,0)","v":99977},0]
[1896,99977,0,99977,{"$f":"VLOOKUP(A717,'AFR18'!A:L,12,0)","v":99977},0]
[1897,792378,0,792378,{"$f":"VLOOKUP(A718,'AFR18'!A:L,12,0)","v":792378},0]
[1910,2437794,0,2437794,{"$f":"VLOOKUP(A719,'AFR18'!A:L,12,0)","v":2437794},0]
[1911,465361192.52999997,0,465361192.52999997,{"$f":"VLOOKUP(A720,'AFR18'!A:L,12,0)","v":465361192.52999997},0]
[1912,5223386.0999999996,{"$f":"VLOOKUP(A721,'Crete Monee Totals 5-8'!A:B,2,0)","v":4212794},1010592.0999999996,{"$f":"VLOOKUP(A721,'AFR18'!A:L,12,0)","v":1010592.1},-3.4924596548080444E-10]
[1913,2509732,0,2509732,{"$f":"VLOOKUP(A722,'AFR18'!A:L,12,0)","v":2509732},0]
[1916,473094310.63,{"$f":"VLOOKUP(A723,'Crete Monee Totals 5-8'!A:B,2,0)","v":4212794},468881516.63,{"$f":"VLOOKUP(A723,'AFR18'!A:L,12,0)","v":468881516.63},0]
[1918,1902417,0,1902417,{"$f":"VLOOKUP(A724,'AFR18'!A:L,12,0)","v":1902417},0]
[1919,14237679,0,14237679,{"$f":"VLOOKUP(A725,'AFR18'!A:L,12,0)","v":14237679},0]
[1921,470042159.52999997,{"$f":"VLOOKUP(A726,'Crete Monee Totals 5-8'!A:B,2,0)","v":4212794},465829365.52999997,{"$f":"VLOOKUP(A726,'AFR18'!A:L,12,0)","v":465829365.52999997},0]
[1922,5489945.1000000015,0,5489945.1000000015,{"$f":"VLOOKUP(A727,'AFR18'!A:L,12,0)","v":5489945.1000000015},0]
[1947,1268868459.05,{"$f":"VLOOKUP(A728,'Crete Monee Totals 5-8'!A:B,2,0)","v":2491235},1266377224.05,{"$f":"VLOOKUP(A728,'AFR18'!A:L,12,0)","v":1266377224.05},0]
[1948,40453047292.32,{"$f":"VLOOKUP(A729,'Crete Monee Totals 5-8'!A:B,2,0)","v":111393707},40341653585.32,{"$f":"VLOOKUP(A729,'AFR18'!A:L,12,0)","v":40341653585.32},0]
[1949,2168632932.3800001,{"$f":"VLOOKUP(A730,'Crete Monee Totals 5-8'!A:B,2,0)","v":4123638},2164509294.3800001,{"$f":"VLOOKUP(A730,'AFR18'!A:L,12,0)","v":2164509294.3800001},0]
[1950,3252357949.3200002,0,3252357949.3200002,{"$f":"VLOOKUP(A731,'AFR18'!A:L,12,0)","v":3252357949.3200002},0]
[1951,981688584.38999999,{"$f":"VLOOKUP(A732,'Crete Monee Totals 5-8'!A:B,2,0)","v":3014850},978673734.38999999,{"$f":"VLOOKUP(A732,'AFR18'!A:L,12,0)","v":978673734.38999999},0]
[1952,49309169297.650002,{"$f":"VLOOKUP(A733,'Crete Monee Totals 5-8'!A:B,2,0)","v":121023430},49188145867.650002,{"$f":"VLOOKUP(A733,'AFR18'!A:L,12,0)","v":49188145867.650002},0]
[1953,15644953,0,15644953,{"$f":"VLOOKUP(A734,'AFR18'!A:L,12,0)","v":15644953},0]
[1954,1440700500.3599999,{"$f":"VLOOKUP(A735,'Crete Monee Totals 5-8'!A:B,2,0)","v":489424},1440211076.3599999,{"$f":"VLOOKUP(A735,'AFR18'!A:L,12,0)","v":1440211076.3599999},0]
[1955,154970773.47000003,{"$f":"VLOOKUP(A736,'Crete Monee Totals 5-8'!A:B,2,0)","v":73680},154897093.47000003,{"$f":"VLOOKUP(A736,'AFR18'!A:L,12,0)","v":154897093.47000003},0]
[1956,204169065.22,0,204169065.22,{"$f":"VLOOKUP(A737,'AFR18'!A:L,12,0)","v":204169065.22},0]
[1957,77113951,{"$f":"VLOOKUP(A738,'Crete Monee Totals 5-8'!A:B,2,0)","v":259706},76854245,{"$f":"VLOOKUP(A738,'AFR18'!A:L,12,0)","v":76854245},0]
[1958,2983289375.9999995,{"$f":"VLOOKUP(A739,'Crete Monee Totals 5-8'!A:B,2,0)","v":822810},2982466565.9999995,{"$f":"VLOOKUP(A739,'AFR18'!A:L,12,0)","v":2982466565.9999995},0]
[1959,826989,0,826989,{"$f":"VLOOKUP(A740,'AFR18'!A:L,12,0)","v":826989},0]
[1960,152934606,0,152934606,{"$f":"VLOOKUP(A741,'AFR18'!A:L,12,0)","v":152934606},0]
[1961,3885967,0,3885967,{"$f":"VLOOKUP(A742,'AFR18'!A:L,12,0)","v":3885967},0]
[1962,89832747,0,89832747,{"$f":"VLOOKUP(A743,'AFR18'!A:L,12,0)","v":89832747},0]
[1963,100908480,0,100908480,{"$f":"VLOOKUP(A744,'AFR18'!A:L,12,0)","v":100908480},0]
[1964,1327949386,0,1327949386,{"$f":"VLOOKUP(A745,'AFR18'!A:L,12,0)","v":1327949386},0]
[1965,1283686423.05,{"$f":"VLOOKUP(A746,'Crete Monee Totals 5-8'!A:B,2,0)","v":2491235},1281195188.05,{"$f":"VLOOKUP(A746,'AFR18'!A:L,12,0)","v":1281195188.05},0]
[1966,41740813186.68,{"$f":"VLOOKUP(A747,'Crete Monee Totals 5-8'!A:B,2,0)","v":111883131},41628930055.68,{"$f":"VLOOKUP(A747,'AFR18'!A:L,12,0)","v":41628930055.68},0]
[1967,2319717738.8499999,{"$f":"VLOOKUP(A748,'Crete Monee Totals 5-8'!A:B,2,0)","v":4197318},2315520420.8499999,{"$f":"VLOOKUP(A748,'AFR18'!A:L,12,0)","v":2315520420.8499999},0]
[1968,3366694267.54,0,3366694267.54,{"$f":"VLOOKUP(A749,'AFR18'!A:L,12,0)","v":3366694267.54},0]
[1969,957894055.3900001,{"$f":"VLOOKUP(A750,'Crete Monee Totals 5-8'!A:B,2,0)","v":3274556},954619499.3900001,{"$f":"VLOOKUP(A750,'AFR18'!A:L,12,0)","v":954619499.3900001},0]
[1970,50964509287.650009,{"$f":"VLOOKUP(A751,'Crete Monee Totals 5-8'!A:B,2,0)","v":121846240},50842663047.650009,{"$f":"VLOOKUP(A751,'AFR18'!A:L,12,0)","v":50842663047.650009},0]
[1972,15559917756.540001,{"$f":"VLOOKUP(A752,'Crete Monee Totals 5-8'!A:B,2,0)","v":30826307},15529091449.540001,{"$f":"VLOOKUP(A752,'AFR18'!A:L,12,0)","v":15529091449.540001},0]
[1973,1008789449.1700001,{"$f":"VLOOKUP(A753,'Crete Monee Totals 5-8'!A:B,2,0)","v":2907054},1005882395.1700001,{"$f":"VLOOKUP(A753,'AFR18'!A:L,12,0)","v":1005882395.1700001},0]
[1974,2519478594.6199999,0,2519478594.6199999,{"$f":"VLOOKUP(A754,'AFR18'!A:L,12,0)","v":2519478594.6199999},0]
[1975,761872319.19000006,{"$f":"VLOOKUP(A755,'Crete Monee Totals 5-8'!A:B,2,0)","v":2520565},759351754.19000006,{"$f":"VLOOKUP(A755,'AFR18'!A:L,12,0)","v":759351754.19000006},0]
[1976,19953787435.360001,{"$f":"VLOOKUP(A756,'Crete Monee Totals 5-8'!A:B,2,0)","v":36253926},19917533509.360001,{"$f":"VLOOKUP(A756,'AFR18'!A:L,12,0)","v":19917533509.360001},0]
[1978,967276288.87,{"$f":"VLOOKUP(A757,'Crete Monee Totals 5-8'!A:B,2,0)","v":2178438},965097850.87,{"$f":"VLOOKUP(A757,'AFR18'!A:L,12,0)","v":965097850.87},0]
[1979,96805076.730000004,{"$f":"VLOOKUP(A758,'Crete Monee Totals 5-8'!A:B,2,0)","v":135973},96669103.730000004,{"$f":"VLOOKUP(A758,'AFR18'!A:L,12,0)","v":96669103.730000004},0]
[1980,182802621.44999999,0,182802621.44999999,{"$f":"VLOOKUP(A759,'AFR18'!A:L,12,0)","v":182802621.44999999},0]
[1981,65321270.350000001,{"$f":"VLOOKUP(A760,'Crete Monee Totals 5-8'!A:B,2,0)","v":163067},65158203.350000001,{"$f":"VLOOKUP(A760,'AFR18'!A:L,12,0)","v":65158203.350000001},0]
[1982,1320980357.95,{"$f":"VLOOKUP(A761,'Crete Monee Totals 5-8'!A:B,2,0)","v":2477478},1318502879.95,{"$f":"VLOOKUP(A761,'AFR18'!A:L,12,0)","v":1318502879.95},0]
[1984,63008512,0,63008512,{"$f":"VLOOKUP(A762,'AFR18'!A:L,12,0)","v":63008512},0]
[1985,3904355,0,3904355,{"$f":"VLOOKUP(A763,'AFR18'!A:L,12,0)","v":3904355},0]
[1986,71357899,0,71357899,{"$f":"VLOOKUP(A764,'AFR18'!A:L,12,0)","v":71357899},0]
[1987,95916570,0,95916570,{"$f":"VLOOKUP(A765,'AFR18'!A:L,12,0)","v":95916570},0]
[1988,235773562,0,235773562,{"$f":"VLOOKUP(A766,'AFR18'!A:L,12,0)","v":235773562},0]
[1990,16464185533.409998,{"$f":"VLOOKUP(A767,'Crete Monee Totals 5-8'!A:B,2,0)","v":33004745},16431180788.409998,{"$f":"VLOOKUP(A767,'AFR18'!A:L,12,0)","v":16431180788.409998},0]
[1991,1101690170.8999999,{"$f":"VLOOKUP(A768,'Crete Monee Totals 5-8'!A:B,2,0)","v":3043027},1098647143.8999999,{"$f":"VLOOKUP(A768,'AFR18'!A:L,12,0)","v":1098647143.8999999},0]
[1992,2630923317.0700002,0,2630923317.0700002,{"$f":"VLOOKUP(A769,'AFR18'!A:L,12,0)","v":2630923317.0700002},0]
[1993,731277019.53999996,{"$f":"VLOOKUP(A770,'Crete Monee Totals 5-8'!A:B,2,0)","v":2683632},728593387.53999996,{"$f":"VLOOKUP(A770,'AFR18'!A:L,12,0)","v":728593387.53999996},0]
[1994,21038994231.310005,{"$f":"VLOOKUP(A771,'Crete Monee Totals 5-8'!A:B,2,0)","v":38731404},{"$f":"SUM(B771-C771)","v":21000262827.310005},{"$f":"VLOOKUP(A771,'AFR18'!A:L,12,0)","v":21000262827.310005},{"$f":"SUM(D771-E771)","v":0}]
[1995,1283686423.05,{"$f":"VLOOKUP(A772,'Crete Monee Totals 5-8'!A:B,2,0)","v":2491235},1281195188.05,{"$f":"VLOOKUP(A772,'AFR18'!A:L,12,0)","v":1281195188.05},0]
[1996,25276627653.27,{"$f":"VLOOKUP(A773,'Crete Monee Totals 5-8'!A:B,2,0)","v":78878386},25197749267.27,{"$f":"VLOOKUP(A773,'AFR18'!A:L,12,0)","v":25197749267.27},0]
[1997,1218027567.95,{"$f":"VLOOKUP(A774,'Crete Monee Totals 5-8'!A:B,2,0)","v":1154291},1216873276.95,{"$f":"VLOOKUP(A774,'AFR18'!A:L,12,0)","v":1216873276.95},0]
[1998,735770950.47000003,0,735770950.47000003,{"$f":"VLOOKUP(A775,'AFR18'!A:L,12,0)","v":735770950.47000003},0]
[1999,226617035.84999996,{"$f":"VLOOKUP(A776,'Crete Monee Totals 5-8'!A:B,2,0)","v":590924},226026111.84999996,{"$f":"VLOOKUP(A776,'AFR18'!A:L,12,0)","v":226026111.84999996},0]
[2000,29925515056.34,{"$f":"VLOOKUP(A777,'Crete Monee Totals 5-8'!A:B,2,0)","v":83114836},29842400220.34,{"$f":"VLOOKUP(A777,'AFR18'!A:L,12,0)","v":29842400220.34},0]
[2020,231691953.53,0,231691953.53,{"$f":"VLOOKUP(A778,'AFR18'!A:L,12,0)","v":231691953.53},0]
[2027,439659857.94000006,0,439659857.94000006,{"$f":"VLOOKUP(A779,'AFR18'!A:L,12,0)","v":439659857.94000006},0]
[2028,296671870,{"$f":"VLOOKUP(A780,'Crete Monee Totals 5-8'!A:B,2,0)","v":1180976},295490894,{"$f":"VLOOKUP(A780,'AFR18'!A:L,12,0)","v":295490894},0]
[2030,3221537,0,3221537,{"$f":"VLOOKUP(A781,'AFR18'!A:L,12,0)","v":3221537},0]
[2031,93915,0,93915,{"$f":"VLOOKUP(A782,'AFR18'!A:L,12,0)","v":93915},0]
[2032,5578563,0,5578563,{"$f":"VLOOKUP(A783,'AFR18'!A:L,12,0)","v":5578563},0]
[2033,93915,0,93915,{"$f":"VLOOKUP(A784,'AFR18'!A:L,12,0)","v":93915},0]
[2041,868100,0,868100,{"$f":"VLOOKUP(A785,'AFR18'!A:L,12,0)","v":868100},0]
[2044,348701908,0,348701908,{"$f":"VLOOKUP(A786,'AFR18'!A:L,12,0)","v":348701908},0]
[2045,22886673,0,22886673,{"$f":"VLOOKUP(A787,'AFR18'!A:L,12,0)","v":22886673},0]
[2374,245198419,{"$f":"VLOOKUP(A788,'Crete Monee Totals 5-8'!A:B,2,0)","v":69911},245128508,{"$f":"VLOOKUP(A788,'AFR18'!A:L,12,0)","v":245128508},0]
[2376,205831719,0,205831719,{"$f":"VLOOKUP(A789,'AFR18'!A:L,12,0)","v":205831719},0]
[2414,167255841,0,167255841,{"$f":"VLOOKUP(A790,'AFR18'!A:L,12,0)","v":167255841},0]
[2416,145891999,0,145891999,{"$f":"VLOOKUP(A791,'AFR18'!A:L,12,0)","v":145891999},0]
[2443,1036906569,0,1036906569,{"$f":"VLOOKUP(A792,'AFR18'!A:L,12,0)","v":1036906569},0]
[2474,1239661355,0,1239661355,{"$f":"VLOOKUP(A793,'AFR18'!A:L,12,0)","v":1239661355},0]
[2490,14324719366.91,{"$f":"VLOOKUP(A794,'Crete Monee Totals 5-8'!A:B,2,0)","v":30044125},14294675241.91,{"$f":"VLOOKUP(A794,'AFR18'!A:L,12,0)","v":14294675241.91},0]
[2492,6447581623.0099993,{"$f":"VLOOKUP(A795,'Crete Monee Totals 5-8'!A:B,2,0)","v":17440730},6430140893.0099993,{"$f":"VLOOKUP(A795,'AFR18'!A:L,12,0)","v":6430140893.0099993},0]
[2493,2063186078.9400001,{"$f":"VLOOKUP(A796,'Crete Monee Totals 5-8'!A:B,2,0)","v":4660565},2058525513.9400001,{"$f":"VLOOKUP(A796,'AFR18'!A:L,12,0)","v":2058525513.9400001},0]
[2494,22848427320.859997,{"$f":"VLOOKUP(A797,'Crete Monee Totals 5-8'!A:B,2,0)","v":52145420},22796281900.859997,{"$f":"VLOOKUP(A797,'AFR18'!A:L,12,0)","v":22796281900.859997},0]
[2495,14575394777.520002,{"$f":"VLOOKUP(A798,'Crete Monee Totals 5-8'!A:B,2,0)","v":33949825},14541444952.520002,{"$f":"VLOOKUP(A798,'AFR18'!A:L,12,0)","v":14541444952.520002},0]
[2496,6104729135.1100006,{"$f":"VLOOKUP(A799,'Crete Monee Totals 5-8'!A:B,2,0)","v":20049492},6084679643.1100006,{"$f":"VLOOKUP(A799,'AFR18'!A:L,12,0)","v":6084679643.1100006},0]
[2497,157232594,{"$f":"VLOOKUP(A800,'Crete Monee Totals 5-8'!A:B,2,0)","v":353255},156879339,{"$f":"VLOOKUP(A800,'AFR18'!A:L,12,0)","v":156879339},0]
[2498,741197906.94000006,{"$f":"VLOOKUP(A801,'Crete Monee Totals 5-8'!A:B,2,0)","v":1180976},740016930.94000006,{"$f":"VLOOKUP(A801,'AFR18'!A:L,12,0)","v":740016930.94000006},0]
[2499,34149433,{"$f":"VLOOKUP(A802,'Crete Monee Totals 5-8'!A:B,2,0)","v":39},34149394,{"$f":"VLOOKUP(A802,'AFR18'!A:L,12,0)","v":34149394},0]
[2500,21612703846.57,{"$f":"VLOOKUP(A803,'Crete Monee Totals 5-8'!A:B,2,0)","v":55533587},21557170259.57,{"$f":"VLOOKUP(A803,'AFR18'!A:L,12,0)","v":21557170259.57},0]
[2501,1235723474.29,{"$f":"VLOOKUP(A804,'Crete Monee Totals 5-8'!A:B,2,0)","v":-3388167},1239111641.29,{"$f":"VLOOKUP(A804,'AFR18'!A:L,12,0)","v":1239111641.29},0]
[2502,1276757,0,1276757,{"$f":"VLOOKUP(A805,'AFR18'!A:L,12,0)","v":1276757},0]
[2503,1717672246.7600002,{"$f":"VLOOKUP(A806,'Crete Monee Totals 5-8'!A:B,2,0)","v":4307174},1713365072.7600002,{"$f":"VLOOKUP(A806,'AFR18'!A:L,12,0)","v":1713365072.7600002},0]
[2505,546116589,0,546116589,{"$f":"VLOOKUP(A807,'AFR18'!A:L,12,0)","v":546116589},0]
[2506,7855997,0,7855997,{"$f":"VLOOKUP(A808,'AFR18'!A:L,12,0)","v":7855997},0]
[2507,2272760903.7600002,{"$f":"VLOOKUP(A809,'Crete Monee Totals 5-8'!A:B,2,0)","v":4307174},2268453729.7600002,{"$f":"VLOOKUP(A809,'AFR18'!A:L,12,0)","v":2268453729.7600002},0]
[2508,2177573154.9099998,{"$f":"VLOOKUP(A810,'Crete Monee Totals 5-8'!A:B,2,0)","v":4302232},2173270922.9099998,{"$f":"VLOOKUP(A810,'AFR18'!A:L,12,0)","v":2173270922.9099998},0]
[2509,1877916,0,1877916,{"$f":"VLOOKUP(A811,'AFR18'!A:L,12,0)","v":1877916},0]
[2510,5672478,0,5672478,{"$f":"VLOOKUP(A812,'AFR18'!A:L,12,0)","v":5672478},0]
[2511,465579,0,465579,{"$f":"VLOOKUP(A813,'AFR18'!A:L,12,0)","v":465579},0]
[2512,2185589127.9099998,{"$f":"VLOOKUP(A814,'Crete Monee Totals 5-8'!A:B,2,0)","v":4302232},2181286895.9099998,{"$f":"VLOOKUP(A814,'AFR18'!A:L,12,0)","v":2181286895.9099998},0]
[2513,87171775.850000009,{"$f":"VLOOKUP(A815,'Crete Monee Totals 5-8'!A:B,2,0)","v":4942},87166833.850000009,{"$f":"VLOOKUP(A815,'AFR18'!A:L,12,0)","v":87166833.850000009},0]
[2514,1692437,0,1692437,{"$f":"VLOOKUP(A816,'AFR18'!A:L,12,0)","v":1692437},0]
[2530,693611509.20000005,{"$f":"VLOOKUP(A817,'Crete Monee Totals 5-8'!A:B,2,0)","v":4102404},689509105.20000005,{"$f":"VLOOKUP(A817,'AFR18'!A:L,12,0)","v":689509105.20000005},0]
[2532,687642458.53999996,{"$f":"VLOOKUP(A818,'Crete Monee Totals 5-8'!A:B,2,0)","v":3857047},683785411.53999996,{"$f":"VLOOKUP(A818,'AFR18'!A:L,12,0)","v":683785411.53999996},0]
[2533,1708570,0,1708570,{"$f":"VLOOKUP(A819,'AFR18'!A:L,12,0)","v":1708570},0]
[2534,1383037909.74,{"$f":"VLOOKUP(A820,'Crete Monee Totals 5-8'!A:B,2,0)","v":7959451},1375078458.74,{"$f":"VLOOKUP(A820,'AFR18'!A:L,12,0)","v":1375078458.74},0]
[2535,1165802950.1999998,{"$f":"VLOOKUP(A821,'Crete Monee Totals 5-8'!A:B,2,0)","v":6220450},1159582500.1999998,{"$f":"VLOOKUP(A821,'AFR18'!A:L,12,0)","v":1159582500.1999998},0]
[2536,1465697,0,1465697,{"$f":"VLOOKUP(A822,'AFR18'!A:L,12,0)","v":1465697},0]
[2537,15567144,0,15567144,{"$f":"VLOOKUP(A823,'AFR18'!A:L,12,0)","v":15567144},0]
[2538,16375090,0,16375090,{"$f":"VLOOKUP(A824,'AFR18'!A:L,12,0)","v":16375090},0]
[2539,1199210881.1999998,{"$f":"VLOOKUP(A825,'Crete Monee Totals 5-8'!A:B,2,0)","v":6220450},1192990431.1999998,{"$f":"VLOOKUP(A825,'AFR18'!A:L,12,0)","v":1192990431.1999998},0]
[2540,183827028.53999999,{"$f":"VLOOKUP(A826,'Crete Monee Totals 5-8'!A:B,2,0)","v":1739001},182088027.53999999,{"$f":"VLOOKUP(A826,'AFR18'!A:L,12,0)","v":182088027.53999999},0]
[2541,-244177,0,-244177,{"$f":"VLOOKUP(A827,'AFR18'!A:L,12,0)","v":-244177},0]
[2542,634963075.33999991,{"$f":"VLOOKUP(A828,'Crete Monee Totals 5-8'!A:B,2,0)","v":1952601},633010474.33999991,{"$f":"VLOOKUP(A828,'AFR18'!A:L,12,0)","v":633010474.33999991},0]
[2543,13223355,0,13223355,{"$f":"VLOOKUP(A829,'AFR18'!A:L,12,0)","v":13223355},0]
[2544,2166556,0,2166556,{"$f":"VLOOKUP(A830,'AFR18'!A:L,12,0)","v":2166556},0]
[2545,650352986.33999991,{"$f":"VLOOKUP(A831,'Crete Monee Totals 5-8'!A:B,2,0)","v":1952601},648400385.33999991,{"$f":"VLOOKUP(A831,'AFR18'!A:L,12,0)","v":648400385.33999991},0]
[2546,242327922.34000003,{"$f":"VLOOKUP(A832,'Crete Monee Totals 5-8'!A:B,2,0)","v":736524},241591398.34000003,{"$f":"VLOOKUP(A832,'AFR18'!A:L,12,0)","v":241591398.34000003},0]
[2547,375052639.55999994,{"$f":"VLOOKUP(A833,'Crete Monee Totals 5-8'!A:B,2,0)","v":1120944},373931695.55999994,{"$f":"VLOOKUP(A833,'AFR18'!A:L,12,0)","v":373931695.55999994},0]
[2548,5728822,{"$f":"VLOOKUP(A834,'Crete Monee Totals 5-8'!A:B,2,0)","v":834},5727988,{"$f":"VLOOKUP(A834,'AFR18'!A:L,12,0)","v":5727988},0]
[2551,625629915.89999998,{"$f":"VLOOKUP(A835,'Crete Monee Totals 5-8'!A:B,2,0)","v":1858302},{"$f":"SUM(B835-C835)","v":623771613.89999998},{"$f":"VLOOKUP(A835,'AFR18'!A:L,12,0)","v":623771613.89999998},{"$f":"SUM(D835-E835)","v":0}]
[2552,24723070.439999998,{"$f":"VLOOKUP(A836,'Crete Monee Totals 5-8'!A:B,2,0)","v":94299},24628771.439999998,{"$f":"VLOOKUP(A836,'AFR18'!A:L,12,0)","v":24628771.439999998},0]
[2553,90691,{"$f":"VLOOKUP(A837,'Crete Monee Totals 5-8'!A:B,2,0)","v":53367},37324,{"$f":"VLOOKUP(A837,'AFR18'!A:L,12,0)","v":37324},0]
[2569,1816697759.8000002,{"$f":"VLOOKUP(A838,'Crete Monee Totals 5-8'!A:B,2,0)","v":11721833},1804975926.8000002,{"$f":"VLOOKUP(A838,'AFR18'!A:L,12,0)","v":1804975926.8000002},0]
[2570,342932209,0,342932209,{"$f":"VLOOKUP(A839,'AFR18'!A:L,12,0)","v":342932209},0]
[2571,2208553736.8000002,{"$f":"VLOOKUP(A840,'Crete Monee Totals 5-8'!A:B,2,0)","v":11721833},2196831903.8000002,{"$f":"VLOOKUP(A840,'AFR18'!A:L,12,0)","v":2196831903.8000002},0]
[2572,139983,0,139983,{"$f":"VLOOKUP(A841,'AFR18'!A:L,12,0)","v":139983},0]
[2573,2998987778,{"$f":"VLOOKUP(A842,'Crete Monee Totals 5-8'!A:B,2,0)","v":11693095},2987294683,{"$f":"VLOOKUP(A842,'AFR18'!A:L,12,0)","v":2987294683},0]
[2574,2999127761,{"$f":"VLOOKUP(A843,'Crete Monee Totals 5-8'!A:B,2,0)","v":11693095},2987434666,{"$f":"VLOOKUP(A843,'AFR18'!A:L,12,0)","v":2987434666},0]
[2575,-790574024.20000005,{"$f":"VLOOKUP(A844,'Crete Monee Totals 5-8'!A:B,2,0)","v":28738},-790602762.20000005,{"$f":"VLOOKUP(A844,'AFR18'!A:L,12,0)","v":-790602762.20000005},0]
[2576,-771344,0,-771344,{"$f":"VLOOKUP(A845,'AFR18'!A:L,12,0)","v":-771344},0]
[2594,183466992.61000001,{"$f":"VLOOKUP(A846,'Crete Monee Totals 5-8'!A:B,2,0)","v":27009},183439983.61000001,{"$f":"VLOOKUP(A846,'AFR18'!A:L,12,0)","v":183439983.61000001},0]
[2595,55672630,0,55672630,{"$f":"VLOOKUP(A847,'AFR18'!A:L,12,0)","v":55672630},0]
[2596,755447,0,755447,{"$f":"VLOOKUP(A848,'AFR18'!A:L,12,0)","v":755447},0]
[2597,239895069.61000001,{"$f":"VLOOKUP(A849,'Crete Monee Totals 5-8'!A:B,2,0)","v":27009},239868060.61000001,{"$f":"VLOOKUP(A849,'AFR18'!A:L,12,0)","v":239868060.61000001},0]
[2598,1506014787.0699999,{"$f":"VLOOKUP(A850,'Crete Monee Totals 5-8'!A:B,2,0)","v":419971},1505594816.0699999,{"$f":"VLOOKUP(A850,'AFR18'!A:L,12,0)","v":1505594816.0699999},0]
[2599,868100,0,868100,{"$f":"VLOOKUP(A851,'AFR18'!A:L,12,0)","v":868100},0]
[2600,1506882887.0699999,{"$f":"VLOOKUP(A852,'Crete Monee Totals 5-8'!A:B,2,0)","v":419971},1506462916.0699999,{"$f":"VLOOKUP(A852,'AFR18'!A:L,12,0)","v":1506462916.0699999},0]
[2601,-1266987817.46,{"$f":"VLOOKUP(A853,'Crete Monee Totals 5-8'!A:B,2,0)","v":-392962},-1266594855.46,{"$f":"VLOOKUP(A853,'AFR18'!A:L,12,0)","v":-1266594855.46},0]
[2602,-138403,0,-138403,{"$f":"VLOOKUP(A854,'AFR18'!A:L,12,0)","v":-138403},0]
[2657,72516314,0,72516314,{"$f":"VLOOKUP(A855,'AFR18'!A:L,12,0)","v":72516314},0]
[2658,16368267,0,16368267,{"$f":"VLOOKUP(A856,'AFR18'!A:L,12,0)","v":16368267},0]
[2659,4964028,0,4964028,{"$f":"VLOOKUP(A857,'AFR18'!A:L,12,0)","v":4964028},0]
[2660,1459349,0,1459349,{"$f":"VLOOKUP(A858,'AFR18'!A:L,12,0)","v":1459349},0]
[2661,65718,0,65718,{"$f":"VLOOKUP(A859,'AFR18'!A:L,12,0)","v":65718},0]
[2662,422099,0,422099,{"$f":"VLOOKUP(A860,'AFR18'!A:L,12,0)","v":422099},0]
[2663,96006143,0,96006143,{"$f":"VLOOKUP(A861,'AFR18'!A:L,12,0)","v":96006143},0]
[2664,3507910,0,3507910,{"$f":"VLOOKUP(A862,'AFR18'!A:L,12,0)","v":3507910},0]
[2665,3507910,0,3507910,{"$f":"VLOOKUP(A863,'AFR18'!A:L,12,0)","v":3507910},0]
[2696,289340251,0,289340251,{"$f":"VLOOKUP(A864,'AFR18'!A:L,12,0)","v":289340251},0]
[2697,9311959,0,9311959,{"$f":"VLOOKUP(A865,'AFR18'!A:L,12,0)","v":9311959},0]
[2699,13646687,0,13646687,{"$f":"VLOOKUP(A866,'AFR18'!A:L,12,0)","v":13646687},0]
[2701,3415270,0,3415270,{"$f":"VLOOKUP(A867,'AFR18'!A:L,12,0)","v":3415270},0]
[2702,403684,0,403684,{"$f":"VLOOKUP(A868,'AFR18'!A:L,12,0)","v":403684},0]
[2705,47069,0,47069,{"$f":"VLOOKUP(A869,'AFR18'!A:L,12,0)","v":47069},0]
[2708,2365437,0,2365437,{"$f":"VLOOKUP(A870,'AFR18'!A:L,12,0)","v":2365437},0]
[2711,3316000,0,3316000,{"$f":"VLOOKUP(A871,'AFR18'!A:L,12,0)","v":3316000},0]
[2728,207967904.41,0,207967904.41,{"$f":"VLOOKUP(A872,'AFR18'!A:L,12,0)","v":207967904.41},0]
[2729,208274220.41,0,208274220.41,{"$f":"VLOOKUP(A873,'AFR18'!A:L,12,0)","v":208274220.41},0]
[2731,30974292,0,30974292,{"$f":"VLOOKUP(A874,'AFR18'!A:L,12,0)","v":30974292},0]
[2733,9299700,0,9299700,{"$f":"VLOOKUP(A875,'AFR18'!A:L,12,0)","v":9299700},0]
[2735,30974292,0,30974292,{"$f":"VLOOKUP(A876,'AFR18'!A:L,12,0)","v":30974292},0]
[2736,314443,0,314443,{"$f":"VLOOKUP(A877,'AFR18'!A:L,12,0)","v":314443},0]
[2737,19,0,19,{"$f":"VLOOKUP(A878,'AFR18'!A:L,12,0)","v":19},0]
[2738,55322,0,55322,{"$f":"VLOOKUP(A879,'AFR18'!A:L,12,0)","v":55322},0]
[2739,10083,0,10083,{"$f":"VLOOKUP(A880,'AFR18'!A:L,12,0)","v":10083},0]
[2740,47171,0,47171,{"$f":"VLOOKUP(A881,'AFR18'!A:L,12,0)","v":47171},0]
[2741,1450000,0,1450000,{"$f":"VLOOKUP(A882,'AFR18'!A:L,12,0)","v":1450000},0]
[2744,1877916,0,1877916,{"$f":"VLOOKUP(A883,'AFR18'!A:L,12,0)","v":1877916},0]
[2745,12043528,0,12043528,{"$f":"VLOOKUP(A884,'AFR18'!A:L,12,0)","v":12043528},0]
[2752,1949430,0,1949430,{"$f":"VLOOKUP(A885,'AFR18'!A:L,12,0)","v":1949430},0]
[2756,287290136,0,287290136,{"$f":"VLOOKUP(A886,'AFR18'!A:L,12,0)","v":287290136},0]
[2758,1949430,0,1949430,{"$f":"VLOOKUP(A887,'AFR18'!A:L,12,0)","v":1949430},0]
[2759,37664,0,37664,{"$f":"VLOOKUP(A888,'AFR18'!A:L,12,0)","v":37664},0]
[2760,729,0,729,{"$f":"VLOOKUP(A889,'AFR18'!A:L,12,0)","v":729},0]
[2761,174176,0,174176,{"$f":"VLOOKUP(A890,'AFR18'!A:L,12,0)","v":174176},0]
[2762,12729286,0,12729286,{"$f":"VLOOKUP(A891,'AFR18'!A:L,12,0)","v":12729286},0]
[2764,3128,0,3128,{"$f":"VLOOKUP(A892,'AFR18'!A:L,12,0)","v":3128},0]
[2766,1250000,0,1250000,{"$f":"VLOOKUP(A893,'AFR18'!A:L,12,0)","v":1250000},0]
[2767,2837858,0,2837858,{"$f":"VLOOKUP(A894,'AFR18'!A:L,12,0)","v":2837858},0]
[2769,2837858,0,2837858,{"$f":"VLOOKUP(A895,'AFR18'!A:L,12,0)","v":2837858},0]
[2775,1465697,0,1465697,{"$f":"VLOOKUP(A896,'AFR18'!A:L,12,0)","v":1465697},0]
[2776,15567144,0,15567144,{"$f":"VLOOKUP(A897,'AFR18'!A:L,12,0)","v":15567144},0]
[2779,3307350,0,3307350,{"$f":"VLOOKUP(A898,'AFR18'!A:L,12,0)","v":3307350},0]
[2787,3583747,0,{"$f":"SUM(B899-C899)","v":3583747},{"$f":"VLOOKUP(A899,'AFR18'!A:L,12,0)","v":3583747},{"$f":"SUM(D899-E899)","v":0}]
[2793,105042,0,105042,{"$f":"VLOOKUP(A900,'AFR18'!A:L,12,0)","v":105042},0]
[2794,3538042.54,0,3538042.54,{"$f":"VLOOKUP(A901,'AFR18'!A:L,12,0)","v":3538042.54},0]
[2795,11717,0,11717,{"$f":"VLOOKUP(A902,'AFR18'!A:L,12,0)","v":11717},0]
[2797,10161469,0,10161469,{"$f":"VLOOKUP(A903,'AFR18'!A:L,12,0)","v":10161469},0]
[2799,1106319,0,1106319,{"$f":"VLOOKUP(A904,'AFR18'!A:L,12,0)","v":1106319},0]
[2801,30260289,0,30260289,{"$f":"VLOOKUP(A905,'AFR18'!A:L,12,0)","v":30260289},0]
[2803,1061757475,0,1061757475,{"$f":"VLOOKUP(A906,'AFR18'!A:L,12,0)","v":1061757475},0]
[2819,29635396,{"$f":"VLOOKUP(A907,'Crete Monee Totals 5-8'!A:B,2,0)","v":83350},29552046,{"$f":"VLOOKUP(A907,'AFR18'!A:L,12,0)","v":29552046},0]
[2824,476588747,0,476588747,{"$f":"VLOOKUP(A908,'AFR18'!A:L,12,0)","v":476588747},0]
[2826,-28997,0,-28997,{"$f":"VLOOKUP(A909,'AFR18'!A:L,12,0)","v":-28997},0]
[2827,2273448552.5100002,{"$f":"VLOOKUP(A910,'Crete Monee Totals 5-8'!A:B,2,0)","v":1308756},2272139796.5100002,{"$f":"VLOOKUP(A910,'AFR18'!A:L,12,0)","v":2272139796.5100002},0]
[2831,38351905,0,38351905,{"$f":"VLOOKUP(A911,'AFR18'!A:L,12,0)","v":38351905},0]
[2833,2055945,0,2055945,{"$f":"VLOOKUP(A912,'AFR18'!A:L,12,0)","v":2055945},0]
[2834,253177879.57000002,{"$f":"VLOOKUP(A913,'Crete Monee Totals 5-8'!A:B,2,0)","v":302818},252875061.57000002,{"$f":"VLOOKUP(A913,'AFR18'!A:L,12,0)","v":252875061.57000002},0]
[2847,16411818,{"$f":"VLOOKUP(A914,'Crete Monee Totals 5-8'!A:B,2,0)","v":82750},16329068,{"$f":"VLOOKUP(A914,'AFR18'!A:L,12,0)","v":16329068},0]
[2849,17211660,{"$f":"VLOOKUP(A915,'Crete Monee Totals 5-8'!A:B,2,0)","v":82750},17128910,{"$f":"VLOOKUP(A915,'AFR18'!A:L,12,0)","v":17128910},0]
[2850,97680018,0,97680018,{"$f":"VLOOKUP(A916,'AFR18'!A:L,12,0)","v":97680018},0]
[2851,2158556874.5900002,{"$f":"VLOOKUP(A917,'Crete Monee Totals 5-8'!A:B,2,0)","v":1226006},2157330868.5900002,{"$f":"VLOOKUP(A917,'AFR18'!A:L,12,0)","v":2157330868.5900002},0]
[2852,2273448552.5900002,{"$f":"VLOOKUP(A918,'Crete Monee Totals 5-8'!A:B,2,0)","v":1308756},2272139796.5900002,{"$f":"VLOOKUP(A918,'AFR18'!A:L,12,0)","v":2272139796.5900002},0]
[2853,207635603.57000002,{"$f":"VLOOKUP(A919,'Crete Monee Totals 5-8'!A:B,2,0)","v":302818},207332785.57000002,{"$f":"VLOOKUP(A919,'AFR18'!A:L,12,0)","v":207332785.57000002},0]
[2855,207635603.57000002,{"$f":"VLOOKUP(A920,'Crete Monee Totals 5-8'!A:B,2,0)","v":302818},207332785.57000002,{"$f":"VLOOKUP(A920,'AFR18'!A:L,12,0)","v":207332785.57000002},0]
[2856,253173679.57000002,{"$f":"VLOOKUP(A921,'Crete Monee Totals 5-8'!A:B,2,0)","v":302818},252870861.57000002,{"$f":"VLOOKUP(A921,'AFR18'!A:L,12,0)","v":252870861.57000002},0]
[2886,910,0,910,{"$f":"VLOOKUP(A922,'AFR18'!A:L,12,0)","v":910},0]
[2888,74590518,0,74590518,{"$f":"VLOOKUP(A923,'AFR18'!A:L,12,0)","v":74590518},0]
[2889,118626014.41,0,118626014.41,{"$f":"VLOOKUP(A924,'AFR18'!A:L,12,0)","v":118626014.41},0]
[2890,136372,0,136372,{"$f":"VLOOKUP(A925,'AFR18'!A:L,12,0)","v":136372},0]
[2891,2204583,0,2204583,{"$f":"VLOOKUP(A926,'AFR18'!A:L,12,0)","v":2204583},0]
[2892,1206355,0,1206355,{"$f":"VLOOKUP(A927,'AFR18'!A:L,12,0)","v":1206355},0]
[2893,11204062,0,11204062,{"$f":"VLOOKUP(A928,'AFR18'!A:L,12,0)","v":11204062},0]
[2894,19978808,0,19978808,{"$f":"VLOOKUP(A929,'AFR18'!A:L,12,0)","v":19978808},0]
[2895,195518279.53,0,195518279.53,{"$f":"VLOOKUP(A930,'AFR18'!A:L,12,0)","v":195518279.53},0]
[2896,175788,0,175788,{"$f":"VLOOKUP(A931,'AFR18'!A:L,12,0)","v":175788},0]
[2897,10350179,0,10350179,{"$f":"VLOOKUP(A932,'AFR18'!A:L,12,0)","v":10350179},0]
[2898,584025,0,584025,{"$f":"VLOOKUP(A933,'AFR18'!A:L,12,0)","v":584025},0]
[2899,5084874,0,5084874,{"$f":"VLOOKUP(A934,'AFR18'!A:L,12,0)","v":5084874},0]
[2912,94569326,0,94569326,{"$f":"VLOOKUP(A935,'AFR18'!A:L,12,0)","v":94569326},0]
[2913,314144293.94,0,314144293.94,{"$f":"VLOOKUP(A936,'AFR18'!A:L,12,0)","v":314144293.94},0]
[2914,312160,0,312160,{"$f":"VLOOKUP(A937,'AFR18'!A:L,12,0)","v":312160},0]
[2915,12554762,0,12554762,{"$f":"VLOOKUP(A938,'AFR18'!A:L,12,0)","v":12554762},0]
[2916,1790380,0,1790380,{"$f":"VLOOKUP(A939,'AFR18'!A:L,12,0)","v":1790380},0]
[2917,16288936,0,16288936,{"$f":"VLOOKUP(A940,'AFR18'!A:L,12,0)","v":16288936},0]
[2918,870733,0,870733,{"$f":"VLOOKUP(A941,'AFR18'!A:L,12,0)","v":870733},0]
[2919,828936,0,828936,{"$f":"VLOOKUP(A942,'AFR18'!A:L,12,0)","v":828936},0]
[2920,1368312,0,1368312,{"$f":"VLOOKUP(A943,'AFR18'!A:L,12,0)","v":1368312},0]
[2925,2457130,0,2457130,{"$f":"VLOOKUP(A944,'AFR18'!A:L,12,0)","v":2457130},0]
[2926,948503,0,948503,{"$f":"VLOOKUP(A945,'AFR18'!A:L,12,0)","v":948503},0]
[2927,1629374,0,1629374,{"$f":"VLOOKUP(A946,'AFR18'!A:L,12,0)","v":1629374},0]
[2928,5050951,0,5050951,{"$f":"VLOOKUP(A947,'AFR18'!A:L,12,0)","v":5050951},0]
[2929,7449484,0,7449484,{"$f":"VLOOKUP(A948,'AFR18'!A:L,12,0)","v":7449484},0]
[2931,14909,0,14909,{"$f":"VLOOKUP(A949,'AFR18'!A:L,12,0)","v":14909},0]
[2933,213942,0,213942,{"$f":"VLOOKUP(A950,'AFR18'!A:L,12,0)","v":213942},0]
[2934,930170,0,930170,{"$f":"VLOOKUP(A951,'AFR18'!A:L,12,0)","v":930170},0]
[2935,1115415,0,1115415,{"$f":"VLOOKUP(A952,'AFR18'!A:L,12,0)","v":1115415},0]
[2937,17023,0,17023,{"$f":"VLOOKUP(A953,'AFR18'!A:L,12,0)","v":17023},0]
[2939,775250,0,775250,{"$f":"VLOOKUP(A954,'AFR18'!A:L,12,0)","v":775250},0]
[2946,5981121,0,5981121,{"$f":"VLOOKUP(A955,'AFR18'!A:L,12,0)","v":5981121},0]
[2947,8564899,0,8564899,{"$f":"VLOOKUP(A956,'AFR18'!A:L,12,0)","v":8564899},0]
[2949,31932,0,31932,{"$f":"VLOOKUP(A957,'AFR18'!A:L,12,0)","v":31932},0]
[2951,989192,0,989192,{"$f":"VLOOKUP(A958,'AFR18'!A:L,12,0)","v":989192},0]
[2994,155676132.56,{"$f":"VLOOKUP(A959,'Crete Monee Totals 5-8'!A:B,2,0)","v":94750},155581382.56,{"$f":"VLOOKUP(A959,'AFR18'!A:L,12,0)","v":155581382.56},0]
[2995,36379694.439999998,{"$f":"VLOOKUP(A960,'Crete Monee Totals 5-8'!A:B,2,0)","v":22529},36357165.439999998,{"$f":"VLOOKUP(A960,'AFR18'!A:L,12,0)","v":36357165.439999998},0]
[2996,21655519,{"$f":"VLOOKUP(A961,'Crete Monee Totals 5-8'!A:B,2,0)","v":148580},21506939,{"$f":"VLOOKUP(A961,'AFR18'!A:L,12,0)","v":21506939},0]
[2997,47886033.100000001,{"$f":"VLOOKUP(A962,'Crete Monee Totals 5-8'!A:B,2,0)","v":683673},47202360.100000001,{"$f":"VLOOKUP(A962,'AFR18'!A:L,12,0)","v":47202360.100000001},0]
[2998,5580026.2699999996,0,{"$f":"SUM(B963-C963)","v":5580026.2699999996},{"$f":"VLOOKUP(A963,'AFR18'!A:L,12,0)","v":5580026.2699999996},{"$f":"SUM(D963-E963)","v":0}]
[2999,443445,0,443445,{"$f":"VLOOKUP(A964,'AFR18'!A:L,12,0)","v":443445},0]
[3001,272028476.37,{"$f":"VLOOKUP(A965,'Crete Monee Totals 5-8'!A:B,2,0)","v":1017838},271010638.37,{"$f":"VLOOKUP(A965,'AFR18'!A:L,12,0)","v":271010638.37},0]
[3003,7567892.8600000003,{"$f":"VLOOKUP(A966,'Crete Monee Totals 5-8'!A:B,2,0)","v":1384},7566508.8600000003,{"$f":"VLOOKUP(A966,'AFR18'!A:L,12,0)","v":7566508.8600000003},0]
[3004,7567892.8600000003,{"$f":"VLOOKUP(A967,'Crete Monee Totals 5-8'!A:B,2,0)","v":1384},7566508.8600000003,{"$f":"VLOOKUP(A967,'AFR18'!A:L,12,0)","v":7566508.8600000003},0]
[3010,40766271,0,40766271,{"$f":"VLOOKUP(A968,'AFR18'!A:L,12,0)","v":40766271},0]
[3011,4771805,0,4771805,{"$f":"VLOOKUP(A969,'AFR18'!A:L,12,0)","v":4771805},0]
[3017,13890615,0,13890615,{"$f":"VLOOKUP(A970,'AFR18'!A:L,12,0)","v":13890615},0]
[3018,444418,0,444418,{"$f":"VLOOKUP(A971,'AFR18'!A:L,12,0)","v":444418},0]
[3021,2656880773,0,2656880773,{"$f":"VLOOKUP(A972,'AFR18'!A:L,12,0)","v":2656880773},0]
[3022,7932465,0,7932465,{"$f":"VLOOKUP(A973,'AFR18'!A:L,12,0)","v":7932465},0]
[3100,7462720,0,7462720,{"$f":"VLOOKUP(A974,'AFR18'!A:L,12,0)","v":7462720},0]
[3109,7462720,0,7462720,{"$f":"VLOOKUP(A975,'AFR18'!A:L,12,0)","v":7462720},0]
[3164,92905180.310000002,{"$f":"VLOOKUP(A976,'Crete Monee Totals 5-8'!A:B,2,0)","v":236522},92668658.310000002,{"$f":"VLOOKUP(A976,'AFR18'!A:L,12,0)","v":92668658.310000002},0]
[3165,92905180.310000002,{"$f":"VLOOKUP(A977,'Crete Monee Totals 5-8'!A:B,2,0)","v":236522},92668658.310000002,{"$f":"VLOOKUP(A977,'AFR18'!A:L,12,0)","v":92668658.310000002},0]
[3166,92905180.310000002,{"$f":"VLOOKUP(A978,'Crete Monee Totals 5-8'!A:B,2,0)","v":236522},92668658.310000002,{"$f":"VLOOKUP(A978,'AFR18'!A:L,12,0)","v":92668658.310000002},0]
[3167,33869368,0,33869368,{"$f":"VLOOKUP(A979,'AFR18'!A:L,12,0)","v":33869368},0]
[3168,492689946,0,492689946,{"$f":"VLOOKUP(A980,'AFR18'!A:L,12,0)","v":492689946},0]
[3169,123178562,0,123178562,{"$f":"VLOOKUP(A981,'AFR18'!A:L,12,0)","v":123178562},0]
[3170,391420122,{"$f":"VLOOKUP(A982,'Crete Monee Totals 5-8'!A:B,2,0)","v":95576},391324546,{"$f":"VLOOKUP(A982,'AFR18'!A:L,12,0)","v":391324546},0]
[3171,101269824,{"$f":"VLOOKUP(A983,'Crete Monee Totals 5-8'!A:B,2,0)","v":-95576},101365400,{"$f":"VLOOKUP(A983,'AFR18'!A:L,12,0)","v":101365400},0]
[3172,1336993298.29,{"$f":"VLOOKUP(A984,'Crete Monee Totals 5-8'!A:B,2,0)","v":-3483743},1340477041.29,{"$f":"VLOOKUP(A984,'AFR18'!A:L,12,0)","v":1340477041.29},0]
[3173,21280735,0,21280735,{"$f":"VLOOKUP(A985,'AFR18'!A:L,12,0)","v":21280735},0]
[3174,418035742,0,418035742,{"$f":"VLOOKUP(A986,'AFR18'!A:L,12,0)","v":418035742},0]
[3175,88363426,0,88363426,{"$f":"VLOOKUP(A987,'AFR18'!A:L,12,0)","v":88363426},0]
[3176,466366300,0,466366300,{"$f":"VLOOKUP(A988,'AFR18'!A:L,12,0)","v":466366300},0]
[3177,-48330558,0,-48330558,{"$f":"VLOOKUP(A989,'AFR18'!A:L,12,0)","v":-48330558},0]
[3178,38841217.850000001,{"$f":"VLOOKUP(A990,'Crete Monee Totals 5-8'!A:B,2,0)","v":4942},38836275.850000001,{"$f":"VLOOKUP(A990,'AFR18'!A:L,12,0)","v":38836275.850000001},0]
[3190,14870822,0,14870822,{"$f":"VLOOKUP(A991,'AFR18'!A:L,12,0)","v":14870822},0]
[3191,60153160,0,60153160,{"$f":"VLOOKUP(A992,'AFR18'!A:L,12,0)","v":60153160},0]
[3192,10210782,0,10210782,{"$f":"VLOOKUP(A993,'AFR18'!A:L,12,0)","v":10210782},0]
[3193,117396711,0,117396711,{"$f":"VLOOKUP(A994,'AFR18'!A:L,12,0)","v":117396711},0]
[3194,-57243551,0,-57243551,{"$f":"VLOOKUP(A995,'AFR18'!A:L,12,0)","v":-57243551},0]
[3195,126583477.53999999,{"$f":"VLOOKUP(A996,'Crete Monee Totals 5-8'!A:B,2,0)","v":1739001},124844476.53999999,{"$f":"VLOOKUP(A996,'AFR18'!A:L,12,0)","v":124844476.53999999},0]
[3197,833358,0,833358,{"$f":"VLOOKUP(A997,'AFR18'!A:L,12,0)","v":833358},0]
[3198,47510,0,47510,{"$f":"VLOOKUP(A998,'AFR18'!A:L,12,0)","v":47510},0]
[3199,47510,0,47510,{"$f":"VLOOKUP(A999,'AFR18'!A:L,12,0)","v":47510},0]
[3200,785848,0,785848,{"$f":"VLOOKUP(A1000,'AFR18'!A:L,12,0)","v":785848},0]
[3201,25508918.439999998,{"$f":"VLOOKUP(A1001,'Crete Monee Totals 5-8'!A:B,2,0)","v":94299},25414619.439999998,{"$f":"VLOOKUP(A1001,'AFR18'!A:L,12,0)","v":25414619.439999998},0]
[3212,172821616,{"$f":"VLOOKUP(A1002,'Crete Monee Totals 5-8'!A:B,2,0)","v":95576},172726040,{"$f":"VLOOKUP(A1002,'AFR18'!A:L,12,0)","v":172726040},0]
[3213,3093789864,{"$f":"VLOOKUP(A1003,'Crete Monee Totals 5-8'!A:B,2,0)","v":95576},3093694288,{"$f":"VLOOKUP(A1003,'AFR18'!A:L,12,0)","v":3093694288},0]
[3214,1798259672,0,1798259672,{"$f":"VLOOKUP(A1004,'AFR18'!A:L,12,0)","v":1798259672},0]
[3215,2085549808,0,2085549808,{"$f":"VLOOKUP(A1005,'AFR18'!A:L,12,0)","v":2085549808},0]
[3216,1008240056,{"$f":"VLOOKUP(A1006,'Crete Monee Totals 5-8'!A:B,2,0)","v":95576},1008144480,{"$f":"VLOOKUP(A1006,'AFR18'!A:L,12,0)","v":1008144480},0]
[3217,217666031.79999998,{"$f":"VLOOKUP(A1007,'Crete Monee Totals 5-8'!A:B,2,0)","v":124314},217541717.79999998,{"$f":"VLOOKUP(A1007,'AFR18'!A:L,12,0)","v":217541717.79999998},0]
[3234,112195370,0,112195370,{"$f":"VLOOKUP(A1008,'AFR18'!A:L,12,0)","v":112195370},0]
[3235,1560676727,0,1560676727,{"$f":"VLOOKUP(A1009,'AFR18'!A:L,12,0)","v":1560676727},0]
[3236,37519303,0,37519303,{"$f":"VLOOKUP(A1010,'AFR18'!A:L,12,0)","v":37519303},0]
[3237,66590908,0,66590908,{"$f":"VLOOKUP(A1011,'AFR18'!A:L,12,0)","v":66590908},0]
[3238,1494085819,0,1494085819,{"$f":"VLOOKUP(A1012,'AFR18'!A:L,12,0)","v":1494085819},0]
[3239,227098001.53999999,{"$f":"VLOOKUP(A1013,'Crete Monee Totals 5-8'!A:B,2,0)","v":-392962},227490963.53999999,{"$f":"VLOOKUP(A1013,'AFR18'!A:L,12,0)","v":227490963.53999999},0]
[3255,1488458,0,1488458,{"$f":"VLOOKUP(A1014,'AFR18'!A:L,12,0)","v":1488458},0]
[3256,323868256,0,323868256,{"$f":"VLOOKUP(A1015,'AFR18'!A:L,12,0)","v":323868256},0]
[3257,418001221,0,418001221,{"$f":"VLOOKUP(A1016,'AFR18'!A:L,12,0)","v":418001221},0]
[3258,-94132965,0,-94132965,{"$f":"VLOOKUP(A1017,'AFR18'!A:L,12,0)","v":-94132965},0]
[3259,-1227784.6900000013,{"$f":"VLOOKUP(A1018,'Crete Monee Totals 5-8'!A:B,2,0)","v":236522},-1464306.6900000013,{"$f":"VLOOKUP(A1018,'AFR18'!A:L,12,0)","v":-1464306.6900000013},0]
[3260,2257414987,{"$f":"VLOOKUP(A1019,'Crete Monee Totals 5-8'!A:B,2,0)","v":989484},2256425503,{"$f":"VLOOKUP(A1019,'AFR18'!A:L,12,0)","v":2256425503},0]
[3261,49690,0,49690,{"$f":"VLOOKUP(A1020,'AFR18'!A:L,12,0)","v":49690},0]
[3262,2256236892.3099999,{"$f":"VLOOKUP(A1021,'Crete Monee Totals 5-8'!A:B,2,0)","v":1226006},2255010886.3099999,{"$f":"VLOOKUP(A1021,'AFR18'!A:L,12,0)","v":2255010886.3099999},0]
[3305,1906783290.5799999,{"$f":"VLOOKUP(A1022,'Crete Monee Totals 5-8'!A:B,2,0)","v":6481433},1900301857.5799999,{"$f":"VLOOKUP(A1022,'AFR18'!A:L,12,0)","v":1900301857.5799999},0]
[3306,18857468.539999999,{"$f":"VLOOKUP(A1023,'Crete Monee Totals 5-8'!A:B,2,0)","v":307553},18549915.539999999,{"$f":"VLOOKUP(A1023,'AFR18'!A:L,12,0)","v":18549915.539999999},0]
[3307,453122754.07999998,{"$f":"VLOOKUP(A1024,'Crete Monee Totals 5-8'!A:B,2,0)","v":2087160},451035594.07999998,{"$f":"VLOOKUP(A1024,'AFR18'!A:L,12,0)","v":451035594.07999998},0]
[3308,4006045.91,{"$f":"VLOOKUP(A1025,'Crete Monee Totals 5-8'!A:B,2,0)","v":62880},3943165.91,{"$f":"VLOOKUP(A1025,'AFR18'!A:L,12,0)","v":3943165.91},0]
[3309,83354350.00999999,{"$f":"VLOOKUP(A1026,'Crete Monee Totals 5-8'!A:B,2,0)","v":584787},82769563.00999999,{"$f":"VLOOKUP(A1026,'AFR18'!A:L,12,0)","v":82769563.00999999},0]
[3310,2109903,0,{"$f":"SUM(B1027-C1027)","v":2109903},{"$f":"VLOOKUP(A1027,'AFR18'!A:L,12,0)","v":2109903},{"$f":"SUM(D1027-E1027)","v":0}]
[3311,20277189.149999999,{"$f":"VLOOKUP(A1028,'Crete Monee Totals 5-8'!A:B,2,0)","v":36028},20241161.149999999,{"$f":"VLOOKUP(A1028,'AFR18'!A:L,12,0)","v":20241161.149999999},0]
[3312,339230,0,339230,{"$f":"VLOOKUP(A1029,'AFR18'!A:L,12,0)","v":339230},0]
[3313,3096769,0,3096769,{"$f":"VLOOKUP(A1030,'AFR18'!A:L,12,0)","v":3096769},0]
[3314,94699,0,94699,{"$f":"VLOOKUP(A1031,'AFR18'!A:L,12,0)","v":94699},0]
[3315,61427811,{"$f":"VLOOKUP(A1032,'Crete Monee Totals 5-8'!A:B,2,0)","v":45843},61381968,{"$f":"VLOOKUP(A1032,'AFR18'!A:L,12,0)","v":61381968},0]
[3316,2966979,0,2966979,{"$f":"VLOOKUP(A1033,'AFR18'!A:L,12,0)","v":2966979},0]
[3319,2533403627.8200002,{"$f":"VLOOKUP(A1034,'Crete Monee Totals 5-8'!A:B,2,0)","v":9250092},2524153535.8200002,{"$f":"VLOOKUP(A1034,'AFR18'!A:L,12,0)","v":2524153535.8200002},0]
[3320,28399233.449999999,{"$f":"VLOOKUP(A1035,'Crete Monee Totals 5-8'!A:B,2,0)","v":370433},28028800.449999999,{"$f":"VLOOKUP(A1035,'AFR18'!A:L,12,0)","v":28028800.449999999},0]
[3326,104417628.84999999,{"$f":"VLOOKUP(A1036,'Crete Monee Totals 5-8'!A:B,2,0)","v":240448},104177180.84999999,{"$f":"VLOOKUP(A1036,'AFR18'!A:L,12,0)","v":104177180.84999999},0]
[3327,94115003.590000004,{"$f":"VLOOKUP(A1037,'Crete Monee Totals 5-8'!A:B,2,0)","v":402959},93712044.590000004,{"$f":"VLOOKUP(A1037,'AFR18'!A:L,12,0)","v":93712044.590000004},0]
[3328,777474,{"$f":"VLOOKUP(A1038,'Crete Monee Totals 5-8'!A:B,2,0)","v":13496},763978,{"$f":"VLOOKUP(A1038,'AFR18'!A:L,12,0)","v":763978},0]
[3329,104417628.84999999,{"$f":"VLOOKUP(A1039,'Crete Monee Totals 5-8'!A:B,2,0)","v":240448},104177180.84999999,{"$f":"VLOOKUP(A1039,'AFR18'!A:L,12,0)","v":104177180.84999999},0]
[3330,94115003.590000004,{"$f":"VLOOKUP(A1040,'Crete Monee Totals 5-8'!A:B,2,0)","v":402959},93712044.590000004,{"$f":"VLOOKUP(A1040,'AFR18'!A:L,12,0)","v":93712044.590000004},0]
[3331,777474,{"$f":"VLOOKUP(A1041,'Crete Monee Totals 5-8'!A:B,2,0)","v":13496},763978,{"$f":"VLOOKUP(A1041,'AFR18'!A:L,12,0)","v":763978},0]
[3344,12940252,0,12940252,{"$f":"VLOOKUP(A1042,'AFR18'!A:L,12,0)","v":12940252},0]
[3345,1116071,0,1116071,{"$f":"VLOOKUP(A1043,'AFR18'!A:L,12,0)","v":1116071},0]
[3347,75372,0,75372,{"$f":"VLOOKUP(A1044,'AFR18'!A:L,12,0)","v":75372},0]
[3350,6394854601.3199997,{"$f":"VLOOKUP(A1045,'Crete Monee Totals 5-8'!A:B,2,0)","v":15466754},6379387847.3199997,{"$f":"VLOOKUP(A1045,'AFR18'!A:L,12,0)","v":6379387847.3199997},0]
[3353,1161745795.2,{"$f":"VLOOKUP(A1046,'Crete Monee Totals 5-8'!A:B,2,0)","v":4350647},1157395148.2,{"$f":"VLOOKUP(A1046,'AFR18'!A:L,12,0)","v":1157395148.2},0]
[3356,1406996759,{"$f":"VLOOKUP(A1047,'Crete Monee Totals 5-8'!A:B,2,0)","v":4425946},1402570813,{"$f":"VLOOKUP(A1047,'AFR18'!A:L,12,0)","v":1402570813},0]
[3358,702483027.44000006,{"$f":"VLOOKUP(A1048,'Crete Monee Totals 5-8'!A:B,2,0)","v":7968996},694514031.44000006,{"$f":"VLOOKUP(A1048,'AFR18'!A:L,12,0)","v":694514031.44000006},0]
[3361,392872202.50999999,{"$f":"VLOOKUP(A1049,'Crete Monee Totals 5-8'!A:B,2,0)","v":1509994},391362208.50999999,{"$f":"VLOOKUP(A1049,'AFR18'!A:L,12,0)","v":391362208.50999999},0]
[3364,2159598583,{"$f":"VLOOKUP(A1050,'Crete Monee Totals 5-8'!A:B,2,0)","v":3513685},2156084898,{"$f":"VLOOKUP(A1050,'AFR18'!A:L,12,0)","v":2156084898},0]
[3366,1708898616.51,{"$f":"VLOOKUP(A1051,'Crete Monee Totals 5-8'!A:B,2,0)","v":1225406},1707673210.51,{"$f":"VLOOKUP(A1051,'AFR18'!A:L,12,0)","v":1707673210.51},0]
[3374,209725158.56999999,{"$f":"VLOOKUP(A1052,'Crete Monee Totals 5-8'!A:B,2,0)","v":302818},209422340.56999999,{"$f":"VLOOKUP(A1052,'AFR18'!A:L,12,0)","v":209422340.56999999},0]
[3385,303550737.5,{"$f":"VLOOKUP(A1053,'Crete Monee Totals 5-8'!A:B,2,0)","v":940696},302610041.5,{"$f":"VLOOKUP(A1053,'AFR18'!A:L,12,0)","v":302610041.5},0]
[3386,179178781.63,{"$f":"VLOOKUP(A1054,'Crete Monee Totals 5-8'!A:B,2,0)","v":463277},178715504.63,{"$f":"VLOOKUP(A1054,'AFR18'!A:L,12,0)","v":178715504.63},0]
[3387,124371955.86999999,{"$f":"VLOOKUP(A1055,'Crete Monee Totals 5-8'!A:B,2,0)","v":477419},123894536.86999999,{"$f":"VLOOKUP(A1055,'AFR18'!A:L,12,0)","v":123894536.86999999},0]
[3388,186333630.29533258,{"$f":"VLOOKUP(A1056,'Crete Monee Totals 5-8'!A:B,2,0)","v":484249},185849381.29533258,{"$f":"VLOOKUP(A1056,'AFR18'!A:L,12,0)","v":185849381.29533258},0]
[3389,310705586.16533262,{"$f":"VLOOKUP(A1057,'Crete Monee Totals 5-8'!A:B,2,0)","v":961668},309743918.16533262,{"$f":"VLOOKUP(A1057,'AFR18'!A:L,12,0)","v":309743918.16533262},0]
[3390,953569586,0,953569586,{"$f":"VLOOKUP(A1058,'AFR18'!A:L,12,0)","v":953569586},0]
[3391,1082582720.8200002,0,1082582720.8200002,{"$f":"VLOOKUP(A1059,'AFR18'!A:L,12,0)","v":1082582720.8200002},0]
[3392,978241833,0,978241833,{"$f":"VLOOKUP(A1060,'AFR18'!A:L,12,0)","v":978241833},0]
[3393,1057910473.8199999,0,1057910473.8199999,{"$f":"VLOOKUP(A1061,'AFR18'!A:L,12,0)","v":1057910473.8199999},0]
[3398,1057910473.8199999,0,1057910473.8199999,{"$f":"VLOOKUP(A1062,'AFR18'!A:L,12,0)","v":1057910473.8199999},0]
[3421,63189,0,63189,{"$f":"VLOOKUP(A1063,'AFR18'!A:L,12,0)","v":63189},0]
[3422,13644,0,13644,{"$f":"VLOOKUP(A1064,'AFR18'!A:L,12,0)","v":13644},0]
[3423,277514.11,0,277514.11,{"$f":"VLOOKUP(A1065,'AFR18'!A:L,12,0)","v":277514.11},0]
[3424,110678,0,110678,{"$f":"VLOOKUP(A1066,'AFR18'!A:L,12,0)","v":110678},0]
[3425,103294,0,103294,{"$f":"VLOOKUP(A1067,'AFR18'!A:L,12,0)","v":103294},0]
[3427,571622.11,0,571622.11,{"$f":"VLOOKUP(A1068,'AFR18'!A:L,12,0)","v":571622.11},0]
[3429,1738,0,1738,{"$f":"VLOOKUP(A1069,'AFR18'!A:L,12,0)","v":1738},0]
[3431,85000,0,85000,{"$f":"VLOOKUP(A1070,'AFR18'!A:L,12,0)","v":85000},0]
[3432,9154948,0,9154948,{"$f":"VLOOKUP(A1071,'AFR18'!A:L,12,0)","v":9154948},0]
[3458,8781382,0,8781382,{"$f":"VLOOKUP(A1072,'AFR18'!A:L,12,0)","v":8781382},0]
[3469,895457,0,895457,{"$f":"VLOOKUP(A1073,'AFR18'!A:L,12,0)","v":895457},0]
[3470,1559255,0,1559255,{"$f":"VLOOKUP(A1074,'AFR18'!A:L,12,0)","v":1559255},0]
[3471,10866998,0,10866998,{"$f":"VLOOKUP(A1075,'AFR18'!A:L,12,0)","v":10866998},0]
[3473,14441016,0,14441016,{"$f":"VLOOKUP(A1076,'AFR18'!A:L,12,0)","v":14441016},0]
[3485,249518443.78999999,{"$f":"VLOOKUP(A1077,'Crete Monee Totals 5-8'!A:B,2,0)","v":19701},249498742.78999999,{"$f":"VLOOKUP(A1077,'AFR18'!A:L,12,0)","v":249498742.78999999},0]
[3487,11028094,{"$f":"VLOOKUP(A1078,'Crete Monee Totals 5-8'!A:B,2,0)","v":3183},11024911,{"$f":"VLOOKUP(A1078,'AFR18'!A:L,12,0)","v":11024911},0]
[3489,88053333,0,88053333,{"$f":"VLOOKUP(A1079,'AFR18'!A:L,12,0)","v":88053333},0]
[3490,17,0,17,{"$f":"VLOOKUP(A1080,'AFR18'!A:L,12,0)","v":17},0]
[3491,348821374.78999996,{"$f":"VLOOKUP(A1081,'Crete Monee Totals 5-8'!A:B,2,0)","v":22884},348798490.78999996,{"$f":"VLOOKUP(A1081,'AFR18'!A:L,12,0)","v":348798490.78999996},0]
[3500,-223,0,-223,{"$f":"VLOOKUP(A1082,'AFR18'!A:L,12,0)","v":-223},0]
[3501,12492502,{"$f":"VLOOKUP(A1083,'Crete Monee Totals 5-8'!A:B,2,0)","v":3160},12489342,{"$f":"VLOOKUP(A1083,'AFR18'!A:L,12,0)","v":12489342},0]
[3504,29595236,{"$f":"VLOOKUP(A1084,'Crete Monee Totals 5-8'!A:B,2,0)","v":3160},29592076,{"$f":"VLOOKUP(A1084,'AFR18'!A:L,12,0)","v":29592076},0]
[3505,74160835,0,74160835,{"$f":"VLOOKUP(A1085,'AFR18'!A:L,12,0)","v":74160835},0]
[3506,245065303.59,{"$f":"VLOOKUP(A1086,'Crete Monee Totals 5-8'!A:B,2,0)","v":19724},245045579.59,{"$f":"VLOOKUP(A1086,'AFR18'!A:L,12,0)","v":245045579.59},0]
[3507,348821374.59000003,{"$f":"VLOOKUP(A1087,'Crete Monee Totals 5-8'!A:B,2,0)","v":22884},348798490.59000003,{"$f":"VLOOKUP(A1087,'AFR18'!A:L,12,0)","v":348798490.59000003},0]
[3508,58257138.359999999,{"$f":"VLOOKUP(A1088,'Crete Monee Totals 5-8'!A:B,2,0)","v":6515},58250623.359999999,{"$f":"VLOOKUP(A1088,'AFR18'!A:L,12,0)","v":58250623.359999999},0]
[3509,500364,0,500364,{"$f":"VLOOKUP(A1089,'AFR18'!A:L,12,0)","v":500364},0]
[3510,58757502.359999999,{"$f":"VLOOKUP(A1090,'Crete Monee Totals 5-8'!A:B,2,0)","v":6515},58750987.359999999,{"$f":"VLOOKUP(A1090,'AFR18'!A:L,12,0)","v":58750987.359999999},0]
[3511,165652408.05000001,0,{"$f":"SUM(B1091-C1091)","v":165652408.05000001},{"$f":"VLOOKUP(A1091,'AFR18'!A:L,12,0)","v":165652408.05000001},{"$f":"SUM(D1091-E1091)","v":0}]
[3512,238830,0,238830,{"$f":"VLOOKUP(A1092,'AFR18'!A:L,12,0)","v":238830},0]
[3513,741730,0,741730,{"$f":"VLOOKUP(A1093,'AFR18'!A:L,12,0)","v":741730},0]
[3514,166632968.05000001,0,166632968.05000001,{"$f":"VLOOKUP(A1094,'AFR18'!A:L,12,0)","v":166632968.05000001},0]
[3515,-107875465.69,{"$f":"VLOOKUP(A1095,'Crete Monee Totals 5-8'!A:B,2,0)","v":6515},-107881980.69,{"$f":"VLOOKUP(A1095,'AFR18'!A:L,12,0)","v":-107881980.69},0]
[3516,4557,0,4557,{"$f":"VLOOKUP(A1096,'AFR18'!A:L,12,0)","v":4557},0]
[3518,98166880,0,98166880,{"$f":"VLOOKUP(A1097,'AFR18'!A:L,12,0)","v":98166880},0]
[3519,3675955,0,3675955,{"$f":"VLOOKUP(A1098,'AFR18'!A:L,12,0)","v":3675955},0]
[3521,49338,0,49338,{"$f":"VLOOKUP(A1099,'AFR18'!A:L,12,0)","v":49338},0]
[3522,2623139,0,2623139,{"$f":"VLOOKUP(A1100,'AFR18'!A:L,12,0)","v":2623139},0]
[3523,111515424,0,111515424,{"$f":"VLOOKUP(A1101,'AFR18'!A:L,12,0)","v":111515424},0]
[3524,848251,0,848251,{"$f":"VLOOKUP(A1102,'AFR18'!A:L,12,0)","v":848251},0]
[3525,1048505,0,1048505,{"$f":"VLOOKUP(A1103,'AFR18'!A:L,12,0)","v":1048505},0]
[3526,110466919,0,110466919,{"$f":"VLOOKUP(A1104,'AFR18'!A:L,12,0)","v":110466919},0]
[3527,2591453.3100000005,{"$f":"VLOOKUP(A1105,'Crete Monee Totals 5-8'!A:B,2,0)","v":6515},2584938.3100000005,{"$f":"VLOOKUP(A1105,'AFR18'!A:L,12,0)","v":2584938.3100000005},0]
[3528,316435890,{"$f":"VLOOKUP(A1106,'Crete Monee Totals 5-8'!A:B,2,0)","v":13209},316422681,{"$f":"VLOOKUP(A1106,'AFR18'!A:L,12,0)","v":316422681},0]
[3529,238630,0,238630,{"$f":"VLOOKUP(A1107,'AFR18'!A:L,12,0)","v":238630},0]
[3530,319265973.31,{"$f":"VLOOKUP(A1108,'Crete Monee Totals 5-8'!A:B,2,0)","v":19724},319246249.31,{"$f":"VLOOKUP(A1108,'AFR18'!A:L,12,0)","v":319246249.31},0]
[3556,275252,0,275252,{"$f":"VLOOKUP(A1109,'AFR18'!A:L,12,0)","v":275252},0]
[3557,788477,0,788477,{"$f":"VLOOKUP(A1110,'AFR18'!A:L,12,0)","v":788477},0]
[3558,1063729,0,1063729,{"$f":"VLOOKUP(A1111,'AFR18'!A:L,12,0)","v":1063729},0]
[3559,22247,0,22247,{"$f":"VLOOKUP(A1112,'AFR18'!A:L,12,0)","v":22247},0]
[3560,1085976,0,1085976,{"$f":"VLOOKUP(A1113,'AFR18'!A:L,12,0)","v":1085976},0]
[3561,1085976,0,1085976,{"$f":"VLOOKUP(A1114,'AFR18'!A:L,12,0)","v":1085976},0]
[3563,42747,0,42747,{"$f":"VLOOKUP(A1115,'AFR18'!A:L,12,0)","v":42747},0]
[3564,131500,0,131500,{"$f":"VLOOKUP(A1116,'AFR18'!A:L,12,0)","v":131500},0]
[3565,174247,0,174247,{"$f":"VLOOKUP(A1117,'AFR18'!A:L,12,0)","v":174247},0]
[3567,174247,0,174247,{"$f":"VLOOKUP(A1118,'AFR18'!A:L,12,0)","v":174247},0]
[3568,174247,0,174247,{"$f":"VLOOKUP(A1119,'AFR18'!A:L,12,0)","v":174247},0]
[3570,17261804.780000001,0,17261804.780000001,{"$f":"VLOOKUP(A1120,'AFR18'!A:L,12,0)","v":17261804.780000001},0]
[3571,11634264,0,11634264,{"$f":"VLOOKUP(A1121,'AFR18'!A:L,12,0)","v":11634264},0]
[3572,28896068.780000001,0,28896068.780000001,{"$f":"VLOOKUP(A1122,'AFR18'!A:L,12,0)","v":28896068.780000001},0]
[3573,1530958,0,1530958,{"$f":"VLOOKUP(A1123,'AFR18'!A:L,12,0)","v":1530958},0]
[3574,30427026.780000001,0,30427026.780000001,{"$f":"VLOOKUP(A1124,'AFR18'!A:L,12,0)","v":30427026.780000001},0]
[3575,30427026.780000001,0,30427026.780000001,{"$f":"VLOOKUP(A1125,'AFR18'!A:L,12,0)","v":30427026.780000001},0]
[3577,229714,0,229714,{"$f":"VLOOKUP(A1126,'AFR18'!A:L,12,0)","v":229714},0]
[3578,789274,0,789274,{"$f":"VLOOKUP(A1127,'AFR18'!A:L,12,0)","v":789274},0]
[3579,1018988,0,1018988,{"$f":"VLOOKUP(A1128,'AFR18'!A:L,12,0)","v":1018988},0]
[3581,1018988,0,1018988,{"$f":"VLOOKUP(A1129,'AFR18'!A:L,12,0)","v":1018988},0]
[3582,1018988,0,1018988,{"$f":"VLOOKUP(A1130,'AFR18'!A:L,12,0)","v":1018988},0]
[3584,96689869.049999997,0,96689869.049999997,{"$f":"VLOOKUP(A1131,'AFR18'!A:L,12,0)","v":96689869.049999997},0]
[3585,35203020.219999999,0,35203020.219999999,{"$f":"VLOOKUP(A1132,'AFR18'!A:L,12,0)","v":35203020.219999999},0]
[3586,131892889.27,0,131892889.27,{"$f":"VLOOKUP(A1133,'AFR18'!A:L,12,0)","v":131892889.27},0]
[3588,131892889.27,0,131892889.27,{"$f":"VLOOKUP(A1134,'AFR18'!A:L,12,0)","v":131892889.27},0]
[3589,131892889.27,0,131892889.27,{"$f":"VLOOKUP(A1135,'AFR18'!A:L,12,0)","v":131892889.27},0]
[3591,550497,0,550497,{"$f":"VLOOKUP(A1136,'AFR18'!A:L,12,0)","v":550497},0]
[3592,337505,0,337505,{"$f":"VLOOKUP(A1137,'AFR18'!A:L,12,0)","v":337505},0]
[3593,888002,0,888002,{"$f":"VLOOKUP(A1138,'AFR18'!A:L,12,0)","v":888002},0]
[3594,26902,0,26902,{"$f":"VLOOKUP(A1139,'AFR18'!A:L,12,0)","v":26902},0]
[3595,914904,0,914904,{"$f":"VLOOKUP(A1140,'AFR18'!A:L,12,0)","v":914904},0]
[3599,1895464,0,1895464,{"$f":"VLOOKUP(A1141,'AFR18'!A:L,12,0)","v":1895464},0]
[3607,115158083.83,0,115158083.83,{"$f":"VLOOKUP(A1142,'AFR18'!A:L,12,0)","v":115158083.83},0]
[3608,48914217.219999999,0,48914217.219999999,{"$f":"VLOOKUP(A1143,'AFR18'!A:L,12,0)","v":48914217.219999999},0]
[3609,164072301.05000001,0,164072301.05000001,{"$f":"VLOOKUP(A1144,'AFR18'!A:L,12,0)","v":164072301.05000001},0]
[3610,1580107,0,1580107,{"$f":"VLOOKUP(A1145,'AFR18'!A:L,12,0)","v":1580107},0]
[3611,165652408.05000001,0,165652408.05000001,{"$f":"VLOOKUP(A1146,'AFR18'!A:L,12,0)","v":165652408.05000001},0]
[3612,238830,0,238830,{"$f":"VLOOKUP(A1147,'AFR18'!A:L,12,0)","v":238830},0]
[3613,238830,0,238830,{"$f":"VLOOKUP(A1148,'AFR18'!A:L,12,0)","v":238830},0]
[3617,166632968.05000001,0,166632968.05000001,{"$f":"VLOOKUP(A1149,'AFR18'!A:L,12,0)","v":166632968.05000001},0]
[3620,-107875465.69,{"$f":"VLOOKUP(A1150,'Crete Monee Totals 5-8'!A:B,2,0)","v":6515},-107881980.69,{"$f":"VLOOKUP(A1150,'AFR18'!A:L,12,0)","v":-107881980.69},0]
[3637,52950,0,52950,{"$f":"VLOOKUP(A1151,'AFR18'!A:L,12,0)","v":52950},0]
[3638,147304,0,147304,{"$f":"VLOOKUP(A1152,'AFR18'!A:L,12,0)","v":147304},0]
[3641,52950,0,52950,{"$f":"VLOOKUP(A1153,'AFR18'!A:L,12,0)","v":52950},0]
[3642,147304,0,147304,{"$f":"VLOOKUP(A1154,'AFR18'!A:L,12,0)","v":147304},0]
[3656,716428,0,{"$f":"SUM(B1155-C1155)","v":716428},{"$f":"VLOOKUP(A1155,'AFR18'!A:L,12,0)","v":716428},{"$f":"SUM(D1155-E1155)","v":0}]
[3660,1739617,0,1739617,{"$f":"VLOOKUP(A1156,'AFR18'!A:L,12,0)","v":1739617},0]
[3661,2520532,0,2520532,{"$f":"VLOOKUP(A1157,'AFR18'!A:L,12,0)","v":2520532},0]
[3662,1739617,0,1739617,{"$f":"VLOOKUP(A1158,'AFR18'!A:L,12,0)","v":1739617},0]
[3663,2520532,0,2520532,{"$f":"VLOOKUP(A1159,'AFR18'!A:L,12,0)","v":2520532},0]
[3664,36774589.710000001,0,36774589.710000001,{"$f":"VLOOKUP(A1160,'AFR18'!A:L,12,0)","v":36774589.710000001},0]
[3665,28893788.710000001,0,28893788.710000001,{"$f":"VLOOKUP(A1161,'AFR18'!A:L,12,0)","v":28893788.710000001},0]
[3666,7880801,0,7880801,{"$f":"VLOOKUP(A1162,'AFR18'!A:L,12,0)","v":7880801},0]
[3667,27790682.593277302,0,27790682.593277302,{"$f":"VLOOKUP(A1163,'AFR18'!A:L,12,0)","v":27790682.593277302},0]
[3668,35671483.593277298,0,35671483.593277298,{"$f":"VLOOKUP(A1164,'AFR18'!A:L,12,0)","v":35671483.593277298},0]
[3669,229958178.96999997,{"$f":"VLOOKUP(A1165,'Crete Monee Totals 5-8'!A:B,2,0)","v":1003597},228954581.96999997,{"$f":"VLOOKUP(A1165,'AFR18'!A:L,12,0)","v":228954581.96999997},0]
[4013,102425,0,102425,{"$f":"VLOOKUP(A1166,'AFR18'!A:L,12,0)","v":102425},0]
[4014,291264,0,291264,{"$f":"VLOOKUP(A1167,'AFR18'!A:L,12,0)","v":291264},0]
[4015,66473,0,66473,{"$f":"VLOOKUP(A1168,'AFR18'!A:L,12,0)","v":66473},0]
[4016,3210,0,3210,{"$f":"VLOOKUP(A1169,'AFR18'!A:L,12,0)","v":3210},0]
[4017,1754,0,1754,{"$f":"VLOOKUP(A1170,'AFR18'!A:L,12,0)","v":1754},0]
[4019,465126,0,465126,{"$f":"VLOOKUP(A1171,'AFR18'!A:L,12,0)","v":465126},0]
[4020,442158,0,442158,{"$f":"VLOOKUP(A1172,'AFR18'!A:L,12,0)","v":442158},0]
[4021,46296,0,46296,{"$f":"VLOOKUP(A1173,'AFR18'!A:L,12,0)","v":46296},0]
[4022,2238334,0,2238334,{"$f":"VLOOKUP(A1174,'AFR18'!A:L,12,0)","v":2238334},0]
[4023,27086,0,27086,{"$f":"VLOOKUP(A1175,'AFR18'!A:L,12,0)","v":27086},0]
[4026,2753874,0,2753874,{"$f":"VLOOKUP(A1176,'AFR18'!A:L,12,0)","v":2753874},0]
[4041,202,0,202,{"$f":"VLOOKUP(A1177,'AFR18'!A:L,12,0)","v":202},0]
[4042,425521815,0,425521815,{"$f":"VLOOKUP(A1178,'AFR18'!A:L,12,0)","v":425521815},0]
[4043,202,0,202,{"$f":"VLOOKUP(A1179,'AFR18'!A:L,12,0)","v":202},0]
[4044,19309516,0,19309516,{"$f":"VLOOKUP(A1180,'AFR18'!A:L,12,0)","v":19309516},0]
[4046,406212299,0,406212299,{"$f":"VLOOKUP(A1181,'AFR18'!A:L,12,0)","v":406212299},0]
[4048,7888082.1600000001,0,7888082.1600000001,{"$f":"VLOOKUP(A1182,'AFR18'!A:L,12,0)","v":7888082.1600000001},0]
[4050,414100381.16000003,0,414100381.16000003,{"$f":"VLOOKUP(A1183,'AFR18'!A:L,12,0)","v":414100381.16000003},0]
[4052,6495681800.8000002,{"$f":"VLOOKUP(A1184,'Crete Monee Totals 5-8'!A:B,2,0)","v":22642632},6473039168.8000002,{"$f":"VLOOKUP(A1184,'AFR18'!A:L,12,0)","v":6473039168.8000002},0]
[4053,8409771,0,8409771,{"$f":"VLOOKUP(A1185,'AFR18'!A:L,12,0)","v":8409771},0]
[4055,829841,0,829841,{"$f":"VLOOKUP(A1186,'AFR18'!A:L,12,0)","v":829841},0]
[4057,19598113,0,19598113,{"$f":"VLOOKUP(A1187,'AFR18'!A:L,12,0)","v":19598113},0]
[4061,29344109121.660004,{"$f":"VLOOKUP(A1188,'Crete Monee Totals 5-8'!A:B,2,0)","v":74788052},29269321069.660004,{"$f":"VLOOKUP(A1188,'AFR18'!A:L,12,0)","v":29269321069.660004},0]
[4062,2281170674.7600002,{"$f":"VLOOKUP(A1189,'Crete Monee Totals 5-8'!A:B,2,0)","v":4307174},2276863500.7600002,{"$f":"VLOOKUP(A1189,'AFR18'!A:L,12,0)","v":2276863500.7600002},0]
[4063,2208553736.8000002,{"$f":"VLOOKUP(A1190,'Crete Monee Totals 5-8'!A:B,2,0)","v":11721833},2196831903.8000002,{"$f":"VLOOKUP(A1190,'AFR18'!A:L,12,0)","v":2196831903.8000002},0]
[4064,1383867750.74,{"$f":"VLOOKUP(A1191,'Crete Monee Totals 5-8'!A:B,2,0)","v":7959451},1375908299.74,{"$f":"VLOOKUP(A1191,'AFR18'!A:L,12,0)","v":1375908299.74},0]
[4065,650352986.33999991,{"$f":"VLOOKUP(A1192,'Crete Monee Totals 5-8'!A:B,2,0)","v":1952601},648400385.33999991,{"$f":"VLOOKUP(A1192,'AFR18'!A:L,12,0)","v":648400385.33999991},0]
[4066,259493182.61000001,{"$f":"VLOOKUP(A1193,'Crete Monee Totals 5-8'!A:B,2,0)","v":27009},259466173.61000001,{"$f":"VLOOKUP(A1193,'AFR18'!A:L,12,0)","v":259466173.61000001},0]
[4067,92905180.310000002,{"$f":"VLOOKUP(A1194,'Crete Monee Totals 5-8'!A:B,2,0)","v":236522},92668658.310000002,{"$f":"VLOOKUP(A1194,'AFR18'!A:L,12,0)","v":92668658.310000002},0]
[4069,58757502.359999999,{"$f":"VLOOKUP(A1195,'Crete Monee Totals 5-8'!A:B,2,0)","v":6515},58750987.359999999,{"$f":"VLOOKUP(A1195,'AFR18'!A:L,12,0)","v":58750987.359999999},0]
[4070,6495681800.8000002,{"$f":"VLOOKUP(A1196,'Crete Monee Totals 5-8'!A:B,2,0)","v":22642632},6473039168.8000002,{"$f":"VLOOKUP(A1196,'AFR18'!A:L,12,0)","v":6473039168.8000002},0]
[4071,8409771,0,8409771,{"$f":"VLOOKUP(A1197,'AFR18'!A:L,12,0)","v":8409771},0]
[4072,829841,0,829841,{"$f":"VLOOKUP(A1198,'AFR18'!A:L,12,0)","v":829841},0]
[4073,19598113,0,19598113,{"$f":"VLOOKUP(A1199,'AFR18'!A:L,12,0)","v":19598113},0]
[4075,28108385647.369999,{"$f":"VLOOKUP(A1200,'Crete Monee Totals 5-8'!A:B,2,0)","v":78176219},28030209428.369999,{"$f":"VLOOKUP(A1200,'AFR18'!A:L,12,0)","v":28030209428.369999},0]
[4076,2193998898.9099998,{"$f":"VLOOKUP(A1201,'Crete Monee Totals 5-8'!A:B,2,0)","v":4302232},2189696666.9099998,{"$f":"VLOOKUP(A1201,'AFR18'!A:L,12,0)","v":2189696666.9099998},0]
[4077,2999127761,{"$f":"VLOOKUP(A1202,'Crete Monee Totals 5-8'!A:B,2,0)","v":11693095},2987434666,{"$f":"VLOOKUP(A1202,'AFR18'!A:L,12,0)","v":2987434666},0]
[4078,1200040722.1999998,{"$f":"VLOOKUP(A1203,'Crete Monee Totals 5-8'!A:B,2,0)","v":6220450},1193820272.1999998,{"$f":"VLOOKUP(A1203,'AFR18'!A:L,12,0)","v":1193820272.1999998},0]
[4079,625629915.89999998,{"$f":"VLOOKUP(A1204,'Crete Monee Totals 5-8'!A:B,2,0)","v":1858302},623771613.89999998,{"$f":"VLOOKUP(A1204,'AFR18'!A:L,12,0)","v":623771613.89999998},0]
[4080,1526481000.0699999,{"$f":"VLOOKUP(A1205,'Crete Monee Totals 5-8'!A:B,2,0)","v":419971},1526061029.0699999,{"$f":"VLOOKUP(A1205,'AFR18'!A:L,12,0)","v":1526061029.0699999},0]
[4083,166632968.05000001,0,166632968.05000001,{"$f":"VLOOKUP(A1206,'AFR18'!A:L,12,0)","v":166632968.05000001},0]
[4095,183847,0,183847,{"$f":"VLOOKUP(A1207,'AFR18'!A:L,12,0)","v":183847},0]
[4096,183847,0,183847,{"$f":"VLOOKUP(A1208,'AFR18'!A:L,12,0)","v":183847},0]
[4104,61745,0,61745,{"$f":"VLOOKUP(A1209,'AFR18'!A:L,12,0)","v":61745},0]
[4105,61745,0,61745,{"$f":"VLOOKUP(A1210,'AFR18'!A:L,12,0)","v":61745},0]
[4110,21650268294,{"$f":"VLOOKUP(A1211,'Crete Monee Totals 5-8'!A:B,2,0)","v":93012005},21557256289,{"$f":"VLOOKUP(A1211,'AFR18'!A:L,12,0)","v":21557256289},0]
[4111,20000574898,{"$f":"VLOOKUP(A1212,'Crete Monee Totals 5-8'!A:B,2,0)","v":88543477},19912031421,{"$f":"VLOOKUP(A1212,'AFR18'!A:L,12,0)","v":19912031421},0]
[4112,3266853127,{"$f":"VLOOKUP(A1213,'Crete Monee Totals 5-8'!A:B,2,0)","v":10491392},3256361735,{"$f":"VLOOKUP(A1213,'AFR18'!A:L,12,0)","v":3256361735},0]
[4116,-266249427,{"$f":"VLOOKUP(A1214,'Crete Monee Totals 5-8'!A:B,2,0)","v":4839108},-271088535,{"$f":"VLOOKUP(A1214,'AFR18'!A:L,12,0)","v":-271088535},0]
[4128,213723,0,213723,{"$f":"VLOOKUP(A1215,'AFR18'!A:L,12,0)","v":213723},0]
[4138,1586397,0,1586397,{"$f":"VLOOKUP(A1216,'AFR18'!A:L,12,0)","v":1586397},0]
[4139,119567,0,119567,{"$f":"VLOOKUP(A1217,'AFR18'!A:L,12,0)","v":119567},0]
[4140,261062,0,261062,{"$f":"VLOOKUP(A1218,'AFR18'!A:L,12,0)","v":261062},0]
[4141,2357026,0,{"$f":"SUM(B1219-C1219)","v":2357026},{"$f":"VLOOKUP(A1219,'AFR18'!A:L,12,0)","v":2357026},{"$f":"SUM(D1219-E1219)","v":0}]
[4142,2357026,0,2357026,{"$f":"VLOOKUP(A1220,'AFR18'!A:L,12,0)","v":2357026},0]
[4149,14776035,0,14776035,{"$f":"VLOOKUP(A1221,'AFR18'!A:L,12,0)","v":14776035},0]
[4150,14776035,0,14776035,{"$f":"VLOOKUP(A1222,'AFR18'!A:L,12,0)","v":14776035},0]
[4166,1032831,0,1032831,{"$f":"VLOOKUP(A1223,'AFR18'!A:L,12,0)","v":1032831},0]
[4204,2094384.0980000007,{"$f":"VLOOKUP(A1224,'Crete Monee Totals 5-8'!A:B,2,0)","v":4166.5},2090217.5980000007,{"$f":"VLOOKUP(A1224,'AFR18'!A:L,12,0)","v":2090217.5980000007},0]
[4205,365869.33799999993,{"$f":"VLOOKUP(A1225,'Crete Monee Totals 5-8'!A:B,2,0)","v":736.7},365132.63799999992,{"$f":"VLOOKUP(A1225,'AFR18'!A:L,12,0)","v":365132.63799999992},0]
[4206,168053.32269999999,{"$f":"VLOOKUP(A1226,'Crete Monee Totals 5-8'!A:B,2,0)","v":674.6},167378.72269999998,{"$f":"VLOOKUP(A1226,'AFR18'!A:L,12,0)","v":167378.72269999998},0]
[4207,2628320,{"$f":"VLOOKUP(A1227,'Crete Monee Totals 5-8'!A:B,2,0)","v":5578},2622742,{"$f":"VLOOKUP(A1227,'AFR18'!A:L,12,0)","v":2622742},0]
[4208,11991401331,{"$f":"VLOOKUP(A1228,'Crete Monee Totals 5-8'!A:B,2,0)","v":25159474},11966241857,{"$f":"VLOOKUP(A1228,'AFR18'!A:L,12,0)","v":11966241857},0]
[4209,7677204,0,7677204,{"$f":"VLOOKUP(A1229,'AFR18'!A:L,12,0)","v":7677204},0]
[4237,2321860,0,2321860,{"$f":"VLOOKUP(A1230,'AFR18'!A:L,12,0)","v":2321860},0]
[4239,1742547,0,1742547,{"$f":"VLOOKUP(A1231,'AFR18'!A:L,12,0)","v":1742547},0]
[4240,154636,0,154636,{"$f":"VLOOKUP(A1232,'AFR18'!A:L,12,0)","v":154636},0]
[4241,1785941,0,1785941,{"$f":"VLOOKUP(A1233,'AFR18'!A:L,12,0)","v":1785941},0]
[4242,489371,0,489371,{"$f":"VLOOKUP(A1234,'AFR18'!A:L,12,0)","v":489371},0]
[4243,30000,0,30000,{"$f":"VLOOKUP(A1235,'AFR18'!A:L,12,0)","v":30000},0]
[4244,392633,0,392633,{"$f":"VLOOKUP(A1236,'AFR18'!A:L,12,0)","v":392633},0]
[4246,144854,0,144854,{"$f":"VLOOKUP(A1237,'AFR18'!A:L,12,0)","v":144854},0]
[4248,273421,0,273421,{"$f":"VLOOKUP(A1238,'AFR18'!A:L,12,0)","v":273421},0]
[4251,142381,0,142381,{"$f":"VLOOKUP(A1239,'AFR18'!A:L,12,0)","v":142381},0]
[4255,8557,0,8557,{"$f":"VLOOKUP(A1240,'AFR18'!A:L,12,0)","v":8557},0]
[4256,26234,0,26234,{"$f":"VLOOKUP(A1241,'AFR18'!A:L,12,0)","v":26234},0]
[4266,219465,0,219465,{"$f":"VLOOKUP(A1242,'AFR18'!A:L,12,0)","v":219465},0]
[4267,2982381,0,2982381,{"$f":"VLOOKUP(A1243,'AFR18'!A:L,12,0)","v":2982381},0]
[4268,61379,0,61379,{"$f":"VLOOKUP(A1244,'AFR18'!A:L,12,0)","v":61379},0]
[4269,25000,0,25000,{"$f":"VLOOKUP(A1245,'AFR18'!A:L,12,0)","v":25000},0]
[4270,18774327,{"$f":"VLOOKUP(A1246,'Crete Monee Totals 5-8'!A:B,2,0)","v":9405},18764922,{"$f":"VLOOKUP(A1246,'AFR18'!A:L,12,0)","v":18764922},0]
[4271,16880299,0,16880299,{"$f":"VLOOKUP(A1247,'AFR18'!A:L,12,0)","v":16880299},0]
[4274,28,0,28,{"$f":"VLOOKUP(A1248,'AFR18'!A:L,12,0)","v":28},0]
[4275,531755,0,531755,{"$f":"VLOOKUP(A1249,'AFR18'!A:L,12,0)","v":531755},0]
[4277,1304,0,1304,{"$f":"VLOOKUP(A1250,'AFR18'!A:L,12,0)","v":1304},0]
[4279,198257,0,198257,{"$f":"VLOOKUP(A1251,'AFR18'!A:L,12,0)","v":198257},0]
[4283,9699577,{"$f":"VLOOKUP(A1252,'Crete Monee Totals 5-8'!A:B,2,0)","v":26700},9672877,{"$f":"VLOOKUP(A1252,'AFR18'!A:L,12,0)","v":9672877},0]
[4290,33097,0,33097,{"$f":"VLOOKUP(A1253,'AFR18'!A:L,12,0)","v":33097},0]
[4297,39707912.890000001,{"$f":"VLOOKUP(A1254,'Crete Monee Totals 5-8'!A:B,2,0)","v":172030},39535882.890000001,{"$f":"VLOOKUP(A1254,'AFR18'!A:L,12,0)","v":39535882.890000001},0]
[4298,3802,0,3802,{"$f":"VLOOKUP(A1255,'AFR18'!A:L,12,0)","v":3802},0]
[4299,86561,0,86561,{"$f":"VLOOKUP(A1256,'AFR18'!A:L,12,0)","v":86561},0]
[4301,108664236.93000001,{"$f":"VLOOKUP(A1257,'Crete Monee Totals 5-8'!A:B,2,0)","v":332648},108331588.93000001,{"$f":"VLOOKUP(A1257,'AFR18'!A:L,12,0)","v":108331588.93000001},0]
[4303,287900,0,287900,{"$f":"VLOOKUP(A1258,'AFR18'!A:L,12,0)","v":287900},0]
[4304,9775,0,9775,{"$f":"VLOOKUP(A1259,'AFR18'!A:L,12,0)","v":9775},0]
[4311,287900,0,287900,{"$f":"VLOOKUP(A1260,'AFR18'!A:L,12,0)","v":287900},0]
[4318,2156985.77,0,2156985.77,{"$f":"VLOOKUP(A1261,'AFR18'!A:L,12,0)","v":2156985.77},0]
[4319,14427,0,14427,{"$f":"VLOOKUP(A1262,'AFR18'!A:L,12,0)","v":14427},0]
[4330,150416,0,150416,{"$f":"VLOOKUP(A1263,'AFR18'!A:L,12,0)","v":150416},0]
[4334,2324191.77,0,2324191.77,{"$f":"VLOOKUP(A1264,'AFR18'!A:L,12,0)","v":2324191.77},0]
[4335,14427,0,14427,{"$f":"VLOOKUP(A1265,'AFR18'!A:L,12,0)","v":14427},0]
[4346,15319632,0,15319632,{"$f":"VLOOKUP(A1266,'AFR18'!A:L,12,0)","v":15319632},0]
[4348,160578,0,160578,{"$f":"VLOOKUP(A1267,'AFR18'!A:L,12,0)","v":160578},0]
[4349,35211,0,35211,{"$f":"VLOOKUP(A1268,'AFR18'!A:L,12,0)","v":35211},0]
[4350,21063617,0,21063617,{"$f":"VLOOKUP(A1269,'AFR18'!A:L,12,0)","v":21063617},0]
[4352,161882,0,161882,{"$f":"VLOOKUP(A1270,'AFR18'!A:L,12,0)","v":161882},0]
[4353,35370,0,35370,{"$f":"VLOOKUP(A1271,'AFR18'!A:L,12,0)","v":35370},0]
[4354,25156647,{"$f":"VLOOKUP(A1272,'Crete Monee Totals 5-8'!A:B,2,0)","v":11000},25145647,{"$f":"VLOOKUP(A1272,'AFR18'!A:L,12,0)","v":25145647},0]
[4355,48571,0,48571,{"$f":"VLOOKUP(A1273,'AFR18'!A:L,12,0)","v":48571},0]
[4356,2518,0,2518,{"$f":"VLOOKUP(A1274,'AFR18'!A:L,12,0)","v":2518},0]
[4357,72128165.99000001,{"$f":"VLOOKUP(A1275,'Crete Monee Totals 5-8'!A:B,2,0)","v":97149},72031016.99000001,{"$f":"VLOOKUP(A1275,'AFR18'!A:L,12,0)","v":72031016.99000001},0]
[4360,18747,0,18747,{"$f":"VLOOKUP(A1276,'AFR18'!A:L,12,0)","v":18747},0]
[4373,48923768,0,48923768,{"$f":"VLOOKUP(A1277,'AFR18'!A:L,12,0)","v":48923768},0]
[4376,49958.308999999979,{"$f":"VLOOKUP(A1278,'Crete Monee Totals 5-8'!A:B,2,0)","v":28.8},49929.508999999976,{"$f":"VLOOKUP(A1278,'AFR18'!A:L,12,0)","v":49929.508999999976},0]
[4380,561491,0,561491,{"$f":"VLOOKUP(A1279,'AFR18'!A:L,12,0)","v":561491},0]
[4382,48923768,0,48923768,{"$f":"VLOOKUP(A1280,'AFR18'!A:L,12,0)","v":48923768},0]
[4385,4244,0,4244,{"$f":"VLOOKUP(A1281,'AFR18'!A:L,12,0)","v":4244},0]
[4386,175640,0,175640,{"$f":"VLOOKUP(A1282,'AFR18'!A:L,12,0)","v":175640},0]
[4700,4862869,0,{"$f":"SUM(B1283-C1283)","v":4862869},{"$f":"VLOOKUP(A1283,'AFR18'!A:L,12,0)","v":4862869},{"$f":"SUM(D1283-E1283)","v":0}]
[4731,31714649,{"$f":"VLOOKUP(A1284,'Crete Monee Totals 5-8'!A:B,2,0)","v":3013},31711636,{"$f":"VLOOKUP(A1284,'AFR18'!A:L,12,0)","v":31711636},0]
[4732,1109824,0,1109824,{"$f":"VLOOKUP(A1285,'AFR18'!A:L,12,0)","v":1109824},0]
[4733,6560200,0,6560200,{"$f":"VLOOKUP(A1286,'AFR18'!A:L,12,0)","v":6560200},0]
[4734,31316,0,31316,{"$f":"VLOOKUP(A1287,'AFR18'!A:L,12,0)","v":31316},0]
[4735,3471,0,3471,{"$f":"VLOOKUP(A1288,'AFR18'!A:L,12,0)","v":3471},0]
[4736,15570530,0,15570530,{"$f":"VLOOKUP(A1289,'AFR18'!A:L,12,0)","v":15570530},0]
[4740,103241,0,103241,{"$f":"VLOOKUP(A1290,'AFR18'!A:L,12,0)","v":103241},0]
[4744,19810593,0,19810593,{"$f":"VLOOKUP(A1291,'AFR18'!A:L,12,0)","v":19810593},0]
[4745,19692,0,19692,{"$f":"VLOOKUP(A1292,'AFR18'!A:L,12,0)","v":19692},0]
[4752,5,0,5,{"$f":"VLOOKUP(A1293,'AFR18'!A:L,12,0)","v":5},0]
[4791,31127021,0,31127021,{"$f":"VLOOKUP(A1294,'AFR18'!A:L,12,0)","v":31127021},0]
[4792,175486,0,175486,{"$f":"VLOOKUP(A1295,'AFR18'!A:L,12,0)","v":175486},0]
[4794,102,0,102,{"$f":"VLOOKUP(A1296,'AFR18'!A:L,12,0)","v":102},0]
[4803,19564,0,19564,{"$f":"VLOOKUP(A1297,'AFR18'!A:L,12,0)","v":19564},0]
[4804,220938,0,220938,{"$f":"VLOOKUP(A1298,'AFR18'!A:L,12,0)","v":220938},0]
[4813,18449707,0,18449707,{"$f":"VLOOKUP(A1299,'AFR18'!A:L,12,0)","v":18449707},0]
[4814,651682,0,651682,{"$f":"VLOOKUP(A1300,'AFR18'!A:L,12,0)","v":651682},0]
[4821,1988407,0,1988407,{"$f":"VLOOKUP(A1301,'AFR18'!A:L,12,0)","v":1988407},0]
[4824,279,0,279,{"$f":"VLOOKUP(A1302,'AFR18'!A:L,12,0)","v":279},0]
[4854,2686,0,2686,{"$f":"VLOOKUP(A1303,'AFR18'!A:L,12,0)","v":2686},0]
[4855,4498,0,4498,{"$f":"VLOOKUP(A1304,'AFR18'!A:L,12,0)","v":4498},0]
[4857,8752,0,8752,{"$f":"VLOOKUP(A1305,'AFR18'!A:L,12,0)","v":8752},0]
[4883,335625,0,335625,{"$f":"VLOOKUP(A1306,'AFR18'!A:L,12,0)","v":335625},0]
[4889,9775,0,9775,{"$f":"VLOOKUP(A1307,'AFR18'!A:L,12,0)","v":9775},0]
[4934,479684894581,{"$f":"VLOOKUP(A1308,'Crete Monee Totals 5-8'!A:B,2,0)","v":586382720},479098511861,{"$f":"VLOOKUP(A1308,'AFR18'!A:L,12,0)","v":479098511861},0]
[4935,46746229780.72506,{"$f":"VLOOKUP(A1309,'Crete Monee Totals 5-8'!A:B,2,0)","v":80920815.359999999},46665308965.365059,{"$f":"VLOOKUP(A1309,'AFR18'!A:L,12,0)","v":46665308965.365059},0]
[4936,21650268294,{"$f":"VLOOKUP(A1310,'Crete Monee Totals 5-8'!A:B,2,0)","v":93012005},21557256289,{"$f":"VLOOKUP(A1310,'AFR18'!A:L,12,0)","v":21557256289},0]
[4939,25000,0,25000,{"$f":"VLOOKUP(A1311,'AFR18'!A:L,12,0)","v":25000},0]
[4951,60484612,0,60484612,{"$f":"VLOOKUP(A1312,'AFR18'!A:L,12,0)","v":60484612},0]
[4952,213013589,0,213013589,{"$f":"VLOOKUP(A1313,'AFR18'!A:L,12,0)","v":213013589},0]
[4953,685225,0,685225,{"$f":"VLOOKUP(A1314,'AFR18'!A:L,12,0)","v":685225},0]
[4961,130408311,0,130408311,{"$f":"VLOOKUP(A1315,'AFR18'!A:L,12,0)","v":130408311},0]
[4962,39896536,0,39896536,{"$f":"VLOOKUP(A1316,'AFR18'!A:L,12,0)","v":39896536},0]
[4963,103878579,0,103878579,{"$f":"VLOOKUP(A1317,'AFR18'!A:L,12,0)","v":103878579},0]
[4965,28556306.710000001,0,28556306.710000001,{"$f":"VLOOKUP(A1318,'AFR18'!A:L,12,0)","v":28556306.710000001},0]
[4966,1661788,0,1661788,{"$f":"VLOOKUP(A1319,'AFR18'!A:L,12,0)","v":1661788},0]
[4995,122606950,0,122606950,{"$f":"VLOOKUP(A1320,'AFR18'!A:L,12,0)","v":122606950},0]
[5000,12275292688.279999,{"$f":"VLOOKUP(A1321,'Crete Monee Totals 5-8'!A:B,2,0)","v":23208768},12252083920.279999,{"$f":"VLOOKUP(A1321,'AFR18'!A:L,12,0)","v":12252083920.279999},0]
[5002,484315829.32999998,{"$f":"VLOOKUP(A1322,'Crete Monee Totals 5-8'!A:B,2,0)","v":4212794},480103035.32999998,{"$f":"VLOOKUP(A1322,'AFR18'!A:L,12,0)","v":480103035.32999998},0]
[5003,202,0,202,{"$f":"VLOOKUP(A1323,'AFR18'!A:L,12,0)","v":202},0]
[5004,172919,0,172919,{"$f":"VLOOKUP(A1324,'AFR18'!A:L,12,0)","v":172919},0]
[5005,12788337945.32,{"$f":"VLOOKUP(A1325,'Crete Monee Totals 5-8'!A:B,2,0)","v":27421562},12760916383.32,{"$f":"VLOOKUP(A1325,'AFR18'!A:L,12,0)","v":12760916383.32},0]
[5006,1384224.27,{"$f":"VLOOKUP(A1326,'Crete Monee Totals 5-8'!A:B,2,0)","v":36741},1347483.27,{"$f":"VLOOKUP(A1326,'AFR18'!A:L,12,0)","v":1347483.27},0]
[5007,1456414,0,1456414,{"$f":"VLOOKUP(A1327,'AFR18'!A:L,12,0)","v":1456414},0]
[5008,429992057.54000002,{"$f":"VLOOKUP(A1328,'Crete Monee Totals 5-8'!A:B,2,0)","v":852974},429139083.54000002,{"$f":"VLOOKUP(A1328,'AFR18'!A:L,12,0)","v":429139083.54000002},0]
[5009,18579713,0,18579713,{"$f":"VLOOKUP(A1329,'AFR18'!A:L,12,0)","v":18579713},0]
[5010,451412408.80999994,{"$f":"VLOOKUP(A1330,'Crete Monee Totals 5-8'!A:B,2,0)","v":889715},450522693.80999994,{"$f":"VLOOKUP(A1330,'AFR18'!A:L,12,0)","v":450522693.80999994},0]
[5011,17250859,0,17250859,{"$f":"VLOOKUP(A1331,'AFR18'!A:L,12,0)","v":17250859},0]
[5012,4092120,0,4092120,{"$f":"VLOOKUP(A1332,'AFR18'!A:L,12,0)","v":4092120},0]
[5013,3305114.52,0,3305114.52,{"$f":"VLOOKUP(A1333,'AFR18'!A:L,12,0)","v":3305114.52},0]
[5014,16093527,{"$f":"VLOOKUP(A1334,'Crete Monee Totals 5-8'!A:B,2,0)","v":3952},16089575,{"$f":"VLOOKUP(A1334,'AFR18'!A:L,12,0)","v":16089575},0]
[5015,416252,0,416252,{"$f":"VLOOKUP(A1335,'AFR18'!A:L,12,0)","v":416252},0]
[5016,668152,0,668152,{"$f":"VLOOKUP(A1336,'AFR18'!A:L,12,0)","v":668152},0]
[5017,94779,0,94779,{"$f":"VLOOKUP(A1337,'AFR18'!A:L,12,0)","v":94779},0]
[5018,287538,0,287538,{"$f":"VLOOKUP(A1338,'AFR18'!A:L,12,0)","v":287538},0]
[5020,4219602,0,4219602,{"$f":"VLOOKUP(A1339,'AFR18'!A:L,12,0)","v":4219602},0]
[5021,25169238,0,25169238,{"$f":"VLOOKUP(A1340,'AFR18'!A:L,12,0)","v":25169238},0]
[5022,351167,0,351167,{"$f":"VLOOKUP(A1341,'AFR18'!A:L,12,0)","v":351167},0]
[5023,3645479,0,3645479,{"$f":"VLOOKUP(A1342,'AFR18'!A:L,12,0)","v":3645479},0]
[5024,2360,0,2360,{"$f":"VLOOKUP(A1343,'AFR18'!A:L,12,0)","v":2360},0]
[5025,615343,0,615343,{"$f":"VLOOKUP(A1344,'AFR18'!A:L,12,0)","v":615343},0]
[5026,76881897.520000011,{"$f":"VLOOKUP(A1345,'Crete Monee Totals 5-8'!A:B,2,0)","v":3952},76877945.520000011,{"$f":"VLOOKUP(A1345,'AFR18'!A:L,12,0)","v":76877945.520000011},0]
[5027,92528063.680000007,{"$f":"VLOOKUP(A1346,'Crete Monee Totals 5-8'!A:B,2,0)","v":134493},92393570.680000007,{"$f":"VLOOKUP(A1346,'AFR18'!A:L,12,0)","v":92393570.680000007},0]
[5028,-944805,0,{"$f":"SUM(B1347-C1347)","v":-944805},{"$f":"VLOOKUP(A1347,'AFR18'!A:L,12,0)","v":-944805},{"$f":"SUM(D1347-E1347)","v":0}]
[5029,91583258.680000007,{"$f":"VLOOKUP(A1348,'Crete Monee Totals 5-8'!A:B,2,0)","v":134493},91448765.680000007,{"$f":"VLOOKUP(A1348,'AFR18'!A:L,12,0)","v":91448765.680000007},0]
[5030,2876457,0,2876457,{"$f":"VLOOKUP(A1349,'AFR18'!A:L,12,0)","v":2876457},0]
[5031,36610244,0,36610244,{"$f":"VLOOKUP(A1350,'AFR18'!A:L,12,0)","v":36610244},0]
[5032,8054753,0,8054753,{"$f":"VLOOKUP(A1351,'AFR18'!A:L,12,0)","v":8054753},0]
[5033,4351472.91,0,4351472.91,{"$f":"VLOOKUP(A1352,'AFR18'!A:L,12,0)","v":4351472.91},0]
[5034,14148177,{"$f":"VLOOKUP(A1353,'Crete Monee Totals 5-8'!A:B,2,0)","v":16690},14131487,{"$f":"VLOOKUP(A1353,'AFR18'!A:L,12,0)","v":14131487},0]
[5035,203065131.63,{"$f":"VLOOKUP(A1354,'Crete Monee Totals 5-8'!A:B,2,0)","v":491252},202573879.63,{"$f":"VLOOKUP(A1354,'AFR18'!A:L,12,0)","v":202573879.63},0]
[5036,20724459.780000001,{"$f":"VLOOKUP(A1355,'Crete Monee Totals 5-8'!A:B,2,0)","v":17175},20707284.780000001,{"$f":"VLOOKUP(A1355,'AFR18'!A:L,12,0)","v":20707284.780000001},0]
[5037,3169823,0,3169823,{"$f":"VLOOKUP(A1356,'AFR18'!A:L,12,0)","v":3169823},0]
[5038,69074689,{"$f":"VLOOKUP(A1357,'Crete Monee Totals 5-8'!A:B,2,0)","v":43196},69031493,{"$f":"VLOOKUP(A1357,'AFR18'!A:L,12,0)","v":69031493},0]
[5039,4895864,0,4895864,{"$f":"VLOOKUP(A1358,'AFR18'!A:L,12,0)","v":4895864},0]
[5040,18308761,{"$f":"VLOOKUP(A1359,'Crete Monee Totals 5-8'!A:B,2,0)","v":784},18307977,{"$f":"VLOOKUP(A1359,'AFR18'!A:L,12,0)","v":18307977},0]
[5041,116173596.78,{"$f":"VLOOKUP(A1360,'Crete Monee Totals 5-8'!A:B,2,0)","v":61155},116112441.78,{"$f":"VLOOKUP(A1360,'AFR18'!A:L,12,0)","v":116112441.78},0]
[5042,98284857.289999992,{"$f":"VLOOKUP(A1361,'Crete Monee Totals 5-8'!A:B,2,0)","v":310149},97974708.289999992,{"$f":"VLOOKUP(A1361,'AFR18'!A:L,12,0)","v":97974708.289999992},0]
[5043,928974,0,928974,{"$f":"VLOOKUP(A1362,'AFR18'!A:L,12,0)","v":928974},0]
[5044,668033,0,668033,{"$f":"VLOOKUP(A1363,'AFR18'!A:L,12,0)","v":668033},0]
[5045,2683545,{"$f":"VLOOKUP(A1364,'Crete Monee Totals 5-8'!A:B,2,0)","v":3185},2680360,{"$f":"VLOOKUP(A1364,'AFR18'!A:L,12,0)","v":2680360},0]
[5046,2101789,0,2101789,{"$f":"VLOOKUP(A1365,'AFR18'!A:L,12,0)","v":2101789},0]
[5047,70650,0,70650,{"$f":"VLOOKUP(A1366,'AFR18'!A:L,12,0)","v":70650},0]
[5048,34664,0,34664,{"$f":"VLOOKUP(A1367,'AFR18'!A:L,12,0)","v":34664},0]
[5049,135061,{"$f":"VLOOKUP(A1368,'Crete Monee Totals 5-8'!A:B,2,0)","v":8414},126647,{"$f":"VLOOKUP(A1368,'AFR18'!A:L,12,0)","v":126647},0]
[5050,2472347,0,2472347,{"$f":"VLOOKUP(A1369,'AFR18'!A:L,12,0)","v":2472347},0]
[5051,107379920.29000001,{"$f":"VLOOKUP(A1370,'Crete Monee Totals 5-8'!A:B,2,0)","v":321748},107058172.29000001,{"$f":"VLOOKUP(A1370,'AFR18'!A:L,12,0)","v":107058172.29000001},0]
[5052,11025312,0,11025312,{"$f":"VLOOKUP(A1371,'AFR18'!A:L,12,0)","v":11025312},0]
[5053,23642234.25,0,23642234.25,{"$f":"VLOOKUP(A1372,'AFR18'!A:L,12,0)","v":23642234.25},0]
[5054,12034366,0,12034366,{"$f":"VLOOKUP(A1373,'AFR18'!A:L,12,0)","v":12034366},0]
[5055,40603746.239999995,{"$f":"VLOOKUP(A1374,'Crete Monee Totals 5-8'!A:B,2,0)","v":689283},39914463.239999995,{"$f":"VLOOKUP(A1374,'AFR18'!A:L,12,0)","v":39914463.239999995},0]
[5056,2231649,0,2231649,{"$f":"VLOOKUP(A1375,'AFR18'!A:L,12,0)","v":2231649},0]
[5057,46485943,0,46485943,{"$f":"VLOOKUP(A1376,'AFR18'!A:L,12,0)","v":46485943},0]
[5058,199107225.38999999,{"$f":"VLOOKUP(A1377,'Crete Monee Totals 5-8'!A:B,2,0)","v":9490},199097735.38999999,{"$f":"VLOOKUP(A1377,'AFR18'!A:L,12,0)","v":199097735.38999999},0]
[5059,489885207.88,{"$f":"VLOOKUP(A1378,'Crete Monee Totals 5-8'!A:B,2,0)","v":720248},489164959.88,{"$f":"VLOOKUP(A1378,'AFR18'!A:L,12,0)","v":489164959.88},0]
[5060,14324719366.91,{"$f":"VLOOKUP(A1379,'Crete Monee Totals 5-8'!A:B,2,0)","v":30044125},14294675241.91,{"$f":"VLOOKUP(A1379,'AFR18'!A:L,12,0)","v":14294675241.91},0]
[5061,10335828,0,10335828,{"$f":"VLOOKUP(A1380,'AFR18'!A:L,12,0)","v":10335828},0]
[5062,2447361,0,2447361,{"$f":"VLOOKUP(A1381,'AFR18'!A:L,12,0)","v":2447361},0]
[5063,157063,0,157063,{"$f":"VLOOKUP(A1382,'AFR18'!A:L,12,0)","v":157063},0]
[5064,12940252,0,12940252,{"$f":"VLOOKUP(A1383,'AFR18'!A:L,12,0)","v":12940252},0]
[5065,5304504837.04,{"$f":"VLOOKUP(A1384,'Crete Monee Totals 5-8'!A:B,2,0)","v":15597626},5288907211.04,{"$f":"VLOOKUP(A1384,'AFR18'!A:L,12,0)","v":5288907211.04},0]
[5066,2891798,0,2891798,{"$f":"VLOOKUP(A1385,'AFR18'!A:L,12,0)","v":2891798},0]
[5071,5327834749.04,{"$f":"VLOOKUP(A1386,'Crete Monee Totals 5-8'!A:B,2,0)","v":15597626},5312237123.04,{"$f":"VLOOKUP(A1386,'AFR18'!A:L,12,0)","v":5312237123.04},0]
[5072,144532030,{"$f":"VLOOKUP(A1387,'Crete Monee Totals 5-8'!A:B,2,0)","v":543788},143988242,{"$f":"VLOOKUP(A1387,'AFR18'!A:L,12,0)","v":143988242},0]
[5073,74146985.340000004,0,74146985.340000004,{"$f":"VLOOKUP(A1388,'AFR18'!A:L,12,0)","v":74146985.340000004},0]
[5074,102700466.7,0,102700466.7,{"$f":"VLOOKUP(A1389,'AFR18'!A:L,12,0)","v":102700466.7},0]
[5076,50199936.729999997,{"$f":"VLOOKUP(A1390,'Crete Monee Totals 5-8'!A:B,2,0)","v":734359},49465577.729999997,{"$f":"VLOOKUP(A1390,'AFR18'!A:L,12,0)","v":49465577.729999997},0]
[5078,6525702,{"$f":"VLOOKUP(A1391,'Crete Monee Totals 5-8'!A:B,2,0)","v":17746},6507956,{"$f":"VLOOKUP(A1391,'AFR18'!A:L,12,0)","v":6507956},0]
[5081,4501046,0,4501046,{"$f":"VLOOKUP(A1392,'AFR18'!A:L,12,0)","v":4501046},0]
[5086,382879587.76999998,{"$f":"VLOOKUP(A1393,'Crete Monee Totals 5-8'!A:B,2,0)","v":1295893},381583694.76999998,{"$f":"VLOOKUP(A1393,'AFR18'!A:L,12,0)","v":381583694.76999998},0]
[5087,1140963,0,1140963,{"$f":"VLOOKUP(A1394,'AFR18'!A:L,12,0)","v":1140963},0]
[5091,17298662,{"$f":"VLOOKUP(A1395,'Crete Monee Totals 5-8'!A:B,2,0)","v":48137},17250525,{"$f":"VLOOKUP(A1395,'AFR18'!A:L,12,0)","v":17250525},0]
[5092,161985,0,161985,{"$f":"VLOOKUP(A1396,'AFR18'!A:L,12,0)","v":161985},0]
[5100,21605138,{"$f":"VLOOKUP(A1397,'Crete Monee Totals 5-8'!A:B,2,0)","v":48137},21557001,{"$f":"VLOOKUP(A1397,'AFR18'!A:L,12,0)","v":21557001},0]
[5102,82880458,{"$f":"VLOOKUP(A1398,'Crete Monee Totals 5-8'!A:B,2,0)","v":18364},82862094,{"$f":"VLOOKUP(A1398,'AFR18'!A:L,12,0)","v":82862094},0]
[5103,451518,0,451518,{"$f":"VLOOKUP(A1399,'AFR18'!A:L,12,0)","v":451518},0]
[5104,83331976,{"$f":"VLOOKUP(A1400,'Crete Monee Totals 5-8'!A:B,2,0)","v":18364},83313612,{"$f":"VLOOKUP(A1400,'AFR18'!A:L,12,0)","v":83313612},0]
[5106,7254315.2000000002,{"$f":"VLOOKUP(A1401,'Crete Monee Totals 5-8'!A:B,2,0)","v":21462},7232853.2000000002,{"$f":"VLOOKUP(A1401,'AFR18'!A:L,12,0)","v":7232853.2000000002},0]
[5107,18661339,{"$f":"VLOOKUP(A1402,'Crete Monee Totals 5-8'!A:B,2,0)","v":55758},18605581,{"$f":"VLOOKUP(A1402,'AFR18'!A:L,12,0)","v":18605581},0]
[5110,3605207,0,3605207,{"$f":"VLOOKUP(A1403,'AFR18'!A:L,12,0)","v":3605207},0]
[5114,296180,0,296180,{"$f":"VLOOKUP(A1404,'AFR18'!A:L,12,0)","v":296180},0]
[5116,48843314,0,48843314,{"$f":"VLOOKUP(A1405,'AFR18'!A:L,12,0)","v":48843314},0]
[5117,49139494,0,49139494,{"$f":"VLOOKUP(A1406,'AFR18'!A:L,12,0)","v":49139494},0]
[5120,75580,0,75580,{"$f":"VLOOKUP(A1407,'AFR18'!A:L,12,0)","v":75580},0]
[5126,12813,0,12813,{"$f":"VLOOKUP(A1408,'AFR18'!A:L,12,0)","v":12813},0]
[5133,8861289,0,8861289,{"$f":"VLOOKUP(A1409,'AFR18'!A:L,12,0)","v":8861289},0]
[5135,388808276,{"$f":"VLOOKUP(A1410,'Crete Monee Totals 5-8'!A:B,2,0)","v":400477},388407799,{"$f":"VLOOKUP(A1410,'AFR18'!A:L,12,0)","v":388407799},0]
[5138,830080,0,{"$f":"SUM(B1411-C1411)","v":830080},{"$f":"VLOOKUP(A1411,'AFR18'!A:L,12,0)","v":830080},{"$f":"SUM(D1411-E1411)","v":0}]
[5139,2669,0,2669,{"$f":"VLOOKUP(A1412,'AFR18'!A:L,12,0)","v":2669},0]
[5153,1119746873.9699998,{"$f":"VLOOKUP(A1413,'Crete Monee Totals 5-8'!A:B,2,0)","v":1843104},1117903769.9699998,{"$f":"VLOOKUP(A1413,'AFR18'!A:L,12,0)","v":1117903769.9699998},0]
[5162,6447581623.0099993,{"$f":"VLOOKUP(A1414,'Crete Monee Totals 5-8'!A:B,2,0)","v":17440730},6430140893.0099993,{"$f":"VLOOKUP(A1414,'AFR18'!A:L,12,0)","v":6430140893.0099993},0]
[5163,14097406,0,14097406,{"$f":"VLOOKUP(A1415,'AFR18'!A:L,12,0)","v":14097406},0]
[5164,14433031,0,14433031,{"$f":"VLOOKUP(A1416,'AFR18'!A:L,12,0)","v":14433031},0]
[5169,48134935,0,48134935,{"$f":"VLOOKUP(A1417,'AFR18'!A:L,12,0)","v":48134935},0]
[5171,68048769,0,68048769,{"$f":"VLOOKUP(A1418,'AFR18'!A:L,12,0)","v":68048769},0]
[5172,16790,0,16790,{"$f":"VLOOKUP(A1419,'AFR18'!A:L,12,0)","v":16790},0]
[5178,429563014.91000003,{"$f":"VLOOKUP(A1420,'Crete Monee Totals 5-8'!A:B,2,0)","v":1487305},428075709.91000003,{"$f":"VLOOKUP(A1420,'AFR18'!A:L,12,0)","v":428075709.91000003},0]
[5179,1757513,0,1757513,{"$f":"VLOOKUP(A1421,'AFR18'!A:L,12,0)","v":1757513},0]
[5180,132267442.70999999,{"$f":"VLOOKUP(A1422,'Crete Monee Totals 5-8'!A:B,2,0)","v":434363},131833079.70999999,{"$f":"VLOOKUP(A1422,'AFR18'!A:L,12,0)","v":131833079.70999999},0]
[5181,3705697,0,3705697,{"$f":"VLOOKUP(A1423,'AFR18'!A:L,12,0)","v":3705697},0]
[5182,10003623,0,10003623,{"$f":"VLOOKUP(A1424,'AFR18'!A:L,12,0)","v":10003623},0]
[5185,601254399.62,{"$f":"VLOOKUP(A1425,'Crete Monee Totals 5-8'!A:B,2,0)","v":1931073},599323326.62,{"$f":"VLOOKUP(A1425,'AFR18'!A:L,12,0)","v":599323326.62},0]
[5186,621959431,{"$f":"VLOOKUP(A1426,'Crete Monee Totals 5-8'!A:B,2,0)","v":1207577},620751854,{"$f":"VLOOKUP(A1426,'AFR18'!A:L,12,0)","v":620751854},0]
[5187,2123307,0,2123307,{"$f":"VLOOKUP(A1427,'AFR18'!A:L,12,0)","v":2123307},0]
[5194,424331,0,424331,{"$f":"VLOOKUP(A1428,'AFR18'!A:L,12,0)","v":424331},0]
[5195,5212230,0,5212230,{"$f":"VLOOKUP(A1429,'AFR18'!A:L,12,0)","v":5212230},0]
[5199,641387368,{"$f":"VLOOKUP(A1430,'Crete Monee Totals 5-8'!A:B,2,0)","v":1207577},640179791,{"$f":"VLOOKUP(A1430,'AFR18'!A:L,12,0)","v":640179791},0]
[5213,10172642.620000001,{"$f":"VLOOKUP(A1431,'Crete Monee Totals 5-8'!A:B,2,0)","v":42508},10130134.620000001,{"$f":"VLOOKUP(A1431,'AFR18'!A:L,12,0)","v":10130134.620000001},0]
[5214,3476037,0,3476037,{"$f":"VLOOKUP(A1432,'AFR18'!A:L,12,0)","v":3476037},0]
[5217,350631523.12,{"$f":"VLOOKUP(A1433,'Crete Monee Totals 5-8'!A:B,2,0)","v":811164},349820359.12,{"$f":"VLOOKUP(A1433,'AFR18'!A:L,12,0)","v":349820359.12},0]
[5218,38051804,{"$f":"VLOOKUP(A1434,'Crete Monee Totals 5-8'!A:B,2,0)","v":28716},38023088,{"$f":"VLOOKUP(A1434,'AFR18'!A:L,12,0)","v":38023088},0]
[5219,47137,0,47137,{"$f":"VLOOKUP(A1435,'AFR18'!A:L,12,0)","v":47137},0]
[5225,402577400.74000001,{"$f":"VLOOKUP(A1436,'Crete Monee Totals 5-8'!A:B,2,0)","v":882388},401695012.74000001,{"$f":"VLOOKUP(A1436,'AFR18'!A:L,12,0)","v":401695012.74000001},0]
[5240,5748521,0,5748521,{"$f":"VLOOKUP(A1437,'AFR18'!A:L,12,0)","v":5748521},0]
[5243,15448098,{"$f":"VLOOKUP(A1438,'Crete Monee Totals 5-8'!A:B,2,0)","v":26700},15421398,{"$f":"VLOOKUP(A1438,'AFR18'!A:L,12,0)","v":15421398},0]
[5249,1577535,0,1577535,{"$f":"VLOOKUP(A1439,'AFR18'!A:L,12,0)","v":1577535},0]
[5251,1331582,0,1331582,{"$f":"VLOOKUP(A1440,'AFR18'!A:L,12,0)","v":1331582},0]
[5252,54013,0,54013,{"$f":"VLOOKUP(A1441,'AFR18'!A:L,12,0)","v":54013},0]
[5254,1851738,0,1851738,{"$f":"VLOOKUP(A1442,'AFR18'!A:L,12,0)","v":1851738},0]
[5256,1650086,0,1650086,{"$f":"VLOOKUP(A1443,'AFR18'!A:L,12,0)","v":1650086},0]
[5259,1980704278.9400001,{"$f":"VLOOKUP(A1444,'Crete Monee Totals 5-8'!A:B,2,0)","v":4660565},1976043713.9400001,{"$f":"VLOOKUP(A1444,'AFR18'!A:L,12,0)","v":1976043713.9400001},0]
[5265,2063186078.9400001,{"$f":"VLOOKUP(A1445,'Crete Monee Totals 5-8'!A:B,2,0)","v":4660565},2058525513.9400001,{"$f":"VLOOKUP(A1445,'AFR18'!A:L,12,0)","v":2058525513.9400001},0]
[5266,22848427320.859997,{"$f":"VLOOKUP(A1446,'Crete Monee Totals 5-8'!A:B,2,0)","v":52145420},22796281900.859997,{"$f":"VLOOKUP(A1446,'AFR18'!A:L,12,0)","v":22796281900.859997},0]
[5267,1520014414.6700001,{"$f":"VLOOKUP(A1447,'Crete Monee Totals 5-8'!A:B,2,0)","v":4222290},1515792124.6700001,{"$f":"VLOOKUP(A1447,'AFR18'!A:L,12,0)","v":1515792124.6700001},0]
[5269,8189083,0,8189083,{"$f":"VLOOKUP(A1448,'AFR18'!A:L,12,0)","v":8189083},0]
[5270,145750,0,145750,{"$f":"VLOOKUP(A1449,'AFR18'!A:L,12,0)","v":145750},0]
[5272,2296059,0,2296059,{"$f":"VLOOKUP(A1450,'AFR18'!A:L,12,0)","v":2296059},0]
[5273,1530645306.6700001,{"$f":"VLOOKUP(A1451,'Crete Monee Totals 5-8'!A:B,2,0)","v":4222290},1526423016.6700001,{"$f":"VLOOKUP(A1451,'AFR18'!A:L,12,0)","v":1526423016.6700001},0]
[5274,230371.61,{"$f":"VLOOKUP(A1452,'Crete Monee Totals 5-8'!A:B,2,0)","v":5804},224567.61,{"$f":"VLOOKUP(A1452,'AFR18'!A:L,12,0)","v":224567.61},0]
[5275,208542,0,208542,{"$f":"VLOOKUP(A1453,'AFR18'!A:L,12,0)","v":208542},0]
[5276,79902948,0,79902948,{"$f":"VLOOKUP(A1454,'AFR18'!A:L,12,0)","v":79902948},0]
[5277,990609.7,0,990609.7,{"$f":"VLOOKUP(A1455,'AFR18'!A:L,12,0)","v":990609.7},0]
[5278,81332471.310000002,{"$f":"VLOOKUP(A1456,'Crete Monee Totals 5-8'!A:B,2,0)","v":5804},81326667.310000002,{"$f":"VLOOKUP(A1456,'AFR18'!A:L,12,0)","v":81326667.310000002},0]
[5279,13863731.029999999,{"$f":"VLOOKUP(A1457,'Crete Monee Totals 5-8'!A:B,2,0)","v":20689},13843042.029999999,{"$f":"VLOOKUP(A1457,'AFR18'!A:L,12,0)","v":13843042.029999999},0]
[5280,-635518,0,-635518,{"$f":"VLOOKUP(A1458,'AFR18'!A:L,12,0)","v":-635518},0]
[5281,13228213.029999999,{"$f":"VLOOKUP(A1459,'Crete Monee Totals 5-8'!A:B,2,0)","v":20689},13207524.029999999,{"$f":"VLOOKUP(A1459,'AFR18'!A:L,12,0)","v":13207524.029999999},0]
[5282,24252,0,24252,{"$f":"VLOOKUP(A1460,'AFR18'!A:L,12,0)","v":24252},0]
[5283,322758,0,322758,{"$f":"VLOOKUP(A1461,'AFR18'!A:L,12,0)","v":322758},0]
[5284,2298443,0,2298443,{"$f":"VLOOKUP(A1462,'AFR18'!A:L,12,0)","v":2298443},0]
[5286,228932,0,228932,{"$f":"VLOOKUP(A1463,'AFR18'!A:L,12,0)","v":228932},0]
[5287,2874385,0,2874385,{"$f":"VLOOKUP(A1464,'AFR18'!A:L,12,0)","v":2874385},0]
[5288,30604051.359999999,{"$f":"VLOOKUP(A1465,'Crete Monee Totals 5-8'!A:B,2,0)","v":24670},30579381.359999999,{"$f":"VLOOKUP(A1465,'AFR18'!A:L,12,0)","v":30579381.359999999},0]
[5289,6114286,0,6114286,{"$f":"VLOOKUP(A1466,'AFR18'!A:L,12,0)","v":6114286},0]
[5290,1079759,0,1079759,{"$f":"VLOOKUP(A1467,'AFR18'!A:L,12,0)","v":1079759},0]
[5291,3705813,0,3705813,{"$f":"VLOOKUP(A1468,'AFR18'!A:L,12,0)","v":3705813},0]
[5292,876630,0,876630,{"$f":"VLOOKUP(A1469,'AFR18'!A:L,12,0)","v":876630},0]
[5293,30716883.25,{"$f":"VLOOKUP(A1470,'Crete Monee Totals 5-8'!A:B,2,0)","v":33721},30683162.25,{"$f":"VLOOKUP(A1470,'AFR18'!A:L,12,0)","v":30683162.25},0]
[5294,89591870.750000015,{"$f":"VLOOKUP(A1471,'Crete Monee Totals 5-8'!A:B,2,0)","v":58391},89533479.750000015,{"$f":"VLOOKUP(A1471,'AFR18'!A:L,12,0)","v":89533479.750000015},0]
[5295,1717672246.7600002,{"$f":"VLOOKUP(A1472,'Crete Monee Totals 5-8'!A:B,2,0)","v":4307174},1713365072.7600002,{"$f":"VLOOKUP(A1472,'AFR18'!A:L,12,0)","v":1713365072.7600002},0]
[5296,605000,0,605000,{"$f":"VLOOKUP(A1473,'AFR18'!A:L,12,0)","v":605000},0]
[5298,511071,0,511071,{"$f":"VLOOKUP(A1474,'AFR18'!A:L,12,0)","v":511071},0]
[5299,1116071,0,{"$f":"SUM(B1475-C1475)","v":1116071},{"$f":"VLOOKUP(A1475,'AFR18'!A:L,12,0)","v":1116071},{"$f":"SUM(D1475-E1475)","v":0}]
[5300,543668721,0,543668721,{"$f":"VLOOKUP(A1476,'AFR18'!A:L,12,0)","v":543668721},0]
[5306,544320403,0,544320403,{"$f":"VLOOKUP(A1477,'AFR18'!A:L,12,0)","v":544320403},0]
[5330,65000,0,65000,{"$f":"VLOOKUP(A1478,'AFR18'!A:L,12,0)","v":65000},0]
[5332,10000,0,10000,{"$f":"VLOOKUP(A1479,'AFR18'!A:L,12,0)","v":10000},0]
[5333,75000,0,75000,{"$f":"VLOOKUP(A1480,'AFR18'!A:L,12,0)","v":75000},0]
[5340,326020,0,326020,{"$f":"VLOOKUP(A1481,'AFR18'!A:L,12,0)","v":326020},0]
[5351,1796186,0,1796186,{"$f":"VLOOKUP(A1482,'AFR18'!A:L,12,0)","v":1796186},0]
[5360,546116589,0,546116589,{"$f":"VLOOKUP(A1483,'AFR18'!A:L,12,0)","v":546116589},0]
[5361,5084707,0,5084707,{"$f":"VLOOKUP(A1484,'AFR18'!A:L,12,0)","v":5084707},0]
[5362,5084707,0,5084707,{"$f":"VLOOKUP(A1485,'AFR18'!A:L,12,0)","v":5084707},0]
[5364,19692,0,19692,{"$f":"VLOOKUP(A1486,'AFR18'!A:L,12,0)","v":19692},0]
[5370,251,0,251,{"$f":"VLOOKUP(A1487,'AFR18'!A:L,12,0)","v":251},0]
[5383,251,0,251,{"$f":"VLOOKUP(A1488,'AFR18'!A:L,12,0)","v":251},0]
[5401,149613,0,149613,{"$f":"VLOOKUP(A1489,'AFR18'!A:L,12,0)","v":149613},0]
[5402,6211,0,6211,{"$f":"VLOOKUP(A1490,'AFR18'!A:L,12,0)","v":6211},0]
[5409,155824,0,155824,{"$f":"VLOOKUP(A1491,'AFR18'!A:L,12,0)","v":155824},0]
[5440,2751598,0,2751598,{"$f":"VLOOKUP(A1492,'AFR18'!A:L,12,0)","v":2751598},0]
[5446,7855997,0,7855997,{"$f":"VLOOKUP(A1493,'AFR18'!A:L,12,0)","v":7855997},0]
[5447,2272760903.7600002,{"$f":"VLOOKUP(A1494,'Crete Monee Totals 5-8'!A:B,2,0)","v":4307174},2268453729.7600002,{"$f":"VLOOKUP(A1494,'AFR18'!A:L,12,0)","v":2268453729.7600002},0]
[5448,1580829141.8000002,{"$f":"VLOOKUP(A1495,'Crete Monee Totals 5-8'!A:B,2,0)","v":11660935},1569168206.8000002,{"$f":"VLOOKUP(A1495,'AFR18'!A:L,12,0)","v":1569168206.8000002},0]
[5451,3614308,0,3614308,{"$f":"VLOOKUP(A1496,'AFR18'!A:L,12,0)","v":3614308},0]
[5452,1584443449.8000002,{"$f":"VLOOKUP(A1497,'Crete Monee Totals 5-8'!A:B,2,0)","v":11660935},1572782514.8000002,{"$f":"VLOOKUP(A1497,'AFR18'!A:L,12,0)","v":1572782514.8000002},0]
[5453,246213.46,{"$f":"VLOOKUP(A1498,'Crete Monee Totals 5-8'!A:B,2,0)","v":15942},230271.46,{"$f":"VLOOKUP(A1498,'AFR18'!A:L,12,0)","v":230271.46},0]
[5454,50717,0,50717,{"$f":"VLOOKUP(A1499,'AFR18'!A:L,12,0)","v":50717},0]
[5455,63714897,0,63714897,{"$f":"VLOOKUP(A1500,'AFR18'!A:L,12,0)","v":63714897},0]
[5456,589190,0,589190,{"$f":"VLOOKUP(A1501,'AFR18'!A:L,12,0)","v":589190},0]
[5457,64601017.460000001,{"$f":"VLOOKUP(A1502,'Crete Monee Totals 5-8'!A:B,2,0)","v":15942},64585075.460000001,{"$f":"VLOOKUP(A1502,'AFR18'!A:L,12,0)","v":64585075.460000001},0]
[5458,12293462.539999999,{"$f":"VLOOKUP(A1503,'Crete Monee Totals 5-8'!A:B,2,0)","v":44956},12248506.539999999,{"$f":"VLOOKUP(A1503,'AFR18'!A:L,12,0)","v":12248506.539999999},0]
[5459,814098,0,814098,{"$f":"VLOOKUP(A1504,'AFR18'!A:L,12,0)","v":814098},0]
[5460,13107560.539999999,{"$f":"VLOOKUP(A1505,'Crete Monee Totals 5-8'!A:B,2,0)","v":44956},13062604.539999999,{"$f":"VLOOKUP(A1505,'AFR18'!A:L,12,0)","v":13062604.539999999},0]
[5461,1750000,0,1750000,{"$f":"VLOOKUP(A1506,'AFR18'!A:L,12,0)","v":1750000},0]
[5462,165796,0,165796,{"$f":"VLOOKUP(A1507,'AFR18'!A:L,12,0)","v":165796},0]
[5463,766615,0,766615,{"$f":"VLOOKUP(A1508,'AFR18'!A:L,12,0)","v":766615},0]
[5464,106792657,0,106792657,{"$f":"VLOOKUP(A1509,'AFR18'!A:L,12,0)","v":106792657},0]
[5465,154545732,0,154545732,{"$f":"VLOOKUP(A1510,'AFR18'!A:L,12,0)","v":154545732},0]
[5466,1816697759.8000002,{"$f":"VLOOKUP(A1511,'Crete Monee Totals 5-8'!A:B,2,0)","v":11721833},1804975926.8000002,{"$f":"VLOOKUP(A1511,'AFR18'!A:L,12,0)","v":1804975926.8000002},0]
[5467,336372009,0,336372009,{"$f":"VLOOKUP(A1512,'AFR18'!A:L,12,0)","v":336372009},0]
[5473,336372009,0,336372009,{"$f":"VLOOKUP(A1513,'AFR18'!A:L,12,0)","v":336372009},0]
[5476,6560200,0,6560200,{"$f":"VLOOKUP(A1514,'AFR18'!A:L,12,0)","v":6560200},0]
[5483,342932209,0,342932209,{"$f":"VLOOKUP(A1515,'AFR18'!A:L,12,0)","v":342932209},0]
[5491,2208553736.8000002,{"$f":"VLOOKUP(A1516,'Crete Monee Totals 5-8'!A:B,2,0)","v":11721833},2196831903.8000002,{"$f":"VLOOKUP(A1516,'AFR18'!A:L,12,0)","v":2196831903.8000002},0]
[5492,627846419.68000007,{"$f":"VLOOKUP(A1517,'Crete Monee Totals 5-8'!A:B,2,0)","v":4007220},623839199.68000007,{"$f":"VLOOKUP(A1517,'AFR18'!A:L,12,0)","v":623839199.68000007},0]
[5495,2902022,0,2902022,{"$f":"VLOOKUP(A1518,'AFR18'!A:L,12,0)","v":2902022},0]
[5496,630748441.68000007,{"$f":"VLOOKUP(A1519,'Crete Monee Totals 5-8'!A:B,2,0)","v":4007220},626741221.68000007,{"$f":"VLOOKUP(A1519,'AFR18'!A:L,12,0)","v":626741221.68000007},0]
[5497,93301.52,{"$f":"VLOOKUP(A1520,'Crete Monee Totals 5-8'!A:B,2,0)","v":5710},87591.52,{"$f":"VLOOKUP(A1520,'AFR18'!A:L,12,0)","v":87591.52},0]
[5498,14725,0,14725,{"$f":"VLOOKUP(A1521,'AFR18'!A:L,12,0)","v":14725},0]
[5499,9073520,0,9073520,{"$f":"VLOOKUP(A1522,'AFR18'!A:L,12,0)","v":9073520},0]
[5500,386976,0,386976,{"$f":"VLOOKUP(A1523,'AFR18'!A:L,12,0)","v":386976},0]
[5501,9568522.5199999996,{"$f":"VLOOKUP(A1524,'Crete Monee Totals 5-8'!A:B,2,0)","v":5710},9562812.5199999996,{"$f":"VLOOKUP(A1524,'AFR18'!A:L,12,0)","v":9562812.5199999996},0]
[5502,6794979,{"$f":"VLOOKUP(A1525,'Crete Monee Totals 5-8'!A:B,2,0)","v":271},6794708,{"$f":"VLOOKUP(A1525,'AFR18'!A:L,12,0)","v":6794708},0]
[5503,14908598,{"$f":"VLOOKUP(A1526,'Crete Monee Totals 5-8'!A:B,2,0)","v":7971},14900627,{"$f":"VLOOKUP(A1526,'AFR18'!A:L,12,0)","v":14900627},0]
[5504,990977,0,990977,{"$f":"VLOOKUP(A1527,'AFR18'!A:L,12,0)","v":990977},0]
[5505,5114422,0,5114422,{"$f":"VLOOKUP(A1528,'AFR18'!A:L,12,0)","v":5114422},0]
[5506,259775,0,259775,{"$f":"VLOOKUP(A1529,'AFR18'!A:L,12,0)","v":259775},0]
[5507,59325,0,59325,{"$f":"VLOOKUP(A1530,'AFR18'!A:L,12,0)","v":59325},0]
[5508,8000,0,8000,{"$f":"VLOOKUP(A1531,'AFR18'!A:L,12,0)","v":8000},0]
[5509,52017,0,52017,{"$f":"VLOOKUP(A1532,'AFR18'!A:L,12,0)","v":52017},0]
[5510,16511,0,16511,{"$f":"VLOOKUP(A1533,'AFR18'!A:L,12,0)","v":16511},0]
[5511,11321,0,11321,{"$f":"VLOOKUP(A1534,'AFR18'!A:L,12,0)","v":11321},0]
[5512,133200,0,133200,{"$f":"VLOOKUP(A1535,'AFR18'!A:L,12,0)","v":133200},0]
[5513,4217175,0,4217175,{"$f":"VLOOKUP(A1536,'AFR18'!A:L,12,0)","v":4217175},0]
[5514,187716,0,187716,{"$f":"VLOOKUP(A1537,'AFR18'!A:L,12,0)","v":187716},0]
[5517,15171,0,15171,{"$f":"VLOOKUP(A1538,'AFR18'!A:L,12,0)","v":15171},0]
[5518,32811370,{"$f":"VLOOKUP(A1539,'Crete Monee Totals 5-8'!A:B,2,0)","v":8242},{"$f":"SUM(B1539-C1539)","v":32803128},{"$f":"VLOOKUP(A1539,'AFR18'!A:L,12,0)","v":32803128},{"$f":"SUM(D1539-E1539)","v":0}]
[5519,7708961,{"$f":"VLOOKUP(A1540,'Crete Monee Totals 5-8'!A:B,2,0)","v":81232},7627729,{"$f":"VLOOKUP(A1540,'AFR18'!A:L,12,0)","v":7627729},0]
[5520,-317679,0,-317679,{"$f":"VLOOKUP(A1541,'AFR18'!A:L,12,0)","v":-317679},0]
[5521,7391282,{"$f":"VLOOKUP(A1542,'Crete Monee Totals 5-8'!A:B,2,0)","v":81232},7310050,{"$f":"VLOOKUP(A1542,'AFR18'!A:L,12,0)","v":7310050},0]
[5522,101579,0,101579,{"$f":"VLOOKUP(A1543,'AFR18'!A:L,12,0)","v":101579},0]
[5523,705899,0,705899,{"$f":"VLOOKUP(A1544,'AFR18'!A:L,12,0)","v":705899},0]
[5524,3196144,0,3196144,{"$f":"VLOOKUP(A1545,'AFR18'!A:L,12,0)","v":3196144},0]
[5525,7056536,0,7056536,{"$f":"VLOOKUP(A1546,'AFR18'!A:L,12,0)","v":7056536},0]
[5526,13091893,0,13091893,{"$f":"VLOOKUP(A1547,'AFR18'!A:L,12,0)","v":13091893},0]
[5527,693611509.20000005,{"$f":"VLOOKUP(A1548,'Crete Monee Totals 5-8'!A:B,2,0)","v":4102404},689509105.20000005,{"$f":"VLOOKUP(A1548,'AFR18'!A:L,12,0)","v":689509105.20000005},0]
[5528,45553,0,45553,{"$f":"VLOOKUP(A1549,'AFR18'!A:L,12,0)","v":45553},0]
[5529,29339,0,29339,{"$f":"VLOOKUP(A1550,'AFR18'!A:L,12,0)","v":29339},0]
[5530,480,0,480,{"$f":"VLOOKUP(A1551,'AFR18'!A:L,12,0)","v":480},0]
[5531,75372,0,75372,{"$f":"VLOOKUP(A1552,'AFR18'!A:L,12,0)","v":75372},0]
[5532,47718521,0,47718521,{"$f":"VLOOKUP(A1553,'AFR18'!A:L,12,0)","v":47718521},0]
[5533,1574961,0,1574961,{"$f":"VLOOKUP(A1554,'AFR18'!A:L,12,0)","v":1574961},0]
[5538,49293761,0,49293761,{"$f":"VLOOKUP(A1555,'AFR18'!A:L,12,0)","v":49293761},0]
[5539,4038,0,4038,{"$f":"VLOOKUP(A1556,'AFR18'!A:L,12,0)","v":4038},0]
[5540,5625,0,5625,{"$f":"VLOOKUP(A1557,'AFR18'!A:L,12,0)","v":5625},0]
[5541,121780,0,121780,{"$f":"VLOOKUP(A1558,'AFR18'!A:L,12,0)","v":121780},0]
[5543,183563,0,183563,{"$f":"VLOOKUP(A1559,'AFR18'!A:L,12,0)","v":183563},0]
[5553,315006,0,315006,{"$f":"VLOOKUP(A1560,'AFR18'!A:L,12,0)","v":315006},0]
[5554,278137337.91999996,{"$f":"VLOOKUP(A1561,'Crete Monee Totals 5-8'!A:B,2,0)","v":1867072},276270265.91999996,{"$f":"VLOOKUP(A1561,'AFR18'!A:L,12,0)","v":276270265.91999996},0]
[5556,353389376.62,{"$f":"VLOOKUP(A1562,'Crete Monee Totals 5-8'!A:B,2,0)","v":1989975},351399401.62,{"$f":"VLOOKUP(A1562,'AFR18'!A:L,12,0)","v":351399401.62},0]
[5557,631535271.53999996,{"$f":"VLOOKUP(A1563,'Crete Monee Totals 5-8'!A:B,2,0)","v":3857047},627678224.53999996,{"$f":"VLOOKUP(A1563,'AFR18'!A:L,12,0)","v":627678224.53999996},0]
[5564,320,0,320,{"$f":"VLOOKUP(A1564,'AFR18'!A:L,12,0)","v":320},0]
[5566,6343913,0,6343913,{"$f":"VLOOKUP(A1565,'AFR18'!A:L,12,0)","v":6343913},0]
[5569,114119,0,114119,{"$f":"VLOOKUP(A1566,'AFR18'!A:L,12,0)","v":114119},0]
[5583,638348697.53999996,{"$f":"VLOOKUP(A1567,'Crete Monee Totals 5-8'!A:B,2,0)","v":3857047},634491650.53999996,{"$f":"VLOOKUP(A1567,'AFR18'!A:L,12,0)","v":634491650.53999996},0]
[5592,687642458.53999996,{"$f":"VLOOKUP(A1568,'Crete Monee Totals 5-8'!A:B,2,0)","v":3857047},683785411.53999996,{"$f":"VLOOKUP(A1568,'AFR18'!A:L,12,0)","v":683785411.53999996},0]
[5593,200000,0,200000,{"$f":"VLOOKUP(A1569,'AFR18'!A:L,12,0)","v":200000},0]
[5594,200000,0,200000,{"$f":"VLOOKUP(A1570,'AFR18'!A:L,12,0)","v":200000},0]
[5603,768092,0,768092,{"$f":"VLOOKUP(A1571,'AFR18'!A:L,12,0)","v":768092},0]
[5616,768092,0,768092,{"$f":"VLOOKUP(A1572,'AFR18'!A:L,12,0)","v":768092},0]
[5634,55571,0,55571,{"$f":"VLOOKUP(A1573,'AFR18'!A:L,12,0)","v":55571},0]
[5635,1498,0,1498,{"$f":"VLOOKUP(A1574,'AFR18'!A:L,12,0)","v":1498},0]
[5642,57069,0,57069,{"$f":"VLOOKUP(A1575,'AFR18'!A:L,12,0)","v":57069},0]
[5647,12534,0,12534,{"$f":"VLOOKUP(A1576,'AFR18'!A:L,12,0)","v":12534},0]
[5652,1508570,0,1508570,{"$f":"VLOOKUP(A1577,'AFR18'!A:L,12,0)","v":1508570},0]
[5658,1708570,0,1708570,{"$f":"VLOOKUP(A1578,'AFR18'!A:L,12,0)","v":1708570},0]
[5659,1383037909.74,{"$f":"VLOOKUP(A1579,'Crete Monee Totals 5-8'!A:B,2,0)","v":7959451},1375078458.74,{"$f":"VLOOKUP(A1579,'AFR18'!A:L,12,0)","v":1375078458.74},0]
[5660,265871329.84,{"$f":"VLOOKUP(A1580,'Crete Monee Totals 5-8'!A:B,2,0)","v":940697},264930632.84,{"$f":"VLOOKUP(A1580,'AFR18'!A:L,12,0)","v":264930632.84},0]
[5661,1812761,0,1812761,{"$f":"VLOOKUP(A1581,'AFR18'!A:L,12,0)","v":1812761},0]
[5662,308614694.5,{"$f":"VLOOKUP(A1582,'Crete Monee Totals 5-8'!A:B,2,0)","v":940696},307673998.5,{"$f":"VLOOKUP(A1582,'AFR18'!A:L,12,0)","v":307673998.5},0]
[5663,1606190,0,1606190,{"$f":"VLOOKUP(A1583,'AFR18'!A:L,12,0)","v":1606190},0]
[5664,577904975.33999991,{"$f":"VLOOKUP(A1584,'Crete Monee Totals 5-8'!A:B,2,0)","v":1881393},576023582.33999991,{"$f":"VLOOKUP(A1584,'AFR18'!A:L,12,0)","v":576023582.33999991},0]
[5665,127526,{"$f":"VLOOKUP(A1585,'Crete Monee Totals 5-8'!A:B,2,0)","v":1294},126232,{"$f":"VLOOKUP(A1585,'AFR18'!A:L,12,0)","v":126232},0]
[5666,46992,0,46992,{"$f":"VLOOKUP(A1586,'AFR18'!A:L,12,0)","v":46992},0]
[5667,50487566,{"$f":"VLOOKUP(A1587,'Crete Monee Totals 5-8'!A:B,2,0)","v":50000},50437566,{"$f":"VLOOKUP(A1587,'AFR18'!A:L,12,0)","v":50437566},0]
[5668,113249,0,113249,{"$f":"VLOOKUP(A1588,'AFR18'!A:L,12,0)","v":113249},0]
[5669,50775333,{"$f":"VLOOKUP(A1589,'Crete Monee Totals 5-8'!A:B,2,0)","v":51294},50724039,{"$f":"VLOOKUP(A1589,'AFR18'!A:L,12,0)","v":50724039},0]
[5670,5132579,{"$f":"VLOOKUP(A1590,'Crete Monee Totals 5-8'!A:B,2,0)","v":19914},5112665,{"$f":"VLOOKUP(A1590,'AFR18'!A:L,12,0)","v":5112665},0]
[5671,-296936,0,-296936,{"$f":"VLOOKUP(A1591,'AFR18'!A:L,12,0)","v":-296936},0]
[5672,4835643,{"$f":"VLOOKUP(A1592,'Crete Monee Totals 5-8'!A:B,2,0)","v":19914},4815729,{"$f":"VLOOKUP(A1592,'AFR18'!A:L,12,0)","v":4815729},0]
[5673,15764,0,15764,{"$f":"VLOOKUP(A1593,'AFR18'!A:L,12,0)","v":15764},0]
[5674,70677,0,70677,{"$f":"VLOOKUP(A1594,'AFR18'!A:L,12,0)","v":70677},0]
[5675,908622,0,908622,{"$f":"VLOOKUP(A1595,'AFR18'!A:L,12,0)","v":908622},0]
[5676,1447124,0,1447124,{"$f":"VLOOKUP(A1596,'AFR18'!A:L,12,0)","v":1447124},0]
[5681,12636095,0,12636095,{"$f":"VLOOKUP(A1597,'AFR18'!A:L,12,0)","v":12636095},0]
[5687,12636095,0,12636095,{"$f":"VLOOKUP(A1598,'AFR18'!A:L,12,0)","v":12636095},0]
[5688,5193,0,5193,{"$f":"VLOOKUP(A1599,'AFR18'!A:L,12,0)","v":5193},0]
[5691,10205,0,10205,{"$f":"VLOOKUP(A1600,'AFR18'!A:L,12,0)","v":10205},0]
[5693,2031,0,2031,{"$f":"VLOOKUP(A1601,'AFR18'!A:L,12,0)","v":2031},0]
[5695,2031,0,2031,{"$f":"VLOOKUP(A1602,'AFR18'!A:L,12,0)","v":2031},0]
[5702,5972,0,{"$f":"SUM(B1603-C1603)","v":5972},{"$f":"VLOOKUP(A1603,'AFR18'!A:L,12,0)","v":5972},{"$f":"SUM(D1603-E1603)","v":0}]
[5704,565581,0,565581,{"$f":"VLOOKUP(A1604,'AFR18'!A:L,12,0)","v":565581},0]
[5709,587260,0,587260,{"$f":"VLOOKUP(A1605,'AFR18'!A:L,12,0)","v":587260},0]
[5717,13223355,0,13223355,{"$f":"VLOOKUP(A1606,'AFR18'!A:L,12,0)","v":13223355},0]
[5723,5,0,5,{"$f":"VLOOKUP(A1607,'AFR18'!A:L,12,0)","v":5},0]
[5729,1011938,0,1011938,{"$f":"VLOOKUP(A1608,'AFR18'!A:L,12,0)","v":1011938},0]
[5730,154,0,154,{"$f":"VLOOKUP(A1609,'AFR18'!A:L,12,0)","v":154},0]
[5738,159,0,159,{"$f":"VLOOKUP(A1610,'AFR18'!A:L,12,0)","v":159},0]
[5742,1012120,0,1012120,{"$f":"VLOOKUP(A1611,'AFR18'!A:L,12,0)","v":1012120},0]
[5756,37316,0,37316,{"$f":"VLOOKUP(A1612,'AFR18'!A:L,12,0)","v":37316},0]
[5760,1012852,0,1012852,{"$f":"VLOOKUP(A1613,'AFR18'!A:L,12,0)","v":1012852},0]
[5761,634,0,634,{"$f":"VLOOKUP(A1614,'AFR18'!A:L,12,0)","v":634},0]
[5768,1050802,0,1050802,{"$f":"VLOOKUP(A1615,'AFR18'!A:L,12,0)","v":1050802},0]
[5783,24,0,24,{"$f":"VLOOKUP(A1616,'AFR18'!A:L,12,0)","v":24},0]
[5786,24,0,24,{"$f":"VLOOKUP(A1617,'AFR18'!A:L,12,0)","v":24},0]
[5802,2166551,0,2166551,{"$f":"VLOOKUP(A1618,'AFR18'!A:L,12,0)","v":2166551},0]
[5808,2166556,0,2166556,{"$f":"VLOOKUP(A1619,'AFR18'!A:L,12,0)","v":2166556},0]
[5809,650352986.33999991,{"$f":"VLOOKUP(A1620,'Crete Monee Totals 5-8'!A:B,2,0)","v":1952601},648400385.33999991,{"$f":"VLOOKUP(A1620,'AFR18'!A:L,12,0)","v":648400385.33999991},0]
[5810,9526435,0,9526435,{"$f":"VLOOKUP(A1621,'AFR18'!A:L,12,0)","v":9526435},0]
[5811,37018,0,37018,{"$f":"VLOOKUP(A1622,'AFR18'!A:L,12,0)","v":37018},0]
[5812,9563453,0,9563453,{"$f":"VLOOKUP(A1623,'AFR18'!A:L,12,0)","v":9563453},0]
[5813,1380,0,1380,{"$f":"VLOOKUP(A1624,'AFR18'!A:L,12,0)","v":1380},0]
[5815,2858909,0,2858909,{"$f":"VLOOKUP(A1625,'AFR18'!A:L,12,0)","v":2858909},0]
[5816,2022291,0,2022291,{"$f":"VLOOKUP(A1626,'AFR18'!A:L,12,0)","v":2022291},0]
[5817,4882580,0,4882580,{"$f":"VLOOKUP(A1627,'AFR18'!A:L,12,0)","v":4882580},0]
[5818,23261024.82,{"$f":"VLOOKUP(A1628,'Crete Monee Totals 5-8'!A:B,2,0)","v":4045},23256979.82,{"$f":"VLOOKUP(A1628,'AFR18'!A:L,12,0)","v":23256979.82},0]
[5819,-785625,0,-785625,{"$f":"VLOOKUP(A1629,'AFR18'!A:L,12,0)","v":-785625},0]
[5820,22475399.82,{"$f":"VLOOKUP(A1630,'Crete Monee Totals 5-8'!A:B,2,0)","v":4045},22471354.82,{"$f":"VLOOKUP(A1630,'AFR18'!A:L,12,0)","v":22471354.82},0]
[5821,11322363.300000001,0,11322363.300000001,{"$f":"VLOOKUP(A1631,'AFR18'!A:L,12,0)","v":11322363.300000001},0]
[5822,657360,0,657360,{"$f":"VLOOKUP(A1632,'AFR18'!A:L,12,0)","v":657360},0]
[5823,30276,0,30276,{"$f":"VLOOKUP(A1633,'AFR18'!A:L,12,0)","v":30276},0]
[5824,40167058,0,40167058,{"$f":"VLOOKUP(A1634,'AFR18'!A:L,12,0)","v":40167058},0]
[5825,146545559.79000002,{"$f":"VLOOKUP(A1635,'Crete Monee Totals 5-8'!A:B,2,0)","v":22964},146522595.79000002,{"$f":"VLOOKUP(A1635,'AFR18'!A:L,12,0)","v":146522595.79000002},0]
[5826,36938304,0,36938304,{"$f":"VLOOKUP(A1636,'AFR18'!A:L,12,0)","v":36938304},0]
[5832,36938304,0,36938304,{"$f":"VLOOKUP(A1637,'AFR18'!A:L,12,0)","v":36938304},0]
[5838,18734326,0,18734326,{"$f":"VLOOKUP(A1638,'AFR18'!A:L,12,0)","v":18734326},0]
[5845,55672630,0,55672630,{"$f":"VLOOKUP(A1639,'AFR18'!A:L,12,0)","v":55672630},0]
[5846,184181,0,184181,{"$f":"VLOOKUP(A1640,'AFR18'!A:L,12,0)","v":184181},0]
[5847,184181,0,184181,{"$f":"VLOOKUP(A1641,'AFR18'!A:L,12,0)","v":184181},0]
[5853,755447,0,755447,{"$f":"VLOOKUP(A1642,'AFR18'!A:L,12,0)","v":755447},0]
[5854,239895069.61000001,{"$f":"VLOOKUP(A1643,'Crete Monee Totals 5-8'!A:B,2,0)","v":27009},239868060.61000001,{"$f":"VLOOKUP(A1643,'AFR18'!A:L,12,0)","v":239868060.61000001},0]
[5855,68670218.560000002,{"$f":"VLOOKUP(A1644,'Crete Monee Totals 5-8'!A:B,2,0)","v":222312},68447906.560000002,{"$f":"VLOOKUP(A1644,'AFR18'!A:L,12,0)","v":68447906.560000002},0]
[5856,200731,0,200731,{"$f":"VLOOKUP(A1645,'AFR18'!A:L,12,0)","v":200731},0]
[5857,68870949.560000002,{"$f":"VLOOKUP(A1646,'Crete Monee Totals 5-8'!A:B,2,0)","v":222312},68648637.560000002,{"$f":"VLOOKUP(A1646,'AFR18'!A:L,12,0)","v":68648637.560000002},0]
[5858,15244.8,{"$f":"VLOOKUP(A1647,'Crete Monee Totals 5-8'!A:B,2,0)","v":7},15237.8,{"$f":"VLOOKUP(A1647,'AFR18'!A:L,12,0)","v":15237.8},0]
[5859,2799,0,2799,{"$f":"VLOOKUP(A1648,'AFR18'!A:L,12,0)","v":2799},0]
[5860,353851,0,353851,{"$f":"VLOOKUP(A1649,'AFR18'!A:L,12,0)","v":353851},0]
[5861,3344,0,3344,{"$f":"VLOOKUP(A1650,'AFR18'!A:L,12,0)","v":3344},0]
[5862,375238.8,{"$f":"VLOOKUP(A1651,'Crete Monee Totals 5-8'!A:B,2,0)","v":7},375231.8,{"$f":"VLOOKUP(A1651,'AFR18'!A:L,12,0)","v":375231.8},0]
[5863,24251951.949999999,{"$f":"VLOOKUP(A1652,'Crete Monee Totals 5-8'!A:B,2,0)","v":14203},24237748.949999999,{"$f":"VLOOKUP(A1652,'AFR18'!A:L,12,0)","v":24237748.949999999},0]
[5864,-763506,0,-763506,{"$f":"VLOOKUP(A1653,'AFR18'!A:L,12,0)","v":-763506},0]
[5865,23488445.949999999,{"$f":"VLOOKUP(A1654,'Crete Monee Totals 5-8'!A:B,2,0)","v":14203},23474242.949999999,{"$f":"VLOOKUP(A1654,'AFR18'!A:L,12,0)","v":23474242.949999999},0]
[5866,59999,0,59999,{"$f":"VLOOKUP(A1655,'AFR18'!A:L,12,0)","v":59999},0]
[5868,610,0,610,{"$f":"VLOOKUP(A1656,'AFR18'!A:L,12,0)","v":610},0]
[5869,170546,0,170546,{"$f":"VLOOKUP(A1657,'AFR18'!A:L,12,0)","v":170546},0]
[5885,92905180.310000002,{"$f":"VLOOKUP(A1658,'Crete Monee Totals 5-8'!A:B,2,0)","v":236522},92668658.310000002,{"$f":"VLOOKUP(A1658,'AFR18'!A:L,12,0)","v":92668658.310000002},0]
[5924,54998681.559999995,{"$f":"VLOOKUP(A1659,'Crete Monee Totals 5-8'!A:B,2,0)","v":4573},54994108.559999995,{"$f":"VLOOKUP(A1659,'AFR18'!A:L,12,0)","v":54994108.559999995},0]
[5925,230168,0,230168,{"$f":"VLOOKUP(A1660,'AFR18'!A:L,12,0)","v":230168},0]
[5926,55228849.559999995,{"$f":"VLOOKUP(A1661,'Crete Monee Totals 5-8'!A:B,2,0)","v":4573},55224276.559999995,{"$f":"VLOOKUP(A1661,'AFR18'!A:L,12,0)","v":55224276.559999995},0]
[5927,17107.8,{"$f":"VLOOKUP(A1662,'Crete Monee Totals 5-8'!A:B,2,0)","v":1683},15424.8,{"$f":"VLOOKUP(A1662,'AFR18'!A:L,12,0)","v":15424.8},0]
[5928,2940,0,2940,{"$f":"VLOOKUP(A1663,'AFR18'!A:L,12,0)","v":2940},0]
[5929,10000,0,10000,{"$f":"VLOOKUP(A1664,'AFR18'!A:L,12,0)","v":10000},0]
[5930,22591,0,22591,{"$f":"VLOOKUP(A1665,'AFR18'!A:L,12,0)","v":22591},0]
[5931,52638.8,{"$f":"VLOOKUP(A1666,'Crete Monee Totals 5-8'!A:B,2,0)","v":1683},50955.8,{"$f":"VLOOKUP(A1666,'AFR18'!A:L,12,0)","v":50955.8},0]
[5932,2918421,{"$f":"VLOOKUP(A1667,'Crete Monee Totals 5-8'!A:B,2,0)","v":259},{"$f":"SUM(B1667-C1667)","v":2918162},{"$f":"VLOOKUP(A1667,'AFR18'!A:L,12,0)","v":2918162},{"$f":"SUM(D1667-E1667)","v":0}]
[5933,-173153,0,-173153,{"$f":"VLOOKUP(A1668,'AFR18'!A:L,12,0)","v":-173153},0]
[5934,2745268,{"$f":"VLOOKUP(A1669,'Crete Monee Totals 5-8'!A:B,2,0)","v":259},2745009,{"$f":"VLOOKUP(A1669,'AFR18'!A:L,12,0)","v":2745009},0]
[5936,16098,0,16098,{"$f":"VLOOKUP(A1670,'AFR18'!A:L,12,0)","v":16098},0]
[5937,54407,0,54407,{"$f":"VLOOKUP(A1671,'AFR18'!A:L,12,0)","v":54407},0]
[5938,230382,0,230382,{"$f":"VLOOKUP(A1672,'AFR18'!A:L,12,0)","v":230382},0]
[5939,475364,0,475364,{"$f":"VLOOKUP(A1673,'AFR18'!A:L,12,0)","v":475364},0]
[5945,475364,0,475364,{"$f":"VLOOKUP(A1674,'AFR18'!A:L,12,0)","v":475364},0]
[5953,500364,0,500364,{"$f":"VLOOKUP(A1675,'AFR18'!A:L,12,0)","v":500364},0]
[5962,58757502.359999999,{"$f":"VLOOKUP(A1676,'Crete Monee Totals 5-8'!A:B,2,0)","v":6515},58750987.359999999,{"$f":"VLOOKUP(A1676,'AFR18'!A:L,12,0)","v":58750987.359999999},0]
[5963,634963075.33999991,{"$f":"VLOOKUP(A1677,'Crete Monee Totals 5-8'!A:B,2,0)","v":1952601},633010474.33999991,{"$f":"VLOOKUP(A1677,'AFR18'!A:L,12,0)","v":633010474.33999991},0]
[5964,183466992.61000001,{"$f":"VLOOKUP(A1678,'Crete Monee Totals 5-8'!A:B,2,0)","v":27009},183439983.61000001,{"$f":"VLOOKUP(A1678,'AFR18'!A:L,12,0)","v":183439983.61000001},0]
[5965,92905180.310000002,{"$f":"VLOOKUP(A1679,'Crete Monee Totals 5-8'!A:B,2,0)","v":236522},92668658.310000002,{"$f":"VLOOKUP(A1679,'AFR18'!A:L,12,0)","v":92668658.310000002},0]
[5967,58257138.359999999,{"$f":"VLOOKUP(A1680,'Crete Monee Totals 5-8'!A:B,2,0)","v":6515},58250623.359999999,{"$f":"VLOOKUP(A1680,'AFR18'!A:L,12,0)","v":58250623.359999999},0]
[5970,137024027.72,{"$f":"VLOOKUP(A1681,'Crete Monee Totals 5-8'!A:B,2,0)","v":474562},136549465.72,{"$f":"VLOOKUP(A1681,'AFR18'!A:L,12,0)","v":136549465.72},0]
[5971,2520532,0,2520532,{"$f":"VLOOKUP(A1682,'AFR18'!A:L,12,0)","v":2520532},0]
[5974,55761667.499999993,{"$f":"VLOOKUP(A1683,'Crete Monee Totals 5-8'!A:B,2,0)","v":219161},55542506.499999993,{"$f":"VLOOKUP(A1683,'AFR18'!A:L,12,0)","v":55542506.499999993},0]
[6013,1795897.6899999981,{"$f":"VLOOKUP(A1684,'Crete Monee Totals 5-8'!A:B,2,0)","v":4351.46},1791546.2299999981,{"$f":"VLOOKUP(A1684,'AFR18'!A:L,12,0)","v":1791546.2299999981},0]
[6015,396099891,0,396099891,{"$f":"VLOOKUP(A1685,'AFR18'!A:L,12,0)","v":396099891},0]
[6016,6074500,0,6074500,{"$f":"VLOOKUP(A1686,'AFR18'!A:L,12,0)","v":6074500},0]
[6017,394497187,0,394497187,{"$f":"VLOOKUP(A1687,'AFR18'!A:L,12,0)","v":394497187},0]
[6018,7677204,0,7677204,{"$f":"VLOOKUP(A1688,'AFR18'!A:L,12,0)","v":7677204},0]
[6020,59419409,0,59419409,{"$f":"VLOOKUP(A1689,'AFR18'!A:L,12,0)","v":59419409},0]
[6021,32891331,0,32891331,{"$f":"VLOOKUP(A1690,'AFR18'!A:L,12,0)","v":32891331},0]
[6022,586973,0,586973,{"$f":"VLOOKUP(A1691,'AFR18'!A:L,12,0)","v":586973},0]
[6023,3408503,0,3408503,{"$f":"VLOOKUP(A1692,'AFR18'!A:L,12,0)","v":3408503},0]
[6024,569641,0,569641,{"$f":"VLOOKUP(A1693,'AFR18'!A:L,12,0)","v":569641},0]
[6025,615768,0,615768,{"$f":"VLOOKUP(A1694,'AFR18'!A:L,12,0)","v":615768},0]
[6026,42282890,0,42282890,{"$f":"VLOOKUP(A1695,'AFR18'!A:L,12,0)","v":42282890},0]
[6027,308635,0,308635,{"$f":"VLOOKUP(A1696,'AFR18'!A:L,12,0)","v":308635},0]
[6028,98208,0,98208,{"$f":"VLOOKUP(A1697,'AFR18'!A:L,12,0)","v":98208},0]
[6029,541440282,{"$f":"VLOOKUP(A1698,'Crete Monee Totals 5-8'!A:B,2,0)","v":757989},540682293,{"$f":"VLOOKUP(A1698,'AFR18'!A:L,12,0)","v":540682293},0]
[6030,6168796,0,6168796,{"$f":"VLOOKUP(A1699,'AFR18'!A:L,12,0)","v":6168796},0]
[6031,46274563,0,46274563,{"$f":"VLOOKUP(A1700,'AFR18'!A:L,12,0)","v":46274563},0]
[6032,134818430,{"$f":"VLOOKUP(A1701,'Crete Monee Totals 5-8'!A:B,2,0)","v":982773},133835657,{"$f":"VLOOKUP(A1701,'AFR18'!A:L,12,0)","v":133835657},0]
[6033,842754,0,842754,{"$f":"VLOOKUP(A1702,'AFR18'!A:L,12,0)","v":842754},0]
[6034,7919945,0,7919945,{"$f":"VLOOKUP(A1703,'AFR18'!A:L,12,0)","v":7919945},0]
[6035,13233739,0,13233739,{"$f":"VLOOKUP(A1704,'AFR18'!A:L,12,0)","v":13233739},0]
[6036,26,0,26,{"$f":"VLOOKUP(A1705,'AFR18'!A:L,12,0)","v":26},0]
[6038,43408202,0,43408202,{"$f":"VLOOKUP(A1706,'AFR18'!A:L,12,0)","v":43408202},0]
[6039,4023302,0,4023302,{"$f":"VLOOKUP(A1707,'AFR18'!A:L,12,0)","v":4023302},0]
[6040,833494,0,833494,{"$f":"VLOOKUP(A1708,'AFR18'!A:L,12,0)","v":833494},0]
[6041,4532239,0,4532239,{"$f":"VLOOKUP(A1709,'AFR18'!A:L,12,0)","v":4532239},0]
[6042,480959,0,480959,{"$f":"VLOOKUP(A1710,'AFR18'!A:L,12,0)","v":480959},0]
[6043,3880069,0,3880069,{"$f":"VLOOKUP(A1711,'AFR18'!A:L,12,0)","v":3880069},0]
[6044,2838161,0,2838161,{"$f":"VLOOKUP(A1712,'AFR18'!A:L,12,0)","v":2838161},0]
[6045,36397,0,36397,{"$f":"VLOOKUP(A1713,'AFR18'!A:L,12,0)","v":36397},0]
[6046,123279,0,123279,{"$f":"VLOOKUP(A1714,'AFR18'!A:L,12,0)","v":123279},0]
[6047,3044871,0,3044871,{"$f":"VLOOKUP(A1715,'AFR18'!A:L,12,0)","v":3044871},0]
[6049,223,0,223,{"$f":"VLOOKUP(A1716,'AFR18'!A:L,12,0)","v":223},0]
[6052,27033910,{"$f":"VLOOKUP(A1717,'Crete Monee Totals 5-8'!A:B,2,0)","v":69911},26963999,{"$f":"VLOOKUP(A1717,'AFR18'!A:L,12,0)","v":26963999},0]
[6053,1183384,0,1183384,{"$f":"VLOOKUP(A1718,'AFR18'!A:L,12,0)","v":1183384},0]
[6054,9279578,0,9279578,{"$f":"VLOOKUP(A1719,'AFR18'!A:L,12,0)","v":9279578},0]
[6055,2807942,0,2807942,{"$f":"VLOOKUP(A1720,'AFR18'!A:L,12,0)","v":2807942},0]
[6056,57075,0,57075,{"$f":"VLOOKUP(A1721,'AFR18'!A:L,12,0)","v":57075},0]
[6057,150825,0,150825,{"$f":"VLOOKUP(A1722,'AFR18'!A:L,12,0)","v":150825},0]
[6059,2546242,0,2546242,{"$f":"VLOOKUP(A1723,'AFR18'!A:L,12,0)","v":2546242},0]
[6062,691,0,691,{"$f":"VLOOKUP(A1724,'AFR18'!A:L,12,0)","v":691},0]
[6063,321514964.94,0,321514964.94,{"$f":"VLOOKUP(A1725,'AFR18'!A:L,12,0)","v":321514964.94},0]
[6064,41244931,0,41244931,{"$f":"VLOOKUP(A1726,'AFR18'!A:L,12,0)","v":41244931},0]
[6065,16661191,0,16661191,{"$f":"VLOOKUP(A1727,'AFR18'!A:L,12,0)","v":16661191},0]
[6066,4530630,0,4530630,{"$f":"VLOOKUP(A1728,'AFR18'!A:L,12,0)","v":4530630},0]
[6067,25468142,0,25468142,{"$f":"VLOOKUP(A1729,'AFR18'!A:L,12,0)","v":25468142},0]
[6068,5349622,0,5349622,{"$f":"VLOOKUP(A1730,'AFR18'!A:L,12,0)","v":5349622},0]
[6069,14605891,0,{"$f":"SUM(B1731-C1731)","v":14605891},{"$f":"VLOOKUP(A1731,'AFR18'!A:L,12,0)","v":14605891},{"$f":"SUM(D1731-E1731)","v":0}]
[6070,35295475,0,35295475,{"$f":"VLOOKUP(A1732,'AFR18'!A:L,12,0)","v":35295475},0]
[6071,2056950,0,2056950,{"$f":"VLOOKUP(A1733,'AFR18'!A:L,12,0)","v":2056950},0]
[6072,6940274,0,6940274,{"$f":"VLOOKUP(A1734,'AFR18'!A:L,12,0)","v":6940274},0]
[6073,1005135,0,1005135,{"$f":"VLOOKUP(A1735,'AFR18'!A:L,12,0)","v":1005135},0]
[6075,795076,0,795076,{"$f":"VLOOKUP(A1736,'AFR18'!A:L,12,0)","v":795076},0]
[6076,51743,0,51743,{"$f":"VLOOKUP(A1737,'AFR18'!A:L,12,0)","v":51743},0]
[6077,8973820,0,8973820,{"$f":"VLOOKUP(A1738,'AFR18'!A:L,12,0)","v":8973820},0]
[6078,2603,0,2603,{"$f":"VLOOKUP(A1739,'AFR18'!A:L,12,0)","v":2603},0]
[6081,719768648,{"$f":"VLOOKUP(A1740,'Crete Monee Totals 5-8'!A:B,2,0)","v":1143507},718625141,{"$f":"VLOOKUP(A1740,'AFR18'!A:L,12,0)","v":718625141},0]
[6082,84346179,{"$f":"VLOOKUP(A1741,'Crete Monee Totals 5-8'!A:B,2,0)","v":291145},84055034,{"$f":"VLOOKUP(A1741,'AFR18'!A:L,12,0)","v":84055034},0]
[6083,4361003,0,4361003,{"$f":"VLOOKUP(A1742,'AFR18'!A:L,12,0)","v":4361003},0]
[6084,25650569,{"$f":"VLOOKUP(A1743,'Crete Monee Totals 5-8'!A:B,2,0)","v":134154},25516415,{"$f":"VLOOKUP(A1743,'AFR18'!A:L,12,0)","v":25516415},0]
[6085,2602990,{"$f":"VLOOKUP(A1744,'Crete Monee Totals 5-8'!A:B,2,0)","v":47},2602943,{"$f":"VLOOKUP(A1744,'AFR18'!A:L,12,0)","v":2602943},0]
[6086,127441372,{"$f":"VLOOKUP(A1745,'Crete Monee Totals 5-8'!A:B,2,0)","v":1090022},126351350,{"$f":"VLOOKUP(A1745,'AFR18'!A:L,12,0)","v":126351350},0]
[6087,797239,0,797239,{"$f":"VLOOKUP(A1746,'AFR18'!A:L,12,0)","v":797239},0]
[6088,5300146,0,5300146,{"$f":"VLOOKUP(A1747,'AFR18'!A:L,12,0)","v":5300146},0]
[6089,14911041,0,14911041,{"$f":"VLOOKUP(A1748,'AFR18'!A:L,12,0)","v":14911041},0]
[6090,17909637,0,17909637,{"$f":"VLOOKUP(A1749,'AFR18'!A:L,12,0)","v":17909637},0]
[6091,5886022,0,5886022,{"$f":"VLOOKUP(A1750,'AFR18'!A:L,12,0)","v":5886022},0]
[6092,1250,0,1250,{"$f":"VLOOKUP(A1751,'AFR18'!A:L,12,0)","v":1250},0]
[6093,937785,0,937785,{"$f":"VLOOKUP(A1752,'AFR18'!A:L,12,0)","v":937785},0]
[6094,196148,0,196148,{"$f":"VLOOKUP(A1753,'AFR18'!A:L,12,0)","v":196148},0]
[6095,14975533,0,14975533,{"$f":"VLOOKUP(A1754,'AFR18'!A:L,12,0)","v":14975533},0]
[6097,19510,0,19510,{"$f":"VLOOKUP(A1755,'AFR18'!A:L,12,0)","v":19510},0]
[6098,120250,0,120250,{"$f":"VLOOKUP(A1756,'AFR18'!A:L,12,0)","v":120250},0]
[6099,13787050,0,13787050,{"$f":"VLOOKUP(A1757,'AFR18'!A:L,12,0)","v":13787050},0]
[6100,2183,0,2183,{"$f":"VLOOKUP(A1758,'AFR18'!A:L,12,0)","v":2183},0]
[6101,64839,0,64839,{"$f":"VLOOKUP(A1759,'AFR18'!A:L,12,0)","v":64839},0]
[6102,3114575,0,3114575,{"$f":"VLOOKUP(A1760,'AFR18'!A:L,12,0)","v":3114575},0]
[6104,4826350,0,4826350,{"$f":"VLOOKUP(A1761,'AFR18'!A:L,12,0)","v":4826350},0]
[6108,630064834,{"$f":"VLOOKUP(A1762,'Crete Monee Totals 5-8'!A:B,2,0)","v":2614715},627450119,{"$f":"VLOOKUP(A1762,'AFR18'!A:L,12,0)","v":627450119},0]
[6109,3194984,{"$f":"VLOOKUP(A1763,'Crete Monee Totals 5-8'!A:B,2,0)","v":4201},3190783,{"$f":"VLOOKUP(A1763,'AFR18'!A:L,12,0)","v":3190783},0]
[6111,2368819,{"$f":"VLOOKUP(A1764,'Crete Monee Totals 5-8'!A:B,2,0)","v":8},2368811,{"$f":"VLOOKUP(A1764,'AFR18'!A:L,12,0)","v":2368811},0]
[6112,6132972,0,6132972,{"$f":"VLOOKUP(A1765,'AFR18'!A:L,12,0)","v":6132972},0]
[6113,17008,0,17008,{"$f":"VLOOKUP(A1766,'AFR18'!A:L,12,0)","v":17008},0]
[6115,692857,0,692857,{"$f":"VLOOKUP(A1767,'AFR18'!A:L,12,0)","v":692857},0]
[6116,14716,0,14716,{"$f":"VLOOKUP(A1768,'AFR18'!A:L,12,0)","v":14716},0]
[6119,34076,0,34076,{"$f":"VLOOKUP(A1769,'AFR18'!A:L,12,0)","v":34076},0]
[6120,57898759,0,57898759,{"$f":"VLOOKUP(A1770,'AFR18'!A:L,12,0)","v":57898759},0]
[6121,48216156,0,48216156,{"$f":"VLOOKUP(A1771,'AFR18'!A:L,12,0)","v":48216156},0]
[6122,1500000,0,1500000,{"$f":"VLOOKUP(A1772,'AFR18'!A:L,12,0)","v":1500000},0]
[6130,99240823,0,99240823,{"$f":"VLOOKUP(A1773,'AFR18'!A:L,12,0)","v":99240823},0]
[6153,75903320,0,75903320,{"$f":"VLOOKUP(A1774,'AFR18'!A:L,12,0)","v":75903320},0]
[6154,146370821.78,0,146370821.78,{"$f":"VLOOKUP(A1775,'AFR18'!A:L,12,0)","v":146370821.78},0]
[6155,321514964.77999997,0,321514964.77999997,{"$f":"VLOOKUP(A1776,'AFR18'!A:L,12,0)","v":321514964.77999997},0]
[6156,197077214.94,0,197077214.94,{"$f":"VLOOKUP(A1777,'AFR18'!A:L,12,0)","v":197077214.94},0]
[6157,56347587,0,56347587,{"$f":"VLOOKUP(A1778,'AFR18'!A:L,12,0)","v":56347587},0]
[6158,65198172,0,65198172,{"$f":"VLOOKUP(A1779,'AFR18'!A:L,12,0)","v":65198172},0]
[6159,344492569.02999991,0,344492569.02999991,{"$f":"VLOOKUP(A1780,'AFR18'!A:L,12,0)","v":344492569.02999991},0]
[6160,5513371,0,5513371,{"$f":"VLOOKUP(A1781,'AFR18'!A:L,12,0)","v":5513371},0]
[6162,350005940.02999991,0,350005940.02999991,{"$f":"VLOOKUP(A1782,'AFR18'!A:L,12,0)","v":350005940.02999991},0]
[6163,7417186,0,7417186,{"$f":"VLOOKUP(A1783,'AFR18'!A:L,12,0)","v":7417186},0]
[6164,357423126.02999991,0,357423126.02999991,{"$f":"VLOOKUP(A1784,'AFR18'!A:L,12,0)","v":357423126.02999991},0]
[6165,31029,0,31029,{"$f":"VLOOKUP(A1785,'AFR18'!A:L,12,0)","v":31029},0]
[6166,366851717.16999996,0,366851717.16999996,{"$f":"VLOOKUP(A1786,'AFR18'!A:L,12,0)","v":366851717.16999996},0]
[6167,7417186,0,7417186,{"$f":"VLOOKUP(A1787,'AFR18'!A:L,12,0)","v":7417186},0]
[6168,374268903.16999996,0,374268903.16999996,{"$f":"VLOOKUP(A1788,'AFR18'!A:L,12,0)","v":374268903.16999996},0]
[6169,-16845777.140000001,0,-16845777.140000001,{"$f":"VLOOKUP(A1789,'AFR18'!A:L,12,0)","v":-16845777.140000001},0]
[6171,7793,0,7793,{"$f":"VLOOKUP(A1790,'AFR18'!A:L,12,0)","v":7793},0]
[6172,1000197,0,1000197,{"$f":"VLOOKUP(A1791,'AFR18'!A:L,12,0)","v":1000197},0]
[6176,17908,0,17908,{"$f":"VLOOKUP(A1792,'AFR18'!A:L,12,0)","v":17908},0]
[6177,1892798,0,1892798,{"$f":"VLOOKUP(A1793,'AFR18'!A:L,12,0)","v":1892798},0]
[6178,2866909,0,2866909,{"$f":"VLOOKUP(A1794,'AFR18'!A:L,12,0)","v":2866909},0]
[6179,11537228,0,{"$f":"SUM(B1795-C1795)","v":11537228},{"$f":"VLOOKUP(A1795,'AFR18'!A:L,12,0)","v":11537228},{"$f":"SUM(D1795-E1795)","v":0}]
[6180,3153335,0,3153335,{"$f":"VLOOKUP(A1796,'AFR18'!A:L,12,0)","v":3153335},0]
[6181,3470287,0,3470287,{"$f":"VLOOKUP(A1797,'AFR18'!A:L,12,0)","v":3470287},0]
[6182,1140727,0,1140727,{"$f":"VLOOKUP(A1798,'AFR18'!A:L,12,0)","v":1140727},0]
[6183,398105,0,398105,{"$f":"VLOOKUP(A1799,'AFR18'!A:L,12,0)","v":398105},0]
[6184,670231,0,670231,{"$f":"VLOOKUP(A1800,'AFR18'!A:L,12,0)","v":670231},0]
[6185,2231032,0,2231032,{"$f":"VLOOKUP(A1801,'AFR18'!A:L,12,0)","v":2231032},0]
[6186,3207546,0,3207546,{"$f":"VLOOKUP(A1802,'AFR18'!A:L,12,0)","v":3207546},0]
[6187,1048241,0,1048241,{"$f":"VLOOKUP(A1803,'AFR18'!A:L,12,0)","v":1048241},0]
[6188,4850284,0,4850284,{"$f":"VLOOKUP(A1804,'AFR18'!A:L,12,0)","v":4850284},0]
[6190,500000,0,500000,{"$f":"VLOOKUP(A1805,'AFR18'!A:L,12,0)","v":500000},0]
[6191,782766,{"$f":"VLOOKUP(A1806,'Crete Monee Totals 5-8'!A:B,2,0)","v":95576},687190,{"$f":"VLOOKUP(A1806,'AFR18'!A:L,12,0)","v":687190},0]
[6192,14127,0,14127,{"$f":"VLOOKUP(A1807,'AFR18'!A:L,12,0)","v":14127},0]
[6198,46412640,0,46412640,{"$f":"VLOOKUP(A1808,'AFR18'!A:L,12,0)","v":46412640},0]
[6199,2602928,0,2602928,{"$f":"VLOOKUP(A1809,'AFR18'!A:L,12,0)","v":2602928},0]
[6200,5469837,0,5469837,{"$f":"VLOOKUP(A1810,'AFR18'!A:L,12,0)","v":5469837},0]
[6201,-3577039,0,-3577039,{"$f":"VLOOKUP(A1811,'AFR18'!A:L,12,0)","v":-3577039},0]
[6202,-20422816.140000001,0,-20422816.140000001,{"$f":"VLOOKUP(A1812,'AFR18'!A:L,12,0)","v":-20422816.140000001},0]
[6203,242093776,0,242093776,{"$f":"VLOOKUP(A1813,'AFR18'!A:L,12,0)","v":242093776},0]
[6204,603182,0,603182,{"$f":"VLOOKUP(A1814,'AFR18'!A:L,12,0)","v":603182},0]
[6205,222274141.86000001,0,222274141.86000001,{"$f":"VLOOKUP(A1815,'AFR18'!A:L,12,0)","v":222274141.86000001},0]
[6206,1338270055.29,{"$f":"VLOOKUP(A1816,'Crete Monee Totals 5-8'!A:B,2,0)","v":-3483743},1341753798.29,{"$f":"VLOOKUP(A1816,'AFR18'!A:L,12,0)","v":1341753798.29},0]
[6207,40533654.850000001,{"$f":"VLOOKUP(A1817,'Crete Monee Totals 5-8'!A:B,2,0)","v":4942},40528712.850000001,{"$f":"VLOOKUP(A1817,'AFR18'!A:L,12,0)","v":40528712.850000001},0]
[6208,216894687.79999998,{"$f":"VLOOKUP(A1818,'Crete Monee Totals 5-8'!A:B,2,0)","v":124314},216770373.79999998,{"$f":"VLOOKUP(A1818,'AFR18'!A:L,12,0)","v":216770373.79999998},0]
[6209,126339300.53999999,{"$f":"VLOOKUP(A1819,'Crete Monee Totals 5-8'!A:B,2,0)","v":1739001},124600299.53999999,{"$f":"VLOOKUP(A1819,'AFR18'!A:L,12,0)","v":124600299.53999999},0]
[6210,25599609.439999998,{"$f":"VLOOKUP(A1820,'Crete Monee Totals 5-8'!A:B,2,0)","v":147666},25451943.439999998,{"$f":"VLOOKUP(A1820,'AFR18'!A:L,12,0)","v":25451943.439999998},0]
[6211,226959598.53999999,{"$f":"VLOOKUP(A1821,'Crete Monee Totals 5-8'!A:B,2,0)","v":-392962},227352560.53999999,{"$f":"VLOOKUP(A1821,'AFR18'!A:L,12,0)","v":227352560.53999999},0]
[6212,-1178094.6900000013,{"$f":"VLOOKUP(A1822,'Crete Monee Totals 5-8'!A:B,2,0)","v":236522},-1414616.6900000013,{"$f":"VLOOKUP(A1822,'AFR18'!A:L,12,0)","v":-1414616.6900000013},0]
[6213,-19819634.140000001,0,-19819634.140000001,{"$f":"VLOOKUP(A1823,'AFR18'!A:L,12,0)","v":-19819634.140000001},0]
[6214,2830083.3100000005,{"$f":"VLOOKUP(A1824,'Crete Monee Totals 5-8'!A:B,2,0)","v":6515},2823568.3100000005,{"$f":"VLOOKUP(A1824,'AFR18'!A:L,12,0)","v":2823568.3100000005},0]
[6215,172.66643963388918,{"$f":"VLOOKUP(A1825,'Crete Monee Totals 5-8'!A:B,2,0)","v":-0.31602110240537601},172.98246073629457,{"$f":"VLOOKUP(A1825,'AFR18'!A:L,12,0)","v":172.98246073629457},0]
[6216,-8587304094.0966587,{"$f":"VLOOKUP(A1826,'Crete Monee Totals 5-8'!A:B,2,0)","v":1.21176901848426E-3},-8587304094.0978708,{"$f":"VLOOKUP(A1826,'AFR18'!A:L,12,0)","v":-8587304094.0978708},0]
[6217,-128809632907.78676,{"$f":"VLOOKUP(A1827,'Crete Monee Totals 5-8'!A:B,2,0)","v":2.7819899528435301E-2},-128809632907.81458,{"$f":"VLOOKUP(A1827,'AFR18'!A:L,12,0)","v":-128809632907.81458},0]
[6218,-6440478645.8415146,{"$f":"VLOOKUP(A1828,'Crete Monee Totals 5-8'!A:B,2,0)","v":0.19691189335828699},-6440478646.0384264,{"$f":"VLOOKUP(A1828,'AFR18'!A:L,12,0)","v":-6440478646.0384264},0]
[6219,-6440479191.6625013,{"$f":"VLOOKUP(A1829,'Crete Monee Totals 5-8'!A:B,2,0)","v":0.109174144389989},-6440479191.7716751,{"$f":"VLOOKUP(A1829,'AFR18'!A:L,12,0)","v":-6440479191.7716751},0]
[6220,-543147063037.55463,{"$f":"VLOOKUP(A1830,'Crete Monee Totals 5-8'!A:B,2,0)","v":-0.1621355774297},-543147063037.39252,{"$f":"VLOOKUP(A1830,'AFR18'!A:L,12,0)","v":-543147063037.39252},0]
[6221,-85873051392.301636,{"$f":"VLOOKUP(A1831,'Crete Monee Totals 5-8'!A:B,2,0)","v":0.192920752426987},-85873051392.494553,{"$f":"VLOOKUP(A1831,'AFR18'!A:L,12,0)","v":-85873051392.494553},0]
[6222,-272646937869.50998,{"$f":"VLOOKUP(A1832,'Crete Monee Totals 5-8'!A:B,2,0)","v":-2146826281},-270500111588.50998,{"$f":"VLOOKUP(A1832,'AFR18'!A:L,12,0)","v":-270500111588.50998},0]
[6223,-311289818702.1109,{"$f":"VLOOKUP(A1833,'Crete Monee Totals 5-8'!A:B,2,0)","v":0.33030825390387297},-311289818702.44122,{"$f":"VLOOKUP(A1833,'AFR18'!A:L,12,0)","v":-311289818702.44122},0]
[6224,63657582,0,63657582,{"$f":"VLOOKUP(A1834,'AFR18'!A:L,12,0)","v":63657582},0]
[6225,4073256,0,4073256,{"$f":"VLOOKUP(A1835,'AFR18'!A:L,12,0)","v":4073256},0]
[6226,37253089,0,37253089,{"$f":"VLOOKUP(A1836,'AFR18'!A:L,12,0)","v":37253089},0]
[6227,16133922,0,16133922,{"$f":"VLOOKUP(A1837,'AFR18'!A:L,12,0)","v":16133922},0]
[6228,350706755,0,350706755,{"$f":"VLOOKUP(A1838,'AFR18'!A:L,12,0)","v":350706755},0]
[6229,2228850,0,2228850,{"$f":"VLOOKUP(A1839,'AFR18'!A:L,12,0)","v":2228850},0]
[6231,377894,0,377894,{"$f":"VLOOKUP(A1840,'AFR18'!A:L,12,0)","v":377894},0]
[6236,182272,0,182272,{"$f":"VLOOKUP(A1841,'AFR18'!A:L,12,0)","v":182272},0]
[6237,336663561.00999999,0,336663561.00999999,{"$f":"VLOOKUP(A1842,'AFR18'!A:L,12,0)","v":336663561.00999999},0]
[6239,415238,0,415238,{"$f":"VLOOKUP(A1843,'AFR18'!A:L,12,0)","v":415238},0]
[6240,337078799.00999999,0,337078799.00999999,{"$f":"VLOOKUP(A1844,'AFR18'!A:L,12,0)","v":337078799.00999999},0]
[6241,117082.29,0,117082.29,{"$f":"VLOOKUP(A1845,'AFR18'!A:L,12,0)","v":117082.29},0]
[6242,19439,0,19439,{"$f":"VLOOKUP(A1846,'AFR18'!A:L,12,0)","v":19439},0]
[6243,1617577,0,1617577,{"$f":"VLOOKUP(A1847,'AFR18'!A:L,12,0)","v":1617577},0]
[6244,35743,0,35743,{"$f":"VLOOKUP(A1848,'AFR18'!A:L,12,0)","v":35743},0]
[6245,1789841.29,0,1789841.29,{"$f":"VLOOKUP(A1849,'AFR18'!A:L,12,0)","v":1789841.29},0]
[6246,444886,0,444886,{"$f":"VLOOKUP(A1850,'AFR18'!A:L,12,0)","v":444886},0]
[6249,50790,0,50790,{"$f":"VLOOKUP(A1851,'AFR18'!A:L,12,0)","v":50790},0]
[6250,174691,0,174691,{"$f":"VLOOKUP(A1852,'AFR18'!A:L,12,0)","v":174691},0]
[6251,42183,0,42183,{"$f":"VLOOKUP(A1853,'AFR18'!A:L,12,0)","v":42183},0]
[6255,2106532,0,2106532,{"$f":"VLOOKUP(A1854,'AFR18'!A:L,12,0)","v":2106532},0]
[6256,-124706,0,-124706,{"$f":"VLOOKUP(A1855,'AFR18'!A:L,12,0)","v":-124706},0]
[6257,1981826,0,1981826,{"$f":"VLOOKUP(A1856,'AFR18'!A:L,12,0)","v":1981826},0]
[6258,2802,0,2802,{"$f":"VLOOKUP(A1857,'AFR18'!A:L,12,0)","v":2802},0]
[6259,1407073,0,1407073,{"$f":"VLOOKUP(A1858,'AFR18'!A:L,12,0)","v":1407073},0]
[6260,2740217.14,0,{"$f":"SUM(B1859-C1859)","v":2740217.14},{"$f":"VLOOKUP(A1859,'AFR18'!A:L,12,0)","v":2740217.14},{"$f":"SUM(D1859-E1859)","v":0}]
[6261,520000,0,520000,{"$f":"VLOOKUP(A1860,'AFR18'!A:L,12,0)","v":520000},0]
[6262,7087,0,7087,{"$f":"VLOOKUP(A1861,'AFR18'!A:L,12,0)","v":7087},0]
[6264,7767287,{"$f":"VLOOKUP(A1862,'Crete Monee Totals 5-8'!A:B,2,0)","v":22964},7744323,{"$f":"VLOOKUP(A1862,'AFR18'!A:L,12,0)","v":7744323},0]
[6268,1677598,0,1677598,{"$f":"VLOOKUP(A1863,'AFR18'!A:L,12,0)","v":1677598},0]
[6269,138774696,0,138774696,{"$f":"VLOOKUP(A1864,'AFR18'!A:L,12,0)","v":138774696},0]
[6270,8329878,0,8329878,{"$f":"VLOOKUP(A1865,'AFR18'!A:L,12,0)","v":8329878},0]
[6271,2645511,0,2645511,{"$f":"VLOOKUP(A1866,'AFR18'!A:L,12,0)","v":2645511},0]
[6272,180208,0,180208,{"$f":"VLOOKUP(A1867,'AFR18'!A:L,12,0)","v":180208},0]
[6273,184603,0,184603,{"$f":"VLOOKUP(A1868,'AFR18'!A:L,12,0)","v":184603},0]
[6274,9933371,0,9933371,{"$f":"VLOOKUP(A1869,'AFR18'!A:L,12,0)","v":9933371},0]
[6275,109937,0,109937,{"$f":"VLOOKUP(A1870,'AFR18'!A:L,12,0)","v":109937},0]
[6276,128260,0,128260,{"$f":"VLOOKUP(A1871,'AFR18'!A:L,12,0)","v":128260},0]
[6277,124975,0,124975,{"$f":"VLOOKUP(A1872,'AFR18'!A:L,12,0)","v":124975},0]
[6278,7478192,{"$f":"VLOOKUP(A1873,'Crete Monee Totals 5-8'!A:B,2,0)","v":21475},7456717,{"$f":"VLOOKUP(A1873,'AFR18'!A:L,12,0)","v":7456717},0]
[6279,2231902,0,2231902,{"$f":"VLOOKUP(A1874,'AFR18'!A:L,12,0)","v":2231902},0]
[6280,2676962,0,2676962,{"$f":"VLOOKUP(A1875,'AFR18'!A:L,12,0)","v":2676962},0]
[6281,173305,0,173305,{"$f":"VLOOKUP(A1876,'AFR18'!A:L,12,0)","v":173305},0]
[6284,104244,0,104244,{"$f":"VLOOKUP(A1877,'AFR18'!A:L,12,0)","v":104244},0]
[6288,234735,0,234735,{"$f":"VLOOKUP(A1878,'AFR18'!A:L,12,0)","v":234735},0]
[6289,1833003.7300000002,0,1833003.7300000002,{"$f":"VLOOKUP(A1879,'AFR18'!A:L,12,0)","v":1833003.7300000002},0]
[6290,3642102.73,0,3642102.73,{"$f":"VLOOKUP(A1880,'AFR18'!A:L,12,0)","v":3642102.73},0]
[6291,344492569.02999991,0,344492569.02999991,{"$f":"VLOOKUP(A1881,'AFR18'!A:L,12,0)","v":344492569.02999991},0]
[6292,5512259,0,5512259,{"$f":"VLOOKUP(A1882,'AFR18'!A:L,12,0)","v":5512259},0]
[6296,5512259,0,5512259,{"$f":"VLOOKUP(A1883,'AFR18'!A:L,12,0)","v":5512259},0]
[6297,4923,0,4923,{"$f":"VLOOKUP(A1884,'AFR18'!A:L,12,0)","v":4923},0]
[6298,1836317,0,1836317,{"$f":"VLOOKUP(A1885,'AFR18'!A:L,12,0)","v":1836317},0]
[6300,89,0,89,{"$f":"VLOOKUP(A1886,'AFR18'!A:L,12,0)","v":89},0]
[6301,46798,0,46798,{"$f":"VLOOKUP(A1887,'AFR18'!A:L,12,0)","v":46798},0]
[6304,87582,0,87582,{"$f":"VLOOKUP(A1888,'AFR18'!A:L,12,0)","v":87582},0]
[6321,1681,0,1681,{"$f":"VLOOKUP(A1889,'AFR18'!A:L,12,0)","v":1681},0]
[6327,151432,0,151432,{"$f":"VLOOKUP(A1890,'AFR18'!A:L,12,0)","v":151432},0]
[6334,1112,0,1112,{"$f":"VLOOKUP(A1891,'AFR18'!A:L,12,0)","v":1112},0]
[6335,1112,0,1112,{"$f":"VLOOKUP(A1892,'AFR18'!A:L,12,0)","v":1112},0]
[6336,5513371,0,5513371,{"$f":"VLOOKUP(A1893,'AFR18'!A:L,12,0)","v":5513371},0]
[6340,188604,0,188604,{"$f":"VLOOKUP(A1894,'AFR18'!A:L,12,0)","v":188604},0]
[6353,1414796,0,1414796,{"$f":"VLOOKUP(A1895,'AFR18'!A:L,12,0)","v":1414796},0]
[6605,14557,0,14557,{"$f":"VLOOKUP(A1896,'AFR18'!A:L,12,0)","v":14557},0]
[6651,1162753,0,1162753,{"$f":"VLOOKUP(A1897,'AFR18'!A:L,12,0)","v":1162753},0]
[6652,193446,0,193446,{"$f":"VLOOKUP(A1898,'AFR18'!A:L,12,0)","v":193446},0]
[6653,1380914,0,1380914,{"$f":"VLOOKUP(A1899,'AFR18'!A:L,12,0)","v":1380914},0]
[6660,2204118,0,2204118,{"$f":"VLOOKUP(A1900,'AFR18'!A:L,12,0)","v":2204118},0]
[6661,11321650,0,11321650,{"$f":"VLOOKUP(A1901,'AFR18'!A:L,12,0)","v":11321650},0]
[6666,185428654.94,{"$f":"VLOOKUP(A1902,'Crete Monee Totals 5-8'!A:B,2,0)","v":102466},185326188.94,{"$f":"VLOOKUP(A1902,'AFR18'!A:L,12,0)","v":185326188.94},0]
[6670,1770463,0,1770463,{"$f":"VLOOKUP(A1903,'AFR18'!A:L,12,0)","v":1770463},0]
[6676,342813,0,342813,{"$f":"VLOOKUP(A1904,'AFR18'!A:L,12,0)","v":342813},0]
[6678,34162841,0,34162841,{"$f":"VLOOKUP(A1905,'AFR18'!A:L,12,0)","v":34162841},0]
[6681,340553,0,340553,{"$f":"VLOOKUP(A1906,'AFR18'!A:L,12,0)","v":340553},0]
[6772,1520123,0,1520123,{"$f":"VLOOKUP(A1907,'AFR18'!A:L,12,0)","v":1520123},0]
[6773,2397564,0,2397564,{"$f":"VLOOKUP(A1908,'AFR18'!A:L,12,0)","v":2397564},0]
[6774,48635868,0,48635868,{"$f":"VLOOKUP(A1909,'AFR18'!A:L,12,0)","v":48635868},0]
[6777,340553,0,340553,{"$f":"VLOOKUP(A1910,'AFR18'!A:L,12,0)","v":340553},0]
[6780,9684,0,9684,{"$f":"VLOOKUP(A1911,'AFR18'!A:L,12,0)","v":9684},0]
[6783,32723468,{"$f":"VLOOKUP(A1912,'Crete Monee Totals 5-8'!A:B,2,0)","v":13160},32710308,{"$f":"VLOOKUP(A1912,'AFR18'!A:L,12,0)","v":32710308},0]
[6784,17257721,{"$f":"VLOOKUP(A1913,'Crete Monee Totals 5-8'!A:B,2,0)","v":12079},17245642,{"$f":"VLOOKUP(A1913,'AFR18'!A:L,12,0)","v":17245642},0]
[6785,2644749,0,2644749,{"$f":"VLOOKUP(A1914,'AFR18'!A:L,12,0)","v":2644749},0]
[6786,260368,0,260368,{"$f":"VLOOKUP(A1915,'AFR18'!A:L,12,0)","v":260368},0]
[6787,262379036.94,{"$f":"VLOOKUP(A1916,'Crete Monee Totals 5-8'!A:B,2,0)","v":119212},262259824.94,{"$f":"VLOOKUP(A1916,'AFR18'!A:L,12,0)","v":262259824.94},0]
[6788,1915071,{"$f":"VLOOKUP(A1917,'Crete Monee Totals 5-8'!A:B,2,0)","v":14841},1900230,{"$f":"VLOOKUP(A1917,'AFR18'!A:L,12,0)","v":1900230},0]
[6789,3426393,0,3426393,{"$f":"VLOOKUP(A1918,'AFR18'!A:L,12,0)","v":3426393},0]
[6790,40845,{"$f":"VLOOKUP(A1919,'Crete Monee Totals 5-8'!A:B,2,0)","v":71},40774,{"$f":"VLOOKUP(A1919,'AFR18'!A:L,12,0)","v":40774},0]
[6791,51187,0,51187,{"$f":"VLOOKUP(A1920,'AFR18'!A:L,12,0)","v":51187},0]
[6792,103488400.37,{"$f":"VLOOKUP(A1921,'Crete Monee Totals 5-8'!A:B,2,0)","v":621225},102867175.37,{"$f":"VLOOKUP(A1921,'AFR18'!A:L,12,0)","v":102867175.37},0]
[6793,4395861,{"$f":"VLOOKUP(A1922,'Crete Monee Totals 5-8'!A:B,2,0)","v":68306},4327555,{"$f":"VLOOKUP(A1922,'AFR18'!A:L,12,0)","v":4327555},0]
[6794,11765,0,{"$f":"SUM(B1923-C1923)","v":11765},{"$f":"VLOOKUP(A1923,'AFR18'!A:L,12,0)","v":11765},{"$f":"SUM(D1923-E1923)","v":0}]
[6795,4530,0,4530,{"$f":"VLOOKUP(A1924,'AFR18'!A:L,12,0)","v":4530},0]
[6797,13787086,0,13787086,{"$f":"VLOOKUP(A1925,'AFR18'!A:L,12,0)","v":13787086},0]
[6798,9639,0,9639,{"$f":"VLOOKUP(A1926,'AFR18'!A:L,12,0)","v":9639},0]
[6799,6038,0,6038,{"$f":"VLOOKUP(A1927,'AFR18'!A:L,12,0)","v":6038},0]
[6800,3807079,0,3807079,{"$f":"VLOOKUP(A1928,'AFR18'!A:L,12,0)","v":3807079},0]
[6801,135316,0,135316,{"$f":"VLOOKUP(A1929,'AFR18'!A:L,12,0)","v":135316},0]
[6802,1626475,0,1626475,{"$f":"VLOOKUP(A1930,'AFR18'!A:L,12,0)","v":1626475},0]
[6803,42055,{"$f":"VLOOKUP(A1931,'Crete Monee Totals 5-8'!A:B,2,0)","v":1571},40484,{"$f":"VLOOKUP(A1931,'AFR18'!A:L,12,0)","v":40484},0]
[6806,5564,0,5564,{"$f":"VLOOKUP(A1932,'AFR18'!A:L,12,0)","v":5564},0]
[6807,6811,0,6811,{"$f":"VLOOKUP(A1933,'AFR18'!A:L,12,0)","v":6811},0]
[6808,456,0,456,{"$f":"VLOOKUP(A1934,'AFR18'!A:L,12,0)","v":456},0]
[6809,6031,0,6031,{"$f":"VLOOKUP(A1935,'AFR18'!A:L,12,0)","v":6031},0]
[6810,47418145.890000001,{"$f":"VLOOKUP(A1936,'Crete Monee Totals 5-8'!A:B,2,0)","v":155215},47262930.890000001,{"$f":"VLOOKUP(A1936,'AFR18'!A:L,12,0)","v":47262930.890000001},0]
[6811,65477,0,65477,{"$f":"VLOOKUP(A1937,'AFR18'!A:L,12,0)","v":65477},0]
[6812,397695,0,397695,{"$f":"VLOOKUP(A1938,'AFR18'!A:L,12,0)","v":397695},0]
[6813,7516,0,7516,{"$f":"VLOOKUP(A1939,'AFR18'!A:L,12,0)","v":7516},0]
[6814,17392,0,17392,{"$f":"VLOOKUP(A1940,'AFR18'!A:L,12,0)","v":17392},0]
[6815,5189,0,5189,{"$f":"VLOOKUP(A1941,'AFR18'!A:L,12,0)","v":5189},0]
[6816,5189,0,5189,{"$f":"VLOOKUP(A1942,'AFR18'!A:L,12,0)","v":5189},0]
[6817,9363481,0,9363481,{"$f":"VLOOKUP(A1943,'AFR18'!A:L,12,0)","v":9363481},0]
[6818,9363481,0,9363481,{"$f":"VLOOKUP(A1944,'AFR18'!A:L,12,0)","v":9363481},0]
[6819,285187645,{"$f":"VLOOKUP(A1945,'Crete Monee Totals 5-8'!A:B,2,0)","v":2447359},282740286,{"$f":"VLOOKUP(A1945,'AFR18'!A:L,12,0)","v":282740286},0]
[6820,285187645,{"$f":"VLOOKUP(A1946,'Crete Monee Totals 5-8'!A:B,2,0)","v":2447359},282740286,{"$f":"VLOOKUP(A1946,'AFR18'!A:L,12,0)","v":282740286},0]
[6821,1743072,0,1743072,{"$f":"VLOOKUP(A1947,'AFR18'!A:L,12,0)","v":1743072},0]
[6822,1743072,0,1743072,{"$f":"VLOOKUP(A1948,'AFR18'!A:L,12,0)","v":1743072},0]
[6823,255270,0,255270,{"$f":"VLOOKUP(A1949,'AFR18'!A:L,12,0)","v":255270},0]
[6824,255270,0,255270,{"$f":"VLOOKUP(A1950,'AFR18'!A:L,12,0)","v":255270},0]
[6827,37515,0,37515,{"$f":"VLOOKUP(A1951,'AFR18'!A:L,12,0)","v":37515},0]
[6828,37515,0,37515,{"$f":"VLOOKUP(A1952,'AFR18'!A:L,12,0)","v":37515},0]
[6829,1474533,0,1474533,{"$f":"VLOOKUP(A1953,'AFR18'!A:L,12,0)","v":1474533},0]
[6830,1474533,0,1474533,{"$f":"VLOOKUP(A1954,'AFR18'!A:L,12,0)","v":1474533},0]
[6833,978527,0,978527,{"$f":"VLOOKUP(A1955,'AFR18'!A:L,12,0)","v":978527},0]
[6834,978527,0,978527,{"$f":"VLOOKUP(A1956,'AFR18'!A:L,12,0)","v":978527},0]
[6835,18386,0,18386,{"$f":"VLOOKUP(A1957,'AFR18'!A:L,12,0)","v":18386},0]
[6836,18386,0,18386,{"$f":"VLOOKUP(A1958,'AFR18'!A:L,12,0)","v":18386},0]
[6839,1128041,0,1128041,{"$f":"VLOOKUP(A1959,'AFR18'!A:L,12,0)","v":1128041},0]
[6840,1128041,0,1128041,{"$f":"VLOOKUP(A1960,'AFR18'!A:L,12,0)","v":1128041},0]
[6841,47246730,{"$f":"VLOOKUP(A1961,'Crete Monee Totals 5-8'!A:B,2,0)","v":96378},47150352,{"$f":"VLOOKUP(A1961,'AFR18'!A:L,12,0)","v":47150352},0]
[6842,21618772,{"$f":"VLOOKUP(A1962,'Crete Monee Totals 5-8'!A:B,2,0)","v":13650},21605122,{"$f":"VLOOKUP(A1962,'AFR18'!A:L,12,0)","v":21605122},0]
[6843,126742,0,126742,{"$f":"VLOOKUP(A1963,'AFR18'!A:L,12,0)","v":126742},0]
[6844,406199,0,406199,{"$f":"VLOOKUP(A1964,'AFR18'!A:L,12,0)","v":406199},0]
[6845,67976,0,67976,{"$f":"VLOOKUP(A1965,'AFR18'!A:L,12,0)","v":67976},0]
[6846,713674,0,713674,{"$f":"VLOOKUP(A1966,'AFR18'!A:L,12,0)","v":713674},0]
[6847,265861,{"$f":"VLOOKUP(A1967,'Crete Monee Totals 5-8'!A:B,2,0)","v":38844},227017,{"$f":"VLOOKUP(A1967,'AFR18'!A:L,12,0)","v":227017},0]
[6848,177306,0,177306,{"$f":"VLOOKUP(A1968,'AFR18'!A:L,12,0)","v":177306},0]
[6849,24108,0,24108,{"$f":"VLOOKUP(A1969,'AFR18'!A:L,12,0)","v":24108},0]
[6850,252029,0,252029,{"$f":"VLOOKUP(A1970,'AFR18'!A:L,12,0)","v":252029},0]
[6851,70112,0,70112,{"$f":"VLOOKUP(A1971,'AFR18'!A:L,12,0)","v":70112},0]
[6852,252621,0,252621,{"$f":"VLOOKUP(A1972,'AFR18'!A:L,12,0)","v":252621},0]
[6853,125688,0,125688,{"$f":"VLOOKUP(A1973,'AFR18'!A:L,12,0)","v":125688},0]
[6854,110171,0,110171,{"$f":"VLOOKUP(A1974,'AFR18'!A:L,12,0)","v":110171},0]
[6855,680487,{"$f":"VLOOKUP(A1975,'Crete Monee Totals 5-8'!A:B,2,0)","v":38844},641643,{"$f":"VLOOKUP(A1975,'AFR18'!A:L,12,0)","v":641643},0]
[6856,1912000,0,1912000,{"$f":"VLOOKUP(A1976,'AFR18'!A:L,12,0)","v":1912000},0]
[6857,5960829,0,5960829,{"$f":"VLOOKUP(A1977,'AFR18'!A:L,12,0)","v":5960829},0]
[6858,654563,0,654563,{"$f":"VLOOKUP(A1978,'AFR18'!A:L,12,0)","v":654563},0]
[6859,12420830,0,12420830,{"$f":"VLOOKUP(A1979,'AFR18'!A:L,12,0)","v":12420830},0]
[6860,239002,0,239002,{"$f":"VLOOKUP(A1980,'AFR18'!A:L,12,0)","v":239002},0]
[6861,327713,0,327713,{"$f":"VLOOKUP(A1981,'AFR18'!A:L,12,0)","v":327713},0]
[6862,9163,0,9163,{"$f":"VLOOKUP(A1982,'AFR18'!A:L,12,0)","v":9163},0]
[6863,18709372,0,18709372,{"$f":"VLOOKUP(A1983,'AFR18'!A:L,12,0)","v":18709372},0]
[6864,902728,0,902728,{"$f":"VLOOKUP(A1984,'AFR18'!A:L,12,0)","v":902728},0]
[6865,88893,0,88893,{"$f":"VLOOKUP(A1985,'AFR18'!A:L,12,0)","v":88893},0]
[6866,972783,0,972783,{"$f":"VLOOKUP(A1986,'AFR18'!A:L,12,0)","v":972783},0]
[6867,203409,0,{"$f":"SUM(B1987-C1987)","v":203409},{"$f":"VLOOKUP(A1987,'AFR18'!A:L,12,0)","v":203409},{"$f":"SUM(D1987-E1987)","v":0}]
[6868,88106,0,88106,{"$f":"VLOOKUP(A1988,'AFR18'!A:L,12,0)","v":88106},0]
[6869,154295,0,154295,{"$f":"VLOOKUP(A1989,'AFR18'!A:L,12,0)","v":154295},0]
[6870,56073,0,56073,{"$f":"VLOOKUP(A1990,'AFR18'!A:L,12,0)","v":56073},0]
[6871,1485285,0,1485285,{"$f":"VLOOKUP(A1991,'AFR18'!A:L,12,0)","v":1485285},0]
[6872,2427614,{"$f":"VLOOKUP(A1992,'Crete Monee Totals 5-8'!A:B,2,0)","v":141971},2285643,{"$f":"VLOOKUP(A1992,'AFR18'!A:L,12,0)","v":2285643},0]
[6873,16488900,{"$f":"VLOOKUP(A1993,'Crete Monee Totals 5-8'!A:B,2,0)","v":688155},15800745,{"$f":"VLOOKUP(A1993,'AFR18'!A:L,12,0)","v":15800745},0]
[6874,5058,0,5058,{"$f":"VLOOKUP(A1994,'AFR18'!A:L,12,0)","v":5058},0]
[6875,3344,0,3344,{"$f":"VLOOKUP(A1995,'AFR18'!A:L,12,0)","v":3344},0]
[6876,1271799,0,1271799,{"$f":"VLOOKUP(A1996,'AFR18'!A:L,12,0)","v":1271799},0]
[6879,21682000,{"$f":"VLOOKUP(A1997,'Crete Monee Totals 5-8'!A:B,2,0)","v":830126},20851874,{"$f":"VLOOKUP(A1997,'AFR18'!A:L,12,0)","v":20851874},0]
[6880,20515454,0,20515454,{"$f":"VLOOKUP(A1998,'AFR18'!A:L,12,0)","v":20515454},0]
[6881,446597,0,446597,{"$f":"VLOOKUP(A1999,'AFR18'!A:L,12,0)","v":446597},0]
[6882,1116962,0,1116962,{"$f":"VLOOKUP(A2000,'AFR18'!A:L,12,0)","v":1116962},0]
[6883,1932663,0,1932663,{"$f":"VLOOKUP(A2001,'AFR18'!A:L,12,0)","v":1932663},0]
[6884,1750685,{"$f":"VLOOKUP(A2002,'Crete Monee Totals 5-8'!A:B,2,0)","v":821},1749864,{"$f":"VLOOKUP(A2002,'AFR18'!A:L,12,0)","v":1749864},0]
[6885,1144,0,1144,{"$f":"VLOOKUP(A2003,'AFR18'!A:L,12,0)","v":1144},0]
[6886,3083,0,3083,{"$f":"VLOOKUP(A2004,'AFR18'!A:L,12,0)","v":3083},0]
[6887,1933807,0,1933807,{"$f":"VLOOKUP(A2005,'AFR18'!A:L,12,0)","v":1933807},0]
[6888,1753768,{"$f":"VLOOKUP(A2006,'Crete Monee Totals 5-8'!A:B,2,0)","v":821},1752947,{"$f":"VLOOKUP(A2006,'AFR18'!A:L,12,0)","v":1752947},0]
[6889,358835,{"$f":"VLOOKUP(A2007,'Crete Monee Totals 5-8'!A:B,2,0)","v":296836},61999,{"$f":"VLOOKUP(A2007,'AFR18'!A:L,12,0)","v":61999},0]
[6890,60080,0,60080,{"$f":"VLOOKUP(A2008,'AFR18'!A:L,12,0)","v":60080},0]
[6891,123161,0,123161,{"$f":"VLOOKUP(A2009,'AFR18'!A:L,12,0)","v":123161},0]
[6892,327116,{"$f":"VLOOKUP(A2010,'Crete Monee Totals 5-8'!A:B,2,0)","v":2653},324463,{"$f":"VLOOKUP(A2010,'AFR18'!A:L,12,0)","v":324463},0]
[6893,1175763,0,1175763,{"$f":"VLOOKUP(A2011,'AFR18'!A:L,12,0)","v":1175763},0]
[6894,155124,0,155124,{"$f":"VLOOKUP(A2012,'AFR18'!A:L,12,0)","v":155124},0]
[6895,2366,0,2366,{"$f":"VLOOKUP(A2013,'AFR18'!A:L,12,0)","v":2366},0]
[6896,142398,0,142398,{"$f":"VLOOKUP(A2014,'AFR18'!A:L,12,0)","v":142398},0]
[6897,1700647,{"$f":"VLOOKUP(A2015,'Crete Monee Totals 5-8'!A:B,2,0)","v":30735},1669912,{"$f":"VLOOKUP(A2015,'AFR18'!A:L,12,0)","v":1669912},0]
[6898,548483,0,548483,{"$f":"VLOOKUP(A2016,'AFR18'!A:L,12,0)","v":548483},0]
[6899,46799,0,46799,{"$f":"VLOOKUP(A2017,'AFR18'!A:L,12,0)","v":46799},0]
[6900,3408841,{"$f":"VLOOKUP(A2018,'Crete Monee Totals 5-8'!A:B,2,0)","v":327571},3081270,{"$f":"VLOOKUP(A2018,'AFR18'!A:L,12,0)","v":3081270},0]
[6901,1280000,{"$f":"VLOOKUP(A2019,'Crete Monee Totals 5-8'!A:B,2,0)","v":2653},1277347,{"$f":"VLOOKUP(A2019,'AFR18'!A:L,12,0)","v":1277347},0]
[6902,212058,0,212058,{"$f":"VLOOKUP(A2020,'AFR18'!A:L,12,0)","v":212058},0]
[6903,15597,0,15597,{"$f":"VLOOKUP(A2021,'AFR18'!A:L,12,0)","v":15597},0]
[6904,4228,0,4228,{"$f":"VLOOKUP(A2022,'AFR18'!A:L,12,0)","v":4228},0]
[6905,28985,0,28985,{"$f":"VLOOKUP(A2023,'AFR18'!A:L,12,0)","v":28985},0]
[6906,2756747,0,2756747,{"$f":"VLOOKUP(A2024,'AFR18'!A:L,12,0)","v":2756747},0]
[6907,26459,0,26459,{"$f":"VLOOKUP(A2025,'AFR18'!A:L,12,0)","v":26459},0]
[6908,35541,0,35541,{"$f":"VLOOKUP(A2026,'AFR18'!A:L,12,0)","v":35541},0]
[6909,2445206,{"$f":"VLOOKUP(A2027,'Crete Monee Totals 5-8'!A:B,2,0)","v":1813},2443393,{"$f":"VLOOKUP(A2027,'AFR18'!A:L,12,0)","v":2443393},0]
[6910,19932744,{"$f":"VLOOKUP(A2028,'Crete Monee Totals 5-8'!A:B,2,0)","v":1155489},18777255,{"$f":"VLOOKUP(A2028,'AFR18'!A:L,12,0)","v":18777255},0]
[6911,81267,{"$f":"VLOOKUP(A2029,'Crete Monee Totals 5-8'!A:B,2,0)","v":6740},74527,{"$f":"VLOOKUP(A2029,'AFR18'!A:L,12,0)","v":74527},0]
[6912,22941318,{"$f":"VLOOKUP(A2030,'Crete Monee Totals 5-8'!A:B,2,0)","v":1155489},21785829,{"$f":"VLOOKUP(A2030,'AFR18'!A:L,12,0)","v":21785829},0]
[6913,2597514,{"$f":"VLOOKUP(A2031,'Crete Monee Totals 5-8'!A:B,2,0)","v":8553},2588961,{"$f":"VLOOKUP(A2031,'AFR18'!A:L,12,0)","v":2588961},0]
[6914,299136,0,299136,{"$f":"VLOOKUP(A2032,'AFR18'!A:L,12,0)","v":299136},0]
[6915,351026,0,351026,{"$f":"VLOOKUP(A2033,'AFR18'!A:L,12,0)","v":351026},0]
[6916,48419558,{"$f":"VLOOKUP(A2034,'Crete Monee Totals 5-8'!A:B,2,0)","v":1521904},46897654,{"$f":"VLOOKUP(A2034,'AFR18'!A:L,12,0)","v":46897654},0]
[6917,9913998,{"$f":"VLOOKUP(A2035,'Crete Monee Totals 5-8'!A:B,2,0)","v":12027},9901971,{"$f":"VLOOKUP(A2035,'AFR18'!A:L,12,0)","v":9901971},0]
[6918,1299904,{"$f":"VLOOKUP(A2036,'Crete Monee Totals 5-8'!A:B,2,0)","v":1770},1298134,{"$f":"VLOOKUP(A2036,'AFR18'!A:L,12,0)","v":1298134},0]
[6919,43304,0,43304,{"$f":"VLOOKUP(A2037,'AFR18'!A:L,12,0)","v":43304},0]
[6920,7805979,0,7805979,{"$f":"VLOOKUP(A2038,'AFR18'!A:L,12,0)","v":7805979},0]
[6921,7805979,0,7805979,{"$f":"VLOOKUP(A2039,'AFR18'!A:L,12,0)","v":7805979},0]
[6922,270146748,{"$f":"VLOOKUP(A2040,'Crete Monee Totals 5-8'!A:B,2,0)","v":787560},269359188,{"$f":"VLOOKUP(A2040,'AFR18'!A:L,12,0)","v":269359188},0]
[6923,270146748,{"$f":"VLOOKUP(A2041,'Crete Monee Totals 5-8'!A:B,2,0)","v":787560},269359188,{"$f":"VLOOKUP(A2041,'AFR18'!A:L,12,0)","v":269359188},0]
[6924,205900,0,205900,{"$f":"VLOOKUP(A2042,'AFR18'!A:L,12,0)","v":205900},0]
[6925,205900,0,205900,{"$f":"VLOOKUP(A2043,'AFR18'!A:L,12,0)","v":205900},0]
[6926,14796011,{"$f":"VLOOKUP(A2044,'Crete Monee Totals 5-8'!A:B,2,0)","v":157500},14638511,{"$f":"VLOOKUP(A2044,'AFR18'!A:L,12,0)","v":14638511},0]
[6927,14796011,{"$f":"VLOOKUP(A2045,'Crete Monee Totals 5-8'!A:B,2,0)","v":157500},14638511,{"$f":"VLOOKUP(A2045,'AFR18'!A:L,12,0)","v":14638511},0]
[6928,692321,{"$f":"VLOOKUP(A2046,'Crete Monee Totals 5-8'!A:B,2,0)","v":235916},456405,{"$f":"VLOOKUP(A2046,'AFR18'!A:L,12,0)","v":456405},0]
[6929,692321,{"$f":"VLOOKUP(A2047,'Crete Monee Totals 5-8'!A:B,2,0)","v":235916},456405,{"$f":"VLOOKUP(A2047,'AFR18'!A:L,12,0)","v":456405},0]
[6930,1306529,0,1306529,{"$f":"VLOOKUP(A2048,'AFR18'!A:L,12,0)","v":1306529},0]
[6931,1306529,0,1306529,{"$f":"VLOOKUP(A2049,'AFR18'!A:L,12,0)","v":1306529},0]
[6932,1718382,0,1718382,{"$f":"VLOOKUP(A2050,'AFR18'!A:L,12,0)","v":1718382},0]
[6933,1718382,0,{"$f":"SUM(B2051-C2051)","v":1718382},{"$f":"VLOOKUP(A2051,'AFR18'!A:L,12,0)","v":1718382},{"$f":"SUM(D2051-E2051)","v":0}]
[6934,296671870,{"$f":"VLOOKUP(A2052,'Crete Monee Totals 5-8'!A:B,2,0)","v":1180976},295490894,{"$f":"VLOOKUP(A2052,'AFR18'!A:L,12,0)","v":295490894},0]
[6935,525020,0,525020,{"$f":"VLOOKUP(A2053,'AFR18'!A:L,12,0)","v":525020},0]
[6936,525020,0,525020,{"$f":"VLOOKUP(A2054,'AFR18'!A:L,12,0)","v":525020},0]
[6937,2029848,0,2029848,{"$f":"VLOOKUP(A2055,'AFR18'!A:L,12,0)","v":2029848},0]
[6938,2029848,0,2029848,{"$f":"VLOOKUP(A2056,'AFR18'!A:L,12,0)","v":2029848},0]
[6941,700020,0,700020,{"$f":"VLOOKUP(A2057,'AFR18'!A:L,12,0)","v":700020},0]
[6942,700020,0,700020,{"$f":"VLOOKUP(A2058,'AFR18'!A:L,12,0)","v":700020},0]
[6943,61960,0,61960,{"$f":"VLOOKUP(A2059,'AFR18'!A:L,12,0)","v":61960},0]
[6944,61960,0,61960,{"$f":"VLOOKUP(A2060,'AFR18'!A:L,12,0)","v":61960},0]
[6945,15369,0,15369,{"$f":"VLOOKUP(A2061,'AFR18'!A:L,12,0)","v":15369},0]
[6946,15369,0,15369,{"$f":"VLOOKUP(A2062,'AFR18'!A:L,12,0)","v":15369},0]
[6947,305406,0,305406,{"$f":"VLOOKUP(A2063,'AFR18'!A:L,12,0)","v":305406},0]
[6948,1085771,0,1085771,{"$f":"VLOOKUP(A2064,'AFR18'!A:L,12,0)","v":1085771},0]
[6949,1391177,0,1391177,{"$f":"VLOOKUP(A2065,'AFR18'!A:L,12,0)","v":1391177},0]
[6950,305406,0,305406,{"$f":"VLOOKUP(A2066,'AFR18'!A:L,12,0)","v":305406},0]
[6951,4417988,0,4417988,{"$f":"VLOOKUP(A2067,'AFR18'!A:L,12,0)","v":4417988},0]
[6952,4723394,0,4723394,{"$f":"VLOOKUP(A2068,'AFR18'!A:L,12,0)","v":4723394},0]
[6953,141875,0,141875,{"$f":"VLOOKUP(A2069,'AFR18'!A:L,12,0)","v":141875},0]
[6954,142785,0,142785,{"$f":"VLOOKUP(A2070,'AFR18'!A:L,12,0)","v":142785},0]
[6955,1754781,{"$f":"VLOOKUP(A2071,'Crete Monee Totals 5-8'!A:B,2,0)","v":39},1754742,{"$f":"VLOOKUP(A2071,'AFR18'!A:L,12,0)","v":1754742},0]
[6956,1754781,{"$f":"VLOOKUP(A2072,'Crete Monee Totals 5-8'!A:B,2,0)","v":39},1754742,{"$f":"VLOOKUP(A2072,'AFR18'!A:L,12,0)","v":1754742},0]
[6957,34149433,{"$f":"VLOOKUP(A2073,'Crete Monee Totals 5-8'!A:B,2,0)","v":39},34149394,{"$f":"VLOOKUP(A2073,'AFR18'!A:L,12,0)","v":34149394},0]
[6958,34149433,{"$f":"VLOOKUP(A2074,'Crete Monee Totals 5-8'!A:B,2,0)","v":39},34149394,{"$f":"VLOOKUP(A2074,'AFR18'!A:L,12,0)","v":34149394},0]
[6959,96966192,{"$f":"VLOOKUP(A2075,'Crete Monee Totals 5-8'!A:B,2,0)","v":1620052},95346140,{"$f":"VLOOKUP(A2075,'AFR18'!A:L,12,0)","v":95346140},0]
[6960,31576074,{"$f":"VLOOKUP(A2076,'Crete Monee Totals 5-8'!A:B,2,0)","v":25677},31550397,{"$f":"VLOOKUP(A2076,'AFR18'!A:L,12,0)","v":31550397},0]
[6964,6031,0,6031,{"$f":"VLOOKUP(A2077,'AFR18'!A:L,12,0)","v":6031},0]
[6965,1330499,0,1330499,{"$f":"VLOOKUP(A2078,'AFR18'!A:L,12,0)","v":1330499},0]
[6966,2098,0,2098,{"$f":"VLOOKUP(A2079,'AFR18'!A:L,12,0)","v":2098},0]
[6967,8471517,{"$f":"VLOOKUP(A2080,'Crete Monee Totals 5-8'!A:B,2,0)","v":25575},8445942,{"$f":"VLOOKUP(A2080,'AFR18'!A:L,12,0)","v":8445942},0]
[6968,613350,{"$f":"VLOOKUP(A2081,'Crete Monee Totals 5-8'!A:B,2,0)","v":1667},611683,{"$f":"VLOOKUP(A2081,'AFR18'!A:L,12,0)","v":611683},0]
[6969,3303,0,3303,{"$f":"VLOOKUP(A2082,'AFR18'!A:L,12,0)","v":3303},0]
[6971,81391,0,81391,{"$f":"VLOOKUP(A2083,'AFR18'!A:L,12,0)","v":81391},0]
[6972,9886710,{"$f":"VLOOKUP(A2084,'Crete Monee Totals 5-8'!A:B,2,0)","v":25575},9861135,{"$f":"VLOOKUP(A2084,'AFR18'!A:L,12,0)","v":9861135},0]
[6973,621479,{"$f":"VLOOKUP(A2085,'Crete Monee Totals 5-8'!A:B,2,0)","v":1667},619812,{"$f":"VLOOKUP(A2085,'AFR18'!A:L,12,0)","v":619812},0]
[6974,19390,0,19390,{"$f":"VLOOKUP(A2086,'AFR18'!A:L,12,0)","v":19390},0]
[6976,9906100,{"$f":"VLOOKUP(A2087,'Crete Monee Totals 5-8'!A:B,2,0)","v":25575},9880525,{"$f":"VLOOKUP(A2087,'AFR18'!A:L,12,0)","v":9880525},0]
[6977,621479,{"$f":"VLOOKUP(A2088,'Crete Monee Totals 5-8'!A:B,2,0)","v":1667},619812,{"$f":"VLOOKUP(A2088,'AFR18'!A:L,12,0)","v":619812},0]
[6978,878,0,878,{"$f":"VLOOKUP(A2089,'AFR18'!A:L,12,0)","v":878},0]
[6981,366322852.16999996,0,366322852.16999996,{"$f":"VLOOKUP(A2090,'AFR18'!A:L,12,0)","v":366322852.16999996},0]
[6983,2747391,0,2747391,{"$f":"VLOOKUP(A2091,'AFR18'!A:L,12,0)","v":2747391},0]
[6984,6425679,0,6425679,{"$f":"VLOOKUP(A2092,'AFR18'!A:L,12,0)","v":6425679},0]
[6985,182652,0,182652,{"$f":"VLOOKUP(A2093,'AFR18'!A:L,12,0)","v":182652},0]
[6986,94504,0,94504,{"$f":"VLOOKUP(A2094,'AFR18'!A:L,12,0)","v":94504},0]
[6987,94504,0,94504,{"$f":"VLOOKUP(A2095,'AFR18'!A:L,12,0)","v":94504},0]
[6988,371075,0,371075,{"$f":"VLOOKUP(A2096,'AFR18'!A:L,12,0)","v":371075},0]
[6989,371075,0,371075,{"$f":"VLOOKUP(A2097,'AFR18'!A:L,12,0)","v":371075},0]
[6990,9906978,{"$f":"VLOOKUP(A2098,'Crete Monee Totals 5-8'!A:B,2,0)","v":25575},9881403,{"$f":"VLOOKUP(A2098,'AFR18'!A:L,12,0)","v":9881403},0]
[6991,621479,{"$f":"VLOOKUP(A2099,'Crete Monee Totals 5-8'!A:B,2,0)","v":1667},619812,{"$f":"VLOOKUP(A2099,'AFR18'!A:L,12,0)","v":619812},0]
[6994,350005940.02999991,0,350005940.02999991,{"$f":"VLOOKUP(A2100,'AFR18'!A:L,12,0)","v":350005940.02999991},0]
[6998,1504327,0,1504327,{"$f":"VLOOKUP(A2101,'AFR18'!A:L,12,0)","v":1504327},0]
[6999,44425,0,44425,{"$f":"VLOOKUP(A2102,'AFR18'!A:L,12,0)","v":44425},0]
[7002,1504327,0,1504327,{"$f":"VLOOKUP(A2103,'AFR18'!A:L,12,0)","v":1504327},0]
[7003,44425,0,44425,{"$f":"VLOOKUP(A2104,'AFR18'!A:L,12,0)","v":44425},0]
[7006,1098343,0,1098343,{"$f":"VLOOKUP(A2105,'AFR18'!A:L,12,0)","v":1098343},0]
[7007,1098343,0,1098343,{"$f":"VLOOKUP(A2106,'AFR18'!A:L,12,0)","v":1098343},0]
[7008,316865,0,316865,{"$f":"VLOOKUP(A2107,'AFR18'!A:L,12,0)","v":316865},0]
[7009,316865,0,316865,{"$f":"VLOOKUP(A2108,'AFR18'!A:L,12,0)","v":316865},0]
[7010,1504327,0,1504327,{"$f":"VLOOKUP(A2109,'AFR18'!A:L,12,0)","v":1504327},0]
[7011,44425,0,44425,{"$f":"VLOOKUP(A2110,'AFR18'!A:L,12,0)","v":44425},0]
[7012,4791616.09,{"$f":"VLOOKUP(A2111,'Crete Monee Totals 5-8'!A:B,2,0)","v":1419},4790197.09,{"$f":"VLOOKUP(A2111,'AFR18'!A:L,12,0)","v":4790197.09},0]
[7013,4791616.09,{"$f":"VLOOKUP(A2112,'Crete Monee Totals 5-8'!A:B,2,0)","v":1419},4790197.09,{"$f":"VLOOKUP(A2112,'AFR18'!A:L,12,0)","v":4790197.09},0]
[7014,3627222,{"$f":"VLOOKUP(A2113,'Crete Monee Totals 5-8'!A:B,2,0)","v":27567},3599655,{"$f":"VLOOKUP(A2113,'AFR18'!A:L,12,0)","v":3599655},0]
[7015,3627222,{"$f":"VLOOKUP(A2114,'Crete Monee Totals 5-8'!A:B,2,0)","v":27567},3599655,{"$f":"VLOOKUP(A2114,'AFR18'!A:L,12,0)","v":3599655},0]
[7016,600478,0,{"$f":"SUM(B2115-C2115)","v":600478},{"$f":"VLOOKUP(A2115,'AFR18'!A:L,12,0)","v":600478},{"$f":"SUM(D2115-E2115)","v":0}]
[7017,600478,0,600478,{"$f":"VLOOKUP(A2116,'AFR18'!A:L,12,0)","v":600478},0]
[7018,518360,{"$f":"VLOOKUP(A2117,'Crete Monee Totals 5-8'!A:B,2,0)","v":1713},516647,{"$f":"VLOOKUP(A2117,'AFR18'!A:L,12,0)","v":516647},0]
[7019,518360,{"$f":"VLOOKUP(A2118,'Crete Monee Totals 5-8'!A:B,2,0)","v":1713},516647,{"$f":"VLOOKUP(A2118,'AFR18'!A:L,12,0)","v":516647},0]
[7020,84192,0,84192,{"$f":"VLOOKUP(A2119,'AFR18'!A:L,12,0)","v":84192},0]
[7021,84192,0,84192,{"$f":"VLOOKUP(A2120,'AFR18'!A:L,12,0)","v":84192},0]
[7022,6009,0,6009,{"$f":"VLOOKUP(A2121,'AFR18'!A:L,12,0)","v":6009},0]
[7023,6009,0,6009,{"$f":"VLOOKUP(A2122,'AFR18'!A:L,12,0)","v":6009},0]
[7028,606313,0,606313,{"$f":"VLOOKUP(A2123,'AFR18'!A:L,12,0)","v":606313},0]
[7029,606313,0,606313,{"$f":"VLOOKUP(A2124,'AFR18'!A:L,12,0)","v":606313},0]
[7030,47458,0,47458,{"$f":"VLOOKUP(A2125,'AFR18'!A:L,12,0)","v":47458},0]
[7031,47458,0,47458,{"$f":"VLOOKUP(A2126,'AFR18'!A:L,12,0)","v":47458},0]
[7032,4088851.19,0,4088851.19,{"$f":"VLOOKUP(A2127,'AFR18'!A:L,12,0)","v":4088851.19},0]
[7033,4088851.19,0,4088851.19,{"$f":"VLOOKUP(A2128,'AFR18'!A:L,12,0)","v":4088851.19},0]
[7036,79135,0,79135,{"$f":"VLOOKUP(A2129,'AFR18'!A:L,12,0)","v":79135},0]
[7037,79135,0,79135,{"$f":"VLOOKUP(A2130,'AFR18'!A:L,12,0)","v":79135},0]
[7038,27164243,0,27164243,{"$f":"VLOOKUP(A2131,'AFR18'!A:L,12,0)","v":27164243},0]
[7039,6516,0,6516,{"$f":"VLOOKUP(A2132,'AFR18'!A:L,12,0)","v":6516},0]
[7042,27164243,0,27164243,{"$f":"VLOOKUP(A2133,'AFR18'!A:L,12,0)","v":27164243},0]
[7043,6516,0,6516,{"$f":"VLOOKUP(A2134,'AFR18'!A:L,12,0)","v":6516},0]
[7045,151672,0,151672,{"$f":"VLOOKUP(A2135,'AFR18'!A:L,12,0)","v":151672},0]
[7046,151672,0,151672,{"$f":"VLOOKUP(A2136,'AFR18'!A:L,12,0)","v":151672},0]
[7052,716428,0,716428,{"$f":"VLOOKUP(A2137,'AFR18'!A:L,12,0)","v":716428},0]
[7054,868100,0,868100,{"$f":"VLOOKUP(A2138,'AFR18'!A:L,12,0)","v":868100},0]
[7055,27164243,0,27164243,{"$f":"VLOOKUP(A2139,'AFR18'!A:L,12,0)","v":27164243},0]
[7056,6516,0,6516,{"$f":"VLOOKUP(A2140,'AFR18'!A:L,12,0)","v":6516},0]
[7057,238588,0,238588,{"$f":"VLOOKUP(A2141,'AFR18'!A:L,12,0)","v":238588},0]
[7059,670532,0,670532,{"$f":"VLOOKUP(A2142,'AFR18'!A:L,12,0)","v":670532},0]
[7060,37396,0,37396,{"$f":"VLOOKUP(A2143,'AFR18'!A:L,12,0)","v":37396},0]
[7062,58265,0,58265,{"$f":"VLOOKUP(A2144,'AFR18'!A:L,12,0)","v":58265},0]
[7065,1004781,0,1004781,{"$f":"VLOOKUP(A2145,'AFR18'!A:L,12,0)","v":1004781},0]
[7066,121440,0,121440,{"$f":"VLOOKUP(A2146,'AFR18'!A:L,12,0)","v":121440},0]
[7067,1941905,0,1941905,{"$f":"VLOOKUP(A2147,'AFR18'!A:L,12,0)","v":1941905},0]
[7068,64991014,0,64991014,{"$f":"VLOOKUP(A2148,'AFR18'!A:L,12,0)","v":64991014},0]
[7069,74545,0,74545,{"$f":"VLOOKUP(A2149,'AFR18'!A:L,12,0)","v":74545},0]
[7070,2588,0,2588,{"$f":"VLOOKUP(A2150,'AFR18'!A:L,12,0)","v":2588},0]
[7071,638403,0,638403,{"$f":"VLOOKUP(A2151,'AFR18'!A:L,12,0)","v":638403},0]
[7073,74,0,74,{"$f":"VLOOKUP(A2152,'AFR18'!A:L,12,0)","v":74},0]
[7074,67769969,0,67769969,{"$f":"VLOOKUP(A2153,'AFR18'!A:L,12,0)","v":67769969},0]
[7075,15497,0,15497,{"$f":"VLOOKUP(A2154,'AFR18'!A:L,12,0)","v":15497},0]
[7076,279931,0,279931,{"$f":"VLOOKUP(A2155,'AFR18'!A:L,12,0)","v":279931},0]
[7077,4245504.7200000007,0,4245504.7200000007,{"$f":"VLOOKUP(A2156,'AFR18'!A:L,12,0)","v":4245504.7200000007},0]
[7080,56501,0,56501,{"$f":"VLOOKUP(A2157,'AFR18'!A:L,12,0)","v":56501},0]
[7083,4597433.7200000007,0,4597433.7200000007,{"$f":"VLOOKUP(A2158,'AFR18'!A:L,12,0)","v":4597433.7200000007},0]
[7084,69702,0,69702,{"$f":"VLOOKUP(A2159,'AFR18'!A:L,12,0)","v":69702},0]
[7085,291996,0,291996,{"$f":"VLOOKUP(A2160,'AFR18'!A:L,12,0)","v":291996},0]
[7086,51584854,0,51584854,{"$f":"VLOOKUP(A2161,'AFR18'!A:L,12,0)","v":51584854},0]
[7087,238689,0,238689,{"$f":"VLOOKUP(A2162,'AFR18'!A:L,12,0)","v":238689},0]
[7088,25314,0,25314,{"$f":"VLOOKUP(A2163,'AFR18'!A:L,12,0)","v":25314},0]
[7089,326947,0,326947,{"$f":"VLOOKUP(A2164,'AFR18'!A:L,12,0)","v":326947},0]
[7092,52537502,0,52537502,{"$f":"VLOOKUP(A2165,'AFR18'!A:L,12,0)","v":52537502},0]
[7093,16602104,0,16602104,{"$f":"VLOOKUP(A2166,'AFR18'!A:L,12,0)","v":16602104},0]
[7094,1210991,0,1210991,{"$f":"VLOOKUP(A2167,'AFR18'!A:L,12,0)","v":1210991},0]
[7095,12175220,0,12175220,{"$f":"VLOOKUP(A2168,'AFR18'!A:L,12,0)","v":12175220},0]
[7096,160120,0,160120,{"$f":"VLOOKUP(A2169,'AFR18'!A:L,12,0)","v":160120},0]
[7097,1741072,0,1741072,{"$f":"VLOOKUP(A2170,'AFR18'!A:L,12,0)","v":1741072},0]
[7098,218148,0,218148,{"$f":"VLOOKUP(A2171,'AFR18'!A:L,12,0)","v":218148},0]
[7099,71537,0,71537,{"$f":"VLOOKUP(A2172,'AFR18'!A:L,12,0)","v":71537},0]
[7101,32179192,0,32179192,{"$f":"VLOOKUP(A2173,'AFR18'!A:L,12,0)","v":32179192},0]
[7102,55764,0,55764,{"$f":"VLOOKUP(A2174,'AFR18'!A:L,12,0)","v":55764},0]
[7103,41629,0,41629,{"$f":"VLOOKUP(A2175,'AFR18'!A:L,12,0)","v":41629},0]
[7104,832826,0,832826,{"$f":"VLOOKUP(A2176,'AFR18'!A:L,12,0)","v":832826},0]
[7107,826885,0,826885,{"$f":"VLOOKUP(A2177,'AFR18'!A:L,12,0)","v":826885},0]
[7110,1757104,0,1757104,{"$f":"VLOOKUP(A2178,'AFR18'!A:L,12,0)","v":1757104},0]
[7111,122117538.06,0,{"$f":"SUM(B2179-C2179)","v":122117538.06},{"$f":"VLOOKUP(A2179,'AFR18'!A:L,12,0)","v":122117538.06},{"$f":"SUM(D2179-E2179)","v":0}]
[7112,24799266.579999998,0,24799266.579999998,{"$f":"VLOOKUP(A2180,'AFR18'!A:L,12,0)","v":24799266.579999998},0]
[7113,28411568.189999998,0,28411568.189999998,{"$f":"VLOOKUP(A2181,'AFR18'!A:L,12,0)","v":28411568.189999998},0]
[7114,599296.37,0,599296.37,{"$f":"VLOOKUP(A2182,'AFR18'!A:L,12,0)","v":599296.37},0]
[7115,1987937,0,1987937,{"$f":"VLOOKUP(A2183,'AFR18'!A:L,12,0)","v":1987937},0]
[7116,675684,0,675684,{"$f":"VLOOKUP(A2184,'AFR18'!A:L,12,0)","v":675684},0]
[7117,242830,0,242830,{"$f":"VLOOKUP(A2185,'AFR18'!A:L,12,0)","v":242830},0]
[7118,377416,0,377416,{"$f":"VLOOKUP(A2186,'AFR18'!A:L,12,0)","v":377416},0]
[7119,179211536.19999999,0,179211536.19999999,{"$f":"VLOOKUP(A2187,'AFR18'!A:L,12,0)","v":179211536.19999999},0]
[7122,23134,0,23134,{"$f":"VLOOKUP(A2188,'AFR18'!A:L,12,0)","v":23134},0]
[7128,23134,0,23134,{"$f":"VLOOKUP(A2189,'AFR18'!A:L,12,0)","v":23134},0]
[7129,204679,0,204679,{"$f":"VLOOKUP(A2190,'AFR18'!A:L,12,0)","v":204679},0]
[7130,64896,0,64896,{"$f":"VLOOKUP(A2191,'AFR18'!A:L,12,0)","v":64896},0]
[7131,11236321.25,0,11236321.25,{"$f":"VLOOKUP(A2192,'AFR18'!A:L,12,0)","v":11236321.25},0]
[7132,43294,0,43294,{"$f":"VLOOKUP(A2193,'AFR18'!A:L,12,0)","v":43294},0]
[7133,27126,0,27126,{"$f":"VLOOKUP(A2194,'AFR18'!A:L,12,0)","v":27126},0]
[7134,123154,0,123154,{"$f":"VLOOKUP(A2195,'AFR18'!A:L,12,0)","v":123154},0]
[7137,11699470.25,0,11699470.25,{"$f":"VLOOKUP(A2196,'AFR18'!A:L,12,0)","v":11699470.25},0]
[7138,139447712.06,0,139447712.06,{"$f":"VLOOKUP(A2197,'AFR18'!A:L,12,0)","v":139447712.06},0]
[7139,28630614.579999998,0,28630614.579999998,{"$f":"VLOOKUP(A2198,'AFR18'!A:L,12,0)","v":28630614.579999998},0]
[7140,189629246.16,0,189629246.16,{"$f":"VLOOKUP(A2199,'AFR18'!A:L,12,0)","v":189629246.16},0]
[7141,1161692.3700000001,0,1161692.3700000001,{"$f":"VLOOKUP(A2200,'AFR18'!A:L,12,0)","v":1161692.3700000001},0]
[7142,3837743,0,3837743,{"$f":"VLOOKUP(A2201,'AFR18'!A:L,12,0)","v":3837743},0]
[7143,2923987,0,2923987,{"$f":"VLOOKUP(A2202,'AFR18'!A:L,12,0)","v":2923987},0]
[7144,314367,0,314367,{"$f":"VLOOKUP(A2203,'AFR18'!A:L,12,0)","v":314367},0]
[7145,377490,0,377490,{"$f":"VLOOKUP(A2204,'AFR18'!A:L,12,0)","v":377490},0]
[7146,366322852.16999996,0,366322852.16999996,{"$f":"VLOOKUP(A2205,'AFR18'!A:L,12,0)","v":366322852.16999996},0]
[7147,30962,0,30962,{"$f":"VLOOKUP(A2206,'AFR18'!A:L,12,0)","v":30962},0]
[7148,30962,0,30962,{"$f":"VLOOKUP(A2207,'AFR18'!A:L,12,0)","v":30962},0]
[7151,67,0,67,{"$f":"VLOOKUP(A2208,'AFR18'!A:L,12,0)","v":67},0]
[7152,67,0,67,{"$f":"VLOOKUP(A2209,'AFR18'!A:L,12,0)","v":67},0]
[7153,31029,0,31029,{"$f":"VLOOKUP(A2210,'AFR18'!A:L,12,0)","v":31029},0]
[7154,31029,0,31029,{"$f":"VLOOKUP(A2211,'AFR18'!A:L,12,0)","v":31029},0]
[7155,139447712.06,0,139447712.06,{"$f":"VLOOKUP(A2212,'AFR18'!A:L,12,0)","v":139447712.06},0]
[7156,28630614.579999998,0,28630614.579999998,{"$f":"VLOOKUP(A2213,'AFR18'!A:L,12,0)","v":28630614.579999998},0]
[7157,189629246.16,0,189629246.16,{"$f":"VLOOKUP(A2214,'AFR18'!A:L,12,0)","v":189629246.16},0]
[7158,1161692.3700000001,0,1161692.3700000001,{"$f":"VLOOKUP(A2215,'AFR18'!A:L,12,0)","v":1161692.3700000001},0]
[7159,3837743,0,3837743,{"$f":"VLOOKUP(A2216,'AFR18'!A:L,12,0)","v":3837743},0]
[7160,3452852,0,3452852,{"$f":"VLOOKUP(A2217,'AFR18'!A:L,12,0)","v":3452852},0]
[7161,314367,0,314367,{"$f":"VLOOKUP(A2218,'AFR18'!A:L,12,0)","v":314367},0]
[7162,377490,0,377490,{"$f":"VLOOKUP(A2219,'AFR18'!A:L,12,0)","v":377490},0]
[7163,366851717.16999996,0,366851717.16999996,{"$f":"VLOOKUP(A2220,'AFR18'!A:L,12,0)","v":366851717.16999996},0]
[7164,-16845777.140000001,0,-16845777.140000001,{"$f":"VLOOKUP(A2221,'AFR18'!A:L,12,0)","v":-16845777.140000001},0]
[7165,108200,0,108200,{"$f":"VLOOKUP(A2222,'AFR18'!A:L,12,0)","v":108200},0]
[7167,30177,0,30177,{"$f":"VLOOKUP(A2223,'AFR18'!A:L,12,0)","v":30177},0]
[7169,138377,0,138377,{"$f":"VLOOKUP(A2224,'AFR18'!A:L,12,0)","v":138377},0]
[7173,138377,0,138377,{"$f":"VLOOKUP(A2225,'AFR18'!A:L,12,0)","v":138377},0]
[7175,238830,0,238830,{"$f":"VLOOKUP(A2226,'AFR18'!A:L,12,0)","v":238830},0]
[7176,238830,0,238830,{"$f":"VLOOKUP(A2227,'AFR18'!A:L,12,0)","v":238830},0]
[7179,180239,0,180239,{"$f":"VLOOKUP(A2228,'AFR18'!A:L,12,0)","v":180239},0]
[7180,180239,0,180239,{"$f":"VLOOKUP(A2229,'AFR18'!A:L,12,0)","v":180239},0]
[7181,741730,0,741730,{"$f":"VLOOKUP(A2230,'AFR18'!A:L,12,0)","v":741730},0]
[7182,741730,0,741730,{"$f":"VLOOKUP(A2231,'AFR18'!A:L,12,0)","v":741730},0]
[7183,138377,0,138377,{"$f":"VLOOKUP(A2232,'AFR18'!A:L,12,0)","v":138377},0]
[7185,53840702,{"$f":"VLOOKUP(A2233,'Crete Monee Totals 5-8'!A:B,2,0)","v":15775},53824927,{"$f":"VLOOKUP(A2233,'AFR18'!A:L,12,0)","v":53824927},0]
[7186,9331138,{"$f":"VLOOKUP(A2234,'Crete Monee Totals 5-8'!A:B,2,0)","v":67},9331071,{"$f":"VLOOKUP(A2234,'AFR18'!A:L,12,0)","v":9331071},0]
[7187,9460143,{"$f":"VLOOKUP(A2235,'Crete Monee Totals 5-8'!A:B,2,0)","v":904},9459239,{"$f":"VLOOKUP(A2235,'AFR18'!A:L,12,0)","v":9459239},0]
[7188,1222808,0,1222808,{"$f":"VLOOKUP(A2236,'AFR18'!A:L,12,0)","v":1222808},0]
[7189,190474,0,190474,{"$f":"VLOOKUP(A2237,'AFR18'!A:L,12,0)","v":190474},0]
[7190,80776336.819999993,{"$f":"VLOOKUP(A2238,'Crete Monee Totals 5-8'!A:B,2,0)","v":459843},80316493.819999993,{"$f":"VLOOKUP(A2238,'AFR18'!A:L,12,0)","v":80316493.819999993},0]
[7191,20088561.550000001,{"$f":"VLOOKUP(A2239,'Crete Monee Totals 5-8'!A:B,2,0)","v":89035},19999526.550000001,{"$f":"VLOOKUP(A2239,'AFR18'!A:L,12,0)","v":19999526.550000001},0]
[7192,1025585,{"$f":"VLOOKUP(A2240,'Crete Monee Totals 5-8'!A:B,2,0)","v":41468},984117,{"$f":"VLOOKUP(A2240,'AFR18'!A:L,12,0)","v":984117},0]
[7193,1379946,{"$f":"VLOOKUP(A2241,'Crete Monee Totals 5-8'!A:B,2,0)","v":30808},1349138,{"$f":"VLOOKUP(A2241,'AFR18'!A:L,12,0)","v":1349138},0]
[7194,41129,0,41129,{"$f":"VLOOKUP(A2242,'AFR18'!A:L,12,0)","v":41129},0]
[7195,84810,0,{"$f":"SUM(B2243-C2243)","v":84810},{"$f":"VLOOKUP(A2243,'AFR18'!A:L,12,0)","v":84810},{"$f":"SUM(D2243-E2243)","v":0}]
[7196,10428749,0,10428749,{"$f":"VLOOKUP(A2244,'AFR18'!A:L,12,0)","v":10428749},0]
[7197,2182358,0,2182358,{"$f":"VLOOKUP(A2245,'AFR18'!A:L,12,0)","v":2182358},0]
[7198,254676,0,254676,{"$f":"VLOOKUP(A2246,'AFR18'!A:L,12,0)","v":254676},0]
[7199,693133,0,693133,{"$f":"VLOOKUP(A2247,'AFR18'!A:L,12,0)","v":693133},0]
[7200,215730,0,215730,{"$f":"VLOOKUP(A2248,'AFR18'!A:L,12,0)","v":215730},0]
[7201,7910,0,7910,{"$f":"VLOOKUP(A2249,'AFR18'!A:L,12,0)","v":7910},0]
[7202,37927537.710000001,{"$f":"VLOOKUP(A2250,'Crete Monee Totals 5-8'!A:B,2,0)","v":126618},37800919.710000001,{"$f":"VLOOKUP(A2250,'AFR18'!A:L,12,0)","v":37800919.710000001},0]
[7203,6068059.1799999997,{"$f":"VLOOKUP(A2251,'Crete Monee Totals 5-8'!A:B,2,0)","v":7282},6060777.1799999997,{"$f":"VLOOKUP(A2251,'AFR18'!A:L,12,0)","v":6060777.1799999997},0]
[7204,1443876,{"$f":"VLOOKUP(A2252,'Crete Monee Totals 5-8'!A:B,2,0)","v":2412},1441464,{"$f":"VLOOKUP(A2252,'AFR18'!A:L,12,0)","v":1441464},0]
[7205,819255,{"$f":"VLOOKUP(A2253,'Crete Monee Totals 5-8'!A:B,2,0)","v":2850},816405,{"$f":"VLOOKUP(A2253,'AFR18'!A:L,12,0)","v":816405},0]
[7206,1066382,{"$f":"VLOOKUP(A2254,'Crete Monee Totals 5-8'!A:B,2,0)","v":16053},1050329,{"$f":"VLOOKUP(A2254,'AFR18'!A:L,12,0)","v":1050329},0]
[7207,86549,0,86549,{"$f":"VLOOKUP(A2255,'AFR18'!A:L,12,0)","v":86549},0]
[7530,1414796,0,1414796,{"$f":"VLOOKUP(A2256,'AFR18'!A:L,12,0)","v":1414796},0]
[7531,2380,0,2380,{"$f":"VLOOKUP(A2257,'AFR18'!A:L,12,0)","v":2380},0]
[7532,1190,0,1190,{"$f":"VLOOKUP(A2258,'AFR18'!A:L,12,0)","v":1190},0]
[7534,3570,0,3570,{"$f":"VLOOKUP(A2259,'AFR18'!A:L,12,0)","v":3570},0]
[7535,1411226,0,1411226,{"$f":"VLOOKUP(A2260,'AFR18'!A:L,12,0)","v":1411226},0]
[7536,28925765,0,28925765,{"$f":"VLOOKUP(A2261,'AFR18'!A:L,12,0)","v":28925765},0]
[7537,289617,0,289617,{"$f":"VLOOKUP(A2262,'AFR18'!A:L,12,0)","v":289617},0]
[7538,11295,0,11295,{"$f":"VLOOKUP(A2263,'AFR18'!A:L,12,0)","v":11295},0]
[7539,29204087,0,29204087,{"$f":"VLOOKUP(A2264,'AFR18'!A:L,12,0)","v":29204087},0]
[7540,9374779,0,9374779,{"$f":"VLOOKUP(A2265,'AFR18'!A:L,12,0)","v":9374779},0]
[7541,545442,0,545442,{"$f":"VLOOKUP(A2266,'AFR18'!A:L,12,0)","v":545442},0]
[7542,11295,0,11295,{"$f":"VLOOKUP(A2267,'AFR18'!A:L,12,0)","v":11295},0]
[7543,9908926,0,9908926,{"$f":"VLOOKUP(A2268,'AFR18'!A:L,12,0)","v":9908926},0]
[7544,19295161,0,19295161,{"$f":"VLOOKUP(A2269,'AFR18'!A:L,12,0)","v":19295161},0]
[7545,154248989.25999999,0,154248989.25999999,{"$f":"VLOOKUP(A2270,'AFR18'!A:L,12,0)","v":154248989.25999999},0]
[7546,2441057.44,0,2441057.44,{"$f":"VLOOKUP(A2271,'AFR18'!A:L,12,0)","v":2441057.44},0]
[7548,156690046.69999999,0,156690046.69999999,{"$f":"VLOOKUP(A2272,'AFR18'!A:L,12,0)","v":156690046.69999999},0]
[7549,54060313.890000001,0,54060313.890000001,{"$f":"VLOOKUP(A2273,'AFR18'!A:L,12,0)","v":54060313.890000001},0]
[7550,4377901.55,0,4377901.55,{"$f":"VLOOKUP(A2274,'AFR18'!A:L,12,0)","v":4377901.55},0]
[7552,58438215.439999998,0,58438215.439999998,{"$f":"VLOOKUP(A2275,'AFR18'!A:L,12,0)","v":58438215.439999998},0]
[7553,98251831.25999999,0,98251831.25999999,{"$f":"VLOOKUP(A2276,'AFR18'!A:L,12,0)","v":98251831.25999999},0]
[7554,46414943.93,0,46414943.93,{"$f":"VLOOKUP(A2277,'AFR18'!A:L,12,0)","v":46414943.93},0]
[7555,5376737.6899999995,0,5376737.6899999995,{"$f":"VLOOKUP(A2278,'AFR18'!A:L,12,0)","v":5376737.6899999995},0]
[7556,1307469,0,1307469,{"$f":"VLOOKUP(A2279,'AFR18'!A:L,12,0)","v":1307469},0]
[7557,50484212.620000005,0,50484212.620000005,{"$f":"VLOOKUP(A2280,'AFR18'!A:L,12,0)","v":50484212.620000005},0]
[7558,40291842.950000003,0,40291842.950000003,{"$f":"VLOOKUP(A2281,'AFR18'!A:L,12,0)","v":40291842.950000003},0]
[7559,3850567,0,3850567,{"$f":"VLOOKUP(A2282,'AFR18'!A:L,12,0)","v":3850567},0]
[7560,1574931,0,1574931,{"$f":"VLOOKUP(A2283,'AFR18'!A:L,12,0)","v":1574931},0]
[7561,42567478.950000003,0,42567478.950000003,{"$f":"VLOOKUP(A2284,'AFR18'!A:L,12,0)","v":42567478.950000003},0]
[7562,7916733.6699999999,0,7916733.6699999999,{"$f":"VLOOKUP(A2285,'AFR18'!A:L,12,0)","v":7916733.6699999999},0]
[7563,135994484,{"$f":"VLOOKUP(A2286,'Crete Monee Totals 5-8'!A:B,2,0)","v":1645627},134348857,{"$f":"VLOOKUP(A2286,'AFR18'!A:L,12,0)","v":134348857},0]
[7564,13599448.399999995,{"$f":"VLOOKUP(A2287,'Crete Monee Totals 5-8'!A:B,2,0)","v":164562.70000000001},13434885.699999996,{"$f":"VLOOKUP(A2287,'AFR18'!A:L,12,0)","v":13434885.699999996},0]
[7570,1334579806.3500001,{"$f":"VLOOKUP(A2288,'Crete Monee Totals 5-8'!A:B,2,0)","v":2642040.7000000002},1331937765.6500001,{"$f":"VLOOKUP(A2288,'AFR18'!A:L,12,0)","v":1331937765.6500001},0]
[7575,32723,0,32723,{"$f":"VLOOKUP(A2289,'AFR18'!A:L,12,0)","v":32723},0]
[7576,1539978,0,1539978,{"$f":"VLOOKUP(A2290,'AFR18'!A:L,12,0)","v":1539978},0]
[7577,439,0,439,{"$f":"VLOOKUP(A2291,'AFR18'!A:L,12,0)","v":439},0]
[7578,34902,0,34902,{"$f":"VLOOKUP(A2292,'AFR18'!A:L,12,0)","v":34902},0]
[7590,286379,0,286379,{"$f":"VLOOKUP(A2293,'AFR18'!A:L,12,0)","v":286379},0]
[7593,8911150,0,8911150,{"$f":"VLOOKUP(A2294,'AFR18'!A:L,12,0)","v":8911150},0]
[7594,1784421,0,1784421,{"$f":"VLOOKUP(A2295,'AFR18'!A:L,12,0)","v":1784421},0]
[7595,17000,0,17000,{"$f":"VLOOKUP(A2296,'AFR18'!A:L,12,0)","v":17000},0]
[7596,17136081,0,17136081,{"$f":"VLOOKUP(A2297,'AFR18'!A:L,12,0)","v":17136081},0]
[7597,3531133,0,3531133,{"$f":"VLOOKUP(A2298,'AFR18'!A:L,12,0)","v":3531133},0]
[7598,13830568,0,13830568,{"$f":"VLOOKUP(A2299,'AFR18'!A:L,12,0)","v":13830568},0]
[7599,90923,0,90923,{"$f":"VLOOKUP(A2300,'AFR18'!A:L,12,0)","v":90923},0]
[7602,353175,0,353175,{"$f":"VLOOKUP(A2301,'AFR18'!A:L,12,0)","v":353175},0]
[7603,48687,0,48687,{"$f":"VLOOKUP(A2302,'AFR18'!A:L,12,0)","v":48687},0]
[7605,521244,0,521244,{"$f":"VLOOKUP(A2303,'AFR18'!A:L,12,0)","v":521244},0]
[7606,813112,0,813112,{"$f":"VLOOKUP(A2304,'AFR18'!A:L,12,0)","v":813112},0]
[7607,37052,0,37052,{"$f":"VLOOKUP(A2305,'AFR18'!A:L,12,0)","v":37052},0]
[7608,795000,0,795000,{"$f":"VLOOKUP(A2306,'AFR18'!A:L,12,0)","v":795000},0]
[7609,410400,0,{"$f":"SUM(B2307-C2307)","v":410400},{"$f":"VLOOKUP(A2307,'AFR18'!A:L,12,0)","v":410400},{"$f":"SUM(D2307-E2307)","v":0}]
[7610,1664755,0,1664755,{"$f":"VLOOKUP(A2308,'AFR18'!A:L,12,0)","v":1664755},0]
[7611,3075016,0,3075016,{"$f":"VLOOKUP(A2309,'AFR18'!A:L,12,0)","v":3075016},0]
[7612,14103898,0,14103898,{"$f":"VLOOKUP(A2310,'AFR18'!A:L,12,0)","v":14103898},0]
[7613,11765442,0,11765442,{"$f":"VLOOKUP(A2311,'AFR18'!A:L,12,0)","v":11765442},0]
[7614,903175,0,903175,{"$f":"VLOOKUP(A2312,'AFR18'!A:L,12,0)","v":903175},0]
[7616,288908,0,288908,{"$f":"VLOOKUP(A2313,'AFR18'!A:L,12,0)","v":288908},0]
[7617,2148844,0,2148844,{"$f":"VLOOKUP(A2314,'AFR18'!A:L,12,0)","v":2148844},0]
[7618,2143075,0,2143075,{"$f":"VLOOKUP(A2315,'AFR18'!A:L,12,0)","v":2143075},0]
[7619,4751395,0,4751395,{"$f":"VLOOKUP(A2316,'AFR18'!A:L,12,0)","v":4751395},0]
[7620,40433,0,40433,{"$f":"VLOOKUP(A2317,'AFR18'!A:L,12,0)","v":40433},0]
[7621,40311,0,40311,{"$f":"VLOOKUP(A2318,'AFR18'!A:L,12,0)","v":40311},0]
[7622,175000,0,175000,{"$f":"VLOOKUP(A2319,'AFR18'!A:L,12,0)","v":175000},0]
[7623,36348180,0,36348180,{"$f":"VLOOKUP(A2320,'AFR18'!A:L,12,0)","v":36348180},0]
[7624,64380359,0,64380359,{"$f":"VLOOKUP(A2321,'AFR18'!A:L,12,0)","v":64380359},0]
[7625,249222472,0,249222472,{"$f":"VLOOKUP(A2322,'AFR18'!A:L,12,0)","v":249222472},0]
[7626,4994178,0,4994178,{"$f":"VLOOKUP(A2323,'AFR18'!A:L,12,0)","v":4994178},0]
[7629,14200740,0,14200740,{"$f":"VLOOKUP(A2324,'AFR18'!A:L,12,0)","v":14200740},0]
[7630,95,0,95,{"$f":"VLOOKUP(A2325,'AFR18'!A:L,12,0)","v":95},0]
[7631,53706,0,53706,{"$f":"VLOOKUP(A2326,'AFR18'!A:L,12,0)","v":53706},0]
[7635,14254541,0,14254541,{"$f":"VLOOKUP(A2327,'AFR18'!A:L,12,0)","v":14254541},0]
[7636,22400,0,22400,{"$f":"VLOOKUP(A2328,'AFR18'!A:L,12,0)","v":22400},0]
[7638,1257532,0,1257532,{"$f":"VLOOKUP(A2329,'AFR18'!A:L,12,0)","v":1257532},0]
[7639,8257,0,8257,{"$f":"VLOOKUP(A2330,'AFR18'!A:L,12,0)","v":8257},0]
[7644,1288189,0,1288189,{"$f":"VLOOKUP(A2331,'AFR18'!A:L,12,0)","v":1288189},0]
[7645,181415,0,181415,{"$f":"VLOOKUP(A2332,'AFR18'!A:L,12,0)","v":181415},0]
[7646,48069,0,48069,{"$f":"VLOOKUP(A2333,'AFR18'!A:L,12,0)","v":48069},0]
[7647,51885609,0,51885609,{"$f":"VLOOKUP(A2334,'AFR18'!A:L,12,0)","v":51885609},0]
[7648,3517061,0,3517061,{"$f":"VLOOKUP(A2335,'AFR18'!A:L,12,0)","v":3517061},0]
[7649,2663537.23,0,2663537.23,{"$f":"VLOOKUP(A2336,'AFR18'!A:L,12,0)","v":2663537.23},0]
[7650,97435.09,0,97435.09,{"$f":"VLOOKUP(A2337,'AFR18'!A:L,12,0)","v":97435.09},0]
[7651,7328379.46,{"$f":"VLOOKUP(A2338,'Crete Monee Totals 5-8'!A:B,2,0)","v":21475},7306904.46,{"$f":"VLOOKUP(A2338,'AFR18'!A:L,12,0)","v":7306904.46},0]
[7652,92268617.579999998,0,92268617.579999998,{"$f":"VLOOKUP(A2339,'AFR18'!A:L,12,0)","v":92268617.579999998},0]
[7653,16513131.93,{"$f":"VLOOKUP(A2340,'Crete Monee Totals 5-8'!A:B,2,0)","v":55758},16457373.93,{"$f":"VLOOKUP(A2340,'AFR18'!A:L,12,0)","v":16457373.93},0]
[7654,3103613,0,3103613,{"$f":"VLOOKUP(A2341,'AFR18'!A:L,12,0)","v":3103613},0]
[7655,419190,0,419190,{"$f":"VLOOKUP(A2342,'AFR18'!A:L,12,0)","v":419190},0]
[7656,14575787,0,14575787,{"$f":"VLOOKUP(A2343,'AFR18'!A:L,12,0)","v":14575787},0]
[7657,112611554.81,0,112611554.81,{"$f":"VLOOKUP(A2344,'AFR18'!A:L,12,0)","v":112611554.81},0]
[7658,24358136.48,{"$f":"VLOOKUP(A2345,'Crete Monee Totals 5-8'!A:B,2,0)","v":77233},24280903.48,{"$f":"VLOOKUP(A2345,'AFR18'!A:L,12,0)","v":24280903.48},0]
[7659,453902063.52999997,{"$f":"VLOOKUP(A2346,'Crete Monee Totals 5-8'!A:B,2,0)","v":4212794},449689269.52999997,{"$f":"VLOOKUP(A2346,'AFR18'!A:L,12,0)","v":449689269.52999997},0]
[7660,21033894.91,{"$f":"VLOOKUP(A2347,'Crete Monee Totals 5-8'!A:B,2,0)","v":77233},20956661.91,{"$f":"VLOOKUP(A2347,'AFR18'!A:L,12,0)","v":20956661.91},0]
[7661,51379545.140000001,0,51379545.140000001,{"$f":"VLOOKUP(A2348,'AFR18'!A:L,12,0)","v":51379545.140000001},0]
[7662,114416,0,114416,{"$f":"VLOOKUP(A2349,'AFR18'!A:L,12,0)","v":114416},0]
[7663,17078070.77,0,17078070.77,{"$f":"VLOOKUP(A2350,'AFR18'!A:L,12,0)","v":17078070.77},0]
[7664,24612084,0,24612084,{"$f":"VLOOKUP(A2351,'AFR18'!A:L,12,0)","v":24612084},0]
[7665,24085,0,24085,{"$f":"VLOOKUP(A2352,'AFR18'!A:L,12,0)","v":24085},0]
[7666,41714239.769999996,0,41714239.769999996,{"$f":"VLOOKUP(A2353,'AFR18'!A:L,12,0)","v":41714239.769999996},0]
[7667,35306169,0,35306169,{"$f":"VLOOKUP(A2354,'AFR18'!A:L,12,0)","v":35306169},0]
[7668,431118,0,431118,{"$f":"VLOOKUP(A2355,'AFR18'!A:L,12,0)","v":431118},0]
[7669,94314060.909999996,0,94314060.909999996,{"$f":"VLOOKUP(A2356,'AFR18'!A:L,12,0)","v":94314060.909999996},0]
[7670,75023622.49000001,0,75023622.49000001,{"$f":"VLOOKUP(A2357,'AFR18'!A:L,12,0)","v":75023622.49000001},0]
[7671,70183102.900000006,0,70183102.900000006,{"$f":"VLOOKUP(A2358,'AFR18'!A:L,12,0)","v":70183102.900000006},0]
[7672,6295768.5700000003,0,6295768.5700000003,{"$f":"VLOOKUP(A2359,'AFR18'!A:L,12,0)","v":6295768.5700000003},0]
[7673,331748,0,331748,{"$f":"VLOOKUP(A2360,'AFR18'!A:L,12,0)","v":331748},0]
[7674,360408,0,360408,{"$f":"VLOOKUP(A2361,'AFR18'!A:L,12,0)","v":360408},0]
[7676,27022763,0,27022763,{"$f":"VLOOKUP(A2362,'AFR18'!A:L,12,0)","v":27022763},0]
[7677,252151,0,252151,{"$f":"VLOOKUP(A2363,'AFR18'!A:L,12,0)","v":252151},0]
[7678,460630,0,460630,{"$f":"VLOOKUP(A2364,'AFR18'!A:L,12,0)","v":460630},0]
[7679,5129537.1000000015,0,5129537.1000000015,{"$f":"VLOOKUP(A2365,'AFR18'!A:L,12,0)","v":5129537.1000000015},0]
[7681,43160339.900000006,0,43160339.900000006,{"$f":"VLOOKUP(A2366,'AFR18'!A:L,12,0)","v":43160339.900000006},0]
[7682,6043617.5700000003,0,6043617.5700000003,{"$f":"VLOOKUP(A2367,'AFR18'!A:L,12,0)","v":6043617.5700000003},0]
[7684,561491,0,561491,{"$f":"VLOOKUP(A2368,'AFR18'!A:L,12,0)","v":561491},0]
[7685,561491,0,561491,{"$f":"VLOOKUP(A2369,'AFR18'!A:L,12,0)","v":561491},0]
[7686,48635868,0,48635868,{"$f":"VLOOKUP(A2370,'AFR18'!A:L,12,0)","v":48635868},0]
[7687,67070538,0,{"$f":"SUM(B2371-C2371)","v":67070538},{"$f":"VLOOKUP(A2371,'AFR18'!A:L,12,0)","v":67070538},{"$f":"SUM(D2371-E2371)","v":0}]
[7688,146451090,0,146451090,{"$f":"VLOOKUP(A2372,'AFR18'!A:L,12,0)","v":146451090},0]
[7689,12249576,0,12249576,{"$f":"VLOOKUP(A2373,'AFR18'!A:L,12,0)","v":12249576},0]
[7690,21978696,0,21978696,{"$f":"VLOOKUP(A2374,'AFR18'!A:L,12,0)","v":21978696},0]
[7691,701289,0,701289,{"$f":"VLOOKUP(A2375,'AFR18'!A:L,12,0)","v":701289},0]
[7692,72653795,0,72653795,{"$f":"VLOOKUP(A2376,'AFR18'!A:L,12,0)","v":72653795},0]
[7693,866900,0,866900,{"$f":"VLOOKUP(A2377,'AFR18'!A:L,12,0)","v":866900},0]
[7694,6995555,0,6995555,{"$f":"VLOOKUP(A2378,'AFR18'!A:L,12,0)","v":6995555},0]
[7695,14028967.1,0,14028967.1,{"$f":"VLOOKUP(A2379,'AFR18'!A:L,12,0)","v":14028967.1},0]
[7697,87060037.129999995,0,87060037.129999995,{"$f":"VLOOKUP(A2380,'AFR18'!A:L,12,0)","v":87060037.129999995},0]
[7698,56649120.009999998,{"$f":"VLOOKUP(A2381,'Crete Monee Totals 5-8'!A:B,2,0)","v":1116167},55532953.009999998,{"$f":"VLOOKUP(A2381,'AFR18'!A:L,12,0)","v":55532953.009999998},0]
[7699,143709157.13999999,{"$f":"VLOOKUP(A2382,'Crete Monee Totals 5-8'!A:B,2,0)","v":1116167},142592990.13999999,{"$f":"VLOOKUP(A2382,'AFR18'!A:L,12,0)","v":142592990.13999999},0]
[7700,54797,0,54797,{"$f":"VLOOKUP(A2383,'AFR18'!A:L,12,0)","v":54797},0]
[7701,704161333,0,704161333,{"$f":"VLOOKUP(A2384,'AFR18'!A:L,12,0)","v":704161333},0]
[7702,704161333,0,704161333,{"$f":"VLOOKUP(A2385,'AFR18'!A:L,12,0)","v":704161333},0]
[7704,11601939,0,11601939,{"$f":"VLOOKUP(A2386,'AFR18'!A:L,12,0)","v":11601939},0]
[7707,198119,0,198119,{"$f":"VLOOKUP(A2387,'AFR18'!A:L,12,0)","v":198119},0]
[7708,27406,0,27406,{"$f":"VLOOKUP(A2388,'AFR18'!A:L,12,0)","v":27406},0]
[7712,1220276,0,1220276,{"$f":"VLOOKUP(A2389,'AFR18'!A:L,12,0)","v":1220276},0]
[7713,390000,0,390000,{"$f":"VLOOKUP(A2390,'AFR18'!A:L,12,0)","v":390000},0]
[7714,153556,0,153556,{"$f":"VLOOKUP(A2391,'AFR18'!A:L,12,0)","v":153556},0]
[7715,543556,0,543556,{"$f":"VLOOKUP(A2392,'AFR18'!A:L,12,0)","v":543556},0]
[7716,6559,0,6559,{"$f":"VLOOKUP(A2393,'AFR18'!A:L,12,0)","v":6559},0]
[7717,6559,0,6559,{"$f":"VLOOKUP(A2394,'AFR18'!A:L,12,0)","v":6559},0]
[7718,95572,0,95572,{"$f":"VLOOKUP(A2395,'AFR18'!A:L,12,0)","v":95572},0]
[7719,95572,0,95572,{"$f":"VLOOKUP(A2396,'AFR18'!A:L,12,0)","v":95572},0]
[7720,37852,0,37852,{"$f":"VLOOKUP(A2397,'AFR18'!A:L,12,0)","v":37852},0]
[7721,37852,0,37852,{"$f":"VLOOKUP(A2398,'AFR18'!A:L,12,0)","v":37852},0]
[7722,719170,0,719170,{"$f":"VLOOKUP(A2399,'AFR18'!A:L,12,0)","v":719170},0]
[7723,719170,0,719170,{"$f":"VLOOKUP(A2400,'AFR18'!A:L,12,0)","v":719170},0]
[7724,203421,0,203421,{"$f":"VLOOKUP(A2401,'AFR18'!A:L,12,0)","v":203421},0]
[7725,203421,0,203421,{"$f":"VLOOKUP(A2402,'AFR18'!A:L,12,0)","v":203421},0]
[7726,294415,0,294415,{"$f":"VLOOKUP(A2403,'AFR18'!A:L,12,0)","v":294415},0]
[7727,294415,0,294415,{"$f":"VLOOKUP(A2404,'AFR18'!A:L,12,0)","v":294415},0]
[7728,497836,0,497836,{"$f":"VLOOKUP(A2405,'AFR18'!A:L,12,0)","v":497836},0]
[7729,497836,0,497836,{"$f":"VLOOKUP(A2406,'AFR18'!A:L,12,0)","v":497836},0]
[7735,497836,0,497836,{"$f":"VLOOKUP(A2407,'AFR18'!A:L,12,0)","v":497836},0]

{"sheet":"Sheet4","index":18,"n_rows":852,"n_cols":8,"rows_kept":852,"cut":false,"hidden":true,"merged":[]}
["ChrAgreNum","cds_dst_name","3612","3613",null,"ChrAgreNum","cds_dst_name","3612"]
["01001001026","Payson CUSD 1",null,null,null,"01001001026","Payson CUSD 1"]
["01001002026","Liberty CUSD 2",null,null,null,"01001002026","Liberty CUSD 2"]
["01001003026","Central CUSD 3",null,null,null,"01001003026","Central CUSD 3"]
["01001004026","CUSD 4",null,null,null,"01001004026","CUSD 4"]
["01001172022","Quincy SD 172",null,null,null,"01001172022","Quincy SD 172"]
["01005001026","Brown County CUSD 1",null,null,null,"01005001026","Brown County CUSD 1"]
["01009015026","Beardstown CUSD 15",null,null,null,"01009015026","Beardstown CUSD 15"]
["01009064026","Virginia CUSD 64",null,null,null,"01009064026","Virginia CUSD 64"]
["01009262026","A-C Central CUSD 262",null,null,null,"01009262026","A-C Central CUSD 262"]
["01069001026","Franklin CUSD 1",null,null,null,"01069001026","Franklin CUSD 1"]
["01069006026","Waverly CUSD 6",null,null,null,"01069006026","Waverly CUSD 6"]
["01069011026","Meredosia-Chambersburg CUSD 11",null,null,null,"01069011026","Meredosia-Chambersburg CUSD 11"]
["01069027026","Triopia CUSD 27",null,null,null,"01069027026","Triopia CUSD 27"]
["01069117022","Jacksonville SD 117",null,null,null,"01069117022","Jacksonville SD 117"]
["01075003026","Pleasant Hill CUSD 3",null,null,null,"01075003026","Pleasant Hill CUSD 3"]
["01075004026","Griggsville-Perry CUSD 4",null,null,null,"01075004026","Griggsville-Perry CUSD 4"]
["01075010026","Pikeland CUSD 10",null,null,null,"01075010026","Pikeland CUSD 10"]
["01075012026","Western CUSD 12",null,null,null,"01075012026","Western CUSD 12"]
["01086001026","Winchester CUSD 1",null,null,null,"01086001026","Winchester CUSD 1"]
["01086002026","Scott-Morgan CUSD 2",null,null,null,"01086002026","Scott-Morgan CUSD 2"]
["03003001026","Mulberry Grove CUSD 1",null,null,null,"03003001026","Mulberry Grove CUSD 1"]
["03003002026","Bond County CUSD 2",null,null,null,"03003002026","Bond County CUSD 2"]
["03011001026","Morrisonville CUSD 1",null,null,null,"03011001026","Morrisonville CUSD 1"]
["03011003026","Taylorville CUSD 3",null,null,null,"03011003026","Taylorville CUSD 3"]
["03011004026","Edinburg CUSD 4",null,null,null,"03011004026","Edinburg CUSD 4"]
["03011008026","Pana CUSD 8",null,null,null,"03011008026","Pana CUSD 8"]
["03011014024","South Fork SD 14",null,null,null,"03011014024","South Fork SD 14"]
["03025010026","Altamont CUSD 10",null,null,null,"03025010026","Altamont CUSD 10"]
["03025020026","Beecher City CUSD 20",null,null,null,"03025020026","Beecher City CUSD 20"]
["03025030026","Dieterich CUSD 30",null,null,null,"03025030026","Dieterich CUSD 30"]
["03025040026","Effingham CUSD 40",null,null,null,"03025040026","Effingham CUSD 40"]
["03025050026","Teutopolis CUSD 50",null,null,null,"03025050026","Teutopolis CUSD 50"]
["03026201026","Brownstown CUSD 201",null,null,null,"03026201026","Brownstown CUSD 201"]
["03026202026","St Elmo CUSD 202",null,null,null,"03026202026","St Elmo CUSD 202"]
["03026203026","Vandalia CUSD 203",null,null,null,"03026203026","Vandalia CUSD 203"]
["03026204026","Ramsey CUSD 204",null,null,null,"03026204026","Ramsey CUSD 204"]
["03068002026","Panhandle CUSD 2",null,null,null,"03068002026","Panhandle CUSD 2"]
["03068003026","Hillsboro CUSD 3",null,null,null,"03068003026","Hillsboro CUSD 3"]
["03068012026","Litchfield CUSD 12",null,null,null,"03068012026","Litchfield CUSD 12"]
["03068022026","Nokomis CUSD 22",null,null,null,"03068022026","Nokomis CUSD 22"]
["04004100026","Belvidere CUSD 100",null,null,null,"04004100026","Belvidere CUSD 100"]
["04004200026","North Boone CUSD 200",null,null,null,"04004200026","North Boone CUSD 200"]
["04101122022","Harlem UD 122",null,null,null,"04101122022","Harlem UD 122"]
["04101131004","Kinnikinnick CCSD 131",null,null,null,"04101131004","Kinnikinnick CCSD 131"]
["04101133004","Prairie Hill CCSD 133",null,null,null,"04101133004","Prairie Hill CCSD 133"]
["04101134004","Shirland CCSD 134",null,null,null,"04101134004","Shirland CCSD 134"]
["04101140004","Rockton SD 140",null,null,null,"04101140004","Rockton SD 140"]
["04101205025","Rockford SD 205",null,null,null,"04101205025","Rockford SD 205"]
["04101207016","Hononegah CHD 207",null,null,null,"04101207016","Hononegah CHD 207"]
["04101320026","County of Winnebago SD 320",null,null,null,"04101320026","County of Winnebago SD 320"]
["04101321026","Pecatonica CUSD 321",null,null,null,"04101321026","Pecatonica CUSD 321"]
["04101322026","Durand CUSD 322",null,null,null,"04101322026","Durand CUSD 322"]
["04101323026","Winnebago CUSD 323",null,null,null,"04101323026","Winnebago CUSD 323"]
["05016015004","Palatine CCSD 15",null,null,null,"05016015004","Palatine CCSD 15"]
["05016021004","Wheeling CCSD 21",null,null,null,"05016021004","Wheeling CCSD 21"]
["05016023002","Prospect Heights SD 23",null,null,null,"05016023002","Prospect Heights SD 23"]
["05016025002","Arlington Heights SD 25",null,null,null,"05016025002","Arlington Heights SD 25"]
["05016026002","River Trails SD 26",null,null,null,"05016026002","River Trails SD 26"]
["05016027002","Northbrook ESD 27",null,null,null,"05016027002","Northbrook ESD 27"]
["05016028002","Northbrook SD 28",null,null,null,"05016028002","Northbrook SD 28"]
["05016029002","Sunset Ridge SD 29",null,null,null,"05016029002","Sunset Ridge SD 29"]
["05016030002","Northbrook/Glenview SD 30",null,null,null,"05016030002","Northbrook/Glenview SD 30"]
["05016031002","West Northfield SD 31",null,null,null,"05016031002","West Northfield SD 31"]
["05016034004","Glenview CCSD 34",null,null,null,"05016034004","Glenview CCSD 34"]
["05016035002","Glencoe SD 35",null,null,null,"05016035002","Glencoe SD 35"]
["05016036002","Winnetka SD 36",null,null,null,"05016036002","Winnetka SD 36"]
["05016037002","Avoca SD 37",null,null,null,"05016037002","Avoca SD 37"]
["05016038002","Kenilworth SD 38",null,null,null,"05016038002","Kenilworth SD 38"]
["05016039002","Wilmette SD 39",null,null,null,"05016039002","Wilmette SD 39"]
["05016054004","Schaumburg CCSD 54",null,null,null,"05016054004","Schaumburg CCSD 54"]
["05016057002","Mount Prospect SD 57",null,null,null,"05016057002","Mount Prospect SD 57"]
["05016059004","Comm Cons SD 59",null,null,null,"05016059004","Comm Cons SD 59"]
["05016062004","CCSD 62",null,null,null,"05016062004","CCSD 62"]
["05016063002","East Maine SD 63",null,null,null,"05016063002","East Maine SD 63"]
["05016064004","Park Ridge CCSD 64",null,null,null,"05016064004","Park Ridge CCSD 64"]
["05016065004","Evanston CCSD 65",null,null,null,"05016065004","Evanston CCSD 65"]
["05016067002","Golf ESD 67",null,null,null,"05016067002","Golf ESD 67"]
["05016068002","Skokie SD 68",null,null,null,"05016068002","Skokie SD 68"]
["05016069002","Skokie SD 69",null,null,null,"05016069002","Skokie SD 69"]
["05016070002","Morton Grove SD 70",null,null,null,"05016070002","Morton Grove SD 70"]
["05016071002","Niles ESD 71",null,null,null,"05016071002","Niles ESD 71"]
["05016072002","Fairview SD 72",null,null,null,"05016072002","Fairview SD 72"]
["05016073002","East Prairie SD 73",null,null,null,"05016073002","East Prairie SD 73"]
["05016073502","Skokie SD 73-5",null,null,null,"05016073502","Skokie SD 73-5"]
["05016074002","Lincolnwood SD 74",null,null,null,"05016074002","Lincolnwood SD 74"]
["05016202017","Evanston Twp HSD 202",null,null,null,"05016202017","Evanston Twp HSD 202"]
["05016203017","New Trier Twp HSD 203",null,null,null,"05016203017","New Trier Twp HSD 203"]
["05016207017","Maine Township HSD 207",null,null,null,"05016207017","Maine Township HSD 207"]
["05016211017","Township HSD 211",null,null,null,"05016211017","Township HSD 211"]
["05016214017","Township HSD 214",null,null,null,"05016214017","Township HSD 214"]
["05016219017","Niles Twp HSD 219",null,null,null,"05016219017","Niles Twp HSD 219"]
["05016225017","Northfield Twp HSD 225",null,null,null,"05016225017","Northfield Twp HSD 225"]
["06016078002","Rosemont ESD 78",null,null,null,"06016078002","Rosemont ESD 78"]
["06016079002","Pennoyer SD 79",null,null,null,"06016079002","Pennoyer SD 79"]
["06016080002","Norridge SD 80",null,null,null,"06016080002","Norridge SD 80",5985]
["06016081002","Schiller Park SD 81",null,null,null,"06016081002","Schiller Park SD 81"]
["06016083002","Mannheim SD 83",null,null,null,"06016083002","Mannheim SD 83"]
["06016084002","Franklin Park SD 84",null,null,null,"06016084002","Franklin Park SD 84"]
["06016084502","Rhodes SD 84-5",null,null,null,"06016084502","Rhodes SD 84-5"]
["06016085502","River Grove SD 85-5",null,null,null,"06016085502","River Grove SD 85-5"]
["06016086002","Union Ridge SD 86",null,null,null,"06016086002","Union Ridge SD 86"]
["06016087002","Berkeley SD 87",null,null,null,"06016087002","Berkeley SD 87"]
["06016088002","Bellwood SD 88",null,null,null,"06016088002","Bellwood SD 88"]
["06016089002","Maywood-Melrose Park-Broadview 89",null,null,null,"06016089002","Maywood-Melrose Park-Broadview 89"]
["06016090002","River Forest SD 90",null,null,null,"06016090002","River Forest SD 90"]
["06016091002","Forest Park SD 91",null,null,null,"06016091002","Forest Park SD 91"]
["06016092002","Lindop SD 92",null,null,null,"06016092002","Lindop SD 92"]
["06016092502","Westchester SD 92-5",null,null,null,"06016092502","Westchester SD 92-5"]
["06016093002","Hillside SD 93",null,null,null,"06016093002","Hillside SD 93"]
["06016094002","Komarek SD 94",null,null,null,"06016094002","Komarek SD 94"]
["06016095002","Brookfield Lagrange Park SD 95",null,null,null,"06016095002","Brookfield Lagrange Park SD 95"]
["06016096002","Riverside SD 96",null,null,null,"06016096002","Riverside SD 96"]
["06016097002","Oak Park ESD 97",null,null,null,"06016097002","Oak Park ESD 97"]
["06016098002","Berwyn North SD 98",null,null,null,"06016098002","Berwyn North SD 98"]
["06016099002","Cicero SD 99",null,null,null,"06016099002","Cicero SD 99"]
["06016100002","Berwyn South SD 100",null,null,null,"06016100002","Berwyn South SD 100"]
["06016101002","Western Springs SD 101",null,null,null,"06016101002","Western Springs SD 101"]
["06016102002","La Grange SD 102",null,null,null,"06016102002","La Grange SD 102"]
["06016103002","Lyons SD 103",null,null,null,"06016103002","Lyons SD 103"]
["06016105002","La Grange SD 105 South",null,null,null,"06016105002","La Grange SD 105 South"]
["06016106002","LaGrange Highlands SD 106",null,null,null,"06016106002","LaGrange Highlands SD 106"]
["06016107002","Pleasantdale SD 107",null,null,null,"06016107002","Pleasantdale SD 107"]
["06016200013","Oak Park - River Forest SD 200",null,null,null,"06016200013","Oak Park - River Forest SD 200"]
["06016201017","J S Morton HSD 201",null,null,null,"06016201017","J S Morton HSD 201"]
["06016204017","Lyons Twp HSD 204",null,null,null,"06016204017","Lyons Twp HSD 204"]
["06016208017","Riverside-Brookfield Twp SD 208",null,null,null,"06016208017","Riverside-Brookfield Twp SD 208"]
["06016209017","Proviso Twp HSD 209",null,null,null,"06016209017","Proviso Twp HSD 209"]
["06016212016","Leyden CHSD 212",null,null,null,"06016212016","Leyden CHSD 212"]
["06016234016","Ridgewood CHSD 234",null,null,null,"06016234016","Ridgewood CHSD 234"]
["06016401026","Elmwood Park CUSD 401",null,null,null,"06016401026","Elmwood Park CUSD 401"]
["07016104002","Summit SD 104",null,null,null,"07016104002","Summit SD 104"]
["07016108002","Willow Springs SD 108",null,null,null,"07016108002","Willow Springs SD 108"]
["07016109002","Indian Springs SD 109",null,null,null,"07016109002","Indian Springs SD 109"]
["07016110002","Central Stickney SD 110",null,null,null,"07016110002","Central Stickney SD 110"]
["07016111002","Burbank SD 111",null,null,null,"07016111002","Burbank SD 111"]
["07016113A02","Lemont-Bromberek CSD 113A",null,null,null,"07016113A02","Lemont-Bromberek CSD 113A"]
["07016117002","North Palos SD 117",null,null,null,"07016117002","North Palos SD 117"]
["07016118004","Palos CCSD 118",null,null,null,"07016118004","Palos CCSD 118"]
["07016122002","Ridgeland SD 122",null,null,null,"07016122002","Ridgeland SD 122"]
["07016123002","Oak Lawn-Hometown SD 123",null,null,null,"07016123002","Oak Lawn-Hometown SD 123"]
["07016124002","Evergreen Park ESD 124",null,null,null,"07016124002","Evergreen Park ESD 124"]
["07016125002","Atwood Heights SD 125",null,null,null,"07016125002","Atwood Heights SD 125"]
["07016126002","Alsip-Hazlgrn-Oaklwn SD 126",null,null,null,"07016126002","Alsip-Hazlgrn-Oaklwn SD 126"]
["07016127002","Worth SD 127",null,null,null,"07016127002","Worth SD 127"]
["07016127502","Chicago Ridge SD 127-5",null,null,null,"07016127502","Chicago Ridge SD 127-5"]
["07016128002","Palos Heights SD 128",null,null,null,"07016128002","Palos Heights SD 128"]
["07016130002","Cook County SD 130",null,null,null,"07016130002","Cook County SD 130"]
["07016132002","Calumet Public SD 132",null,null,null,"07016132002","Calumet Public SD 132"]
["07016133002","Gen George Patton SD 133",null,null,null,"07016133002","Gen George Patton SD 133"]
["07016135002","Orland SD 135",null,null,null,"07016135002","Orland SD 135"]
["07016140002","Kirby SD 140",null,null,null,"07016140002","Kirby SD 140"]
["07016142002","Forest Ridge SD 142",null,null,null,"07016142002","Forest Ridge SD 142"]
["07016143002","Midlothian SD 143",null,null,null,"07016143002","Midlothian SD 143"]
["07016143502","Posen-Robbins ESD 143-5",null,null,null,"07016143502","Posen-Robbins ESD 143-5"]
["07016144002","Prairie-Hills ESD 144",null,null,null,"07016144002","Prairie-Hills ESD 144"]
["07016145002","Arbor Park SD 145",null,null,null,"07016145002","Arbor Park SD 145"]
["07016146004","CCSD 146",null,null,null,"07016146004","CCSD 146"]
["07016147002","W Harvey-Dixmoor PSD 147",null,null,null,"07016147002","W Harvey-Dixmoor PSD 147"]
["07016148002","Dolton SD 148",null,null,null,"07016148002","Dolton SD 148"]
["07016149002","Dolton SD 149",null,null,null,"07016149002","Dolton SD 149"]
["07016150002","South Holland SD 150",null,null,null,"07016150002","South Holland SD 150"]
["07016151002","South Holland SD 151",null,null,null,"07016151002","South Holland SD 151"]
["07016152002","Harvey SD 152",null,null,null,"07016152002","Harvey SD 152"]
["07016152502","Hazel Crest SD 152-5",null,null,null,"07016152502","Hazel Crest SD 152-5"]
["07016153002","Homewood SD 153",null,null,null,"07016153002","Homewood SD 153"]
["07016154002","Thornton SD 154",null,null,null,"07016154002","Thornton SD 154"]
["07016154502","Burnham SD 154-5",null,null,null,"07016154502","Burnham SD 154-5"]
["07016155002","Calumet City SD 155",null,null,null,"07016155002","Calumet City SD 155"]
["07016156002","Lincoln ESD 156",null,null,null,"07016156002","Lincoln ESD 156"]
["07016157002","Hoover-Schrum Memorial SD 157",null,null,null,"07016157002","Hoover-Schrum Memorial SD 157"]
["07016158002","Lansing SD 158",null,null,null,"07016158002","Lansing SD 158"]
["07016159002","ESD 159",null,null,null,"07016159002","ESD 159"]
["07016160002","Country Club Hills SD 160",null,null,null,"07016160002","Country Club Hills SD 160"]
["07016161002","Flossmoor SD 161",null,null,null,"07016161002","Flossmoor SD 161"]
["07016162002","Matteson ESD 162",null,null,null,"07016162002","Matteson ESD 162"]
["07016163002","Park Forest SD 163",null,null,null,"07016163002","Park Forest SD 163"]
["07016167002","Brookwood SD 167",null,null,null,"07016167002","Brookwood SD 167"]
["07016168004","CCSD 168",null,null,null,"07016168004","CCSD 168"]
["07016169002","Ford Heights SD 169",null,null,null,"07016169002","Ford Heights SD 169"]
["07016170002","Chicago Heights SD 170",null,null,null,"07016170002","Chicago Heights SD 170"]
["07016171002","Sunnybrook SD 171",null,null,null,"07016171002","Sunnybrook SD 171"]
["07016172002","Sandridge SD 172",null,null,null,"07016172002","Sandridge SD 172"]
["07016194002","Steger SD 194",null,null,null,"07016194002","Steger SD 194"]
["07016205017","Thornton Twp HSD 205",null,null,null,"07016205017","Thornton Twp HSD 205"]
["07016206017","Bloom Twp HSD 206",null,null,null,"07016206017","Bloom Twp HSD 206"]
["07016210017","Lemont Twp HSD 210",null,null,null,"07016210017","Lemont Twp HSD 210"]
["07016215017","Thornton Fractional Twp HSD 215",null,null,null,"07016215017","Thornton Fractional Twp HSD 215"]
["07016217016","Argo CHSD 217",null,null,null,"07016217016","Argo CHSD 217"]
["07016218016","CHSD 218",null,null,null,"07016218016","CHSD 218"]
["07016220017","Reavis Twp HSD 220",null,null,null,"07016220017","Reavis Twp HSD 220"]
["07016227017","Rich Twp HSD 227",null,null,null,"07016227017","Rich Twp HSD 227"]
["07016228016","Bremen CHSD 228",null,null,null,"07016228016","Bremen CHSD 228"]
["07016229016","Oak Lawn CHSD 229",null,null,null,"07016229016","Oak Lawn CHSD 229"]
["07016230013","Cons HSD 230",null,null,null,"07016230013","Cons HSD 230"]
["07016231016","Evergreen Park CHSD 231",null,null,null,"07016231016","Evergreen Park CHSD 231"]
["07016233016","Homewood Flossmoor CHSD 233",null,null,null,"07016233016","Homewood Flossmoor CHSD 233"]
["08008308026","Eastland CUSD 308",null,null,null,"08008308026","Eastland CUSD 308"]
["08008314026","West Carroll CUSD 314",null,null,null,"08008314026","West Carroll CUSD 314"]
["08008399026","Chadwick-Milledgeville CUSD 399",null,null,null,"08008399026","Chadwick-Milledgeville CUSD 399"]
["08043119022","East Dubuque USD 119",null,null,null,"08043119022","East Dubuque USD 119"]
["08043120022","Galena USD 120",null,null,null,"08043120022","Galena USD 120"]
["08043205026","Warren CUSD 205",null,null,null,"08043205026","Warren CUSD 205"]
["08043206026","Stockton CUSD 206",null,null,null,"08043206026","Stockton CUSD 206"]
["08043210026","River Ridge CUSD 210",null,null,null,"08043210026","River Ridge CUSD 210"]
["08043211026","Scales Mound CUSD 211",null,null,null,"08043211026","Scales Mound CUSD 211"]
["08089145022","Freeport SD 145",null,null,null,"08089145022","Freeport SD 145"]
["08089200026","Pearl City CUSD 200",null,null,null,"08089200026","Pearl City CUSD 200"]
["08089201026","Dakota CUSD 201",null,null,null,"08089201026","Dakota CUSD 201"]
["08089202026","Lena Winslow CUSD 202",null,null,null,"08089202026","Lena Winslow CUSD 202"]
["08089203026","Orangeville CUSD 203",null,null,null,"08089203026","Orangeville CUSD 203"]
["09010001026","Fisher CUSD 1",null,null,null,"09010001026","Fisher CUSD 1"]
["09010003026","Mahomet-Seymour CUSD 3",null,null,null,"09010003026","Mahomet-Seymour CUSD 3"]
["09010004026","Champaign CUSD 4",null,null,null,"09010004026","Champaign CUSD 4"]
["09010007026","Tolono CUSD 7",null,null,null,"09010007026","Tolono CUSD 7"]
["09010008026","Heritage CUSD 8",null,null,null,"09010008026","Heritage CUSD 8"]
["09010116022","Urbana SD 116",null,null,null,"09010116022","Urbana SD 116"]
["09010130004","Thomasboro CCSD 130",null,null,null,"09010130004","Thomasboro CCSD 130"]
["09010137002","Rantoul City SD 137",null,null,null,"09010137002","Rantoul City SD 137"]
["09010142004","Ludlow CCSD 142",null,null,null,"09010142004","Ludlow CCSD 142"]
["09010169004","St Joseph CCSD 169",null,null,null,"09010169004","St Joseph CCSD 169"]
["09010188004","Gifford CCSD 188",null,null,null,"09010188004","Gifford CCSD 188"]
["09010193017","Rantoul Township HSD 193",null,null,null,"09010193017","Rantoul Township HSD 193"]
["09010197004","Prairieview-Ogden CCSD 197",null,null,null,"09010197004","Prairieview-Ogden CCSD 197"]
["09010305016","St Joseph Ogden CHSD 305",null,null,null,"09010305016","St Joseph Ogden CHSD 305"]
["09027005026","Gibson City-Melvin-Sibley CUSD 5",null,null,null,"09027005026","Gibson City-Melvin-Sibley CUSD 5"]
["09027010026","Paxton-Buckley-Loda CUD 10",null,null,null,"09027010026","Paxton-Buckley-Loda CUD 10"]
["11012002C26","Marshall CUSD 2C",null,null,null,"11012002C26","Marshall CUSD 2C"]
["11012003C26","Martinsville CUSD 3C",null,null,null,"11012003C26","Martinsville CUSD 3C"]
["11012004C26","Casey-Westfield CUSD 4C",null,null,null,"11012004C26","Casey-Westfield CUSD 4C"]
["11015001026","Charleston CUSD 1",null,null,null,"11015001026","Charleston CUSD 1"]
["11015002026","Mattoon CUSD 2",null,null,null,"11015002026","Mattoon CUSD 2"]
["11015005026","Oakland CUSD 5",null,null,null,"11015005026","Oakland CUSD 5"]
["11018003026","Neoga CUSD 3",null,null,null,"11018003026","Neoga CUSD 3"]
["11018077026","Cumberland CUSD 77",null,null,null,"11018077026","Cumberland CUSD 77"]
["11021301026","Tuscola CUSD 301",null,null,null,"11021301026","Tuscola CUSD 301"]
["11021302026","Villa Grove CUSD 302",null,null,null,"11021302026","Villa Grove CUSD 302"]
["11021305026","Arthur CUSD 305",null,null,null,"11021305026","Arthur CUSD 305"]
["11021306026","Arcola CUSD 306",null,null,null,"11021306026","Arcola CUSD 306"]
["11023001026","Shiloh CUSD 1",null,null,null,"11023001026","Shiloh CUSD 1"]
["11023003026","Kansas CUSD 3",null,null,null,"11023003026","Kansas CUSD 3"]
["11023004026","Paris CUSD 4",null,null,null,"11023004026","Paris CUSD 4"]
["11023006026","Edgar County CUD 6",null,null,null,"11023006026","Edgar County CUD 6"]
["11023095025","Paris-Union SD 95",null,null,null,"11023095025","Paris-Union SD 95"]
["11070300026","Sullivan CUSD 300",null,null,null,"11070300026","Sullivan CUSD 300"]
["11070302026","Okaw Valley CUSD 302",null,null,null,"11070302026","Okaw Valley CUSD 302"]
["11087001026","Windsor CUSD 1",null,null,null,"11087001026","Windsor CUSD 1"]
["11087003A26","Cowden-Herrick CUSD 3A",null,null,null,"11087003A26","Cowden-Herrick CUSD 3A"]
["11087004026","Shelbyville CUSD 4",null,null,null,"11087004026","Shelbyville CUSD 4"]
["11087005A26","Stewardson-Strasburg CUD 5A",null,null,null,"11087005A26","Stewardson-Strasburg CUD 5A"]
["11087021026","Central A & M CUD 21",null,null,null,"11087021026","Central A & M CUD 21"]
["12013010026","Clay City CUSD 10",null,null,null,"12013010026","Clay City CUSD 10"]
["12013025026","North Clay CUSD 25",null,null,null,"12013025026","North Clay CUSD 25"]
["12013035026","Flora CUSD 35",null,null,null,"12013035026","Flora CUSD 35"]
["12017001026","Hutsonville CUSD 1",null,null,null,"12017001026","Hutsonville CUSD 1"]
["12017002026","Robinson CUSD 2",null,null,null,"12017002026","Robinson CUSD 2"]
["12017003026","Palestine CUSD 3",null,null,null,"12017003026","Palestine CUSD 3"]
["12017004026","Oblong CUSD 4",null,null,null,"12017004026","Oblong CUSD 4"]
["12040001026","Jasper County CUD 1",null,null,null,"12040001026","Jasper County CUD 1"]
["12051010026","Red Hill CUSD 10",null,null,null,"12051010026","Red Hill CUSD 10"]
["12051020026","Lawrence County CUD 20",null,null,null,"12051020026","Lawrence County CUD 20"]
["12080001026","Richland County CUSD 1",null,null,null,"12080001026","Richland County CUSD 1"]
["13014001026","Carlyle CUSD 1",null,null,null,"13014001026","Carlyle CUSD 1"]
["13014003026","Wesclin CUSD 3",null,null,null,"13014003026","Wesclin CUSD 3"]
["13014012004","Breese ESD 12",null,null,null,"13014012004","Breese ESD 12"]
["13014021002","Aviston SD 21",null,null,null,"13014021002","Aviston SD 21"]
["13014046002","Willow Grove SD 46",null,null,null,"13014046002","Willow Grove SD 46"]
["13014057002","Bartelso SD 57",null,null,null,"13014057002","Bartelso SD 57"]
["13014060002","Germantown SD 60",null,null,null,"13014060002","Germantown SD 60"]
["13014062002","Damiansville SD 62",null,null,null,"13014062002","Damiansville SD 62"]
["13014063002","Albers SD 63",null,null,null,"13014063002","Albers SD 63"]
["13014071016","Central CHSD 71",null,null,null,"13014071016","Central CHSD 71"]
["13014141502","St Rose SD 14-15",null,null,null,"13014141502","St Rose SD 14-15"]
["13014186002","North Wamac SD 186",null,null,null,"13014186002","North Wamac SD 186"]
["13041001026","Waltonville CUSD 1",null,null,null,"13041001026","Waltonville CUSD 1"]
["13041002004","Rome CCSD 2",null,null,null,"13041002004","Rome CCSD 2"]
["13041003004","Field CCSD 3",null,null,null,"13041003004","Field CCSD 3"]
["13041005004","Opdyke-Belle-Rive CCSD 5",null,null,null,"13041005004","Opdyke-Belle-Rive CCSD 5"]
["13041006004","Grand Prairie CCSD 6",null,null,null,"13041006004","Grand Prairie CCSD 6"]
["13041012004","McClellan CCSD 12",null,null,null,"13041012004","McClellan CCSD 12"]
["13041079002","Summersville SD 79",null,null,null,"13041079002","Summersville SD 79"]
["13041080002","Mount Vernon SD 80",null,null,null,"13041080002","Mount Vernon SD 80"]
["13041082002","Bethel SD 82",null,null,null,"13041082002","Bethel SD 82"]
["13041099004","Farrington CCSD 99",null,null,null,"13041099004","Farrington CCSD 99"]
["13041178004","Spring Garden CCSD 178",null,null,null,"13041178004","Spring Garden CCSD 178"]
["13041201017","Mt Vernon Twp HSD 201",null,null,null,"13041201017","Mt Vernon Twp HSD 201"]
["13041209027","Woodlawn Unit School District 209",null,null,null,"13041209027","Woodlawn Unit School District 209"]
["13041318027","Bluford Unit School District 318",null,null,null,"13041318027","Bluford Unit School District 318"]
["13058001003","Raccoon Cons SD 1",null,null,null,"13058001003","Raccoon Cons SD 1"]
["13058002003","Kell Cons SD 2",null,null,null,"13058002003","Kell Cons SD 2"]
["13058007004","Iuka CCSD 7",null,null,null,"13058007004","Iuka CCSD 7"]
["13058010004","Selmaville CCSD 10",null,null,null,"13058010004","Selmaville CCSD 10"]
["13058100026","Patoka CUSD 100",null,null,null,"13058100026","Patoka CUSD 100"]
["13058111002","Salem SD 111",null,null,null,"13058111002","Salem SD 111"]
["13058133002","Central City SD 133",null,null,null,"13058133002","Central City SD 133"]
["13058135002","Centralia SD 135",null,null,null,"13058135002","Centralia SD 135"]
["13058200017","Centralia HSD 200",null,null,null,"13058200017","Centralia HSD 200"]
["13058401026","South Central CUD 401",null,null,null,"13058401026","South Central CUD 401"]
["13058501026","Sandoval CUSD 501",null,null,null,"13058501026","Sandoval CUSD 501"]
["13058600016","Salem CHSD 600",null,null,null,"13058600016","Salem CHSD 600"]
["13058722026","Odin PSD 722",null,null,null,"13058722026","Odin PSD 722"]
["13095001004","Oakdale CCSD 1",null,null,null,"13095001004","Oakdale CCSD 1"]
["13095010026","West Washington Co CUD 10",null,null,null,"13095010026","West Washington Co CUD 10"]
["13095011004","Irvington CCSD 11",null,null,null,"13095011004","Irvington CCSD 11"]
["13095015004","Ashley CCSD 15",null,null,null,"13095015004","Ashley CCSD 15"]
["13095049004","Nashville CCSD 49",null,null,null,"13095049004","Nashville CCSD 49"]
["13095099016","Nashville CHSD 99",null,null,null,"13095099016","Nashville CHSD 99"]
["15016299025","City of Chicago SD 299",null,null,null,"15016299025","City of Chicago SD 299"]
["16019424026","Genoa Kingston CUSD 424",null,null,null,"16019424026","Genoa Kingston CUSD 424"]
["16019425026","Indian Creek CUSD 425",null,null,null,"16019425026","Indian Creek CUSD 425"]
["16019426026","Hiawatha CUSD 426",null,null,null,"16019426026","Hiawatha CUSD 426"]
["16019427026","Sycamore CUSD 427",null,null,null,"16019427026","Sycamore CUSD 427"]
["16019428026","DeKalb CUSD 428",null,null,null,"16019428026","DeKalb CUSD 428"]
["16019429026","Hinckley Big Rock CUSD 429",null,null,null,"16019429026","Hinckley Big Rock CUSD 429"]
["16019430026","Sandwich CUSD 430",null,null,null,"16019430026","Sandwich CUSD 430"]
["16019432026","Somonauk CUSD 432",null,null,null,"16019432026","Somonauk CUSD 432"]
["17020015026","Clinton CUSD 15",null,null,null,"17020015026","Clinton CUSD 15"]
["17020018026","Blue Ridge CUSD 18",null,null,null,"17020018026","Blue Ridge CUSD 18"]
["17053005026","Woodland CUSD 5",null,null,null,"17053005026","Woodland CUSD 5"]
["17053006J26","Tri Point CUSD 6-J",null,null,null,"17053006J26","Tri Point CUSD 6-J"]
["17053008026","Prairie Central CUSD 8",null,null,null,"17053008026","Prairie Central CUSD 8"]
["17053074027","Flanagan-Cornell Dist 74",null,null,null,"17053074027","Flanagan-Cornell Dist 74"]
["17053090017","Pontiac Twp HSD 90",null,null,null,"17053090017","Pontiac Twp HSD 90"]
["17053230017","Dwight Twp HSD 230",null,null,null,"17053230017","Dwight Twp HSD 230"]
["17053232002","Dwight Common SD 232",null,null,null,"17053232002","Dwight Common SD 232"]
["17053425004","Rooks Creek CCSD 425",null,null,null,"17053425004","Rooks Creek CCSD 425"]
["17053426004","Cornell CCSD 426",null,null,null,"17053426004","Cornell CCSD 426"]
["17053429004","Pontiac CCSD 429",null,null,null,"17053429004","Pontiac CCSD 429"]
["17053435004","Odell CCSD 435",null,null,null,"17053435004","Odell CCSD 435"]
["17053438004","Saunemin CCSD 438",null,null,null,"17053438004","Saunemin CCSD 438"]
["17054021026","Hartsburg Emden CUSD 21",null,null,null,"17054021026","Hartsburg Emden CUSD 21"]
["17054023026","Mt Pulaski CUSD 23",null,null,null,"17054023026","Mt Pulaski CUSD 23"]
["17054027002","Lincoln ESD 27",237500,237500,null,"17054027002","Lincoln ESD 27"]
["17054061004","Chester-East Lincoln CCSD 61",null,null,null,"17054061004","Chester-East Lincoln CCSD 61"]
["17054088002","New Holland-Middletown ED 88",null,null,null,"17054088002","New Holland-Middletown ED 88"]
["17054092004","West Lincoln-Broadwell ESD 92",null,null,null,"17054092004","West Lincoln-Broadwell ESD 92"]
["17054404016","Lincoln CHSD 404",null,null,null,"17054404016","Lincoln CHSD 404"]
["17064002026","LeRoy CUSD 2",null,null,null,"17064002026","LeRoy CUSD 2"]
["17064003026","Tri Valley CUSD 3",null,null,null,"17064003026","Tri Valley CUSD 3"]
["17064004026","Heyworth CUSD 4",null,null,null,"17064004026","Heyworth CUSD 4"]
["17064005026","McLean County USD 5",null,null,null,"17064005026","McLean County USD 5"]
["17064007026","Lexington CUSD 7",null,null,null,"17064007026","Lexington CUSD 7"]
["17064016026","Olympia CUSD 16",null,null,null,"17064016026","Olympia CUSD 16"]
["17064019026","Ridgeview CUSD 19",null,null,null,"17064019026","Ridgeview CUSD 19"]
["17064087025","Bloomington SD 87",null,null,null,"17064087025","Bloomington SD 87"]
["19022002002","Bensenville SD 2",null,null,null,"19022002002","Bensenville SD 2"]
["19022004002","Addison SD 4",null,null,null,"19022004002","Addison SD 4"]
["19022007002","Wood Dale SD 7",null,null,null,"19022007002","Wood Dale SD 7"]
["19022010002","Itasca SD 10",null,null,null,"19022010002","Itasca SD 10"]
["19022011002","Medinah SD 11",null,null,null,"19022011002","Medinah SD 11"]
["19022012002","Roselle SD 12",null,null,null,"19022012002","Roselle SD 12"]
["19022013002","Bloomingdale SD 13",null,null,null,"19022013002","Bloomingdale SD 13"]
["19022015002","Marquardt SD 15",null,null,null,"19022015002","Marquardt SD 15"]
["19022016002","Queen Bee SD 16",null,null,null,"19022016002","Queen Bee SD 16"]
["19022020002","Keeneyville SD 20",null,null,null,"19022020002","Keeneyville SD 20"]
["19022025002","Benjamin SD 25",null,null,null,"19022025002","Benjamin SD 25"]
["19022033002","West Chicago ESD 33",null,null,null,"19022033002","West Chicago ESD 33"]
["19022034002","Winfield SD 34",null,null,null,"19022034002","Winfield SD 34"]
["19022041002","Glen Ellyn SD 41",null,null,null,"19022041002","Glen Ellyn SD 41"]
["19022044002","Lombard SD 44",null,null,null,"19022044002","Lombard SD 44"]
["19022045002","SD 45 DuPage County",null,null,null,"19022045002","SD 45 DuPage County"]
["19022048002","Salt Creek SD 48",null,null,null,"19022048002","Salt Creek SD 48"]
["19022053002","Butler SD 53",null,null,null,"19022053002","Butler SD 53"]
["19022058002","Downers Grove GSD 58",null,null,null,"19022058002","Downers Grove GSD 58"]
["19022060002","Maercker SD 60",null,null,null,"19022060002","Maercker SD 60"]
["19022061002","Darien SD 61",null,null,null,"19022061002","Darien SD 61"]
["19022062002","Gower SD 62",null,null,null,"19022062002","Gower SD 62"]
["19022063002","Cass SD 63",null,null,null,"19022063002","Cass SD 63"]
["19022066002","Center Cass SD 66",null,null,null,"19022066002","Center Cass SD 66"]
["19022068002","Woodridge SD 68",null,null,null,"19022068002","Woodridge SD 68"]
["19022086017","Hinsdale Twp HSD 86",null,null,null,"19022086017","Hinsdale Twp HSD 86"]
["19022087017","Glenbard Twp HSD 87",null,null,null,"19022087017","Glenbard Twp HSD 87"]
["19022088016","DuPage HSD 88",null,null,null,"19022088016","DuPage HSD 88"]
["19022089004","CCSD 89",null,null,null,"19022089004","CCSD 89"]
["19022093004","CCSD 93",null,null,null,"19022093004","CCSD 93"]
["19022094016","CHSD 94",null,null,null,"19022094016","CHSD 94"]
["19022099016","CHSD 99",null,null,null,"19022099016","CHSD 99"]
["19022100016","Fenton CHSD 100",null,null,null,"19022100016","Fenton CHSD 100"]
["19022108016","Lake Park CHSD 108",null,null,null,"19022108016","Lake Park CHSD 108"]
["19022180004","CCSD 180",null,null,null,"19022180004","CCSD 180"]
["19022181004","Hinsdale CCSD 181",null,null,null,"19022181004","Hinsdale CCSD 181"]
["19022200026","CUSD 200",null,null,null,"19022200026","CUSD 200"]
["19022201026","CUSD 201",null,null,null,"19022201026","CUSD 201"]
["19022202026","Lisle CUSD 202",null,null,null,"19022202026","Lisle CUSD 202"]
["19022203026","Naperville CUSD 203",null,null,null,"19022203026","Naperville CUSD 203"]
["19022204026","Indian Prairie CUSD 204",null,null,null,"19022204026","Indian Prairie CUSD 204"]
["19022205026","Elmhurst SD 205",null,null,null,"19022205026","Elmhurst SD 205"]
["20024001026","Edwards County CUSD 1",null,null,null,"20024001026","Edwards County CUSD 1"]
["20030007026","Gallatin CUSD 7",null,null,null,"20030007026","Gallatin CUSD 7"]
["20033010026","Hamilton Co CUSD 10",null,null,null,"20033010026","Hamilton Co CUSD 10"]
["20035001026","Hardin County CUSD 1",null,null,null,"20035001026","Hardin County CUSD 1"]
["20076001026","Pope Co CUD 1",null,null,null,"20076001026","Pope Co CUD 1"]
["20083001026","Galatia CUSD 1",null,null,null,"20083001026","Galatia CUSD 1"]
["20083002026","Carrier Mills-Stonefort CUSD 2",null,null,null,"20083002026","Carrier Mills-Stonefort CUSD 2"]
["20083003026","Harrisburg CUSD 3",null,null,null,"20083003026","Harrisburg CUSD 3"]
["20083004026","Eldorado CUSD 4",null,null,null,"20083004026","Eldorado CUSD 4"]
["20093017024","Allendale CCSD 17",null,null,null,"20093017024","Allendale CCSD 17"]
["20093348026","Wabash CUSD 348",null,null,null,"20093348026","Wabash CUSD 348"]
["20096006004","New Hope CCSD 6",null,null,null,"20096006004","New Hope CCSD 6"]
["20096014004","Geff CCSD 14",null,null,null,"20096014004","Geff CCSD 14"]
["20096017004","Jasper CCSD 17",null,null,null,"20096017004","Jasper CCSD 17"]
["20096100026","Wayne City CUSD 100",null,null,null,"20096100026","Wayne City CUSD 100"]
["20096112004","Fairfield PSD 112",null,null,null,"20096112004","Fairfield PSD 112"]
["20096200026","North Wayne CUSD 200",null,null,null,"20096200026","North Wayne CUSD 200"]
["20096225016","Fairfield Comm H S Dist 225",null,null,null,"20096225016","Fairfield Comm H S Dist 225"]
["20097001026","Grayville CUSD 1",null,null,null,"20097001026","Grayville CUSD 1"]
["20097003026","Norris City-Omaha-Enfield CUSD 3",null,null,null,"20097003026","Norris City-Omaha-Enfield CUSD 3"]
["20097005026","Carmi-White County CUSD 5",null,null,null,"20097005026","Carmi-White County CUSD 5"]
["21028047004","Benton CCSD 47",null,null,null,"21028047004","Benton CCSD 47"]
["21028091004","Akin CCSD 91",null,null,null,"21028091004","Akin CCSD 91"]
["21028099026","Christopher USD 99",null,null,null,"21028099026","Christopher USD 99"]
["21028103013","Benton Cons HSD 103",null,null,null,"21028103013","Benton Cons HSD 103"]
["21028115004","Ewing Northern CCSD 115",null,null,null,"21028115004","Ewing Northern CCSD 115"]
["21028168026","Frankfort CUSD 168",null,null,null,"21028168026","Frankfort CUSD 168"]
["21028174026","Thompsonville CUSD 174",null,null,null,"21028174026","Thompsonville CUSD 174"]
["21028188026","Zeigler-Royalton CUSD 188",null,null,null,"21028188026","Zeigler-Royalton CUSD 188"]
["21028196026","Sesser-Valier CUSD 196",null,null,null,"21028196026","Sesser-Valier CUSD 196"]
["21044001026","Goreville CUD 1",null,null,null,"21044001026","Goreville CUD 1"]
["21044032003","New Simpson Hill SD 32",null,null,null,"21044032003","New Simpson Hill SD 32"]
["21044043003","Buncombe Cons SD 43",null,null,null,"21044043003","Buncombe Cons SD 43"]
["21044055002","Vienna SD 55",null,null,null,"21044055002","Vienna SD 55"]
["21044064002","Cypress SD 64",null,null,null,"21044064002","Cypress SD 64"]
["21044133017","Vienna HSD 133",null,null,null,"21044133017","Vienna HSD 133"]
["21061001026","Massac UD 1",null,null,null,"21061001026","Massac UD 1"]
["21061038026","Joppa-Maple Grove UD 38",null,null,null,"21061038026","Joppa-Maple Grove UD 38"]
["21100001026","Johnston City CUSD 1",null,null,null,"21100001026","Johnston City CUSD 1"]
["21100002026","Marion CUSD 2",null,null,null,"21100002026","Marion CUSD 2"]
["21100003026","Crab Orchard CUSD 3",null,null,null,"21100003026","Crab Orchard CUSD 3"]
["21100004026","Herrin CUSD 4",null,null,null,"21100004026","Herrin CUSD 4"]
["21100005026","Carterville CUSD 5",null,null,null,"21100005026","Carterville CUSD 5"]
["24032001026","Coal City CUSD 1",null,null,null,"24032001026","Coal City CUSD 1"]
["24032002C02","Mazon-Verona-Kinsman ESD 2C",null,null,null,"24032002C02","Mazon-Verona-Kinsman ESD 2C"]
["24032024C04","Nettle Creek CCSD 24C",null,null,null,"24032024C04","Nettle Creek CCSD 24C"]
["24032054002","Morris SD 54",null,null,null,"24032054002","Morris SD 54"]
["24032060C04","Saratoga CCSD 60C",null,null,null,"24032060C04","Saratoga CCSD 60C"]
["24032072C04","Gardner CCSD 72C",null,null,null,"24032072C04","Gardner CCSD 72C"]
["24032073017","Gardner S Wilmington Twp HSD 73",null,null,null,"24032073017","Gardner S Wilmington Twp HSD 73"]
["24032074003","South Wilmington CCSD 74",null,null,null,"24032074003","South Wilmington CCSD 74"]
["24032075002","Braceville SD 75",null,null,null,"24032075002","Braceville SD 75"]
["24032101016","Morris CHSD 101",null,null,null,"24032101016","Morris CHSD 101"]
["24032111016","Minooka CHSD 111",null,null,null,"24032111016","Minooka CHSD 111"]
["24032201004","Minooka CCSD 201",null,null,null,"24032201004","Minooka CCSD 201"]
["24047018016","Newark CHSD 18",null,null,null,"24047018016","Newark CHSD 18"]
["24047066004","Newark CCSD 66",null,null,null,"24047066004","Newark CCSD 66"]
["24047088026","Plano CUSD 88",null,null,null,"24047088026","Plano CUSD 88"]
["24047090004","Lisbon CCSD 90",null,null,null,"24047090004","Lisbon CCSD 90"]
["24047115026","Yorkville CUSD 115",null,null,null,"24047115026","Yorkville CUSD 115"]
["24047308026","CUSD 308",null,null,null,"24047308026","CUSD 308"]
["26029001026","Astoria CUSD 1",null,null,null,"26029001026","Astoria CUSD 1"]
["26029002026","V I T CUSD 2",null,null,null,"26029002026","V I T CUSD 2"]
["26029003026","CUSD 3 Fulton County",null,null,null,"26029003026","CUSD 3 Fulton County"]
["26029004026","Spoon River Valley CUSD 4",null,null,null,"26029004026","Spoon River Valley CUSD 4"]
["26029066025","Canton Union SD 66",null,null,null,"26029066025","Canton Union SD 66"]
["26029097026","Lewistown CUSD 97",null,null,null,"26029097026","Lewistown CUSD 97"]
["26034307016","Illini West H S Dist 307",null,null,null,"26034307016","Illini West H S Dist 307"]
["26034316026","Warsaw CUSD 316",null,null,null,"26034316026","Warsaw CUSD 316"]
["26034317004","Carthage ESD 317",null,null,null,"26034317004","Carthage ESD 317"]
["26034325026","Nauvoo-Colusa CUSD 325",null,null,null,"26034325026","Nauvoo-Colusa CUSD 325"]
["26034327004","Dallas ESD 327",null,null,null,"26034327004","Dallas ESD 327"]
["26034328024","Hamilton CCSD 328",null,null,null,"26034328024","Hamilton CCSD 328"]
["26034337026","Southeastern CUSD 337",null,null,null,"26034337026","Southeastern CUSD 337"]
["26034347004","La Harpe CSD 347",null,null,null,"26034347004","La Harpe CSD 347"]
["26062103026","West Prairie CUSD 103",null,null,null,"26062103026","West Prairie CUSD 103"]
["26062170026","Bushnell Prairie City CUSD 170",null,null,null,"26062170026","Bushnell Prairie City CUSD 170"]
["26062185026","Macomb CUSD 185",null,null,null,"26062185026","Macomb CUSD 185"]
["26085005026","Schuyler-Industry CUSD 5",null,null,null,"26085005026","Schuyler-Industry CUSD 5"]
["28006017004","Ohio CCSD 17",null,null,null,"28006017004","Ohio CCSD 17"]
["28006084004","Malden CCSD 84",null,null,null,"28006084004","Malden CCSD 84"]
["28006094004","Ladd CCSD 94",null,null,null,"28006094004","Ladd CCSD 94"]
["28006098002","Dalzell SD 98",null,null,null,"28006098002","Dalzell SD 98"]
["28006099004","Spring Valley CCSD 99",null,null,null,"28006099004","Spring Valley CCSD 99"]
["28006103022","DePue USD 103",null,null,null,"28006103022","DePue USD 103"]
["28006115002","Princeton ESD 115",null,null,null,"28006115002","Princeton ESD 115"]
["28006303026","La Moille CUSD 303",null,null,null,"28006303026","La Moille CUSD 303"]
["28006340026","Bureau Valley CUSD 340",null,null,null,"28006340026","Bureau Valley CUSD 340"]
["28006500015","Princeton HSD 500",null,null,null,"28006500015","Princeton HSD 500"]
["28006502017","Hall HSD 502",null,null,null,"28006502017","Hall HSD 502"]
["28006505016","Ohio CHSD 505",null,null,null,"28006505016","Ohio CHSD 505"]
["28037190002","Colona SD 190",null,null,null,"28037190002","Colona SD 190"]
["28037223026","Orion CUSD 223",null,null,null,"28037223026","Orion CUSD 223"]
["28037224026","Galva CUSD 224",null,null,null,"28037224026","Galva CUSD 224"]
["28037225026","AlWood CUSD 225",null,null,null,"28037225026","AlWood CUSD 225"]
["28037226026","Annawan CUSD 226",null,null,null,"28037226026","Annawan CUSD 226"]
["28037227026","Cambridge CUSD 227",null,null,null,"28037227026","Cambridge CUSD 227"]
["28037228026","Geneseo CUSD 228",null,null,null,"28037228026","Geneseo CUSD 228"]
["28037229026","Kewanee CUSD 229",null,null,null,"28037229026","Kewanee CUSD 229"]
["28037230026","Wethersfield CUSD 230",null,null,null,"28037230026","Wethersfield CUSD 230"]
["28088001026","Bradford CUSD 1",null,null,null,"28088001026","Bradford CUSD 1"]
["28088100026","Stark County CUSD 100",null,null,null,"28088100026","Stark County CUSD 100"]
["30002001022","Cairo USD 1",null,null,null,"30002001022","Cairo USD 1"]
["30002005026","Egyptian CUSD 5",null,null,null,"30002005026","Egyptian CUSD 5"]
["30039086003","DeSoto Cons SD 86",null,null,null,"30039086003","DeSoto Cons SD 86"]
["30039095002","Carbondale ESD 95",null,null,null,"30039095002","Carbondale ESD 95"]
["30039130004","Giant City CCSD 130",null,null,null,"30039130004","Giant City CCSD 130"]
["30039140004","Unity Point CCSD 140",null,null,null,"30039140004","Unity Point CCSD 140"]
["30039165016","Carbondale CHSD 165",null,null,null,"30039165016","Carbondale CHSD 165"]
["30039176026","Trico CUSD 176",null,null,null,"30039176026","Trico CUSD 176"]
["30039186026","Murphysboro CUSD 186",null,null,null,"30039186026","Murphysboro CUSD 186"]
["30039196026","Elverado CUSD 196",null,null,null,"30039196026","Elverado CUSD 196"]
["30073005002","Tamaroa School Dist 5",null,null,null,"30073005002","Tamaroa School Dist 5"]
["30073050002","Pinckneyville SD 50",null,null,null,"30073050002","Pinckneyville SD 50"]
["30073101016","Pinckneyville CHSD 101",null,null,null,"30073101016","Pinckneyville CHSD 101"]
["30073204004","CCSD 204",null,null,null,"30073204004","CCSD 204"]
["30073300026","Du Quoin CUSD 300",null,null,null,"30073300026","Du Quoin CUSD 300"]
["30077100026","Century CUSD 100",null,null,null,"30077100026","Century CUSD 100"]
["30077101026","Meridian CUSD 101",null,null,null,"30077101026","Meridian CUSD 101"]
["30091016004","Lick Creek CCSD 16",null,null,null,"30091016004","Lick Creek CCSD 16"]
["30091017022","Cobden SUD 17",null,null,null,"30091017022","Cobden SUD 17"]
["30091037004","Anna CCSD 37",null,null,null,"30091037004","Anna CCSD 37"]
["30091043004","County of Union Sch Dist No43",null,null,null,"30091043004","County of Union Sch Dist No43"]
["30091066022","Dongola USD 66",null,null,null,"30091066022","Dongola USD 66"]
["30091081016","Anna Jonesboro CHSD 81",null,null,null,"30091081016","Anna Jonesboro CHSD 81"]
["30091084026","Shawnee CUSD 84",null,null,null,"30091084026","Shawnee CUSD 84"]
["31045046022","SD U-46",null,null,null,"31045046022","SD U-46"]
["31045101022","Batavia USD 101",null,null,null,"31045101022","Batavia USD 101"]
["31045129022","Aurora West USD 129",null,null,null,"31045129022","Aurora West USD 129"]
["31045131022","Aurora East USD 131",null,null,null,"31045131022","Aurora East USD 131"]
["31045300026","CUSD 300",null,null,null,"31045300026","CUSD 300"]
["31045301026","Central CUSD 301",null,null,null,"31045301026","Central CUSD 301"]
["31045302026","Kaneland CUSD 302",null,null,null,"31045302026","Kaneland CUSD 302"]
["31045303026","St Charles CUSD 303",null,null,null,"31045303026","St Charles CUSD 303"]
["31045304026","Geneva CUSD 304",null,null,null,"31045304026","Geneva CUSD 304"]
["32038003026","Donovan CUSD 3",null,null,null,"32038003026","Donovan CUSD 3"]
["32038004026","Central CUSD 4",null,null,null,"32038004026","Central CUSD 4"]
["32038006026","Cissna Park CUSD 6",null,null,null,"32038006026","Cissna Park CUSD 6"]
["32038009026","Iroquois County CUSD 9",null,null,null,"32038009026","Iroquois County CUSD 9"]
["32038010026","Iroquois West CUSD 10",null,null,null,"32038010026","Iroquois West CUSD 10"]
["32038124026","Milford Area PSD 124",null,null,null,"32038124026","Milford Area PSD 124"]
["32038249026","Crescent Iroquois CUSD 249",null,null,null,"32038249026","Crescent Iroquois CUSD 249"]
["32046001026","Momence CUSD 1",null,null,null,"32046001026","Momence CUSD 1"]
["32046002026","Herscher CUSD 2",null,null,null,"32046002026","Herscher CUSD 2"]
["32046005026","Manteno CUSD 5",null,null,null,"32046005026","Manteno CUSD 5"]
["32046006026","Grant Park CUSD 6",null,null,null,"32046006026","Grant Park CUSD 6"]
["32046053002","Bourbonnais SD 53",null,null,null,"32046053002","Bourbonnais SD 53"]
["32046061002","Bradley SD 61",null,null,null,"32046061002","Bradley SD 61"]
["32046111025","Kankakee SD 111",null,null,null,"32046111025","Kankakee SD 111"]
["32046256004","St Anne CCSD 256",null,null,null,"32046256004","St Anne CCSD 256"]
["32046258004","St George CCSD 258",null,null,null,"32046258004","St George CCSD 258"]
["32046259004","Pembroke CCSD 259",null,null,null,"32046259004","Pembroke CCSD 259"]
["32046302016","St Anne CHSD 302",null,null,null,"32046302016","St Anne CHSD 302"]
["32046307016","Bradley Bourbonnais CHSD 307",null,null,null,"32046307016","Bradley Bourbonnais CHSD 307"]
["33036235026","West Central CUSD 235",null,null,null,"33036235026","West Central CUSD 235"]
["33048202026","Knoxville CUSD 202",null,null,null,"33048202026","Knoxville CUSD 202"]
["33048205026","Galesburg CUSD 205",null,null,null,"33048205026","Galesburg CUSD 205"]
["33048208026","R O W V A CUSD 208",null,null,null,"33048208026","R O W V A CUSD 208"]
["33048210026","Williamsfield CUSD 210",null,null,null,"33048210026","Williamsfield CUSD 210"]
["33048276026","Abingdon-Avon CUSD 276",null,null,null,"33048276026","Abingdon-Avon CUSD 276"]
["33066404026","Mercer County School District 404",null,null,null,"33066404026","Mercer County School District 404"]
["33094238026","Monmouth-Roseville CUSD 238",null,null,null,"33094238026","Monmouth-Roseville CUSD 238"]
["33094304026","United CUSD 304",null,null,null,"33094304026","United CUSD 304"]
["34049001002","Winthrop Harbor SD 1",null,null,null,"34049001002","Winthrop Harbor SD 1"]
["34049003004","Beach Park CCSD 3",null,null,null,"34049003004","Beach Park CCSD 3"]
["34049006002","Zion ESD 6",null,null,null,"34049006002","Zion ESD 6"]
["34049024004","Millburn CCSD 24",null,null,null,"34049024004","Millburn CCSD 24"]
["34049033002","Emmons SD 33",null,null,null,"34049033002","Emmons SD 33"]
["34049034004","Antioch CCSD 34",null,null,null,"34049034004","Antioch CCSD 34"]
["34049036002","Grass Lake SD 36",null,null,null,"34049036002","Grass Lake SD 36"]
["34049037002","Gavin SD 37",null,null,null,"34049037002","Gavin SD 37"]
["34049038002","Big Hollow SD 38",null,null,null,"34049038002","Big Hollow SD 38"]
["34049041004","Lake Villa CCSD 41",null,null,null,"34049041004","Lake Villa CCSD 41"]
["34049046004","Grayslake CCSD 46",null,null,null,"34049046004","Grayslake CCSD 46"]
["34049050004","Woodland CCSD 50",null,null,null,"34049050004","Woodland CCSD 50"]
["34049056002","Gurnee SD 56",null,null,null,"34049056002","Gurnee SD 56"]
["34049060026","Waukegan CUSD 60",null,null,null,"34049060026","Waukegan CUSD 60"]
["34049065002","Lake Bluff ESD 65",null,null,null,"34049065002","Lake Bluff ESD 65"]
["34049067005","Lake Forest SD 67",null,null,null,"34049067005","Lake Forest SD 67"]
["34049068002","Oak Grove SD 68 Green Oaks",null,null,null,"34049068002","Oak Grove SD 68 Green Oaks"]
["34049070002","Libertyville SD 70",null,null,null,"34049070002","Libertyville SD 70"]
["34049072002","Rondout SD 72",null,null,null,"34049072002","Rondout SD 72"]
["34049073004","Hawthorn CCSD 73",null,null,null,"34049073004","Hawthorn CCSD 73"]
["34049075002","Mundelein ESD 75",null,null,null,"34049075002","Mundelein ESD 75"]
["34049076002","Diamond Lake SD 76",null,null,null,"34049076002","Diamond Lake SD 76"]
["34049079002","Fremont SD 79",null,null,null,"34049079002","Fremont SD 79"]
["34049095026","Lake Zurich CUSD 95",null,null,null,"34049095026","Lake Zurich CUSD 95"]
["34049096004","Kildeer Countryside CCSD 96",null,null,null,"34049096004","Kildeer Countryside CCSD 96"]
["34049102004","Aptakisic-Tripp CCSD 102",null,null,null,"34049102004","Aptakisic-Tripp CCSD 102"]
["34049103002","Lincolnshire-Prairieview SD 103",null,null,null,"34049103002","Lincolnshire-Prairieview SD 103"]
["34049106002","Bannockburn SD 106",null,null,null,"34049106002","Bannockburn SD 106"]
["34049109002","Deerfield SD 109",null,null,null,"34049109002","Deerfield SD 109"]
["34049112002","North Shore SD 112",null,null,null,"34049112002","North Shore SD 112"]
["34049113017","Twp HSD 113",null,null,null,"34049113017","Twp HSD 113"]
["34049115016","Lake Forest CHSD 115",null,null,null,"34049114002","Fox Lake GSD 114"]
["34049116026","Round Lake CUSD 116",null,null,null,"34049115016","Lake Forest CHSD 115"]
["34049117016","CHSD 117",null,null,null,"34049116026","Round Lake CUSD 116"]
["34049118026","Wauconda CUSD 118",null,null,null,"34049117016","CHSD 117"]
["34049120013","Mundelein Cons HSD 120",null,null,null,"34049118026","Wauconda CUSD 118"]
["34049121017","Warren Twp HSD 121",null,null,null,"34049120013","Mundelein Cons HSD 120"]
["34049124016","Grant CHSD 124",null,null,null,"34049121017","Warren Twp HSD 121"]
["34049125013","Adlai E Stevenson HSD 125",null,null,null,"34049124016","Grant CHSD 124"]
["34049126017","Zion-Benton Twp HSD 126",null,null,null,"34049125013","Adlai E Stevenson HSD 125"]
["34049127016","Grayslake CHSD 127",null,null,null,"34049126017","Zion-Benton Twp HSD 126"]
["34049128016","CHSD 128",null,null,null,"34049127016","Grayslake CHSD 127"]
["34049187026","North Chicago SD 187",null,null,null,"34049128016","CHSD 128"]
["34049220026","Barrington CUSD 220",null,null,null,"34049187026","North Chicago SD 187"]
["35050001026","Leland CUSD 1",null,null,null,"34049220026","Barrington CUSD 220"]
["35050002026","Serena CUSD 2",null,null,null,"35050001026","Leland CUSD 1"]
["35050009026","Earlville CUSD 9",null,null,null,"35050002026","Serena CUSD 2"]
["35050017504","Dimmick Comm Cons SD #175",null,null,null,"35050009026","Earlville CUSD 9"]
["35050040017","Streator Twp HSD 40",null,null,null,"35050017504","Dimmick Comm Cons SD #175"]
["35050044002","Streator ESD 44",null,null,null,"35050040017","Streator Twp HSD 40"]
["35050065004","Allen-Otter Creek CCSD 65",null,null,null,"35050044002","Streator ESD 44"]
["35050079004","Tonica CCSD 79",null,null,null,"35050065004","Allen-Otter Creek CCSD 65"]
["35050082004","Deer Park CCSD 82",null,null,null,"35050079004","Tonica CCSD 79"]
["35050095004","Grand Ridge CCSD 95",null,null,null,"35050082004","Deer Park CCSD 82"]
["35050120017","La Salle-Peru Twp HSD 120",null,null,null,"35050095004","Grand Ridge CCSD 95"]
["35050122002","La Salle ESD 122",null,null,null,"35050120017","La Salle-Peru Twp HSD 120"]
["35050124002","Peru ESD 124",null,null,null,"35050122002","La Salle ESD 122"]
["35050125002","Oglesby ESD 125",null,null,null,"35050124002","Peru ESD 124"]
["35050140017","Ottawa Twp HSD 140",null,null,null,"35050125002","Oglesby ESD 125"]
["35050141002","Ottawa ESD 141",null,null,null,"35050140017","Ottawa Twp HSD 140"]
["35050150002","Marseilles ESD 150",null,null,null,"35050141002","Ottawa ESD 141"]
["35050160017","Seneca Twp HSD 160",null,null,null,"35050150002","Marseilles ESD 150"]
["35050170004","Seneca CCSD 170",null,null,null,"35050160017","Seneca Twp HSD 160"]
["35050185004","Waltham CCSD 185",null,null,null,"35050170004","Seneca CCSD 170"]
["35050195004","Wallace CCSD 195",null,null,null,"35050185004","Waltham CCSD 185"]
["35050210004","Miller Twp CCSD 210",null,null,null,"35050195004","Wallace CCSD 195"]
["35050230004","Rutland CCSD 230",null,null,null,"35050210004","Miller Twp CCSD 210"]
["35050280017","Mendota Twp HSD 280",null,null,null,"35050230004","Rutland CCSD 230"]
["35050289004","Mendota CCSD 289",null,null,null,"35050280017","Mendota Twp HSD 280"]
["35050425026","Lostant CUSD 425",null,null,null,"35050289004","Mendota CCSD 289"]
["35059005026","Henry-Senachwine CUSD 5",null,null,null,"35050425026","Lostant CUSD 425"]
["35059007026","Midland CUSD 7",null,null,null,"35059005026","Henry-Senachwine CUSD 5"]
["35078535026","Putnam County CUSD 535",null,null,null,"35059007026","Midland CUSD 7"]
["39055001026","Argenta-Oreana CUSD 1",null,null,null,"35078535026","Putnam County CUSD 535"]
["39055002026","Maroa Forsyth CUSD 2",null,null,null,"39055001026","Argenta-Oreana CUSD 1"]
["39055003026","Mt Zion CUSD 3",null,null,null,"39055002026","Maroa Forsyth CUSD 2"]
["39055009026","Sangamon Valley CUSD 9",null,null,null,"39055003026","Mt Zion CUSD 3"]
["39055011026","Warrensburg-Latham CUSD 11",null,null,null,"39055009026","Sangamon Valley CUSD 9"]
["39055015026","Meridian CUSD 15",null,null,null,"39055011026","Warrensburg-Latham CUSD 11"]
["39055061025","Decatur SD 61",null,null,null,"39055015026","Meridian CUSD 15"]
["39074005026","Bement CUSD 5",null,null,null,"39055061025","Decatur SD 61"]
["39074025026","Monticello CUSD 25",null,null,null,"39074005026","Bement CUSD 5"]
["39074057026","Deland-Weldon CUSD 57",null,null,null,"39074025026","Monticello CUSD 25"]
["39074100026","Cerro Gordo CUSD 100",null,null,null,"39074057026","Deland-Weldon CUSD 57"]
["40007040026","Calhoun CUSD 40",null,null,null,"39074100026","Cerro Gordo CUSD 100"]
["40007042026","Brussels CUSD 42",null,null,null,"40007040026","Calhoun CUSD 40"]
["40031001026","Carrollton CUSD 1",null,null,null,"40007042026","Brussels CUSD 42"]
["40031003026","North Greene CUSD 3",null,null,null,"40031001026","Carrollton CUSD 1"]
["40031010026","Greenfield CUSD 10",null,null,null,"40031003026","North Greene CUSD 3"]
["40042100026","Jersey CUSD 100",null,null,null,"40031010026","Greenfield CUSD 10"]
["40056001026","Carlinville CUSD 1",null,null,null,"40042100026","Jersey CUSD 100"]
["40056002026","Northwestern CUSD 2",null,null,null,"40056001026","Carlinville CUSD 1"]
["40056005026","Mount Olive CUSD 5",null,null,null,"40056002026","Northwestern CUSD 2"]
["40056006026","Staunton CUSD 6",null,null,null,"40056005026","Mount Olive CUSD 5"]
["40056007026","Gillespie CUSD 7",null,null,null,"40056006026","Staunton CUSD 6"]
["40056008026","Bunker Hill CUSD 8",null,null,null,"40056007026","Gillespie CUSD 7"]
["40056009026","Southwestern CUSD 9",null,null,null,"40056008026","Bunker Hill CUSD 8"]
["40056034026","North Mac CUSD 34",null,null,null,"40056009026","Southwestern CUSD 9"]
["41057001026","Roxana CUSD 1",null,null,null,"40056034026","North Mac CUSD 34"]
["41057002026","Triad CUSD 2",null,null,null,"41057001026","Roxana CUSD 1"]
["41057003026","Venice CUSD 3",null,null,null,"41057002026","Triad CUSD 2"]
["41057005026","Highland CUSD 5",null,null,null,"41057003026","Venice CUSD 3"]
["41057007026","Edwardsville CUSD 7",null,null,null,"41057005026","Highland CUSD 5"]
["41057008026","Bethalto CUSD 8",null,null,null,"41057007026","Edwardsville CUSD 7"]
["41057009026","Granite City CUSD 9",null,null,null,"41057008026","Bethalto CUSD 8"]
["41057010026","Collinsville CUSD 10",null,null,null,"41057009026","Granite City CUSD 9"]
["41057011026","Alton CUSD 11",null,null,null,"41057010026","Collinsville CUSD 10"]
["41057012026","Madison CUSD 12",null,null,null,"41057011026","Alton CUSD 11"]
["41057013002","East Alton SD 13",null,null,null,"41057012026","Madison CUSD 12"]
["41057014016","East Alton-Wood River CHSD 14",null,null,null,"41057013002","East Alton SD 13"]
["41057015003","Wood River-Hartford ESD 15",null,null,null,"41057014016","East Alton-Wood River CHSD 14"]
["44063002003","Nippersink SD 2",null,null,null,"41057015003","Wood River-Hartford ESD 15"]
["44063003003","Fox River Grove Cons SD 3",null,null,null,"44063002003","Nippersink SD 2"]
["44063012026","Johnsburg CUSD 12",null,null,null,"44063003003","Fox River Grove Cons SD 3"]
["44063015004","McHenry CCSD 15",null,null,null,"44063012026","Johnsburg CUSD 12"]
["44063018004","Riley CCSD 18",null,null,null,"44063015004","McHenry CCSD 15"]
["44063019024","Alden Hebron SD 19",null,null,null,"44063018004","Riley CCSD 18"]
["44063026004","Cary CCSD 26",null,null,null,"44063019024","Alden Hebron SD 19"]
["44063036002","Harrison SD 36",null,null,null,"44063026004","Cary CCSD 26"]
["44063046003","Prairie Grove CSD 46",null,null,null,"44063036002","Harrison SD 36"]
["44063047004","Crystal Lake CCSD 47",null,null,null,"44063046003","Prairie Grove CSD 46"]
["44063050026","Harvard CUSD 50",null,null,null,"44063047004","Crystal Lake CCSD 47"]
["44063154016","Marengo CHSD 154",null,null,null,"44063050026","Harvard CUSD 50"]
["44063155016","CHSD 155",null,null,null,"44063154016","Marengo CHSD 154"]
["44063156016","McHenry CHSD 156",null,null,null,"44063155016","CHSD 155"]
["44063157016","Richmond-Burton CHSD 157",null,null,null,"44063156016","McHenry CHSD 156"]
["44063158022","Huntley Comm Sch Dist 158",null,null,null,"44063157016","Richmond-Burton CHSD 157"]
["44063165003","Marengo-Union E Cons D 165",null,null,null,"44063158022","Huntley Comm Sch Dist 158"]
["44063200026","Woodstock CUSD 200",null,null,null,"44063165003","Marengo-Union E Cons D 165"]
["45067003026","Valmeyer CUSD 3",null,null,null,"44063200026","Woodstock CUSD 200"]
["45067004026","Columbia CUSD 4",null,null,null,"45067003026","Valmeyer CUSD 3"]
["45067005026","Waterloo CUSD 5",null,null,null,"45067004026","Columbia CUSD 4"]
["45079001022","Coulterville USD 1",null,null,null,"45067005026","Waterloo CUSD 5"]
["45079122019","Chester N HSD 122",null,null,null,"45079001022","Coulterville USD 1"]
["45079132026","Red Bud CUSD 132",null,null,null,"45079122019","Chester N HSD 122"]
["45079134004","Prairie Du Rocher CCSD 134",null,null,null,"45079132026","Red Bud CUSD 132"]
["45079138026","Steeleville CUSD 138",null,null,null,"45079134004","Prairie Du Rocher CCSD 134"]
["45079139026","Chester CUSD 139",null,null,null,"45079138026","Steeleville CUSD 138"]
["45079140026","Sparta CUSD 140",null,null,null,"45079139026","Chester CUSD 139"]
["47052170022","Dixon USD 170",null,null,null,"45079140026","Sparta CUSD 140"]
["47052220002","Steward ESD 220",null,null,null,"47052170022","Dixon USD 170"]
["47052271026","Paw Paw CUSD 271",null,null,null,"47052220002","Steward ESD 220"]
["47052272026","Amboy CUSD 272",null,null,null,"47052271026","Paw Paw CUSD 271"]
["47052275026","Ashton-Franklin Center CUSD 275",null,null,null,"47052272026","Amboy CUSD 272"]
["47071144003","Kings Cons SD 144",null,null,null,"47052275026","Ashton-Franklin Center CUSD 275"]
["47071161004","Creston CCSD 161",null,null,null,"47071144003","Kings Cons SD 144"]
["47071212017","Rochelle Twp HSD 212",null,null,null,"47071161004","Creston CCSD 161"]
["47071220026","Oregon CUSD 220",null,null,null,"47071212017","Rochelle Twp HSD 212"]
["47071221026","Forrestville Valley CUSD 221",null,null,null,"47071220026","Oregon CUSD 220"]
["47071222026","Polo CUSD 222",null,null,null,"47071221026","Forrestville Valley CUSD 221"]
["47071223026","Meridian CUSD 223",null,null,null,"47071222026","Polo CUSD 222"]
["47071226026","Byron CUSD 226",null,null,null,"47071223026","Meridian CUSD 223"]
["47071231004","Rochelle CCSD 231",null,null,null,"47071226026","Byron CUSD 226"]
["47071269004","Eswood CCSD 269",null,null,null,"47071231004","Rochelle CCSD 231"]
["47098001026","Erie CUSD 1",null,null,null,"47071269004","Eswood CCSD 269"]
["47098002026","River Bend CUSD 2",null,null,null,"47098001026","Erie CUSD 1"]
["47098003026","Prophetstown-Lyndon-Tampico CUSD3",null,null,null,"47098002026","River Bend CUSD 2"]
["47098005026","Sterling CUSD 5",null,null,null,"47098003026","Prophetstown-Lyndon-Tampico CUSD3"]
["47098006026","Morrison CUSD 6",null,null,null,"47098005026","Sterling CUSD 5"]
["47098013002","Rock Falls ESD 13",null,null,null,"47098006026","Morrison CUSD 6"]
["47098020002","East Coloma - Nelson CESD 20",null,null,null,"47098013002","Rock Falls ESD 13"]
["47098145004","Montmorency CCSD 145",null,null,null,"47098020002","East Coloma - Nelson CESD 20"]
["47098301017","Rock Falls Twp HSD 301",null,null,null,"47098145004","Montmorency CCSD 145"]
["48072062002","Pleasant Valley SD 62",null,null,null,"47098301017","Rock Falls Twp HSD 301"]
["48072063002","Norwood ESD 63",null,null,null,"48072062002","Pleasant Valley SD 62"]
["48072066002","Bartonville SD 66",null,null,null,"48072063002","Norwood ESD 63"]
["48072068002","Oak Grove SD 68  Bartonville",null,null,null,"48072066002","Bartonville SD 66"]
["48072069002","Pleasant Hill SD 69",null,null,null,"48072068002","Oak Grove SD 68  Bartonville"]
["48072070002","Monroe SD 70",null,null,null,"48072069002","Pleasant Hill SD 69"]
["48072150025","Peoria SD 150",null,null,null,"48072070002","Monroe SD 70"]
["48072265026","Farmington Central CUSD 265",null,null,null,"48072150025","Peoria SD 150"]
["48072309026","Brimfield CUSD 309",null,null,null,"48072265026","Farmington Central CUSD 265"]
["48072310016","Limestone CHSD 310",null,null,null,"48072309026","Brimfield CUSD 309"]
["48072316004","Limestone Walters CCSD 316",null,null,null,"48072310016","Limestone CHSD 310"]
["48072321026","Il Valley Central USD 321",null,null,null,"48072316004","Limestone Walters CCSD 316"]
["48072322026","Elmwood CUSD 322",null,null,null,"48072321026","Il Valley Central USD 321"]
["48072323026","Dunlap CUSD 323",null,null,null,"48072322026","Elmwood CUSD 322"]
["48072325026","Peoria Heights CUSD 325",null,null,null,"48072323026","Dunlap CUSD 323"]
["48072326026","Princeville CUSD 326",null,null,null,"48072325026","Peoria Heights CUSD 325"]
["48072327026","Illini Bluffs CUSD 327",null,null,null,"48072326026","Princeville CUSD 326"]
["48072328003","Hollis Cons SD 328",null,null,null,"48072327026","Illini Bluffs CUSD 327"]
["49081029002","Hampton SD 29",null,null,null,"48072328003","Hollis Cons SD 328"]
["49081030017","United Twp HSD 30",null,null,null,"49081029002","Hampton SD 29"]
["49081034002","Silvis SD 34",null,null,null,"49081030017","United Twp HSD 30"]
["49081036002","Carbon Cliff-Barstow SD 36",null,null,null,"49081034002","Silvis SD 34"]
["49081037002","East Moline SD 37",null,null,null,"49081036002","Carbon Cliff-Barstow SD 36"]
["49081040022","Moline-Coal Valley CUSD 40",null,null,null,"49081037002","East Moline SD 37"]
["49081041025","Rock Island SD 41",null,null,null,"49081040022","Moline-Coal Valley CUSD 40"]
["49081100026","Riverdale CUSD 100",null,null,null,"49081041025","Rock Island SD 41"]
["49081200026","Sherrard CUSD 200",null,null,null,"49081100026","Riverdale CUSD 100"]
["49081300026","Rockridge CUSD 300",null,null,null,"49081200026","Sherrard CUSD 200"]
["50082009026","Lebanon CUSD 9",null,null,null,"49081300026","Rockridge CUSD 300"]
["50082019026","Mascoutah CUD 19",null,null,null,"50082009026","Lebanon CUSD 9"]
["50082030003","St Libory Cons SD 30",null,null,null,"50082019026","Mascoutah CUD 19"]
["50082040026","Marissa CUSD 40",null,null,null,"50082030003","St Libory Cons SD 30"]
["50082060026","New Athens CUSD 60",null,null,null,"50082040026","Marissa CUSD 40"]
["50082070004","Freeburg CCSD 70",null,null,null,"50082060026","New Athens CUSD 60"]
["50082077016","Freeburg CHSD 77",null,null,null,"50082070004","Freeburg CCSD 70"]
["50082085002","Shiloh Village SD 85",null,null,null,"50082077016","Freeburg CHSD 77"]
["50082090004","O Fallon CCSD 90",null,null,null,"50082085002","Shiloh Village SD 85"]
["50082104002","Central SD 104",null,null,null,"50082090004","O Fallon CCSD 90"]
["50082105002","Pontiac-W Holliday SD 105",null,null,null,"50082104002","Central SD 104"]
["50082110004","Grant CCSD 110",null,null,null,"50082105002","Pontiac-W Holliday SD 105"]
["50082113002","Wolf Branch SD 113",null,null,null,"50082110004","Grant CCSD 110"]
["50082115002","Whiteside SD 115",null,null,null,"50082113002","Wolf Branch SD 113"]
["50082116002","High Mount SD 116",null,null,null,"50082115002","Whiteside SD 115"]
["50082118002","Belleville SD 118",null,null,null,"50082116002","High Mount SD 116"]
["50082119002","Belle Valley SD 119",null,null,null,"50082118002","Belleville SD 118"]
["50082130004","Smithton CCSD 130",null,null,null,"50082119002","Belle Valley SD 119"]
["50082160004","Millstadt CCSD 160",null,null,null,"50082130004","Smithton CCSD 130"]
["50082175002","Harmony Emge SD 175",null,null,null,"50082160004","Millstadt CCSD 160"]
["50082181002","Signal Hill SD 181",null,null,null,"50082175002","Harmony Emge SD 175"]
["50082187026","Cahokia CUSD 187",null,null,null,"50082181002","Signal Hill SD 181"]
["50082188022","Brooklyn UD 188",null,null,null,"50082187026","Cahokia CUSD 187"]
["50082189022","East St Louis SD 189",null,null,null,"50082188022","Brooklyn UD 188"]
["50082196026","Dupo CUSD 196",null,null,null,"50082189022","East St Louis SD 189"]
["50082201017","Belleville Twp HSD 201",null,null,null,"50082196026","Dupo CUSD 196"]
["50082203017","O Fallon Twp HSD 203",null,null,null,"50082201017","Belleville Twp HSD 201"]
["51065200026","Greenview CUSD 200",null,null,null,"50082203017","O Fallon Twp HSD 203"]
["51065202026","Porta CUSD 202",null,null,null,"51065200026","Greenview CUSD 200"]
["51065213026","Athens CUSD 213",null,null,null,"51065202026","Porta CUSD 202"]
["51084001026","Tri City CUSD 1",null,null,null,"51065213026","Athens CUSD 213"]
["51084003A26","Rochester CUSD 3A",null,null,null,"51084001026","Tri City CUSD 1"]
["51084005026","Ball Chatham CUSD 5",null,null,null,"51084003A26","Rochester CUSD 3A"]
["51084008026","Pleasant Plains CUSD 8",null,null,null,"51084005026","Ball Chatham CUSD 5"]
["51084010026","Auburn CUSD 10",null,null,null,"51084008026","Pleasant Plains CUSD 8"]
["51084011026","Pawnee CUSD 11",null,null,null,"51084010026","Auburn CUSD 10"]
["51084014026","Riverton CUSD 14",null,null,null,"51084011026","Pawnee CUSD 11"]
["51084015026","Williamsville CUSD 15",null,null,null,"51084014026","Riverton CUSD 14"]
["51084016026","New Berlin CUSD 16",null,null,null,"51084015026","Williamsville CUSD 15"]
["51084186025","Springfield SD 186",null,null,null,"51084016026","New Berlin CUSD 16"]
["53060126026","Havana CUSD 126",null,null,null,"51084186025","Springfield SD 186"]
["53060189026","Illini Central CUSD 189",null,null,null,"53060126026","Havana CUSD 126"]
["53060191026","Midwest Central CUSD 191",null,null,null,"53060189026","Illini Central CUSD 189"]
["53090050002","District 50 Schools",null,null,null,"53060191026","Midwest Central CUSD 191"]
["53090051002","Central SD 51",null,null,null,"53090050002","District 50 Schools"]
["53090052002","Washington SD 52",null,null,null,"53090051002","Central SD 51"]
["53090076002","Creve Coeur SD 76",null,null,null,"53090052002","Washington SD 52"]
["53090085002","Robein SD 85",null,null,null,"53090076002","Creve Coeur SD 76"]
["53090086002","East Peoria SD 86",null,null,null,"53090085002","Robein SD 85"]
["53090098002","Rankin CSD 98",null,null,null,"53090086002","East Peoria SD 86"]
["53090102002","N Pekin & Marquette Hght SD 102",null,null,null,"53090098002","Rankin CSD 98"]
["53090108002","Pekin PSD 108",null,null,null,"53090102002","N Pekin & Marquette Hght SD 102"]
["53090137002","South Pekin SD 137",null,null,null,"53090108002","Pekin PSD 108"]
["53090303016","Pekin CSD 303",null,null,null,"53090137002","South Pekin SD 137"]
["53090308016","Washington CHSD 308",null,null,null,"53090303016","Pekin CSD 303"]
["53090309016","East Peoria CHSD 309",null,null,null,"53090308016","Washington CHSD 308"]
["53090606004","Spring Lake CCSD 606",null,null,null,"53090309016","East Peoria CHSD 309"]
["53090701026","Deer Creek-Mackinaw CUSD 701",null,null,null,"53090606004","Spring Lake CCSD 606"]
["53090702026","Tremont CUSD 702",null,null,null,"53090701026","Deer Creek-Mackinaw CUSD 701"]
["53090703026","Delavan CUSD 703",null,null,null,"53090702026","Tremont CUSD 702"]
["53090709026","Morton CUSD 709",null,null,null,"53090703026","Delavan CUSD 703"]
["53102001004","Metamora CCSD 1",null,null,null,"53090709026","Morton CUSD 709"]
["53102002004","Riverview CCSD 2",null,null,null,"53102001004","Metamora CCSD 1"]
["53102006026","Fieldcrest CUSD 6",null,null,null,"53102002004","Riverview CCSD 2"]
["53102011026","El Paso-Gridley CUSD 11",null,null,null,"53102006026","Fieldcrest CUSD 6"]
["53102021026","Lowpoint-Washburn CUSD 21",null,null,null,"53102011026","El Paso-Gridley CUSD 11"]
["53102060026","Roanoke Benson CUSD 60",null,null,null,"53102021026","Lowpoint-Washburn CUSD 21"]
["53102069002","Germantown Hills SD 69",null,null,null,"53102060026","Roanoke Benson CUSD 60"]
["53102122017","County of Woodford School",null,null,null,"53102069002","Germantown Hills SD 69"]
["53102140026","Eureka CUD 140",null,null,null,"53102122017","County of Woodford School"]
["54092001026","Bismarck Henning CUSD",null,null,null,"53102140026","Eureka CUD 140"]
["54092002026","Westville CUSD 2",null,null,null,"54092001026","Bismarck Henning CUSD"]
["54092004026","Georgetown-Ridge Farm CUD 4",null,null,null,"54092002026","Westville CUSD 2"]
["54092007026","Rossville-Alvin CUSD 7",null,null,null,"54092004026","Georgetown-Ridge Farm CUD 4"]
["54092010026","Potomac CUSD 10",null,null,null,"54092007026","Rossville-Alvin CUSD 7"]
["54092011026","Hoopeston Area CUSD 11",null,null,null,"54092010026","Potomac CUSD 10"]
["54092061003","Armstrong-Ellis Cons SD 61",null,null,null,"54092011026","Hoopeston Area CUSD 11"]
["54092076026","Oakwood CUSD 76",null,null,null,"54092061003","Armstrong-Ellis Cons SD 61"]
["54092118024","Danville CCSD 118",null,null,null,"54092076026","Oakwood CUSD 76"]
["54092225017","Armstrong Twp HSD 225",null,null,null,"54092118024","Danville CCSD 118"]
["54092512026","Salt Fork CUSD 512",null,null,null,"54092225017","Armstrong Twp HSD 225"]
["56099017002","Channahon SD 17",null,null,null,"54092512026","Salt Fork CUSD 512"]
["56099030C04","Troy CCSD 30C",null,null,null,"56099017002","Channahon SD 17"]
["56099033C04","Homer CCSD 33C",null,null,null,"56099030C04","Troy CCSD 30C"]
["56099070C04","Laraway CCSD 70C",null,null,null,"56099033C04","Homer CCSD 33C"]
["56099081002","Union SD 81",null,null,null,"56099070C04","Laraway CCSD 70C"]
["56099084002","Rockdale SD 84",null,null,null,"56099081002","Union SD 81"]
["56099086005","Joliet PSD 86",null,null,null,"56099084002","Rockdale SD 84"]
["56099088002","Chaney-Monge SD 88",null,null,null,"56099086005","Joliet PSD 86"]
["56099088A02","Richland GSD 88A",null,null,null,"56099088002","Chaney-Monge SD 88"]
["56099089002","Fairmont SD 89",null,null,null,"56099088A02","Richland GSD 88A"]
["56099090002","Taft SD 90",null,null,null,"56099089002","Fairmont SD 89"]
["56099091002","Lockport SD 91",null,null,null,"56099090002","Taft SD 90"]
["56099092002","Will County SD 92",null,null,null,"56099091002","Lockport SD 91"]
["56099114002","Manhattan SD 114",null,null,null,"56099092002","Will County SD 92"]
["56099122002","New Lenox SD 122",null,null,null,"56099114002","Manhattan SD 114"]
["56099157C04","Frankfort CCSD 157C",null,null,null,"56099122002","New Lenox SD 122"]
["56099159002","Mokena SD 159",null,null,null,"56099157C04","Frankfort CCSD 157C"]
["56099161002","Summit Hill SD 161",null,null,null,"56099159002","Mokena SD 159"]
["56099200U26","Beecher CUSD 200U",null,null,null,"56099161002","Summit Hill SD 161"]
["56099201U26","Crete Monee CUSD 201U",null,null,null,"56099200U26","Beecher CUSD 200U"]
["56099202022","Plainfield SD 202",null,null,null,"56099201U26","Crete Monee CUSD 201U"]
["56099203004","Elwood CCSD 203",null,null,null,"56099202022","Plainfield SD 202"]
["56099204017","Joliet Twp HSD 204",null,null,null,"56099203004","Elwood CCSD 203"]
["56099205017","Lockport Twp HSD 205",null,null,null,"56099204017","Joliet Twp HSD 204"]
["56099207U26","Peotone CUSD 207U",null,null,null,"56099205017","Lockport Twp HSD 205"]
["56099209U26","Wilmington CUSD 209U",null,null,null,"56099207U26","Peotone CUSD 207U"]
["56099210016","Lincoln Way CHSD 210",null,null,null,"56099209U26","Wilmington CUSD 209U"]
["56099255U26","Reed Custer CUSD 255U",null,null,null,"56099210016","Lincoln Way CHSD 210"]
["56099365U26","Valley View CUSD 365U",null,null,null,"56099255U26","Reed Custer CUSD 255U"]
[null,null,null,null,null,"56099365U26","Valley View CUSD 365U"]

{"sheet":"Sheet5","index":19,"n_rows":3420,"n_cols":10,"rows_kept":3420,"cut":false,"hidden":true,"merged":[]}
["ChrAgreNum","4052","4061","4070","4075",null,null,null,"Field No","SumOf2018"]
["01001001026",1603274,5764461,1603274,4955576,null,null,null,"4052",6473039168.8000002]
["01001002026",1967629,6446888,1967629,6106252,null,null,null,"4061",29269321069.660004]
["01001003026",2921256,9242043,2921256,9021535,null,null,null,"4070",6473039168.8000002]
["01001004026",1922882,6948271,1922882,6236456,null,null,null,"4075",28030209428.369999]
["01001172022",19032643,71340438,19032643,68866630]
["01005001026",2400311,8033949,2400311,8299970]
["01009015026",4410108,18143988,4410108,15774694]
["01009064026",1310012,3510221,1310012,3381237]
["01009262026",1443021,5019438,1443021,4626845]
["01069001026",1205841,4122538,1205841,4137108]
["01069006026",184388,3896163,184388,3317503]
["01069011026",1011307,3239822,1011307,3383688]
["01069027026",1319875,4293083,1319875,4221719]
["01069117022",10777166,42717118,10777166,40356297]
["01075003026",1095783,3436528,1095783,3725145]
["01075004026",962910,4202801,962910,4132448]
["01075010026",3754074,13659512,3754074,12754737]
["01075012026",1546687,6108845,1546687,5848048]
["01086001026",2140197,6791343,2140197,6553866]
["01086002026",854952,2861765,854952,2817886]
["03003001026",709780,3900479,709780,3564849]
["03003002026",6295670,22177585,6295670,21074987]
["03011001026",1038391,3744969,1038391,3555858]
["03011003026",6491465,25618993,6491465,25404861]
["03011004026",717509,3099765,717509,2726123]
["03011008026",4304378,16041928,4304378,14734805]
["03011014024",877841,3781173,877841,3352866]
["03025010026",1336719,6928193,1336719,6788037]
["03025020026",1360517,4146012,1360517,3855885]
["03025030026",1567353,5072918,1567353,4713246]
["03025040026",4289530,23477736,4289530,22218327]
["03025050026",1719486,8872059,1719486,8263758]
["03026201026",1189996,5195847,1189996,4833225]
["03026202026",1688004,5290813,1688004,5147656]
["03026203026",5617358,18098094,5617358,17685144]
["03026204026",1439374,4937249,1439374,4761865]
["03068002026",1733292,6145895,1733292,5952633]
["03068003026",5441928,19004736,5441928,18716980]
["03068012026",4463621,15932472,4463621,15707539]
["03068022026",1750507,6976273,1750507,6416585]
["04004100026",31440722,110895902,31440722,104163537]
["04004200026",5631076,20820325,5631076,19738918]
["04101122022",30011705,96272449,30011705,96862202]
["04101131004",982303,17469153,982303,15260302]
["04101133004",403989,6273607,403989,5916284]
["04101134004",73589,1434180,73589,1369562]
["04101140004",781285,13419441,781285,12533026]
["04101205025",116600332,428911600,116600332,413532751]
["04101207016",7733780,29895789,7733780,29633277]
["04101320026",497664,9726926,497664,8815476]
["04101321026",3242398,11405022,3242398,11948223]
["04101322026",2590858,9806740,2590858,9461642]
["04101323026",5155387,18280148,5155387,17868967]
["05016015004",63898292,188480719,63898292,185682404]
["05016021004",38938828,126854114,38938828,120476416]
["05016023002",7662158,25762164,7662158,25423967]
["05016025002",28217385,90249671,28217385,89403944]
["05016026002",9249862,30342006,9249862,30423098]
["05016027002",11623026,34335276,11623026,34667596]
["05016028002",14073844,46170192,14073844,47350231]
["05016029002",4294352,16367111,4294352,15209076]
["05016030002",9812552,30335655,9812552,30623489]
["05016031002",6967783,22493149,6967783,22064545]
["05016034004",24518362,82739210,24518362,81462435]
["05016035002",8748337,31688615,8748337,29035969]
["05016036002",16554564,54449942,16554564,51870442]
["05016037002",6296530,18613653,6296530,19773987]
["05016038002",4656050,15356156,4656050,15617212]
["05016039002",14117237,62475086,14117237,61139151]
["05016054004",43627489,214747472,43627489,214578410]
["05016057002",10398181,30144861,10398181,32114303]
["05016059004",45106358,132108693,45106358,136091979]
["05016062004",18551136,87962198,18551136,84648199]
["05016063002",10273084,49781083,10273084,46781644]
["05016064004",18054149,79480065,18054149,78049482]
["05016065004",null,122756571,null,105190692]
["05016067002",3582301,12070780,3582301,11166765]
["05016068002",10882622,33968585,10882622,36261767]
["05016069002",5811348,28078427,5811348,26970200]
["05016070002",784461,12217222,784461,11940981]
["05016071002",3415332,11433746,3415332,11411135]
["05016072002",4793879,15115439,4793879,15407599]
["05016073002",3045433,10223557,3045433,10138932]
["05016073502",6247689,20010103,6247689,21500638]
["05016074002",9014262,29533497,9014262,28311537]
["05016202017",24308805,91109135,24308805,89224755]
["05016203017",21531835,114175188,21531835,110680582]
["05016207017",45678237,155313099,45678237,149263278]
["05016211017",79932635,279071210,79932635,270746276]
["05016214017",80863126,283875596,80863126,273972842]
["05016219017",35215118,152693472,35215118,130723896]
["05016225017",39625742,150108911,39625742,142627907]
["06016078002",1661730,6133674,1661730,5527010]
["06016079002",979779,4905511,979779,4775619]
["06016080002",2899045,13011391,2899045,13363746]
["06016081002",3858202,19685974,3858202,19243889]
["06016083002",15070779,52028867,15070779,49901412]
["06016084002",6142091,22630726,6142091,21341529]
["06016084502",3639260,13743893,3639260,11999011]
["06016085502",1615978,8767457,1615978,8008504]
["06016086002",463429,6939420,463429,6716567]
["06016087002",9071627,40609578,9071627,37800378]
["06016088002",6180017,34374179,6180017,32590597]
["06016089002",21060557,81197433,21060557,74745101]
["06016090002",9656034,30438265,9656034,29692460]
["06016091002",5465976,20412038,5465976,20421335]
["06016092002",null,6515313,null,6118142]
["06016092502",8793407,21594850,8793407,21252729]
["06016093002",2741906,9651131,2741906,8921294]
["06016094002",2367107,8617429,2367107,8461705]
["06016095002",4478688,15308142,4478688,14777772]
["06016096002",8860233,29741332,8860233,31014795]
["06016097002",33096463,115305502,33096463,107702469]
["06016098002",12212081,45739584,12212081,43256891]
["06016099002",49273942,193623721,49273942,174815117]
["06016100002",14469582,58771530,14469582,49569173]
["06016101002",8176636,22387732,8176636,22773784]
["06016102002",9369409,43564700,9369409,39721804]
["06016103002",11624726,37486128,11624726,39600950]
["06016105002",10743576,29818502,10743576,30367596]
["06016106002",5149482,16049129,5149482,15700855]
["06016107002",5878088,16374076,5878088,16631247]
["06016200013",19376475,83323777,19376475,84277371]
["06016201017",33159525,108887357,33159525,111406929]
["06016204017",24713606,85602094,24713606,85409155]
["06016208017",8592084,29847983,8592084,29308124]
["06016209017",19098221,90447330,19098221,80894520]
["06016212016",23047041,84832227,23047041,79859939]
["06016234016",4790542,18605795,4790542,17524694]
["06016401026",13617126,46956977,13617126,48015505]
["07016104002",4855793,25531749,4855793,26149940]
["07016108002",1695661,5968073,1695661,6873015]
["07016109002",10614978,42567282,10614978,40375805]
["07016110002",934790,5864321,934790,5396984]
["07016111002",5866350,44012093,5866350,41341812]
["07016113A02",7494897,28457943,7494897,26874982]
["07016117002",2114246,41664318,2114246,34379169]
["07016118004",5649201,26093675,5649201,26140399]
["07016122002",4898173,29036061,4898173,27520243]
["07016123002",8910103,42124318,8910103,42530287]
["07016124002",5204641,26549204,5204641,27883161]
["07016125002",2485386,9691435,2485386,9267400]
["07016126002",4003455,26427887,4003455,21225724]
["07016127002",4330512,16618936,4330512,15587530]
["07016127502",3209318,20440200,3209318,17176794]
["07016128002",477267,8695363,477267,8223390]
["07016130002",9175976,54023478,9175976,48622274]
["07016132002",2957484,14860577,2957484,13852134]
["07016133002",1455499,5668969,1455499,5342883]
["07016135002",25937301,89059829,25937301,86870595]
["07016140002",10834810,45885113,10834810,47955936]
["07016142002",750042,14148856,750042,13054547]
["07016143002",7275372,24611855,7275372,23744010]
["07016143502",5555409,22993898,5555409,22026646]
["07016144002",9216544,38172230,9216544,34831229]
["07016145002",4407376,16767768,4407376,15640581]
["07016146004",7822693,36952880,7822693,38003160]
["07016147002",4477497,19677574,4477497,18127722]
["07016148002",1782405,32155421,1782405,31290314]
["07016149002",7524223,40105887,7524223,36946281]
["07016150002",4270211,14358100,4270211,13827630]
["07016151002",6640103,26511618,6640103,24792854]
["07016152002",4739230,29072576,4739230,27781675]
["07016152502",3336693,14125658,3336693,14596951]
["07016153002",8618890,27700730,8618890,27370223]
["07016154002",1179287,3681427,1179287,3491294]
["07016154502",402149,2751374,402149,2329973]
["07016155002",3007932,16523691,3007932,16754262]
["07016156002",2091618,12752622,2091618,11639365]
["07016157002",2230524,12190218,2230524,12091138]
["07016158002",5565435,31974155,5565435,29826335]
["07016159002",5549853,30353441,5549853,30080915]
["07016160002",4943880,18515117,4943880,18934657]
["07016161002",10145725,35462169,10145725,35228640]
["07016162002",7513550,39200241,7513550,38537013]
["07016163002",8489957,30359826,8489957,28793974]
["07016167002",4431397,17844783,4431397,17301458]
["07016168004",6831041,23893346,6831041,23949303]
["07016169002",2116798,7551886,2116798,8072536]
["07016170002",14773706,53612877,14773706,50642098]
["07016171002",3681154,14743183,3681154,13815699]
["07016172002",1469295,5827521,1469295,5635855]
["07016194002",5513493,19379901,5513493,18429288]
["07016205017",31705093,122928812,31705093,117890851]
["07016206017",17960736,61184893,17960736,58557413]
["07016210017",8076289,28196081,8076289,26718775]
["07016215017",12294161,57940330,12294161,59261568]
["07016217016",11902867,41605712,11902867,41356334]
["07016218016",20570112,102630753,20570112,104709793]
["07016220017",6393731,32284505,6393731,32539081]
["07016227017",18153578,66821612,18153578,65492641]
["07016228016",29826590,103338584,29826590,104692498]
["07016229016",5824806,32027841,5824806,30844230]
["07016230013",50488672,165687682,50488672,154727200]
["07016231016",5200868,21698297,5200868,19488477]
["07016233016",16429486,59388942,16429486,56103335]
["08008308026",371849,6444351,371849,5652415]
["08008314026",543623,11024629,543623,10607609]
["08008399026",291069,4088840,291069,4089007]
["08043119022",328606,5793685,328606,5319074]
["08043120022",595866,10372135,595866,9560175]
["08043205026",226604,4318715,226604,4066534]
["08043206026",361220,6093694,361220,5667722]
["08043210026",448518,7004380,448518,6743296]
["08043211026",254430,4028737,254430,3726854]
["08089145022",15798516,56434538,15798516,56120846]
["08089200026",269168,4443082,269168,4565845]
["08089201026",2949271,10783131,2949271,10394358]
["08089202026",413679,7131219,413679,6714091]
["08089203026",213890,3632855,213890,3806792]
["09010001026",2107219,7239097,2107219,7089083]
["09010003026",1607866,24706693,1607866,24582288]
["09010004026",44751741,153948877,44751741,152382510]
["09010007026",5421944,17869044,5421944,17505999]
["09010008026",1561603,4851939,1561603,4750374]
["09010116022",19774825,70638492,19774825,71228264]
["09010130004",637444,2128502,637444,2179360]
["09010137002",3564224,21066836,3564224,20321728]
["09010142004",316418,1320172,316418,1196245]
["09010169004",2609822,8196890,2609822,8222749]
["09010188004",660348,2155658,660348,2115053]
["09010193017",3265585,12584044,3265585,11382825]
["09010197004",891044,2897701,891044,2861212]
["09010305016",1573667,4994475,1573667,4983032]
["09027005026",4207350,13222270,4207350,12754686]
["09027010026",4781045,15404233,4781045,16272682]
["11012002C26",643771,10366482,643771,9753076]
["11012003C26",1330448,4536099,1330448,4360566]
["11012004C26",2842226,8895304,2842226,8778081]
["11015001026",7822784,29303819,7822784,26828666]
["11015002026",13446268,41993688,13446268,40874779]
["11015005026",1132729,3324592,1132729,3279629]
["11018003026",1944520,6564433,1944520,5934326]
["11018077026",2949973,10028443,2949973,9223124]
["11021301026",2839165,9875738,2839165,9796743]
["11021302026",1833647,6547783,1833647,6209546]
["11021305026",4412462,13794842,4412462,13608473]
["11021306026",2755857,9509678,2755857,8448407]
["11023001026",1337907,5430983,1337907,4456511]
["11023003026",765425,2471328,765425,2290524]
["11023004026",209301,4610529,209301,4111931]
["11023006026",310640,3296902,310640,2843122]
["11023095025",2735002,12663784,2735002,11961619]
["11070300026",3185549,10731028,3185549,10063606]
["11070302026",1783131,5453731,1783131,5453577]
["11087001026",1278130,4242251,1278130,4029322]
["11087003A26",1306021,4700668,1306021,4247160]
["11087004026",4145104,13113759,4145104,12673896]
["11087005A26",995726,3496983,995726,3127170]
["11087021026",3191902,10437648.310000001,3191902,9802967.1699999999]
["12013010026",889467,3170760,889467,2936064]
["12013025026",1822172,6615920,1822172,6149478]
["12013035026",580134,10054896,580134,9769551]
["12017001026",935721,3476483,935721,3397637]
["12017002026",4918502,16614066,4918502,15943845]
["12017003026",906420,3438729,906420,3362037]
["12017004026",1673639,5901615,1673639,5837954]
["12040001026",3627037,12718756,3627037,12257011]
["12051010026",2561732,9566829,2561732,8694822]
["12051020026",3428888,12441185,3428888,11972014]
["12080001026",7527328,26456058,7527328,23425520]
["13014001026",3777434,11612530,3777434,11399534]
["13014003026",4768329,14257038,4768329,14171482]
["13014012004",818218,3999512,818218,4275083]
["13014021002",1021551,3050705,1021551,2908709]
["13014046002",409044,1673372,409044,1641605]
["13014057002",257402,1181813,257402,1139743]
["13014060002",382460,1760051,382460,1690975]
["13014062002",365963,1028497,365963,1008964]
["13014063002",278200,1457803,278200,1325701]
["13014071016",2592726,7235564,2592726,7316499]
["13014141502",616006,1672285,616006,1702104]
["13014186002",240292,1571943,240292,1236326]
["13041001026",1074162,4063363,1074162,3750681]
["13041002004",1027993,3560440,1027993,3374895]
["13041003004",792994,2629566,792994,2603339]
["13041005004",582019,2265639,582019,2278563]
["13041006004",131090,883479,131090,792721]
["13041012004",35732.83,645735.82999999996,35732.83,584584.82999999996]
["13041079002",119558,2132229,119558,1880709]
["13041080002",5873370,23824199,5873370,22425134]
["13041082002",536704,1901847,536704,1747963]
["13041099004",24550.14,586716.14,24550.14,429817.14]
["13041178004",842176,3030763,842176,2644609]
["13041201017",640278,14320477,640278,12429796]
["13041209027",1066970,5826337,1066970,5091559]
["13041318027",426720,3862203,426720,2953967]
["13058001003",118134,1837848,118134,1721574]
["13058002003",419238,1252201,419238,1300006]
["13058007004",758769,2549127,758769,2540513]
["13058010004",742494,2592871,742494,2504281]
["13058100026",591346,2813766,591346,2752357]
["13058111002",519561,8090680,519561,7698118]
["13058133002",721929,3052988,721929,2915342]
["13058135002",2545853,15184012,2545853,14611343]
["13058200017",1929251,12133335,1929251,11580710]
["13058401026",1120916,6344816,1120916,6172495]
["13058501026",929580,6900904,929580,6341107]
["13058600016",363797,6636419,363797,6014109]
["13058722026",521425,2876221,521425,2727518]
["13095001004",1357759,2018790,1357759,1922156]
["13095010026",1964609,6332829,1964609,6170909]
["13095011004",236284,862048,236284,879680]
["13095015004",220419,1312312.1599999999,220419,1151784.8500000001]
["13095049004",295147,4731855,295147,4229983]
["13095099016",1719475,4959199,1719475,4919185]
["15016299025",313816420,5451781242,313816420,5094439782]
["16019424026",4199312,20772219,4199312,19403818]
["16019425026",4195529,12953747,4195529,12063701]
["16019426026",1813599,6758638,1813599,6252903]
["16019427026",11230996,47422398,11230996,47348190]
["16019428026",17486969,88612933,17486969,83490094]
["16019429026",3115252,10778869,3115252,10338843]
["16019430026",1385466,22053413,1385466,21910421]
["16019432026",2940043,10996595,2940043,10054270]
["17020015026",6435563,21412513,6435563,21195522]
["17020018026",2841847,10405852,2841847,10053860]
["17053005026",1831094,6848268,1831094,6680966]
["17053006J26",1601182,4308894,1601182,5559788]
["17053008026",7827575,24638199,7827575,24504253]
["17053074027",24905,3601288,24905,3581299]
["17053090017",3932353,11541856,3932353,10971480]
["17053230017",1249128,5078707,1249128,4751708]
["17053232002",1534627,5621745,1534627,5561415]
["17053425004",47435,653995,47435,694167]
["17053426004",64902,1139797,64902,1040588]
["17053429004",4880498,16871710,4880498,16472421]
["17053435004",113140,1773842,113140,1771435]
["17053438004",453671,2079593.99,453671,1947774]
["17054021026",954113,3215276,954113,3049454]
["17054023026",2270051,7507079,2270051,6801536]
["17054027002",4500793,15579607,4500793,15015415]
["17054061004",931762,3262541,931762,2886939]
["17054088002",435010,1682227,435010,1443518]
["17054092004",926739,2798569,926739,3042667]
["17054404016",3174701,12471869,3174701,10884144]
["17064002026",2955425,9676401,2955425,9651295]
["17064003026",4057278,13451756,4057278,12643714]
["17064004026",3473315,11691076,3473315,11534264]
["17064005026",46845828,149818239,46845828,145164542]
["17064007026",2038111,6920816,2038111,6497624]
["17064016026",5666822,20159407,5666822,20018732]
["17064019026",2016795,7508358,2016795,7359108]
["17064087025",20669595,70187351,20669595,71026301]
["19022002002",6087329,34707977,6087329,32180062]
["19022004002",10425877,50443949,10425877,46551590]
["19022007002",4987491,18844315,4987491,18118633]
["19022010002",3811629,14746911,3811629,13885080]
["19022011002",2886310,11061185,2886310,10473903]
["19022012002",3187147,12183484,3187147,11862300]
["19022013002",5784011,20771543,5784011,20813365]
["19022015002",14231516,52609919,14231516,51820556]
["19022016002",1035753,23963439,1035753,23182950]
["19022020002",3775455,19961594,3775455,18156345]
["19022025002",3780952,13889281,3780952,12623365]
["19022033002",12568765,74602255,12568765,65831127]
["19022034002",1829746,6581059,1829746,6070732]
["19022041002",18985822,62293977,18985822,58544171]
["19022044002",20145804,64811195,20145804,65614576]
["19022045002",17758051,55276776,17758051,55629357]
["19022048002",3072667,12047054,3072667,10907292]
["19022053002",3706132,14765705,3706132,11923173]
["19022058002",27381894,80971376,27381894,82876048]
["19022060002",4751814,22249306,4751814,21526239]
["19022061002",8216379,24447355,8216379,24001979]
["19022062002",778625,12844607,778625,11849022]
["19022063002",3771588,13393864,3771588,12826249]
["19022066002",851043,12476444,851043,12437330]
["19022068002",17566786,55528876,17566786,52372667]
["19022086017",21909635,98757528,21909635,97149086]
["19022087017",49499834,174471313,49499834,166549800]
["19022088016",22737869,79042811,22737869,76242919]
["19022089004",27740415,51390926,27740415,53096434]
["19022093004",22657727,78003536,22657727,77824397]
["19022094016",9525276,34643272,9525276,33993756]
["19022099016",36144694,110409086,36144694,108579669]
["19022100016",10322352,36328664,10322352,35170960]
["19022108016",14759169,54445315,14759169,52167632]
["19022180004",538285,9996304,538285,10132273]
["19022181004",16123007,69990717,16123007,67976947]
["19022200026",72495264,215092012,72495264,209994403]
["19022201026",10349559,32195647,10349559,32979994]
["19022202026",10673226,38930871,10673226,37153459]
["19022203026",60110142,283521726,60110142,271781882]
["19022204026",80235508,365958395,80235508,352025893]
["19022205026",28507615,128548972,28507615,126009850]
["20024001026",2877083,9503664,2877083,9133652]
["20030007026",2385394,8719583,2385394,8235442]
["20033010026",3645404,14364935,3645404,12708003]
["20035001026",1431174,5906226,1431174,5090835]
["20076001026",1642402,5642702,1642402,5509269]
["20083001026",1426733,4540812,1426733,4321298]
["20083002026",1540484,5232213,1540484,4904790]
["20083003026",12773097,30046981,12773097,28251793]
["20083004026",3200631,13752159,3200631,12366029]
["20093017024",436080,1750710,436080,1687307]
["20093348026",null,10863572,null,10937296]
["20096006004",633097,1880278,633097,1780901]
["20096014004",414567,1145045,414567,1287688]
["20096017004",80624,1409553,80624,1460511]
["20096100026",258897,4640155,258897,4198502]
["20096112004",350705,5565686,350705,5554449]
["20096200026",1638605,5131513,1638605,4928638]
["20096225016",1383282,5015276,1383282,4653977]
["20097001026",949320,3527566,949320,3272783]
["20097003026",1895857,7203357,1895857,6667935]
["20097005026",4468821,16212045,4468821,14316254]
["21028047004",3596846,12607234,3596846,11625783]
["21028091004",476029,1612612,476029,1488775]
["21028099026",438050,7625879,438050,7214204]
["21028103013",388345,7035933,388345,5984306]
["21028115004",760621,2410931,760621,2418722]
["21028168026",901552,16153136,901552,15536680]
["21028174026",153079,2690620,153079,2337083]
["21028188026",338001,5345474,338001,5184067]
["21028196026",1181754,6189159,1181754,6065080]
["21044001026",2024036,6189279,2024036,6106637]
["21044032003",710268,2574714,710268,2519807]
["21044043003",241498,802709,241498,783278]
["21044055002",1244963,4452647,1244963,4127357]
["21044064002",400663,1347365,400663,1263815]
["21044133017",1131757,4155468,1131757,3835098]
["21061001026",7479915,23863672,7479915,22551007]
["21061038026",1022156,3244070,1022156,3792135]
["21100001026",2916954,11963035.4,2916954,11260237]
["21100002026",11853539,40720355,11853539,40262429]
["21100003026",1107333,4752597,1107333,4508637]
["21100004026",7196741,26743464,7196741,25460739]
["21100005026",745195,15044652,745195,14620363]
["24032001026",1496573,22822512,1496573,22933695]
["24032002C02",205584,3434220,205584,3315002]
["24032024C04",456507,1324512,456507,1415511]
["24032054002",546850,7746119,546850,9229230]
["24032060C04",395069,6038158,395069,5981310]
["24032072C04",98862,1648043,98862,1593595]
["24032073017",965817,3121444,965817,3137710]
["24032074003",50942,858991,50942,830171]
["24032075002",422370,1678443,422370,1565270]
["24032101016",584640,9513026,584640,11250059]
["24032111016",1707542,27885934,1707542,27958838]
["24032201004",14521700,47331517,14521700,45765681]
["24047018016",156374,2697184,156374,2626316]
["24047066004",110579,2413953,110579,2019359]
["24047088026",8088033,29688539,8088033,29135826]
["24047090004",67650,911479,67650,934479]
["24047115026",15531284,71290837,15531284,74132552]
["24047308026",174408509,334173523,174408509,339285526]
["26029001026",1149491,4332501,1149491,3735845]
["26029002026",1215547,4737564,1215547,4402373]
["26029003026",1622533,5525593,1622533,5430032]
["26029004026",1170689,4218886,1170689,4148719]
["26029066025",1153231,20101875,1153231,19014853]
["26029097026",2621231,8045474,2621231,7491300]
["26034307016",1176252,4255095,1176252,4121506]
["26034316026",1284390,5041269,1284390,4606480]
["26034317004",1135580,4089119,1135580,3937378]
["26034325026",833032,3582515,833032,3590639]
["26034327004",598436,2300450,598436,2294823]
["26034328024",1718434,6295519,1718434,5956749]
["26034337026",1621147,5932517,1621147,5764708]
["26034347004",785733,2931838,785733,2765276]
["26062103026",2238779,7956561,2238779,7392165]
["26062170026",2186370,8524055,2186370,7571531]
["26062185026",7885451,26206385,7885451,25737836]
["26085005026",3189018,11477076,3189018,10979510]
["28006017004",544238,1652725,544238,1548332]
["28006084004",345893,1258062,345893,1154087]
["28006094004",618920,2259339,618920,2234461]
["28006098002",202041,701403,202041,686284]
["28006099004",2243269,7617479,2243269,7175306]
["28006103022",1548187,5226516,1548187,5161839]
["28006115002",3929287,11737022,3929287,12386100]
["28006303026",1303853,3707436,1303853,4188472]
["28006340026",4013619,12640910,4013619,12583933]
["28006500015",2543433,6594711,2543433,7117316]
["28006502017",1684133,5757883,1684133,5438700]
["28006505016",389192,1253413,389192,1159922]
["28037190002",1398024,5039532,1398024,4510697]
["28037223026",3043935,11059400,3043935,10593043]
["28037224026",1887422,5752024,1887422,5939546]
["28037225026",1639754,5152569,1639754,5228547]
["28037226026",1456989,4424963,1456989,4491470]
["28037227026",1868914,5700448,1868914,5760625]
["28037228026",7439012,24305851,7439012,24496134]
["28037229026",5301489,20615033,5301489,20123284]
["28037230026",2030557,6511857,2030557,6425867]
["28088001026",530973,3004112,530973,2553408]
["28088100026",2735956,8981102,2735956,8935915]
["30002001022",1646236,7226721,1646236,6063119]
["30002005026",1558098,6413608,1558098,6114313]
["30039086003",129350,2140172,129350,1810577]
["30039095002",7696121,24402764,7696121,24390715]
["30039130004",110800,1851719,110800,1752964]
["30039140004",349455,5947811,349455,5819893]
["30039165016",736881,12735280,736881,12400414]
["30039176026",2902430,9411428,2902430,9329151]
["30039186026",1014317,26162310,1014317,25064608]
["30039196026",217090,3627735,217090,3684695]
["30073005002",65854.83,1014564.83,65854.83,958219.83]
["30073050002",1751603,5351189,1751603,5235603]
["30073101016",1479575,4919808,1479575,4561585]
["30073204004",84555,1121461,84555,1046372]
["30073300026",747365,12318487,747365,11689381]
["30077100026",1071143,4246505,1071143,4002577]
["30077101026",2013172,9554197,2013172,8149026]
["30091016004",381309,1282059,381309,1264097]
["30091017022",1889136,6480382,1889136,6183322]
["30091037004",2167619,7338772,2167619,7305377]
["30091043004",1187346,4229639,1187346,4100279]
["30091066022",726976,2879376,726976,2647327]
["30091081016",1696071,6019464,1696071,5710782]
["30091084026",1149505,4220801,1149505,4146226]
["31045046022",86890974,505875826,86890974,472745364]
["31045101022",17592747,87157899,17592747,85420456]
["31045129022",35377395,171341154,35377395,160289394]
["31045131022",32106395,180126495,32106395,174054572]
["31045300026",81647562,292515206,81647562,283270707]
["31045301026",15823586,59290538,15823586,55705487]
["31045302026",20399692,67384942,20399692,66602798]
["31045303026",36974429,181378328,36974429,169705658]
["31045304026",17090704,83200753,17090704,77260209]
["32038003026",1519009,4604651,1519009,4289604]
["32038004026",3757142,12296562,3757142,11704710]
["32038006026",1027101,3647862,1027101,3404032]
["32038009026",3604791,12842750,3604791,12198911]
["32038010026",2827827,13087213,2827827,12555617]
["32038124026",2263209,8648094,2263209,8042650]
["32038249026",896602,2356124,896602,2130974]
["32046001026",3582164,14742222,3582164,13381479]
["32046002026",6361786,21886048,6361786,20847747]
["32046005026",6763443,27488452,6763443,22003804]
["32046006026",1640562,5868867,1640562,5419845]
["32046053002",8895233,27755771,8895233,27325452]
["32046061002",5357063,21121511,5357063,19667208]
["32046111025",null,53017663,null,51391609]
["32046256004",1343681,4176995,1343681,4270078]
["32046258004",1173611,4445378,1173611,4166656]
["32046259004",977192,4081393,977192,4029617]
["32046302016",1052929,4375686,1052929,4144143]
["32046307016",7088808,26232350,7088808,24975669]
["33036235026",2853383,9701763,2853383,8887626]
["33048202026",3107824,11454820,3107824,11106622]
["33048205026",17775428,57148332,17775428,52863471]
["33048208026",2209468,7759088,2209468,7022789]
["33048210026",1177117,4907569,1177117,4520730]
["33048276026",2639497,11001342,2639497,9484062]
["33066404026",4242375,12199805,4242375,14185510]
["33094238026",4729710,18724358,4729710,16095702]
["33094304026",3291195,11204625,3291195,10949816]
["34049001002",2280595,8455905,2280595,7345906]
["34049003004",9433307,35676672,9433307,31129346]
["34049006002",12720989,45222235,12720989,46003036]
["34049024004",5234841,18794299,5234841,17739304]
["34049033002",1441307,5216004,1441307,4866094]
["34049034004",9908757,40062958,9908757,37660006]
["34049036002",971684,4007512,971684,4291412]
["34049037002",3037428,10949812,3037428,10575636]
["34049038002",3918789,18498551,3918789,16366539]
["34049041004",9404181,35157861,9404181,31716432]
["34049046004",15649218,53391920,15649218,52555353]
["34049050004",26874056,92676018,26874056,89578352]
["34049056002",9533791,32610806,9533791,31541781]
["34049060026",65455233,257191072,65455233,230586388]
["34049065002",6029840,19788298,6029840,19220948]
["34049067005",15361948,43141813,15361948,44176273]
["34049068002",5824566,19252574,5824566,17945346]
["34049070002",13204816,42480901,13204816,40942272]
["34049072002",1786872,5651326,1786872,5504639]
["34049073004",16738137,62979854,16738137,63172848]
["34049075002",7154442,24417068,7154442,23706638]
["34049076002",7920024,21593421,7920024,20022131]
["34049079002",8659516,33073609,8659516,31226949]
["34049095026",30385254,101001682,30385254,98782258]
["34049096004",17577364,65899881,17577364,58411054]
["34049102004",8371649,38072924,8371649,36947085]
["34049103002",10814652,41307291,10814652,35256029]
["34049106002",1394357,6216811,1394357,5361068]
["34049109002",18895272,62026259,18895272,61392461]
["34049112002",27575120,86875628,27575120,84571328]
["34049113017",31092886,105550031,31092886,106001409]
["34049114002",3490594,11127391,3490594,12408898]
["34049115016",16012503,50145968,16012503,50746548]
["34049116026",36171133,114957573,36171133,113236049]
["34049117016",12644053,51185923,12644053,47089458]
["34049118026",17702493,66828269,17702493,64158672]
["34049120013",13227439,43566985,13227439,43243678]
["34049121017",23313680,69714316,23313680,70846054]
["34049124016",8982055,30017326,8982055,30523033]
["34049125013",31835087,113233422,31835087,105804006]
["34049126017",11526600,48188667,11526600,41011359]
["34049127016",16860621,59924244,16860621,56949617]
["34049128016",31970216,98678302,31970216,98255088]
["34049187026",11806920,55138702,11806920,54482345]
["34049220026",48869853,166256955,48869853,163636962]
["35050001026",1089844,3923077,1089844,3701925]
["35050002026",3389369,10384951,3389369,10496336]
["35050009026",249527,4700737,249527,4085558]
["35050017504",686507,2448316,686507,2188026]
["35050040017",4238111,13473404,4238111,13084820]
["35050044002",5358887,20973151,5358887,19086674]
["35050065004",88359,1293926,88359,1356384]
["35050079004",681796,2525514,681796,2215696]
["35050082004",394462,1291720,394462,1377584]
["35050095004",1148567,3661779,1148567,3542485]
["35050120017",5557336,17325646,5557336,18354706]
["35050122002",3530784,12559632,3530784,11891618]
["35050124002",3427254,10614961,3427254,10885909]
["35050125002",1802611,6395570,1802611,6051756]
["35050140017",6016526,19268507,6016526,19858756]
["35050141002",7217162,25179515,7217162,24457612]
["35050150002",2072728,7472564,2072728,6883238]
["35050160017",3511196,11787027,3511196,11524359]
["35050170004",2947820,9622121,2947820,9130216]
["35050185004",819502,2762227,819502,2759716]
["35050195004",1613890,4950691,1613890,4856932]
["35050210004",99868,1461831,99868,1614376]
["35050230004",475049,1445742,475049,1472047]
["35050280017",2732750,8616100,2732750,8475093]
["35050289004",3625560,12403914,3625560,12572498]
["35050425026",369487,1879605,369487,1607734]
["35059005026",2466385,7668741,2466385,7665618]
["35059007026",2104022,7489903,2104022,7065743]
["35078535026",3420320,11130860,3420320,11403847]
["39055001026",3109704,9702448,3109704,9560757]
["39055002026",4158530,11579486,4158530,11328436]
["39055003026",7747636,24725391,7747636,24723437]
["39055009026",2460635,8321495,2460635,8411191]
["39055011026",3367131,10052910,3367131,10120006]
["39055015026",3393606,10449185,3393606,10119899]
["39055061025",4042308,85790661,4042308,90487819]
["39074005026",1253053,4273577,1253053,3898773]
["39074025026",6003386,18781661,6003386,18805748]
["39074057026",898639,3360731,898639,2938726]
["39074100026",1721224,5713914,1721224,5311600]
["40007040026",1648030,4879130,1648030,4976616]
["40007042026",540947,1763752,540947,1793286]
["40031001026",1954914,6401078,1954914,6174629]
["40031003026",1929319,10164071,1929319,8931475.8300000001]
["40031010026",1693125,5524352,1693125,5284090]
["40042100026",5350804,22647428,5350804,21989789]
["40056001026",3938038,14020984,3938038,13583495]
["40056002026",1449574,5125084,1449574,4948397]
["40056005026",1765319,5747022,1765319,5373713]
["40056006026",3474438,11971836,3474438,11473342]
["40056007026",4141704,17383689,4141704,14370847]
["40056008026",1767819,6768272,1767819,6496646]
["40056009026",4810278,15740549,4810278,15250174]
["40056034026",3723471,15031332,3723471,13292339]
["41057001026",8887230,26945564,8887230,26700825]
["41057002026",12915310,37967006,12915310,37256670]
["41057003026",552103,2914677,552103,2640385]
["41057005026",9287974,29595295,9287974,29565463]
["41057007026",22520994,70828441,22520994,71367991]
["41057008026",8158287,27110799,8158287,24742604]
["41057009026",null,52715754,null,49820270.039999999]
["41057010026",null,52976510,null,48577700]
["41057011026",21864235,75016968,21864235,74220616]
["41057012026",2745429,11846834,2745429,12119340]
["41057013002",3524886,11463259,3524886,11318780]
["41057014016",2240589,7376818,2240589,7683384]
["41057015003",2483696,8603557,2483696,7923131]
["44063002003",5531970,17574109,5531970,18057907]
["44063003003",2088177,7958934,2088177,7336440]
["44063012026",9397818,30266722,9397818,29178516]
["44063015004",21674591,75504240,21674591,73268984]
["44063018004",1361608,5053972,1361608,4477206]
["44063019024",1873865,6750621,1873865,6299927]
["44063026004",8865742,31076850,8865742,29711175]
["44063036002",1464155,5968208,1464155,5604860]
["44063046003",3234018,13140927,3234018,11831451]
["44063047004",19392730,93277716,19392730,92432094]
["44063050026",9817711,36063246,9817711,36073888]
["44063154016",3602774,13078844,3602774,12595827]
["44063155016",36515443,116602141,36515443,114533349]
["44063156016",10613568,39892356,10613568,36087788]
["44063157016",3498850,13897141,3498850,11936227]
["44063158022",34577643,116276026,34577643,114022941]
["44063165003",3230953,12264362,3230953,11074776]
["44063200026",27997254,100112048,27997254,94748196]
["45067003026",782437,3853646,782437,4182329]
["45067004026",6873495,20514497,6873495,19461460]
["45067005026",8450540,25608272,8450540,25237522]
["45079001022",876744,2826233,876744,2705830]
["45079122019",null,367506,null,439356]
["45079132026",3683086,11829530,3683086,11304750]
["45079134004",103512,1443932,103512,1455484]
["45079138026",1340461,4690907,1340461,4582008]
["45079139026",2689480,10220452,2689480,9680399]
["45079140026",532582,10618002,532582,10250404]
["47052170022",9118204,29701651,9118204,30436888]
["47052220002",422105,1148488,422105,1236101]
["47052271026",662839,2902829,662839,2733153]
["47052272026",2820453,9357575,2820453,9663252]
["47052275026",1897344,5980194,1897344,5907287]
["47071144003",482800,1456080,482800,1469854.68]
["47071161004",521346,1511611,521346,1389191]
["47071212017",4203568,13765663,4203568,13865020]
["47071220026",5448515,16795399,5448515,17053092]
["47071221026",2789333,8924484,2789333,8504605]
["47071222026",2175011,6685229,2175011,6606243]
["47071223026",846493,14743187,846493,13277206]
["47071226026",7901737,27676183,7901737,25299353]
["47071231004",6291530,19704216,6291530,19365087]
["47071269004",397354,1315666,397354,1169850]
["47098001026",4230273,17532411,4230273,14784570]
["47098002026",487293,7782293,487293,7298310]
["47098003026",2773917,9701655,2773917,9347153]
["47098005026",9803734,36200542,9803734,35367432]
["47098006026",3547740,10869870,3547740,11667355]
["47098013002",3538177,12665203,3538177,11570857]
["47098020002",1118840,3386458,1118840,3425373]
["47098145004",998281,3049581,998281,2960938]
["47098301017",2879525,10154804,2879525,9601793]
["48072062002",1332462,6403301,1332462,5710488]
["48072063002",1190629,4502698,1190629,4389978]
["48072066002",705027,2923053,705027,2560286]
["48072068002",1130165,4103709,1130165,4039658]
["48072069002",102066,2285123,102066,2247564]
["48072070002",843788,2838115,843788,2834175]
["48072150025",41440664,174272544,41440664,169189902]
["48072265026",3689990,13245599,3689990,13948033]
["48072309026",2313622,7596080,2313622,7182531]
["48072310016",4020624,13889264,4020624,14587487]
["48072316004",549509,2015957,549509,2029900]
["48072321026",6996257,22803051,6996257,22131807]
["48072322026",2264971,7732202,2264971,7357593]
["48072323026",14081811,47846579,14081811,44849733]
["48072325026",2298594,11760112,2298594,11318240]
["48072326026",2530207,9011256,2530207,8428648]
["48072327026",2418211,8851072,2418211,9105840]
["48072328003",534836,1801736,534836,1791390]
["49081029002",783911,2449881,783911,2631371]
["49081030017",6389619,20425789,6389619,19866823]
["49081034002",2114650,8188182,2114650,7400223]
["49081036002",1284352,4353765,1284352,4266196]
["49081037002",11004921,37265088,11004921,35224392]
["49081040022",4410879,69281714,4410879,66552565]
["49081041025",25838626,90012873,25838626,88430620]
["49081100026",3704065,11614897,3704065,11368734]
["49081200026",5030190,15051056,5030190,16082652]
["49081300026",5391649,13857113,5391649,12888141]
["50082009026",2649699,8344984,2649699,8019430]
["50082019026",13061086,50217501,13061086,41465975]
["50082030003",268815,982305,268815,850855]
["50082040026",2261385,7308901,2261385,6925607]
["50082060026",1791469,5147686,1791469,5339143]
["50082070004",2784405,6909436,2784405,7671328]
["50082077016",2470808,7465550,2470808,7099859]
["50082085002",1879859,6261823,1879859,6197918]
["50082090004",10034740,34594038,10034740,32183449]
["50082104002",2169495,7072611,2169495,6510156]
["50082105002",2739970,9301806,2739970,8538154]
["50082110004",2545930,7851656,2545930,8062398]
["50082113002",2843074,8311551,2843074,8628418]
["50082115002",4204203,13964706,4204203,13476225]
["50082116002",1445839,5408290,1445839,4780378]
["50082118002",14460674,52146425,14460674,49251286]
["50082119002",3361861,12869789,3361861,11329405]
["50082130004",1884175,5351831,1884175,5423767]
["50082160004",2877183,8920199,2877183,8894735]
["50082175002",2852290,10302499,2852290,9577900]
["50082181002",1465724,4867897,1465724,4540713]
["50082187026",13906740,53971461,13906740,53292672]
["50082188022",551474,2510525,551474,2531934]
["50082189022",20808522,96615086,20808522,89077154]
["50082196026",3739733,13021315,3739733,12153779]
["50082201017",18918074,61362445,18918074,61220500]
["50082203017",9464923,28427293,9464923,27963522]
["51065200026",976245,3279526,976245,3081444]
["51065202026",3077928,11853799,3077928,12288063]
["51065213026",3196173,11142186,3196173,10664484]
["51084001026",3168891,7101544,3168891,7180029]
["51084003A26",7449949,23457027,7449949,22695424]
["51084005026",2095367,38950884,2095367,34804151]
["51084008026",6548281,17015549,6548281,17178468]
["51084010026",4056646,13582998,4056646,12637058]
["51084011026",3059063,7529421,3059063,7662072]
["51084014026",643801,11972847,643801,10733187]
["51084015026",4451817,15359458,4451817,14363248]
["51084016026",2676577,10240200,2676577,9434945]
["51084186025",37440089,194379638,37440089,189810767]
["53060126026",3160809,11047889,3160809,10275199]
["53060189026",3070377,9922523,3070377,9489527]
["53060191026",3225651,10701995,3225651,10376698]
["53090050002",2198517,8890564,2198517,8340202]
["53090051002",3185852,11493139,3185852,10742949]
["53090052002",2481404,9374304,2481404,8971191]
["53090076002",2094461,7748857,2094461,7407718]
["53090085002",641728,2134839,641728,2155500]
["53090086002",5820944,20506146,5820944,19393552]
["53090098002",773734,3150756,773734,3025567]
["53090102002",1969377,6718944,1969377,6401672]
["53090108002",13303198,43508766,13303198,44052992]
["53090137002",729422,2776099,729422,2616181]
["53090303016",6187656,22674651,6187656,21569742]
["53090308016",5998541,20043162,5998541,19774709]
["53090309016",3966183,14023099,3966183,16014452]
["53090606004",182878,922138,182878,866939]
["53090701026",3612167,12087922,3612167,11387900]
["53090702026",3448430,10843284,3448430,11008662]
["53090703026",1892805,6144478,1892805,6045892]
["53090709026",10515557,37433925,10515557,36147927]
["53102001004",2247630,7461689,2247630,7604309]
["53102002004",575251,2093089,575251,2045111]
["53102006026",4161518,13636093,4161518,13625782]
["53102011026",4652341,15083661,4652341,14698208]
["53102021026",1347684,4645631,1347684,4587611]
["53102060026",1957775,6780885,1957775,6601221]
["53102069002",2564273,8359668,2564273,8046775]
["53102122017",4082034,14161539,4082034,13454695]
["53102140026",5330708,18011858,5330708,17825705]
["54092001026",2372970,8655303,2372970,8270532]
["54092002026",3481797,13183931,3481797,12072256]
["54092004026",3038477,11074067,3038477,10488427]
["54092007026",502534,4168315,502534,3576888]
["54092010026",242760,2093527,242760,1859007]
["54092011026",5013472,17309315,5013472,16214377]
["54092061003",522096,1466540,522096,1531034]
["54092076026",2273700,8980223,2273700,8642746]
["54092118024",23800323,82387514,23800323,82104093]
["54092225017",400004,2074086,400004,1926952]
["54092512026",6043712,13635927,6043712,13077632]
["56099017002",2593250,17359465,2593250,20721048]
["56099030C04",2403007,43232070,2403007,40419531]
["56099033C04",9201938,50832488,9201938,45530432]
["56099070C04",366747,8519489,366747,7061466]
["56099081002",443349,4139266,443349,3117447]
["56099084002",162585,3031424,162585,3164353]
["56099086005",44071261,155714515,44071261,152240361]
["56099088002",965532,5613131,965532,5119413]
["56099088A02",549388,8810260,549388,8429217]
["56099089002",1148245,5796243,1148245,5504421]
["56099090002",133824,3154248,133824,2718032]
["56099091002",326118,6200941,326118,5419708]
["56099092002",1211273,22613442,1211273,19990374]
["56099114002",4195970,17335786,4195970,14500946]
["56099122002",11305673,56426984,11305673,51670736]
["56099157C04",5448265,32338192,5448265,26712992]
["56099159002",5501163,21014529,5501163,19303146]
["56099161002",13108628,41887255,13108628,40134785]
["56099200U26",534447,10191743,534447,8898060]
["56099202022",61106259,292752761,61106259,278065586]
["56099203004",208552,3516558,208552,3798442]
["56099204017",32498350,108910186,32498350,104624168]
["56099205017",2628786,48103922,2628786,43361124]
["56099207U26",740289,13827138,740289,13298644]
["56099209U26",586808,12456892,586808,12546787]
["56099210016",34559843,102507989,34559843,97350351]
["56099255U26",7272441,28878983,7272441,24801972]
["56099365U26",80804456,283614870,80804456,272979548]
[null,{"$f":"SUM(B2:B851)","v":6473039168.7999992},{"$f":"SUM(C2:C851)","v":29269321069.660004},{"$f":"SUM(D2:D851)","v":6473039168.7999992},{"$f":"SUM(E2:E851)","v":28030209428.370003}]
[]
[]
[]
[]
[]
[]
[]
[]
[]
[]
[]
[]
[]
[]
[]
[]
[]
[]
[]
[]
[]
[]
[]
[]
[]
[]
[]
[]
[]
[]
[]
[]
[]
[]
[]
[]
[]
[]
[]
[]
[]
[]
[]
[]
[]
[]
[]
[]
[]
[]
[]
[]
[]
[]
[]
[]
[]
[]
[]
[]
[]
[]
[]
[]
[]
[]
[]
[]
[]
[]
[]
[]
[]
[]
[]
[]
[]
[]
[]
[]
[]
[]
[]
[]
[]
[]
[]
[]
[]
[]
[]
[]
[]
[]
[]
[]
[]
[]
[]
[]
[]
[]
[]
[]
[]
[]
[]
[]
[]
[]
[]
[]
[]
[]
[]
[]
[]
[]
[]
[]
[]
[]
[]
[]
[]
[]
[]
[]
[]
[]
[]
[]
[]
[]
[]
[]
[]
[]
[]
[]
[]
[]
[]
[]
[]
[]
[]
[]
[]
[]
[]
[]
[]
[]
[]
[]
[]
[]
[]
[]
[]
[]
[]
[]
[]
[]
[]
[]
[]
[]
[]
[]
[]
[]
[]
[]
[]
[]
[]
[]
[]
[]
[]
[]
[]
[]
[]
[]
[]
[]
[]
[]
[]
[]
[]
[]
[]
[]
[]
[]
[]
[]
[]
[]
[]
[]
[]
[]
[]
[]
[]
[]
[]
[]
[]
[]
[]
[]
[]
[]
[]
[]
[]
[]
[]
[]
[]
[]
[]
[]
[]
[]
[]
[]
[]
[]
[]
[]
[]
[]
[]
[]
[]
[]
[]
[]
[]
[]
[]
[]
[]
[]
[]
[]
[]
[]
[]
[]
[]
[]
[]
[]
[]
[]
[]
[]
[]
[]
[]
[]
[]
[]
[]
[]
[]
[]
[]
[]
[]
[]
[]
[]
[]
[]
[]
[]
[]
[]
[]
[]
[]
[]
[]
[]
[]
[]
[]
[]
[]
[]
[]
[]
[]
[]
[]
[]
[]
[]
[]
[]
[]
[]
[]
[]
[]
[]
[]
[]
[]
[]
[]
[]
[]
[]
[]
[]
[]
[]
[]
[]
[]
[]
[]
[]
[]
[]
[]
[]
[]
[]
[]
[]
[]
[]
[]
[]
[]
[]
[]
[]
[]
[]
[]
[]
[]
[]
[]
[]
[]
[]
[]
[]
[]
[]
[]
[]
[]
[]
[]
[]
[]
[]
[]
[]
[]
[]
[]
[]
[]
[]
[]
[]
[]
[]
[]
[]
[]
[]
[]
[]
[]
[]
[]
[]
[]
[]
[]
[]
[]
[]
[]
[]
[]
[]
[]
[]
[]
[]
[]
[]
[]
[]
[]
[]
[]
[]
[]
[]
[]
[]
[]
[]
[]
[]
[]
[]
[]
[]
[]
[]
[]
[]
[]
[]
[]
[]
[]
[]
[]
[]
[]
[]
[]
[]
[]
[]
[]
[]
[]
[]
[]
[]
[]
[]
[]
[]
[]
[]
[]
[]
[]
[]
[]
[]
[]
[]
[]
[]
[]
[]
[]
[]
[]
[]
[]
[]
[]
[]
[]
[]
[]
[]
[]
[]
[]
[]
[]
[]
[]
[]
[]
[]
[]
[]
[]
[]
[]
[]
[]
[]
[]
[]
[]
[]
[]
[]
[]
[]
[]
[]
[]
[]
[]
[]
[]
[]
[]
[]
[]
[]
[]
[]
[]
[]
[]
[]
[]
[]
[]
[]
[]
[]
[]
[]
[]
[]
[]
[]
[]
[]
[]
[]
[]
[]
[]
[]
[]
[]
[]
[]
[]
[]
[]
[]
[]
[]
[]
[]
[]
[]
[]
[]
[]
[]
[]
[]
[]
[]
[]
[]
[]
[]
[]
[]
[]
[]
[]
[]
[]
[]
[]
[]
[]
[]
[]
[]
[]
[]
[]
[]
[]
[]
[]
[]
[]
[]
[]
[]
[]
[]
[]
[]
[]
[]
[]
[]
[]
[]
[]
[]
[]
[]
[]
[]
[]
[]
[]
[]
[]
[]
[]
[]
[]
[]
[]
[]
[]
[]
[]
[]
[]
[]
[]
[]
[]
[]
[]
[]
[]
[]
[]
[]
[]
[]
[]
[]
[]
[]
[]
[]
[]
[]
[]
[]
[]
[]
[]
[]
[]
[]
[]
[]
[]
[]
[]
[]
[]
[]
[]
[]
[]
[]
[]
[]
[]
[]
[]
[]
[]
[]
[]
[]
[]
[]
[]
[]
[]
[]
[]
[]
[]
[]
[]
[]
[]
[]
[]
[]
[]
[]
[]
[]
[]
[]
[]
[]
[]
[]
[]
[]
[]
[]
[]
[]
[]
[]
[]
[]
[]
[]
[]
[]
[]
[]
[]
[]
[]
[]
[]
[]
[]
[]
[]
[]
[]
[]
[]
[]
[]
[]
[]
[]
[]
[]
[]
[]
[]
[]
[]
[]
[]
[]
[]
[]
[]
[]
[]
[]
[]
[]
[]
[]
[]
[]
[]
[]
[]
[]
[]
[]
[]
[]
[]
[]
[]
[]
[]
[]
[]
[]
[]
[]
[]
[]
[]
[]
[]
[]
[]
[]
[]
[]
[]
[]
[]
[]
[]
[]
[]
[]
[]
[]
[]
[]
[]
[]
[]
[]
[]
[]
[]
[]
[]
[]
[]
[]
[]
[]
[]
[]
[]
[]
[]
[]
[]
[]
[]
[]
[]
[]
[]
[]
[]
[]
[]
[]
[]
[]
[]
[]
[]
[]
[]
[]
[]
[]
[]
[]
[]
[]
[]
[]
[]
[]
[]
[]
[]
[]
[]
[]
[]
[]
[]
[]
[]
[]
[]
[]
[]
[]
[]
[]
[]
[]
[]
[]
[]
[]
[]
[]
[]
[]
[]
[]
[]
[]
[]
[]
[]
[]
[]
[]
[]
[]
[]
[]
[]
[]
[]
[]
[]
[]
[]
[]
[]
[]
[]
[]
[]
[]
[]
[]
[]
[]
[]
[]
[]
[]
[]
[]
[]
[]
[]
[]
[]
[]
[]
[]
[]
[]
[]
[]
[]
[]
[]
[]
[]
[]
[]
[]
[]
[]
[]
[]
[]
[]
[]
[]
[]
[]
[]
[]
[]
[]
[]
[]
[]
[]
[]
[]
[]
[]
[]
[]
[]
[]
[]
[]
[]
[]
[]
[]
[]
[]
[]
[]
[]
[]
[]
[]
[]
[]
[]
[]
[]
[]
[]
[]
[]
[]
[]
[]
[]
[]
[]
[]
[]
[]
[]
[]
[]
[]
[]
[]
[]
[]
[]
[]
[]
[]
[]
[]
[]
[]
[]
[]
[]
[]
[]
[]
[]
[]
[]
[]
[]
[]
[]
[]
[]
[]
[]
[]
[]
[]
[]
[]
[]
[]
[]
[]
[]
[]
[]
[]
[]
[]
[]
[]
[]
[]
[]
[]
[]
[]
[]
[]
[]
[]
[]
[]
[]
[]
[]
[]
[]
[]
[]
[]
[]
[]
[]
[]
[]
[]
[]
[]
[]
[]
[]
[]
[]
[]
[]
[]
[]
[]
[]
[]
[]
[]
[]
[]
[]
[]
[]
[]
[]
[]
[]
[]
[]
[]
[]
[]
[]
[]
[]
[]
[]
[]
[]
[]
[]
[]
[]
[]
[]
[]
[]
[]
[]
[]
[]
[]
[]
[]
[]
[]
[]
[]
[]
[]
[]
[]
[]
[]
[]
[]
[]
[]
[]
[]
[]
[]
[]
[]
[]
[]
[]
[]
[]
[]
[]
[]
[]
[]
[]
[]
[]
[]
[]
[]
[]
[]
[]
[]
[]
[]
[]
[]
[]
[]
[]
[]
[]
[]
[]
[]
[]
[]
[]
[]
[]
[]
[]
[]
[]
[]
[]
[]
[]
[]
[]
[]
[]
[]
[]
[]
[]
[]
[]
[]
[]
[]
[]
[]
[]
[]
[]
[]
[]
[]
[]
[]
[]
[]
[]
[]
[]
[]
[]
[]
[]
[]
[]
[]
[]
[]
[]
[]
[]
[]
[]
[]
[]
[]
[]
[]
[]
[]
[]
[]
[]
[]
[]
[]
[]
[]
[]
[]
[]
[]
[]
[]
[]
[]
[]
[]
[]
[]
[]
[]
[]
[]
[]
[]
[]
[]
[]
[]
[]
[]
[]
[]
[]
[]
[]
[]
[]
[]
[]
[]
[]
[]
[]
[]
[]
[]
[]
[]
[]
[]
[]
[]
[]
[]
[]
[]
[]
[]
[]
[]
[]
[]
[]
[]
[]
[]
[]
[]
[]
[]
[]
[]
[]
[]
[]
[]
[]
[]
[]
[]
[]
[]
[]
[]
[]
[]
[]
[]
[]
[]
[]
[]
[]
[]
[]
[]
[]
[]
[]
[]
[]
[]
[]
[]
[]
[]
[]
[]
[]
[]
[]
[]
[]
[]
[]
[]
[]
[]
[]
[]
[]
[]
[]
[]
[]
[]
[]
[]
[]
[]
[]
[]
[]
[]
[]
[]
[]
[]
[]
[]
[]
[]
[]
[]
[]
[]
[]
[]
[]
[]
[]
[]
[]
[]
[]
[]
[]
[]
[]
[]
[]
[]
[]
[]
[]
[]
[]
[]
[]
[]
[]
[]
[]
[]
[]
[]
[]
[]
[]
[]
[]
[]
[]
[]
[]
[]
[]
[]
[]
[]
[]
[]
[]
[]
[]
[]
[]
[]
[]
[]
[]
[]
[]
[]
[]
[]
[]
[]
[]
[]
[]
[]
[]
[]
[]
[]
[]
[]
[]
[]
[]
[]
[]
[]
[]
[]
[]
[]
[]
[]
[]
[]
[]
[]
[]
[]
[]
[]
[]
[]
[]
[]
[]
[]
[]
[]
[]
[]
[]
[]
[]
[]
[]
[]
[]
[]
[]
[]
[]
[]
[]
[]
[]
[]
[]
[]
[]
[]
[]
[]
[]
[]
[]
[]
[]
[]
[]
[]
[]
[]
[]
[]
[]
[]
[]
[]
[]
[]
[]
[]
[]
[]
[]
[]
[]
[]
[]
[]
[]
[]
[]
[]
[]
[]
[]
[]
[]
[]
[]
[]
[]
[]
[]
[]
[]
[]
[]
[]
[]
[]
[]
[]
[]
[]
[]
[]
[]
[]
[]
[]
[]
[]
[]
[]
[]
[]
[]
[]
[]
[]
[]
[]
[]
[]
[]
[]
[]
[]
[]
[]
[]
[]
[]
[]
[]
[]
[]
[]
[]
[]
[]
[]
[]
[]
[]
[]
[]
[]
[]
[]
[]
[]
[]
[]
[]
[]
[]
[]
[]
[]
[]
[]
[]
[]
[]
[]
[]
[]
[]
[]
[]
[]
[]
[]
[]
[]
[]
[]
[]
[]
[]
[]
[]
[]
[]
[]
[]
[]
[]
[]
[]
[]
[]
[]
[]
[]
[]
[]
[]
[]
[]
[]
[]
[]
[]
[]
[]
[]
[]
[]
[]
[]
[]
[]
[]
[]
[]
[]
[]
[]
[]
[]
[]
[]
[]
[]
[]
[]
[]
[]
[]
[]
[]
[]
[]
[]
[]
[]
[]
[]
[]
[]
[]
[]
[]
[]
[]
[]
[]
[]
[]
[]
[]
[]
[]
[]
[]
[]
[]
[]
[]
[]
[]
[]
[]
[]
[]
[]
[]
[]
[]
[]
[]
[]
[]
[]
[]
[]
[]
[]
[]
[]
[]
[]
[]
[]
[]
[]
[]
[]
[]
[]
[]
[]
[]
[]
[]
[]
[]
[]
[]
[]
[]
[]
[]
[]
[]
[]
[]
[]
[]
[]
[]
[]
[]
[]
[]
[]
[]
[]
[]
[]
[]
[]
[]
[]
[]
[]
[]
[]
[]
[]
[]
[]
[]
[]
[]
[]
[]
[]
[]
[]
[]
[]
[]
[]
[]
[]
[]
[]
[]
[]
[]
[]
[]
[]
[]
[]
[]
[]
[]
[]
[]
[]
[]
[]
[]
[]
[]
[]
[]
[]
[]
[]
[]
[]
[]
[]
[]
[]
[]
[]
[]
[]
[]
[]
[]
[]
[]
[]
[]
[]
[]
[]
[]
[]
[]
[]
[]
[]
[]
[]
[]
[]
[]
[]
[]
[]
[]
[]
[]
[]
[]
[]
[]
[]
[]
[]
[]
[]
[]
[]
[]
[]
[]
[]
[]
[]
[]
[]
[]
[]
[]
[]
[]
[]
[]
[]
[]
[]
[]
[]
[]
[]
[]
[]
[]
[]
[]
[]
[]
[]
[]
[]
[]
[]
[]
[]
[]
[]
[]
[]
[]
[]
[]
[]
[]
[]
[]
[]
[]
[]
[]
[]
[]
[]
[]
[]
[]
[]
[]
[]
[]
[]
[]
[]
[]
[]
[]
[]
[]
[]
[]
[]
[]
[]
[]
[]
[]
[]
[]
[]
[]
[]
[]
[]
[]
[]
[]
[]
[]
[]
[]
[]
[]
[]
[]
[]
[]
[]
[]
[]
[]
[]
[]
[]
[]
[]
[]
[]
[]
[]
[]
[]
[]
[]
[]
[]
[]
[]
[]
[]
[]
[]
[]
[]
[]
[]
[]
[]
[]
[]
[]
[]
[]
[]
[]
[]
[]
[]
[]
[]
[]
[]
[]
[]
[]
[]
[]
[]
[]
[]
[]
[]
[]
[]
[]
[]
[]
[]
[]
[]
[]
[]
[]
[]
[]
[]
[]
[]
[]
[]
[]
[]
[]
[]
[]
[]
[]
[]
[]
[]
[]
[]
[]
[]
[]
[]
[]
[]
[]
[]
[]
[]
[]
[]
[]
[]
[]
[]
[]
[]
[]
[]
[]
[]
[]
[]
[]
[]
[]
[]
[]
[]
[]
[]
[]
[]
[]
[]
[]
[]
[]
[]
[]
[]
[]
[]
[]
[]
[]
[]
[]
[]
[]
[]
[]
[]
[]
[]
[]
[]
[]
[]
[]
[]
[]
[]
[]
[]
[]
[]
[]
[]
[]
[]
[]
[]
[]
[]
[]
[]
[]
[]
[]
[]
[]
[]
[]
[]
[]
[]
[]
[]
[]
[]
[]
[]
[]
[]
[]
[]
[]
[]
[]
[]
[]
[]
[]
[]
[]
[]
[]
[]
[]
[]
[]
[]
[]
[]
[]
[]
[]
[]
[]
[]
[]
[]
[]
[]
[]
[]
[]
[]
[]
[]
[]
[]
[]
[]
[]
[]
[]
[]
[]
[]
[]
[]
[]
[]
[]
[]
[]
[]
[]
[]
[]
[]
[]
[]
[]
[]
[]
[]
[]
[]
[]
[]
[]
[]
[]
[]
[]
[]
[]
[]
[]
[]
[]
[]
[]
[]
[]
[]
[]
[]
[]
[]
[]
[]
[]
[]
[]
[]
[]
[]
[]
[]
[]
[]
[]
[]
[]
[]
[]
[]
[]
[]
[]
[]
[]
[]
[]
[]
[]
[]
[]
[]
[]
[]
[]
[]
[]
[]
[]
[]
[]
[]
[]
[]
[]
[]
[]
[]
[]
[]
[]
[]
[]
[]
[]
[]
[]
[]
[]
[]
[]
[]
[]
[]
[]
[]
[]
[]
[]
[]
[]
[]
[]
[]
[]
[]
[]
[]
[]
[]
[]
[]
[]
[]
[]
[]
[]
[]
[]
[]
[]
[]
[]
[]
[]
[]
[]
[]
[]
[]
[]
[]
[]
[]
[]
[]
[]
[]
[]
[]
[]
[]
[]
[]
[]
[]
[]
[]
[]
[]
[]
[]
[]
[]
[]
[]
[]
[]
[]
[]
[]
[]
[]
[]
[]
[]
[]
[]
[]
[]
[]
[]
[]
[]
[]
[]
[]
[]
[]
[]
[]
[]
[]
[]
[]
[]
[]
[]
[]
[]
[]
[]
[]
[]
[]
[]
[]
[]
[]
[]
[]
[]
[]
[]
[]
[]
[]
[]
[]
[]
[]
[]
[]
[]
[]
[]
[]
[]
[]
[]
[]
[]
[]
[]
[]
[]
[]
[]
[]
[]
[]
[]
[]
[]
[]
[]
[]
[]
[]
[]
[]
[]
[]
[]
[]
[]
[]
[]
[]
[]
[]
[]
[]
[]
[]
[]
[]
[]
[]
[]
[]
[]
[]
[]
[]
[]
[]
[]
[]
[]
[]
[]
[]
[]
[]
[]
[]
[]
[]
[]
[]
[]
[]
[]
[]
[]
[]
[]
[]
[]
[]
[]
[]
[]
[]
[]
[]
[]
[]
[]
[]
[]
[]
[]
[]
[]
[]
[]
[]
[]
[]
[]
[]
[]
[]
[]
[]
[]
[]
[]
[]
[]
[]
[]
[null,null,null,null,null,null,null,null,"4052",6473039168.8000002]
[null,null,null,null,null,null,null,null,"4061",29269321069.660004]
[null,null,null,null,null,null,null,null,"4070",6473039168.8000002]
[null,null,null,null,null,null,null,null,"4075",28030209428.369999]
[]
[]
[]
[]
[]
[]
[null,null,null,null,null,null,null,null,"4061",29269321069.660004]
[]
[]
[]
[]
[]
[]
[]
[]
[]
[null,null,null,null,null,null,null,null,"4070",6473039168.8000002]
[]
[]
[]
[]
[null,null,null,null,null,null,null,null,"4075",28030209428.369999]

{"sheet":"SDJA Field #'s","index":20,"n_rows":2408,"n_cols":14,"rows_kept":2408,"cut":false,"hidden":true,"merged":[]}
["txtFieldNum","2018",null,null,null,null,null,null,null,"ChrAgreNum","txtFieldNum","2018"]
[4,4449380884,null,null,null,null,null,null,null,"32000000047","4061  ",262098]
[11,10987732,null,null,null,null,null,null,null,"45079122019","4061  ",367506]
[12,2148438515,null,null,null,null,null,null,null,"12000000046","4061  ",402404]
[15,9075481,null,null,null,null,null,null,null,"01009700045","4061  ",456476]
[16,13905911007.32,null,null,null,null,null,null,null,"21100801046","4061  ",462618]
[25,114728242,null,null,null,null,null,null,null,"53102721045","4061  ",466102]
[27,4524419427,null,null,null,null,null,null,null,"17054404041","4061  ",502523]
[30,6161950946,null,null,null,null,null,null,null,"17054404046","4061  ",513263]
[31,7490098559.5900002,null,null,null,null,null,null,null,"13000000041","4061  ",550070]
[32,13905911007.589998,null,null,null,null,null,null,null,"33048205041","4061  ",575963]
[36,449091290,null,null,null,null,null,null,null,"13000000047","4061  ",586707]
[43,98822,null,null,null,null,null,null,null,"13041099004","4061  ",586716.14]
[44,349694184,null,null,null,null,null,null,null,"08000000046","4061  ",589040]
[47,809521,null,null,null,null,null,null,null,"40000000046","4061  ",599155]
[48,2013208786.2,null,null,null,null,null,null,null,"30000000046","4061  ",604885]
[56,382003,null,null,null,null,null,null,null,"17053090046","4061  ",605798]
[58,533223051,null,null,null,null,null,null,null,"12013035046","4061  ",625848]
[61,648260202,null,null,null,null,null,null,null,"13041012004","4061  ",645735.82999999996]
[62,1159053682.95,null,null,null,null,null,null,null,"17053425004","4061  ",653995]
[63,2013208785.95,null,null,null,null,null,null,null,"28006098002","4061  ",701403]
[65,453038975,null,null,null,null,null,null,null,"33094729045","4061  ",726797]
[68,192660768,null,null,null,null,null,null,null,"28006000000","4061  ",736095]
[69,13754738,null,null,null,null,null,null,null,"13000000046","4061  ",746371]
[70,2119237365,null,null,null,null,null,null,null,"45000000046","4061  ",750898]
[73,460348617,null,null,null,null,null,null,null,"54092740045","4061  ",766363]
[78,469306339,null,null,null,null,null,null,null,"21044043003","4061  ",802709]
[79,613024456.88,null,null,null,null,null,null,null,"24032074003","4061  ",858991]
[80,2119237364.8800001,null,null,null,null,null,null,null,"13095011004","4061  ",862048]
[84,159323034,null,null,null,null,null,null,null,"01001172041","4061  ",864562]
[92,210381344,null,null,null,null,null,null,null,"35050120040","4061  ",878691]
[95,188063,null,null,null,null,null,null,null,"17053090041","4061  ",881524]
[96,1214539779.4400001,null,null,null,null,null,null,null,"13041006004","4061  ",883479]
[103,802396,null,null,null,null,null,null,null,"48000000046","4061  ",886601]
[105,299084753,null,null,null,null,null,null,null,"26000000046","4061  ",887355]
[108,360433788,null,null,null,null,null,null,null,"01001172046","4061  ",893163]
[109,686773915.85000002,null,null,null,null,null,null,null,"24047090004","4061  ",911479]
[110,1214539778.8499999,null,null,null,null,null,null,null,"41057010041","4061  ",915681]
[112,158410779,null,null,null,null,null,null,null,"53090606004","4061  ",922138]
[116,109853870,null,null,null,null,null,null,null,"20000000046","4061  ",925822]
[118,22713,null,null,null,null,null,null,null,"50082746045","4061  ",930746]
[119,663696740.50999999,null,null,null,null,null,null,null,"08043790040","4061  ",941216]
[123,5439635,null,null,null,null,null,null,null,"50082030003","4061  ",982305]
[124,175026030,null,null,null,null,null,null,null,"30073005002","4061  ",1014564.83]
[127,195258946,null,null,null,null,null,null,null,"53000000046","4061  ",1021673]
[128,322545795.58000004,null,null,null,null,null,null,null,"13014062002","4061  ",1028497]
[129,663696740.58000004,null,null,null,null,null,null,null,"04004000051","4061  ",1049626]
[138,459294954,null,null,null,null,null,null,null,"07016790045","4061  ",1095703]
[141,34045,null,null,null,null,null,null,null,"30073204004","4061  ",1121461]
[142,2637165410,null,null,null,null,null,null,null,"17053426004","4061  ",1139797]
[145,9113,null,null,null,null,null,null,null,"08089723045","4061  ",1141918]
[147,17494828,null,null,null,null,null,null,null,"20096014004","4061  ",1145045]
[150,187253893,null,null,null,null,null,null,null,"47052220002","4061  ",1148488]
[151,1210250162,null,null,null,null,null,null,null,"35050720045","4061  ",1163712]
[152,2637165410,null,null,null,null,null,null,null,"13014057002","4061  ",1181813]
[212,1328601194,null,null,null,null,null,null,null,"05016039061","4061  ",1188880]
[213,35175375649.099998,null,null,null,null,null,null,null,"30002748045","4061  ",1252185]
[214,1990590766.51,null,null,null,null,null,null,null,"13058002003","4061  ",1252201]
[215,3803382597,null,null,null,null,null,null,null,"28006505016","4061  ",1253413]
[218,43361774809.610001,null,null,null,null,null,null,null,"28006084004","4061  ",1258062]
[219,43360339529.610001,null,null,null,null,null,null,null,"30091016004","4061  ",1282059]
[220,43360339529.610001,null,null,null,null,null,null,null,"35050082004","4061  ",1291720]
[221,1645399108,null,null,null,null,null,null,null,"35050065004","4061  ",1293926]
[222,19929913595,null,null,null,null,null,null,null,"44000000046","4061  ",1295270]
[223,21575312703,null,null,null,null,null,null,null,"13095015004","4061  ",1312312.1599999999]
[224,21576111783,null,null,null,null,null,null,null,"47071269004","4061  ",1315666]
[226,21576111783,null,null,null,null,null,null,null,"09010142004","4061  ",1320172]
[227,21576111783,null,null,null,null,null,null,null,"24032024C04","4061  ",1324512]
[259,19734469,null,null,null,null,null,null,null,"21044064002","4061  ",1347365]
[260,5656749,null,null,null,null,null,null,null,"17064087041","4061  ",1375186]
[262,13385462,null,null,null,null,null,null,null,"03026741045","4061  ",1396336]
[263,24190,null,null,null,null,null,null,null,"09010008046","4061  ",1399755]
[371,4568411,null,null,null,null,null,null,null,"20096017004","4061  ",1409553]
[439,116325619,null,null,null,null,null,null,null,"04101134004","4061  ",1434180]
[440,220808,null,null,null,null,null,null,null,"45079134004","4061  ",1443932]
[557,956982138,null,null,null,null,null,null,null,"35050230004","4061  ",1445742]
[558,41601698,null,null,null,null,null,null,null,"47071144003","4061  ",1456080]
[559,575570,null,null,null,null,null,null,null,"13014063002","4061  ",1457803]
[590,311901711,null,null,null,null,null,null,null,"35050210004","4061  ",1461831]
[591,7162087,null,null,null,null,null,null,null,"54092061003","4061  ",1466540]
[644,6744713630.6300001,null,null,null,null,null,null,null,"47071161004","4061  ",1511611]
[645,53496043,null,null,null,null,null,null,null,"32000000046","4061  ",1512260]
[651,357591986,null,null,null,null,null,null,null,"17064087046","4061  ",1541091]
[655,9563036,null,null,null,null,null,null,null,"51084731045","4061  ",1551147]
[656,190344821.82999998,null,null,null,null,null,null,null,"13014186002","4061  ",1571943]
[657,286870819.90999997,null,null,null,null,null,null,null,"04000000046","4061  ",1610758]
[658,52342635,null,null,null,null,null,null,null,"21028091004","4061  ",1612612]
[659,10302341030.52,null,null,null,null,null,null,null,"49081030041","4061  ",1634381]
[660,293179837,null,null,null,null,null,null,null,"03026203041","4061  ",1641090]
[661,307192926.84000003,null,null,null,null,null,null,null,"24032072C04","4061  ",1648043]
[662,202069750.16,null,null,null,null,null,null,null,"28006017004","4061  ",1652725]
[663,147490838,null,null,null,null,null,null,null,"13014141502","4061  ",1672285]
[664,228220846.88,null,null,null,null,null,null,null,"13014046002","4061  ",1673372]
[665,73107501,null,null,null,null,null,null,null,"24032075002","4061  ",1678443]
[666,1251261699.8800001,null,null,null,null,null,null,null,"17054088002","4061  ",1682227]
[667,292144165,null,null,null,null,null,null,null,"06016212046","4061  ",1683487]
[668,221686661.11000001,null,null,null,null,null,null,null,"20093017024","4061  ",1750710]
[669,15972675,null,null,null,null,null,null,null,"09027005061","4061  ",1754991]
[670,529803501.11000001,null,null,null,null,null,null,null,"13014060002","4061  ",1760051]
[671,32267130,null,null,null,null,null,null,null,"07016218046","4061  ",1761459]
[672,200887854.69,null,null,null,null,null,null,null,"40007042026","4061  ",1763752]
[673,319595879.69,null,null,null,null,null,null,null,"17053435004","4061  ",1773842]
[674,886967607.63999999,null,null,null,null,null,null,null,"48072328003","4061  ",1801736]
[675,43553785,null,null,null,null,null,null,null,"13058001003","4061  ",1837848]
[676,930521392.63999999,null,null,null,null,null,null,null,"30039130004","4061  ",1851719]
[677,52840391,null,null,null,null,null,null,null,"35050425026","4061  ",1879605]
[678,113534193.69,null,null,null,null,null,null,null,"20096006004","4061  ",1880278]
[679,93837510.159999996,null,null,null,null,null,null,null,"07016228046","4061  ",1890280]
[680,20446100,null,null,null,null,null,null,null,"13041082002","4061  ",1901847]
[681,216449522.12,null,null,null,null,null,null,null,"35059005061","4061  ",2015650]
[682,11104192,null,null,null,null,null,null,null,"48072316004","4061  ",2015957]
[684,508211908.96999997,null,null,null,null,null,null,null,"13095001004","4061  ",2018790]
[685,7879371,null,null,null,null,null,null,null,"41057745045","4061  ",2022597]
[686,16155839,null,null,null,null,null,null,null,"31045302041","4061  ",2022795]
[687,24880652,null,null,null,null,null,null,null,"11015735045","4061  ",2029490]
[688,61556675,null,null,null,null,null,null,null,"54092225017","4061  ",2074086]
[690,100858878.68000001,null,null,null,null,null,null,null,"17053438004","4061  ",2079593.99]
[692,211331415.68000001,null,null,null,null,null,null,null,"01001172061","4061  ",2091714]
[693,15234464,null,null,null,null,null,null,null,"53102002004","4061  ",2093089]
[694,3765960261.9700003,null,null,null,null,null,null,null,"54092010026","4061  ",2093527]
[695,73337542,null,null,null,null,null,null,null,"05016207046","4061  ",2105561]
[696,14141638834.49,null,null,null,null,null,null,null,"09010130004","4061  ",2128502]
[702,1821018202.8499999,null,null,null,null,null,null,null,"13041079002","4061  ",2132229]
[703,9978449,null,null,null,null,null,null,null,"53090085002","4061  ",2134839]
[709,77603853,null,null,null,null,null,null,null,"30039086003","4061  ",2140172]
[713,1115459,null,null,null,null,null,null,null,"09010188004","4061  ",2155658]
[714,39259201.590000004,null,null,null,null,null,null,null,"49081030046","4061  ",2163973]
[715,21007270.619999997,null,null,null,null,null,null,null,"39000000046","4061  ",2179146]
[716,2467821.77,null,null,null,null,null,null,null,"47098005046","4061  ",2224479]
[717,2612016768.9899998,null,null,null,null,null,null,null,"16019430040","4061  ",2232562]
[718,59836075,null,null,null,null,null,null,null,"16000000046","4061  ",2252480]
[719,63757003.75,null,null,null,null,null,null,null,"28006094004","4061  ",2259339]
[720,45912924.219999999,null,null,null,null,null,null,null,"13041005004","4061  ",2265639]
[721,27696557,null,null,null,null,null,null,null,"48072069002","4061  ",2285123]
[722,43046659.019999996,null,null,null,null,null,null,null,"26034327004","4061  ",2300450]
[723,13044376,null,null,null,null,null,null,null,"32038249026","4061  ",2356124]
[724,253293594.99000001,null,null,null,null,null,null,null,"31045046046","4061  ",2380611]
[725,63786797.57,null,null,null,null,null,null,null,"21028115004","4061  ",2410931]
[726,45101253,null,null,null,null,null,null,null,"24047066004","4061  ",2413953]
[727,2515869,null,null,null,null,null,null,null,"35050017504","4061  ",2448316]
[728,111403919.56999999,null,null,null,null,null,null,null,"49081029002","4061  ",2449881]
[729,25655500,null,null,null,null,null,null,null,"11023003026","4061  ",2471328]
[730,41455054,null,null,null,null,null,null,null,"50082188022","4061  ",2510525]
[731,88952075,null,null,null,null,null,null,null,"35050079004","4061  ",2525514]
[732,210254988.60000002,null,null,null,null,null,null,null,"13058007004","4061  ",2549127]
[733,10311244,null,null,null,null,null,null,null,"21044032003","4061  ",2574714]
[734,220566232.60000002,null,null,null,null,null,null,null,"13058010004","4061  ",2592871]
[735,10811716,null,null,null,null,null,null,null,"05016214046","4061  ",2608834]
[736,22176878,null,null,null,null,null,null,null,"13041003004","4061  ",2629566]
[737,19662012,null,null,null,null,null,null,null,"21028174026","4061  ",2690620]
[738,7385651,null,null,null,null,null,null,null,"24047018016","4061  ",2697184]
[739,55643356,null,null,null,null,null,null,null,"32046850060","4061  ",2714629]
[740,2292965,null,null,null,null,null,null,null,"07016154502","4061  ",2751374]
[742,117972578,null,null,null,null,null,null,null,"35050185004","4061  ",2762227]
[743,1679739,null,null,null,null,null,null,null,"24047000061","4061  ",2766034]
[744,2922069,null,null,null,null,null,null,null,"53090137002","4061  ",2776099]
[745,6133028,null,null,null,null,null,null,null,"17054092004","4061  ",2798569]
[746,29573396,null,null,null,null,null,null,null,"13058100026","4061  ",2813766]
[748,17613708,null,null,null,null,null,null,null,"45079001022","4061  ",2826233]
[750,57921940,null,null,null,null,null,null,null,"48072070002","4061  ",2838115]
[751,8051524,null,null,null,null,null,null,null,"01086002026","4061  ",2861765]
[752,858161864.15999997,null,null,null,null,null,null,null,"13058722026","4061  ",2876221]
[753,13351918,null,null,null,null,null,null,null,"30091066022","4061  ",2879376]
[754,3483530551.1500001,null,null,null,null,null,null,null,"31000000046","4061  ",2882990]
[760,118525163.58999999,null,null,null,null,null,null,null,"09010197004","4061  ",2897701]
[761,532417,null,null,null,null,null,null,null,"47052271026","4061  ",2902829]
[767,3006987,null,null,null,null,null,null,null,"41057003026","4061  ",2914677]
[771,1898957,null,null,null,null,null,null,null,"48072066002","4061  ",2923053]
[772,10715477,null,null,null,null,null,null,null,"26034347004","4061  ",2931838]
[773,45738459.879999995,null,null,null,null,null,null,null,"28088001026","4061  ",3004112]
[774,2278939,null,null,null,null,null,null,null,"13041178004","4061  ",3030763]
[775,1021348397.4799999,null,null,null,null,null,null,null,"56099084002","4061  ",3031424]
[776,13485960,null,null,null,null,null,null,null,"47098145004","4061  ",3049581]
[777,13800265,null,null,null,null,null,null,null,"13014021002","4061  ",3050705]
[778,44284405,null,null,null,null,null,null,null,"13058133002","4061  ",3052988]
[779,8709801,null,null,null,null,null,null,null,"03011004026","4061  ",3099765]
[780,30261076,null,null,null,null,null,null,null,"24032073017","4061  ",3121444]
[781,14200109,null,null,null,null,null,null,null,"24032790040","4061  ",3149808]
[782,124741616,null,null,null,null,null,null,null,"53090098002","4061  ",3150756]
[783,109199833.48,null,null,null,null,null,null,null,"47052170061","4061  ",3152105]
[784,40265620.620000005,null,null,null,null,null,null,null,"56099090002","4061  ",3154248]
[785,23117655,null,null,null,null,null,null,null,"12013010026","4061  ",3170760]
[786,172583109.09999999,null,null,null,null,null,null,null,"17054021026","4061  ",3215276]
[787,113476526.76000001,null,null,null,null,null,null,null,"54092800080","4061  ",3221511]
[788,18785116.880000003,null,null,null,null,null,null,null,"01069011026","4061  ",3239822]
[789,156640559.63999999,null,null,null,null,null,null,null,"21061038026","4061  ",3244070]
[790,22179495.329999998,null,null,null,null,null,null,null,"17054061004","4061  ",3262541]
[791,474795,null,null,null,null,null,null,null,"51065200026","4061  ",3279526]
[792,22654290.329999998,null,null,null,null,null,null,null,"11023006026","4061  ",3296902]
[793,6816044,null,null,null,null,null,null,null,"11015005026","4061  ",3324592]
[794,32605496.790000003,null,null,null,null,null,null,null,"39074057026","4061  ",3360731]
[795,81048192,null,null,null,null,null,null,null,"47098020002","4061  ",3386458]
[796,110441017,null,null,null,null,null,null,null,"24032002C02","4061  ",3434220]
[797,204594889.83000001,null,null,null,null,null,null,null,"01075003026","4061  ",3436528]
[798,10462403.629999999,null,null,null,null,null,null,null,"12017003026","4061  ",3438729]
[800,445968043.25,null,null,null,null,null,null,null,"12017001026","4061  ",3476483]
[801,2398128,null,null,null,null,null,null,null,"11087005A26","4061  ",3496983]
[802,5331482,null,null,null,null,null,null,null,"01009064026","4061  ",3510221]
[803,16981880,null,null,null,null,null,null,null,"56099203004","4061  ",3516558]
[804,15412692,null,null,null,null,null,null,null,"20097001026","4061  ",3527566]
[806,91801389,null,null,null,null,null,null,null,"30077801060","4061  ",3547645]
[808,131925571,null,null,null,null,null,null,null,"13041002004","4061  ",3560440]
[809,11713927,null,null,null,null,null,null,null,"26034325026","4061  ",3582515]
[810,1066227116.3200001,null,null,null,null,null,null,null,"17053074027","4061  ",3601288]
[811,51013318,null,null,null,null,null,null,null,"30039196026","4061  ",3627735]
[812,2353610228.21,null,null,null,null,null,null,null,"08089203026","4061  ",3632855]
[818,298030264.07000005,null,null,null,null,null,null,null,"32038006026","4061  ",3647862]
[819,550399,null,null,null,null,null,null,null,"35050095004","4061  ",3661779]
[825,7044214,null,null,null,null,null,null,null,"07016154002","4061  ",3681427]
[829,1397365,null,null,null,null,null,null,null,"28006303026","4061  ",3707436]
[830,23009529.240000002,null,null,null,null,null,null,null,"56099088061","4061  ",3724281]
[831,30235868.289999999,null,null,null,null,null,null,null,"03011001026","4061  ",3744969]
[832,2746068,null,null,null,null,null,null,null,"03011014024","4061  ",3781173]
[833,446935384.85000002,null,null,null,null,null,null,null,"45067003026","4061  ",3853646]
[834,5175837,null,null,null,null,null,null,null,"13041318027","4061  ",3862203]
[835,4353452,null,null,null,null,null,null,null,"01069006026","4061  ",3896163]
[836,3803360,null,null,null,null,null,null,null,"03003001026","4061  ",3900479]
[837,1624088,null,null,null,null,null,null,null,"35050001026","4061  ",3923077]
[838,1385785,null,null,null,null,null,null,null,"41057009061","4061  ",3939897]
[839,4672432.6899999995,null,null,null,null,null,null,null,"13014012004","4061  ",3999512]
[840,21014954.689999998,null,null,null,null,null,null,null,"34049036002","4061  ",4007512]
[841,35814773,null,null,null,null,null,null,null,"08043211026","4061  ",4028737]
[842,42753215,null,null,null,null,null,null,null,"13041001026","4061  ",4063363]
[843,6883334,null,null,null,null,null,null,null,"32046259004","4061  ",4081393]
[844,85451322,null,null,null,null,null,null,null,"08008399026","4061  ",4088840]
[845,6472487.5800000001,null,null,null,null,null,null,null,"26034317004","4061  ",4089119]
[846,4805317.45,null,null,null,null,null,null,null,"48072068002","4061  ",4103709]
[847,13056629.029999999,null,null,null,null,null,null,null,"01069001026","4061  ",4122538]
[848,17447019.149999999,null,null,null,null,null,null,null,"09010801060","4061  ",4129738]
[849,206244,null,null,null,null,null,null,null,"56099081002","4061  ",4139266]
[850,17653263.149999999,null,null,null,null,null,null,null,"56099711045","4061  ",4141717]
[851,1367365,null,null,null,null,null,null,null,"03025020026","4061  ",4146012]
[852,4674855.59,null,null,null,null,null,null,null,"40056801060","4061  ",4146538]
[853,34702592,null,null,null,null,null,null,null,"56000000040","4061  ",4146581]
[854,964352,null,null,null,null,null,null,null,"21044133017","4061  ",4155468]
[855,286123141.51999998,null,null,null,null,null,null,null,"54092007026","4061  ",4168315]
[856,4977650,null,null,null,null,null,null,null,"32046256004","4061  ",4176995]
[858,332809956.11000001,null,null,null,null,null,null,null,"01075004026","4061  ",4202801]
[859,262654,null,null,null,null,null,null,null,"26029004026","4061  ",4218886]
[860,824442,null,null,null,null,null,null,null,"30091084026","4061  ",4220801]
[861,6175522,null,null,null,null,null,null,null,"30091043004","4061  ",4229639]
[862,1713631,null,null,null,null,null,null,null,"11087001026","4061  ",4242251]
[864,45687305,null,null,null,null,null,null,null,"30077100026","4061  ",4246505]
[866,54663554,null,null,null,null,null,null,null,"26034307016","4061  ",4255095]
[867,7061826,null,null,null,null,null,null,null,"39074005026","4061  ",4273577]
[868,531711504.97999996,null,null,null,null,null,null,null,"01069027026","4061  ",4293083]
[869,10927448,null,null,null,null,null,null,null,"17053006J26","4061  ",4308894]
[870,989574337.83000004,null,null,null,null,null,null,null,"08043205026","4061  ",4318715]
[876,39916170.5,null,null,null,null,null,null,null,"26029001026","4061  ",4332501]
[877,5435,null,null,null,null,null,null,null,"45000000040","4061  ",4342820]
[883,98275,null,null,null,null,null,null,null,"49081036002","4061  ",4353765]
[887,79641,null,null,null,null,null,null,null,"32046302016","4061  ",4375686]
[888,10212076.91,null,null,null,null,null,null,null,"28037226026","4061  ",4424963]
[889,3269550,null,null,null,null,null,null,null,"08089200026","4061  ",4443082]
[890,19020,null,null,null,null,null,null,null,"32046258004","4061  ",4445378]
[891,65820853.68,null,null,null,null,null,null,null,"21044055002","4061  ",4452647]
[892,146114,null,null,null,null,null,null,null,"48072063002","4061  ",4502698]
[893,55387,null,null,null,null,null,null,null,"11012003C26","4061  ",4536099]
[894,564607,null,null,null,null,null,null,null,"20083001026","4061  ",4540812]
[895,11513,null,null,null,null,null,null,null,"33048801060","4061  ",4598717]
[896,326567,null,null,null,null,null,null,null,"32038003026","4061  ",4604651]
[897,787537,null,null,null,null,null,null,null,"11023004026","4061  ",4610529]
[898,1891725,null,null,null,null,null,null,null,"20096100026","4061  ",4640155]
[899,6935433,null,null,null,null,null,null,null,"53102021026","4061  ",4645631]
[900,25562691,null,null,null,null,null,null,null,"45079138026","4061  ",4690907]
[901,53753,null,null,null,null,null,null,null,"11087003A26","4061  ",4700668]
[902,32551877,null,null,null,null,null,null,null,"35050009026","4061  ",4700737]
[903,481435,null,null,null,null,null,null,null,"13095049004","4061  ",4731855]
[904,555303,null,null,null,null,null,null,null,"26029002026","4061  ",4737564]
[905,1158789,null,null,null,null,null,null,null,"21100003026","4061  ",4752597]
[906,1169574.3,null,null,null,null,null,null,null,"09010008026","4061  ",4851939]
[907,38433,null,null,null,null,null,null,null,"50082181002","4061  ",4867897]
[908,1208007.3,null,null,null,null,null,null,null,"40007040026","4061  ",4879130]
[909,417243,null,null,null,null,null,null,null,"06016079002","4061  ",4905511]
[910,2480332.8199999998,null,null,null,null,null,null,null,"33048210026","4061  ",4907569]
[911,16257855,null,null,null,null,null,null,null,"30073101016","4061  ",4919808]
[912,102303,null,null,null,null,null,null,null,"03026204026","4061  ",4937249]
[913,6027553.6600000001,null,null,null,null,null,null,null,"35050195004","4061  ",4950691]
[914,1733453,null,null,null,null,null,null,null,"13095099016","4061  ",4959199]
[916,27018740.48,null,null,null,null,null,null,null,"09010305016","4061  ",4994475]
[917,114135,null,null,null,null,null,null,null,"20096225016","4061  ",5015276]
[918,240238,null,null,null,null,null,null,null,"01009262026","4061  ",5019438]
[919,6328421,null,null,null,null,null,null,null,"28037190002","4061  ",5039532]
[920,236522,null,null,null,null,null,null,null,"26034316026","4061  ",5041269]
[922,45808745,null,null,null,null,null,null,null,"44063018004","4061  ",5053972]
[924,52728061,null,null,null,null,null,null,null,"03025030026","4061  ",5072918]
[925,1531515,null,null,null,null,null,null,null,"17053230017","4061  ",5078707]
[926,118088714.77999999,null,null,null,null,null,null,null,"40056002026","4061  ",5125084]
[927,1047683,null,null,null,null,null,null,null,"20096200026","4061  ",5131513]
[928,184957251.46000001,null,null,null,null,null,null,null,"50082060026","4061  ",5147686]
[934,9073443,null,null,null,null,null,null,null,"28037225026","4061  ",5152569]
[935,56094,null,null,null,null,null,null,null,"34049801060","4061  ",5157151]
[941,63945,null,null,null,null,null,null,null,"17053000061","4061  ",5190346]
[945,57291,null,null,null,null,null,null,null,"31045129061","4061  ",5194277]
[946,3296950,null,null,null,null,null,null,null,"03026201026","4061  ",5195847]
[947,9613361,null,null,null,null,null,null,null,"34049033002","4061  ",5216004]
[948,590017,null,null,null,null,null,null,null,"28006103022","4061  ",5226516]
[949,393090307,null,null,null,null,null,null,null,"20083002026","4061  ",5232213]
[950,74360,null,null,null,null,null,null,null,"03026202026","4061  ",5290813]
[951,775297,null,null,null,null,null,null,null,"24047088061","4061  ",5299071]
[952,174325,null,null,null,null,null,null,null,"21028188026","4061  ",5345474]
[953,37924,null,null,null,null,null,null,null,"30073050002","4061  ",5351189]
[954,64344,null,null,null,null,null,null,null,"50082130004","4061  ",5351831]
[955,284422,null,null,null,null,null,null,null,"50082116002","4061  ",5408290]
[956,1410672,null,null,null,null,null,null,null,"11023001026","4061  ",5430983]
[957,2607809,null,null,null,null,null,null,null,"11070302026","4061  ",5453731]
[958,981771,null,null,null,null,null,null,null,"40031010026","4061  ",5524352]
[959,92570,null,null,null,null,null,null,null,"26029003026","4061  ",5525593]
[960,3682150,null,null,null,null,null,null,null,"20096112004","4061  ",5565686]
[961,11519066.51,null,null,null,null,null,null,null,"56099088002","4061  ",5613131]
[962,3649322.63,null,null,null,null,null,null,null,"17053232002","4061  ",5621745]
[963,16967406.140000001,null,null,null,null,null,null,null,"20076001026","4061  ",5642702]
[964,2382020.7599999998,null,null,null,null,null,null,null,"34049072002","4061  ",5651326]
[965,23224,null,null,null,null,null,null,null,"07016133002","4061  ",5668969]
[966,2405244.7599999998,null,null,null,null,null,null,null,"28037227026","4061  ",5700448]
[967,756636,null,null,null,null,null,null,null,"39074100026","4061  ",5713914]
[968,3229271,null,null,null,null,null,null,null,"40056005026","4061  ",5747022]
[969,573833,null,null,null,null,null,null,null,"28037224026","4061  ",5752024]
[970,3962,null,null,null,null,null,null,null,"28006502017","4061  ",5757883]
[971,1372283,null,null,null,null,null,null,null,"11023800080","4061  ",5760602]
[972,166948,null,null,null,null,null,null,null,"01001001026","4061  ",5764461]
[974,6102933,null,null,null,null,null,null,null,"08043119022","4061  ",5793685]
[975,8040,null,null,null,null,null,null,null,"56099089002","4061  ",5796243]
[976,26411,null,null,null,null,null,null,null,"13041209027","4061  ",5826337]
[977,366135,null,null,null,null,null,null,null,"07016172002","4061  ",5827521]
[978,453440,null,null,null,null,null,null,null,"08043210061","4061  ",5830495]
[980,1257609,null,null,null,null,null,null,null,"07016110002","4061  ",5864321]
[982,2111635,null,null,null,null,null,null,null,"32046006026","4061  ",5868867]
[983,1012973,null,null,null,null,null,null,null,"12017004026","4061  ",5901615]
[984,33693013.900000006,null,null,null,null,null,null,null,"20035001026","4061  ",5906226]
[985,8091846,null,null,null,null,null,null,null,"26034337026","4061  ",5932517]
[986,728381458.52999997,null,null,null,null,null,null,null,"30039140004","4061  ",5947811]
[987,1013319,null,null,null,null,null,null,null,"07016108002","4061  ",5968073]
[988,130730,null,null,null,null,null,null,null,"44063036002","4061  ",5968208]
[990,293579,null,null,null,null,null,null,null,"47052275026","4061  ",5980194]
[992,32411920,null,null,null,null,null,null,null,"13041801060","4061  ",6000503]
[993,1197767820.4299998,null,null,null,null,null,null,null,"04101140061","4061  ",6011421]
[1032,9081232824.6399994,null,null,null,null,null,null,null,"30091081016","4061  ",6019464]
[1033,64631212,null,null,null,null,null,null,null,"24032060C04","4061  ",6038158]
[1039,445872432,null,null,null,null,null,null,null,"41057801060","4061  ",6063690]
[1043,14161172,null,null,null,null,null,null,null,"08043206026","4061  ",6093694]
[1044,281314174.56999999,null,null,null,null,null,null,null,"01075012026","4061  ",6108845]
[1045,398402288.69999999,null,null,null,null,null,null,null,"06016078002","4061  ",6133674]
[1046,60444500.770000003,null,null,null,null,null,null,null,"53090703026","4061  ",6144478]
[1047,14911230584.520002,null,null,null,null,null,null,null,"03068002026","4061  ",6145895]
[1048,372432464,null,null,null,null,null,null,null,"21028196026","4061  ",6189159]
[1049,390718470.58999997,null,null,null,null,null,null,null,"21044001026","4061  ",6189279]
[1050,297280064.38,null,null,null,null,null,null,null,"56099091002","4061  ",6200941]
[1051,185861554,null,null,null,null,null,null,null,"34049106002","4061  ",6216811]
[1052,303897945.89999998,null,null,null,null,null,null,null,"50082085002","4061  ",6261823]
[1053,106332236.69,null,null,null,null,null,null,null,"04101133004","4061  ",6273607]
[1054,1656522735.5599999,null,null,null,null,null,null,null,"26034328024","4061  ",6295519]
[1055,517132041.05000001,null,null,null,null,null,null,null,"13095010026","4061  ",6332829]
[1056,389113531.73000002,null,null,null,null,null,null,null,"13058401026","4061  ",6344816]
[1057,48972732,null,null,null,null,null,null,null,"35050125002","4061  ",6395570]
[1058,955218304.77999997,null,null,null,null,null,null,null,"40031001026","4061  ",6401078]
[1059,190936951.84999999,null,null,null,null,null,null,null,"48072062002","4061  ",6403301]
[1060,270494302.64999998,null,null,null,null,null,null,null,"30002005026","4061  ",6413608]
[1061,598014794.5,null,null,null,null,null,null,null,"08008308026","4061  ",6444351]
[1062,1144090877.78,null,null,null,null,null,null,null,"01001002026","4061  ",6446888]
[1063,54611952,null,null,null,null,null,null,null,"30091017022","4061  ",6480382]
[1064,1198702829.78,null,null,null,null,null,null,null,"28037230026","4061  ",6511857]
[1065,73131704,null,null,null,null,null,null,null,"06016092002","4061  ",6515313]
[1066,179148651.88999999,null,null,null,null,null,null,null,"11021302026","4061  ",6547783]
[1067,247543034.16,null,null,null,null,null,null,null,"11018003026","4061  ",6564433]
[1068,139488965,null,null,null,null,null,null,null,"19022034002","4061  ",6581059]
[1069,772429141.13,null,null,null,null,null,null,null,"28006500015","4061  ",6594711]
[1070,30832479.629999999,null,null,null,null,null,null,null,"12013025026","4061  ",6615920]
[1072,1442573975.8100002,null,null,null,null,null,null,null,"13058600016","4061  ",6636419]
[1073,12569722,null,null,null,null,null,null,null,"47071222026","4061  ",6685229]
[1074,25533694,null,null,null,null,null,null,null,"51084790040","4061  ",6718345]
[1075,63713873,null,null,null,null,null,null,null,"53090102002","4061  ",6718944]
[1076,111425290,null,null,null,null,null,null,null,"44063019024","4061  ",6750621]
[1078,322178648.68000001,null,null,null,null,null,null,null,"16019426026","4061  ",6758638]
[1080,535421227.68000001,null,null,null,null,null,null,null,"40056008026","4061  ",6768272]
[1081,45315351,null,null,null,null,null,null,null,"53102060026","4061  ",6780885]
[1082,6431769219.1100006,null,null,null,null,null,null,null,"01086001026","4061  ",6791343]
[1083,159111193,null,null,null,null,null,null,null,"17053005026","4061  ",6848268]
[1084,943402854.94000006,null,null,null,null,null,null,null,"13058501026","4061  ",6900904]
[1085,1013319,null,null,null,null,null,null,null,"50082070004","4061  ",6909436]
[1086,130730,null,null,null,null,null,null,null,"17064007026","4061  ",6920816]
[1088,293579,null,null,null,null,null,null,null,"03025010026","4061  ",6928193]
[1090,32411920,null,null,null,null,null,null,null,"06016086002","4061  ",6939420]
[1091,22480025046.57,null,null,null,null,null,null,null,"01001004026","4061  ",6948271]
[1092,1294766587.29,null,null,null,null,null,null,null,"03068022026","4061  ",6976273]
[1158,2729805,null,null,null,null,null,null,null,"08043210026","4061  ",7004380]
[1159,1045563,null,null,null,null,null,null,null,"21028103013","4061  ",7035933]
[1160,611190515.8599999,null,null,null,null,null,null,null,"50082104002","4061  ",7072611]
[1162,615029072.8599999,null,null,null,null,null,null,null,"51084001026","4061  ",7101544]
[1163,1113815,null,null,null,null,null,null,null,"08089202026","4061  ",7131219]
[1164,616245312.8599999,null,null,null,null,null,null,null,"47071801060","4061  ",7133933]
[1165,616559755.8599999,null,null,null,null,null,null,null,"54092801060","4061  ",7166970]
[1166,492107,null,null,null,null,null,null,null,"20097003026","4061  ",7203357]
[1167,150047,null,null,null,null,null,null,null,"32038801060","4061  ",7206415]
[1168,123597650.03,null,null,null,null,null,null,null,"30002001022","4061  ",7226721]
[1170,124253448.03,null,null,null,null,null,null,null,"13014071016","4061  ",7235564]
[1171,183731,null,null,null,null,null,null,null,"09010001026","4061  ",7239097]
[1172,124728443.03,null,null,null,null,null,null,null,"50082040026","4061  ",7308901]
[1173,124728462.03,null,null,null,null,null,null,null,"30091037004","4061  ",7338772]
[1174,1390461,null,null,null,null,null,null,null,"47098000061","4061  ",7353261]
[1175,13371166,null,null,null,null,null,null,null,"41057014016","4061  ",7376818]
[1176,639504428.98000002,null,null,null,null,null,null,null,"53102001004","4061  ",7461689]
[1178,654546298.09000003,null,null,null,null,null,null,null,"50082077016","4061  ",7465550]
[1179,1971924,null,null,null,null,null,null,null,"35050150002","4061  ",7472564]
[1180,656584695.09000003,null,null,null,null,null,null,null,"35059007026","4061  ",7489903]
[1181,659280870.09000003,null,null,null,null,null,null,null,"17054023026","4061  ",7507079]
[1182,49148,null,null,null,null,null,null,null,"17064019026","4061  ",7508358]
[1183,524525,null,null,null,null,null,null,null,"51084011026","4061  ",7529421]
[1184,470252490.32999998,null,null,null,null,null,null,null,"07016169002","4061  ",7551886]
[1186,470936841.32999998,null,null,null,null,null,null,null,"48072309026","4061  ",7596080]
[1187,88374,null,null,null,null,null,null,null,"28006099004","4061  ",7617479]
[1188,471028425.32999998,null,null,null,null,null,null,null,"21028099026","4061  ",7625879]
[1189,471038508.32999998,null,null,null,null,null,null,null,"35059005026","4061  ",7668741]
[1190,278746,null,null,null,null,null,null,null,"48072322026","4061  ",7732202]
[1191,118955390,null,null,null,null,null,null,null,"24032054002","4061  ",7746119]
[1192,182726622.59999999,null,null,null,null,null,null,null,"53090076002","4061  ",7748857]
[1193,331017,null,null,null,null,null,null,null,"33048208026","4061  ",7759088]
[1195,302395069.60000002,null,null,null,null,null,null,null,"47098002026","4061  ",7782293]
[1196,407229,null,null,null,null,null,null,null,"50082110004","4061  ",7851656]
[1197,302804052.60000002,null,null,null,null,null,null,null,"26062103026","4061  ",7956561]
[1198,302851223.60000002,null,null,null,null,null,null,null,"44063003003","4061  ",7958934]
[1199,49581,null,null,null,null,null,null,null,"01005001026","4061  ",8033949]
[1200,391513,null,null,null,null,null,null,null,"26029097026","4061  ",8045474]
[1201,2795184,null,null,null,null,null,null,null,"12017801060","4061  ",8065862]
[1203,3236278,null,null,null,null,null,null,null,"13058111002","4061  ",8090680]
[1204,7015,null,null,null,null,null,null,null,"49081034002","4061  ",8188182]
[1205,3243293,null,null,null,null,null,null,null,"45079132061","4061  ",8194280]
[1206,3315452,null,null,null,null,null,null,null,"09010169004","4061  ",8196890]
[1207,42020,null,null,null,null,null,null,null,"07016142061","4061  ",8289810]
[1209,52484,null,null,null,null,null,null,null,"50082113002","4061  ",8311551]
[1211,465579,null,null,null,null,null,null,null,"39055009026","4061  ",8321495]
[1212,8474324,null,null,null,null,null,null,null,"17064007061","4061  ",8332988]
[1213,4995879,null,null,null,null,null,null,null,"50082009026","4061  ",8344984]
[1214,135770801,null,null,null,null,null,null,null,"53102069002","4061  ",8359668]
[1215,2039233671.8000002,null,null,null,null,null,null,null,"34049001002","4061  ",8455905]
[1216,412408,null,null,null,null,null,null,null,"56099070C04","4061  ",8519489]
[1218,2180987109.9099998,null,null,null,null,null,null,null,"26062170026","4061  ",8524055]
[1219,3791478,null,null,null,null,null,null,null,"41057015003","4061  ",8603557]
[1220,2185243713.9099998,null,null,null,null,null,null,null,"35050280017","4061  ",8616100]
[1221,5956305,null,null,null,null,null,null,null,"06016094002","4061  ",8617429]
[1222,42020,null,null,null,null,null,null,null,"32038124026","4061  ",8648094]
[1224,52484,null,null,null,null,null,null,null,"54092001026","4061  ",8655303]
[1226,465579,null,null,null,null,null,null,null,"07016128002","4061  ",8695363]
[1227,2193543513.9099998,null,null,null,null,null,null,null,"20030007026","4061  ",8719583]
[1228,84553019.850000009,null,null,null,null,null,null,null,"06016085502","4061  ",8767457]
[1246,5177763,null,null,null,null,null,null,null,"56099088A02","4061  ",8810260]
[1247,5177763,null,null,null,null,null,null,null,"48072327026","4061  ",8851072]
[1248,5177763,null,null,null,null,null,null,null,"03025050026","4061  ",8872059]
[1249,17709,null,null,null,null,null,null,null,"01069801060","4061  ",8887363]
[1251,1017391044,null,null,null,null,null,null,null,"53090050002","4061  ",8890564]
[1252,616678,null,null,null,null,null,null,null,"11012004C26","4061  ",8895304]
[1253,2583817,null,null,null,null,null,null,null,"50082160004","4061  ",8920199]
[1254,1881023289,null,null,null,null,null,null,null,"47071221026","4061  ",8924484]
[1255,83882092,null,null,null,null,null,null,null,"54092076026","4061  ",8980223]
[1256,2984880242,null,null,null,null,null,null,null,"28088100026","4061  ",8981102]
[1257,2985025446,null,null,null,null,null,null,null,"20097801060","4061  ",8989646]
[1263,17709,null,null,null,null,null,null,null,"48072326026","4061  ",9011256]
[1265,1017391044,null,null,null,null,null,null,null,"06016083061","4061  ",9080218]
[1266,616678,null,null,null,null,null,null,null,"01001003026","4061  ",9242043]
[1267,2583817,null,null,null,null,null,null,null,"50082105002","4061  ",9301806]
[1268,1881023289,null,null,null,null,null,null,null,"47052272026","4061  ",9357575]
[1269,89059855,null,null,null,null,null,null,null,"53090052002","4061  ",9374304]
[1270,2990058005,null,null,null,null,null,null,null,"30039176026","4061  ",9411428]
[1271,2990203209,null,null,null,null,null,null,null,"20024001026","4061  ",9503664]
[1272,-791398608.20000005,null,null,null,null,null,null,null,"11021306026","4061  ",9509678]
[1274,252582124.88,null,null,null,null,null,null,null,"24032101016","4061  ",9513026]
[1277,1252696,null,null,null,null,null,null,null,"30077101026","4061  ",9554197]
[1278,254276978.88,null,null,null,null,null,null,null,"12051010026","4061  ",9566829]
[1279,254314642.88,null,null,null,null,null,null,null,"35050170004","4061  ",9622121]
[1280,44410321.32,null,null,null,null,null,null,null,"06016093002","4061  ",9651131]
[1283,283749,null,null,null,null,null,null,null,"17064002026","4061  ",9676401]
[1284,44740366.32,null,null,null,null,null,null,null,"07016125002","4061  ",9691435]
[1285,44741095.32,null,null,null,null,null,null,null,"47098003026","4061  ",9701655]
[1286,723703934.89999998,null,null,null,null,null,null,null,"33036235026","4061  ",9701763]
[1289,339444,null,null,null,null,null,null,null,"39055001026","4061  ",9702448]
[1290,726281712.89999998,null,null,null,null,null,null,null,"04101320026","4061  ",9726926]
[1291,14316313,null,null,null,null,null,null,null,"53102069061","4061  ",9787425]
[1292,740772201.89999998,null,null,null,null,null,null,null,"04101322026","4061  ",9806740]
[1293,67982449.349999994,null,null,null,null,null,null,null,"35050000061","4061  ",9829969]
[1296,75692,null,null,null,null,null,null,null,"44063801060","4061  ",9843383]
[1297,68085227.349999994,null,null,null,null,null,null,null,"11021301026","4061  ",9875738]
[1298,68088355.349999994,null,null,null,null,null,null,null,"53060189026","4061  ",9922523]
[1299,74399642.75,null,null,null,null,null,null,null,"19022180004","4061  ",9996304]
[1303,74399642.75,null,null,null,null,null,null,null,"11018077026","4061  ",10028443]
[1304,74399642.75,null,null,null,null,null,null,null,"39055011026","4061  ",10052910]
[1305,3013037,null,null,null,null,null,null,null,"12013035026","4061  ",10054896]
[1308,8731,null,null,null,null,null,null,null,"47098301017","4061  ",10154804]
[1309,3021768,null,null,null,null,null,null,null,"40031003026","4061  ",10164071]
[1310,10649,null,null,null,null,null,null,null,"56099200U26","4061  ",10191743]
[1312,173198,null,null,null,null,null,null,null,"45079139026","4061  ",10220452]
[1314,16375090,null,null,null,null,null,null,null,"05016073002","4061  ",10223557]
[1315,23566700,null,null,null,null,null,null,null,"51084016026","4061  ",10240200]
[1316,1167642761.1999998,null,null,null,null,null,null,null,"13058801060","4061  ",10265418]
[1319,1960312,null,null,null,null,null,null,null,"50082175002","4061  ",10302499]
[1320,1172356947.1999998,null,null,null,null,null,null,null,"11012002C26","4061  ",10366482]
[1321,17236155,null,null,null,null,null,null,null,"08043120022","4061  ",10372135]
[1322,10649,null,null,null,null,null,null,null,"35050002026","4061  ",10384951]
[1324,173198,null,null,null,null,null,null,null,"17020018026","4061  ",10405852]
[1326,16375090,null,null,null,null,null,null,null,"11087021026","4061  ",10437648.310000001]
[1327,1207433889.1999998,null,null,null,null,null,null,null,"39055015026","4061  ",10449185]
[1328,181546915.53999999,null,null,null,null,null,null,null,"35050124002","4061  ",10614961]
[1335,717612,null,null,null,null,null,null,null,"45079140026","4061  ",10618002]
[1341,7874022,null,null,null,null,null,null,null,"53060191026","4061  ",10701995]
[1345,705456,null,null,null,null,null,null,null,"11070300026","4061  ",10731028]
[1346,3032087.37,null,null,null,null,null,null,null,"16019429026","4061  ",10778869]
[1347,11780171.68,null,null,null,null,null,null,null,"08089201026","4061  ",10783131]
[1348,1912630.9,null,null,null,null,null,null,null,"53090702026","4061  ",10843284]
[1349,242674591.34000003,null,null,null,null,null,null,null,"20093348026","4061  ",10863572]
[1350,8226966,null,null,null,null,null,null,null,"47098006026","4061  ",10869870]
[1351,6851555,null,null,null,null,null,null,null,"34049037002","4061  ",10949812]
[1352,17924184.640000001,null,null,null,null,null,null,null,"16019432026","4061  ",10996595]
[1353,1830310,null,null,null,null,null,null,null,"33048276026","4061  ",11001342]
[1354,2848786,null,null,null,null,null,null,null,"08008314026","4061  ",11024629]
[1355,6745460,null,null,null,null,null,null,null,"53060126026","4061  ",11047889]
[1356,44427261.640000001,null,null,null,null,null,null,null,"28037223026","4061  ",11059400]
[1357,7913045.8200000003,null,null,null,null,null,null,null,"19022011002","4061  ",11061185]
[1358,17032737.75,null,null,null,null,null,null,null,"54092004026","4061  ",11074067]
[1359,653223,null,null,null,null,null,null,null,"34049114002","4061  ",11127391]
[1360,25599006.57,null,null,null,null,null,null,null,"35078535026","4061  ",11130860]
[1361,9615542,null,null,null,null,null,null,null,"51065213026","4061  ",11142186]
[1362,10019104.109999999,null,null,null,null,null,null,null,"53090309061","4061  ",11165866]
[1363,28057446.300000001,null,null,null,null,null,null,null,"33094304026","4061  ",11204625]
[1364,44856726.339999996,null,null,null,null,null,null,null,"04101321026","4061  ",11405022]
[1365,1970317,null,null,null,null,null,null,null,"05016071002","4061  ",11433746]
[1366,46827043.339999996,null,null,null,null,null,null,null,"33048202026","4061  ",11454820]
[1367,4115641,null,null,null,null,null,null,null,"41057013002","4061  ",11463259]
[1368,17318132.850000001,null,null,null,null,null,null,null,"26085005026","4061  ",11477076]
[1369,328662,null,null,null,null,null,null,null,"53090051002","4061  ",11493139]
[1370,113197488.76000001,null,null,null,null,null,null,null,"19022502046","4061  ",11533791]
[1371,42949160.640000001,null,null,null,null,null,null,null,"17053090017","4061  ",11541856]
[1372,22633425.460000001,null,null,null,null,null,null,null,"39055002026","4061  ",11579486]
[1373,1780978,null,null,null,null,null,null,null,"34049790046","4061  ",11611302]
[1375,202323488.71000001,null,null,null,null,null,null,null,"13014001026","4061  ",11612530]
[1376,400555,null,null,null,null,null,null,null,"49081100026","4061  ",11614897]
[1377,1186583,null,null,null,null,null,null,null,"26062000061","4061  ",11638908]
[1378,4151363,null,null,null,null,null,null,null,"28037801060","4061  ",11653350]
[1379,5343395,null,null,null,null,null,null,null,"17064004026","4061  ",11691076]
[1381,15242269,null,null,null,null,null,null,null,"28006115002","4061  ",11737022]
[1383,26324165,null,null,null,null,null,null,null,"48072325026","4061  ",11760112]
[1384,1486542,null,null,null,null,null,null,null,"35050160017","4061  ",11787027]
[1385,375044953.55999994,null,null,null,null,null,null,null,"45079132026","4061  ",11829530]
[1386,5727988,null,null,null,null,null,null,null,"41057012026","4061  ",11846834]
[1387,625971713.89999998,null,null,null,null,null,null,null,"51065202026","4061  ",11853799]
[1399,717612,null,null,null,null,null,null,null,"21100001026","4061  ",11963035.4]
[1405,7874022,null,null,null,null,null,null,null,"40056006026","4061  ",11971836]
[1409,705456,null,null,null,null,null,null,null,"51084014026","4061  ",11972847]
[1410,3032087.37,null,null,null,null,null,null,null,"19022048002","4061  ",12047054]
[1411,11780171.68,null,null,null,null,null,null,null,"05016067002","4061  ",12070780]
[1412,1912630.9,null,null,null,null,null,null,null,"53090701026","4061  ",12087922]
[1413,242674591.34000003,null,null,null,null,null,null,null,"13058200017","4061  ",12133335]
[1414,8226966,null,null,null,null,null,null,null,"19022012002","4061  ",12183484]
[1415,6851555,null,null,null,null,null,null,null,"07016157002","4061  ",12190218]
[1416,17924184.640000001,null,null,null,null,null,null,null,"33066404026","4061  ",12199805]
[1417,1830310,null,null,null,null,null,null,null,"05016070002","4061  ",12217222]
[1418,2848786,null,null,null,null,null,null,null,"44063165003","4061  ",12264362]
[1419,6745460,null,null,null,null,null,null,null,"32038004026","4061  ",12296562]
[1420,44427261.640000001,null,null,null,null,null,null,null,"30073300026","4061  ",12318487]
[1421,7913045.8200000003,null,null,null,null,null,null,null,"35050289004","4061  ",12403914]
[1422,17032737.75,null,null,null,null,null,null,null,"12051020026","4061  ",12441185]
[1423,653223,null,null,null,null,null,null,null,"24032101061","4061  ",12447239]
[1424,25599006.57,null,null,null,null,null,null,null,"56099209U26","4061  ",12456892]
[1425,9615542,null,null,null,null,null,null,null,"17054404016","4061  ",12471869]
[1426,10019104.109999999,null,null,null,null,null,null,null,"19022066002","4061  ",12476444]
[1427,28057446.300000001,null,null,null,null,null,null,null,"35050122002","4061  ",12559632]
[1428,44856726.339999996,null,null,null,null,null,null,null,"09010193017","4061  ",12584044]
[1429,1970317,null,null,null,null,null,null,null,"21028047004","4061  ",12607234]
[1430,46827043.339999996,null,null,null,null,null,null,null,"28006340026","4061  ",12640910]
[1431,4115641,null,null,null,null,null,null,null,"11023095025","4061  ",12663784]
[1432,17318132.850000001,null,null,null,null,null,null,null,"47098013002","4061  ",12665203]
[1433,328662,null,null,null,null,null,null,null,"12040001026","4061  ",12718756]
[1434,113197488.76000001,null,null,null,null,null,null,null,"30039165016","4061  ",12735280]
[1435,42949160.640000001,null,null,null,null,null,null,null,"07016156002","4061  ",12752622]
[1436,22633425.460000001,null,null,null,null,null,null,null,"32038009026","4061  ",12842750]
[1437,1780978,null,null,null,null,null,null,null,"19022062002","4061  ",12844607]
[1439,202323488.71000001,null,null,null,null,null,null,null,"50082119002","4061  ",12869789]
[1440,400555,null,null,null,null,null,null,null,"16019425026","4061  ",12953747]
[1441,1186583,null,null,null,null,null,null,null,"06016080002","4061  ",13011391]
[1442,4151363,null,null,null,null,null,null,null,"50082196026","4061  ",13021315]
[1443,5343395,null,null,null,null,null,null,null,"44063154016","4061  ",13078844]
[1445,15242269,null,null,null,null,null,null,null,"32038010026","4061  ",13087213]
[1447,26324165,null,null,null,null,null,null,null,"11087004026","4061  ",13113759]
[1448,1486542,null,null,null,null,null,null,null,"44063046003","4061  ",13140927]
[1449,375044953.55999994,null,null,null,null,null,null,null,"54092002026","4061  ",13183931]
[1450,5727988,null,null,null,null,null,null,null,"09027005026","4061  ",13222270]
[1456,625971713.89999998,null,null,null,null,null,null,null,"48072265026","4061  ",13245599]
[1457,25349559.439999998,null,null,null,null,null,null,null,"19022063002","4061  ",13393864]
[1458,1820904,null,null,null,null,null,null,null,"04101140004","4061  ",13419441]
[1461,4555,null,null,null,null,null,null,null,"17064003026","4061  ",13451756]
[1462,1825459,null,null,null,null,null,null,null,"35050040017","4061  ",13473404]
[1463,1825459,null,null,null,null,null,null,null,"51084010026","4061  ",13582998]
[1464,285260,null,null,null,null,null,null,null,"54092512026","4061  ",13635927]
[1467,585,null,null,null,null,null,null,null,"53102006026","4061  ",13636093]
[1468,285845,null,null,null,null,null,null,null,"01075010026","4061  ",13659512]
[1469,285845,null,null,null,null,null,null,null,"06016084502","4061  ",13743893]
[1470,82765593.819999993,null,null,null,null,null,null,null,"20083004026","4061  ",13752159]
[1473,1973468,null,null,null,null,null,null,null,"30039186061","4061  ",13754158]
[1474,84739061.819999993,null,null,null,null,null,null,null,"47071212017","4061  ",13765663]
[1475,84739061.819999993,null,null,null,null,null,null,null,"11021305026","4061  ",13794842]
[1476,4966729,null,null,null,null,null,null,null,"56099207U26","4061  ",13827138]
[1479,98732,null,null,null,null,null,null,null,"49081300026","4061  ",13857113]
[1480,5065461,null,null,null,null,null,null,null,"48072310016","4061  ",13889264]
[1481,5065461,null,null,null,null,null,null,null,"19022025002","4061  ",13889281]
[1482,1367529320.25,null,null,null,null,null,null,null,"44063157016","4061  ",13897141]
[1485,7254879,null,null,null,null,null,null,null,"50082115002","4061  ",13964706]
[1486,1374784199.25,null,null,null,null,null,null,null,"40056001026","4061  ",14020984]
[1487,1374784199.25,null,null,null,null,null,null,null,"53090309016","4061  ",14023099]
[1488,10834139,null,null,null,null,null,null,null,"07016152502","4061  ",14125658]
[1491,1465598,null,null,null,null,null,null,null,"07016142002","4061  ",14148856]
[1492,12299737,null,null,null,null,null,null,null,"53102122017","4061  ",14161539]
[1493,13167837,null,null,null,null,null,null,null,"13014003026","4061  ",14257038]
[1494,1495372705.0699999,null,null,null,null,null,null,null,"13041201017","4061  ",14320477]
[1497,10797817,null,null,null,null,null,null,null,"07016150002","4061  ",14358100]
[1498,1506170522.0699999,null,null,null,null,null,null,null,"20033010026","4061  ",14364935]
[1499,1507038622.0699999,null,null,null,null,null,null,null,"32046001026","4061  ",14742222]
[1500,-1266941967.46,null,null,null,null,null,null,null,"07016171002","4061  ",14743183]
[1556,6360383442.0100002,null,null,null,null,null,null,null,"47071223026","4061  ",14743187]
[1569,7752249872.3000002,null,null,null,null,null,null,null,"19022010002","4061  ",14746911]
[1570,1325850502,null,null,null,null,null,null,null,"19022053002","4061  ",14765705]
[1583,1364948583.8500001,null,null,null,null,null,null,null,"07016132002","4061  ",14860577]
[1584,1433192887,null,null,null,null,null,null,null,"40056034026","4061  ",15031332]
[1597,1649931025.8000002,null,null,null,null,null,null,null,"21100005026","4061  ",15044652]
[1598,729779786,null,null,null,null,null,null,null,"49081200026","4061  ",15051056]
[1611,854105990.54000008,null,null,null,null,null,null,null,"53102011026","4061  ",15083661]
[1612,442265063,null,null,null,null,null,null,null,"05016072002","4061  ",15115439]
[1625,468437794.44,null,null,null,null,null,null,null,"13058135002","4061  ",15184012]
[1626,2222340474,null,null,null,null,null,null,null,"06016095002","4061  ",15308142]
[1639,2449645922.54,null,null,null,null,null,null,null,"05016038002","4061  ",15356156]
[1683,11916802642.279999,null,null,null,null,null,null,null,"51084015026","4061  ",15359458]
[1684,1526534644.6700001,null,null,null,null,null,null,null,"56099843060","4061  ",15388661]
[1685,1572734829.8000002,null,null,null,null,null,null,null,"09027010026","4061  ",15404233]
[1686,627257205.68000007,null,null,null,null,null,null,null,"17054027002","4061  ",15579607]
[1687,273184982.84000003,null,null,null,null,null,null,null,"40056009026","4061  ",15740549]
[1688,68420027.560000002,null,null,null,null,null,null,null,"03068012026","4061  ",15932472]
[1690,9526435,null,null,null,null,null,null,null,"03011008026","4061  ",16041928]
[1691,336083725.00999999,null,null,null,null,null,null,null,"06016106002","4061  ",16049129]
[1692,54786329.559999995,null,null,null,null,null,null,null,"21028168026","4061  ",16153136]
[1693,485207705.32999998,null,null,null,null,null,null,null,"20097005026","4061  ",16212045]
[1698,17635445174.939999,null,null,null,null,null,null,null,"56099255U61","4061  ",16351900]
[1699,5183810080.1099997,null,null,null,null,null,null,null,"05016029002","4061  ",16367111]
[1700,855482885.44999993,null,null,null,null,null,null,null,"06016107002","4061  ",16374076]
[1701,876085790.13,null,null,null,null,null,null,null,"07016155002","4061  ",16523691]
[1702,377950810.68000001,null,null,null,null,null,null,null,"12017002026","4061  ",16614066]
[1703,166843496.93000001,null,null,null,null,null,null,null,"07016127002","4061  ",16618936]
[1704,45595914.100000001,null,null,null,null,null,null,null,"07016145002","4061  ",16767768]
[1706,1958956,null,null,null,null,null,null,null,"47071220026","4061  ",16795399]
[1707,226643430.05000001,null,null,null,null,null,null,null,"17053429004","4061  ",16871710]
[1708,37613606.009999998,null,null,null,null,null,null,null,"51084008026","4061  ",17015549]
[1709,251815893.64999998,null,null,null,null,null,null,null,"19022802060","4061  ",17045562]
[1711,-2146826273,null,null,null,null,null,null,null,"54092011026","4061  ",17309315]
[1714,6103893601.4499989,null,null,null,null,null,null,null,"35050120017","4061  ",17325646]
[1715,6732992562.170001,null,null,null,null,null,null,null,"56099114002","4061  ",17335786]
[1716,671051759.22000003,null,null,null,null,null,null,null,"56099017002","4061  ",17359465]
[1717,696649039.67000008,null,null,null,null,null,null,null,"40056007026","4061  ",17383689]
[1718,249306395,null,null,null,null,null,null,null,"04101131004","4061  ",17469153]
[1719,106341485.91000001,null,null,null,null,null,null,null,"47098001026","4061  ",17532411]
[1720,22824113.460000001,null,null,null,null,null,null,null,"44063002003","4061  ",17574109]
[1722,7567479,null,null,null,null,null,null,null,"07016167002","4061  ",17844783]
[1723,109440294.95999999,null,null,null,null,null,null,null,"09010007026","4061  ",17869044]
[1724,17172723.550000001,null,null,null,null,null,null,null,"07016127561","4061  ",17872904]
[1725,233391811.68000004,null,null,null,null,null,null,null,"53102140026","4061  ",18011858]
[1730,9384725301.4899998,null,null,null,null,null,null,null,"03026203026","4061  ",18098094]
[1731,5468522699.5782604,null,null,null,null,null,null,null,"01009015026","4061  ",18143988]
[1732,884735689.19574142,null,null,null,null,null,null,null,"04101323026","4061  ",18280148]
[1733,874727401.6945461,null,null,null,null,null,null,null,"05016807060","4061  ",18472138]
[1734,348079199.55578548,null,null,null,null,null,null,null,"34049038002","4061  ",18498551]
[1735,165094199.00204197,null,null,null,null,null,null,null,"07016160002","4061  ",18515117]
[1736,45604474.033277296,null,null,null,null,null,null,null,"51084010061","4061  ",18525814]
[1738,1491940,null,null,null,null,null,null,null,"06016234016","4061  ",18605795]
[1739,225386866.002776,null,null,null,null,null,null,null,"05016037002","4061  ",18613653]
[1740,38198839.587277301,null,null,null,null,null,null,null,"33094238026","4061  ",18724358]
[1741,259572610.34719247,null,null,null,null,null,null,null,"39074025026","4061  ",18781661]
[1746,8532942065.0455084,null,null,null,null,null,null,null,"34049024004","4061  ",18794299]
[1747,12201515261.74826,null,null,null,null,null,null,null,"19022007002","4061  ",18844315]
[1748,1555787448.4157414,null,null,null,null,null,null,null,"49081865060","4061  ",18905849]
[1749,1571376441.3645461,null,null,null,null,null,null,null,"03068003026","4061  ",19004736]
[1750,597385594.55578566,null,null,null,null,null,null,null,"34049068002","4061  ",19252574]
[1751,271435684.91204202,null,null,null,null,null,null,null,"35050140017","4061  ",19268507]
[1752,68428587.493277282,null,null,null,null,null,null,null,"11015801060","4061  ",19348953]
[1754,9059419,null,null,null,null,null,null,null,"07016194002","4061  ",19379901]
[1755,334827160.96277601,null,null,null,null,null,null,null,"07016147002","4061  ",19677574]
[1756,55371563.137277298,null,null,null,null,null,null,null,"06016081002","4061  ",19685974]
[1757,492964422.02719253,null,null,null,null,null,null,null,"47071231004","4061  ",19704216]
[1762,17917667366.535511,null,null,null,null,null,null,null,"31045303061","4061  ",19727157]
[1764,16924218,null,null,null,null,null,null,null,"34049065002","4061  ",19788298]
[1765,4000000,null,null,null,null,null,null,null,"19022020002","4061  ",19961594]
[1767,1000000,null,null,null,null,null,null,null,"05016073502","4061  ",20010103]
[1772,21924218,null,null,null,null,null,null,null,"53090308016","4061  ",20043162]
[1773,958017900,null,null,null,null,null,null,null,"26029066025","4061  ",20101875]
[1774,50000,null,null,null,null,null,null,null,"16019427061","4061  ",20157247]
[1776,958067900,null,null,null,null,null,null,null,"17064016026","4061  ",20159407]
[1778,80200000,null,null,null,null,null,null,null,"06016091002","4061  ",20412038]
[1779,200350,null,null,null,null,null,null,null,"49081030017","4061  ",20425789]
[1781,1000000,null,null,null,null,null,null,null,"07016127502","4061  ",20440200]
[1786,81400350,null,null,null,null,null,null,null,"53090086002","4061  ",20506146]
[1787,1206439050,null,null,null,null,null,null,null,"45067004026","4061  ",20514497]
[1788,80000,null,null,null,null,null,null,null,"28037229026","4061  ",20615033]
[1790,1206519050,null,null,null,null,null,null,null,"19022013002","4061  ",20771543]
[1792,87024218,null,null,null,null,null,null,null,"16019424026","4061  ",20772219]
[1793,4100000,null,null,null,null,null,null,null,"04004200026","4061  ",20820325]
[1795,1000000,null,null,null,null,null,null,null,"48072000061","4061  ",20948624]
[1800,92124218,null,null,null,null,null,null,null,"35050044002","4061  ",20973151]
[1801,1558106900,null,null,null,null,null,null,null,"56099159002","4061  ",21014529]
[1802,50000,null,null,null,null,null,null,null,"09010137002","4061  ",21066836]
[1804,1558156900,null,null,null,null,null,null,null,"32046061002","4061  ",21121511]
[1806,10100000,null,null,null,null,null,null,null,"17020015026","4061  ",21412513]
[1807,100350,null,null,null,null,null,null,null,"34049076002","4061  ",21593421]
[1809,1000000,null,null,null,null,null,null,null,"06016092502","4061  ",21594850]
[1814,11200350,null,null,null,null,null,null,null,"07016231016","4061  ",21698297]
[1815,606350050,null,null,null,null,null,null,null,"32046002026","4061  ",21886048]
[1816,80000,null,null,null,null,null,null,null,"16019430026","4061  ",22053413]
[1818,606430050,null,null,null,null,null,null,null,"03003002026","4061  ",22177585]
[1878,20992705318,null,null,null,null,null,null,null,"19022060002","4061  ",22249306]
[1879,4112600847,null,null,null,null,null,null,null,"50082801060","4061  ",22319892]
[1887,892197,null,null,null,null,null,null,null,"06016101002","4061  ",22387732]
[1889,158,null,null,null,null,null,null,null,"05016031002","4061  ",22493149]
[1892,158,null,null,null,null,null,null,null,"56099092002","4061  ",22613442]
[1894,99977,null,null,null,null,null,null,null,"06016084002","4061  ",22630726]
[1896,99977,null,null,null,null,null,null,null,"40042100026","4061  ",22647428]
[1897,792378,null,null,null,null,null,null,null,"53090303016","4061  ",22674651]
[1910,2437794,null,null,null,null,null,null,null,"48072321026","4061  ",22803051]
[1911,465361192.52999997,null,null,null,null,null,null,null,"24032001026","4061  ",22822512]
[1912,1010592.1,null,null,null,null,null,null,null,"39055061061","4061  ",22895179]
[1913,2509732,null,null,null,null,null,null,null,"07016143502","4061  ",22993898]
[1916,468881516.63,null,null,null,null,null,null,null,"51084003A26","4061  ",23457027]
[1918,1902417,null,null,null,null,null,null,null,"03025040026","4061  ",23477736]
[1919,14237679,null,null,null,null,null,null,null,"03011801060","4061  ",23659675]
[1921,465829365.52999997,null,null,null,null,null,null,null,"13041080002","4061  ",23824199]
[1922,5489945.1000000015,null,null,null,null,null,null,null,"21061001026","4061  ",23863672]
[1947,1273033656.05,null,null,null,null,null,null,null,"07016168004","4061  ",23893346]
[1948,40622487218.32,null,null,null,null,null,null,null,"19022016002","4061  ",23963439]
[1949,2183836512.3800001,null,null,null,null,null,null,null,"28037228026","4061  ",24305851]
[1950,3345591865.3199997,null,null,null,null,null,null,null,"30039095002","4061  ",24402764]
[1951,995444218.38999999,null,null,null,null,null,null,null,"34049075002","4061  ",24417068]
[1952,49608658535.650002,null,null,null,null,null,null,null,"19022061002","4061  ",24447355]
[1953,15644953,null,null,null,null,null,null,null,"07016143002","4061  ",24611855]
[1954,1446215384.3599999,null,null,null,null,null,null,null,"17053008026","4061  ",24638199]
[1955,160484446.47000003,null,null,null,null,null,null,null,"09010003026","4061  ",24706693]
[1956,208992348.22,null,null,null,null,null,null,null,"39055003026","4061  ",24725391]
[1957,78281220,null,null,null,null,null,null,null,"21100801060","4061  ",25092044.710000001]
[1958,3005085045.9999995,null,null,null,null,null,null,null,"35050141002","4061  ",25179515]
[1959,826989,null,null,null,null,null,null,null,"07016104002","4061  ",25531749]
[1960,153303352,null,null,null,null,null,null,null,"45067005026","4061  ",25608272]
[1961,4669280,null,null,null,null,null,null,null,"03011003026","4061  ",25618993]
[1962,92766892,null,null,null,null,null,null,null,"05016023002","4061  ",25762164]
[1963,101226815,null,null,null,null,null,null,null,"07016118004","4061  ",26093675]
[1964,1338562291,null,null,null,null,null,null,null,"30039186026","4061  ",26162310]
[1965,1287851620.05,null,null,null,null,null,null,null,"26062185026","4061  ",26206385]
[1966,41915399250.68,null,null,null,null,null,null,null,"32046307016","4061  ",26232350]
[1967,2339651678.8500004,null,null,null,null,null,null,null,"06016803060","4061  ",26275608]
[1968,3461817321.54,null,null,null,null,null,null,null,"07016126002","4061  ",26427887]
[1969,972498623.3900001,null,null,null,null,null,null,null,"12080001026","4061  ",26456058]
[1970,51275181290.650009,null,null,null,null,null,null,null,"07016151002","4061  ",26511618]
[1972,15632544420.540001,null,null,null,null,null,null,null,"07016124002","4061  ",26549204]
[1973,1014972229.1700001,null,null,null,null,null,null,null,"21100004026","4061  ",26743464]
[1974,2589011151.6199999,null,null,null,null,null,null,null,"41057001026","4061  ",26945564]
[1975,773018912.19000006,null,null,null,null,null,null,null,"41057008026","4061  ",27110799]
[1976,20113953376.360001,null,null,null,null,null,null,null,"32046005026","4061  ",27488452]
[1978,970915699.87,null,null,null,null,null,null,null,"47071226026","4061  ",27676183]
[1979,97756122.730000004,null,null,null,null,null,null,null,"07016153002","4061  ",27700730]
[1980,187938193.44999999,null,null,null,null,null,null,null,"32046053002","4061  ",27755771]
[1981,66132656.350000001,null,null,null,null,null,null,null,"24032111016","4061  ",27885934]
[1982,1331613155.95,null,null,null,null,null,null,null,"05016069002","4061  ",28078427]
[1984,63148282,null,null,null,null,null,null,null,"07016210017","4061  ",28196081]
[1985,4659742,null,null,null,null,null,null,null,"50082203017","4061  ",28427293]
[1986,73853202,null,null,null,null,null,null,null,"07016113A02","4061  ",28457943]
[1987,96234592,null,null,null,null,null,null,null,"56099255U26","4061  ",28878983]
[1988,239482044,null,null,null,null,null,null,null,"07016122002","4061  ",29036061]
[1990,16540311838.409998,null,null,null,null,null,null,null,"07016152002","4061  ",29072576]
[1991,1108068609.8999999,null,null,null,null,null,null,null,"11015001026","4061  ",29303819]
[1992,2703096143.0699997,null,null,null,null,null,null,null,"05016074002","4061  ",29533497]
[1993,742916976.53999996,null,null,null,null,null,null,null,"06016204061","4061  ",29562736]
[1994,21206084488.310005,null,null,null,null,null,null,null,"41057005026","4061  ",29595295]
[1995,1287851620.05,null,null,null,null,null,null,null,"24047088026","4061  ",29688539]
[1996,25375087412.27,null,null,null,null,null,null,null,"47052170022","4061  ",29701651]
[1997,1231583068.95,null,null,null,null,null,null,null,"06016096002","4061  ",29741332]
[1998,758721178.47000003,null,null,null,null,null,null,null,"06016105002","4061  ",29818502]
[1999,229581646.84999996,null,null,null,null,null,null,null,"06016208017","4061  ",29847983]
[2000,30069096802.34,null,null,null,null,null,null,null,"04101207016","4061  ",29895789]
[2020,367975546.52999997,null,null,null,null,null,null,null,"34049124016","4061  ",30017326]
[2027,582690626.94000006,null,null,null,null,null,null,null,"20083003026","4061  ",30046981]
[2028,296124308,null,null,null,null,null,null,null,"05016057002","4061  ",30144861]
[2030,3221537,null,null,null,null,null,null,null,"44063012026","4061  ",30266722]
[2031,93915,null,null,null,null,null,null,null,"05016030002","4061  ",30335655]
[2032,5862390,null,null,null,null,null,null,null,"05016026002","4061  ",30342006]
[2033,93915,null,null,null,null,null,null,null,"07016159002","4061  ",30353441]
[2041,868100,null,null,null,null,null,null,null,"07016163002","4061  ",30359826]
[2044,348701908,null,null,null,null,null,null,null,"06016090002","4061  ",30438265]
[2045,22886673,null,null,null,null,null,null,null,"07016802060","4061  ",30599905]
[2374,253861502,null,null,null,null,null,null,null,"44063026004","4061  ",31076850]
[2376,205894901,null,null,null,null,null,null,null,"05016035002","4061  ",31688615]
[2414,167332075,null,null,null,null,null,null,null,"07016158002","4061  ",31974155]
[2416,145891999,null,null,null,null,null,null,null,"19022015061","4061  ",31984698]
[2443,1036906569,null,null,null,null,null,null,null,"07016229016","4061  ",32027841]
[2474,1239661355,null,null,null,null,null,null,null,"07016148002","4061  ",32155421]
[2490,14831045719.91,null,null,null,null,null,null,null,"19022201026","4061  ",32195647]
[2492,6563429576.0099993,null,null,null,null,null,null,null,"07016220017","4061  ",32284505]
[2493,2245934624.9400001,null,null,null,null,null,null,null,"56099157C04","4061  ",32338192]
[2494,23774791633.859997,null,null,null,null,null,null,null,"34049056002","4061  ",32610806]
[2495,14911230584.520002,null,null,null,null,null,null,null,"34049079002","4061  ",33073609]
[2496,6431769219.1100006,null,null,null,null,null,null,null,"05016068002","4061  ",33968585]
[2497,159111193,null,null,null,null,null,null,null,"05016027002","4061  ",34335276]
[2498,943402854.94000006,null,null,null,null,null,null,null,"06016088002","4061  ",34374179]
[2499,34511195,null,null,null,null,null,null,null,"07016806060","4061  ",34383388]
[2500,22480025046.57,null,null,null,null,null,null,null,"50082090004","4061  ",34594038]
[2501,1294766587.29,null,null,null,null,null,null,null,"19022094016","4061  ",34643272]
[2502,2093917,null,null,null,null,null,null,null,"19022002002","4061  ",34707977]
[2503,1722405222.7600002,null,null,null,null,null,null,null,"34049041004","4061  ",35157861]
[2505,546124630,null,null,null,null,null,null,null,"07016161002","4061  ",35462169]
[2506,8450610,null,null,null,null,null,null,null,"34049003004","4061  ",35676672]
[2507,2278096533.7600002,null,null,null,null,null,null,null,"44063050026","4061  ",36063246]
[2508,2185243713.9099998,null,null,null,null,null,null,null,"47098005026","4061  ",36200542]
[2509,1877916,null,null,null,null,null,null,null,"19022100016","4061  ",36328664]
[2510,5956305,null,null,null,null,null,null,null,"07016146004","4061  ",36952880]
[2511,465579,null,null,null,null,null,null,null,"49081037002","4061  ",37265088]
[2512,2193543513.9099998,null,null,null,null,null,null,null,"53090709026","4061  ",37433925]
[2513,84553019.850000009,null,null,null,null,null,null,null,"06016103002","4061  ",37486128]
[2514,1692437,null,null,null,null,null,null,null,"41057002026","4061  ",37967006]
[2530,699364156.20000005,null,null,null,null,null,null,null,"34049102004","4061  ",38072924]
[2532,687814397.53999996,null,null,null,null,null,null,null,"07016144002","4061  ",38172230]
[2533,1726879,null,null,null,null,null,null,null,"19022202026","4061  ",38930871]
[2534,1388980804.74,null,null,null,null,null,null,null,"51084005026","4061  ",38950884]
[2535,1172356947.1999998,null,null,null,null,null,null,null,"07016162002","4061  ",39200241]
[2536,1465697,null,null,null,null,null,null,null,"44063156016","4061  ",39892356]
[2537,17236155,null,null,null,null,null,null,null,"34049034004","4061  ",40062958]
[2538,16375090,null,null,null,null,null,null,null,"07016149002","4061  ",40105887]
[2539,1207433889.1999998,null,null,null,null,null,null,null,"06016087002","4061  ",40609578]
[2540,181546915.53999999,null,null,null,null,null,null,null,"21100002026","4061  ",40720355]
[2541,-244177,null,null,null,null,null,null,null,"34049103002","4061  ",41307291]
[2542,635931362.33999991,null,null,null,null,null,null,null,"07016217016","4061  ",41605712]
[2543,13223355,null,null,null,null,null,null,null,"07016117002","4061  ",41664318]
[2544,2166556,null,null,null,null,null,null,null,"56099161002","4061  ",41887255]
[2545,651321273.33999991,null,null,null,null,null,null,null,"11015002026","4061  ",41993688]
[2546,242674591.34000003,null,null,null,null,null,null,null,"07016123002","4061  ",42124318]
[2547,375044953.55999994,null,null,null,null,null,null,null,"34049070002","4061  ",42480901]
[2548,5727988,null,null,null,null,null,null,null,"07016109002","4061  ",42567282]
[2551,625971713.89999998,null,null,null,null,null,null,null,"01069117022","4061  ",42717118]
[2552,25349559.439999998,null,null,null,null,null,null,null,"34049067005","4061  ",43141813]
[2553,37324,null,null,null,null,null,null,null,"56099030C04","4061  ",43232070]
[2569,1806948623.8000002,null,null,null,null,null,null,null,"53090108002","4061  ",43508766]
[2570,342932209,null,null,null,null,null,null,null,"06016102002","4061  ",43564700]
[2571,2198804600.8000002,null,null,null,null,null,null,null,"34049120013","4061  ",43566985]
[2572,145204,null,null,null,null,null,null,null,"07016111002","4061  ",44012093]
[2573,2990058005,null,null,null,null,null,null,null,"34049006002","4061  ",45222235]
[2574,2990203209,null,null,null,null,null,null,null,"06016098002","4061  ",45739584]
[2575,-791398608.20000005,null,null,null,null,null,null,null,"07016140002","4061  ",45885113]
[2576,-771344,null,null,null,null,null,null,null,"05016028002","4061  ",46170192]
[2594,183638287.61000001,null,null,null,null,null,null,null,"06016401026","4061  ",46956977]
[2595,55702920,null,null,null,null,null,null,null,"24032201004","4061  ",47331517]
[2596,755447,null,null,null,null,null,null,null,"16019427026","4061  ",47422398]
[2597,240096654.61000001,null,null,null,null,null,null,null,"48072323026","4061  ",47846579]
[2598,1506170522.0699999,null,null,null,null,null,null,null,"56099205017","4061  ",48103922]
[2599,868100,null,null,null,null,null,null,null,"34049126017","4061  ",48188667]
[2600,1507038622.0699999,null,null,null,null,null,null,null,"05016063002","4061  ",49781083]
[2601,-1266941967.46,null,null,null,null,null,null,null,"34049115016","4061  ",50145968]
[2602,-138403,null,null,null,null,null,null,null,"50082019026","4061  ",50217501]
[2657,84955610,null,null,null,null,null,null,null,"19022004002","4061  ",50443949]
[2658,19538348,null,null,null,null,null,null,null,"56099033C04","4061  ",50832488]
[2659,6892844,null,null,null,null,null,null,null,"34049117016","4061  ",51185923]
[2660,1773766,null,null,null,null,null,null,null,"19022089004","4061  ",51390926]
[2661,118707,null,null,null,null,null,null,null,"06016083002","4061  ",52028867]
[2662,527218,null,null,null,null,null,null,null,"50082118002","4061  ",52146425]
[2663,114028809,null,null,null,null,null,null,null,"19022015002","4061  ",52609919]
[2664,3510387,null,null,null,null,null,null,null,"41057009026","4061  ",52715754]
[2665,3510387,null,null,null,null,null,null,null,"41057010026","4061  ",52976510]
[2696,289340251,null,null,null,null,null,null,null,"32046111025","4061  ",53017663]
[2697,9339754,null,null,null,null,null,null,null,"34049046004","4061  ",53391920]
[2699,13646687,null,null,null,null,null,null,null,"07016170002","4061  ",53612877]
[2701,3415270,null,null,null,null,null,null,null,"50082187026","4061  ",53971461]
[2702,403684,null,null,null,null,null,null,null,"07016130002","4061  ",54023478]
[2705,47069,null,null,null,null,null,null,null,"34049804060","4061  ",54240100]
[2708,2365437,null,null,null,null,null,null,null,"19022108016","4061  ",54445315]
[2711,3316000,null,null,null,null,null,null,null,"05016036002","4061  ",54449942]
[2728,214715080.41,null,null,null,null,null,null,null,"19022803060","4061  ",54845498]
[2729,215021396.41,null,null,null,null,null,null,null,"34049187026","4061  ",55138702]
[2731,30974292,null,null,null,null,null,null,null,"05016805060","4061  ",55263524]
[2733,9327495,null,null,null,null,null,null,null,"19022045002","4061  ",55276776]
[2735,30974292,null,null,null,null,null,null,null,"19022068002","4061  ",55528876]
[2736,314443,null,null,null,null,null,null,null,"56099122002","4061  ",56426984]
[2737,19,null,null,null,null,null,null,null,"08089145022","4061  ",56434538]
[2738,55322,null,null,null,null,null,null,null,"33048205026","4061  ",57148332]
[2739,10083,null,null,null,null,null,null,null,"07016150061","4061  ",57875101]
[2740,47171,null,null,null,null,null,null,null,"07016215017","4061  ",57940330]
[2741,1450000,null,null,null,null,null,null,null,"06016100002","4061  ",58771530]
[2744,1877916,null,null,null,null,null,null,null,"31045301026","4061  ",59290538]
[2745,12043528,null,null,null,null,null,null,null,"07016233016","4061  ",59388942]
[2752,1949430,null,null,null,null,null,null,null,"34049127016","4061  ",59924244]
[2756,287290136,null,null,null,null,null,null,null,"07016206017","4061  ",61184893]
[2758,1949430,null,null,null,null,null,null,null,"50082201017","4061  ",61362445]
[2759,37664,null,null,null,null,null,null,null,"34049109002","4061  ",62026259]
[2760,729,null,null,null,null,null,null,null,"19022041002","4061  ",62293977]
[2761,174176,null,null,null,null,null,null,null,"05016039002","4061  ",62475086]
[2762,14316313,null,null,null,null,null,null,null,"34049073004","4061  ",62979854]
[2764,3128,null,null,null,null,null,null,null,"19022044002","4061  ",64811195]
[2766,1250000,null,null,null,null,null,null,null,"34049096004","4061  ",65899881]
[2767,2919842,null,null,null,null,null,null,null,"07016227017","4061  ",66821612]
[2769,2919842,null,null,null,null,null,null,null,"34049118026","4061  ",66828269]
[2775,1465697,null,null,null,null,null,null,null,"31045302026","4061  ",67384942]
[2776,17236155,null,null,null,null,null,null,null,"49081040022","4061  ",69281714]
[2779,3307350,null,null,null,null,null,null,null,"34049121017","4061  ",69714316]
[2787,3583747,null,null,null,null,null,null,null,"19022181004","4061  ",69990717]
[2793,276050,null,null,null,null,null,null,null,"17064087025","4061  ",70187351]
[2794,4115194.54,null,null,null,null,null,null,null,"09010116022","4061  ",70638492]
[2795,30937,null,null,null,null,null,null,null,"41057007026","4061  ",70828441]
[2797,10163931,null,null,null,null,null,null,null,"24047115026","4061  ",71290837]
[2799,1437572,null,null,null,null,null,null,null,"01001172022","4061  ",71340438]
[2801,31028800,null,null,null,null,null,null,null,"34049825060","4061  ",71767985]
[2803,1063642331,null,null,null,null,null,null,null,"19022033002","4061  ",74602255]
[2819,29552046,null,null,null,null,null,null,null,"41057011026","4061  ",75016968]
[2824,476588747,null,null,null,null,null,null,null,"44063015004","4061  ",75504240]
[2826,-28997,null,null,null,null,null,null,null,"19022093004","4061  ",78003536]
[2827,2272139796.5100002,null,null,null,null,null,null,null,"19022088016","4061  ",79042811]
[2831,38378660,null,null,null,null,null,null,null,"05016064004","4061  ",79480065]
[2833,2095061,null,null,null,null,null,null,null,"19022058002","4061  ",80971376]
[2834,254267484.57000002,null,null,null,null,null,null,null,"06016089002","4061  ",81197433]
[2847,16329068,null,null,null,null,null,null,null,"54092118024","4061  ",82387514]
[2849,17128910,null,null,null,null,null,null,null,"05016034004","4061  ",82739210]
[2850,97680018,null,null,null,null,null,null,null,"31045304026","4061  ",83200753]
[2851,2157330868.5900002,null,null,null,null,null,null,null,"06016200013","4061  ",83323777]
[2852,2272139796.5900002,null,null,null,null,null,null,null,"06016212016","4061  ",84832227]
[2853,208597291.57000002,null,null,null,null,null,null,null,"06016204017","4061  ",85602094]
[2855,208597291.57000002,null,null,null,null,null,null,null,"39055061025","4061  ",85790661]
[2856,254263284.57000002,null,null,null,null,null,null,null,"34049112002","4061  ",86875628]
[2886,910,null,null,null,null,null,null,null,"31045101022","4061  ",87157899]
[2888,74813674,null,null,null,null,null,null,null,"05016062004","4061  ",87962198]
[2889,122698070.41,null,null,null,null,null,null,null,"16019428026","4061  ",88612933]
[2890,136372,null,null,null,null,null,null,null,"07016135002","4061  ",89059829]
[2891,4403085,null,null,null,null,null,null,null,"49081041025","4061  ",90012873]
[2892,1206355,null,null,null,null,null,null,null,"05016025002","4061  ",90249671]
[2893,11457524,null,null,null,null,null,null,null,"06016209017","4061  ",90447330]
[2894,20570884,null,null,null,null,null,null,null,"05016202017","4061  ",91109135]
[2895,283240600.52999997,null,null,null,null,null,null,null,"34049050004","4061  ",92676018]
[2896,175788,null,null,null,null,null,null,null,"44063047004","4061  ",93277716]
[2897,30249603,null,null,null,null,null,null,null,"04101122022","4061  ",96272449]
[2898,584025,null,null,null,null,null,null,null,"50082189022","4061  ",96615086,null,"E STL"]
[2899,33154646,null,null,null,null,null,null,null,"34049128016","4061  ",98678302]
[2912,95384558,null,null,null,null,null,null,null,"19022086017","4061  ",98757528]
[2913,405938670.94000006,null,null,null,null,null,null,null,"44063200026","4061  ",100112048]
[2914,312160,null,null,null,null,null,null,null,"34049095026","4061  ",101001682]
[2915,34652688,null,null,null,null,null,null,null,"56099210016","4061  ",102507989]
[2916,1790380,null,null,null,null,null,null,null,"07016218016","4061  ",102630753]
[2917,44612170,null,null,null,null,null,null,null,"07016228016","4061  ",103338584]
[2918,870733,null,null,null,null,null,null,null,"34049113017","4061  ",105550031]
[2919,828936,null,null,null,null,null,null,null,"06016201017","4061  ",108887357]
[2920,1368312,null,null,null,null,null,null,null,"56099204017","4061  ",108910186]
[2925,2612231,null,null,null,null,null,null,null,"19022099016","4061  ",110409086]
[2926,1055665,null,null,null,null,null,null,null,"04004100026","4061  ",110895902]
[2927,1644374,null,null,null,null,null,null,null,"34049125013","4061  ",113233422]
[2928,5050951,null,null,null,null,null,null,null,"05016203017","4061  ",114175188]
[2929,9032825,null,null,null,null,null,null,null,"34049116026","4061  ",114957573]
[2931,18595,null,null,null,null,null,null,null,"06016097002","4061  ",115305502]
[2933,213942,null,null,null,null,null,null,null,"44063158022","4061  ",116276026]
[2934,930170,null,null,null,null,null,null,null,"44063155016","4061  ",116602141]
[2935,1115415,null,null,null,null,null,null,null,"05016065004","4061  ",122756571]
[2937,17023,null,null,null,null,null,null,null,"07016205017","4061  ",122928812]
[2939,857234,null,null,null,null,null,null,null,"05016021004","4061  ",126854114]
[2946,5981121,null,null,null,null,null,null,null,"19022205026","4061  ",128548972]
[2947,10148240,null,null,null,null,null,null,null,"05016059004","4061  ",132108693]
[2949,35618,null,null,null,null,null,null,null,"17064005026","4061  ",149818239]
[2951,1071176,null,null,null,null,null,null,null,"05016225017","4061  ",150108911]
[2994,156193767.56,null,null,null,null,null,null,null,"05016219017","4061  ",152693472]
[2995,36501474.439999998,null,null,null,null,null,null,null,"09010004026","4061  ",153948877]
[2996,21532425,null,null,null,null,null,null,null,"05016207017","4061  ",155313099]
[2997,47224432.100000001,null,null,null,null,null,null,null,"56099086005","4061  ",155714515]
[2998,5597606.2699999996,null,null,null,null,null,null,null,"07016230013","4061  ",165687682]
[2999,443445,null,null,null,null,null,null,null,"34049220026","4061  ",166256955]
[3001,271833365.37,null,null,null,null,null,null,null,"31045129022","4061  ",171341154]
[3003,7566508.8600000003,null,null,null,null,null,null,null,"48072150025","4061  ",174272544]
[3004,7566508.8600000003,null,null,null,null,null,null,null,"19022087017","4061  ",174471313]
[3010,40894188,null,null,null,null,null,null,null,"31045131022","4061  ",180126495]
[3011,4771805,null,null,null,null,null,null,null,"31045303026","4061  ",181378328]
[3017,13890615,null,null,null,null,null,null,null,"05016015004","4061  ",188480719]
[3018,444418,null,null,null,null,null,null,null,"06016099002","4061  ",193623721]
[3021,2656880773,null,null,null,null,null,null,null,"51084186025","4061  ",194379638]
[3022,7932465,null,null,null,null,null,null,null,"05016054004","4061  ",214747472]
[3100,7462720,null,null,null,null,null,null,null,"19022200026","4061  ",215092012]
[3109,7462720,null,null,null,null,null,null,null,"34049060026","4061  ",257191072]
[3164,92668658.310000002,null,null,null,null,null,null,null,"05016211017","4061  ",279071210]
[3165,92668658.310000002,null,null,null,null,null,null,null,"19022203026","4061  ",283521726]
[3166,92668658.310000002,null,null,null,null,null,null,null,"56099365U26","4061  ",283614870]
[3167,33873224,null,null,null,null,null,null,null,"05016214017","4061  ",283875596]
[3168,492720390,null,null,null,null,null,null,null,"31045300026","4061  ",292515206]
[3169,127923294,null,null,null,null,null,null,null,"56099202022","4061  ",292752761]
[3170,397714464,null,null,null,null,null,null,null,"24047308026","4061  ",334173523]
[3171,95005926,null,null,null,null,null,null,null,"19022204026","4061  ",365958395]
[3172,1389772513.29,null,null,null,null,null,null,null,"04101205025","4061  ",428911600]
[3173,21280735,null,null,null,null,null,null,null,"31045046022","4061  ",505875826]
[3174,419414033,null,null,null,null,null,null,null,"15016299025","4061  ",5451781242]
[3175,88363426]
[3176,466561408]
[3177,-47147375]
[3178,37405644.850000001]
[3190,14870822]
[3191,60420177]
[3192,10210782]
[3193,117396711]
[3194,-56976534]
[3195,124570381.53999999]
[3197,833358]
[3198,47510]
[3199,47510]
[3200,785848]
[3201,26135407.439999998]
[3212,173298231]
[3213,3094457899]
[3214,1798259672]
[3215,2085549808]
[3216,1008908091]
[3217,217509482.79999998]
[3234,112495370]
[3235,1560976727]
[3236,37519303]
[3237,66590908]
[3238,1494385819]
[3239,227443851.53999999]
[3255,1488458]
[3256,323868256]
[3257,418001221]
[3258,-94132965]
[3259,-1464306.6900000013]
[3260,2256425503]
[3261,49690]
[3262,2255010886.3099999]
[3305,2111084851.5799999]
[3306,19527088.539999999]
[3307,514890147.07999998]
[3308,4253887.91]
[3309,97761448.00999999]
[3310,2848617]
[3311,23752337.149999999]
[3312,418220]
[3313,3985212]
[3314,94699]
[3315,66814624]
[3316,2966979]
[3319,2823942856.8200002]
[3320,30145690.449999999]
[3326,104204070.84999999]
[3327,94573899.590000004]
[3328,764354]
[3329,104204070.84999999]
[3330,94573899.590000004]
[3331,764354]
[3344,134381713]
[3345,1116071]
[3347,75372]
[3350,6558620045.3199997]
[3353,1169107339.2]
[3356,1402808276]
[3358,697547845.44000006]
[3361,393456225.50999999]
[3364,2156488422]
[3366,1707673210.51]
[3374,210723807.56999999]
[3385,302610041.5]
[3386,178715504.63]
[3387,123894536.86999999]
[3388,185849381.29533258]
[3389,309743918.16533262]
[3390,956265217]
[3391,1087315558.8200002]
[3392,984450199]
[3393,1059130576.8199999]
[3398,1059130576.8199999]
[3421,63189]
[3422,13644]
[3423,280242.11]
[3424,110678]
[3425,103294]
[3427,574350.11]
[3429,1738]
[3431,85000]
[3432,9154948]
[3458,8781382]
[3469,918357]
[3470,1559377]
[3471,10866998]
[3473,14441016]
[3485,249498742.78999999]
[3487,11024911]
[3489,88053333]
[3490,17]
[3491,348798490.78999996]
[3500,-223]
[3501,12489342]
[3504,29592076]
[3505,74160835]
[3506,245045579.59]
[3507,348798490.59000003]
[3508,58250623.359999999]
[3509,500364]
[3510,58750987.359999999]
[3511,165652408.05000001]
[3512,238830]
[3513,741730]
[3514,166632968.05000001]
[3515,-107881980.69]
[3516,4557]
[3518,98166880]
[3519,3675955]
[3521,49338]
[3522,2623139]
[3523,111515424]
[3524,848251]
[3525,1048505]
[3526,110466919]
[3527,2584938.3100000005]
[3528,316422681]
[3529,238630]
[3530,319246249.31]
[3556,275252]
[3557,788477]
[3558,1063729]
[3559,22247]
[3560,1085976]
[3561,1085976]
[3563,42747]
[3564,131500]
[3565,174247]
[3567,174247]
[3568,174247]
[3570,17261804.780000001]
[3571,11634264]
[3572,28896068.780000001]
[3573,1530958]
[3574,30427026.780000001]
[3575,30427026.780000001]
[3577,229714]
[3578,789274]
[3579,1018988]
[3581,1018988]
[3582,1018988]
[3584,96689869.049999997]
[3585,35203020.219999999]
[3586,131892889.27]
[3588,131892889.27]
[3589,131892889.27]
[3591,550497]
[3592,337505]
[3593,888002]
[3594,26902]
[3595,914904]
[3599,1895464]
[3607,115158083.83]
[3608,48914217.219999999]
[3609,164072301.05000001]
[3610,1580107]
[3611,165652408.05000001]
[3617,166632968.05000001]
[3620,-107881980.69]
[3637,52950]
[3638,147304]
[3641,52950]
[3642,147304]
[3656,716428]
[3660,1739617]
[3661,2524181]
[3662,1739617]
[3663,2524181]
[3664,36774589.710000001]
[3665,28893788.710000001]
[3666,7880801]
[3667,27790682.593277302]
[3668,35671483.593277298]
[3669,231130265.96999997]
[4013,102425]
[4014,291264]
[4015,66473]
[4016,3210]
[4017,1754]
[4019,465126]
[4020,442158]
[4021,46296]
[4022,2238334]
[4023,27086]
[4026,2753874]
[4041,202]
[4042,425521815]
[4043,202]
[4044,19309516]
[4046,406212299]
[4048,7888082.1600000001]
[4050,414100381.16000003]
[4052,6640927960.5100002]
[4053,8409771]
[4055,829841]
[4057,19598113]
[4061,30415719594.370003]
[4062,2286506304.7600002]
[4063,2198804600.8000002]
[4064,1389810645.74]
[4065,651321273.33999991]
[4066,259694767.61000001]
[4067,92668658.310000002]
[4069,58750987.359999999]
[4070,6640927960.5100002]
[4071,8409771]
[4072,829841]
[4073,19598113]
[4075,29120953007.079994]
[4076,2201953284.9099998]
[4077,2990203209]
[4078,1208263730.1999998]
[4079,625971713.89999998]
[4080,1526636735.0699999]
[4083,166632968.05000001]
[4095,183847]
[4096,183847]
[4104,61745]
[4105,61745]
[4110,21576111783]
[4111,19929759595]
[4112,3258868413]
[4116,-270325969]
[4128,213723]
[4138,1741498]
[4139,226729]
[4140,276062]
[4141,2640853]
[4142,2640853]
[4149,14776035]
[4150,14776035]
[4166,1064529]
[4204,2090217.5980000005]
[4205,365132.63799999992]
[4206,167378.72269999998]
[4207,2622742]
[4208,12226315333]
[4209,8202034]
[4237,2321860]
[4239,1753385]
[4240,154636]
[4241,1804277]
[4242,489371]
[4243,30000]
[4244,392633]
[4246,144854]
[4248,298394]
[4251,142381]
[4255,8557]
[4256,26234]
[4266,219465]
[4267,2982381]
[4268,61379]
[4269,25000]
[4270,18781600]
[4271,16880299]
[4274,28]
[4275,693493]
[4277,1304]
[4279,198257]
[4283,18706127]
[4290,33097]
[4297,45908556.890000001]
[4298,3802]
[4299,86561]
[4301,124294436.93000001]
[4303,287900]
[4304,9775]
[4311,287900]
[4318,2156985.77]
[4319,14427]
[4330,150416]
[4334,2324191.77]
[4335,14427]
[4346,15319632]
[4348,160578]
[4349,35211]
[4350,21225355]
[4352,161882]
[4353,35370]
[4354,25145647]
[4355,48571]
[4356,2518]
[4357,72031016.99000001]
[4360,18747]
[4373,48923768]
[4376,49929.508999999976]
[4380,561491]
[4382,48923768]
[4385,4244]
[4386,193949]
[4700,34888352]
[4731,35255069]
[4732,1109824]
[4733,6560200]
[4734,31316]
[4735,3471]
[4736,15600820]
[4740,103241]
[4744,20730710]
[4745,19692]
[4752,5]
[4791,35363697]
[4792,175486]
[4794,102]
[4803,19564]
[4804,220938]
[4813,18449707]
[4814,651682]
[4821,1989157]
[4824,279]
[4854,2686]
[4855,4498]
[4857,8752]
[4883,335625]
[4889,9775]
[4934,479098511861]
[4935,46665308965.365059]
[4936,21576111783]
[4939,25000]
[4951,60488300]
[4952,214363963]
[4953,952242]
[4961,132025702]
[4962,39900224]
[4963,103878579]
[4965,28556306.710000001]
[4966,5983933]
[4995,122606950]
[5000,12252083920.279999]
[5002,480103035.32999998]
[5003,202]
[5004,172919]
[5005,12760916383.32]
[5006,1347483.27]
[5007,1456414]
[5008,429139083.54000002]
[5009,18579713]
[5010,450522693.80999994]
[5011,17250859]
[5012,12026128]
[5013,3324352.52]
[5014,16235487]
[5015,4266664]
[5016,668152]
[5017,863946]
[5018,28216409]
[5019,317907]
[5020,4309101]
[5021,362009742]
[5022,1169287]
[5023,5030702]
[5024,12360]
[5025,1385988]
[5026,457757451.51999998]
[5027,94393912.680000007]
[5028,-941736]
[5029,93452176.680000007]
[5030,2877141]
[5031,36694063]
[5032,8054907]
[5033,4415791.91]
[5034,14195443]
[5035,202957973.63]
[5036,20773956.780000001]
[5037,3169823]
[5038,69667234]
[5039,4924698]
[5040,18497168]
[5041,117032879.78]
[5042,98011009.289999992]
[5043,930339]
[5044,668033]
[5045,2747577]
[5046,2115734]
[5047,70650]
[5048,138870]
[5049,195277]
[5050,2472698]
[5051,107350187.29000001]
[5052,12185416]
[5053,24966995.25]
[5054,116002400]
[5055,41787315.239999995]
[5056,3160455]
[5057,53851304]
[5058,204332536.38999999]
[5059,641055973.88]
[5060,14831045719.91]
[5061,27196789]
[5062,107020556]
[5063,164368]
[5064,134381713]
[5065,5343591187.04]
[5066,2891798]
[5071,5366921849.04]
[5072,144007620]
[5073,75588289.340000004]
[5074,125287464.7]
[5076,51426924.729999997]
[5078,6538006]
[5081,4501046]
[5086,407647744.76999998]
[5087,1928358]
[5091,55561631]
[5092,161985]
[5100,60700651]
[5102,82862094]
[5103,451518]
[5104,83313612]
[5106,7277150.2000000002]
[5107,18613739]
[5110,3605207]
[5114,352805]
[5116,50046142]
[5117,50398947]
[5120,75580]
[5126,12813]
[5133,8986661]
[5135,396823343]
[5138,830080]
[5139,2669]
[5153,1196507726.9699998]
[5162,6563429576.0099993]
[5163,14097406]
[5164,14433031]
[5169,48134935]
[5171,68968886]
[5172,16790]
[5178,429997514.91000003]
[5179,1774077]
[5180,132759138.70999999]
[5181,3705697]
[5182,10003623]
[5185,602219929.62]
[5186,620751854]
[5187,2123307]
[5194,424331]
[5195,5212230]
[5199,640179791]
[5213,15613052.619999999]
[5214,4240779]
[5217,482341014.12]
[5218,39416357]
[5219,3336982]
[5225,545146441.74000001]
[5240,9678750]
[5243,28384877]
[5249,2015649]
[5251,1331582]
[5252,54013]
[5254,1851738]
[5256,1650086]
[5259,2162532707.9400001]
[5265,2245934624.9400001]
[5266,23774791633.859997]
[5267,1515792124.6700001]
[5269,8189083]
[5270,145750]
[5272,2296059]
[5273,1526423016.6700001]
[5274,224567.61]
[5275,208542]
[5276,79902948]
[5277,990609.7]
[5278,81326667.310000002]
[5279,13844780.029999999]
[5280,-635518]
[5281,13209262.029999999]
[5282,24252]
[5283,322758]
[5284,2298443]
[5286,228932]
[5287,2874385]
[5288,30642710.359999999]
[5289,6149286]
[5290,2218716]
[5291,3705813]
[5292,8165991]
[5293,31194527.25]
[5294,98571891.750000015]
[5295,1722405222.7600002]
[5296,605000]
[5298,511071]
[5299,1116071]
[5300,543668721]
[5306,544320403]
[5330,65000]
[5332,10000]
[5333,75000]
[5340,326020]
[5351,1804227]
[5360,546124630]
[5361,5084707]
[5362,5084707]
[5364,19692]
[5370,251]
[5383,251]
[5401,744226]
[5402,6211]
[5409,750437]
[5440,3346211]
[5446,8450610]
[5447,2278096533.7600002]
[5448,1569168206.8000002]
[5451,3614308]
[5452,1572782514.8000002]
[5453,230271.46]
[5454,50717]
[5455,63714897]
[5456,589190]
[5457,64585075.460000001]
[5458,12250112.539999999]
[5459,814098]
[5460,13064210.539999999]
[5461,1750000]
[5462,165796]
[5463,2737706]
[5464,106792657]
[5465,156516823]
[5466,1806948623.8000002]
[5467,336372009]
[5473,336372009]
[5476,6560200]
[5483,342932209]
[5491,2198804600.8000002]
[5492,623839199.68000007]
[5495,2902022]
[5496,626741221.68000007]
[5497,87591.52]
[5498,14725]
[5499,9073520]
[5500,386976]
[5501,9562812.5199999996]
[5502,6794708]
[5503,14900627]
[5504,990977]
[5505,5114422]
[5506,259775]
[5507,59325]
[5508,8000]
[5509,52017]
[5510,47341]
[5511,11321]
[5512,133200]
[5513,9387331]
[5514,472642]
[5517,15171]
[5518,38289040]
[5519,7652941]
[5520,-317679]
[5521,7335262]
[5522,102723]
[5523,705899]
[5524,3196144]
[5525,7077174]
[5526,17435820]
[5527,699364156.20000005]
[5528,45553]
[5529,29339]
[5530,480]
[5531,75372]
[5532,47765156]
[5533,1574961]
[5538,49340396]
[5539,4038]
[5540,5625]
[5541,122141]
[5543,183563]
[5553,315367]
[5554,276447577.91999996]
[5556,355204079.62]
[5557,631660214.53999996]
[5564,320]
[5566,6343913]
[5569,114119]
[5583,638474001.53999996]
[5592,687814397.53999996]
[5593,200000]
[5594,200000]
[5603,768092]
[5616,768092]
[5634,55571]
[5635,1498]
[5642,57069]
[5647,12534]
[5652,1526879]
[5658,1726879]
[5659,1388980804.74]
[5660,264930632.84]
[5661,1812761]
[5662,307673998.5]
[5663,1606190]
[5664,576023582.33999991]
[5665,126232]
[5666,46992]
[5667,50437566]
[5668,113249]
[5669,50724039]
[5670,5127167]
[5671,-296936]
[5672,4830231]
[5673,15764]
[5674,70677]
[5675,908622]
[5676,4353510]
[5681,12636095]
[5687,12636095]
[5688,5193]
[5691,10205]
[5693,2031]
[5695,2031]
[5702,5972]
[5704,565581]
[5709,587260]
[5717,13223355]
[5723,5]
[5729,1011938]
[5730,154]
[5738,159]
[5742,1012120]
[5756,37316]
[5760,1012852]
[5761,634]
[5768,1050802]
[5783,24]
[5786,24]
[5802,2166551]
[5808,2166556]
[5809,651321273.33999991]
[5810,9526435]
[5811,37018]
[5812,9563453]
[5813,1380]
[5815,2858909]
[5816,2022291]
[5817,4882580]
[5818,23263158.82]
[5819,-785625]
[5820,22477533.82]
[5821,11422388.300000001]
[5822,661907]
[5823,30276]
[5824,40249172]
[5825,146714720.79000002]
[5826,36938304]
[5832,36938304]
[5838,18764616]
[5845,55702920]
[5846,184181]
[5847,184181]
[5853,755447]
[5854,240096654.61000001]
[5855,68447906.560000002]
[5856,200731]
[5857,68648637.560000002]
[5858,15237.8]
[5859,2799]
[5860,353851]
[5861,3344]
[5862,375231.8]
[5863,24237748.949999999]
[5864,-763506]
[5865,23474242.949999999]
[5866,59999]
[5868,610]
[5869,170546]
[5885,92668658.310000002]
[5924,54994108.559999995]
[5925,230168]
[5926,55224276.559999995]
[5927,15424.8]
[5928,2940]
[5929,10000]
[5930,22591]
[5931,50955.8]
[5932,2918162]
[5933,-173153]
[5934,2745009]
[5936,16098]
[5937,54407]
[5938,230382]
[5939,475364]
[5945,475364]
[5953,500364]
[5962,58750987.359999999]
[5963,635931362.33999991]
[5964,183638287.61000001]
[5965,92668658.310000002]
[5967,58250623.359999999]
[5970,136720627.72]
[5971,2524181]
[5974,55693649.50999999]
[6013,1796276.4699999981]
[6015,399054414]
[6016,7013000]
[6017,397865380]
[6018,8202034]
[6020,63791216]
[6021,32891331]
[6022,586973]
[6023,3408503]
[6024,569641]
[6025,615768]
[6026,42282890]
[6027,308635]
[6028,98208]
[6029,574058852]
[6030,6309522]
[6031,46274563]
[6032,134547974]
[6033,842754]
[6034,7919945]
[6035,13233739]
[6036,26]
[6038,62815788]
[6039,4023393]
[6040,833494]
[6041,6298497]
[6042,483460]
[6043,3880069]
[6044,2838161]
[6045,36397]
[6046,123279]
[6047,3069956]
[6049,223]
[6052,28742494]
[6053,1183384]
[6054,9279578]
[6055,2844519]
[6056,57075]
[6057,150825]
[6059,2546242]
[6062,691]
[6063,321614844.94]
[6064,41360849]
[6065,18940613]
[6066,4530630]
[6067,27284797]
[6068,5618948]
[6069,14605891]
[6070,35301878]
[6071,2056950]
[6072,19118443]
[6073,1034517]
[6075,821248]
[6076,51743]
[6077,8973820]
[6078,2603]
[6081,733307556]
[6082,84116261]
[6083,4361003]
[6084,25530063]
[6085,2602943]
[6086,126351350]
[6087,797239]
[6088,5300146]
[6089,14911041]
[6090,20088315]
[6091,5866323]
[6092,1250]
[6093,914806]
[6094,196148]
[6095,14975533]
[6097,19510]
[6098,120250]
[6099,13787050]
[6100,2183]
[6101,64839]
[6102,3618075]
[6104,4826350]
[6108,646924908]
[6109,3195251]
[6111,2377650]
[6112,6323499]
[6113,17008]
[6115,692857]
[6116,14716]
[6119,34076]
[6120,57898759]
[6121,48216156]
[6122,1500000]
[6130,99247226]
[6153,75903320]
[6154,146464298.78]
[6155,321614844.77999997]
[6156,197177094.94]
[6157,56347587]
[6158,65198172]
[6159,344663037.02999991]
[6160,5513371]
[6162,350176408.02999991]
[6163,7417186]
[6164,357593594.02999991]
[6165,31029]
[6166,367009955.16999996]
[6167,7417186]
[6168,374427141.16999996]
[6169,-16833547.140000001]
[6171,7793]
[6172,1000197]
[6176,17908]
[6177,1892798]
[6178,2866909]
[6179,11537228]
[6180,3153335]
[6181,3470287]
[6182,1140727]
[6183,398105]
[6184,670231]
[6185,2231032]
[6186,3207546]
[6187,1048241]
[6188,4850284]
[6190,500000]
[6191,687190]
[6192,14127]
[6198,46412640]
[6199,2602928]
[6200,5469837]
[6201,-3577039]
[6202,-20410586.140000001]
[6203,242175023]
[6204,603182]
[6205,222367618.86000001]
[6206,1391866430.29]
[6207,39098081.850000001]
[6208,216738138.79999998]
[6209,124326204.53999999]
[6210,26172731.439999998]
[6211,227305448.53999999]
[6212,-1414616.6900000013]
[6213,-19807404.140000001]
[6214,2823568.3100000005]
[6215,-6440478648.1151905]
[6216,-242591368712.25793]
[6217,-412190702001.16022]
[6218,-255472327246.04758]
[6219,-287674721998.91266]
[6220,-826528132143.74951]
[6221,-377841425608.49432]
[6222,-558174833241.32373]
[6223,-603258192918.44177]
[6224,63657582]
[6225,4073256]
[6226,37408089]
[6227,16170342]
[6228,350706755]
[6229,2228850]
[6231,377894]
[6236,182272]
[6237,336663561.00999999]
[6239,415238]
[6240,337078799.00999999]
[6241,117082.29]
[6242,19439]
[6243,1617577]
[6244,35743]
[6245,1789841.29]
[6246,444886]
[6249,50790]
[6250,174691]
[6251,42183]
[6255,2107206]
[6256,-124706]
[6257,1982500]
[6258,2802]
[6259,1407073]
[6260,2740217.14]
[6261,520000]
[6262,7087]
[6264,7744323]
[6268,1677598]
[6269,138774696]
[6270,8329878]
[6271,2645511]
[6272,180208]
[6273,184603]
[6274,9933371]
[6275,109937]
[6276,128260]
[6277,124975]
[6278,7466317]
[6279,2233114]
[6280,2677362]
[6281,173305]
[6284,104244]
[6288,3141121]
[6289,2002797.7300000002]
[6290,3811896.73]
[6291,344663037.02999991]
[6292,5512259]
[6296,5512259]
[6297,4923]
[6298,1849768]
[6300,89]
[6301,46798]
[6304,87582]
[6321,1681]
[6327,151432]
[6328,8041]
[6334,1112]
[6335,1112]
[6336,5513371]
[6340,188604]
[6353,1414796]
[6605,14557]
[6651,1162753]
[6652,193446]
[6653,1380914]
[6660,2204118]
[6661,11321650]
[6666,187009664.94]
[6670,1770463]
[6676,342813]
[6678,34162841]
[6681,340553]
[6772,1520123]
[6773,2397564]
[6774,48635868]
[6777,340553]
[6780,9684]
[6783,32710308]
[6784,17245642]
[6785,2644749]
[6786,260368]
[6787,265047648.94]
[6788,2227131]
[6789,3427106]
[6790,55873]
[6791,51187]
[6792,109667095.37]
[6793,4328450]
[6794,11765]
[6795,4530]
[6797,13787086]
[6798,43385]
[6799,6038]
[6800,4322202]
[6801,153916]
[6802,1626475]
[6803,40484]
[6806,5564]
[6807,6811]
[6808,456]
[6809,6031]
[6810,47262930.890000001]
[6811,65477]
[6812,397695]
[6813,18807]
[6814,17392]
[6815,5189]
[6816,5189]
[6817,9363481]
[6818,9363481]
[6819,284219283]
[6820,284219283]
[6821,1743072]
[6822,1743072]
[6823,255270]
[6824,255270]
[6827,37515]
[6828,37515]
[6829,1575209]
[6830,1575209]
[6833,978527]
[6834,978527]
[6835,18386]
[6836,18386]
[6839,1128041]
[6840,1128041]
[6841,48053407]
[6842,21624435]
[6843,128082]
[6844,406199]
[6845,70465]
[6846,713674]
[6847,293387]
[6848,177306]
[6849,38804]
[6850,252029]
[6851,340047]
[6852,252621]
[6853,125688]
[6854,110171]
[6855,996473]
[6856,1912000]
[6857,5988667]
[6858,654563]
[6859,12523318]
[6860,239002]
[6861,327713]
[6862,9163]
[6863,18839698]
[6864,902728]
[6865,92023]
[6866,972783]
[6867,268228]
[6868,88106]
[6869,166243]
[6870,56073]
[6871,1485285]
[6872,2303173]
[6873,17486072]
[6874,5058]
[6875,3344]
[6876,1271799]
[6879,22554731]
[6880,22252795]
[6881,526494]
[6882,1116962]
[6883,1940308]
[6884,1749864]
[6885,1144]
[6886,3083]
[6887,1941452]
[6888,1752947]
[6889,62229]
[6890,60080]
[6891,123161]
[6892,324463]
[6893,1305916]
[6894,155124]
[6895,3182]
[6896,142398]
[6897,1669912]
[6898,548483]
[6899,46799]
[6900,3212469]
[6901,1277347]
[6902,212058]
[6903,15597]
[6904,4228]
[6905,28985]
[6906,2821776]
[6907,26459]
[6908,35541]
[6909,2443393]
[6910,19076487]
[6911,74527]
[6912,22150090]
[6913,2588961]
[6914,358096]
[6915,351026]
[6916,48024772]
[6917,9901971]
[6918,1298134]
[6919,43304]
[6920,7805979]
[6921,7805979]
[6922,269500088]
[6923,269500088]
[6924,205900]
[6925,205900]
[6926,14913376]
[6927,14913376]
[6928,674054]
[6929,674054]
[6930,1306529]
[6931,1306529]
[6932,1718382]
[6933,1718382]
[6934,296124308]
[6935,2189597]
[6936,2189597]
[6937,46595335]
[6938,46595335]
[6939,812417]
[6940,812417]
[6941,11745439]
[6942,11745439]
[6943,61960]
[6944,61960]
[6945,711771]
[6946,711771]
[6947,305406]
[6948,2023210]
[6949,2328616]
[6950,305406]
[6951,64139729]
[6952,64445135]
[6953,141875]
[6954,142785]
[6955,2099275]
[6956,2099275]
[6957,34511195]
[6958,34511195]
[6959,97376313]
[6960,31569710]
[6964,6031]
[6965,1330499]
[6966,2098]
[6967,8555097]
[6968,611683]
[6969,3303]
[6971,81391]
[6972,9970290]
[6973,619812]
[6974,19390]
[6976,9989680]
[6977,619812]
[6978,878]
[6981,366481090.16999996]
[6983,2747391]
[6984,6425679]
[6985,182652]
[6986,94504]
[6987,94504]
[6988,371075]
[6989,371075]
[6990,9990558]
[6991,619812]
[6994,350176408.02999991]
[6998,1506826]
[6999,44425]
[7002,1506826]
[7003,44425]
[7006,1098343]
[7007,1098343]
[7008,316865]
[7009,316865]
[7010,1506826]
[7011,44425]
[7012,4790197.09]
[7013,4790197.09]
[7014,3636456]
[7015,3636456]
[7016,600478]
[7017,600478]
[7018,516647]
[7019,516647]
[7020,84192]
[7021,84192]
[7022,6009]
[7023,6009]
[7028,606313]
[7029,606313]
[7030,47458]
[7031,47458]
[7032,4089306.19]
[7033,4089306.19]
[7036,79135]
[7037,79135]
[7038,27164243]
[7039,6516]
[7042,27164243]
[7043,6516]
[7045,151672]
[7046,151672]
[7052,716428]
[7054,868100]
[7055,27164243]
[7056,6516]
[7057,238588]
[7059,670532]
[7060,37396]
[7062,58265]
[7065,1004781]
[7066,121440]
[7067,1941905]
[7068,65027654]
[7069,74545]
[7070,2588]
[7071,638403]
[7073,74]
[7074,67806609]
[7075,15497]
[7076,279931]
[7077,4246481.7200000007]
[7080,56501]
[7083,4598410.7200000007]
[7084,69702]
[7085,291996]
[7086,51649695]
[7087,238689]
[7088,25314]
[7089,326947]
[7092,52602343]
[7093,16602104]
[7094,1210991]
[7095,12175220]
[7096,160120]
[7097,1741072]
[7098,218148]
[7099,71537]
[7101,32179192]
[7102,55764]
[7103,41629]
[7104,832826]
[7107,826885]
[7110,1757104]
[7111,122148929.06]
[7112,24802396.579999998]
[7113,28429933.189999998]
[7114,599296.37]
[7115,1987937]
[7116,675684]
[7117,242830]
[7118,377416]
[7119,179264422.19999999]
[7122,23134]
[7128,23134]
[7129,204679]
[7130,64896]
[7131,11239215.25]
[7132,43294]
[7133,27126]
[7134,123154]
[7137,11702364.25]
[7138,139479103.06]
[7139,28633744.579999998]
[7140,189752963.16]
[7141,1161692.3700000001]
[7142,3837743]
[7143,2923987]
[7144,314367]
[7145,377490]
[7146,366481090.16999996]
[7147,30962]
[7148,30962]
[7151,67]
[7152,67]
[7153,31029]
[7154,31029]
[7155,139479103.06]
[7156,28633744.579999998]
[7157,189752963.16]
[7158,1161692.3700000001]
[7159,3837743]
[7160,3452852]
[7161,314367]
[7162,377490]
[7163,367009955.16999996]
[7164,-16833547.140000001]
[7165,108200]
[7167,30177]
[7169,138377]
[7173,138377]
[7179,180239]
[7180,180239]
[7181,741730]
[7182,741730]
[7183,138377]
[7185,54347810]
[7186,9415912]
[7187,9604799]
[7188,1235980]
[7189,528366]
[7190,85373016.819999993]
[7191,21330056.550000001]
[7192,1236122]
[7193,1412351]
[7194,41129]
[7195,167360]
[7196,10428749]
[7197,2182358]
[7198,254676]
[7199,693133]
[7200,215730]
[7201,7910]
[7202,37800919.710000001]
[7203,6060777.1799999997]
[7204,1441464]
[7205,816405]
[7206,1050329]
[7207,86549]
[7530,1414796]
[7531,2380]
[7532,1190]
[7534,3570]
[7535,1411226]
[7536,29527838]
[7537,289617]
[7538,11295]
[7539,29806160]
[7540,9630545]
[7541,576811]
[7542,11295]
[7543,10196061]
[7544,19610099]
[7545,154248989.25999999]
[7546,2441057.44]
[7548,156690046.69999999]
[7549,54060313.890000001]
[7550,4377901.55]
[7552,58438215.439999998]
[7553,98251831.25999999]
[7554,46808224.93]
[7555,5420460.6899999995]
[7556,1307469]
[7557,50921216.620000005]
[7558,40713423.950000003]
[7559,3914581]
[7560,1574931]
[7561,43053073.950000003]
[7562,7868142.6699999999]
[7563,136490684]
[7564,13649068.399999997]
[7570,1345262224.3500001]
[7575,32723]
[7576,1545417]
[7577,439]
[7578,34902]
[7590,286379]
[7593,8911150]
[7594,1784421]
[7595,17000]
[7596,17136081]
[7597,3531133]
[7598,13830568]
[7599,90923]
[7602,353175]
[7603,48687]
[7605,521244]
[7606,813112]
[7607,37052]
[7608,795000]
[7609,410400]
[7610,1664755]
[7611,3230016]
[7612,14103898]
[7613,11765442]
[7614,903175]
[7616,288908]
[7617,2185264]
[7618,2143075]
[7619,4751395]
[7620,40433]
[7621,40311]
[7622,175000]
[7623,36348180]
[7624,64380359]
[7625,249222472]
[7626,5009675]
[7629,14200740]
[7630,95]
[7631,53706]
[7635,14254541]
[7636,22400]
[7638,1257532]
[7639,8257]
[7644,1288189]
[7645,181415]
[7646,48069]
[7647,51885609]
[7648,3517061]
[7649,2663537.23]
[7650,97435.09]
[7651,7306904.46]
[7652,92268617.579999998]
[7653,16457373.93]
[7654,3103613]
[7655,419190]
[7656,14575787]
[7657,112611554.81]
[7658,24280903.48]
[7659,449689269.52999997]
[7660,20956661.91]
[7661,51379545.140000001]
[7662,114416]
[7663,17078070.77]
[7664,24612084]
[7665,24085]
[7666,41714239.769999996]
[7667,35306169]
[7668,431118]
[7669,94314060.909999996]
[7670,75023622.49000001]
[7671,70183102.900000006]
[7672,6295768.5700000003]
[7673,331748]
[7674,360408]
[7676,27022763]
[7677,252151]
[7678,460630]
[7679,5129537.1000000015]
[7681,43160339.900000006]
[7682,6043617.5700000003]
[7684,561491]
[7685,561491]
[7686,48635868]
[7687,67070538]
[7688,146451090]
[7689,12249576]
[7690,21978696]
[7691,701289]
[7692,72653795]
[7693,866900]
[7694,6995555]
[7695,14028967.1]
[7697,87431860.129999995]
[7698,56000650.009999998]
[7699,143432510.13999999]
[7700,54797]
[7701,704161333]
[7702,704161333]
[7704,11607372]
[7707,198119]
[7708,27406]
[7712,1220276]
[7713,396564]
[7714,153556]
[7715,550120]
[7716,6559]
[7717,6559]
[7718,95572]
[7719,95572]
[7720,43073]
[7721,43073]
[7722,722819]
[7723,722819]
[7724,203421]
[7725,203421]
[7726,294415]
[7727,294415]
[7728,497836]
[7729,497836]
[7735,497836]

{"sheet":"worksheet","index":21,"n_rows":2406,"n_cols":6,"rows_kept":2406,"cut":false,"hidden":true,"merged":[]}
["All SD's (- Crete Monee)",null,"East STL","City of Clay","Lake Park","All SD's (-CM & ESTL, & revisions for City of Clay and Lake Park)"]
["txtFieldNum","2018","2018","2018","2018"]
[4,4449380884,1317518,0,0,4448063366]
[11,10965222,0,0,0,10965222]
[12,2085627941,0,0,0,2085627941]
[15,8487467,0,0,0,8487467]
[16,13604323264.32,53962316,0,0,13550360948.32]
[25,113203890,0,0,0,113203890]
[27,4516526967,2900055,0,0,4513626912]
[30,6103904165,7739318,0,0,6096164847]
[31,7255290591.5900002,43452423,0,0,7211838168.5900002]
[32,13604323264.589998,53962316,0,0,13550360948.589998]
[36,449091290,329379,0,0,448761911]
[43,98822,0,0,0,98822]
[44,352727831,0,0,0,352727831]
[47,809521,0,0,0,809521]
[48,2004389425.2,1694294,0,0,2002695131.2]
[56,109272,0,0,0,109272]
[58,532996778,210583,0,0,532786195]
[61,645406398,383022,0,0,645023376]
[62,1153151307.95,0,0,0,1153151307.95]
[63,2004389424.95,1694294,0,0,2002695130.95]
[65,453038975,1138861,0,0,451900114]
[68,192660768,0,0,0,192660768]
[69,13754738,570310,0,0,13184428]
[70,2118999902,7370322,0,0,2111629580]
[73,460348617,728106,0,0,459620511]
[78,469306339,728106,0,0,468578233]
[79,612786993.88,1757627,0,0,611029366.88]
[80,2118999901.8800001,7370322,0,0,2111629579.8800001]
[84,159323034,131752,0,0,159191282]
[92,210291838,0,0,0,210291838]
[95,188063,0,0,0,188063]
[96,1208901307.4400001,2519922,0,0,1206381385.4400001]
[103,660741,0,0,0,660741]
[105,298210918,733927,0,0,297476991]
[108,357072463,858330,0,0,356214133]
[109,684573002.85000002,0,0,0,684573002.85000002]
[110,1208901306.8499999,2519922,0,0,1206381384.8499999]
[112,158410779,1526804,0,0,156883975]
[116,109853870,0,0,0,109853870]
[118,22713,0,0,0,22713]
[119,661600222.50999999,4937924,0,0,656662298.50999999]
[123,5439635,0,0,0,5439635]
[124,175026030,976129,0,0,174049901]
[127,194799093,976129,0,0,193822964]
[128,320909130.58000004,2040364,0,0,318868766.58000004]
[129,661600222.58000004,4937924,0,0,656662298.58000004]
[138,459294954,0,0,0,459294954]
[141,34045,0,0,0,34045]
[142,2636761886,1386767,0,0,2635375119]
[145,9113,0,0,0,9113]
[147,17494828,0,0,0,17494828]
[150,187253893,0,0,0,187253893]
[151,1209846638,0,0,0,1209846638]
[152,2636761886,1386767,0,0,2635375119]
[212,1322298013,815300,0,0,1321482713]
[213,34925647029.099998,214644813,0,0,34711002216.099998]
[214,1971193145.51,4604112,0,0,1966589033.51]
[215,3710974507,20966469,0,0,3690008038]
[218,42992052441.610001,241030694,0,0,42751021747.610001]
[219,42992052441.610001,241030694,0,0,42751021747.610001]
[220,42992052441.610001,241030694,0,0,42751021747.610001]
[221,1645160085,6642216,0,0,1638517869]
[222,19912185421,23577784,0,0,19888607637]
[223,21557345506,30220000,0,0,21527125506]
[224,21557256289,30220000,0,0,21527036289]
[226,21557256289,30220000,0,0,21527036289]
[227,21557256289,30220000,0,0,21527036289]
[259,19734469,0,0,0,19734469]
[260,5656749,0,0,0,5656749]
[262,13385462,0,0,0,13385462]
[263,24190,0,0,0,24190]
[371,4568411,0,0,0,4568411]
[439,116325619,0,0,0,116325619]
[440,220808,0,0,0,220808]
[557,956982138,0,0,0,956982138]
[558,41601698,0,0,0,41601698]
[559,575570,0,0,0,575570]
[590,311901711,0,0,0,311901711]
[591,7162087,0,0,0,7162087]
[644,6741171854.6300001,15183063,0,0,6725988791.6300001]
[645,53496043,0,0,0,53496043]
[651,357544899,181439,0,0,357363460]
[655,8234532,0,0,0,8234532]
[656,169299761.82999998,535228,0,0,168764533.82999998]
[657,286601372.90999997,194052,0,0,286407320.90999997]
[658,47627036,0,0,0,47627036]
[659,10052281006.52,26930010,0,0,10025350996.52]
[660,267877815,1720517,0,0,266157298]
[661,305511212.84000003,558433,0,0,304952779.84000003]
[662,153858708.16,314722,0,0,153543986.16]
[663,124376076,488843,0,0,123887233]
[664,197865876.88,348066,0,0,197517810.88]
[665,70251496,75937,0,0,70175559]
[666,1119741184.8800001,3506518,0,0,1116234666.8800001]
[667,279910784,2480594,0,0,277430190]
[668,220632626.11000001,434427,0,0,220198199.11000001]
[669,13958619,10300,0,0,13948319]
[670,514502029.11000001,2925321,0,0,511576708.11000001]
[671,31051748,0,0,0,31051748]
[672,177937895.69,990976,0,0,176946919.69]
[673,282991242.69,1609578,0,0,281381664.69]
[674,874404091.63999999,2894209,0,0,871509882.63999999]
[675,42342730,91313,0,0,42251417]
[676,916746821.63999999,2985522,0,0,913761299.63999999]
[677,50098057,0,0,0,50098057]
[678,109019241.69,625775,0,0,108393466.69]
[679,89779274.159999996,2615,0,0,89776659.159999996]
[680,19237105,27796,0,0,19209309]
[681,215621257.12,77657,0,0,215543600.12]
[682,10997332,231731,0,0,10765601]
[684,494752266.96999997,965574,0,0,493786692.96999997]
[685,7546862,750447,0,0,6796415]
[686,15955554,369632,0,0,15585922]
[687,24210062,0,0,0,24210062]
[688,60814347,382838,0,0,60431509]
[690,99617794.680000007,501145,0,0,99116649.680000007]
[692,208144619.68000001,2004062,0,0,206140557.68000001]
[693,13142507,577912,0,0,12564595]
[694,3550020671.9700003,14574487,0,0,3535446184.9700003]
[695,71914890,183519,0,0,71731371]
[696,13674216568.49,41688016,0,0,13632528552.49]
[702,1820198463.8499999,2345912,0,0,1817852551.8499999]
[703,9978449,0,0,0,9978449]
[709,77589893,43022,0,0,77546871]
[713,757212,0,0,0,757212]
[714,34246764.590000004,102377,0,0,34144387.590000004]
[715,20977445.619999997,19566,0,0,20957879.619999997]
[716,2033666.77,0,0,0,2033666.77]
[717,2539185408.9899998,5352930,0,0,2533832478.9899998]
[718,55138428,377350,0,0,54761078]
[719,63325892.75,108203,0,0,63217689.75]
[720,31792513.219999999,90123,0,0,31702390.219999999]
[721,23313846,102847,0,0,23210999]
[722,37425100.019999996,67669,0,0,37357431.019999996]
[723,12299869,10592,0,0,12289277]
[724,223295648.99000001,756784,0,0,222538864.99000001]
[725,60661474.57,529034,0,0,60132440.57]
[726,44815372,89681,0,0,44725691]
[727,1940491,0,0,0,1940491]
[728,107417337.56999999,618715,0,0,106798622.56999999]
[729,24908300,2192,0,0,24906108]
[730,34813147,146992,0,0,34666155]
[731,78375357,268727,0,0,78106630]
[732,206706118.60000002,481585,0,0,206224533.60000002]
[733,10022096,12003,0,0,10010093]
[734,216728214.60000002,493588,0,0,216234626.60000002]
[735,10015932,0,0,0,10015932]
[736,20666413,78236,0,0,20588177]
[737,18154691,42155,0,0,18112536]
[738,6861872,2401,0,0,6859471]
[739,55331968,0,0,0,55331968]
[740,2285625,36161,0,0,2249464]
[742,113316501,158953,0,0,113157548]
[743,1527345,145202,0,0,1382143]
[744,2884336,66772,0,0,2817564]
[745,5786704,0,0,0,5786704]
[746,29291752,59224,0,0,29232528]
[748,17161311,95182,0,0,17066129]
[750,56651448,366380,0,0,56285068]
[751,7489563,51441,0,0,7438122]
[752,803274070.15999997,2714588,0,0,800559482.15999997]
[753,12852816,35840,0,0,12816976]
[754,3355312295.1500001,8103358,0,0,3347208937.1500001]
[760,118163391.58999999,708049,0,0,117455342.58999999]
[761,532417,0,0,0,532417]
[767,3004843,0,0,0,3004843]
[771,1571457,0,0,0,1571457]
[772,7573657,58842,0,0,7514815]
[773,45674846.879999995,450543,0,0,45224303.879999995]
[774,1843734,0,0,0,1843734]
[775,1000923412.4799999,3303205,0,0,997620207.4799999]
[776,12748405,35613,0,0,12712792]
[777,12949838,6489,0,0,12943349]
[778,34796077,318234,0,0,34477843]
[779,7532428,5016,0,0,7527412]
[780,24515469,0,0,0,24515469]
[781,12962938,0,0,0,12962938]
[782,105505155,365352,0,0,105139803]
[783,101648199.48,880056,0,0,100768143.48]
[784,39746237.620000005,134,0,0,39746103.620000005]
[785,22858547,22633,0,0,22835914]
[786,164252984.09999999,902823,0,0,163350161.09999999]
[787,111071387.76000001,112939,0,0,110958448.76000001]
[788,12253329.879999999,251399,0,0,12001930.879999999]
[789,144089490.63999999,373094,0,0,143716396.63999999]
[790,21803884.329999998,141352,0,0,21662532.329999998]
[791,382088,0,0,0,382088]
[792,22185972.329999998,141352,0,0,22044620.329999998]
[793,5858787,0,0,0,5858787]
[794,31426012.790000003,85822,0,0,31340190.790000003]
[795,72299634,159359,0,0,72140275]
[796,109471562,0,-148798,0,109620360]
[797,202610553.83000001,2811494,148798,0,199650261.83000001]
[798,9997150.629999999,17436,0,0,9979714.629999999]
[800,431663700.25,3074111,0,0,428589589.25]
[801,2264478,32634,0,0,2231844]
[802,5319354,331919,0,0,4987435]
[803,16360688,38755,0,0,16321933]
[804,15273675,157860,0,0,15115815]
[806,90140542,302801,0,0,89837741]
[808,129358737,863969,0,0,128494768]
[809,11016685,9086,0,0,11007599]
[810,1008072724.3200001,5729787,0,0,1002342937.3200001]
[811,50831000,429726,0,0,50401274]
[812,2268101357.21,10059830,0,0,2258041527.21]
[818,297520179.07000005,446414,0,0,297073765.07000005]
[819,550399,0,0,0,550399]
[825,7044036,405,0,0,7043631]
[829,1015158,0,0,0,1015158]
[830,16213497.24,87048,0,0,16126449.24]
[831,30125009.289999999,271102,0,0,29853907.289999999]
[832,2687696,0,0,0,2687696]
[833,435256640.85000002,1072898,0,0,434183742.85000002]
[834,5075524,45536,0,0,5029988]
[835,4133977,0,0,0,4133977]
[836,3415821,1532,0,0,3414289]
[837,1336324,0,0,0,1336324]
[838,1115060,0,0,0,1115060]
[839,4604410.6899999995,0,0,0,4604410.6899999995]
[840,19681116.689999998,47068,0,0,19634048.689999998]
[841,34712371,100059,0,0,34612312]
[842,42502413,0,0,0,42502413]
[843,6800010,0,0,0,6800010]
[844,84014794,100059,0,0,83914735]
[845,6219037.5800000001,3504,0,0,6215533.5800000001]
[846,4053846.45,64582,0,0,3989264.45]
[847,11737291.029999999,90583,0,0,11646708.029999999]
[848,17254295.149999999,26120,0,0,17228175.149999999]
[849,203287,0,0,0,203287]
[850,17457582.149999999,26120,0,0,17431462.149999999]
[851,1288781,0,0,0,1288781]
[852,4525110.59,51037,0,0,4474073.59]
[853,31151116,57374,0,0,31093742]
[854,930489,0,-1470,0,931959]
[855,285160147.51999998,30624,1470,0,285128053.51999998]
[856,4915671,39748,0,0,4875923]
[858,327971315.11000001,178783,0,0,327792532.11000001]
[859,261901,2091,0,0,259810]
[860,824442,49445,0,0,774997]
[861,6140093,128922,0,0,6011171]
[862,1664938,11138,0,0,1653800]
[864,45195536,232235,0,0,44963301]
[866,54086910,423831,0,0,53663079]
[867,6818210,8409,0,0,6809801]
[868,521767218.97999996,874853,0,0,520892365.97999996]
[869,10815167,46222,0,0,10768945]
[870,967839026.83000004,1993973,0,0,965845053.83000004]
[876,39634963.5,8623,0,0,39626340.5]
[877,5435,0,0,0,5435]
[883,98275,0,0,0,98275]
[887,48943,0,0,0,48943]
[888,5440346.9100000001,27381,0,0,5412965.9100000001]
[889,3265589,0,0,0,3265589]
[890,19020,0,0,0,19020]
[891,59814062.68,151108,0,0,59662954.68]
[892,128225,0,0,0,128225]
[893,52906,0,0,0,52906]
[894,406625,0,0,0,406625]
[895,5340,0,0,0,5340]
[896,181147,0,0,0,181147]
[897,787537,0,0,0,787537]
[898,1561780,0,0,0,1561780]
[899,6827680,0,0,0,6827680]
[900,25432965,0,0,0,25432965]
[901,53753,0,0,0,53753]
[902,32314398,0,0,0,32314398]
[903,473715,0,0,0,473715]
[904,362208,0,0,0,362208]
[905,904985,1310,0,0,903675]
[906,1114046.3,0,0,0,1114046.3]
[907,38433,0,0,0,38433]
[908,1152479.3,0,0,0,1152479.3]
[909,279262,0,0,0,279262]
[910,1177269.8199999998,0,0,0,1177269.8199999998]
[911,13290712,240893,0,0,13049819]
[912,100303,0,-7488,0,107791]
[913,6014640.6600000001,9327,7488,0,5997825.6600000001]
[914,1726802,0,0,0,1726802]
[916,22588989.48,250220,0,0,22338769.48]
[917,111124,0,0,0,111124]
[918,240238,0,0,0,240238]
[919,6321928,0,0,0,6321928]
[920,236522,0,0,0,236522]
[922,45553582,79193,0,0,45474389]
[924,52463394,79193,0,0,52384201]
[925,1433450,3000,0,0,1430450]
[926,112419475.77999999,333723,0,0,112085752.77999999]
[927,1035297,22336,0,0,1012961]
[928,173268835.46000001,507167,0,0,172761668.46000001]
[934,9064881,0,0,0,9064881]
[935,56094,0,0,0,56094]
[941,63945,0,0,0,63945]
[945,37750,0,0,0,37750]
[946,2902198,0,0,0,2902198]
[947,9607627,27275,0,0,9580352]
[948,590017,0,0,0,590017]
[949,385228947,5105578,0,0,380123369]
[950,71519,0,0,0,71519]
[951,774353,0,0,0,774353]
[952,148404,0,0,0,148404]
[953,36736,0,0,0,36736]
[954,43115,0,0,0,43115]
[955,273263,0,0,0,273263]
[956,1347390,0,0,0,1347390]
[957,2535252,176,0,0,2535076]
[958,978494,0,0,0,978494]
[959,88172,0,0,0,88172]
[960,3601918,176,0,0,3601742]
[961,11278611.51,11796,0,0,11266815.51]
[962,3337293.63,27974,0,0,3309319.63]
[963,16309803.140000001,111749,0,0,16198054.140000001]
[964,2369403.7599999998,0,0,0,2369403.7599999998]
[965,22530,0,0,0,22530]
[966,2391933.7599999998,0,0,0,2391933.7599999998]
[967,735663,0,0,0,735663]
[968,3208027,88388,0,0,3119639]
[969,286836,0,0,0,286836]
[970,3962,0,0,0,3962]
[971,1365851,0,0,0,1365851]
[972,131205,0,0,0,131205]
[974,5731544,88388,0,0,5643156]
[975,8040,0,0,0,8040]
[976,24896,0,0,0,24896]
[977,363670,0,0,0,363670]
[978,453245,32844,0,0,420401]
[980,1257609,0,0,0,1257609]
[982,2107460,32844,0,0,2074616]
[983,835808,0,0,0,835808]
[984,32325856.900000002,233157,0,0,32092699.900000002]
[985,8088731,0,0,0,8088731]
[986,531742710.52999997,139422,0,0,531603288.52999997]
[987,996434,0,0,0,996434]
[988,130730,0,0,0,130730]
[990,293196,0,0,0,293196]
[992,32394652,0,0,0,32394652]
[993,991535639.42999995,5478157,0,0,986057482.42999995]
[1032,9075709683.6399994,18791945,0,0,9056917738.6399994]
[1033,64631212,0,0,0,64631212]
[1039,445809063,224866,0,0,445584197]
[1043,11680729,0,0,0,11680729]
[1044,239618620.56999999,810876,0,0,238807744.56999999]
[1045,397918849.69999999,962538,0,0,396956311.69999999]
[1046,54801169.770000003,0,0,0,54801169.770000003]
[1047,14541444952.520002,42137763,0,0,14499307189.520002]
[1048,341572857,2239058,0,0,339333799]
[1049,387529829.58999997,673125,0,0,386856704.58999997]
[1050,224822471.38,724611,0,0,224097860.38]
[1051,156876887,658977,0,0,156217910]
[1052,261468500.90000001,415735,0,0,261052765.90000001]
[1053,101415372.69,86529,0,0,101328843.69]
[1054,1473685918.5599999,4798035,0,0,1468887883.5599999]
[1055,492911153.05000001,4030127,0,0,488881026.05000001]
[1056,386767939.73000002,564450,0,0,386203489.73000002]
[1057,46036468,32933,0,0,46003535]
[1058,925715560.77999997,4627510,0,0,921088050.77999997]
[1059,186064475.84999999,130431,0,0,185934044.84999999]
[1060,233049235.65000001,1481923,0,0,231567312.65000001]
[1061,535971728.5,2455041,0,0,533516687.5]
[1062,1127334366.78,3543266,0,0,1123791100.78]
[1063,53015391,103316,0,0,52912075]
[1064,1180349757.78,3646582,0,0,1176703175.78]
[1065,68398561,0,0,0,68398561]
[1066,170469698.88999999,929258,0,0,169540440.88999999]
[1067,226293150.16,502396,0,0,225790754.16]
[1068,136750057,30197,-157756,0,136877616]
[1069,768322813.13,2929102,157756,0,765235955.13]
[1070,30148653.629999999,338444,0,0,29810209.629999999]
[1072,1400382933.8100002,4729397,0,0,1395653536.8100002]
[1073,11947405,930374,0,0,11017031]
[1074,25282033,817768,0,0,24464265]
[1075,61966351,167677,0,0,61798674]
[1076,110213413,643904,0,0,109569509]
[1078,317778156.68000001,1210556,0,0,316567600.68000001]
[1080,527187358.68000001,3770279,0,0,523417079.68000001]
[1081,41386385,649848,0,0,40736537]
[1082,6084679643.1100006,24676692,0,0,6060002951.1100006]
[1083,156879339,717643,0,0,156161696]
[1084,740016930.94000006,736534,0,0,739280396.94000006]
[1085,996434,0,0,0,996434]
[1086,130730,0,0,0,130730]
[1088,293196,0,0,0,293196]
[1090,32394652,0,0,0,32394652]
[1091,21557170259.57,68268632,0,0,21488901627.57]
[1092,1239111641.29,7537932,0,0,1231573709.29]
[1158,2729805,0,0,0,2729805]
[1159,1045563,0,0,0,1045563]
[1160,608958625.8599999,2621285,0,0,606337340.8599999]
[1162,612797182.8599999,2621285,0,0,610175897.8599999]
[1163,1113815,0,0,0,1113815]
[1164,614013422.8599999,2621285,0,0,611392137.8599999]
[1165,614327865.8599999,2621285,0,0,611706580.8599999]
[1166,492107,0,0,0,492107]
[1167,150047,0,0,0,150047]
[1168,122882561.03,487053,0,0,122395508.03]
[1170,123538359.03,487053,0,0,123051306.03]
[1171,183731,0,0,0,183731]
[1172,124013354.03,487053,0,0,123526301.03]
[1173,124013373.03,487053,0,0,123526320.03]
[1174,1390461,0,0,0,1390461]
[1175,13249969,0,0,0,13249969]
[1176,636376223.98000002,1782914,0,0,634593309.98000002]
[1178,651294168.09000003,1782914,0,0,649511254.09000003]
[1179,1971924,0,0,0,1971924]
[1180,653332565.09000003,1782914,0,0,651549651.09000003]
[1181,655744913.09000003,1782914,0,0,653961999.09000003]
[1182,49148,0,0,0,49148]
[1183,524525,0,0,0,524525]
[1184,468480695.32999998,2201259,0,0,466279436.32999998]
[1186,469165046.32999998,2201259,0,0,466963787.32999998]
[1187,88374,0,0,0,88374]
[1188,469256630.32999998,2201259,0,0,467055371.32999998]
[1189,469266713.32999998,2201259,0,0,467065454.32999998]
[1190,278746,0,0,0,278746]
[1191,118952872,0,0,0,118952872]
[1192,178846791.59999999,66024,0,0,178780767.59999999]
[1193,331017,0,0,0,331017]
[1195,298512720.60000002,66024,0,0,298446696.60000002]
[1196,407229,0,0,0,407229]
[1197,298921703.60000002,66024,0,0,298855679.60000002]
[1198,298968874.60000002,66024,0,0,298902850.60000002]
[1199,49581,0,0,0,49581]
[1200,391513,0,0,0,391513]
[1201,2784801,0,0,0,2784801]
[1203,3225895,0,0,0,3225895]
[1204,7015,0,0,0,7015]
[1205,3232910,0,0,0,3232910]
[1206,3315452,0,0,0,3315452]
[1207,42020,0,0,0,42020]
[1209,52484,0,0,0,52484]
[1211,465579,0,0,0,465579]
[1212,8463941,0,0,0,8463941]
[1213,4995879,0,0,0,4995879]
[1214,135647086,0,0,0,135647086]
[1215,2027387323.8000002,7160645,0,0,2020226678.8000002]
[1216,412408,0,0,0,412408]
[1218,2169014318.9099998,7160645,0,0,2161853673.9099998]
[1219,3791478,0,0,0,3791478]
[1220,2173270922.9099998,7160645,0,0,2166110277.9099998]
[1221,5672478,0,0,0,5672478]
[1222,42020,0,0,0,42020]
[1224,52484,0,0,0,52484]
[1226,465579,0,0,0,465579]
[1227,2181286895.9099998,7160645,0,0,2174126250.9099998]
[1228,87166833.850000009,-1678656,0,0,88845489.850000009]
[1246,5177763,0,0,0,5177763]
[1247,5177763,0,0,0,5177763]
[1248,5177763,0,0,0,5177763]
[1249,17709,0,0,0,17709]
[1251,1016798227,1652074,0,0,1015146153]
[1252,616678,0,0,0,616678]
[1253,2583817,0,0,0,2583817]
[1254,1878853134,3180000,0,0,1875673134]
[1255,83881742,2284,0,0,83879458]
[1256,2982116920,4834358,0,0,2977282562]
[1257,2982256903,4834358,0,0,2977422545]
[1263,17709,0,0,0,17709]
[1265,1016798227,1652074,0,0,1015146153]
[1266,616678,0,0,0,616678]
[1267,2583817,0,0,0,2583817]
[1268,1878853134,3180000,0,0,1875673134]
[1269,89059505,2284,0,0,89057221]
[1270,2987294683,4834358,0,0,2982460325]
[1271,2987434666,4834358,0,0,2982600308]
[1272,-790602762.20000005,-70171,0,0,-790532591.20000005]
[1274,250016007.88,585809,0,0,249430198.88]
[1277,1252696,0,0,0,1252696]
[1278,251710861.88,585809,0,0,251125052.88]
[1279,251748525.88,585809,0,0,251162716.88]
[1280,43418761.32,9799,0,0,43408962.32]
[1283,283749,0,0,0,283749]
[1284,43748806.32,9799,0,0,43739007.32]
[1285,43749535.32,9799,0,0,43739736.32]
[1286,715321719.89999998,4247337,0,0,711074382.89999998]
[1289,339444,0,0,0,339444]
[1290,717899497.89999998,4247337,0,0,713652160.89999998]
[1291,12729286,0,0,0,12729286]
[1292,730802959.89999998,4247337,0,0,726555622.89999998]
[1293,67522247.349999994,2389,0,0,67519858.349999994]
[1296,75692,0,0,0,75692]
[1297,67625025.349999994,2389,0,0,67622636.349999994]
[1298,67628153.349999994,2389,0,0,67625764.349999994]
[1299,74031959.75,0,0,0,74031959.75]
[1303,74031959.75,0,0,0,74031959.75]
[1304,74031959.75,0,0,0,74031959.75]
[1305,3008866,0,0,0,3008866]
[1308,8731,0,0,0,8731]
[1309,3017597,0,0,0,3017597]
[1310,10649,0,0,0,10649]
[1312,173198,0,0,0,173198]
[1314,16375090,0,0,0,16375090]
[1315,23480545,0,0,0,23480545]
[1316,1154868314.1999998,4845334,0,0,1150022980.1999998]
[1319,1960312,0,0,0,1960312]
[1320,1159582500.1999998,4845334,0,0,1154737166.1999998]
[1321,15567144,0,0,0,15567144]
[1322,10649,0,0,0,10649]
[1324,173198,0,0,0,173198]
[1326,16375090,0,0,0,16375090]
[1327,1192990431.1999998,4845334,0,0,1188145097.1999998]
[1328,182088027.53999999,-269490,0,0,182357517.53999999]
[1335,717612,0,0,0,717612]
[1341,7874022,8218,0,0,7865804]
[1345,705456,0,0,0,705456]
[1346,2906697.37,7912,0,0,2898785.37]
[1347,11771219.68,16031,0,0,11755188.68]
[1348,1889701.9,0,0,0,1889701.9]
[1349,241591398.34000003,832148,0,0,240759250.34000003]
[1350,8208506,101029,0,0,8107477]
[1351,6844075,16155,0,0,6827920]
[1352,17314096.640000001,31461,0,0,17282635.640000001]
[1353,1820188,31124,0,0,1789064]
[1354,2742701,5808,0,0,2736893]
[1355,6745460,9586,0,0,6735874]
[1356,43675026.640000001,195163,0,0,43479863.640000001]
[1357,7899295.8200000003,52939,0,0,7846356.8200000003]
[1358,17017865.75,43703,0,0,16974162.75]
[1359,653223,0,0,0,653223]
[1360,25570384.57,96642,0,0,25473742.57]
[1361,9615542,24513,0,0,9591029]
[1362,9975373.1099999994,57580,0,0,9917793.1099999994]
[1363,28010783.300000001,224670,0,0,27786113.300000001]
[1364,44795060.339999996,121354,0,0,44673706.339999996]
[1365,1963541,1303,0,0,1962238]
[1366,46758601.339999996,122657,0,0,46635944.339999996]
[1367,4115641,0,0,0,4115641]
[1368,17278398.850000001,71934,0,0,17206464.850000001]
[1369,328662,0,0,0,328662]
[1370,113063750.76000001,320998,0,0,112742752.76000001]
[1371,42940120.640000001,71790,0,0,42868330.640000001]
[1372,22622775.460000001,6088,0,0,22616687.460000001]
[1373,1763853,30125,0,0,1733728]
[1375,202113201.71000001,500935,0,0,201612266.71000001]
[1376,400555,30013,0,0,370542]
[1377,1186583,31767,0,0,1154816]
[1378,4151363,0,0,0,4151363]
[1379,5343395,36510,0,0,5306885]
[1381,15235260,58090,0,0,15177170]
[1383,26317156,156380,0,0,26160776]
[1384,1486542,55736,0,0,1430806]
[1385,373931695.55999994,1352183,0,0,372579512.55999994]
[1386,5727988,19371,0,0,5708617]
[1387,623771613.89999998,2203702,0,0,621567911.89999998]
[1399,717612,0,0,0,717612]
[1405,7874022,8218,0,0,7865804]
[1409,705456,0,0,0,705456]
[1410,2906697.37,7912,0,0,2898785.37]
[1411,11771219.68,16031,0,0,11755188.68]
[1412,1889701.9,0,0,0,1889701.9]
[1413,241591398.34000003,832148,0,0,240759250.34000003]
[1414,8208506,101029,0,0,8107477]
[1415,6844075,16155,0,0,6827920]
[1416,17314096.640000001,31461,0,0,17282635.640000001]
[1417,1820188,31124,0,0,1789064]
[1418,2742701,5808,0,0,2736893]
[1419,6745460,9586,0,0,6735874]
[1420,43675026.640000001,195163,0,0,43479863.640000001]
[1421,7899295.8200000003,52939,0,0,7846356.8200000003]
[1422,17017865.75,43703,0,0,16974162.75]
[1423,653223,0,0,0,653223]
[1424,25570384.57,96642,0,0,25473742.57]
[1425,9615542,24513,0,0,9591029]
[1426,9975373.1099999994,57580,0,0,9917793.1099999994]
[1427,28010783.300000001,224670,0,0,27786113.300000001]
[1428,44795060.339999996,121354,0,0,44673706.339999996]
[1429,1963541,1303,0,0,1962238]
[1430,46758601.339999996,122657,0,0,46635944.339999996]
[1431,4115641,0,0,0,4115641]
[1432,17278398.850000001,71934,0,0,17206464.850000001]
[1433,328662,0,0,0,328662]
[1434,113063750.76000001,320998,0,0,112742752.76000001]
[1435,42940120.640000001,71790,0,0,42868330.640000001]
[1436,22622775.460000001,6088,0,0,22616687.460000001]
[1437,1763853,30125,0,0,1733728]
[1439,202113201.71000001,500935,0,0,201612266.71000001]
[1440,400555,30013,0,0,370542]
[1441,1186583,31767,0,0,1154816]
[1442,4151363,0,0,0,4151363]
[1443,5343395,36510,0,0,5306885]
[1445,15235260,58090,0,0,15177170]
[1447,26317156,156380,0,0,26160776]
[1448,1486542,55736,0,0,1430806]
[1449,373931695.55999994,1352183,0,0,372579512.55999994]
[1450,5727988,19371,0,0,5708617]
[1456,623771613.89999998,2203702,0,0,621567911.89999998]
[1457,24628771.439999998,98529,0,0,24530242.439999998]
[1458,1820904,0,0,0,1820904]
[1461,4555,0,0,0,4555]
[1462,1825459,0,0,0,1825459]
[1463,1825459,0,0,0,1825459]
[1464,285260,0,0,0,285260]
[1467,585,0,0,0,585]
[1468,285845,0,0,0,285845]
[1469,285845,0,0,0,285845]
[1470,82499477.819999993,0,0,0,82499477.819999993]
[1473,1973468,0,0,0,1973468]
[1474,84472945.819999993,0,0,0,84472945.819999993]
[1475,84472945.819999993,0,0,0,84472945.819999993]
[1476,4909856,0,0,0,4909856]
[1479,98732,0,0,0,98732]
[1480,5008588,0,0,0,5008588]
[1481,5008588,0,0,0,5008588]
[1482,1367276613.25,0,0,0,1367276613.25]
[1485,7254879,0,0,0,7254879]
[1486,1374531492.25,0,0,0,1374531492.25]
[1487,1374531492.25,0,0,0,1374531492.25]
[1488,10834139,1337,0,0,10832802]
[1491,1465588,0,0,0,1465588]
[1492,12299727,1337,0,0,12298390]
[1493,13167827,1337,0,0,13166490]
[1494,1494797009.0699999,1337,0,0,1494795672.0699999]
[1497,10797807,0,0,0,10797807]
[1498,1505594816.0699999,1337,0,0,1505593479.0699999]
[1499,1506462916.0699999,1337,0,0,1506461579.0699999]
[1500,-1266594855.46,7007,0,0,-1266601862.46]
[1556,6158665302.0100002,38685066,0,0,6119980236.0100002]
[1569,7500419100.3000002,46222998,0,0,7454196102.3000002]
[1570,1318454314,2989928,0,0,1315464386]
[1583,1358983026.8500001,1311272,0,0,1357671754.8500001]
[1584,1432923189,6712387,0,0,1426210802]
[1597,1649693562.8000002,6642216,0,0,1643051346.8000002]
[1598,727228544,1931082,0,0,725297462]
[1611,851828843.54000008,1661592,0,0,850167251.54000008]
[1612,441349186,3863266,0,0,437485920]
[1625,466801129.44,3961795,0,0,462839334.44]
[1626,2221889838,1379760,0,0,2220510078]
[1639,2449242398.54,1386767,0,0,2447855631.54]
[1683,11916802642.279999,1632157,0,0,11915170485.279999]
[1684,1526534644.6700001,427265,0,0,1526107379.6700001]
[1685,1572734829.8000002,1570884,0,0,1571163945.8000002]
[1686,627257205.68000007,170908,0,0,627086297.68000007]
[1687,273184982.84000003,545259,0,0,272639723.84000003]
[1688,68420027.560000002,42725,0,0,68377302.560000002]
[1690,9526435,0,0,0,9526435]
[1691,336083725.00999999,3361526,0,0,332722199.00999999]
[1692,54786329.559999995,42725,0,0,54743604.559999995]
[1693,485207705.32999998,34186,0,0,485173519.32999998]
[1698,17635445174.939999,9259332,0,0,17626185842.939999]
[1699,5183810080.1099997,820569,0,0,5182989511.1099997]
[1700,855482885.44999993,214807,0,0,855268078.44999993]
[1701,876085790.13,836290,0,0,875249500.13]
[1702,377950810.68000001,85925,0,0,377864885.68000001]
[1703,166843496.93000001,267935,0,0,166575561.93000001]
[1704,45595914.100000001,21479,0,0,45574435.100000001]
[1706,1958956,0,0,0,1958956]
[1707,226643430.05000001,1667727,0,0,224975703.05000001]
[1708,37613606.009999998,21479,0,0,37592127.009999998]
[1709,251815893.64999998,17189,0,0,251798704.64999998]
[1714,8250719874.4499979,4656348,0,0,8246063526.4499979]
[1715,6732992562.170001,811588,0,0,6732180974.170001]
[1716,671051759.22000003,212458,0,0,670839301.22000003]
[1717,696649039.67000008,734594,0,0,695914445.67000008]
[1718,249306395,84983,0,0,249221412]
[1719,106341485.91000001,277324,0,0,106064161.91000001]
[1720,22824113.460000001,21246,0,0,22802867.460000001]
[1722,7567479,0,0,0,7567479]
[1723,109440294.95999999,1693799,0,0,107746495.95999999]
[1724,17172723.550000001,21246,0,0,17151477.550000001]
[1725,233391811.68000004,16997,0,0,233374814.68000004]
[1730,9384725301.4899998,4602984,0,0,9380122317.4899998]
[1731,5468522699.5782604,1012412,0,0,5467510287.5782604]
[1732,884735689.19574142,265029,0,0,884470660.19574142]
[1733,874727401.6945461,916365,0,0,873811036.6945461]
[1734,348079199.55578548,106012,0,0,347973187.55578548]
[1735,165094199.00204197,345987,0,0,164748212.00204197]
[1736,45604474.033277296,26503,0,0,45577971.033277296]
[1738,1491940,0,0,0,1491940]
[1739,225386866.002776,2112918,0,0,223273948.002776]
[1740,38198839.587277301,26503,0,0,38172336.587277301]
[1741,259572610.34719247,21202,0,0,259551408.34719247]
[1746,8532942065.0455084,5741962,0,0,8527200103.0455084]
[1747,12201515261.74826,1824000,0,0,12199691261.74826]
[1748,1555787448.4157414,477487,0,0,1555309961.4157414]
[1749,1571376441.3645461,1650959,0,0,1569725482.3645461]
[1750,597385594.55578566,190995,0,0,597194599.55578566]
[1751,271435684.91204202,623311,0,0,270812373.91204202]
[1752,68428587.493277282,47749,0,0,68380838.493277282]
[1754,9059419,0,0,0,9059419]
[1755,334827160.96277601,3806717,0,0,331020443.96277601]
[1756,55371563.137277298,47749,0,0,55323814.137277298]
[1757,492964422.02719253,38199,0,0,492926223.02719253]
[1762,17917667366.535511,10344946,0,0,17907322420.535511]
[1764,16924218,0,0,0,16924218]
[1765,4000000,0,0,0,4000000]
[1767,1000000,0,0,0,1000000]
[1772,21924218,0,0,0,21924218]
[1773,958017900,0,0,0,958017900]
[1774,50000,0,0,0,50000]
[1776,958067900,0,0,0,958067900]
[1778,80200000,0,0,0,80200000]
[1779,200350,0,0,0,200350]
[1781,1000000,0,0,0,1000000]
[1786,81400350,0,0,0,81400350]
[1787,1206439050,0,0,0,1206439050]
[1788,80000,0,0,0,80000]
[1790,1206519050,0,0,0,1206519050]
[1792,87024218,0,0,0,87024218]
[1793,4100000,0,0,0,4100000]
[1795,1000000,0,0,0,1000000]
[1800,92124218,0,0,0,92124218]
[1801,1558106900,0,0,0,1558106900]
[1802,50000,0,0,0,50000]
[1804,1558156900,0,0,0,1558156900]
[1806,10100000,0,0,0,10100000]
[1807,100350,0,0,0,100350]
[1809,1000000,0,0,0,1000000]
[1814,11200350,0,0,0,11200350]
[1815,606350050,0,0,0,606350050]
[1816,80000,0,0,0,80000]
[1818,606430050,0,0,0,606430050]
[1878,20972105712,33400000,0,0,20938705712]
[1879,4112600847,0,0,0,4112600847]
[1887,892197,0,0,0,892197]
[1889,158,0,0,0,158]
[1892,158,0,0,0,158]
[1894,99977,0,0,0,99977]
[1896,99977,0,0,0,99977]
[1897,792378,0,0,0,792378]
[1910,2437794,0,0,0,2437794]
[1911,465361192.52999997,34186,0,0,465327006.52999997]
[1912,1010592.1,0,0,0,1010592.1]
[1913,2509732,0,0,0,2509732]
[1916,468881516.63,34186,0,0,468847330.63]
[1918,1902417,0,0,0,1902417]
[1919,14237679,0,0,0,14237679]
[1921,465829365.52999997,34186,0,0,465795179.52999997]
[1922,5489945.1000000015,0,0,0,5489945.1000000015]
[1947,1266377224.05,815300,0,0,1265561924.05]
[1948,40341653585.32,214554508,0,0,40127099077.32]
[1949,2164509294.3800001,4604112,0,0,2159905182.3800001]
[1950,3252357949.3200002,20514670,0,0,3231843279.3200002]
[1951,978673734.38999999,0,0,0,978673734.38999999]
[1952,49188145867.650002,240488590,0,0,48947657277.650002]
[1953,15644953,0,0,0,15644953]
[1954,1440211076.3599999,90305,0,0,1440120771.3599999]
[1955,154897093.47000003,0,0,0,154897093.47000003]
[1956,204169065.22,451799,0,0,203717266.22]
[1957,76854245,0,0,0,76854245]
[1958,2982466565.9999995,542104,0,0,2981924461.9999995]
[1959,826989,0,0,0,826989]
[1960,152934606,0,0,0,152934606]
[1961,3885967,0,0,0,3885967]
[1962,89832747,0,0,0,89832747]
[1963,100908480,0,0,0,100908480]
[1964,1327949386,0,0,0,1327949386]
[1965,1281195188.05,815300,0,0,1280379888.05]
[1966,41628930055.68,214644813,0,0,41414285242.68]
[1967,2315520420.8499999,4604112,0,0,2310916308.8499999]
[1968,3366694267.54,20966469,0,0,3345727798.54]
[1969,954619499.3900001,0,0,0,954619499.3900001]
[1970,50842663047.650009,241030694,0,0,50601632353.650009]
[1972,15529091449.540001,56599140,0,0,15472492309.540001]
[1973,1005882395.1700001,3774989,0,0,1002107406.1700001]
[1974,2519478594.6199999,20366595,0,0,2499111999.6199999]
[1975,759351754.19000006,0,0,0,759351754.19000006]
[1976,19917533509.360001,80740724,0,0,19836792785.360001]
[1978,965097850.87,4292896,0,0,960804954.87]
[1979,96669103.730000004,230206,0,0,96438897.730000004]
[1980,182802621.44999999,599874,0,0,182202747.44999999]
[1981,65158203.350000001,0,0,0,65158203.350000001]
[1982,1318502879.95,5122976,0,0,1313379903.95]
[1984,63008512,0,0,0,63008512]
[1985,3904355,0,0,0,3904355]
[1986,71357899,0,0,0,71357899]
[1987,95916570,0,0,0,95916570]
[1988,235773562,0,0,0,235773562]
[1990,16431180788.409998,60892036,0,0,16370288752.409998]
[1991,1098647143.8999999,4005195,0,0,1094641948.8999999]
[1992,2630923317.0700002,20966469,0,0,2609956848.0700002]
[1993,728593387.53999996,0,0,0,728593387.53999996]
[1994,21000262827.310005,85863700,0,0,20914399127.310005]
[1995,1281195188.05,815300,0,0,1280379888.05]
[1996,25197749267.27,153752777,0,0,25043996490.27]
[1997,1216873276.95,598917,0,0,1216274359.95]
[1998,735770950.47000003,0,0,0,735770950.47000003]
[1999,226026111.84999996,0,0,0,226026111.84999996]
[2000,29842400220.34,155166994,0,0,29687233226.34]
[2020,231691953.53,0,0,0,231691953.53]
[2027,439659857.94000006,597112,0,0,439062745.94000006]
[2028,295490894,139422,0,0,295351472]
[2030,3221537,0,0,0,3221537]
[2031,93915,0,0,0,93915]
[2032,5578563,0,0,0,5578563]
[2033,93915,0,0,0,93915]
[2041,868100,0,0,0,868100]
[2044,348701908,0,0,0,348701908]
[2045,22886673,0,0,0,22886673]
[2374,245128508,2770575,0,0,242357933]
[2376,205831719,1311272,0,0,204520447]
[2414,167255841,1661592,0,0,165594249]
[2416,145891999,1921431,0,0,143970568]
[2443,1036906569,4884589,0,0,1032021980]
[2474,1239661355,1386767,0,0,1238274588]
[2490,14294675241.91,5803010,0,0,14288872231.91]
[2492,6430140893.0099993,52694565,0,0,6377446328.0099993]
[2493,2058525513.9400001,17308989,0,0,2041216524.9400001]
[2494,22796281900.859997,75806564,0,0,22720475336.859997]
[2495,14541444952.520002,42137763,0,0,14499307189.520002]
[2496,6084679643.1100006,24676692,0,0,6060002951.1100006]
[2497,156879339,717643,0,0,156161696]
[2498,740016930.94000006,736534,0,0,739280396.94000006]
[2499,34149394,0,0,0,34149394]
[2500,21557170259.57,68268632,0,0,21488901627.57]
[2501,1239111641.29,7537932,0,0,1231573709.29]
[2502,1276757,0,0,0,1276757]
[2503,1713365072.7600002,481989,0,0,1712883083.7600002]
[2505,546116589,5000000,0,0,541116589]
[2506,7855997,0,0,0,7855997]
[2507,2268453729.7600002,5481989,0,0,2262971740.7600002]
[2508,2173270922.9099998,7160645,0,0,2166110277.9099998]
[2509,1877916,0,0,0,1877916]
[2510,5672478,0,0,0,5672478]
[2511,465579,0,0,0,465579]
[2512,2181286895.9099998,7160645,0,0,2174126250.9099998]
[2513,87166833.850000009,-1678656,0,0,88845489.850000009]
[2514,1692437,0,0,0,1692437]
[2530,689509105.20000005,170908,0,0,689338197.20000005]
[2532,683785411.53999996,4404936,0,0,679380475.53999996]
[2533,1708570,0,0,0,1708570]
[2534,1375078458.74,4575844,0,0,1370502614.74]
[2535,1159582500.1999998,4845334,0,0,1154737166.1999998]
[2536,1465697,0,0,0,1465697]
[2537,15567144,0,0,0,15567144]
[2538,16375090,0,0,0,16375090]
[2539,1192990431.1999998,4845334,0,0,1188145097.1999998]
[2540,182088027.53999999,-269490,0,0,182357517.53999999]
[2541,-244177,0,0,0,-244177]
[2542,633010474.33999991,2302231,0,0,630708243.33999991]
[2543,13223355,0,0,0,13223355]
[2544,2166556,0,0,0,2166556]
[2545,648400385.33999991,2302231,0,0,646098154.33999991]
[2546,241591398.34000003,832148,0,0,240759250.34000003]
[2547,373931695.55999994,1352183,0,0,372579512.55999994]
[2548,5727988,19371,0,0,5708617]
[2551,623771613.89999998,2203702,0,0,621567911.89999998]
[2552,24628771.439999998,98529,0,0,24530242.439999998]
[2553,37324,0,0,0,37324]
[2569,1804975926.8000002,1570887,0,0,1803405039.8000002]
[2570,342932209,3193300,0,0,339738909]
[2571,2196831903.8000002,4764187,0,0,2192067716.8000002]
[2572,139983,0,0,0,139983]
[2573,2987294683,4834358,0,0,2982460325]
[2574,2987434666,4834358,0,0,2982600308]
[2575,-790602762.20000005,-70171,0,0,-790532591.20000005]
[2576,-771344,0,0,0,-771344]
[2594,183439983.61000001,8344,0,0,183431639.61000001]
[2595,55672630,0,0,0,55672630]
[2596,755447,0,0,0,755447]
[2597,239868060.61000001,8344,0,0,239859716.61000001]
[2598,1505594816.0699999,1337,0,0,1505593479.0699999]
[2599,868100,0,0,0,868100]
[2600,1506462916.0699999,1337,0,0,1506461579.0699999]
[2601,-1266594855.46,7007,0,0,-1266601862.46]
[2602,-138403,0,0,0,-138403]
[2657,72516314,618602,0,0,71897712]
[2658,16368267,119543,0,0,16248724]
[2659,4964028,8756,0,0,4955272]
[2660,1459349,22497,0,0,1436852]
[2661,65718,1310,0,0,64408]
[2662,422099,0,0,0,422099]
[2663,96006143,770708,0,0,95235435]
[2664,3507910,27805,0,0,3480105]
[2665,3507910,27805,0,0,3480105]
[2696,289340251,0,0,0,289340251]
[2697,9311959,0,0,0,9311959]
[2699,13646687,0,0,0,13646687]
[2701,3415270,0,0,0,3415270]
[2702,403684,0,0,0,403684]
[2705,47069,0,0,0,47069]
[2708,2365437,0,0,0,2365437]
[2711,3316000,0,0,0,3316000]
[2728,207967904.41,597112,0,0,207370792.41]
[2729,208274220.41,597112,0,0,207677108.41]
[2731,30974292,0,0,0,30974292]
[2733,9299700,0,0,0,9299700]
[2735,30974292,0,0,0,30974292]
[2736,314443,0,0,0,314443]
[2737,19,0,0,0,19]
[2738,55322,0,0,0,55322]
[2739,10083,0,0,0,10083]
[2740,47171,0,0,0,47171]
[2741,1450000,0,0,0,1450000]
[2744,1877916,0,0,0,1877916]
[2745,12043528,0,0,0,12043528]
[2752,1949430,0,0,0,1949430]
[2756,287290136,0,0,0,287290136]
[2758,1949430,0,0,0,1949430]
[2759,37664,0,0,0,37664]
[2760,729,0,0,0,729]
[2761,174176,0,0,0,174176]
[2762,12729286,0,0,0,12729286]
[2764,3128,0,0,0,3128]
[2766,1250000,0,0,0,1250000]
[2767,2837858,0,0,0,2837858]
[2769,2837858,0,0,0,2837858]
[2775,1465697,0,0,0,1465697]
[2776,15567144,0,0,0,15567144]
[2779,3307350,0,0,0,3307350]
[2787,3583747,0,0,0,3583747]
[2793,105042,0,0,0,105042]
[2794,3538042.54,0,0,0,3538042.54]
[2795,11717,0,0,0,11717]
[2797,10161469,0,0,0,10161469]
[2799,1106319,0,0,0,1106319]
[2801,30260289,0,0,0,30260289]
[2803,1061757475,0,0,0,1061757475]
[2819,29552046,32938,0,0,29519108]
[2824,476588747,0,0,0,476588747]
[2826,-28997,0,0,0,-28997]
[2827,2272139796.5100002,435592,0,0,2271704204.5100002]
[2831,38351905,0,0,0,38351905]
[2833,2055945,0,0,0,2055945]
[2834,252875061.57000002,103105,0,0,252771956.57000002]
[2847,16329068,21058,0,0,16308010]
[2849,17128910,21058,0,0,17107852]
[2850,97680018,0,0,0,97680018]
[2851,2157330868.5900002,414534,0,0,2156916334.5900002]
[2852,2272139796.5900002,435592,0,0,2271704204.5900002]
[2853,207332785.57000002,103105,0,0,207229680.57000002]
[2855,207332785.57000002,103105,0,0,207229680.57000002]
[2856,252870861.57000002,103105,0,0,252767756.57000002]
[2886,910,0,0,0,910]
[2888,74590518,0,0,0,74590518]
[2889,118626014.41,7574,0,0,118618440.41]
[2890,136372,0,0,0,136372]
[2891,2204583,0,0,0,2204583]
[2892,1206355,0,0,0,1206355]
[2893,11204062,589538,0,0,10614524]
[2894,19978808,0,0,0,19978808]
[2895,195518279.53,0,0,0,195518279.53]
[2896,175788,0,0,0,175788]
[2897,10350179,0,0,0,10350179]
[2898,584025,0,0,0,584025]
[2899,5084874,0,0,0,5084874]
[2912,94569326,0,0,0,94569326]
[2913,314144293.94,7574,0,0,314136719.94]
[2914,312160,0,0,0,312160]
[2915,12554762,0,0,0,12554762]
[2916,1790380,0,0,0,1790380]
[2917,16288936,589538,0,0,15699398]
[2918,870733,0,0,0,870733]
[2919,828936,0,0,0,828936]
[2920,1368312,0,0,0,1368312]
[2925,2457130,0,0,0,2457130]
[2926,948503,0,0,0,948503]
[2927,1629374,0,0,0,1629374]
[2928,5050951,0,0,0,5050951]
[2929,7449484,0,0,0,7449484]
[2931,14909,0,0,0,14909]
[2933,213942,0,0,0,213942]
[2934,930170,0,0,0,930170]
[2935,1115415,0,0,0,1115415]
[2937,17023,0,0,0,17023]
[2939,775250,0,0,0,775250]
[2946,5981121,0,0,0,5981121]
[2947,8564899,0,0,0,8564899]
[2949,31932,0,0,0,31932]
[2951,989192,0,0,0,989192]
[2994,155581382.56,3422254,0,0,152159128.56]
[2995,36357165.439999998,1083092,0,0,35274073.439999998]
[2996,21506939,533849,0,0,20973090]
[2997,47202360.100000001,144081,0,0,47058279.100000001]
[2998,5580026.2699999996,0,0,0,5580026.2699999996]
[2999,443445,0,0,0,443445]
[3001,271010638.37,5183276,0,0,265827362.37]
[3003,7566508.8600000003,133082,0,0,7433426.8600000003]
[3004,7566508.8600000003,133082,0,0,7433426.8600000003]
[3010,40766271,0,0,0,40766271]
[3011,4771805,0,0,0,4771805]
[3017,13890615,0,0,0,13890615]
[3018,444418,0,0,0,444418]
[3021,2656880773,0,0,0,2656880773]
[3022,7932465,0,0,0,7932465]
[3100,7462720,0,0,0,7462720]
[3109,7462720,0,0,0,7462720]
[3164,92668658.310000002,42725,0,0,92625933.310000002]
[3165,92668658.310000002,42725,0,0,92625933.310000002]
[3166,92668658.310000002,42725,0,0,92625933.310000002]
[3167,33869368,0,0,0,33869368]
[3168,492689946,0,0,0,492689946]
[3169,123178562,0,0,0,123178562]
[3170,391324546,0,0,0,391324546]
[3171,101365400,0,0,0,101365400]
[3172,1340477041.29,7537932,0,0,1332939109.29]
[3173,21280735,0,0,0,21280735]
[3174,418035742,0,0,0,418035742]
[3175,88363426,0,0,0,88363426]
[3176,466366300,0,0,0,466366300]
[3177,-48330558,0,0,0,-48330558]
[3178,38836275.850000001,-1678656,0,0,40514931.850000001]
[3190,14870822,0,0,0,14870822]
[3191,60153160,0,0,0,60153160]
[3192,10210782,0,0,0,10210782]
[3193,117396711,0,0,0,117396711]
[3194,-57243551,0,0,0,-57243551]
[3195,124844476.53999999,-269490,0,0,125113966.53999999]
[3197,833358,0,0,0,833358]
[3198,47510,0,0,0,47510]
[3199,47510,0,0,0,47510]
[3200,785848,0,0,0,785848]
[3201,25414619.439999998,98529,0,0,25316090.439999998]
[3212,172726040,0,0,0,172726040]
[3213,3093694288,0,0,0,3093694288]
[3214,1798259672,0,0,0,1798259672]
[3215,2085549808,0,0,0,2085549808]
[3216,1008144480,0,0,0,1008144480]
[3217,217541717.79999998,-70171,0,0,217611888.79999998]
[3234,112195370,0,0,0,112195370]
[3235,1560676727,0,0,0,1560676727]
[3236,37519303,0,0,0,37519303]
[3237,66590908,0,0,0,66590908]
[3238,1494085819,0,0,0,1494085819]
[3239,227490963.53999999,7007,0,0,227483956.53999999]
[3255,1488458,0,0,0,1488458]
[3256,323868256,0,0,0,323868256]
[3257,418001221,0,0,0,418001221]
[3258,-94132965,0,0,0,-94132965]
[3259,-1464306.6900000013,42725,0,0,-1507031.6900000013]
[3260,2256425503,371809,0,0,2256053694]
[3261,49690,0,0,0,49690]
[3262,2255010886.3099999,414534,0,0,2254596352.3099999]
[3305,1900301857.5799999,5058287,0,0,1895243570.5799999]
[3306,18549915.539999999,0,0,0,18549915.539999999]
[3307,451035594.07999998,1263178,0,0,449772416.07999998]
[3308,3943165.91,0,0,0,3943165.91]
[3309,82769563.00999999,7975,0,0,82761588.00999999]
[3310,2109903,0,0,0,2109903]
[3311,20241161.149999999,59490,0,0,20181671.149999999]
[3312,339230,0,0,0,339230]
[3313,3096769,0,0,0,3096769]
[3314,94699,0,0,0,94699]
[3315,61381968,0,0,0,61381968]
[3316,2966979,0,0,0,2966979]
[3319,2524153535.8200002,6511080,0,0,2517642455.8200002]
[3320,28028800.449999999,0,0,0,28028800.449999999]
[3326,104177180.84999999,265577,0,0,103911603.84999999]
[3327,93712044.590000004,277407,0,0,93434637.590000004]
[3328,763978,0,0,0,763978]
[3329,104177180.84999999,265577,0,0,103911603.84999999]
[3330,93712044.590000004,277407,0,0,93434637.590000004]
[3331,763978,0,0,0,763978]
[3344,12940252,0,0,0,12940252]
[3345,1116071,0,0,0,1116071]
[3347,75372,0,0,0,75372]
[3350,6379387847.3199997,43619272,0,0,6335768575.3199997]
[3353,1157395148.2,1364915,0,0,1156030233.2]
[3356,1402570813,5107342,0,0,1397463471]
[3358,694514031.44000006,1738477,0,0,692775554.44000006]
[3361,391362208.50999999,3411120,0,0,387951088.50999999]
[3364,2156084898,1386767,0,0,2154698131]
[3366,1707673210.51,402654,0,0,1707270556.51]
[3374,209422340.56999999,103105,0,0,209319235.56999999]
[3385,302610041.5,1388972,0,0,301221069.5]
[3386,178715504.63,681469,0,0,178034035.63]
[3387,123894536.86999999,707503,0,0,123187033.86999999]
[3388,185849381.29533258,882529,0,0,184966852.29533258]
[3389,309743918.16533262,1590032,0,0,308153886.16533262]
[3390,953569586,0,0,0,953569586]
[3391,1082582720.8200002,0,0,0,1082582720.8200002]
[3392,978241833,0,0,0,978241833]
[3393,1057910473.8199999,0,0,0,1057910473.8199999]
[3398,1057910473.8199999,0,0,0,1057910473.8199999]
[3421,63189,0,0,0,63189]
[3422,13644,0,0,0,13644]
[3423,277514.11,0,0,0,277514.11]
[3424,110678,0,0,0,110678]
[3425,103294,0,0,0,103294]
[3427,571622.11,0,0,0,571622.11]
[3429,1738,0,0,0,1738]
[3431,85000,0,0,0,85000]
[3432,9154948,0,0,0,9154948]
[3458,8781382,0,0,0,8781382]
[3469,895457,0,0,0,895457]
[3470,1559255,0,0,0,1559255]
[3471,10866998,0,0,0,10866998]
[3473,14441016,0,0,0,14441016]
[3485,249498742.78999999,876417,0,0,248622325.78999999]
[3487,11024911,32939,0,0,10991972]
[3489,88053333,0,0,0,88053333]
[3490,17,0,0,0,17]
[3491,348798490.78999996,909356,0,0,347889134.78999996]
[3500,-223,0,0,0,-223]
[3501,12489342,21058,0,0,12468284]
[3504,29592076,21058,0,0,29571018]
[3505,74160835,0,0,0,74160835]
[3506,245045579.59,888298,0,0,244157281.59]
[3507,348798490.59000003,909356,0,0,347889134.59000003]
[3508,58250623.359999999,42725,0,0,58207898.359999999]
[3509,500364,0,0,0,500364]
[3510,58750987.359999999,42725,0,0,58708262.359999999]
[3511,165652408.05000001,0,0,0,165652408.05000001]
[3512,238830,0,0,0,238830]
[3513,741730,0,0,0,741730]
[3514,166632968.05000001,0,0,0,166632968.05000001]
[3515,-107881980.69,42725,0,0,-107924705.69]
[3516,4557,0,0,0,4557]
[3518,98166880,0,0,0,98166880]
[3519,3675955,0,0,0,3675955]
[3521,49338,0,0,0,49338]
[3522,2623139,0,0,0,2623139]
[3523,111515424,0,0,0,111515424]
[3524,848251,0,0,0,848251]
[3525,1048505,0,0,0,1048505]
[3526,110466919,0,0,0,110466919]
[3527,2584938.3100000005,42725,0,0,2542213.3100000005]
[3528,316422681,845573,0,0,315577108]
[3529,238630,0,0,0,238630]
[3530,319246249.31,888298,0,0,318357951.31]
[3556,275252,0,0,0,275252]
[3557,788477,0,0,0,788477]
[3558,1063729,0,0,0,1063729]
[3559,22247,0,0,0,22247]
[3560,1085976,0,0,0,1085976]
[3561,1085976,0,0,0,1085976]
[3563,42747,0,0,0,42747]
[3564,131500,0,0,0,131500]
[3565,174247,0,0,0,174247]
[3567,174247,0,0,0,174247]
[3568,174247,0,0,0,174247]
[3570,17261804.780000001,0,0,0,17261804.780000001]
[3571,11634264,0,0,0,11634264]
[3572,28896068.780000001,0,0,0,28896068.780000001]
[3573,1530958,0,0,0,1530958]
[3574,30427026.780000001,0,0,0,30427026.780000001]
[3575,30427026.780000001,0,0,0,30427026.780000001]
[3577,229714,0,0,0,229714]
[3578,789274,0,0,0,789274]
[3579,1018988,0,0,0,1018988]
[3581,1018988,0,0,0,1018988]
[3582,1018988,0,0,0,1018988]
[3584,96689869.049999997,0,0,0,96689869.049999997]
[3585,35203020.219999999,0,0,0,35203020.219999999]
[3586,131892889.27,0,0,0,131892889.27]
[3588,131892889.27,0,0,0,131892889.27]
[3589,131892889.27,0,0,0,131892889.27]
[3591,550497,0,0,0,550497]
[3592,337505,0,0,0,337505]
[3593,888002,0,0,0,888002]
[3594,26902,0,0,0,26902]
[3595,914904,0,0,0,914904]
[3599,1895464,0,0,0,1895464]
[3607,115158083.83,0,0,0,115158083.83]
[3608,48914217.219999999,0,0,0,48914217.219999999]
[3609,164072301.05000001,0,0,0,164072301.05000001]
[3610,1580107,0,0,0,1580107]
[3611,165652408.05000001,0,0,0,165652408.05000001]
[3617,166632968.05000001,0,0,0,166632968.05000001]
[3620,-107881980.69,42725,0,0,-107924705.69]
[3637,52950,0,0,0,52950]
[3638,147304,0,0,0,147304]
[3641,52950,0,0,0,52950]
[3642,147304,0,0,0,147304]
[3656,716428,0,0,0,716428]
[3660,1739617,0,0,0,1739617]
[3661,2520532,0,0,0,2520532]
[3662,1739617,0,0,0,1739617]
[3663,2520532,0,0,0,2520532]
[3664,36774589.710000001,42725,0,0,36731864.710000001]
[3665,28893788.710000001,21479,0,0,28872309.710000001]
[3666,7880801,21246,0,0,7859555]
[3667,27790682.593277302,26502,0,0,27764180.593277302]
[3668,35671483.593277298,47748,0,0,35623735.593277298]
[3669,228954581.96999997,0,0,0,228954581.96999997]
[4013,102425,0,0,0,102425]
[4014,291264,0,0,0,291264]
[4015,66473,0,0,0,66473]
[4016,3210,0,0,0,3210]
[4017,1754,0,0,0,1754]
[4019,465126,0,0,0,465126]
[4020,442158,0,0,0,442158]
[4021,46296,0,0,0,46296]
[4022,2238334,0,0,0,2238334]
[4023,27086,0,0,0,27086]
[4026,2753874,0,0,0,2753874]
[4041,202,0,0,0,202]
[4042,425521815,0,0,0,425521815]
[4043,202,0,0,0,202]
[4044,19309516,0,0,0,19309516]
[4046,406212299,0,0,0,406212299]
[4048,7888082.1600000001,0,0,0,7888082.1600000001]
[4050,414100381.16000003,0,0,0,414100381.16000003]
[4052,6473039168.8000002,20808522,0,29518338,6422712308.8000002]
[4053,8409771,0,0,0,8409771]
[4055,829841,0,0,0,829841]
[4057,19598113,0,0,0,19598113]
[4061,29269321069.660004,96615086,0,29518338,29143187645.660004]
[4062,2276863500.7600002,5481989,0,0,2271381511.7600002]
[4063,2196831903.8000002,4764187,0,0,2192067716.8000002]
[4064,1375908299.74,4575844,0,0,1371332455.74]
[4065,648400385.33999991,2302231,0,0,646098154.33999991]
[4066,259466173.61000001,8344,0,0,259457829.61000001]
[4067,92668658.310000002,42725,0,0,92625933.310000002]
[4069,58750987.359999999,42725,0,0,58708262.359999999]
[4070,6473039168.8000002,20808522,0,29518338,6422712308.8000002]
[4071,8409771,0,0,0,8409771]
[4072,829841,0,0,0,829841]
[4073,19598113,0,0,0,19598113]
[4075,28030209428.369999,89077154,0,29518338,27911613936.369999]
[4076,2189696666.9099998,7160645,0,0,2182536021.9099998]
[4077,2987434666,4834358,0,0,2982600308]
[4078,1193820272.1999998,4845334,0,0,1188974938.1999998]
[4079,623771613.89999998,2203702,0,0,621567911.89999998]
[4080,1526061029.0699999,1337,0,0,1526059692.0699999]
[4083,166632968.05000001,0,0,0,166632968.05000001]
[4095,183847,0,0,0,183847]
[4096,183847,0,0,0,183847]
[4104,61745,0,0,0,61745]
[4105,61745,0,0,0,61745]
[4110,21557256289,30220000,0,0,21527036289]
[4111,19912031421,23577784,0,0,19888453637]
[4112,3256361735,3180000,0,0,3253181735]
[4116,-271088535,0,0,0,-271088535]
[4128,213723,0,0,0,213723]
[4138,1586397,0,0,0,1586397]
[4139,119567,0,0,0,119567]
[4140,261062,0,0,0,261062]
[4141,2357026,0,0,0,2357026]
[4142,2357026,0,0,0,2357026]
[4149,14776035,0,0,0,14776035]
[4150,14776035,0,0,0,14776035]
[4166,1032831,0,0,0,1032831]
[4204,2090217.5980000007,1910,0,0,2088307.5980000007]
[4205,365132.63799999992,500,0,0,364632.63799999992]
[4206,167378.72269999998,200,0,0,167178.72269999998]
[4207,2622742,2610,0,0,2620132]
[4208,11966241857,49610396,0,0,11916631461]
[4209,7677204,0,0,0,7677204]
[4237,2321860,0,0,0,2321860]
[4239,1742547,0,0,0,1742547]
[4240,154636,0,0,0,154636]
[4241,1785941,0,0,0,1785941]
[4242,489371,0,0,0,489371]
[4243,30000,0,0,0,30000]
[4244,392633,0,0,0,392633]
[4246,144854,0,0,0,144854]
[4248,273421,0,0,0,273421]
[4251,142381,0,0,0,142381]
[4255,8557,0,0,0,8557]
[4256,26234,0,0,0,26234]
[4266,219465,0,0,0,219465]
[4267,2982381,0,0,0,2982381]
[4268,61379,0,0,0,61379]
[4269,25000,0,0,0,25000]
[4270,18764922,292061,0,0,18472861]
[4271,16880299,0,0,0,16880299]
[4274,28,0,0,0,28]
[4275,531755,0,0,0,531755]
[4277,1304,0,0,0,1304]
[4279,198257,0,0,0,198257]
[4283,9672877,0,0,0,9672877]
[4290,33097,0,0,0,33097]
[4297,39535882.890000001,95345,0,0,39440537.890000001]
[4298,3802,0,0,0,3802]
[4299,86561,0,0,0,86561]
[4301,108331588.93000001,77569,0,0,108254019.93000001]
[4303,287900,0,0,0,287900]
[4304,9775,0,0,0,9775]
[4311,287900,0,0,0,287900]
[4318,2156985.77,0,0,0,2156985.77]
[4319,14427,0,0,0,14427]
[4330,150416,0,0,0,150416]
[4334,2324191.77,0,0,0,2324191.77]
[4335,14427,0,0,0,14427]
[4346,15319632,845844,0,0,14473788]
[4348,160578,0,0,0,160578]
[4349,35211,0,0,0,35211]
[4350,21063617,845844,0,0,20217773]
[4352,161882,0,0,0,161882]
[4353,35370,0,0,0,35370]
[4354,25145647,0,0,0,25145647]
[4355,48571,0,0,0,48571]
[4356,2518,0,0,0,2518]
[4357,72031016.99000001,520248,0,0,71510768.99000001]
[4360,18747,0,0,0,18747]
[4373,48923768,0,0,0,48923768]
[4376,49929.508999999976,50,0,0,49879.508999999976]
[4380,561491,0,0,0,561491]
[4382,48923768,0,0,0,48923768]
[4385,4244,0,0,0,4244]
[4386,175640,0,0,0,175640]
[4700,4862869,0,0,0,4862869]
[4731,31711636,556989,0,0,31154647]
[4732,1109824,0,0,0,1109824]
[4733,6560200,3193300,0,0,3366900]
[4734,31316,0,0,0,31316]
[4735,3471,0,0,0,3471]
[4736,15570530,0,0,0,15570530]
[4740,103241,0,0,0,103241]
[4744,19810593,0,0,0,19810593]
[4745,19692,0,0,0,19692]
[4752,5,0,0,0,5]
[4791,31127021,3787685,0,0,27339336]
[4792,175486,0,0,0,175486]
[4794,102,0,0,0,102]
[4803,19564,0,0,0,19564]
[4804,220938,0,0,0,220938]
[4813,18449707,0,0,0,18449707]
[4814,651682,0,0,0,651682]
[4821,1988407,0,0,0,1988407]
[4824,279,0,0,0,279]
[4854,2686,0,0,0,2686]
[4855,4498,0,0,0,4498]
[4857,8752,0,0,0,8752]
[4883,335625,0,0,0,335625]
[4889,9775,0,0,0,9775]
[4934,479098511861,95497393,0,0,479003014468]
[4935,46665308965.365059,13178640.233999999,0,0,46652130325.131058]
[4936,21557256289,30220000,0,0,21527036289]
[4939,25000,0,0,0,25000]
[4951,60484612,0,0,0,60484612]
[4952,213013589,0,0,0,213013589]
[4953,685225,0,0,0,685225]
[4961,130408311,0,0,0,130408311]
[4962,39896536,0,0,0,39896536]
[4963,103878579,0,0,0,103878579]
[4965,28556306.710000001,42725,0,0,28513581.710000001]
[4966,1661788,0,0,0,1661788]
[4995,122606950,0,0,0,122606950]
[5000,12252083920.279999,1632157,0,0,12250451763.279999]
[5002,480103035.32999998,34186,0,0,480068849.32999998]
[5003,202,0,0,0,202]
[5004,172919,0,0,0,172919]
[5005,12760916383.32,1709068,0,0,12759207315.32]
[5006,1347483.27,0,0,0,1347483.27]
[5007,1456414,0,0,0,1456414]
[5008,429139083.54000002,2507147,0,0,426631936.54000002]
[5009,18579713,14841,0,0,18564872]
[5010,450522693.80999994,2521988,0,0,448000705.80999994]
[5011,17250859,200848,0,0,17050011]
[5012,4092120,0,0,0,4092120]
[5013,3305114.52,0,0,0,3305114.52]
[5014,16089575,0,0,0,16089575]
[5015,416252,0,0,0,416252]
[5016,668152,0,0,0,668152]
[5017,94779,0,0,0,94779]
[5018,287538,0,0,0,287538]
[5020,4219602,20000,0,0,4199602]
[5021,25169238,0,0,0,25169238]
[5022,351167,0,0,0,351167]
[5023,3645479,0,0,0,3645479]
[5024,2360,0,0,0,2360]
[5025,615343,0,0,0,615343]
[5026,76877945.520000011,220848,0,0,76657097.520000011]
[5027,92393570.680000007,535526,0,0,91858044.680000007]
[5028,-944805,0,0,0,-944805]
[5029,91448765.680000007,535526,0,0,90913239.680000007]
[5030,2876457,0,0,0,2876457]
[5031,36610244,0,0,0,36610244]
[5032,8054753,0,0,0,8054753]
[5033,4351472.91,0,0,0,4351472.91]
[5034,14131487,103358,0,0,14028129]
[5035,202573879.63,103358,0,0,202470521.63]
[5036,20707284.780000001,18191,0,0,20689093.780000001]
[5037,3169823,73017,0,0,3096806]
[5038,69031493,0,0,0,69031493]
[5039,4895864,0,0,0,4895864]
[5040,18307977,0,0,0,18307977]
[5041,116112441.78,91208,0,0,116021233.78]
[5042,97974708.289999992,0,0,0,97974708.289999992]
[5043,928974,0,0,0,928974]
[5044,668033,0,0,0,668033]
[5045,2680360,0,0,0,2680360]
[5046,2101789,0,0,0,2101789]
[5047,70650,0,0,0,70650]
[5048,34664,0,0,0,34664]
[5049,126647,0,0,0,126647]
[5050,2472347,0,0,0,2472347]
[5051,107058172.29000001,0,0,0,107058172.29000001]
[5052,11025312,0,0,0,11025312]
[5053,23642234.25,0,0,0,23642234.25]
[5054,12034366,0,0,0,12034366]
[5055,39914463.239999995,1184,0,0,39913279.239999995]
[5056,2231649,0,0,0,2231649]
[5057,46485943,0,0,0,46485943]
[5058,199097735.38999999,619830,0,0,198477905.38999999]
[5059,489164959.88,621014,0,0,488543945.88]
[5060,14294675241.91,5803010,0,0,14288872231.91]
[5061,10335828,0,0,0,10335828]
[5062,2447361,0,0,0,2447361]
[5063,157063,0,0,0,157063]
[5064,12940252,0,0,0,12940252]
[5065,5288907211.04,44295536,0,0,5244611675.04]
[5066,2891798,0,0,0,2891798]
[5071,5312237123.04,44295536,0,0,5267941587.04]
[5072,143988242,1432902,0,0,142555340]
[5073,74146985.340000004,223842,0,0,73923143.340000004]
[5074,102700466.7,271782,0,0,102428684.7]
[5076,49465577.729999997,679016,0,0,48786561.729999997]
[5078,6507956,97470,0,0,6410486]
[5081,4501046,147075,0,0,4353971]
[5086,381583694.76999998,2852087,0,0,378731607.76999998]
[5087,1140963,0,0,0,1140963]
[5091,17250525,-3069,0,0,17253594]
[5092,161985,0,0,0,161985]
[5100,21557001,-3069,0,0,21560070]
[5102,82862094,22414,0,0,82839680]
[5103,451518,0,0,0,451518]
[5104,83313612,22414,0,0,83291198]
[5106,7232853.2000000002,57165,0,0,7175688.2000000002]
[5107,18605581,25855,0,0,18579726]
[5110,3605207,0,0,0,3605207]
[5114,296180,0,0,0,296180]
[5116,48843314,0,0,0,48843314]
[5117,49139494,0,0,0,49139494]
[5120,75580,0,0,0,75580]
[5126,12813,0,0,0,12813]
[5133,8861289,180314,0,0,8680975]
[5135,388407799,4707274,0,0,383700525]
[5138,830080,0,0,0,830080]
[5139,2669,0,0,0,2669]
[5153,1117903769.9699998,8399029,0,0,1109504740.9699998]
[5162,6430140893.0099993,52694565,0,0,6377446328.0099993]
[5163,14097406,0,0,0,14097406]
[5164,14433031,0,0,0,14433031]
[5169,48134935,0,0,0,48134935]
[5171,68048769,0,0,0,68048769]
[5172,16790,0,0,0,16790]
[5178,428075709.91000003,2410674,0,0,425665035.91000003]
[5179,1757513,0,0,0,1757513]
[5180,131833079.70999999,874343,0,0,130958736.70999999]
[5181,3705697,76492,0,0,3629205]
[5182,10003623,171862,0,0,9831761]
[5185,599323326.62,3999737,0,0,595323589.62]
[5186,620751854,6316668,0,0,614435186]
[5187,2123307,138,0,0,2123169]
[5194,424331,0,0,0,424331]
[5195,5212230,0,0,0,5212230]
[5199,640179791,6316806,0,0,633862985]
[5213,10130134.620000001,66181,0,0,10063953.620000001]
[5214,3476037,0,0,0,3476037]
[5217,349820359.12,1593126,0,0,348227233.12]
[5218,38023088,6448,0,0,38016640]
[5219,47137,0,0,0,47137]
[5225,401695012.74000001,1665755,0,0,400029257.74000001]
[5240,5748521,0,0,0,5748521]
[5243,15421398,0,0,0,15421398]
[5249,1577535,0,0,0,1577535]
[5251,1331582,0,0,0,1331582]
[5252,54013,0,0,0,54013]
[5254,1851738,0,0,0,1851738]
[5256,1650086,0,0,0,1650086]
[5259,1976043713.9400001,17308989,0,0,1958734724.9400001]
[5265,2058525513.9400001,17308989,0,0,2041216524.9400001]
[5266,22796281900.859997,75806564,0,0,22720475336.859997]
[5267,1515792124.6700001,427265,0,0,1515364859.6700001]
[5269,8189083,0,0,0,8189083]
[5270,145750,0,0,0,145750]
[5272,2296059,0,0,0,2296059]
[5273,1526423016.6700001,427265,0,0,1525995751.6700001]
[5274,224567.61,0,0,0,224567.61]
[5275,208542,0,0,0,208542]
[5276,79902948,0,0,0,79902948]
[5277,990609.7,0,0,0,990609.7]
[5278,81326667.310000002,0,0,0,81326667.310000002]
[5279,13843042.029999999,0,0,0,13843042.029999999]
[5280,-635518,0,0,0,-635518]
[5281,13207524.029999999,0,0,0,13207524.029999999]
[5282,24252,0,0,0,24252]
[5283,322758,0,0,0,322758]
[5284,2298443,0,0,0,2298443]
[5286,228932,0,0,0,228932]
[5287,2874385,0,0,0,2874385]
[5288,30579381.359999999,21388,0,0,30557993.359999999]
[5289,6114286,0,0,0,6114286]
[5290,1079759,0,0,0,1079759]
[5291,3705813,0,0,0,3705813]
[5292,876630,0,0,0,876630]
[5293,30683162.25,33336,0,0,30649826.25]
[5294,89533479.750000015,54724,0,0,89478755.750000015]
[5295,1713365072.7600002,481989,0,0,1712883083.7600002]
[5296,605000,0,0,0,605000]
[5298,511071,0,0,0,511071]
[5299,1116071,0,0,0,1116071]
[5300,543668721,5000000,0,0,538668721]
[5306,544320403,5000000,0,0,539320403]
[5330,65000,0,0,0,65000]
[5332,10000,0,0,0,10000]
[5333,75000,0,0,0,75000]
[5340,326020,0,0,0,326020]
[5351,1796186,0,0,0,1796186]
[5360,546116589,5000000,0,0,541116589]
[5361,5084707,0,0,0,5084707]
[5362,5084707,0,0,0,5084707]
[5364,19692,0,0,0,19692]
[5370,251,0,0,0,251]
[5383,251,0,0,0,251]
[5401,149613,0,0,0,149613]
[5402,6211,0,0,0,6211]
[5409,155824,0,0,0,155824]
[5440,2751598,0,0,0,2751598]
[5446,7855997,0,0,0,7855997]
[5447,2268453729.7600002,5481989,0,0,2262971740.7600002]
[5448,1569168206.8000002,1570884,0,0,1567597322.8000002]
[5451,3614308,0,0,0,3614308]
[5452,1572782514.8000002,1570884,0,0,1571211630.8000002]
[5453,230271.46,0,0,0,230271.46]
[5454,50717,0,0,0,50717]
[5455,63714897,0,0,0,63714897]
[5456,589190,0,0,0,589190]
[5457,64585075.460000001,0,0,0,64585075.460000001]
[5458,12248506.539999999,0,0,0,12248506.539999999]
[5459,814098,0,0,0,814098]
[5460,13062604.539999999,0,0,0,13062604.539999999]
[5461,1750000,0,0,0,1750000]
[5462,165796,0,0,0,165796]
[5463,766615,0,0,0,766615]
[5464,106792657,3,0,0,106792654]
[5465,154545732,3,0,0,154545729]
[5466,1804975926.8000002,1570887,0,0,1803405039.8000002]
[5467,336372009,0,0,0,336372009]
[5473,336372009,0,0,0,336372009]
[5476,6560200,3193300,0,0,3366900]
[5483,342932209,3193300,0,0,339738909]
[5491,2196831903.8000002,4764187,0,0,2192067716.8000002]
[5492,623839199.68000007,170908,0,0,623668291.68000007]
[5495,2902022,0,0,0,2902022]
[5496,626741221.68000007,170908,0,0,626570313.68000007]
[5497,87591.52,0,0,0,87591.52]
[5498,14725,0,0,0,14725]
[5499,9073520,0,0,0,9073520]
[5500,386976,0,0,0,386976]
[5501,9562812.5199999996,0,0,0,9562812.5199999996]
[5502,6794708,0,0,0,6794708]
[5503,14900627,0,0,0,14900627]
[5504,990977,0,0,0,990977]
[5505,5114422,0,0,0,5114422]
[5506,259775,0,0,0,259775]
[5507,59325,0,0,0,59325]
[5508,8000,0,0,0,8000]
[5509,52017,0,0,0,52017]
[5510,16511,0,0,0,16511]
[5511,11321,0,0,0,11321]
[5512,133200,0,0,0,133200]
[5513,4217175,0,0,0,4217175]
[5514,187716,0,0,0,187716]
[5517,15171,0,0,0,15171]
[5518,32803128,0,0,0,32803128]
[5519,7627729,0,0,0,7627729]
[5520,-317679,0,0,0,-317679]
[5521,7310050,0,0,0,7310050]
[5522,101579,0,0,0,101579]
[5523,705899,0,0,0,705899]
[5524,3196144,0,0,0,3196144]
[5525,7056536,0,0,0,7056536]
[5526,13091893,0,0,0,13091893]
[5527,689509105.20000005,170908,0,0,689338197.20000005]
[5528,45553,0,0,0,45553]
[5529,29339,0,0,0,29339]
[5530,480,0,0,0,480]
[5531,75372,0,0,0,75372]
[5532,47718521,1800000,0,0,45918521]
[5533,1574961,0,0,0,1574961]
[5538,49293761,1800000,0,0,47493761]
[5539,4038,0,0,0,4038]
[5540,5625,0,0,0,5625]
[5541,121780,0,0,0,121780]
[5543,183563,0,0,0,183563]
[5553,315006,0,0,0,315006]
[5554,276270265.91999996,1388440,0,0,274881825.91999996]
[5556,351399401.62,1216496,0,0,350182905.62]
[5557,627678224.53999996,2604936,0,0,625073288.53999996]
[5564,320,0,0,0,320]
[5566,6343913,0,0,0,6343913]
[5569,114119,0,0,0,114119]
[5583,634491650.53999996,2604936,0,0,631886714.53999996]
[5592,683785411.53999996,4404936,0,0,679380475.53999996]
[5593,200000,0,0,0,200000]
[5594,200000,0,0,0,200000]
[5603,768092,0,0,0,768092]
[5616,768092,0,0,0,768092]
[5634,55571,0,0,0,55571]
[5635,1498,0,0,0,1498]
[5642,57069,0,0,0,57069]
[5647,12534,0,0,0,12534]
[5652,1508570,0,0,0,1508570]
[5658,1708570,0,0,0,1708570]
[5659,1375078458.74,4575844,0,0,1370502614.74]
[5660,264930632.84,545259,0,0,264385373.84]
[5661,1812761,0,0,0,1812761]
[5662,307673998.5,1388972,0,0,306285026.5]
[5663,1606190,0,0,0,1606190]
[5664,576023582.33999991,1934231,0,0,574089351.33999991]
[5665,126232,0,0,0,126232]
[5666,46992,0,0,0,46992]
[5667,50437566,368000,0,0,50069566]
[5668,113249,0,0,0,113249]
[5669,50724039,368000,0,0,50356039]
[5670,5112665,0,0,0,5112665]
[5671,-296936,0,0,0,-296936]
[5672,4815729,0,0,0,4815729]
[5673,15764,0,0,0,15764]
[5674,70677,0,0,0,70677]
[5675,908622,0,0,0,908622]
[5676,1447124,0,0,0,1447124]
[5681,12636095,0,0,0,12636095]
[5687,12636095,0,0,0,12636095]
[5688,5193,0,0,0,5193]
[5691,10205,0,0,0,10205]
[5693,2031,0,0,0,2031]
[5695,2031,0,0,0,2031]
[5702,5972,0,0,0,5972]
[5704,565581,0,0,0,565581]
[5709,587260,0,0,0,587260]
[5717,13223355,0,0,0,13223355]
[5723,5,0,0,0,5]
[5729,1011938,0,0,0,1011938]
[5730,154,0,0,0,154]
[5738,159,0,0,0,159]
[5742,1012120,0,0,0,1012120]
[5756,37316,0,0,0,37316]
[5760,1012852,0,0,0,1012852]
[5761,634,0,0,0,634]
[5768,1050802,0,0,0,1050802]
[5783,24,0,0,0,24]
[5786,24,0,0,0,24]
[5802,2166551,0,0,0,2166551]
[5808,2166556,0,0,0,2166556]
[5809,648400385.33999991,2302231,0,0,646098154.33999991]
[5810,9526435,0,0,0,9526435]
[5811,37018,0,0,0,37018]
[5812,9563453,0,0,0,9563453]
[5813,1380,0,0,0,1380]
[5815,2858909,0,0,0,2858909]
[5816,2022291,0,0,0,2022291]
[5817,4882580,0,0,0,4882580]
[5818,23256979.82,8344,0,0,23248635.82]
[5819,-785625,0,0,0,-785625]
[5820,22471354.82,8344,0,0,22463010.82]
[5821,11322363.300000001,0,0,0,11322363.300000001]
[5822,657360,0,0,0,657360]
[5823,30276,0,0,0,30276]
[5824,40167058,0,0,0,40167058]
[5825,146522595.79000002,0,0,0,146522595.79000002]
[5826,36938304,0,0,0,36938304]
[5832,36938304,0,0,0,36938304]
[5838,18734326,0,0,0,18734326]
[5845,55672630,0,0,0,55672630]
[5846,184181,0,0,0,184181]
[5847,184181,0,0,0,184181]
[5853,755447,0,0,0,755447]
[5854,239868060.61000001,8344,0,0,239859716.61000001]
[5855,68447906.560000002,42725,0,0,68405181.560000002]
[5856,200731,0,0,0,200731]
[5857,68648637.560000002,42725,0,0,68605912.560000002]
[5858,15237.8,0,0,0,15237.8]
[5859,2799,0,0,0,2799]
[5860,353851,0,0,0,353851]
[5861,3344,0,0,0,3344]
[5862,375231.8,0,0,0,375231.8]
[5863,24237748.949999999,0,0,0,24237748.949999999]
[5864,-763506,0,0,0,-763506]
[5865,23474242.949999999,0,0,0,23474242.949999999]
[5866,59999,0,0,0,59999]
[5868,610,0,0,0,610]
[5869,170546,0,0,0,170546]
[5885,92668658.310000002,42725,0,0,92625933.310000002]
[5924,54994108.559999995,42725,0,0,54951383.559999995]
[5925,230168,0,0,0,230168]
[5926,55224276.559999995,42725,0,0,55181551.559999995]
[5927,15424.8,0,0,0,15424.8]
[5928,2940,0,0,0,2940]
[5929,10000,0,0,0,10000]
[5930,22591,0,0,0,22591]
[5931,50955.8,0,0,0,50955.8]
[5932,2918162,0,0,0,2918162]
[5933,-173153,0,0,0,-173153]
[5934,2745009,0,0,0,2745009]
[5936,16098,0,0,0,16098]
[5937,54407,0,0,0,54407]
[5938,230382,0,0,0,230382]
[5939,475364,0,0,0,475364]
[5945,475364,0,0,0,475364]
[5953,500364,0,0,0,500364]
[5962,58750987.359999999,42725,0,0,58708262.359999999]
[5963,633010474.33999991,2302231,0,0,630708243.33999991]
[5964,183439983.61000001,8344,0,0,183431639.61000001]
[5965,92668658.310000002,42725,0,0,92625933.310000002]
[5967,58250623.359999999,42725,0,0,58207898.359999999]
[5970,136549465.72,0,0,0,136549465.72]
[5971,2520532,0,0,0,2520532]
[5974,55542506.499999993,260837.61,0,0,55281668.889999993]
[6013,1791546.2299999981,4504.88,0,0,1787041.3499999982]
[6015,396099891,0,0,0,396099891]
[6016,6074500,0,0,0,6074500]
[6017,394497187,0,0,0,394497187]
[6018,7677204,0,0,0,7677204]
[6020,59419409,0,0,0,59419409]
[6021,32891331,0,0,0,32891331]
[6022,586973,0,0,0,586973]
[6023,3408503,0,0,0,3408503]
[6024,569641,0,0,0,569641]
[6025,615768,0,0,0,615768]
[6026,42282890,0,0,0,42282890]
[6027,308635,0,0,0,308635]
[6028,98208,0,0,0,98208]
[6029,540682293,5037299,0,0,535644994]
[6030,6168796,0,0,0,6168796]
[6031,46274563,0,0,0,46274563]
[6032,133835657,649693,0,0,133185964]
[6033,842754,0,0,0,842754]
[6034,7919945,0,0,0,7919945]
[6035,13233739,0,0,0,13233739]
[6036,26,0,0,0,26]
[6038,43408202,3988227,0,0,39419975]
[6039,4023302,0,0,0,4023302]
[6040,833494,0,0,0,833494]
[6041,4532239,0,0,0,4532239]
[6042,480959,0,0,0,480959]
[6043,3880069,0,0,0,3880069]
[6044,2838161,0,0,0,2838161]
[6045,36397,0,0,0,36397]
[6046,123279,0,0,0,123279]
[6047,3044871,0,0,0,3044871]
[6049,223,0,0,0,223]
[6052,26963999,0,0,0,26963999]
[6053,1183384,0,0,0,1183384]
[6054,9279578,553809,0,0,8725769]
[6055,2807942,0,0,0,2807942]
[6056,57075,0,0,0,57075]
[6057,150825,0,0,0,150825]
[6059,2546242,306251,0,0,2239991]
[6062,691,0,0,0,691]
[6063,321514964.94,6280958,0,0,315234006.94]
[6064,41244931,0,0,0,41244931]
[6065,16661191,0,0,0,16661191]
[6066,4530630,0,0,0,4530630]
[6067,25468142,0,0,0,25468142]
[6068,5349622,0,0,0,5349622]
[6069,14605891,0,0,0,14605891]
[6070,35295475,0,0,0,35295475]
[6071,2056950,0,0,0,2056950]
[6072,6940274,0,0,0,6940274]
[6073,1005135,0,0,0,1005135]
[6075,795076,0,0,0,795076]
[6076,51743,0,0,0,51743]
[6077,8973820,0,0,0,8973820]
[6078,2603,0,0,0,2603]
[6081,718625141,1048940,0,0,717576201]
[6082,84055034,172439,0,0,83882595]
[6083,4361003,0,0,0,4361003]
[6084,25516415,124403,0,0,25392012]
[6085,2602943,0,0,0,2602943]
[6086,126351350,0,0,0,126351350]
[6087,797239,0,0,0,797239]
[6088,5300146,13360,0,0,5286786]
[6089,14911041,0,0,0,14911041]
[6090,17909637,0,0,0,17909637]
[6091,5886022,0,0,0,5886022]
[6092,1250,0,0,0,1250]
[6093,937785,0,0,0,937785]
[6094,196148,0,0,0,196148]
[6095,14975533,0,0,0,14975533]
[6097,19510,0,0,0,19510]
[6098,120250,0,0,0,120250]
[6099,13787050,0,0,0,13787050]
[6100,2183,0,0,0,2183]
[6101,64839,0,0,0,64839]
[6102,3114575,0,0,0,3114575]
[6104,4826350,0,0,0,4826350]
[6108,627450119,3790323,0,0,623659796]
[6109,3190783,0,0,0,3190783]
[6111,2368811,0,0,0,2368811]
[6112,6132972,0,0,0,6132972]
[6113,17008,0,0,0,17008]
[6115,692857,0,0,0,692857]
[6116,14716,0,0,0,14716]
[6119,34076,0,0,0,34076]
[6120,57898759,1678839,0,0,56219920]
[6121,48216156,0,0,0,48216156]
[6122,1500000,0,0,0,1500000]
[6130,99240823,1692199,0,0,97548624]
[6153,75903320,4588759,0,0,71314561]
[6154,146370821.78,0,0,0,146370821.78]
[6155,321514964.77999997,6280958,0,0,315234006.77999997]
[6156,197077214.94,3348765,0,0,193728449.94]
[6157,56347587,0,0,0,56347587]
[6158,65198172,2625942,0,0,62572230]
[6159,344492569.02999991,3361526,0,0,341131043.02999991]
[6160,5513371,0,0,0,5513371]
[6162,350005940.02999991,3361526,0,0,346644414.02999991]
[6163,7417186,0,0,0,7417186]
[6164,357423126.02999991,3361526,0,0,354061600.02999991]
[6165,31029,0,0,0,31029]
[6166,366851717.16999996,3353519,0,0,363498198.16999996]
[6167,7417186,0,0,0,7417186]
[6168,374268903.16999996,3353519,0,0,370915384.16999996]
[6169,-16845777.140000001,8007,0,0,-16853784.140000001]
[6171,7793,0,0,0,7793]
[6172,1000197,0,0,0,1000197]
[6176,17908,0,0,0,17908]
[6177,1892798,0,0,0,1892798]
[6178,2866909,0,0,0,2866909]
[6179,11537228,0,0,0,11537228]
[6180,3153335,0,0,0,3153335]
[6181,3470287,0,0,0,3470287]
[6182,1140727,0,0,0,1140727]
[6183,398105,0,0,0,398105]
[6184,670231,0,0,0,670231]
[6185,2231032,0,0,0,2231032]
[6186,3207546,0,0,0,3207546]
[6187,1048241,0,0,0,1048241]
[6188,4850284,0,0,0,4850284]
[6190,500000,0,0,0,500000]
[6191,687190,0,0,0,687190]
[6192,14127,0,0,0,14127]
[6198,46412640,0,0,0,46412640]
[6199,2602928,0,0,0,2602928]
[6200,5469837,0,0,0,5469837]
[6201,-3577039,0,0,0,-3577039]
[6202,-20422816.140000001,8007,0,0,-20430823.140000001]
[6203,242093776,4580752,0,0,237513024]
[6204,603182,0,0,0,603182]
[6205,222274141.86000001,4588759,0,0,217685382.86000001]
[6206,1341753798.29,7537932,0,0,1334215866.29]
[6207,40528712.850000001,-1678656,0,0,42207368.850000001]
[6208,216770373.79999998,-70171,0,0,216840544.79999998]
[6209,124600299.53999999,-269490,0,0,124869789.53999999]
[6210,25451943.439999998,98529,0,0,25353414.439999998]
[6211,227352560.53999999,7007,0,0,227345553.53999999]
[6212,-1414616.6900000013,42725,0,0,-1457341.6900000013]
[6213,-19819634.140000001,8007,0,0,-19827641.140000001]
[6214,2823568.3100000005,42725,0,0,2780843.3100000005]
[6215,172.98246073629457,0.16307752257869601,0,0,172.81938321371587]
[6216,-8587304094.0978708,-1.2801737549493899,0,0,-8587304092.8176975]
[6217,-128809632907.81458,-1.0564395978691399E-2,0,0,-128809632907.80402]
[6218,-6440478646.0384264,-0.16218782950327201,0,0,-6440478645.8762388]
[6219,-6440479191.7716751,2.4869787558417299E-2,0,0,-6440479191.796545]
[6220,-543147063037.39252,5.0527594037066102E-3,0,0,-543147063037.39758]
[6221,-85873051392.494553,0.10306754090134899,0,0,-85873051392.597626]
[6222,-270500111588.50998,1.7449162180885899E-3,0,0,-270500111588.51172]
[6223,-311289818702.44122,4.8097597878189499E-2,0,0,-311289818702.48932]
[6224,63657582,0,0,0,63657582]
[6225,4073256,0,0,0,4073256]
[6226,37253089,0,0,0,37253089]
[6227,16133922,0,0,0,16133922]
[6228,350706755,0,0,0,350706755]
[6229,2228850,0,0,0,2228850]
[6231,377894,0,0,0,377894]
[6236,182272,0,0,0,182272]
[6237,336663561.00999999,3361526,0,0,333302035.00999999]
[6239,415238,0,0,0,415238]
[6240,337078799.00999999,3361526,0,0,333717273.00999999]
[6241,117082.29,0,0,0,117082.29]
[6242,19439,0,0,0,19439]
[6243,1617577,0,0,0,1617577]
[6244,35743,0,0,0,35743]
[6245,1789841.29,0,0,0,1789841.29]
[6246,444886,0,0,0,444886]
[6249,50790,0,0,0,50790]
[6250,174691,0,0,0,174691]
[6251,42183,0,0,0,42183]
[6255,2106532,0,0,0,2106532]
[6256,-124706,0,0,0,-124706]
[6257,1981826,0,0,0,1981826]
[6258,2802,0,0,0,2802]
[6259,1407073,0,0,0,1407073]
[6260,2740217.14,0,0,0,2740217.14]
[6261,520000,0,0,0,520000]
[6262,7087,0,0,0,7087]
[6264,7744323,0,0,0,7744323]
[6268,1677598,0,0,0,1677598]
[6269,138774696,0,0,0,138774696]
[6270,8329878,0,0,0,8329878]
[6271,2645511,0,0,0,2645511]
[6272,180208,0,0,0,180208]
[6273,184603,0,0,0,184603]
[6274,9933371,0,0,0,9933371]
[6275,109937,0,0,0,109937]
[6276,128260,0,0,0,128260]
[6277,124975,0,0,0,124975]
[6278,7456717,0,0,0,7456717]
[6279,2231902,0,0,0,2231902]
[6280,2676962,0,0,0,2676962]
[6281,173305,0,0,0,173305]
[6284,104244,0,0,0,104244]
[6288,234735,0,0,0,234735]
[6289,1833003.7300000002,0,0,0,1833003.7300000002]
[6290,3642102.73,0,0,0,3642102.73]
[6291,344492569.02999991,3361526,0,0,341131043.02999991]
[6292,5512259,0,0,0,5512259]
[6296,5512259,0,0,0,5512259]
[6297,4923,0,0,0,4923]
[6298,1836317,0,0,0,1836317]
[6300,89,0,0,0,89]
[6301,46798,0,0,0,46798]
[6304,87582,0,0,0,87582]
[6321,1681,0,0,0,1681]
[6327,151432,0,0,0,151432]
[6334,1112,0,0,0,1112]
[6335,1112,0,0,0,1112]
[6336,5513371,0,0,0,5513371]
[6340,188604,0,0,0,188604]
[6353,1414796,0,0,0,1414796]
[6605,14557,0,0,0,14557]
[6651,1162753,0,0,0,1162753]
[6652,193446,0,0,0,193446]
[6653,1380914,0,0,0,1380914]
[6660,2204118,0,0,0,2204118]
[6661,11321650,0,0,0,11321650]
[6666,185326188.94,2038077,0,0,183288111.94]
[6670,1770463,0,0,0,1770463]
[6676,342813,0,0,0,342813]
[6678,34162841,0,0,0,34162841]
[6681,340553,0,0,0,340553]
[6772,1520123,0,0,0,1520123]
[6773,2397564,0,0,0,2397564]
[6774,48635868,0,0,0,48635868]
[6777,340553,0,0,0,340553]
[6780,9684,0,0,0,9684]
[6783,32710308,0,0,0,32710308]
[6784,17245642,99884,0,0,17145758]
[6785,2644749,0,0,0,2644749]
[6786,260368,0,0,0,260368]
[6787,262259824.94,2781763,0,0,259478061.94]
[6788,1900230,0,0,0,1900230]
[6789,3426393,122150,0,0,3304243]
[6790,40774,0,0,0,40774]
[6791,51187,0,0,0,51187]
[6792,102867175.37,184281,0,0,102682894.37]
[6793,4327555,0,0,0,4327555]
[6794,11765,0,0,0,11765]
[6795,4530,0,0,0,4530]
[6797,13787086,0,0,0,13787086]
[6798,9639,0,0,0,9639]
[6799,6038,0,0,0,6038]
[6800,3807079,0,0,0,3807079]
[6801,135316,0,0,0,135316]
[6802,1626475,0,0,0,1626475]
[6803,40484,0,0,0,40484]
[6806,5564,0,0,0,5564]
[6807,6811,0,0,0,6811]
[6808,456,0,0,0,456]
[6809,6031,0,0,0,6031]
[6810,47262930.890000001,180647,0,0,47082283.890000001]
[6811,65477,0,0,0,65477]
[6812,397695,0,0,0,397695]
[6813,7516,0,0,0,7516]
[6814,17392,0,0,0,17392]
[6815,5189,0,0,0,5189]
[6816,5189,0,0,0,5189]
[6817,9363481,0,0,0,9363481]
[6818,9363481,0,0,0,9363481]
[6819,282740286,5078303,0,0,277661983]
[6820,282740286,5078303,0,0,277661983]
[6821,1743072,0,0,0,1743072]
[6822,1743072,0,0,0,1743072]
[6823,255270,0,0,0,255270]
[6824,255270,0,0,0,255270]
[6827,37515,0,0,0,37515]
[6828,37515,0,0,0,37515]
[6829,1474533,0,0,0,1474533]
[6830,1474533,0,0,0,1474533]
[6833,978527,0,0,0,978527]
[6834,978527,0,0,0,978527]
[6835,18386,0,0,0,18386]
[6836,18386,0,0,0,18386]
[6839,1128041,0,0,0,1128041]
[6840,1128041,0,0,0,1128041]
[6841,47150352,0,0,0,47150352]
[6842,21605122,222034,0,0,21383088]
[6843,126742,0,0,0,126742]
[6844,406199,60042,0,0,346157]
[6845,67976,0,0,0,67976]
[6846,713674,0,0,0,713674]
[6847,227017,0,0,0,227017]
[6848,177306,0,0,0,177306]
[6849,24108,0,0,0,24108]
[6850,252029,62271,0,0,189758]
[6851,70112,0,0,0,70112]
[6852,252621,0,0,0,252621]
[6853,125688,0,0,0,125688]
[6854,110171,0,0,0,110171]
[6855,641643,0,0,0,641643]
[6856,1912000,122313,0,0,1789687]
[6857,5960829,0,0,0,5960829]
[6858,654563,40208,0,0,614355]
[6859,12420830,0,0,0,12420830]
[6860,239002,40208,0,0,198794]
[6861,327713,0,0,0,327713]
[6862,9163,0,0,0,9163]
[6863,18709372,0,0,0,18709372]
[6864,902728,80416,0,0,822312]
[6865,88893,0,0,0,88893]
[6866,972783,0,0,0,972783]
[6867,203409,0,0,0,203409]
[6868,88106,0,0,0,88106]
[6869,154295,0,0,0,154295]
[6870,56073,0,0,0,56073]
[6871,1485285,0,0,0,1485285]
[6872,2285643,0,0,0,2285643]
[6873,15800745,0,0,0,15800745]
[6874,5058,0,0,0,5058]
[6875,3344,0,0,0,3344]
[6876,1271799,71979,0,0,1199820]
[6879,20851874,71979,0,0,20779895]
[6880,20515454,0,0,0,20515454]
[6881,446597,0,0,0,446597]
[6882,1116962,0,0,0,1116962]
[6883,1932663,0,0,0,1932663]
[6884,1749864,0,0,0,1749864]
[6885,1144,0,0,0,1144]
[6886,3083,0,0,0,3083]
[6887,1933807,0,0,0,1933807]
[6888,1752947,0,0,0,1752947]
[6889,61999,0,0,0,61999]
[6890,60080,0,0,0,60080]
[6891,123161,0,0,0,123161]
[6892,324463,0,0,0,324463]
[6893,1175763,0,0,0,1175763]
[6894,155124,0,0,0,155124]
[6895,2366,0,0,0,2366]
[6896,142398,0,0,0,142398]
[6897,1669912,0,0,0,1669912]
[6898,548483,0,0,0,548483]
[6899,46799,13368,0,0,33431]
[6900,3081270,0,0,0,3081270]
[6901,1277347,13368,0,0,1263979]
[6902,212058,0,0,0,212058]
[6903,15597,0,0,0,15597]
[6904,4228,0,0,0,4228]
[6905,28985,0,0,0,28985]
[6906,2756747,0,0,0,2756747]
[6907,26459,0,0,0,26459]
[6908,35541,0,0,0,35541]
[6909,2443393,0,0,0,2443393]
[6910,18777255,0,0,0,18777255]
[6911,74527,0,0,0,74527]
[6912,21785829,0,0,0,21785829]
[6913,2588961,0,0,0,2588961]
[6914,299136,0,0,0,299136]
[6915,351026,0,0,0,351026]
[6916,46897654,0,0,0,46897654]
[6917,9901971,216097,0,0,9685874]
[6918,1298134,0,0,0,1298134]
[6919,43304,0,0,0,43304]
[6920,7805979,0,0,0,7805979]
[6921,7805979,0,0,0,7805979]
[6922,269359188,0,0,0,269359188]
[6923,269359188,0,0,0,269359188]
[6924,205900,0,0,0,205900]
[6925,205900,0,0,0,205900]
[6926,14638511,0,0,0,14638511]
[6927,14638511,0,0,0,14638511]
[6928,456405,139422,0,0,316983]
[6929,456405,139422,0,0,316983]
[6930,1306529,0,0,0,1306529]
[6931,1306529,0,0,0,1306529]
[6932,1718382,0,0,0,1718382]
[6933,1718382,0,0,0,1718382]
[6934,295490894,139422,0,0,295351472]
[6935,525020,0,0,0,525020]
[6936,525020,0,0,0,525020]
[6937,2029848,0,0,0,2029848]
[6938,2029848,0,0,0,2029848]
[6941,700020,0,0,0,700020]
[6942,700020,0,0,0,700020]
[6943,61960,0,0,0,61960]
[6944,61960,0,0,0,61960]
[6945,15369,0,0,0,15369]
[6946,15369,0,0,0,15369]
[6947,305406,0,0,0,305406]
[6948,1085771,0,0,0,1085771]
[6949,1391177,0,0,0,1391177]
[6950,305406,0,0,0,305406]
[6951,4417988,0,0,0,4417988]
[6952,4723394,0,0,0,4723394]
[6953,141875,0,0,0,141875]
[6954,142785,0,0,0,142785]
[6955,1754742,0,0,0,1754742]
[6956,1754742,0,0,0,1754742]
[6957,34149394,0,0,0,34149394]
[6958,34149394,0,0,0,34149394]
[6959,95346140,0,0,0,95346140]
[6960,31550397,438131,0,0,31112266]
[6964,6031,0,0,0,6031]
[6965,1330499,0,0,0,1330499]
[6966,2098,0,0,0,2098]
[6967,8445942,0,0,0,8445942]
[6968,611683,2110,0,0,609573]
[6969,3303,0,0,0,3303]
[6971,81391,0,0,0,81391]
[6972,9861135,0,0,0,9861135]
[6973,619812,2110,0,0,617702]
[6974,19390,0,0,0,19390]
[6976,9880525,0,0,0,9880525]
[6977,619812,2110,0,0,617702]
[6978,878,0,0,0,878]
[6981,366322852.16999996,3353519,0,0,362969333.16999996]
[6983,2747391,0,0,0,2747391]
[6984,6425679,0,0,0,6425679]
[6985,182652,0,0,0,182652]
[6986,94504,0,0,0,94504]
[6987,94504,0,0,0,94504]
[6988,371075,0,0,0,371075]
[6989,371075,0,0,0,371075]
[6990,9881403,0,0,0,9881403]
[6991,619812,2110,0,0,617702]
[6994,350005940.02999991,3361526,0,0,346644414.02999991]
[6998,1504327,0,0,0,1504327]
[6999,44425,0,0,0,44425]
[7002,1504327,0,0,0,1504327]
[7003,44425,0,0,0,44425]
[7006,1098343,0,0,0,1098343]
[7007,1098343,0,0,0,1098343]
[7008,316865,0,0,0,316865]
[7009,316865,0,0,0,316865]
[7010,1504327,0,0,0,1504327]
[7011,44425,0,0,0,44425]
[7012,4790197.09,119040,0,0,4671157.09]
[7013,4790197.09,119040,0,0,4671157.09]
[7014,3599655,2324,0,0,3597331]
[7015,3599655,2324,0,0,3597331]
[7016,600478,0,0,0,600478]
[7017,600478,0,0,0,600478]
[7018,516647,2557,0,0,514090]
[7019,516647,2557,0,0,514090]
[7020,84192,0,0,0,84192]
[7021,84192,0,0,0,84192]
[7022,6009,0,0,0,6009]
[7023,6009,0,0,0,6009]
[7028,606313,0,0,0,606313]
[7029,606313,0,0,0,606313]
[7030,47458,0,0,0,47458]
[7031,47458,0,0,0,47458]
[7032,4088851.19,114772,0,0,3974079.19]
[7033,4088851.19,114772,0,0,3974079.19]
[7036,79135,0,0,0,79135]
[7037,79135,0,0,0,79135]
[7038,27164243,0,0,0,27164243]
[7039,6516,0,0,0,6516]
[7042,27164243,0,0,0,27164243]
[7043,6516,0,0,0,6516]
[7045,151672,0,0,0,151672]
[7046,151672,0,0,0,151672]
[7052,716428,0,0,0,716428]
[7054,868100,0,0,0,868100]
[7055,27164243,0,0,0,27164243]
[7056,6516,0,0,0,6516]
[7057,238588,0,0,0,238588]
[7059,670532,0,0,0,670532]
[7060,37396,0,0,0,37396]
[7062,58265,0,0,0,58265]
[7065,1004781,0,0,0,1004781]
[7066,121440,0,0,0,121440]
[7067,1941905,0,0,0,1941905]
[7068,64991014,1213333,0,0,63777681]
[7069,74545,0,0,0,74545]
[7070,2588,0,0,0,2588]
[7071,638403,399523,0,0,238880]
[7073,74,0,0,0,74]
[7074,67769969,1612856,0,0,66157113]
[7075,15497,0,0,0,15497]
[7076,279931,0,0,0,279931]
[7077,4245504.7200000007,230310,0,0,4015194.7200000007]
[7080,56501,0,0,0,56501]
[7083,4597433.7200000007,230310,0,0,4367123.7200000007]
[7084,69702,0,0,0,69702]
[7085,291996,0,0,0,291996]
[7086,51584854,132048,0,0,51452806]
[7087,238689,0,0,0,238689]
[7088,25314,0,0,0,25314]
[7089,326947,0,0,0,326947]
[7092,52537502,132048,0,0,52405454]
[7093,16602104,0,0,0,16602104]
[7094,1210991,0,0,0,1210991]
[7095,12175220,10000,0,0,12165220]
[7096,160120,0,0,0,160120]
[7097,1741072,0,0,0,1741072]
[7098,218148,0,0,0,218148]
[7099,71537,0,0,0,71537]
[7101,32179192,10000,0,0,32169192]
[7102,55764,0,0,0,55764]
[7103,41629,0,0,0,41629]
[7104,832826,0,0,0,832826]
[7107,826885,4483,0,0,822402]
[7110,1757104,4483,0,0,1752621]
[7111,122117538.06,963254,0,0,121154284.06]
[7112,24799266.579999998,231924,0,0,24567342.579999998]
[7113,28411568.189999998,26932,0,0,28384636.189999998]
[7114,599296.37,0,0,0,599296.37]
[7115,1987937,0,0,0,1987937]
[7116,675684,0,0,0,675684]
[7117,242830,0,0,0,242830]
[7118,377416,0,0,0,377416]
[7119,179211536.19999999,1222110,0,0,177989426.19999999]
[7122,23134,0,0,0,23134]
[7128,23134,0,0,0,23134]
[7129,204679,0,0,0,204679]
[7130,64896,0,0,0,64896]
[7131,11236321.25,141712,0,0,11094609.25]
[7132,43294,0,0,0,43294]
[7133,27126,0,0,0,27126]
[7134,123154,0,0,0,123154]
[7137,11699470.25,141712,0,0,11557758.25]
[7138,139447712.06,963254,0,0,138484458.06]
[7139,28630614.579999998,231924,0,0,28398690.579999998]
[7140,189629246.16,1754335,0,0,187874911.16]
[7141,1161692.3700000001,0,0,0,1161692.3700000001]
[7142,3837743,0,0,0,3837743]
[7143,2923987,404006,0,0,2519981]
[7144,314367,0,0,0,314367]
[7145,377490,0,0,0,377490]
[7146,366322852.16999996,3353519,0,0,362969333.16999996]
[7147,30962,0,0,0,30962]
[7148,30962,0,0,0,30962]
[7151,67,0,0,0,67]
[7152,67,0,0,0,67]
[7153,31029,0,0,0,31029]
[7154,31029,0,0,0,31029]
[7155,139447712.06,963254,0,0,138484458.06]
[7156,28630614.579999998,231924,0,0,28398690.579999998]
[7157,189629246.16,1754335,0,0,187874911.16]
[7158,1161692.3700000001,0,0,0,1161692.3700000001]
[7159,3837743,0,0,0,3837743]
[7160,3452852,404006,0,0,3048846]
[7161,314367,0,0,0,314367]
[7162,377490,0,0,0,377490]
[7163,366851717.16999996,3353519,0,0,363498198.16999996]
[7164,-16845777.140000001,8007,0,0,-16853784.140000001]
[7165,108200,0,0,0,108200]
[7167,30177,0,0,0,30177]
[7169,138377,0,0,0,138377]
[7173,138377,0,0,0,138377]
[7175,238830,0,0,0,238830]
[7176,238830,0,0,0,238830]
[7179,180239,0,0,0,180239]
[7180,180239,0,0,0,180239]
[7181,741730,0,0,0,741730]
[7182,741730,0,0,0,741730]
[7183,138377,0,0,0,138377]
[7185,53824927,449309,0,0,53375618]
[7186,9331071,114915,0,0,9216156]
[7187,9459239,64358,0,0,9394881]
[7188,1222808,115104,0,0,1107704]
[7189,190474,0,0,0,190474]
[7190,80316493.819999993,160832,0,0,80155661.819999993]
[7191,19999526.550000001,23449,0,0,19976077.550000001]
[7192,984117,0,0,0,984117]
[7193,1349138,0,0,0,1349138]
[7194,41129,0,0,0,41129]
[7195,84810,0,0,0,84810]
[7196,10428749,0,0,0,10428749]
[7197,2182358,0,0,0,2182358]
[7198,254676,0,0,0,254676]
[7199,693133,0,0,0,693133]
[7200,215730,0,0,0,215730]
[7201,7910,0,0,0,7910]
[7202,37800919.710000001,156778,0,0,37644141.710000001]
[7203,6060777.1799999997,23025,0,0,6037752.1799999997]
[7204,1441464,844,0,0,1440620]
[7205,816405,0,0,0,816405]
[7206,1050329,0,0,0,1050329]
[7207,86549,0,0,0,86549]
[7530,1414796,0,0,0,1414796]
[7531,2380,0,0,0,2380]
[7532,1190,0,0,0,1190]
[7534,3570,0,0,0,3570]
[7535,1411226,0,0,0,1411226]
[7536,28925765,0,0,0,28925765]
[7537,289617,0,0,0,289617]
[7538,11295,0,0,0,11295]
[7539,29204087,0,0,0,29204087]
[7540,9374779,0,0,0,9374779]
[7541,545442,0,0,0,545442]
[7542,11295,0,0,0,11295]
[7543,9908926,0,0,0,9908926]
[7544,19295161,0,0,0,19295161]
[7545,154248989.25999999,0,0,0,154248989.25999999]
[7546,2441057.44,0,0,0,2441057.44]
[7548,156690046.69999999,0,0,0,156690046.69999999]
[7549,54060313.890000001,0,0,0,54060313.890000001]
[7550,4377901.55,0,0,0,4377901.55]
[7552,58438215.439999998,0,0,0,58438215.439999998]
[7553,98251831.25999999,0,0,0,98251831.25999999]
[7554,46414943.93,0,0,0,46414943.93]
[7555,5376737.6899999995,0,0,0,5376737.6899999995]
[7556,1307469,0,0,0,1307469]
[7557,50484212.620000005,0,0,0,50484212.620000005]
[7558,40291842.950000003,0,0,0,40291842.950000003]
[7559,3850567,0,0,0,3850567]
[7560,1574931,0,0,0,1574931]
[7561,42567478.950000003,0,0,0,42567478.950000003]
[7562,7916733.6699999999,0,0,0,7916733.6699999999]
[7563,134348857,0,0,0,134348857]
[7564,13434885.699999996,0,0,0,13434885.699999996]
[7570,1331937765.6500001,5122976,0,0,1326814789.6500001]
[7575,32723,0,0,0,32723]
[7576,1539978,0,0,0,1539978]
[7577,439,0,0,0,439]
[7578,34902,0,0,0,34902]
[7590,286379,0,0,0,286379]
[7593,8911150,0,0,0,8911150]
[7594,1784421,0,0,0,1784421]
[7595,17000,0,0,0,17000]
[7596,17136081,0,0,0,17136081]
[7597,3531133,0,0,0,3531133]
[7598,13830568,0,0,0,13830568]
[7599,90923,0,0,0,90923]
[7602,353175,0,0,0,353175]
[7603,48687,0,0,0,48687]
[7605,521244,0,0,0,521244]
[7606,813112,0,0,0,813112]
[7607,37052,0,0,0,37052]
[7608,795000,0,0,0,795000]
[7609,410400,0,0,0,410400]
[7610,1664755,0,0,0,1664755]
[7611,3075016,0,0,0,3075016]
[7612,14103898,0,0,0,14103898]
[7613,11765442,0,0,0,11765442]
[7614,903175,0,0,0,903175]
[7616,288908,0,0,0,288908]
[7617,2148844,0,0,0,2148844]
[7618,2143075,0,0,0,2143075]
[7619,4751395,0,0,0,4751395]
[7620,40433,0,0,0,40433]
[7621,40311,0,0,0,40311]
[7622,175000,0,0,0,175000]
[7623,36348180,0,0,0,36348180]
[7624,64380359,0,0,0,64380359]
[7625,249222472,0,0,0,249222472]
[7626,4994178,174305,0,0,4819873]
[7629,14200740,0,0,0,14200740]
[7630,95,0,0,0,95]
[7631,53706,0,0,0,53706]
[7635,14254541,0,0,0,14254541]
[7636,22400,0,0,0,22400]
[7638,1257532,0,0,0,1257532]
[7639,8257,0,0,0,8257]
[7644,1288189,0,0,0,1288189]
[7645,181415,0,0,0,181415]
[7646,48069,0,0,0,48069]
[7647,51885609,0,0,0,51885609]
[7648,3517061,0,0,0,3517061]
[7649,2663537.23,0,0,0,2663537.23]
[7650,97435.09,0,0,0,97435.09]
[7651,7306904.46,0,0,0,7306904.46]
[7652,92268617.579999998,0,0,0,92268617.579999998]
[7653,16457373.93,25855,0,0,16431518.93]
[7654,3103613,0,0,0,3103613]
[7655,419190,0,0,0,419190]
[7656,14575787,0,0,0,14575787]
[7657,112611554.81,0,0,0,112611554.81]
[7658,24280903.48,25855,0,0,24255048.48]
[7659,449689269.52999997,34186,0,0,449655083.52999997]
[7660,20956661.91,25855,0,0,20930806.91]
[7661,51379545.140000001,0,0,0,51379545.140000001]
[7662,114416,0,0,0,114416]
[7663,17078070.77,0,0,0,17078070.77]
[7664,24612084,0,0,0,24612084]
[7665,24085,0,0,0,24085]
[7666,41714239.769999996,0,0,0,41714239.769999996]
[7667,35306169,0,0,0,35306169]
[7668,431118,0,0,0,431118]
[7669,94314060.909999996,0,0,0,94314060.909999996]
[7670,75023622.49000001,0,0,0,75023622.49000001]
[7671,70183102.900000006,0,0,0,70183102.900000006]
[7672,6295768.5700000003,0,0,0,6295768.5700000003]
[7673,331748,0,0,0,331748]
[7674,360408,0,0,0,360408]
[7676,27022763,0,0,0,27022763]
[7677,252151,0,0,0,252151]
[7678,460630,0,0,0,460630]
[7679,5129537.1000000015,0,0,0,5129537.1000000015]
[7681,43160339.900000006,0,0,0,43160339.900000006]
[7682,6043617.5700000003,0,0,0,6043617.5700000003]
[7684,561491,0,0,0,561491]
[7685,561491,0,0,0,561491]
[7686,48635868,0,0,0,48635868]
[7687,67070538,0,0,0,67070538]
[7688,146451090,0,0,0,146451090]
[7689,12249576,0,0,0,12249576]
[7690,21978696,0,0,0,21978696]
[7691,701289,0,0,0,701289]
[7692,72653795,0,0,0,72653795]
[7693,866900,0,0,0,866900]
[7694,6995555,0,0,0,6995555]
[7695,14028967.1,0,0,0,14028967.1]
[7697,87060037.129999995,991794,0,0,86068243.129999995]
[7698,55532953.009999998,0,0,0,55532953.009999998]
[7699,142592990.13999999,991794,0,0,141601196.13999999]
[7700,54797,0,0,0,54797]
[7701,704161333,1428188,0,0,702733145]
[7702,704161333,1428188,0,0,702733145]
[7704,11601939,0,0,0,11601939]
[7707,198119,0,0,0,198119]
[7708,27406,0,0,0,27406]
[7712,1220276,0,0,0,1220276]
[7713,390000,0,0,0,390000]
[7714,153556,0,0,0,153556]
[7715,543556,0,0,0,543556]
[7716,6559,0,0,0,6559]
[7717,6559,0,0,0,6559]
[7718,95572,0,0,0,95572]
[7719,95572,0,0,0,95572]
[7720,37852,0,0,0,37852]
[7721,37852,0,0,0,37852]
[7722,719170,0,0,0,719170]
[7723,719170,0,0,0,719170]
[7724,203421,0,0,0,203421]
[7725,203421,0,0,0,203421]
[7726,294415,0,0,0,294415]
[7727,294415,0,0,0,294415]
[7728,497836,0,0,0,497836]
[7729,497836,0,0,0,497836]
[7735,497836,0,0,0,497836]

{"sheet":"Data pull 5-1-19","index":22,"n_rows":2405,"n_cols":2,"rows_kept":2405,"cut":false,"hidden":true,"merged":[]}
["txtFieldNum","2018"]
[4,4449380884]
[11,10965222]
[12,2085627941]
[15,8487467]
[16,13604323264.32]
[25,113203890]
[27,4516526967]
[30,6103904165]
[31,7255290591.5900002]
[32,13604323264.589998]
[36,449091290]
[43,98822]
[44,352727831]
[47,809521]
[48,2004389425.2]
[56,109272]
[58,532996778]
[61,645406398]
[62,1153151307.95]
[63,2004389424.95]
[65,453038975]
[68,192660768]
[69,13754738]
[70,2118999902]
[73,460348617]
[78,469306339]
[79,612786993.88]
[80,2118999901.8800001]
[84,159323034]
[92,210291838]
[95,188063]
[96,1208901307.4400001]
[103,660741]
[105,298210918]
[108,357072463]
[109,684573002.85000002]
[110,1208901306.8499999]
[112,158410779]
[116,109853870]
[118,22713]
[119,661600222.50999999]
[123,5439635]
[124,175026030]
[127,194799093]
[128,320909130.58000004]
[129,661600222.58000004]
[138,459294954]
[141,34045]
[142,2636761886]
[145,9113]
[147,17494828]
[150,187253893]
[151,1209846638]
[152,2636761886]
[212,1322298013]
[213,34925647029.099998]
[214,1971193145.51]
[215,3710974507]
[218,42992052441.610001]
[219,42992052441.610001]
[220,42992052441.610001]
[221,1645160085]
[222,19912185421]
[223,21557345506]
[224,21557256289]
[226,21557256289]
[227,21557256289]
[259,19734469]
[260,5656749]
[262,13385462]
[263,24190]
[371,4568411]
[439,116325619]
[440,220808]
[557,956982138]
[558,41601698]
[559,575570]
[590,311901711]
[591,7162087]
[644,6741171854.6300001]
[645,53496043]
[651,357544899]
[655,8234532]
[656,169299761.82999998]
[657,286601372.90999997]
[658,47627036]
[659,10052281006.52]
[660,267877815]
[661,305511212.84000003]
[662,153858708.16]
[663,124376076]
[664,197865876.88]
[665,70251496]
[666,1119741184.8800001]
[667,279910784]
[668,220632626.11000001]
[669,13958619]
[670,514502029.11000001]
[671,31051748]
[672,177937895.69]
[673,282991242.69]
[674,874404091.63999999]
[675,42342730]
[676,916746821.63999999]
[677,50098057]
[678,109019241.69]
[679,89779274.159999996]
[680,19237105]
[681,215621257.12]
[682,10997332]
[684,494752266.96999997]
[685,7546862]
[686,15955554]
[687,24210062]
[688,60814347]
[690,99617794.680000007]
[692,208144619.68000001]
[693,13142507]
[694,3550020671.9700003]
[695,71914890]
[696,13674216568.49]
[702,1820198463.8499999]
[703,9978449]
[709,77589893]
[713,757212]
[714,34246764.590000004]
[715,20977445.619999997]
[716,2033666.77]
[717,2539185408.9899998]
[718,55138428]
[719,63325892.75]
[720,31792513.219999999]
[721,23313846]
[722,37425100.019999996]
[723,12299869]
[724,223295648.99000001]
[725,60661474.57]
[726,44815372]
[727,1940491]
[728,107417337.56999999]
[729,24908300]
[730,34813147]
[731,78375357]
[732,206706118.60000002]
[733,10022096]
[734,216728214.60000002]
[735,10015932]
[736,20666413]
[737,18154691]
[738,6861872]
[739,55331968]
[740,2285625]
[742,113316501]
[743,1527345]
[744,2884336]
[745,5786704]
[746,29291752]
[748,17161311]
[750,56651448]
[751,7489563]
[752,803274070.15999997]
[753,12852816]
[754,3355312295.1500001]
[760,118163391.58999999]
[761,532417]
[767,3004843]
[771,1571457]
[772,7573657]
[773,45674846.879999995]
[774,1843734]
[775,1000923412.4799999]
[776,12748405]
[777,12949838]
[778,34796077]
[779,7532428]
[780,24515469]
[781,12962938]
[782,105505155]
[783,101648199.48]
[784,39746237.620000005]
[785,22858547]
[786,164252984.09999999]
[787,111071387.76000001]
[788,12253329.879999999]
[789,144089490.63999999]
[790,21803884.329999998]
[791,382088]
[792,22185972.329999998]
[793,5858787]
[794,31426012.790000003]
[795,72299634]
[796,109471562]
[797,202610553.83000001]
[798,9997150.629999999]
[800,431663700.25]
[801,2264478]
[802,5319354]
[803,16360688]
[804,15273675]
[806,90140542]
[808,129358737]
[809,11016685]
[810,1008072724.3200001]
[811,50831000]
[812,2268101357.21]
[818,297520179.07000005]
[819,550399]
[825,7044036]
[829,1015158]
[830,16213497.24]
[831,30125009.289999999]
[832,2687696]
[833,435256640.85000002]
[834,5075524]
[835,4133977]
[836,3415821]
[837,1336324]
[838,1115060]
[839,4604410.6899999995]
[840,19681116.689999998]
[841,34712371]
[842,42502413]
[843,6800010]
[844,84014794]
[845,6219037.5800000001]
[846,4053846.45]
[847,11737291.029999999]
[848,17254295.149999999]
[849,203287]
[850,17457582.149999999]
[851,1288781]
[852,4525110.59]
[853,31151116]
[854,930489]
[855,285160147.51999998]
[856,4915671]
[858,327971315.11000001]
[859,261901]
[860,824442]
[861,6140093]
[862,1664938]
[864,45195536]
[866,54086910]
[867,6818210]
[868,521767218.97999996]
[869,10815167]
[870,967839026.83000004]
[876,39634963.5]
[877,5435]
[883,98275]
[887,48943]
[888,5440346.9100000001]
[889,3265589]
[890,19020]
[891,59814062.68]
[892,128225]
[893,52906]
[894,406625]
[895,5340]
[896,181147]
[897,787537]
[898,1561780]
[899,6827680]
[900,25432965]
[901,53753]
[902,32314398]
[903,473715]
[904,362208]
[905,904985]
[906,1114046.3]
[907,38433]
[908,1152479.3]
[909,279262]
[910,1177269.8199999998]
[911,13290712]
[912,100303]
[913,6014640.6600000001]
[914,1726802]
[916,22588989.48]
[917,111124]
[918,240238]
[919,6321928]
[920,236522]
[922,45553582]
[924,52463394]
[925,1433450]
[926,112419475.77999999]
[927,1035297]
[928,173268835.46000001]
[934,9064881]
[935,56094]
[941,63945]
[945,37750]
[946,2902198]
[947,9607627]
[948,590017]
[949,385228947]
[950,71519]
[951,774353]
[952,148404]
[953,36736]
[954,43115]
[955,273263]
[956,1347390]
[957,2535252]
[958,978494]
[959,88172]
[960,3601918]
[961,11278611.51]
[962,3337293.63]
[963,16309803.140000001]
[964,2369403.7599999998]
[965,22530]
[966,2391933.7599999998]
[967,735663]
[968,3208027]
[969,286836]
[970,3962]
[971,1365851]
[972,131205]
[974,5731544]
[975,8040]
[976,24896]
[977,363670]
[978,453245]
[980,1257609]
[982,2107460]
[983,835808]
[984,32325856.900000002]
[985,8088731]
[986,531742710.52999997]
[987,996434]
[988,130730]
[990,293196]
[992,32394652]
[993,991535639.42999995]
[1032,9075709683.6399994]
[1033,64631212]
[1039,445809063]
[1043,11680729]
[1044,239618620.56999999]
[1045,397918849.69999999]
[1046,54801169.770000003]
[1047,14541444952.520002]
[1048,341572857]
[1049,387529829.58999997]
[1050,224822471.38]
[1051,156876887]
[1052,261468500.90000001]
[1053,101415372.69]
[1054,1473685918.5599999]
[1055,492911153.05000001]
[1056,386767939.73000002]
[1057,46036468]
[1058,925715560.77999997]
[1059,186064475.84999999]
[1060,233049235.65000001]
[1061,535971728.5]
[1062,1127334366.78]
[1063,53015391]
[1064,1180349757.78]
[1065,68398561]
[1066,170469698.88999999]
[1067,226293150.16]
[1068,136750057]
[1069,768322813.13]
[1070,30148653.629999999]
[1072,1400382933.8100002]
[1073,11947405]
[1074,25282033]
[1075,61966351]
[1076,110213413]
[1078,317778156.68000001]
[1080,527187358.68000001]
[1081,41386385]
[1082,6084679643.1100006]
[1083,156879339]
[1084,740016930.94000006]
[1085,996434]
[1086,130730]
[1088,293196]
[1090,32394652]
[1091,21557170259.57]
[1092,1239111641.29]
[1158,2729805]
[1159,1045563]
[1160,608958625.8599999]
[1162,612797182.8599999]
[1163,1113815]
[1164,614013422.8599999]
[1165,614327865.8599999]
[1166,492107]
[1167,150047]
[1168,122882561.03]
[1170,123538359.03]
[1171,183731]
[1172,124013354.03]
[1173,124013373.03]
[1174,1390461]
[1175,13249969]
[1176,636376223.98000002]
[1178,651294168.09000003]
[1179,1971924]
[1180,653332565.09000003]
[1181,655744913.09000003]
[1182,49148]
[1183,524525]
[1184,468480695.32999998]
[1186,469165046.32999998]
[1187,88374]
[1188,469256630.32999998]
[1189,469266713.32999998]
[1190,278746]
[1191,118952872]
[1192,178846791.59999999]
[1193,331017]
[1195,298512720.60000002]
[1196,407229]
[1197,298921703.60000002]
[1198,298968874.60000002]
[1199,49581]
[1200,391513]
[1201,2784801]
[1203,3225895]
[1204,7015]
[1205,3232910]
[1206,3315452]
[1207,42020]
[1209,52484]
[1211,465579]
[1212,8463941]
[1213,4995879]
[1214,135647086]
[1215,2027387323.8000002]
[1216,412408]
[1218,2169014318.9099998]
[1219,3791478]
[1220,2173270922.9099998]
[1221,5672478]
[1222,42020]
[1224,52484]
[1226,465579]
[1227,2181286895.9099998]
[1228,87166833.850000009]
[1246,5177763]
[1247,5177763]
[1248,5177763]
[1249,17709]
[1251,1016798227]
[1252,616678]
[1253,2583817]
[1254,1878853134]
[1255,83881742]
[1256,2982116920]
[1257,2982256903]
[1263,17709]
[1265,1016798227]
[1266,616678]
[1267,2583817]
[1268,1878853134]
[1269,89059505]
[1270,2987294683]
[1271,2987434666]
[1272,-790602762.20000005]
[1274,250016007.88]
[1277,1252696]
[1278,251710861.88]
[1279,251748525.88]
[1280,43418761.32]
[1283,283749]
[1284,43748806.32]
[1285,43749535.32]
[1286,715321719.89999998]
[1289,339444]
[1290,717899497.89999998]
[1291,12729286]
[1292,730802959.89999998]
[1293,67522247.349999994]
[1296,75692]
[1297,67625025.349999994]
[1298,67628153.349999994]
[1299,74031959.75]
[1303,74031959.75]
[1304,74031959.75]
[1305,3008866]
[1308,8731]
[1309,3017597]
[1310,10649]
[1312,173198]
[1314,16375090]
[1315,23480545]
[1316,1154868314.1999998]
[1319,1960312]
[1320,1159582500.1999998]
[1321,15567144]
[1322,10649]
[1324,173198]
[1326,16375090]
[1327,1192990431.1999998]
[1328,182088027.53999999]
[1335,717612]
[1341,7874022]
[1345,705456]
[1346,2906697.37]
[1347,11771219.68]
[1348,1889701.9]
[1349,241591398.34000003]
[1350,8208506]
[1351,6844075]
[1352,17314096.640000001]
[1353,1820188]
[1354,2742701]
[1355,6745460]
[1356,43675026.640000001]
[1357,7899295.8200000003]
[1358,17017865.75]
[1359,653223]
[1360,25570384.57]
[1361,9615542]
[1362,9975373.1099999994]
[1363,28010783.300000001]
[1364,44795060.339999996]
[1365,1963541]
[1366,46758601.339999996]
[1367,4115641]
[1368,17278398.850000001]
[1369,328662]
[1370,113063750.76000001]
[1371,42940120.640000001]
[1372,22622775.460000001]
[1373,1763853]
[1375,202113201.71000001]
[1376,400555]
[1377,1186583]
[1378,4151363]
[1379,5343395]
[1381,15235260]
[1383,26317156]
[1384,1486542]
[1385,373931695.55999994]
[1386,5727988]
[1387,623771613.89999998]
[1399,717612]
[1405,7874022]
[1409,705456]
[1410,2906697.37]
[1411,11771219.68]
[1412,1889701.9]
[1413,241591398.34000003]
[1414,8208506]
[1415,6844075]
[1416,17314096.640000001]
[1417,1820188]
[1418,2742701]
[1419,6745460]
[1420,43675026.640000001]
[1421,7899295.8200000003]
[1422,17017865.75]
[1423,653223]
[1424,25570384.57]
[1425,9615542]
[1426,9975373.1099999994]
[1427,28010783.300000001]
[1428,44795060.339999996]
[1429,1963541]
[1430,46758601.339999996]
[1431,4115641]
[1432,17278398.850000001]
[1433,328662]
[1434,113063750.76000001]
[1435,42940120.640000001]
[1436,22622775.460000001]
[1437,1763853]
[1439,202113201.71000001]
[1440,400555]
[1441,1186583]
[1442,4151363]
[1443,5343395]
[1445,15235260]
[1447,26317156]
[1448,1486542]
[1449,373931695.55999994]
[1450,5727988]
[1456,623771613.89999998]
[1457,24628771.439999998]
[1458,1820904]
[1461,4555]
[1462,1825459]
[1463,1825459]
[1464,285260]
[1467,585]
[1468,285845]
[1469,285845]
[1470,82499477.819999993]
[1473,1973468]
[1474,84472945.819999993]
[1475,84472945.819999993]
[1476,4909856]
[1479,98732]
[1480,5008588]
[1481,5008588]
[1482,1367276613.25]
[1485,7254879]
[1486,1374531492.25]
[1487,1374531492.25]
[1488,10834139]
[1491,1465588]
[1492,12299727]
[1493,13167827]
[1494,1494797009.0699999]
[1497,10797807]
[1498,1505594816.0699999]
[1499,1506462916.0699999]
[1500,-1266594855.46]
[1556,6158665302.0100002]
[1569,7500419100.3000002]
[1570,1318454314]
[1583,1358983026.8500001]
[1584,1432923189]
[1597,1649693562.8000002]
[1598,727228544]
[1611,851828843.54000008]
[1612,441349186]
[1625,466801129.44]
[1626,2221889838]
[1639,2449242398.54]
[1683,11916802642.279999]
[1684,1526534644.6700001]
[1685,1572734829.8000002]
[1686,627257205.68000007]
[1687,273184982.84000003]
[1688,68420027.560000002]
[1690,9526435]
[1691,336083725.00999999]
[1692,54786329.559999995]
[1693,485207705.32999998]
[1698,17635445174.939999]
[1699,5183810080.1099997]
[1700,855482885.44999993]
[1701,876085790.13]
[1702,377950810.68000001]
[1703,166843496.93000001]
[1704,45595914.100000001]
[1706,1958956]
[1707,226643430.05000001]
[1708,37613606.009999998]
[1709,251815893.64999998]
[1714,8250719874.4499979]
[1715,6732992562.170001]
[1716,671051759.22000003]
[1717,696649039.67000008]
[1718,249306395]
[1719,106341485.91000001]
[1720,22824113.460000001]
[1722,7567479]
[1723,109440294.95999999]
[1724,17172723.550000001]
[1725,233391811.68000004]
[1730,9384725301.4899998]
[1731,5468522699.5782604]
[1732,884735689.19574142]
[1733,874727401.6945461]
[1734,348079199.55578548]
[1735,165094199.00204197]
[1736,45604474.033277296]
[1738,1491940]
[1739,225386866.002776]
[1740,38198839.587277301]
[1741,259572610.34719247]
[1746,8532942065.0455084]
[1747,12201515261.74826]
[1748,1555787448.4157414]
[1749,1571376441.3645461]
[1750,597385594.55578566]
[1751,271435684.91204202]
[1752,68428587.493277282]
[1754,9059419]
[1755,334827160.96277601]
[1756,55371563.137277298]
[1757,492964422.02719253]
[1762,17917667366.535511]
[1764,16924218]
[1765,4000000]
[1767,1000000]
[1772,21924218]
[1773,958017900]
[1774,50000]
[1776,958067900]
[1778,80200000]
[1779,200350]
[1781,1000000]
[1786,81400350]
[1787,1206439050]
[1788,80000]
[1790,1206519050]
[1792,87024218]
[1793,4100000]
[1795,1000000]
[1800,92124218]
[1801,1558106900]
[1802,50000]
[1804,1558156900]
[1806,10100000]
[1807,100350]
[1809,1000000]
[1814,11200350]
[1815,606350050]
[1816,80000]
[1818,606430050]
[1878,20972105712]
[1879,4112600847]
[1887,892197]
[1889,158]
[1892,158]
[1894,99977]
[1896,99977]
[1897,792378]
[1910,2437794]
[1911,465361192.52999997]
[1912,1010592.1]
[1913,2509732]
[1916,468881516.63]
[1918,1902417]
[1919,14237679]
[1921,465829365.52999997]
[1922,5489945.1000000015]
[1947,1266377224.05]
[1948,40341653585.32]
[1949,2164509294.3800001]
[1950,3252357949.3200002]
[1951,978673734.38999999]
[1952,49188145867.650002]
[1953,15644953]
[1954,1440211076.3599999]
[1955,154897093.47000003]
[1956,204169065.22]
[1957,76854245]
[1958,2982466565.9999995]
[1959,826989]
[1960,152934606]
[1961,3885967]
[1962,89832747]
[1963,100908480]
[1964,1327949386]
[1965,1281195188.05]
[1966,41628930055.68]
[1967,2315520420.8499999]
[1968,3366694267.54]
[1969,954619499.3900001]
[1970,50842663047.650009]
[1972,15529091449.540001]
[1973,1005882395.1700001]
[1974,2519478594.6199999]
[1975,759351754.19000006]
[1976,19917533509.360001]
[1978,965097850.87]
[1979,96669103.730000004]
[1980,182802621.44999999]
[1981,65158203.350000001]
[1982,1318502879.95]
[1984,63008512]
[1985,3904355]
[1986,71357899]
[1987,95916570]
[1988,235773562]
[1990,16431180788.409998]
[1991,1098647143.8999999]
[1992,2630923317.0700002]
[1993,728593387.53999996]
[1994,21000262827.310005]
[1995,1281195188.05]
[1996,25197749267.27]
[1997,1216873276.95]
[1998,735770950.47000003]
[1999,226026111.84999996]
[2000,29842400220.34]
[2020,231691953.53]
[2027,439659857.94000006]
[2028,295490894]
[2030,3221537]
[2031,93915]
[2032,5578563]
[2033,93915]
[2041,868100]
[2044,348701908]
[2045,22886673]
[2374,245128508]
[2376,205831719]
[2414,167255841]
[2416,145891999]
[2443,1036906569]
[2474,1239661355]
[2490,14294675241.91]
[2492,6430140893.0099993]
[2493,2058525513.9400001]
[2494,22796281900.859997]
[2495,14541444952.520002]
[2496,6084679643.1100006]
[2497,156879339]
[2498,740016930.94000006]
[2499,34149394]
[2500,21557170259.57]
[2501,1239111641.29]
[2502,1276757]
[2503,1713365072.7600002]
[2505,546116589]
[2506,7855997]
[2507,2268453729.7600002]
[2508,2173270922.9099998]
[2509,1877916]
[2510,5672478]
[2511,465579]
[2512,2181286895.9099998]
[2513,87166833.850000009]
[2514,1692437]
[2530,689509105.20000005]
[2532,683785411.53999996]
[2533,1708570]
[2534,1375078458.74]
[2535,1159582500.1999998]
[2536,1465697]
[2537,15567144]
[2538,16375090]
[2539,1192990431.1999998]
[2540,182088027.53999999]
[2541,-244177]
[2542,633010474.33999991]
[2543,13223355]
[2544,2166556]
[2545,648400385.33999991]
[2546,241591398.34000003]
[2547,373931695.55999994]
[2548,5727988]
[2551,623771613.89999998]
[2552,24628771.439999998]
[2553,37324]
[2569,1804975926.8000002]
[2570,342932209]
[2571,2196831903.8000002]
[2572,139983]
[2573,2987294683]
[2574,2987434666]
[2575,-790602762.20000005]
[2576,-771344]
[2594,183439983.61000001]
[2595,55672630]
[2596,755447]
[2597,239868060.61000001]
[2598,1505594816.0699999]
[2599,868100]
[2600,1506462916.0699999]
[2601,-1266594855.46]
[2602,-138403]
[2657,72516314]
[2658,16368267]
[2659,4964028]
[2660,1459349]
[2661,65718]
[2662,422099]
[2663,96006143]
[2664,3507910]
[2665,3507910]
[2696,289340251]
[2697,9311959]
[2699,13646687]
[2701,3415270]
[2702,403684]
[2705,47069]
[2708,2365437]
[2711,3316000]
[2728,207967904.41]
[2729,208274220.41]
[2731,30974292]
[2733,9299700]
[2735,30974292]
[2736,314443]
[2737,19]
[2738,55322]
[2739,10083]
[2740,47171]
[2741,1450000]
[2744,1877916]
[2745,12043528]
[2752,1949430]
[2756,287290136]
[2758,1949430]
[2759,37664]
[2760,729]
[2761,174176]
[2762,12729286]
[2764,3128]
[2766,1250000]
[2767,2837858]
[2769,2837858]
[2775,1465697]
[2776,15567144]
[2779,3307350]
[2787,3583747]
[2793,105042]
[2794,3538042.54]
[2795,11717]
[2797,10161469]
[2799,1106319]
[2801,30260289]
[2803,1061757475]
[2819,29552046]
[2824,476588747]
[2826,-28997]
[2827,2272139796.5100002]
[2831,38351905]
[2833,2055945]
[2834,252875061.57000002]
[2847,16329068]
[2849,17128910]
[2850,97680018]
[2851,2157330868.5900002]
[2852,2272139796.5900002]
[2853,207332785.57000002]
[2855,207332785.57000002]
[2856,252870861.57000002]
[2886,910]
[2888,74590518]
[2889,118626014.41]
[2890,136372]
[2891,2204583]
[2892,1206355]
[2893,11204062]
[2894,19978808]
[2895,195518279.53]
[2896,175788]
[2897,10350179]
[2898,584025]
[2899,5084874]
[2912,94569326]
[2913,314144293.94]
[2914,312160]
[2915,12554762]
[2916,1790380]
[2917,16288936]
[2918,870733]
[2919,828936]
[2920,1368312]
[2925,2457130]
[2926,948503]
[2927,1629374]
[2928,5050951]
[2929,7449484]
[2931,14909]
[2933,213942]
[2934,930170]
[2935,1115415]
[2937,17023]
[2939,775250]
[2946,5981121]
[2947,8564899]
[2949,31932]
[2951,989192]
[2994,155581382.56]
[2995,36357165.439999998]
[2996,21506939]
[2997,47202360.100000001]
[2998,5580026.2699999996]
[2999,443445]
[3001,271010638.37]
[3003,7566508.8600000003]
[3004,7566508.8600000003]
[3010,40766271]
[3011,4771805]
[3017,13890615]
[3018,444418]
[3021,2656880773]
[3022,7932465]
[3100,7462720]
[3109,7462720]
[3164,92668658.310000002]
[3165,92668658.310000002]
[3166,92668658.310000002]
[3167,33869368]
[3168,492689946]
[3169,123178562]
[3170,391324546]
[3171,101365400]
[3172,1340477041.29]
[3173,21280735]
[3174,418035742]
[3175,88363426]
[3176,466366300]
[3177,-48330558]
[3178,38836275.850000001]
[3190,14870822]
[3191,60153160]
[3192,10210782]
[3193,117396711]
[3194,-57243551]
[3195,124844476.53999999]
[3197,833358]
[3198,47510]
[3199,47510]
[3200,785848]
[3201,25414619.439999998]
[3212,172726040]
[3213,3093694288]
[3214,1798259672]
[3215,2085549808]
[3216,1008144480]
[3217,217541717.79999998]
[3234,112195370]
[3235,1560676727]
[3236,37519303]
[3237,66590908]
[3238,1494085819]
[3239,227490963.53999999]
[3255,1488458]
[3256,323868256]
[3257,418001221]
[3258,-94132965]
[3259,-1464306.6900000013]
[3260,2256425503]
[3261,49690]
[3262,2255010886.3099999]
[3305,1900301857.5799999]
[3306,18549915.539999999]
[3307,451035594.07999998]
[3308,3943165.91]
[3309,82769563.00999999]
[3310,2109903]
[3311,20241161.149999999]
[3312,339230]
[3313,3096769]
[3314,94699]
[3315,61381968]
[3316,2966979]
[3319,2524153535.8200002]
[3320,28028800.449999999]
[3326,104177180.84999999]
[3327,93712044.590000004]
[3328,763978]
[3329,104177180.84999999]
[3330,93712044.590000004]
[3331,763978]
[3344,12940252]
[3345,1116071]
[3347,75372]
[3350,6379387847.3199997]
[3353,1157395148.2]
[3356,1402570813]
[3358,694514031.44000006]
[3361,391362208.50999999]
[3364,2156084898]
[3366,1707673210.51]
[3374,209422340.56999999]
[3385,302610041.5]
[3386,178715504.63]
[3387,123894536.86999999]
[3388,185849381.29533258]
[3389,309743918.16533262]
[3390,953569586]
[3391,1082582720.8200002]
[3392,978241833]
[3393,1057910473.8199999]
[3398,1057910473.8199999]
[3421,63189]
[3422,13644]
[3423,277514.11]
[3424,110678]
[3425,103294]
[3427,571622.11]
[3429,1738]
[3431,85000]
[3432,9154948]
[3458,8781382]
[3469,895457]
[3470,1559255]
[3471,10866998]
[3473,14441016]
[3485,249498742.78999999]
[3487,11024911]
[3489,88053333]
[3490,17]
[3491,348798490.78999996]
[3500,-223]
[3501,12489342]
[3504,29592076]
[3505,74160835]
[3506,245045579.59]
[3507,348798490.59000003]
[3508,58250623.359999999]
[3509,500364]
[3510,58750987.359999999]
[3511,165652408.05000001]
[3512,238830]
[3513,741730]
[3514,166632968.05000001]
[3515,-107881980.69]
[3516,4557]
[3518,98166880]
[3519,3675955]
[3521,49338]
[3522,2623139]
[3523,111515424]
[3524,848251]
[3525,1048505]
[3526,110466919]
[3527,2584938.3100000005]
[3528,316422681]
[3529,238630]
[3530,319246249.31]
[3556,275252]
[3557,788477]
[3558,1063729]
[3559,22247]
[3560,1085976]
[3561,1085976]
[3563,42747]
[3564,131500]
[3565,174247]
[3567,174247]
[3568,174247]
[3570,17261804.780000001]
[3571,11634264]
[3572,28896068.780000001]
[3573,1530958]
[3574,30427026.780000001]
[3575,30427026.780000001]
[3577,229714]
[3578,789274]
[3579,1018988]
[3581,1018988]
[3582,1018988]
[3584,96689869.049999997]
[3585,35203020.219999999]
[3586,131892889.27]
[3588,131892889.27]
[3589,131892889.27]
[3591,550497]
[3592,337505]
[3593,888002]
[3594,26902]
[3595,914904]
[3599,1895464]
[3607,115158083.83]
[3608,48914217.219999999]
[3609,164072301.05000001]
[3610,1580107]
[3611,165652408.05000001]
[3617,166632968.05000001]
[3620,-107881980.69]
[3637,52950]
[3638,147304]
[3641,52950]
[3642,147304]
[3656,716428]
[3660,1739617]
[3661,2520532]
[3662,1739617]
[3663,2520532]
[3664,36774589.710000001]
[3665,28893788.710000001]
[3666,7880801]
[3667,27790682.593277302]
[3668,35671483.593277298]
[3669,228954581.96999997]
[4013,102425]
[4014,291264]
[4015,66473]
[4016,3210]
[4017,1754]
[4019,465126]
[4020,442158]
[4021,46296]
[4022,2238334]
[4023,27086]
[4026,2753874]
[4041,202]
[4042,425521815]
[4043,202]
[4044,19309516]
[4046,406212299]
[4048,7888082.1600000001]
[4050,414100381.16000003]
[4052,6473039168.8000002]
[4053,8409771]
[4055,829841]
[4057,19598113]
[4061,29269321069.660004]
[4062,2276863500.7600002]
[4063,2196831903.8000002]
[4064,1375908299.74]
[4065,648400385.33999991]
[4066,259466173.61000001]
[4067,92668658.310000002]
[4069,58750987.359999999]
[4070,6473039168.8000002]
[4071,8409771]
[4072,829841]
[4073,19598113]
[4075,28030209428.369999]
[4076,2189696666.9099998]
[4077,2987434666]
[4078,1193820272.1999998]
[4079,623771613.89999998]
[4080,1526061029.0699999]
[4083,166632968.05000001]
[4095,183847]
[4096,183847]
[4104,61745]
[4105,61745]
[4110,21557256289]
[4111,19912031421]
[4112,3256361735]
[4116,-271088535]
[4128,213723]
[4138,1586397]
[4139,119567]
[4140,261062]
[4141,2357026]
[4142,2357026]
[4149,14776035]
[4150,14776035]
[4166,1032831]
[4204,2090217.5980000007]
[4205,365132.63799999992]
[4206,167378.72269999998]
[4207,2622742]
[4208,11966241857]
[4209,7677204]
[4237,2321860]
[4239,1742547]
[4240,154636]
[4241,1785941]
[4242,489371]
[4243,30000]
[4244,392633]
[4246,144854]
[4248,273421]
[4251,142381]
[4255,8557]
[4256,26234]
[4266,219465]
[4267,2982381]
[4268,61379]
[4269,25000]
[4270,18764922]
[4271,16880299]
[4274,28]
[4275,531755]
[4277,1304]
[4279,198257]
[4283,9672877]
[4290,33097]
[4297,39535882.890000001]
[4298,3802]
[4299,86561]
[4301,108331588.93000001]
[4303,287900]
[4304,9775]
[4311,287900]
[4318,2156985.77]
[4319,14427]
[4330,150416]
[4334,2324191.77]
[4335,14427]
[4346,15319632]
[4348,160578]
[4349,35211]
[4350,21063617]
[4352,161882]
[4353,35370]
[4354,25145647]
[4355,48571]
[4356,2518]
[4357,72031016.99000001]
[4360,18747]
[4373,48923768]
[4376,49929.508999999976]
[4380,561491]
[4382,48923768]
[4385,4244]
[4386,175640]
[4700,4862869]
[4731,31711636]
[4732,1109824]
[4733,6560200]
[4734,31316]
[4735,3471]
[4736,15570530]
[4740,103241]
[4744,19810593]
[4745,19692]
[4752,5]
[4791,31127021]
[4792,175486]
[4794,102]
[4803,19564]
[4804,220938]
[4813,18449707]
[4814,651682]
[4821,1988407]
[4824,279]
[4854,2686]
[4855,4498]
[4857,8752]
[4883,335625]
[4889,9775]
[4934,479098511861]
[4935,46665308965.365059]
[4936,21557256289]
[4939,25000]
[4951,60484612]
[4952,213013589]
[4953,685225]
[4961,130408311]
[4962,39896536]
[4963,103878579]
[4965,28556306.710000001]
[4966,1661788]
[4995,122606950]
[5000,12252083920.279999]
[5002,480103035.32999998]
[5003,202]
[5004,172919]
[5005,12760916383.32]
[5006,1347483.27]
[5007,1456414]
[5008,429139083.54000002]
[5009,18579713]
[5010,450522693.80999994]
[5011,17250859]
[5012,4092120]
[5013,3305114.52]
[5014,16089575]
[5015,416252]
[5016,668152]
[5017,94779]
[5018,287538]
[5020,4219602]
[5021,25169238]
[5022,351167]
[5023,3645479]
[5024,2360]
[5025,615343]
[5026,76877945.520000011]
[5027,92393570.680000007]
[5028,-944805]
[5029,91448765.680000007]
[5030,2876457]
[5031,36610244]
[5032,8054753]
[5033,4351472.91]
[5034,14131487]
[5035,202573879.63]
[5036,20707284.780000001]
[5037,3169823]
[5038,69031493]
[5039,4895864]
[5040,18307977]
[5041,116112441.78]
[5042,97974708.289999992]
[5043,928974]
[5044,668033]
[5045,2680360]
[5046,2101789]
[5047,70650]
[5048,34664]
[5049,126647]
[5050,2472347]
[5051,107058172.29000001]
[5052,11025312]
[5053,23642234.25]
[5054,12034366]
[5055,39914463.239999995]
[5056,2231649]
[5057,46485943]
[5058,199097735.38999999]
[5059,489164959.88]
[5060,14294675241.91]
[5061,10335828]
[5062,2447361]
[5063,157063]
[5064,12940252]
[5065,5288907211.04]
[5066,2891798]
[5071,5312237123.04]
[5072,143988242]
[5073,74146985.340000004]
[5074,102700466.7]
[5076,49465577.729999997]
[5078,6507956]
[5081,4501046]
[5086,381583694.76999998]
[5087,1140963]
[5091,17250525]
[5092,161985]
[5100,21557001]
[5102,82862094]
[5103,451518]
[5104,83313612]
[5106,7232853.2000000002]
[5107,18605581]
[5110,3605207]
[5114,296180]
[5116,48843314]
[5117,49139494]
[5120,75580]
[5126,12813]
[5133,8861289]
[5135,388407799]
[5138,830080]
[5139,2669]
[5153,1117903769.9699998]
[5162,6430140893.0099993]
[5163,14097406]
[5164,14433031]
[5169,48134935]
[5171,68048769]
[5172,16790]
[5178,428075709.91000003]
[5179,1757513]
[5180,131833079.70999999]
[5181,3705697]
[5182,10003623]
[5185,599323326.62]
[5186,620751854]
[5187,2123307]
[5194,424331]
[5195,5212230]
[5199,640179791]
[5213,10130134.620000001]
[5214,3476037]
[5217,349820359.12]
[5218,38023088]
[5219,47137]
[5225,401695012.74000001]
[5240,5748521]
[5243,15421398]
[5249,1577535]
[5251,1331582]
[5252,54013]
[5254,1851738]
[5256,1650086]
[5259,1976043713.9400001]
[5265,2058525513.9400001]
[5266,22796281900.859997]
[5267,1515792124.6700001]
[5269,8189083]
[5270,145750]
[5272,2296059]
[5273,1526423016.6700001]
[5274,224567.61]
[5275,208542]
[5276,79902948]
[5277,990609.7]
[5278,81326667.310000002]
[5279,13843042.029999999]
[5280,-635518]
[5281,13207524.029999999]
[5282,24252]
[5283,322758]
[5284,2298443]
[5286,228932]
[5287,2874385]
[5288,30579381.359999999]
[5289,6114286]
[5290,1079759]
[5291,3705813]
[5292,876630]
[5293,30683162.25]
[5294,89533479.750000015]
[5295,1713365072.7600002]
[5296,605000]
[5298,511071]
[5299,1116071]
[5300,543668721]
[5306,544320403]
[5330,65000]
[5332,10000]
[5333,75000]
[5340,326020]
[5351,1796186]
[5360,546116589]
[5361,5084707]
[5362,5084707]
[5364,19692]
[5370,251]
[5383,251]
[5401,149613]
[5402,6211]
[5409,155824]
[5440,2751598]
[5446,7855997]
[5447,2268453729.7600002]
[5448,1569168206.8000002]
[5451,3614308]
[5452,1572782514.8000002]
[5453,230271.46]
[5454,50717]
[5455,63714897]
[5456,589190]
[5457,64585075.460000001]
[5458,12248506.539999999]
[5459,814098]
[5460,13062604.539999999]
[5461,1750000]
[5462,165796]
[5463,766615]
[5464,106792657]
[5465,154545732]
[5466,1804975926.8000002]
[5467,336372009]
[5473,336372009]
[5476,6560200]
[5483,342932209]
[5491,2196831903.8000002]
[5492,623839199.68000007]
[5495,2902022]
[5496,626741221.68000007]
[5497,87591.52]
[5498,14725]
[5499,9073520]
[5500,386976]
[5501,9562812.5199999996]
[5502,6794708]
[5503,14900627]
[5504,990977]
[5505,5114422]
[5506,259775]
[5507,59325]
[5508,8000]
[5509,52017]
[5510,16511]
[5511,11321]
[5512,133200]
[5513,4217175]
[5514,187716]
[5517,15171]
[5518,32803128]
[5519,7627729]
[5520,-317679]
[5521,7310050]
[5522,101579]
[5523,705899]
[5524,3196144]
[5525,7056536]
[5526,13091893]
[5527,689509105.20000005]
[5528,45553]
[5529,29339]
[5530,480]
[5531,75372]
[5532,47718521]
[5533,1574961]
[5538,49293761]
[5539,4038]
[5540,5625]
[5541,121780]
[5543,183563]
[5553,315006]
[5554,276270265.91999996]
[5556,351399401.62]
[5557,627678224.53999996]
[5564,320]
[5566,6343913]
[5569,114119]
[5583,634491650.53999996]
[5592,683785411.53999996]
[5593,200000]
[5594,200000]
[5603,768092]
[5616,768092]
[5634,55571]
[5635,1498]
[5642,57069]
[5647,12534]
[5652,1508570]
[5658,1708570]
[5659,1375078458.74]
[5660,264930632.84]
[5661,1812761]
[5662,307673998.5]
[5663,1606190]
[5664,576023582.33999991]
[5665,126232]
[5666,46992]
[5667,50437566]
[5668,113249]
[5669,50724039]
[5670,5112665]
[5671,-296936]
[5672,4815729]
[5673,15764]
[5674,70677]
[5675,908622]
[5676,1447124]
[5681,12636095]
[5687,12636095]
[5688,5193]
[5691,10205]
[5693,2031]
[5695,2031]
[5702,5972]
[5704,565581]
[5709,587260]
[5717,13223355]
[5723,5]
[5729,1011938]
[5730,154]
[5738,159]
[5742,1012120]
[5756,37316]
[5760,1012852]
[5761,634]
[5768,1050802]
[5783,24]
[5786,24]
[5802,2166551]
[5808,2166556]
[5809,648400385.33999991]
[5810,9526435]
[5811,37018]
[5812,9563453]
[5813,1380]
[5815,2858909]
[5816,2022291]
[5817,4882580]
[5818,23256979.82]
[5819,-785625]
[5820,22471354.82]
[5821,11322363.300000001]
[5822,657360]
[5823,30276]
[5824,40167058]
[5825,146522595.79000002]
[5826,36938304]
[5832,36938304]
[5838,18734326]
[5845,55672630]
[5846,184181]
[5847,184181]
[5853,755447]
[5854,239868060.61000001]
[5855,68447906.560000002]
[5856,200731]
[5857,68648637.560000002]
[5858,15237.8]
[5859,2799]
[5860,353851]
[5861,3344]
[5862,375231.8]
[5863,24237748.949999999]
[5864,-763506]
[5865,23474242.949999999]
[5866,59999]
[5868,610]
[5869,170546]
[5885,92668658.310000002]
[5924,54994108.559999995]
[5925,230168]
[5926,55224276.559999995]
[5927,15424.8]
[5928,2940]
[5929,10000]
[5930,22591]
[5931,50955.8]
[5932,2918162]
[5933,-173153]
[5934,2745009]
[5936,16098]
[5937,54407]
[5938,230382]
[5939,475364]
[5945,475364]
[5953,500364]
[5962,58750987.359999999]
[5963,633010474.33999991]
[5964,183439983.61000001]
[5965,92668658.310000002]
[5967,58250623.359999999]
[5970,136549465.72]
[5971,2520532]
[5974,55542506.499999993]
[6013,1791546.2299999981]
[6015,396099891]
[6016,6074500]
[6017,394497187]
[6018,7677204]
[6020,59419409]
[6021,32891331]
[6022,586973]
[6023,3408503]
[6024,569641]
[6025,615768]
[6026,42282890]
[6027,308635]
[6028,98208]
[6029,540682293]
[6030,6168796]
[6031,46274563]
[6032,133835657]
[6033,842754]
[6034,7919945]
[6035,13233739]
[6036,26]
[6038,43408202]
[6039,4023302]
[6040,833494]
[6041,4532239]
[6042,480959]
[6043,3880069]
[6044,2838161]
[6045,36397]
[6046,123279]
[6047,3044871]
[6049,223]
[6052,26963999]
[6053,1183384]
[6054,9279578]
[6055,2807942]
[6056,57075]
[6057,150825]
[6059,2546242]
[6062,691]
[6063,321514964.94]
[6064,41244931]
[6065,16661191]
[6066,4530630]
[6067,25468142]
[6068,5349622]
[6069,14605891]
[6070,35295475]
[6071,2056950]
[6072,6940274]
[6073,1005135]
[6075,795076]
[6076,51743]
[6077,8973820]
[6078,2603]
[6081,718625141]
[6082,84055034]
[6083,4361003]
[6084,25516415]
[6085,2602943]
[6086,126351350]
[6087,797239]
[6088,5300146]
[6089,14911041]
[6090,17909637]
[6091,5886022]
[6092,1250]
[6093,937785]
[6094,196148]
[6095,14975533]
[6097,19510]
[6098,120250]
[6099,13787050]
[6100,2183]
[6101,64839]
[6102,3114575]
[6104,4826350]
[6108,627450119]
[6109,3190783]
[6111,2368811]
[6112,6132972]
[6113,17008]
[6115,692857]
[6116,14716]
[6119,34076]
[6120,57898759]
[6121,48216156]
[6122,1500000]
[6130,99240823]
[6153,75903320]
[6154,146370821.78]
[6155,321514964.77999997]
[6156,197077214.94]
[6157,56347587]
[6158,65198172]
[6159,344492569.02999991]
[6160,5513371]
[6162,350005940.02999991]
[6163,7417186]
[6164,357423126.02999991]
[6165,31029]
[6166,366851717.16999996]
[6167,7417186]
[6168,374268903.16999996]
[6169,-16845777.140000001]
[6171,7793]
[6172,1000197]
[6176,17908]
[6177,1892798]
[6178,2866909]
[6179,11537228]
[6180,3153335]
[6181,3470287]
[6182,1140727]
[6183,398105]
[6184,670231]
[6185,2231032]
[6186,3207546]
[6187,1048241]
[6188,4850284]
[6190,500000]
[6191,687190]
[6192,14127]
[6198,46412640]
[6199,2602928]
[6200,5469837]
[6201,-3577039]
[6202,-20422816.140000001]
[6203,242093776]
[6204,603182]
[6205,222274141.86000001]
[6206,1341753798.29]
[6207,40528712.850000001]
[6208,216770373.79999998]
[6209,124600299.53999999]
[6210,25451943.439999998]
[6211,227352560.53999999]
[6212,-1414616.6900000013]
[6213,-19819634.140000001]
[6214,2823568.3100000005]
[6215,172.98246073629457]
[6216,-8587304094.0978708]
[6217,-128809632907.81458]
[6218,-6440478646.0384264]
[6219,-6440479191.7716751]
[6220,-543147063037.39252]
[6221,-85873051392.494553]
[6222,-270500111588.50998]
[6223,-311289818702.44122]
[6224,63657582]
[6225,4073256]
[6226,37253089]
[6227,16133922]
[6228,350706755]
[6229,2228850]
[6231,377894]
[6236,182272]
[6237,336663561.00999999]
[6239,415238]
[6240,337078799.00999999]
[6241,117082.29]
[6242,19439]
[6243,1617577]
[6244,35743]
[6245,1789841.29]
[6246,444886]
[6249,50790]
[6250,174691]
[6251,42183]
[6255,2106532]
[6256,-124706]
[6257,1981826]
[6258,2802]
[6259,1407073]
[6260,2740217.14]
[6261,520000]
[6262,7087]
[6264,7744323]
[6268,1677598]
[6269,138774696]
[6270,8329878]
[6271,2645511]
[6272,180208]
[6273,184603]
[6274,9933371]
[6275,109937]
[6276,128260]
[6277,124975]
[6278,7456717]
[6279,2231902]
[6280,2676962]
[6281,173305]
[6284,104244]
[6288,234735]
[6289,1833003.7300000002]
[6290,3642102.73]
[6291,344492569.02999991]
[6292,5512259]
[6296,5512259]
[6297,4923]
[6298,1836317]
[6300,89]
[6301,46798]
[6304,87582]
[6321,1681]
[6327,151432]
[6334,1112]
[6335,1112]
[6336,5513371]
[6340,188604]
[6353,1414796]
[6605,14557]
[6651,1162753]
[6652,193446]
[6653,1380914]
[6660,2204118]
[6661,11321650]
[6666,185326188.94]
[6670,1770463]
[6676,342813]
[6678,34162841]
[6681,340553]
[6772,1520123]
[6773,2397564]
[6774,48635868]
[6777,340553]
[6780,9684]
[6783,32710308]
[6784,17245642]
[6785,2644749]
[6786,260368]
[6787,262259824.94]
[6788,1900230]
[6789,3426393]
[6790,40774]
[6791,51187]
[6792,102867175.37]
[6793,4327555]
[6794,11765]
[6795,4530]
[6797,13787086]
[6798,9639]
[6799,6038]
[6800,3807079]
[6801,135316]
[6802,1626475]
[6803,40484]
[6806,5564]
[6807,6811]
[6808,456]
[6809,6031]
[6810,47262930.890000001]
[6811,65477]
[6812,397695]
[6813,7516]
[6814,17392]
[6815,5189]
[6816,5189]
[6817,9363481]
[6818,9363481]
[6819,282740286]
[6820,282740286]
[6821,1743072]
[6822,1743072]
[6823,255270]
[6824,255270]
[6827,37515]
[6828,37515]
[6829,1474533]
[6830,1474533]
[6833,978527]
[6834,978527]
[6835,18386]
[6836,18386]
[6839,1128041]
[6840,1128041]
[6841,47150352]
[6842,21605122]
[6843,126742]
[6844,406199]
[6845,67976]
[6846,713674]
[6847,227017]
[6848,177306]
[6849,24108]
[6850,252029]
[6851,70112]
[6852,252621]
[6853,125688]
[6854,110171]
[6855,641643]
[6856,1912000]
[6857,5960829]
[6858,654563]
[6859,12420830]
[6860,239002]
[6861,327713]
[6862,9163]
[6863,18709372]
[6864,902728]
[6865,88893]
[6866,972783]
[6867,203409]
[6868,88106]
[6869,154295]
[6870,56073]
[6871,1485285]
[6872,2285643]
[6873,15800745]
[6874,5058]
[6875,3344]
[6876,1271799]
[6879,20851874]
[6880,20515454]
[6881,446597]
[6882,1116962]
[6883,1932663]
[6884,1749864]
[6885,1144]
[6886,3083]
[6887,1933807]
[6888,1752947]
[6889,61999]
[6890,60080]
[6891,123161]
[6892,324463]
[6893,1175763]
[6894,155124]
[6895,2366]
[6896,142398]
[6897,1669912]
[6898,548483]
[6899,46799]
[6900,3081270]
[6901,1277347]
[6902,212058]
[6903,15597]
[6904,4228]
[6905,28985]
[6906,2756747]
[6907,26459]
[6908,35541]
[6909,2443393]
[6910,18777255]
[6911,74527]
[6912,21785829]
[6913,2588961]
[6914,299136]
[6915,351026]
[6916,46897654]
[6917,9901971]
[6918,1298134]
[6919,43304]
[6920,7805979]
[6921,7805979]
[6922,269359188]
[6923,269359188]
[6924,205900]
[6925,205900]
[6926,14638511]
[6927,14638511]
[6928,456405]
[6929,456405]
[6930,1306529]
[6931,1306529]
[6932,1718382]
[6933,1718382]
[6934,295490894]
[6935,525020]
[6936,525020]
[6937,2029848]
[6938,2029848]
[6941,700020]
[6942,700020]
[6943,61960]
[6944,61960]
[6945,15369]
[6946,15369]
[6947,305406]
[6948,1085771]
[6949,1391177]
[6950,305406]
[6951,4417988]
[6952,4723394]
[6953,141875]
[6954,142785]
[6955,1754742]
[6956,1754742]
[6957,34149394]
[6958,34149394]
[6959,95346140]
[6960,31550397]
[6964,6031]
[6965,1330499]
[6966,2098]
[6967,8445942]
[6968,611683]
[6969,3303]
[6971,81391]
[6972,9861135]
[6973,619812]
[6974,19390]
[6976,9880525]
[6977,619812]
[6978,878]
[6981,366322852.16999996]
[6983,2747391]
[6984,6425679]
[6985,182652]
[6986,94504]
[6987,94504]
[6988,371075]
[6989,371075]
[6990,9881403]
[6991,619812]
[6994,350005940.02999991]
[6998,1504327]
[6999,44425]
[7002,1504327]
[7003,44425]
[7006,1098343]
[7007,1098343]
[7008,316865]
[7009,316865]
[7010,1504327]
[7011,44425]
[7012,4790197.09]
[7013,4790197.09]
[7014,3599655]
[7015,3599655]
[7016,600478]
[7017,600478]
[7018,516647]
[7019,516647]
[7020,84192]
[7021,84192]
[7022,6009]
[7023,6009]
[7028,606313]
[7029,606313]
[7030,47458]
[7031,47458]
[7032,4088851.19]
[7033,4088851.19]
[7036,79135]
[7037,79135]
[7038,27164243]
[7039,6516]
[7042,27164243]
[7043,6516]
[7045,151672]
[7046,151672]
[7052,716428]
[7054,868100]
[7055,27164243]
[7056,6516]
[7057,238588]
[7059,670532]
[7060,37396]
[7062,58265]
[7065,1004781]
[7066,121440]
[7067,1941905]
[7068,64991014]
[7069,74545]
[7070,2588]
[7071,638403]
[7073,74]
[7074,67769969]
[7075,15497]
[7076,279931]
[7077,4245504.7200000007]
[7080,56501]
[7083,4597433.7200000007]
[7084,69702]
[7085,291996]
[7086,51584854]
[7087,238689]
[7088,25314]
[7089,326947]
[7092,52537502]
[7093,16602104]
[7094,1210991]
[7095,12175220]
[7096,160120]
[7097,1741072]
[7098,218148]
[7099,71537]
[7101,32179192]
[7102,55764]
[7103,41629]
[7104,832826]
[7107,826885]
[7110,1757104]
[7111,122117538.06]
[7112,24799266.579999998]
[7113,28411568.189999998]
[7114,599296.37]
[7115,1987937]
[7116,675684]
[7117,242830]
[7118,377416]
[7119,179211536.19999999]
[7122,23134]
[7128,23134]
[7129,204679]
[7130,64896]
[7131,11236321.25]
[7132,43294]
[7133,27126]
[7134,123154]
[7137,11699470.25]
[7138,139447712.06]
[7139,28630614.579999998]
[7140,189629246.16]
[7141,1161692.3700000001]
[7142,3837743]
[7143,2923987]
[7144,314367]
[7145,377490]
[7146,366322852.16999996]
[7147,30962]
[7148,30962]
[7151,67]
[7152,67]
[7153,31029]
[7154,31029]
[7155,139447712.06]
[7156,28630614.579999998]
[7157,189629246.16]
[7158,1161692.3700000001]
[7159,3837743]
[7160,3452852]
[7161,314367]
[7162,377490]
[7163,366851717.16999996]
[7164,-16845777.140000001]
[7165,108200]
[7167,30177]
[7169,138377]
[7173,138377]
[7175,238830]
[7176,238830]
[7179,180239]
[7180,180239]
[7181,741730]
[7182,741730]
[7183,138377]
[7185,53824927]
[7186,9331071]
[7187,9459239]
[7188,1222808]
[7189,190474]
[7190,80316493.819999993]
[7191,19999526.550000001]
[7192,984117]
[7193,1349138]
[7194,41129]
[7195,84810]
[7196,10428749]
[7197,2182358]
[7198,254676]
[7199,693133]
[7200,215730]
[7201,7910]
[7202,37800919.710000001]
[7203,6060777.1799999997]
[7204,1441464]
[7205,816405]
[7206,1050329]
[7207,86549]
[7530,1414796]
[7531,2380]
[7532,1190]
[7534,3570]
[7535,1411226]
[7536,28925765]
[7537,289617]
[7538,11295]
[7539,29204087]
[7540,9374779]
[7541,545442]
[7542,11295]
[7543,9908926]
[7544,19295161]
[7545,154248989.25999999]
[7546,2441057.44]
[7548,156690046.69999999]
[7549,54060313.890000001]
[7550,4377901.55]
[7552,58438215.439999998]
[7553,98251831.25999999]
[7554,46414943.93]
[7555,5376737.6899999995]
[7556,1307469]
[7557,50484212.620000005]
[7558,40291842.950000003]
[7559,3850567]
[7560,1574931]
[7561,42567478.950000003]
[7562,7916733.6699999999]
[7563,134348857]
[7564,13434885.699999996]
[7570,1331937765.6500001]
[7575,32723]
[7576,1539978]
[7577,439]
[7578,34902]
[7590,286379]
[7593,8911150]
[7594,1784421]
[7595,17000]
[7596,17136081]
[7597,3531133]
[7598,13830568]
[7599,90923]
[7602,353175]
[7603,48687]
[7605,521244]
[7606,813112]
[7607,37052]
[7608,795000]
[7609,410400]
[7610,1664755]
[7611,3075016]
[7612,14103898]
[7613,11765442]
[7614,903175]
[7616,288908]
[7617,2148844]
[7618,2143075]
[7619,4751395]
[7620,40433]
[7621,40311]
[7622,175000]
[7623,36348180]
[7624,64380359]
[7625,249222472]
[7626,4994178]
[7629,14200740]
[7630,95]
[7631,53706]
[7635,14254541]
[7636,22400]
[7638,1257532]
[7639,8257]
[7644,1288189]
[7645,181415]
[7646,48069]
[7647,51885609]
[7648,3517061]
[7649,2663537.23]
[7650,97435.09]
[7651,7306904.46]
[7652,92268617.579999998]
[7653,16457373.93]
[7654,3103613]
[7655,419190]
[7656,14575787]
[7657,112611554.81]
[7658,24280903.48]
[7659,449689269.52999997]
[7660,20956661.91]
[7661,51379545.140000001]
[7662,114416]
[7663,17078070.77]
[7664,24612084]
[7665,24085]
[7666,41714239.769999996]
[7667,35306169]
[7668,431118]
[7669,94314060.909999996]
[7670,75023622.49000001]
[7671,70183102.900000006]
[7672,6295768.5700000003]
[7673,331748]
[7674,360408]
[7676,27022763]
[7677,252151]
[7678,460630]
[7679,5129537.1000000015]
[7681,43160339.900000006]
[7682,6043617.5700000003]
[7684,561491]
[7685,561491]
[7686,48635868]
[7687,67070538]
[7688,146451090]
[7689,12249576]
[7690,21978696]
[7691,701289]
[7692,72653795]
[7693,866900]
[7694,6995555]
[7695,14028967.1]
[7697,87060037.129999995]
[7698,55532953.009999998]
[7699,142592990.13999999]
[7700,54797]
[7701,704161333]
[7702,704161333]
[7704,11601939]
[7707,198119]
[7708,27406]
[7712,1220276]
[7713,390000]
[7714,153556]
[7715,543556]
[7716,6559]
[7717,6559]
[7718,95572]
[7719,95572]
[7720,37852]
[7721,37852]
[7722,719170]
[7723,719170]
[7724,203421]
[7725,203421]
[7726,294415]
[7727,294415]
[7728,497836]
[7729,497836]
[7735,497836]

{"sheet":"5-7-19 Data Pull","index":23,"n_rows":2408,"n_cols":2,"rows_kept":2408,"cut":false,"hidden":true,"merged":[]}
["All SD's (- Crete Monee)","5/7 Data Pull"]
["txtFieldNum","2018"]
[4,4449380884]
[11,10965222]
[12,2085627941]
[15,8487467]
[16,13604323264.32]
[25,113203890]
[27,4516526967]
[30,6103904165]
[31,7255290591.5900002]
[32,13604323264.589998]
[36,449091290]
[43,98822]
[44,352727831]
[47,809521]
[48,2004389425.2]
[56,109272]
[58,532996778]
[61,645406398]
[62,1153151307.95]
[63,2004389424.95]
[65,453038975]
[68,192660768]
[69,13754738]
[70,2118999902]
[73,460348617]
[78,469306339]
[79,612786993.88]
[80,2118999901.8800001]
[84,159323034]
[92,210291838]
[95,188063]
[96,1208901307.4400001]
[103,660741]
[105,298210918]
[108,357072463]
[109,684573002.85000002]
[110,1208901306.8499999]
[112,158410779]
[116,109853870]
[118,22713]
[119,661600222.50999999]
[123,5439635]
[124,175026030]
[127,194799093]
[128,320909130.58000004]
[129,661600222.58000004]
[138,459294954]
[141,34045]
[142,2636761886]
[145,9113]
[147,17494828]
[150,187253893]
[151,1209846638]
[152,2636761886]
[212,1322298013]
[213,34925647029.099998]
[214,1971193145.51]
[215,3710974507]
[218,42992052441.610001]
[219,42992052441.610001]
[220,42992052441.610001]
[221,1645160085]
[222,19912185421]
[223,21557345506]
[224,21557256289]
[226,21557256289]
[227,21557256289]
[259,19734469]
[260,5656749]
[262,13385462]
[263,24190]
[371,4568411]
[439,116325619]
[440,220808]
[557,956982138]
[558,41601698]
[559,575570]
[590,311901711]
[591,7162087]
[644,6741171854.6300001]
[645,53496043]
[651,357544899]
[655,8234532]
[656,169299761.82999998]
[657,286601372.90999997]
[658,47627036]
[659,10052281006.52]
[660,267877815]
[661,305511212.84000003]
[662,153858708.16]
[663,124376076]
[664,197865876.88]
[665,70251496]
[666,1119741184.8800001]
[667,279910784]
[668,220632626.11000001]
[669,13958619]
[670,514502029.11000001]
[671,31051748]
[672,177937895.69]
[673,282991242.69]
[674,874404091.63999999]
[675,42342730]
[676,916746821.63999999]
[677,50098057]
[678,109019241.69]
[679,89779274.159999996]
[680,19237105]
[681,215621257.12]
[682,10997332]
[684,494752266.96999997]
[685,7546862]
[686,15955554]
[687,24210062]
[688,60814347]
[690,99617794.680000007]
[692,208144619.68000001]
[693,13142507]
[694,3550020671.9700003]
[695,71914890]
[696,13674216568.49]
[702,1820198463.8499999]
[703,9978449]
[709,77589893]
[713,757212]
[714,34246764.590000004]
[715,20977445.619999997]
[716,2033666.77]
[717,2539185408.9899998]
[718,55138428]
[719,63325892.75]
[720,31792513.219999999]
[721,23313846]
[722,37425100.019999996]
[723,12299869]
[724,223295648.99000001]
[725,60661474.57]
[726,44815372]
[727,1940491]
[728,107417337.56999999]
[729,24908300]
[730,34813147]
[731,78375357]
[732,206706118.60000002]
[733,10022096]
[734,216728214.60000002]
[735,10015932]
[736,20666413]
[737,18154691]
[738,6861872]
[739,55331968]
[740,2285625]
[742,113316501]
[743,1527345]
[744,2884336]
[745,5786704]
[746,29291752]
[748,17161311]
[750,56651448]
[751,7489563]
[752,803274070.15999997]
[753,12852816]
[754,3355312295.1500001]
[760,118163391.58999999]
[761,532417]
[767,3004843]
[771,1571457]
[772,7573657]
[773,45674846.879999995]
[774,1843734]
[775,1000923412.4799999]
[776,12748405]
[777,12949838]
[778,34796077]
[779,7532428]
[780,24515469]
[781,12962938]
[782,105505155]
[783,101648199.48]
[784,39746237.620000005]
[785,22858547]
[786,164252984.09999999]
[787,111071387.76000001]
[788,12253329.879999999]
[789,144089490.63999999]
[790,21803884.329999998]
[791,382088]
[792,22185972.329999998]
[793,5858787]
[794,31426012.790000003]
[795,72299634]
[796,109471562]
[797,202610553.83000001]
[798,9997150.629999999]
[800,431663700.25]
[801,2264478]
[802,5319354]
[803,16360688]
[804,15273675]
[806,90140542]
[808,129358737]
[809,11016685]
[810,1008072724.3200001]
[811,50831000]
[812,2268101357.21]
[818,297520179.07000005]
[819,550399]
[825,7044036]
[829,1015158]
[830,16213497.24]
[831,30125009.289999999]
[832,2687696]
[833,435256640.85000002]
[834,5075524]
[835,4133977]
[836,3415821]
[837,1336324]
[838,1115060]
[839,4604410.6899999995]
[840,19681116.689999998]
[841,34712371]
[842,42502413]
[843,6800010]
[844,84014794]
[845,6219037.5800000001]
[846,4053846.45]
[847,11737291.029999999]
[848,17254295.149999999]
[849,203287]
[850,17457582.149999999]
[851,1288781]
[852,4525110.59]
[853,31151116]
[854,930489]
[855,285160147.51999998]
[856,4915671]
[858,327971315.11000001]
[859,261901]
[860,824442]
[861,6140093]
[862,1664938]
[864,45195536]
[866,54086910]
[867,6818210]
[868,521767218.97999996]
[869,10815167]
[870,967839026.83000004]
[876,39634963.5]
[877,5435]
[883,98275]
[887,48943]
[888,5440346.9100000001]
[889,3265589]
[890,19020]
[891,59814062.68]
[892,128225]
[893,52906]
[894,406625]
[895,5340]
[896,181147]
[897,787537]
[898,1561780]
[899,6827680]
[900,25432965]
[901,53753]
[902,32314398]
[903,473715]
[904,362208]
[905,904985]
[906,1114046.3]
[907,38433]
[908,1152479.3]
[909,279262]
[910,1177269.8199999998]
[911,13290712]
[912,100303]
[913,6014640.6600000001]
[914,1726802]
[916,22588989.48]
[917,111124]
[918,240238]
[919,6321928]
[920,236522]
[922,45553582]
[924,52463394]
[925,1433450]
[926,112419475.77999999]
[927,1035297]
[928,173268835.46000001]
[934,9064881]
[935,56094]
[941,63945]
[945,37750]
[946,2902198]
[947,9607627]
[948,590017]
[949,385228947]
[950,71519]
[951,774353]
[952,148404]
[953,36736]
[954,43115]
[955,273263]
[956,1347390]
[957,2535252]
[958,978494]
[959,88172]
[960,3601918]
[961,11278611.51]
[962,3337293.63]
[963,16309803.140000001]
[964,2369403.7599999998]
[965,22530]
[966,2391933.7599999998]
[967,735663]
[968,3208027]
[969,286836]
[970,3962]
[971,1365851]
[972,131205]
[974,5731544]
[975,8040]
[976,24896]
[977,363670]
[978,453245]
[980,1257609]
[982,2107460]
[983,835808]
[984,32325856.900000002]
[985,8088731]
[986,531742710.52999997]
[987,996434]
[988,130730]
[990,293196]
[992,32394652]
[993,991535639.42999995]
[1032,9075709683.6399994]
[1033,64631212]
[1039,445809063]
[1043,11680729]
[1044,239618620.56999999]
[1045,397918849.69999999]
[1046,54801169.770000003]
[1047,14541444952.520002]
[1048,341572857]
[1049,387529829.58999997]
[1050,224822471.38]
[1051,156876887]
[1052,261468500.90000001]
[1053,101415372.69]
[1054,1473685918.5599999]
[1055,492911153.05000001]
[1056,386767939.73000002]
[1057,46036468]
[1058,925715560.77999997]
[1059,186064475.84999999]
[1060,233049235.65000001]
[1061,535971728.5]
[1062,1127334366.78]
[1063,53015391]
[1064,1180349757.78]
[1065,68398561]
[1066,170469698.88999999]
[1067,226293150.16]
[1068,136750057]
[1069,768322813.13]
[1070,30148653.629999999]
[1072,1400382933.8100002]
[1073,11947405]
[1074,25282033]
[1075,61966351]
[1076,110213413]
[1078,317778156.68000001]
[1080,527187358.68000001]
[1081,41386385]
[1082,6084679643.1100006]
[1083,156879339]
[1084,740016930.94000006]
[1085,996434]
[1086,130730]
[1088,293196]
[1090,32394652]
[1091,21557170259.57]
[1092,1239111641.29]
[1158,2729805]
[1159,1045563]
[1160,608958625.8599999]
[1162,612797182.8599999]
[1163,1113815]
[1164,614013422.8599999]
[1165,614327865.8599999]
[1166,492107]
[1167,150047]
[1168,122882561.03]
[1170,123538359.03]
[1171,183731]
[1172,124013354.03]
[1173,124013373.03]
[1174,1390461]
[1175,13249969]
[1176,636376223.98000002]
[1178,651294168.09000003]
[1179,1971924]
[1180,653332565.09000003]
[1181,655744913.09000003]
[1182,49148]
[1183,524525]
[1184,468480695.32999998]
[1186,469165046.32999998]
[1187,88374]
[1188,469256630.32999998]
[1189,469266713.32999998]
[1190,278746]
[1191,118952872]
[1192,178846791.59999999]
[1193,331017]
[1195,298512720.60000002]
[1196,407229]
[1197,298921703.60000002]
[1198,298968874.60000002]
[1199,49581]
[1200,391513]
[1201,2784801]
[1203,3225895]
[1204,7015]
[1205,3232910]
[1206,3315452]
[1207,42020]
[1209,52484]
[1211,465579]
[1212,8463941]
[1213,4995879]
[1214,135647086]
[1215,2027387323.8000002]
[1216,412408]
[1218,2169014318.9099998]
[1219,3791478]
[1220,2173270922.9099998]
[1221,5672478]
[1222,42020]
[1224,52484]
[1226,465579]
[1227,2181286895.9099998]
[1228,87166833.850000009]
[1246,5177763]
[1247,5177763]
[1248,5177763]
[1249,17709]
[1251,1016798227]
[1252,616678]
[1253,2583817]
[1254,1878853134]
[1255,83881742]
[1256,2982116920]
[1257,2982256903]
[1263,17709]
[1265,1016798227]
[1266,616678]
[1267,2583817]
[1268,1878853134]
[1269,89059505]
[1270,2987294683]
[1271,2987434666]
[1272,-790602762.20000005]
[1274,250016007.88]
[1277,1252696]
[1278,251710861.88]
[1279,251748525.88]
[1280,43418761.32]
[1283,283749]
[1284,43748806.32]
[1285,43749535.32]
[1286,715321719.89999998]
[1289,339444]
[1290,717899497.89999998]
[1291,12729286]
[1292,730802959.89999998]
[1293,67522247.349999994]
[1296,75692]
[1297,67625025.349999994]
[1298,67628153.349999994]
[1299,74031959.75]
[1303,74031959.75]
[1304,74031959.75]
[1305,3008866]
[1308,8731]
[1309,3017597]
[1310,10649]
[1312,173198]
[1314,16375090]
[1315,23480545]
[1316,1154868314.1999998]
[1319,1960312]
[1320,1159582500.1999998]
[1321,15567144]
[1322,10649]
[1324,173198]
[1326,16375090]
[1327,1192990431.1999998]
[1328,182088027.53999999]
[1335,717612]
[1341,7874022]
[1345,705456]
[1346,2906697.37]
[1347,11771219.68]
[1348,1889701.9]
[1349,241591398.34000003]
[1350,8208506]
[1351,6844075]
[1352,17314096.640000001]
[1353,1820188]
[1354,2742701]
[1355,6745460]
[1356,43675026.640000001]
[1357,7899295.8200000003]
[1358,17017865.75]
[1359,653223]
[1360,25570384.57]
[1361,9615542]
[1362,9975373.1099999994]
[1363,28010783.300000001]
[1364,44795060.339999996]
[1365,1963541]
[1366,46758601.339999996]
[1367,4115641]
[1368,17278398.850000001]
[1369,328662]
[1370,113063750.76000001]
[1371,42940120.640000001]
[1372,22622775.460000001]
[1373,1763853]
[1375,202113201.71000001]
[1376,400555]
[1377,1186583]
[1378,4151363]
[1379,5343395]
[1381,15235260]
[1383,26317156]
[1384,1486542]
[1385,373931695.55999994]
[1386,5727988]
[1387,623771613.89999998]
[1399,717612]
[1405,7874022]
[1409,705456]
[1410,2906697.37]
[1411,11771219.68]
[1412,1889701.9]
[1413,241591398.34000003]
[1414,8208506]
[1415,6844075]
[1416,17314096.640000001]
[1417,1820188]
[1418,2742701]
[1419,6745460]
[1420,43675026.640000001]
[1421,7899295.8200000003]
[1422,17017865.75]
[1423,653223]
[1424,25570384.57]
[1425,9615542]
[1426,9975373.1099999994]
[1427,28010783.300000001]
[1428,44795060.339999996]
[1429,1963541]
[1430,46758601.339999996]
[1431,4115641]
[1432,17278398.850000001]
[1433,328662]
[1434,113063750.76000001]
[1435,42940120.640000001]
[1436,22622775.460000001]
[1437,1763853]
[1439,202113201.71000001]
[1440,400555]
[1441,1186583]
[1442,4151363]
[1443,5343395]
[1445,15235260]
[1447,26317156]
[1448,1486542]
[1449,373931695.55999994]
[1450,5727988]
[1456,623771613.89999998]
[1457,24628771.439999998]
[1458,1820904]
[1461,4555]
[1462,1825459]
[1463,1825459]
[1464,285260]
[1467,585]
[1468,285845]
[1469,285845]
[1470,82499477.819999993]
[1473,1973468]
[1474,84472945.819999993]
[1475,84472945.819999993]
[1476,4909856]
[1479,98732]
[1480,5008588]
[1481,5008588]
[1482,1367276613.25]
[1485,7254879]
[1486,1374531492.25]
[1487,1374531492.25]
[1488,10834139]
[1491,1465588]
[1492,12299727]
[1493,13167827]
[1494,1494797009.0699999]
[1497,10797807]
[1498,1505594816.0699999]
[1499,1506462916.0699999]
[1500,-1266594855.46]
[1556,6158665302.0100002]
[1569,7500419100.3000002]
[1570,1318454314]
[1583,1358983026.8500001]
[1584,1432923189]
[1597,1649693562.8000002]
[1598,727228544]
[1611,851828843.54000008]
[1612,441349186]
[1625,466801129.44]
[1626,2221889838]
[1639,2449242398.54]
[1683,11916802642.279999]
[1684,1526534644.6700001]
[1685,1572734829.8000002]
[1686,627257205.68000007]
[1687,273184982.84000003]
[1688,68420027.560000002]
[1690,9526435]
[1691,336083725.00999999]
[1692,54786329.559999995]
[1693,485207705.32999998]
[1698,17635445174.939999]
[1699,5183810080.1099997]
[1700,855482885.44999993]
[1701,876085790.13]
[1702,377950810.68000001]
[1703,166843496.93000001]
[1704,45595914.100000001]
[1706,1958956]
[1707,226643430.05000001]
[1708,37613606.009999998]
[1709,251815893.64999998]
[1714,8250719874.4499979]
[1715,6732992562.170001]
[1716,671051759.22000003]
[1717,696649039.67000008]
[1718,249306395]
[1719,106341485.91000001]
[1720,22824113.460000001]
[1722,7567479]
[1723,109440294.95999999]
[1724,17172723.550000001]
[1725,233391811.68000004]
[1730,9384725301.4899998]
[1731,5468522699.5782604]
[1732,884735689.19574142]
[1733,874727401.6945461]
[1734,348079199.55578548]
[1735,165094199.00204197]
[1736,45604474.033277296]
[1738,1491940]
[1739,225386866.002776]
[1740,38198839.587277301]
[1741,259572610.34719247]
[1746,8532942065.0455084]
[1747,12201515261.74826]
[1748,1555787448.4157414]
[1749,1571376441.3645461]
[1750,597385594.55578566]
[1751,271435684.91204202]
[1752,68428587.493277282]
[1754,9059419]
[1755,334827160.96277601]
[1756,55371563.137277298]
[1757,492964422.02719253]
[1762,17917667366.535511]
[1764,16924218]
[1765,4000000]
[1767,1000000]
[1772,21924218]
[1773,958017900]
[1774,50000]
[1776,958067900]
[1778,80200000]
[1779,200350]
[1781,1000000]
[1786,81400350]
[1787,1206439050]
[1788,80000]
[1790,1206519050]
[1792,87024218]
[1793,4100000]
[1795,1000000]
[1800,92124218]
[1801,1558106900]
[1802,50000]
[1804,1558156900]
[1806,10100000]
[1807,100350]
[1809,1000000]
[1814,11200350]
[1815,606350050]
[1816,80000]
[1818,606430050]
[1878,20972105712]
[1879,4112600847]
[1887,892197]
[1889,158]
[1892,158]
[1894,99977]
[1896,99977]
[1897,792378]
[1910,2437794]
[1911,465361192.52999997]
[1912,1010592.1]
[1913,2509732]
[1916,468881516.63]
[1918,1902417]
[1919,14237679]
[1921,465829365.52999997]
[1922,5489945.1000000015]
[1947,1266377224.05]
[1948,40341653585.32]
[1949,2164509294.3800001]
[1950,3252357949.3200002]
[1951,978673734.38999999]
[1952,49188145867.650002]
[1953,15644953]
[1954,1440211076.3599999]
[1955,154897093.47000003]
[1956,204169065.22]
[1957,76854245]
[1958,2982466565.9999995]
[1959,826989]
[1960,152934606]
[1961,3885967]
[1962,89832747]
[1963,100908480]
[1964,1327949386]
[1965,1281195188.05]
[1966,41628930055.68]
[1967,2315520420.8499999]
[1968,3366694267.54]
[1969,954619499.3900001]
[1970,50842663047.650009]
[1972,15529091449.540001]
[1973,1005882395.1700001]
[1974,2519478594.6199999]
[1975,759351754.19000006]
[1976,19917533509.360001]
[1978,965097850.87]
[1979,96669103.730000004]
[1980,182802621.44999999]
[1981,65158203.350000001]
[1982,1318502879.95]
[1984,63008512]
[1985,3904355]
[1986,71357899]
[1987,95916570]
[1988,235773562]
[1990,16431180788.409998]
[1991,1098647143.8999999]
[1992,2630923317.0700002]
[1993,728593387.53999996]
[1994,21000262827.310005]
[1995,1281195188.05]
[1996,25197749267.27]
[1997,1216873276.95]
[1998,735770950.47000003]
[1999,226026111.84999996]
[2000,29842400220.34]
[2020,231691953.53]
[2027,439659857.94000006]
[2028,295490894]
[2030,3221537]
[2031,93915]
[2032,5578563]
[2033,93915]
[2041,868100]
[2044,348701908]
[2045,22886673]
[2374,245128508]
[2376,205831719]
[2414,167255841]
[2416,145891999]
[2443,1036906569]
[2474,1239661355]
[2490,14294675241.91]
[2492,6430140893.0099993]
[2493,2058525513.9400001]
[2494,22796281900.859997]
[2495,14541444952.520002]
[2496,6084679643.1100006]
[2497,156879339]
[2498,740016930.94000006]
[2499,34149394]
[2500,21557170259.57]
[2501,1239111641.29]
[2502,1276757]
[2503,1713365072.7600002]
[2505,546116589]
[2506,7855997]
[2507,2268453729.7600002]
[2508,2173270922.9099998]
[2509,1877916]
[2510,5672478]
[2511,465579]
[2512,2181286895.9099998]
[2513,87166833.850000009]
[2514,1692437]
[2530,689509105.20000005]
[2532,683785411.53999996]
[2533,1708570]
[2534,1375078458.74]
[2535,1159582500.1999998]
[2536,1465697]
[2537,15567144]
[2538,16375090]
[2539,1192990431.1999998]
[2540,182088027.53999999]
[2541,-244177]
[2542,633010474.33999991]
[2543,13223355]
[2544,2166556]
[2545,648400385.33999991]
[2546,241591398.34000003]
[2547,373931695.55999994]
[2548,5727988]
[2551,623771613.89999998]
[2552,24628771.439999998]
[2553,37324]
[2569,1804975926.8000002]
[2570,342932209]
[2571,2196831903.8000002]
[2572,139983]
[2573,2987294683]
[2574,2987434666]
[2575,-790602762.20000005]
[2576,-771344]
[2594,183439983.61000001]
[2595,55672630]
[2596,755447]
[2597,239868060.61000001]
[2598,1505594816.0699999]
[2599,868100]
[2600,1506462916.0699999]
[2601,-1266594855.46]
[2602,-138403]
[2657,72516314]
[2658,16368267]
[2659,4964028]
[2660,1459349]
[2661,65718]
[2662,422099]
[2663,96006143]
[2664,3507910]
[2665,3507910]
[2696,289340251]
[2697,9311959]
[2699,13646687]
[2701,3415270]
[2702,403684]
[2705,47069]
[2708,2365437]
[2711,3316000]
[2728,207967904.41]
[2729,208274220.41]
[2731,30974292]
[2733,9299700]
[2735,30974292]
[2736,314443]
[2737,19]
[2738,55322]
[2739,10083]
[2740,47171]
[2741,1450000]
[2744,1877916]
[2745,12043528]
[2752,1949430]
[2756,287290136]
[2758,1949430]
[2759,37664]
[2760,729]
[2761,174176]
[2762,12729286]
[2764,3128]
[2766,1250000]
[2767,2837858]
[2769,2837858]
[2775,1465697]
[2776,15567144]
[2779,3307350]
[2787,3583747]
[2793,105042]
[2794,3538042.54]
[2795,11717]
[2797,10161469]
[2799,1106319]
[2801,30260289]
[2803,1061757475]
[2819,29552046]
[2824,476588747]
[2826,-28997]
[2827,2272139796.5100002]
[2831,38351905]
[2833,2055945]
[2834,252875061.57000002]
[2847,16329068]
[2849,17128910]
[2850,97680018]
[2851,2157330868.5900002]
[2852,2272139796.5900002]
[2853,207332785.57000002]
[2855,207332785.57000002]
[2856,252870861.57000002]
[2886,910]
[2888,74590518]
[2889,118626014.41]
[2890,136372]
[2891,2204583]
[2892,1206355]
[2893,11204062]
[2894,19978808]
[2895,195518279.53]
[2896,175788]
[2897,10350179]
[2898,584025]
[2899,5084874]
[2912,94569326]
[2913,314144293.94]
[2914,312160]
[2915,12554762]
[2916,1790380]
[2917,16288936]
[2918,870733]
[2919,828936]
[2920,1368312]
[2925,2457130]
[2926,948503]
[2927,1629374]
[2928,5050951]
[2929,7449484]
[2931,14909]
[2933,213942]
[2934,930170]
[2935,1115415]
[2937,17023]
[2939,775250]
[2946,5981121]
[2947,8564899]
[2949,31932]
[2951,989192]
[2994,155581382.56]
[2995,36357165.439999998]
[2996,21506939]
[2997,47202360.100000001]
[2998,5580026.2699999996]
[2999,443445]
[3001,271010638.37]
[3003,7566508.8600000003]
[3004,7566508.8600000003]
[3010,40766271]
[3011,4771805]
[3017,13890615]
[3018,444418]
[3021,2656880773]
[3022,7932465]
[3100,7462720]
[3109,7462720]
[3164,92668658.310000002]
[3165,92668658.310000002]
[3166,92668658.310000002]
[3167,33869368]
[3168,492689946]
[3169,123178562]
[3170,391324546]
[3171,101365400]
[3172,1340477041.29]
[3173,21280735]
[3174,418035742]
[3175,88363426]
[3176,466366300]
[3177,-48330558]
[3178,38836275.850000001]
[3190,14870822]
[3191,60153160]
[3192,10210782]
[3193,117396711]
[3194,-57243551]
[3195,124844476.53999999]
[3197,833358]
[3198,47510]
[3199,47510]
[3200,785848]
[3201,25414619.439999998]
[3212,172726040]
[3213,3093694288]
[3214,1798259672]
[3215,2085549808]
[3216,1008144480]
[3217,217541717.79999998]
[3234,112195370]
[3235,1560676727]
[3236,37519303]
[3237,66590908]
[3238,1494085819]
[3239,227490963.53999999]
[3255,1488458]
[3256,323868256]
[3257,418001221]
[3258,-94132965]
[3259,-1464306.6900000013]
[3260,2256425503]
[3261,49690]
[3262,2255010886.3099999]
[3305,1900301857.5799999]
[3306,18549915.539999999]
[3307,451035594.07999998]
[3308,3943165.91]
[3309,82769563.00999999]
[3310,2109903]
[3311,20241161.149999999]
[3312,339230]
[3313,3096769]
[3314,94699]
[3315,61381968]
[3316,2966979]
[3319,2524153535.8200002]
[3320,28028800.449999999]
[3326,104177180.84999999]
[3327,93712044.590000004]
[3328,763978]
[3329,104177180.84999999]
[3330,93712044.590000004]
[3331,763978]
[3344,12940252]
[3345,1116071]
[3347,75372]
[3350,6379387847.3199997]
[3353,1157395148.2]
[3356,1402570813]
[3358,694514031.44000006]
[3361,391362208.50999999]
[3364,2156084898]
[3366,1707673210.51]
[3374,209422340.56999999]
[3385,302610041.5]
[3386,178715504.63]
[3387,123894536.86999999]
[3388,185849381.29533258]
[3389,309743918.16533262]
[3390,953569586]
[3391,1082582720.8200002]
[3392,978241833]
[3393,1057910473.8199999]
[3398,1057910473.8199999]
[3421,63189]
[3422,13644]
[3423,277514.11]
[3424,110678]
[3425,103294]
[3427,571622.11]
[3429,1738]
[3431,85000]
[3432,9154948]
[3458,8781382]
[3469,895457]
[3470,1559255]
[3471,10866998]
[3473,14441016]
[3485,249498742.78999999]
[3487,11024911]
[3489,88053333]
[3490,17]
[3491,348798490.78999996]
[3500,-223]
[3501,12489342]
[3504,29592076]
[3505,74160835]
[3506,245045579.59]
[3507,348798490.59000003]
[3508,58250623.359999999]
[3509,500364]
[3510,58750987.359999999]
[3511,165652408.05000001]
[3512,238830]
[3513,741730]
[3514,166632968.05000001]
[3515,-107881980.69]
[3516,4557]
[3518,98166880]
[3519,3675955]
[3521,49338]
[3522,2623139]
[3523,111515424]
[3524,848251]
[3525,1048505]
[3526,110466919]
[3527,2584938.3100000005]
[3528,316422681]
[3529,238630]
[3530,319246249.31]
[3556,275252]
[3557,788477]
[3558,1063729]
[3559,22247]
[3560,1085976]
[3561,1085976]
[3563,42747]
[3564,131500]
[3565,174247]
[3567,174247]
[3568,174247]
[3570,17261804.780000001]
[3571,11634264]
[3572,28896068.780000001]
[3573,1530958]
[3574,30427026.780000001]
[3575,30427026.780000001]
[3577,229714]
[3578,789274]
[3579,1018988]
[3581,1018988]
[3582,1018988]
[3584,96689869.049999997]
[3585,35203020.219999999]
[3586,131892889.27]
[3588,131892889.27]
[3589,131892889.27]
[3591,550497]
[3592,337505]
[3593,888002]
[3594,26902]
[3595,914904]
[3599,1895464]
[3607,115158083.83]
[3608,48914217.219999999]
[3609,164072301.05000001]
[3610,1580107]
[3611,165652408.05000001]
[3612,238830]
[3613,238830]
[3617,166632968.05000001]
[3620,-107881980.69]
[3637,52950]
[3638,147304]
[3641,52950]
[3642,147304]
[3656,716428]
[3660,1739617]
[3661,2520532]
[3662,1739617]
[3663,2520532]
[3664,36774589.710000001]
[3665,28893788.710000001]
[3666,7880801]
[3667,27790682.593277302]
[3668,35671483.593277298]
[3669,228954581.96999997]
[4013,102425]
[4014,291264]
[4015,66473]
[4016,3210]
[4017,1754]
[4019,465126]
[4020,442158]
[4021,46296]
[4022,2238334]
[4023,27086]
[4026,2753874]
[4041,202]
[4042,425521815]
[4043,202]
[4044,19309516]
[4046,406212299]
[4048,7888082.1600000001]
[4050,414100381.16000003]
[4052,6473039168.8000002]
[4053,8409771]
[4055,829841]
[4057,19598113]
[4061,29269321069.660004]
[4062,2276863500.7600002]
[4063,2196831903.8000002]
[4064,1375908299.74]
[4065,648400385.33999991]
[4066,259466173.61000001]
[4067,92668658.310000002]
[4069,58750987.359999999]
[4070,6473039168.8000002]
[4071,8409771]
[4072,829841]
[4073,19598113]
[4075,28030209428.369999]
[4076,2189696666.9099998]
[4077,2987434666]
[4078,1193820272.1999998]
[4079,623771613.89999998]
[4080,1526061029.0699999]
[4083,166632968.05000001]
[4095,183847]
[4096,183847]
[4104,61745]
[4105,61745]
[4110,21557256289]
[4111,19912031421]
[4112,3256361735]
[4116,-271088535]
[4128,213723]
[4138,1586397]
[4139,119567]
[4140,261062]
[4141,2357026]
[4142,2357026]
[4149,14776035]
[4150,14776035]
[4166,1032831]
[4204,2090217.5980000007]
[4205,365132.63799999992]
[4206,167378.72269999998]
[4207,2622742]
[4208,11966241857]
[4209,7677204]
[4237,2321860]
[4239,1742547]
[4240,154636]
[4241,1785941]
[4242,489371]
[4243,30000]
[4244,392633]
[4246,144854]
[4248,273421]
[4251,142381]
[4255,8557]
[4256,26234]
[4266,219465]
[4267,2982381]
[4268,61379]
[4269,25000]
[4270,18764922]
[4271,16880299]
[4274,28]
[4275,531755]
[4277,1304]
[4279,198257]
[4283,9672877]
[4290,33097]
[4297,39535882.890000001]
[4298,3802]
[4299,86561]
[4301,108331588.93000001]
[4303,287900]
[4304,9775]
[4311,287900]
[4318,2156985.77]
[4319,14427]
[4330,150416]
[4334,2324191.77]
[4335,14427]
[4346,15319632]
[4348,160578]
[4349,35211]
[4350,21063617]
[4352,161882]
[4353,35370]
[4354,25145647]
[4355,48571]
[4356,2518]
[4357,72031016.99000001]
[4360,18747]
[4373,48923768]
[4376,49929.508999999976]
[4380,561491]
[4382,48923768]
[4385,4244]
[4386,175640]
[4700,4862869]
[4731,31711636]
[4732,1109824]
[4733,6560200]
[4734,31316]
[4735,3471]
[4736,15570530]
[4740,103241]
[4744,19810593]
[4745,19692]
[4752,5]
[4791,31127021]
[4792,175486]
[4794,102]
[4803,19564]
[4804,220938]
[4813,18449707]
[4814,651682]
[4821,1988407]
[4824,279]
[4854,2686]
[4855,4498]
[4857,8752]
[4883,335625]
[4889,9775]
[4934,479098511861]
[4935,46665308965.365059]
[4936,21557256289]
[4939,25000]
[4951,60484612]
[4952,213013589]
[4953,685225]
[4961,130408311]
[4962,39896536]
[4963,103878579]
[4965,28556306.710000001]
[4966,1661788]
[4995,122606950]
[5000,12252083920.279999]
[5002,480103035.32999998]
[5003,202]
[5004,172919]
[5005,12760916383.32]
[5006,1347483.27]
[5007,1456414]
[5008,429139083.54000002]
[5009,18579713]
[5010,450522693.80999994]
[5011,17250859]
[5012,4092120]
[5013,3305114.52]
[5014,16089575]
[5015,416252]
[5016,668152]
[5017,94779]
[5018,287538]
[5020,4219602]
[5021,25169238]
[5022,351167]
[5023,3645479]
[5024,2360]
[5025,615343]
[5026,76877945.520000011]
[5027,92393570.680000007]
[5028,-944805]
[5029,91448765.680000007]
[5030,2876457]
[5031,36610244]
[5032,8054753]
[5033,4351472.91]
[5034,14131487]
[5035,202573879.63]
[5036,20707284.780000001]
[5037,3169823]
[5038,69031493]
[5039,4895864]
[5040,18307977]
[5041,116112441.78]
[5042,97974708.289999992]
[5043,928974]
[5044,668033]
[5045,2680360]
[5046,2101789]
[5047,70650]
[5048,34664]
[5049,126647]
[5050,2472347]
[5051,107058172.29000001]
[5052,11025312]
[5053,23642234.25]
[5054,12034366]
[5055,39914463.239999995]
[5056,2231649]
[5057,46485943]
[5058,199097735.38999999]
[5059,489164959.88]
[5060,14294675241.91]
[5061,10335828]
[5062,2447361]
[5063,157063]
[5064,12940252]
[5065,5288907211.04]
[5066,2891798]
[5071,5312237123.04]
[5072,143988242]
[5073,74146985.340000004]
[5074,102700466.7]
[5076,49465577.729999997]
[5078,6507956]
[5081,4501046]
[5086,381583694.76999998]
[5087,1140963]
[5091,17250525]
[5092,161985]
[5100,21557001]
[5102,82862094]
[5103,451518]
[5104,83313612]
[5106,7232853.2000000002]
[5107,18605581]
[5110,3605207]
[5114,296180]
[5116,48843314]
[5117,49139494]
[5120,75580]
[5126,12813]
[5133,8861289]
[5135,388407799]
[5138,830080]
[5139,2669]
[5153,1117903769.9699998]
[5162,6430140893.0099993]
[5163,14097406]
[5164,14433031]
[5169,48134935]
[5171,68048769]
[5172,16790]
[5178,428075709.91000003]
[5179,1757513]
[5180,131833079.70999999]
[5181,3705697]
[5182,10003623]
[5185,599323326.62]
[5186,620751854]
[5187,2123307]
[5194,424331]
[5195,5212230]
[5199,640179791]
[5213,10130134.620000001]
[5214,3476037]
[5217,349820359.12]
[5218,38023088]
[5219,47137]
[5225,401695012.74000001]
[5240,5748521]
[5243,15421398]
[5249,1577535]
[5251,1331582]
[5252,54013]
[5254,1851738]
[5256,1650086]
[5259,1976043713.9400001]
[5265,2058525513.9400001]
[5266,22796281900.859997]
[5267,1515792124.6700001]
[5269,8189083]
[5270,145750]
[5272,2296059]
[5273,1526423016.6700001]
[5274,224567.61]
[5275,208542]
[5276,79902948]
[5277,990609.7]
[5278,81326667.310000002]
[5279,13843042.029999999]
[5280,-635518]
[5281,13207524.029999999]
[5282,24252]
[5283,322758]
[5284,2298443]
[5286,228932]
[5287,2874385]
[5288,30579381.359999999]
[5289,6114286]
[5290,1079759]
[5291,3705813]
[5292,876630]
[5293,30683162.25]
[5294,89533479.750000015]
[5295,1713365072.7600002]
[5296,605000]
[5298,511071]
[5299,1116071]
[5300,543668721]
[5306,544320403]
[5330,65000]
[5332,10000]
[5333,75000]
[5340,326020]
[5351,1796186]
[5360,546116589]
[5361,5084707]
[5362,5084707]
[5364,19692]
[5370,251]
[5383,251]
[5401,149613]
[5402,6211]
[5409,155824]
[5440,2751598]
[5446,7855997]
[5447,2268453729.7600002]
[5448,1569168206.8000002]
[5451,3614308]
[5452,1572782514.8000002]
[5453,230271.46]
[5454,50717]
[5455,63714897]
[5456,589190]
[5457,64585075.460000001]
[5458,12248506.539999999]
[5459,814098]
[5460,13062604.539999999]
[5461,1750000]
[5462,165796]
[5463,766615]
[5464,106792657]
[5465,154545732]
[5466,1804975926.8000002]
[5467,336372009]
[5473,336372009]
[5476,6560200]
[5483,342932209]
[5491,2196831903.8000002]
[5492,623839199.68000007]
[5495,2902022]
[5496,626741221.68000007]
[5497,87591.52]
[5498,14725]
[5499,9073520]
[5500,386976]
[5501,9562812.5199999996]
[5502,6794708]
[5503,14900627]
[5504,990977]
[5505,5114422]
[5506,259775]
[5507,59325]
[5508,8000]
[5509,52017]
[5510,16511]
[5511,11321]
[5512,133200]
[5513,4217175]
[5514,187716]
[5517,15171]
[5518,32803128]
[5519,7627729]
[5520,-317679]
[5521,7310050]
[5522,101579]
[5523,705899]
[5524,3196144]
[5525,7056536]
[5526,13091893]
[5527,689509105.20000005]
[5528,45553]
[5529,29339]
[5530,480]
[5531,75372]
[5532,47718521]
[5533,1574961]
[5538,49293761]
[5539,4038]
[5540,5625]
[5541,121780]
[5543,183563]
[5553,315006]
[5554,276270265.91999996]
[5556,351399401.62]
[5557,627678224.53999996]
[5564,320]
[5566,6343913]
[5569,114119]
[5583,634491650.53999996]
[5592,683785411.53999996]
[5593,200000]
[5594,200000]
[5603,768092]
[5616,768092]
[5634,55571]
[5635,1498]
[5642,57069]
[5647,12534]
[5652,1508570]
[5658,1708570]
[5659,1375078458.74]
[5660,264930632.84]
[5661,1812761]
[5662,307673998.5]
[5663,1606190]
[5664,576023582.33999991]
[5665,126232]
[5666,46992]
[5667,50437566]
[5668,113249]
[5669,50724039]
[5670,5112665]
[5671,-296936]
[5672,4815729]
[5673,15764]
[5674,70677]
[5675,908622]
[5676,1447124]
[5681,12636095]
[5687,12636095]
[5688,5193]
[5691,10205]
[5693,2031]
[5695,2031]
[5702,5972]
[5704,565581]
[5709,587260]
[5717,13223355]
[5723,5]
[5729,1011938]
[5730,154]
[5738,159]
[5742,1012120]
[5756,37316]
[5760,1012852]
[5761,634]
[5768,1050802]
[5783,24]
[5786,24]
[5802,2166551]
[5808,2166556]
[5809,648400385.33999991]
[5810,9526435]
[5811,37018]
[5812,9563453]
[5813,1380]
[5815,2858909]
[5816,2022291]
[5817,4882580]
[5818,23256979.82]
[5819,-785625]
[5820,22471354.82]
[5821,11322363.300000001]
[5822,657360]
[5823,30276]
[5824,40167058]
[5825,146522595.79000002]
[5826,36938304]
[5832,36938304]
[5838,18734326]
[5845,55672630]
[5846,184181]
[5847,184181]
[5853,755447]
[5854,239868060.61000001]
[5855,68447906.560000002]
[5856,200731]
[5857,68648637.560000002]
[5858,15237.8]
[5859,2799]
[5860,353851]
[5861,3344]
[5862,375231.8]
[5863,24237748.949999999]
[5864,-763506]
[5865,23474242.949999999]
[5866,59999]
[5868,610]
[5869,170546]
[5885,92668658.310000002]
[5924,54994108.559999995]
[5925,230168]
[5926,55224276.559999995]
[5927,15424.8]
[5928,2940]
[5929,10000]
[5930,22591]
[5931,50955.8]
[5932,2918162]
[5933,-173153]
[5934,2745009]
[5936,16098]
[5937,54407]
[5938,230382]
[5939,475364]
[5945,475364]
[5953,500364]
[5962,58750987.359999999]
[5963,633010474.33999991]
[5964,183439983.61000001]
[5965,92668658.310000002]
[5967,58250623.359999999]
[5970,136549465.72]
[5971,2520532]
[5974,55542506.499999993]
[6013,1791546.2299999981]
[6015,396099891]
[6016,6074500]
[6017,394497187]
[6018,7677204]
[6020,59419409]
[6021,32891331]
[6022,586973]
[6023,3408503]
[6024,569641]
[6025,615768]
[6026,42282890]
[6027,308635]
[6028,98208]
[6029,540682293]
[6030,6168796]
[6031,46274563]
[6032,133835657]
[6033,842754]
[6034,7919945]
[6035,13233739]
[6036,26]
[6038,43408202]
[6039,4023302]
[6040,833494]
[6041,4532239]
[6042,480959]
[6043,3880069]
[6044,2838161]
[6045,36397]
[6046,123279]
[6047,3044871]
[6049,223]
[6052,26963999]
[6053,1183384]
[6054,9279578]
[6055,2807942]
[6056,57075]
[6057,150825]
[6059,2546242]
[6062,691]
[6063,321514964.94]
[6064,41244931]
[6065,16661191]
[6066,4530630]
[6067,25468142]
[6068,5349622]
[6069,14605891]
[6070,35295475]
[6071,2056950]
[6072,6940274]
[6073,1005135]
[6075,795076]
[6076,51743]
[6077,8973820]
[6078,2603]
[6081,718625141]
[6082,84055034]
[6083,4361003]
[6084,25516415]
[6085,2602943]
[6086,126351350]
[6087,797239]
[6088,5300146]
[6089,14911041]
[6090,17909637]
[6091,5886022]
[6092,1250]
[6093,937785]
[6094,196148]
[6095,14975533]
[6097,19510]
[6098,120250]
[6099,13787050]
[6100,2183]
[6101,64839]
[6102,3114575]
[6104,4826350]
[6108,627450119]
[6109,3190783]
[6111,2368811]
[6112,6132972]
[6113,17008]
[6115,692857]
[6116,14716]
[6119,34076]
[6120,57898759]
[6121,48216156]
[6122,1500000]
[6130,99240823]
[6153,75903320]
[6154,146370821.78]
[6155,321514964.77999997]
[6156,197077214.94]
[6157,56347587]
[6158,65198172]
[6159,344492569.02999991]
[6160,5513371]
[6162,350005940.02999991]
[6163,7417186]
[6164,357423126.02999991]
[6165,31029]
[6166,366851717.16999996]
[6167,7417186]
[6168,374268903.16999996]
[6169,-16845777.140000001]
[6171,7793]
[6172,1000197]
[6176,17908]
[6177,1892798]
[6178,2866909]
[6179,11537228]
[6180,3153335]
[6181,3470287]
[6182,1140727]
[6183,398105]
[6184,670231]
[6185,2231032]
[6186,3207546]
[6187,1048241]
[6188,4850284]
[6190,500000]
[6191,687190]
[6192,14127]
[6198,46412640]
[6199,2602928]
[6200,5469837]
[6201,-3577039]
[6202,-20422816.140000001]
[6203,242093776]
[6204,603182]
[6205,222274141.86000001]
[6206,1341753798.29]
[6207,40528712.850000001]
[6208,216770373.79999998]
[6209,124600299.53999999]
[6210,25451943.439999998]
[6211,227352560.53999999]
[6212,-1414616.6900000013]
[6213,-19819634.140000001]
[6214,2823568.3100000005]
[6215,172.98246073629457]
[6216,-8587304094.0978708]
[6217,-128809632907.81458]
[6218,-6440478646.0384264]
[6219,-6440479191.7716751]
[6220,-543147063037.39252]
[6221,-85873051392.494553]
[6222,-270500111588.50998]
[6223,-311289818702.44122]
[6224,63657582]
[6225,4073256]
[6226,37253089]
[6227,16133922]
[6228,350706755]
[6229,2228850]
[6231,377894]
[6236,182272]
[6237,336663561.00999999]
[6239,415238]
[6240,337078799.00999999]
[6241,117082.29]
[6242,19439]
[6243,1617577]
[6244,35743]
[6245,1789841.29]
[6246,444886]
[6249,50790]
[6250,174691]
[6251,42183]
[6255,2106532]
[6256,-124706]
[6257,1981826]
[6258,2802]
[6259,1407073]
[6260,2740217.14]
[6261,520000]
[6262,7087]
[6264,7744323]
[6268,1677598]
[6269,138774696]
[6270,8329878]
[6271,2645511]
[6272,180208]
[6273,184603]
[6274,9933371]
[6275,109937]
[6276,128260]
[6277,124975]
[6278,7456717]
[6279,2231902]
[6280,2676962]
[6281,173305]
[6284,104244]
[6288,234735]
[6289,1833003.7300000002]
[6290,3642102.73]
[6291,344492569.02999991]
[6292,5512259]
[6296,5512259]
[6297,4923]
[6298,1836317]
[6300,89]
[6301,46798]
[6304,87582]
[6321,1681]
[6327,151432]
[6334,1112]
[6335,1112]
[6336,5513371]
[6340,188604]
[6353,1414796]
[6605,14557]
[6651,1162753]
[6652,193446]
[6653,1380914]
[6660,2204118]
[6661,11321650]
[6666,185326188.94]
[6670,1770463]
[6676,342813]
[6678,34162841]
[6681,340553]
[6772,1520123]
[6773,2397564]
[6774,48635868]
[6777,340553]
[6780,9684]
[6783,32710308]
[6784,17245642]
[6785,2644749]
[6786,260368]
[6787,262259824.94]
[6788,1900230]
[6789,3426393]
[6790,40774]
[6791,51187]
[6792,102867175.37]
[6793,4327555]
[6794,11765]
[6795,4530]
[6797,13787086]
[6798,9639]
[6799,6038]
[6800,3807079]
[6801,135316]
[6802,1626475]
[6803,40484]
[6806,5564]
[6807,6811]
[6808,456]
[6809,6031]
[6810,47262930.890000001]
[6811,65477]
[6812,397695]
[6813,7516]
[6814,17392]
[6815,5189]
[6816,5189]
[6817,9363481]
[6818,9363481]
[6819,282740286]
[6820,282740286]
[6821,1743072]
[6822,1743072]
[6823,255270]
[6824,255270]
[6827,37515]
[6828,37515]
[6829,1474533]
[6830,1474533]
[6833,978527]
[6834,978527]
[6835,18386]
[6836,18386]
[6839,1128041]
[6840,1128041]
[6841,47150352]
[6842,21605122]
[6843,126742]
[6844,406199]
[6845,67976]
[6846,713674]
[6847,227017]
[6848,177306]
[6849,24108]
[6850,252029]
[6851,70112]
[6852,252621]
[6853,125688]
[6854,110171]
[6855,641643]
[6856,1912000]
[6857,5960829]
[6858,654563]
[6859,12420830]
[6860,239002]
[6861,327713]
[6862,9163]
[6863,18709372]
[6864,902728]
[6865,88893]
[6866,972783]
[6867,203409]
[6868,88106]
[6869,154295]
[6870,56073]
[6871,1485285]
[6872,2285643]
[6873,15800745]
[6874,5058]
[6875,3344]
[6876,1271799]
[6879,20851874]
[6880,20515454]
[6881,446597]
[6882,1116962]
[6883,1932663]
[6884,1749864]
[6885,1144]
[6886,3083]
[6887,1933807]
[6888,1752947]
[6889,61999]
[6890,60080]
[6891,123161]
[6892,324463]
[6893,1175763]
[6894,155124]
[6895,2366]
[6896,142398]
[6897,1669912]
[6898,548483]
[6899,46799]
[6900,3081270]
[6901,1277347]
[6902,212058]
[6903,15597]
[6904,4228]
[6905,28985]
[6906,2756747]
[6907,26459]
[6908,35541]
[6909,2443393]
[6910,18777255]
[6911,74527]
[6912,21785829]
[6913,2588961]
[6914,299136]
[6915,351026]
[6916,46897654]
[6917,9901971]
[6918,1298134]
[6919,43304]
[6920,7805979]
[6921,7805979]
[6922,269359188]
[6923,269359188]
[6924,205900]
[6925,205900]
[6926,14638511]
[6927,14638511]
[6928,456405]
[6929,456405]
[6930,1306529]
[6931,1306529]
[6932,1718382]
[6933,1718382]
[6934,295490894]
[6935,525020]
[6936,525020]
[6937,2029848]
[6938,2029848]
[6941,700020]
[6942,700020]
[6943,61960]
[6944,61960]
[6945,15369]
[6946,15369]
[6947,305406]
[6948,1085771]
[6949,1391177]
[6950,305406]
[6951,4417988]
[6952,4723394]
[6953,141875]
[6954,142785]
[6955,1754742]
[6956,1754742]
[6957,34149394]
[6958,34149394]
[6959,95346140]
[6960,31550397]
[6964,6031]
[6965,1330499]
[6966,2098]
[6967,8445942]
[6968,611683]
[6969,3303]
[6971,81391]
[6972,9861135]
[6973,619812]
[6974,19390]
[6976,9880525]
[6977,619812]
[6978,878]
[6981,366322852.16999996]
[6983,2747391]
[6984,6425679]
[6985,182652]
[6986,94504]
[6987,94504]
[6988,371075]
[6989,371075]
[6990,9881403]
[6991,619812]
[6994,350005940.02999991]
[6998,1504327]
[6999,44425]
[7002,1504327]
[7003,44425]
[7006,1098343]
[7007,1098343]
[7008,316865]
[7009,316865]
[7010,1504327]
[7011,44425]
[7012,4790197.09]
[7013,4790197.09]
[7014,3599655]
[7015,3599655]
[7016,600478]
[7017,600478]
[7018,516647]
[7019,516647]
[7020,84192]
[7021,84192]
[7022,6009]
[7023,6009]
[7028,606313]
[7029,606313]
[7030,47458]
[7031,47458]
[7032,4088851.19]
[7033,4088851.19]
[7036,79135]
[7037,79135]
[7038,27164243]
[7039,6516]
[7042,27164243]
[7043,6516]
[7045,151672]
[7046,151672]
[7052,716428]
[7054,868100]
[7055,27164243]
[7056,6516]
[7057,238588]
[7059,670532]
[7060,37396]
[7062,58265]
[7065,1004781]
[7066,121440]
[7067,1941905]
[7068,64991014]
[7069,74545]
[7070,2588]
[7071,638403]
[7073,74]
[7074,67769969]
[7075,15497]
[7076,279931]
[7077,4245504.7200000007]
[7080,56501]
[7083,4597433.7200000007]
[7084,69702]
[7085,291996]
[7086,51584854]
[7087,238689]
[7088,25314]
[7089,326947]
[7092,52537502]
[7093,16602104]
[7094,1210991]
[7095,12175220]
[7096,160120]
[7097,1741072]
[7098,218148]
[7099,71537]
[7101,32179192]
[7102,55764]
[7103,41629]
[7104,832826]
[7107,826885]
[7110,1757104]
[7111,122117538.06]
[7112,24799266.579999998]
[7113,28411568.189999998]
[7114,599296.37]
[7115,1987937]
[7116,675684]
[7117,242830]
[7118,377416]
[7119,179211536.19999999]
[7122,23134]
[7128,23134]
[7129,204679]
[7130,64896]
[7131,11236321.25]
[7132,43294]
[7133,27126]
[7134,123154]
[7137,11699470.25]
[7138,139447712.06]
[7139,28630614.579999998]
[7140,189629246.16]
[7141,1161692.3700000001]
[7142,3837743]
[7143,2923987]
[7144,314367]
[7145,377490]
[7146,366322852.16999996]
[7147,30962]
[7148,30962]
[7151,67]
[7152,67]
[7153,31029]
[7154,31029]
[7155,139447712.06]
[7156,28630614.579999998]
[7157,189629246.16]
[7158,1161692.3700000001]
[7159,3837743]
[7160,3452852]
[7161,314367]
[7162,377490]
[7163,366851717.16999996]
[7164,-16845777.140000001]
[7165,108200]
[7167,30177]
[7169,138377]
[7173,138377]
[7175,238830]
[7176,238830]
[7179,180239]
[7180,180239]
[7181,741730]
[7182,741730]
[7183,138377]
[7185,53824927]
[7186,9331071]
[7187,9459239]
[7188,1222808]
[7189,190474]
[7190,80316493.819999993]
[7191,19999526.550000001]
[7192,984117]
[7193,1349138]
[7194,41129]
[7195,84810]
[7196,10428749]
[7197,2182358]
[7198,254676]
[7199,693133]
[7200,215730]
[7201,7910]
[7202,37800919.710000001]
[7203,6060777.1799999997]
[7204,1441464]
[7205,816405]
[7206,1050329]
[7207,86549]
[7530,1414796]
[7531,2380]
[7532,1190]
[7534,3570]
[7535,1411226]
[7536,28925765]
[7537,289617]
[7538,11295]
[7539,29204087]
[7540,9374779]
[7541,545442]
[7542,11295]
[7543,9908926]
[7544,19295161]
[7545,154248989.25999999]
[7546,2441057.44]
[7548,156690046.69999999]
[7549,54060313.890000001]
[7550,4377901.55]
[7552,58438215.439999998]
[7553,98251831.25999999]
[7554,46414943.93]
[7555,5376737.6899999995]
[7556,1307469]
[7557,50484212.620000005]
[7558,40291842.950000003]
[7559,3850567]
[7560,1574931]
[7561,42567478.950000003]
[7562,7916733.6699999999]
[7563,134348857]
[7564,13434885.699999996]
[7570,1331937765.6500001]
[7575,32723]
[7576,1539978]
[7577,439]
[7578,34902]
[7590,286379]
[7593,8911150]
[7594,1784421]
[7595,17000]
[7596,17136081]
[7597,3531133]
[7598,13830568]
[7599,90923]
[7602,353175]
[7603,48687]
[7605,521244]
[7606,813112]
[7607,37052]
[7608,795000]
[7609,410400]
[7610,1664755]
[7611,3075016]
[7612,14103898]
[7613,11765442]
[7614,903175]
[7616,288908]
[7617,2148844]
[7618,2143075]
[7619,4751395]
[7620,40433]
[7621,40311]
[7622,175000]
[7623,36348180]
[7624,64380359]
[7625,249222472]
[7626,4994178]
[7629,14200740]
[7630,95]
[7631,53706]
[7635,14254541]
[7636,22400]
[7638,1257532]
[7639,8257]
[7644,1288189]
[7645,181415]
[7646,48069]
[7647,51885609]
[7648,3517061]
[7649,2663537.23]
[7650,97435.09]
[7651,7306904.46]
[7652,92268617.579999998]
[7653,16457373.93]
[7654,3103613]
[7655,419190]
[7656,14575787]
[7657,112611554.81]
[7658,24280903.48]
[7659,449689269.52999997]
[7660,20956661.91]
[7661,51379545.140000001]
[7662,114416]
[7663,17078070.77]
[7664,24612084]
[7665,24085]
[7666,41714239.769999996]
[7667,35306169]
[7668,431118]
[7669,94314060.909999996]
[7670,75023622.49000001]
[7671,70183102.900000006]
[7672,6295768.5700000003]
[7673,331748]
[7674,360408]
[7676,27022763]
[7677,252151]
[7678,460630]
[7679,5129537.1000000015]
[7681,43160339.900000006]
[7682,6043617.5700000003]
[7684,561491]
[7685,561491]
[7686,48635868]
[7687,67070538]
[7688,146451090]
[7689,12249576]
[7690,21978696]
[7691,701289]
[7692,72653795]
[7693,866900]
[7694,6995555]
[7695,14028967.1]
[7697,87060037.129999995]
[7698,55532953.009999998]
[7699,142592990.13999999]
[7700,54797]
[7701,704161333]
[7702,704161333]
[7704,11601939]
[7707,198119]
[7708,27406]
[7712,1220276]
[7713,390000]
[7714,153556]
[7715,543556]
[7716,6559]
[7717,6559]
[7718,95572]
[7719,95572]
[7720,37852]
[7721,37852]
[7722,719170]
[7723,719170]
[7724,203421]
[7725,203421]
[7726,294415]
[7727,294415]
[7728,497836]
[7729,497836]
[7735,497836]

{"sheet":"ESTL,CoC,LkPk ttls 5-1-19","index":24,"n_rows":1191,"n_cols":5,"rows_kept":1191,"cut":false,"hidden":true,"merged":[]}
["txtFieldNum","City of Clay","Lake Park","East STL","adjusted"]
[4,null,0,1317518,1317518]
[12,null,0,null,0]
[16,null,0,53962316,53962316]
[25,null,0,null,0]
[27,null,0,2900055,2900055]
[30,null,0,7739318,7739318]
[31,null,0,43452423,43452423]
[32,null,0,53962316,53962316]
[36,null,0,329379,329379]
[44,null,0,null,0]
[48,null,0,1694294,1694294]
[56,null,0,null,0]
[58,null,0,210583,210583]
[61,null,0,383022,383022]
[62,null,0,null,0]
[63,null,0,1694294,1694294]
[65,null,0,1138861,1138861]
[68,null,0,null,0]
[69,null,0,570310,570310]
[70,null,0,7370322,7370322]
[73,null,0,728106,728106]
[78,null,0,728106,728106]
[79,null,0,1757627,1757627]
[80,null,0,7370322,7370322]
[84,null,0,131752,131752]
[92,null,0,null,0]
[96,null,0,2519922,2519922]
[103,null,0,null,0]
[105,null,0,733927,733927]
[108,null,0,858330,858330]
[109,null,0,null,0]
[110,null,0,2519922,2519922]
[112,null,0,1526804,1526804]
[116,null,0,null,0]
[119,null,0,4937924,4937924]
[123,null,0,null,0]
[124,null,0,976129,976129]
[127,null,0,976129,976129]
[128,null,0,2040364,2040364]
[129,null,0,4937924,4937924]
[138,null,0,null,0]
[142,null,0,1386767,1386767]
[147,null,0,null,0]
[150,null,0,null,0]
[151,null,0,null,0]
[152,null,0,1386767,1386767]
[212,null,0,815300,815300]
[213,null,0,214644813,214644813]
[214,null,0,4604112,4604112]
[215,null,0,20966469,20966469]
[218,null,0,241030694,241030694]
[219,null,0,241030694,241030694]
[220,null,0,241030694,241030694]
[221,null,0,6642216,6642216]
[222,null,0,23577784,23577784]
[223,null,0,30220000,30220000]
[224,null,0,30220000,30220000]
[226,null,0,30220000,30220000]
[227,null,0,30220000,30220000]
[259,null,0,null,0]
[644,null,0,15183063,15183063]
[645,null,0,null,0]
[651,null,0,181439,181439]
[656,null,0,535228,535228]
[657,null,0,194052,194052]
[658,null,0,null,0]
[659,null,0,26930010,26930010]
[660,null,0,1720517,1720517]
[661,null,0,558433,558433]
[662,null,0,314722,314722]
[663,null,0,488843,488843]
[664,null,0,348066,348066]
[665,null,0,75937,75937]
[666,null,0,3506518,3506518]
[667,null,0,2480594,2480594]
[668,null,0,434427,434427]
[669,null,0,10300,10300]
[670,null,0,2925321,2925321]
[671,null,0,null,0]
[672,null,0,990976,990976]
[673,null,0,1609578,1609578]
[674,null,0,2894209,2894209]
[675,null,0,91313,91313]
[676,null,0,2985522,2985522]
[677,null,0,null,0]
[678,null,0,625775,625775]
[679,null,0,2615,2615]
[680,null,0,27796,27796]
[681,null,0,77657,77657]
[682,null,0,231731,231731]
[684,null,0,965574,965574]
[685,null,0,750447,750447]
[686,null,0,369632,369632]
[687,null,0,null,0]
[688,null,0,382838,382838]
[690,null,0,501145,501145]
[692,null,0,2004062,2004062]
[693,null,0,577912,577912]
[694,null,0,14574487,14574487]
[695,null,0,183519,183519]
[696,null,0,41688016,41688016]
[702,null,0,2345912,2345912]
[703,null,0,null,0]
[709,null,0,43022,43022]
[714,null,0,102377,102377]
[715,null,0,19566,19566]
[716,null,0,null,0]
[717,null,0,5352930,5352930]
[718,null,0,377350,377350]
[719,null,0,108203,108203]
[720,null,0,90123,90123]
[721,null,0,102847,102847]
[722,null,0,67669,67669]
[723,null,0,10592,10592]
[724,null,0,756784,756784]
[725,null,0,529034,529034]
[726,null,0,89681,89681]
[727,null,0,null,0]
[728,null,0,618715,618715]
[729,null,0,2192,2192]
[730,null,0,146992,146992]
[731,null,0,268727,268727]
[732,null,0,481585,481585]
[733,null,0,12003,12003]
[734,null,0,493588,493588]
[735,null,0,null,0]
[736,null,0,78236,78236]
[737,null,0,42155,42155]
[738,null,0,2401,2401]
[740,null,0,36161,36161]
[742,null,0,158953,158953]
[743,null,0,145202,145202]
[744,null,0,66772,66772]
[745,null,0,null,0]
[746,null,0,59224,59224]
[748,null,0,95182,95182]
[750,null,0,366380,366380]
[751,null,0,51441,51441]
[752,null,0,2714588,2714588]
[753,null,0,35840,35840]
[754,null,0,8103358,8103358]
[760,null,0,708049,708049]
[772,null,0,58842,58842]
[773,null,0,450543,450543]
[775,null,0,3303205,3303205]
[776,null,0,35613,35613]
[777,null,0,6489,6489]
[778,null,0,318234,318234]
[779,null,0,5016,5016]
[780,null,0,null,0]
[781,null,0,null,0]
[782,null,0,365352,365352]
[783,null,0,880056,880056]
[784,null,0,134,134]
[785,null,0,22633,22633]
[786,null,0,902823,902823]
[787,null,0,112939,112939]
[788,null,0,251399,251399]
[789,null,0,373094,373094]
[790,null,0,141352,141352]
[792,null,0,141352,141352]
[793,null,0,null,0]
[794,null,0,85822,85822]
[795,null,0,159359,159359]
[796,-148798,0,0,-148798]
[797,148798,0,2811494,2960292]
[798,null,0,17436,17436]
[800,null,0,3074111,3074111]
[801,null,0,32634,32634]
[802,null,0,331919,331919]
[803,null,0,38755,38755]
[804,null,0,157860,157860]
[806,null,0,302801,302801]
[808,null,0,863969,863969]
[809,null,0,9086,9086]
[810,null,0,5729787,5729787]
[811,null,0,429726,429726]
[812,null,0,10059830,10059830]
[818,null,0,446414,446414]
[819,null,0,null,0]
[825,null,0,405,405]
[830,null,0,87048,87048]
[831,null,0,271102,271102]
[832,null,0,null,0]
[833,null,0,1072898,1072898]
[834,null,0,45536,45536]
[835,null,0,null,0]
[836,null,0,1532,1532]
[837,null,0,null,0]
[838,null,0,null,0]
[839,null,0,null,0]
[840,null,0,47068,47068]
[841,null,0,100059,100059]
[842,null,0,null,0]
[843,null,0,null,0]
[844,null,0,100059,100059]
[845,null,0,3504,3504]
[846,null,0,64582,64582]
[847,null,0,90583,90583]
[848,null,0,26120,26120]
[850,null,0,26120,26120]
[851,null,0,null,0]
[852,null,0,51037,51037]
[853,null,0,57374,57374]
[854,-1470,null,null,-1470]
[855,1470,0,30624,32094]
[856,null,0,39748,39748]
[858,null,0,178783,178783]
[859,null,0,2091,2091]
[860,null,0,49445,49445]
[861,null,0,128922,128922]
[862,null,0,11138,11138]
[864,null,0,232235,232235]
[866,null,0,423831,423831]
[867,null,0,8409,8409]
[868,null,0,874853,874853]
[869,null,0,46222,46222]
[870,null,0,1993973,1993973]
[876,null,0,8623,8623]
[888,null,0,27381,27381]
[889,null,0,null,0]
[891,null,0,151108,151108]
[899,null,0,null,0]
[900,null,0,null,0]
[902,null,0,null,0]
[903,null,0,null,0]
[904,null,0,null,0]
[905,null,0,1310,1310]
[906,null,0,null,0]
[908,null,0,null,0]
[909,null,0,null,0]
[910,null,0,null,0]
[911,null,0,240893,240893]
[912,-7488,null,null,-7488]
[913,7488,0,9327,16815]
[914,null,0,null,0]
[916,null,0,250220,250220]
[920,null,0,null,0]
[922,null,0,79193,79193]
[924,null,0,79193,79193]
[925,null,0,3000,3000]
[926,null,0,333723,333723]
[927,null,0,22336,22336]
[928,null,0,507167,507167]
[934,null,0,null,0]
[935,null,0,null,0]
[946,null,0,null,0]
[947,null,0,27275,27275]
[948,null,0,null,0]
[949,null,0,5105578,5105578]
[957,null,0,176,176]
[958,null,0,null,0]
[960,null,0,176,176]
[961,null,0,11796,11796]
[962,null,0,27974,27974]
[963,null,0,111749,111749]
[964,null,0,null,0]
[966,null,0,null,0]
[967,null,0,null,0]
[968,null,0,88388,88388]
[971,null,0,null,0]
[974,null,0,88388,88388]
[977,null,0,null,0]
[978,null,0,32844,32844]
[980,null,0,null,0]
[982,null,0,32844,32844]
[984,null,0,233157,233157]
[986,null,0,139422,139422]
[993,null,0,5478157,5478157]
[1032,null,0,18791945,18791945]
[1033,null,0,null,0]
[1039,null,0,224866,224866]
[1044,null,0,810876,810876]
[1045,null,0,962538,962538]
[1046,null,0,null,0]
[1047,null,0,42137763,42137763]
[1048,null,0,2239058,2239058]
[1049,null,0,673125,673125]
[1050,null,0,724611,724611]
[1051,null,0,658977,658977]
[1052,null,0,415735,415735]
[1053,null,0,86529,86529]
[1054,null,0,4798035,4798035]
[1055,null,0,4030127,4030127]
[1056,null,0,564450,564450]
[1057,null,0,32933,32933]
[1058,null,0,4627510,4627510]
[1059,null,0,130431,130431]
[1060,null,0,1481923,1481923]
[1061,null,0,2455041,2455041]
[1062,null,0,3543266,3543266]
[1063,null,0,103316,103316]
[1064,null,0,3646582,3646582]
[1065,null,0,null,0]
[1066,null,0,929258,929258]
[1067,null,0,502396,502396]
[1068,-157756,0,30197,-127559]
[1069,157756,0,2929102,3086858]
[1070,null,0,338444,338444]
[1072,null,0,4729397,4729397]
[1073,null,0,930374,930374]
[1074,null,0,817768,817768]
[1075,null,0,167677,167677]
[1076,null,0,643904,643904]
[1078,null,0,1210556,1210556]
[1080,null,0,3770279,3770279]
[1081,null,0,649848,649848]
[1082,null,0,24676692,24676692]
[1083,null,0,717643,717643]
[1084,null,0,736534,736534]
[1091,null,0,68268632,68268632]
[1092,null,0,7537932,7537932]
[1160,null,0,2621285,2621285]
[1162,null,0,2621285,2621285]
[1164,null,0,2621285,2621285]
[1165,null,0,2621285,2621285]
[1168,null,0,487053,487053]
[1170,null,0,487053,487053]
[1172,null,0,487053,487053]
[1173,null,0,487053,487053]
[1176,null,0,1782914,1782914]
[1178,null,0,1782914,1782914]
[1179,null,0,null,0]
[1180,null,0,1782914,1782914]
[1181,null,0,1782914,1782914]
[1184,null,0,2201259,2201259]
[1186,null,0,2201259,2201259]
[1188,null,0,2201259,2201259]
[1189,null,0,2201259,2201259]
[1191,null,0,null,0]
[1192,null,0,66024,66024]
[1193,null,0,null,0]
[1195,null,0,66024,66024]
[1197,null,0,66024,66024]
[1198,null,0,66024,66024]
[1201,null,0,null,0]
[1203,null,0,null,0]
[1205,null,0,null,0]
[1206,null,0,null,0]
[1212,null,0,null,0]
[1214,null,0,null,0]
[1215,null,0,7160645,7160645]
[1216,null,0,null,0]
[1218,null,0,7160645,7160645]
[1219,null,0,null,0]
[1220,null,0,7160645,7160645]
[1221,null,0,null,0]
[1227,null,0,7160645,7160645]
[1228,null,0,-1678656,-1678656]
[1246,null,0,null,0]
[1247,null,0,null,0]
[1248,null,0,null,0]
[1251,null,0,1652074,1652074]
[1254,null,0,3180000,3180000]
[1255,null,0,2284,2284]
[1256,null,0,4834358,4834358]
[1257,null,0,4834358,4834358]
[1265,null,0,1652074,1652074]
[1268,null,0,3180000,3180000]
[1269,null,0,2284,2284]
[1270,null,0,4834358,4834358]
[1271,null,0,4834358,4834358]
[1272,null,0,-70171,-70171]
[1274,null,0,585809,585809]
[1278,null,0,585809,585809]
[1279,null,0,585809,585809]
[1280,null,0,9799,9799]
[1284,null,0,9799,9799]
[1285,null,0,9799,9799]
[1286,null,0,4247337,4247337]
[1290,null,0,4247337,4247337]
[1292,null,0,4247337,4247337]
[1293,null,0,2389,2389]
[1297,null,0,2389,2389]
[1298,null,0,2389,2389]
[1299,null,0,null,0]
[1303,null,0,null,0]
[1304,null,0,null,0]
[1305,null,0,null,0]
[1309,null,0,null,0]
[1314,null,0,null,0]
[1315,null,0,null,0]
[1316,null,0,4845334,4845334]
[1320,null,0,4845334,4845334]
[1326,null,0,null,0]
[1327,null,0,4845334,4845334]
[1328,null,0,-269490,-269490]
[1335,null,0,null,0]
[1341,null,0,8218,8218]
[1346,null,0,7912,7912]
[1347,null,0,16031,16031]
[1348,null,0,null,0]
[1349,null,0,832148,832148]
[1350,null,0,101029,101029]
[1351,null,0,16155,16155]
[1352,null,0,31461,31461]
[1353,null,0,31124,31124]
[1354,null,0,5808,5808]
[1355,null,0,9586,9586]
[1356,null,0,195163,195163]
[1357,null,0,52939,52939]
[1358,null,0,43703,43703]
[1359,null,0,null,0]
[1360,null,0,96642,96642]
[1361,null,0,24513,24513]
[1362,null,0,57580,57580]
[1363,null,0,224670,224670]
[1364,null,0,121354,121354]
[1365,null,0,1303,1303]
[1366,null,0,122657,122657]
[1367,null,0,null,0]
[1368,null,0,71934,71934]
[1370,null,0,320998,320998]
[1371,null,0,71790,71790]
[1372,null,0,6088,6088]
[1373,null,0,30125,30125]
[1375,null,0,500935,500935]
[1376,null,0,30013,30013]
[1377,null,0,31767,31767]
[1378,null,0,null,0]
[1379,null,0,36510,36510]
[1381,null,0,58090,58090]
[1383,null,0,156380,156380]
[1384,null,0,55736,55736]
[1385,null,0,1352183,1352183]
[1386,null,0,19371,19371]
[1387,null,0,2203702,2203702]
[1399,null,0,null,0]
[1405,null,0,8218,8218]
[1410,null,0,7912,7912]
[1411,null,0,16031,16031]
[1412,null,0,null,0]
[1413,null,0,832148,832148]
[1414,null,0,101029,101029]
[1415,null,0,16155,16155]
[1416,null,0,31461,31461]
[1417,null,0,31124,31124]
[1418,null,0,5808,5808]
[1419,null,0,9586,9586]
[1420,null,0,195163,195163]
[1421,null,0,52939,52939]
[1422,null,0,43703,43703]
[1423,null,0,null,0]
[1424,null,0,96642,96642]
[1425,null,0,24513,24513]
[1426,null,0,57580,57580]
[1427,null,0,224670,224670]
[1428,null,0,121354,121354]
[1429,null,0,1303,1303]
[1430,null,0,122657,122657]
[1431,null,0,null,0]
[1432,null,0,71934,71934]
[1434,null,0,320998,320998]
[1435,null,0,71790,71790]
[1436,null,0,6088,6088]
[1437,null,0,30125,30125]
[1439,null,0,500935,500935]
[1440,null,0,30013,30013]
[1441,null,0,31767,31767]
[1442,null,0,null,0]
[1443,null,0,36510,36510]
[1445,null,0,58090,58090]
[1447,null,0,156380,156380]
[1448,null,0,55736,55736]
[1449,null,0,1352183,1352183]
[1450,null,0,19371,19371]
[1456,null,0,2203702,2203702]
[1457,null,0,98529,98529]
[1470,null,0,null,0]
[1474,null,0,null,0]
[1475,null,0,null,0]
[1482,null,0,null,0]
[1486,null,0,null,0]
[1487,null,0,null,0]
[1488,null,0,1337,1337]
[1492,null,0,1337,1337]
[1493,null,0,1337,1337]
[1494,null,0,1337,1337]
[1498,null,0,1337,1337]
[1499,null,0,1337,1337]
[1500,null,0,7007,7007]
[1556,null,0,38685066,38685066]
[1569,null,0,46222998,46222998]
[1570,null,0,2989928,2989928]
[1583,null,0,1311272,1311272]
[1584,null,0,6712387,6712387]
[1597,null,0,6642216,6642216]
[1598,null,0,1931082,1931082]
[1611,null,0,1661592,1661592]
[1612,null,0,3863266,3863266]
[1625,null,0,3961795,3961795]
[1626,null,0,1379760,1379760]
[1639,null,0,1386767,1386767]
[1683,null,0,1632157,1632157]
[1684,null,0,427265,427265]
[1685,null,0,1570884,1570884]
[1686,null,0,170908,170908]
[1687,null,0,545259,545259]
[1688,null,0,42725,42725]
[1691,null,0,3361526,3361526]
[1692,null,0,42725,42725]
[1693,null,0,34186,34186]
[1698,null,0,9259332,9259332]
[1699,null,0,820569,820569]
[1700,null,0,214807,214807]
[1701,null,0,836290,836290]
[1702,null,0,85925,85925]
[1703,null,0,267935,267935]
[1704,null,0,21479,21479]
[1707,null,0,1667727,1667727]
[1708,null,0,21479,21479]
[1709,null,0,17189,17189]
[1714,null,0,4656348,4656348]
[1715,null,0,811588,811588]
[1716,null,0,212458,212458]
[1717,null,0,734594,734594]
[1718,null,0,84983,84983]
[1719,null,0,277324,277324]
[1720,null,0,21246,21246]
[1723,null,0,1693799,1693799]
[1724,null,0,21246,21246]
[1725,null,0,16997,16997]
[1730,null,0,4602984,4602984]
[1731,null,0,1012412,1012412]
[1732,null,0,265029,265029]
[1733,null,0,916365,916365]
[1734,null,0,106012,106012]
[1735,null,0,345987,345987]
[1736,null,0,26503,26503]
[1739,null,0,2112918,2112918]
[1740,null,0,26503,26503]
[1741,null,0,21202,21202]
[1746,null,0,5741962,5741962]
[1747,null,0,1824000,1824000]
[1748,null,0,477487,477487]
[1749,null,0,1650959,1650959]
[1750,null,0,190995,190995]
[1751,null,0,623311,623311]
[1752,null,0,47749,47749]
[1755,null,0,3806717,3806717]
[1756,null,0,47749,47749]
[1757,null,0,38199,38199]
[1762,null,0,10344946,10344946]
[1878,null,0,33400000,33400000]
[1911,null,0,34186,34186]
[1916,null,0,34186,34186]
[1921,null,0,34186,34186]
[1947,null,0,815300,815300]
[1948,null,0,214554508,214554508]
[1949,null,0,4604112,4604112]
[1950,null,0,20514670,20514670]
[1951,null,0,null,0]
[1952,null,0,240488590,240488590]
[1954,null,0,90305,90305]
[1955,null,0,null,0]
[1956,null,0,451799,451799]
[1957,null,0,null,0]
[1958,null,0,542104,542104]
[1960,null,0,null,0]
[1963,null,0,null,0]
[1964,null,0,null,0]
[1965,null,0,815300,815300]
[1966,null,0,214644813,214644813]
[1967,null,0,4604112,4604112]
[1968,null,0,20966469,20966469]
[1969,null,0,null,0]
[1970,null,0,241030694,241030694]
[1972,null,0,56599140,56599140]
[1973,null,0,3774989,3774989]
[1974,null,0,20366595,20366595]
[1975,null,0,null,0]
[1976,null,0,80740724,80740724]
[1978,null,0,4292896,4292896]
[1979,null,0,230206,230206]
[1980,null,0,599874,599874]
[1981,null,0,null,0]
[1982,null,0,5122976,5122976]
[1984,null,0,null,0]
[1987,null,0,null,0]
[1988,null,0,null,0]
[1990,null,0,60892036,60892036]
[1991,null,0,4005195,4005195]
[1992,null,0,20966469,20966469]
[1993,null,0,null,0]
[1994,null,0,85863700,85863700]
[1995,null,0,815300,815300]
[1996,null,0,153752777,153752777]
[1997,null,0,598917,598917]
[1998,null,0,null,0]
[1999,null,0,null,0]
[2000,null,0,155166994,155166994]
[2020,null,0,null,0]
[2027,null,0,597112,597112]
[2028,null,0,139422,139422]
[2030,null,0,null,0]
[2032,null,0,null,0]
[2044,null,0,null,0]
[2374,null,0,2770575,2770575]
[2376,null,0,1311272,1311272]
[2414,null,0,1661592,1661592]
[2416,null,0,1921431,1921431]
[2443,null,0,4884589,4884589]
[2474,null,0,1386767,1386767]
[2490,null,0,5803010,5803010]
[2492,null,0,52694565,52694565]
[2493,null,0,17308989,17308989]
[2494,null,0,75806564,75806564]
[2495,null,0,42137763,42137763]
[2496,null,0,24676692,24676692]
[2497,null,0,717643,717643]
[2498,null,0,736534,736534]
[2500,null,0,68268632,68268632]
[2501,null,0,7537932,7537932]
[2503,null,0,481989,481989]
[2505,null,0,5000000,5000000]
[2507,null,0,5481989,5481989]
[2508,null,0,7160645,7160645]
[2510,null,0,null,0]
[2512,null,0,7160645,7160645]
[2513,null,0,-1678656,-1678656]
[2530,null,0,170908,170908]
[2532,null,0,4404936,4404936]
[2534,null,0,4575844,4575844]
[2535,null,0,4845334,4845334]
[2538,null,0,null,0]
[2539,null,0,4845334,4845334]
[2540,null,0,-269490,-269490]
[2542,null,0,2302231,2302231]
[2544,null,0,null,0]
[2545,null,0,2302231,2302231]
[2546,null,0,832148,832148]
[2547,null,0,1352183,1352183]
[2548,null,0,19371,19371]
[2551,null,0,2203702,2203702]
[2552,null,0,98529,98529]
[2569,null,0,1570887,1570887]
[2570,null,0,3193300,3193300]
[2571,null,0,4764187,4764187]
[2573,null,0,4834358,4834358]
[2574,null,0,4834358,4834358]
[2575,null,0,-70171,-70171]
[2594,null,0,8344,8344]
[2595,null,0,null,0]
[2597,null,0,8344,8344]
[2598,null,0,1337,1337]
[2600,null,0,1337,1337]
[2601,null,0,7007,7007]
[2657,null,0,618602,618602]
[2658,null,0,119543,119543]
[2659,null,0,8756,8756]
[2660,null,0,22497,22497]
[2661,null,0,1310,1310]
[2663,null,0,770708,770708]
[2664,null,0,27805,27805]
[2665,null,0,27805,27805]
[2728,null,0,597112,597112]
[2729,null,0,597112,597112]
[2803,null,0,null,0]
[2819,null,0,32938,32938]
[2824,null,0,null,0]
[2827,null,0,435592,435592]
[2831,null,0,null,0]
[2834,null,0,103105,103105]
[2847,null,0,21058,21058]
[2849,null,0,21058,21058]
[2851,null,0,414534,414534]
[2852,null,0,435592,435592]
[2853,null,0,103105,103105]
[2855,null,0,103105,103105]
[2856,null,0,103105,103105]
[2888,null,0,null,0]
[2889,null,0,7574,7574]
[2893,null,0,589538,589538]
[2895,null,0,null,0]
[2912,null,0,null,0]
[2913,null,0,7574,7574]
[2917,null,0,589538,589538]
[2920,null,0,null,0]
[2927,null,0,null,0]
[2994,null,0,3422254,3422254]
[2995,null,0,1083092,1083092]
[2996,null,0,533849,533849]
[2997,null,0,144081,144081]
[3001,null,0,5183276,5183276]
[3003,null,0,133082,133082]
[3004,null,0,133082,133082]
[3164,null,0,42725,42725]
[3165,null,0,42725,42725]
[3166,null,0,42725,42725]
[3168,null,0,null,0]
[3170,null,0,null,0]
[3171,null,0,null,0]
[3172,null,0,7537932,7537932]
[3175,null,0,null,0]
[3176,null,0,null,0]
[3177,null,0,null,0]
[3178,null,0,-1678656,-1678656]
[3195,null,0,-269490,-269490]
[3201,null,0,98529,98529]
[3212,null,0,null,0]
[3213,null,0,null,0]
[3216,null,0,null,0]
[3217,null,0,-70171,-70171]
[3235,null,0,null,0]
[3238,null,0,null,0]
[3239,null,0,7007,7007]
[3257,null,0,null,0]
[3258,null,0,null,0]
[3259,null,0,42725,42725]
[3260,null,0,371809,371809]
[3262,null,0,414534,414534]
[3305,null,0,5058287,5058287]
[3307,null,0,1263178,1263178]
[3309,null,0,7975,7975]
[3311,null,0,59490,59490]
[3313,null,0,null,0]
[3315,null,0,null,0]
[3319,null,0,6511080,6511080]
[3326,null,0,265577,265577]
[3327,null,0,277407,277407]
[3329,null,0,265577,265577]
[3330,null,0,277407,277407]
[3350,null,0,43619272,43619272]
[3353,null,0,1364915,1364915]
[3356,null,0,5107342,5107342]
[3358,null,0,1738477,1738477]
[3361,null,0,3411120,3411120]
[3364,null,0,1386767,1386767]
[3366,null,0,402654,402654]
[3374,null,0,103105,103105]
[3385,null,0,1388972,1388972]
[3386,null,0,681469,681469]
[3387,null,0,707503,707503]
[3388,null,0,882529,882529]
[3389,null,0,1590032,1590032]
[3390,null,0,null,0]
[3391,null,0,null,0]
[3392,null,0,null,0]
[3393,null,0,null,0]
[3398,null,0,null,0]
[3485,null,0,876417,876417]
[3487,null,0,32939,32939]
[3491,null,0,909356,909356]
[3501,null,0,21058,21058]
[3504,null,0,21058,21058]
[3506,null,0,888298,888298]
[3507,null,0,909356,909356]
[3508,null,0,42725,42725]
[3510,null,0,42725,42725]
[3515,null,0,42725,42725]
[3527,null,0,42725,42725]
[3528,null,0,845573,845573]
[3530,null,0,888298,888298]
[3620,null,0,42725,42725]
[3664,null,0,42725,42725]
[3665,null,0,21479,21479]
[3666,null,0,21246,21246]
[3667,null,0,26502,26502]
[3668,null,0,47748,47748]
[3669,null,0,null,0]
[4052,null,29518338,20808522,50326860]
[4061,null,29518338,96615086,126133424]
[4062,null,0,5481989,5481989]
[4063,null,0,4764187,4764187]
[4064,null,0,4575844,4575844]
[4065,null,0,2302231,2302231]
[4066,null,0,8344,8344]
[4067,null,0,42725,42725]
[4069,null,0,42725,42725]
[4070,null,29518338,20808522,50326860]
[4075,null,29518338,89077154,118595492]
[4076,null,0,7160645,7160645]
[4077,null,0,4834358,4834358]
[4078,null,0,4845334,4845334]
[4079,null,0,2203702,2203702]
[4080,null,0,1337,1337]
[4110,null,0,30220000,30220000]
[4111,null,0,23577784,23577784]
[4112,null,0,3180000,3180000]
[4149,null,0,null,0]
[4150,null,0,null,0]
[4204,null,0,1910,1910]
[4205,null,0,500,500]
[4206,null,0,200,200]
[4207,null,0,2610,2610]
[4208,null,0,49610396,49610396]
[4270,null,0,292061,292061]
[4283,null,0,null,0]
[4297,null,0,95345,95345]
[4301,null,0,77569,77569]
[4346,null,0,845844,845844]
[4350,null,0,845844,845844]
[4357,null,0,520248,520248]
[4360,null,0,null,0]
[4376,null,0,50,50]
[4731,null,0,556989,556989]
[4733,null,0,3193300,3193300]
[4791,null,0,3787685,3787685]
[4883,null,0,null,0]
[4934,null,0,95497393,95497393]
[4935,null,0,13178640.233999999,13178640.233999999]
[4936,null,0,30220000,30220000]
[4965,null,0,42725,42725]
[5000,null,0,1632157,1632157]
[5002,null,0,34186,34186]
[5005,null,0,1709068,1709068]
[5006,null,0,null,0]
[5007,null,0,null,0]
[5008,null,0,2507147,2507147]
[5009,null,0,14841,14841]
[5010,null,0,2521988,2521988]
[5011,null,0,200848,200848]
[5014,null,0,null,0]
[5015,null,0,null,0]
[5020,null,0,20000,20000]
[5021,null,0,null,0]
[5026,null,0,220848,220848]
[5027,null,0,535526,535526]
[5029,null,0,535526,535526]
[5031,null,0,null,0]
[5032,null,0,null,0]
[5033,null,0,null,0]
[5034,null,0,103358,103358]
[5035,null,0,103358,103358]
[5036,null,0,18191,18191]
[5037,null,0,73017,73017]
[5038,null,0,null,0]
[5039,null,0,null,0]
[5040,null,0,null,0]
[5041,null,0,91208,91208]
[5042,null,0,null,0]
[5043,null,0,null,0]
[5049,null,0,null,0]
[5051,null,0,null,0]
[5052,null,0,null,0]
[5053,null,0,null,0]
[5055,null,0,1184,1184]
[5057,null,0,null,0]
[5058,null,0,619830,619830]
[5059,null,0,621014,621014]
[5060,null,0,5803010,5803010]
[5065,null,0,44295536,44295536]
[5071,null,0,44295536,44295536]
[5072,null,0,1432902,1432902]
[5073,null,0,223842,223842]
[5074,null,0,271782,271782]
[5076,null,0,679016,679016]
[5078,null,0,97470,97470]
[5081,null,0,147075,147075]
[5086,null,0,2852087,2852087]
[5087,null,0,null,0]
[5091,null,0,-3069,-3069]
[5100,null,0,-3069,-3069]
[5102,null,0,22414,22414]
[5104,null,0,22414,22414]
[5106,null,0,57165,57165]
[5107,null,0,25855,25855]
[5133,null,0,180314,180314]
[5135,null,0,4707274,4707274]
[5153,null,0,8399029,8399029]
[5162,null,0,52694565,52694565]
[5164,null,0,null,0]
[5178,null,0,2410674,2410674]
[5179,null,0,null,0]
[5180,null,0,874343,874343]
[5181,null,0,76492,76492]
[5182,null,0,171862,171862]
[5185,null,0,3999737,3999737]
[5186,null,0,6316668,6316668]
[5187,null,0,138,138]
[5195,null,0,null,0]
[5199,null,0,6316806,6316806]
[5213,null,0,66181,66181]
[5217,null,0,1593126,1593126]
[5218,null,0,6448,6448]
[5225,null,0,1665755,1665755]
[5240,null,0,null,0]
[5243,null,0,null,0]
[5259,null,0,17308989,17308989]
[5265,null,0,17308989,17308989]
[5266,null,0,75806564,75806564]
[5267,null,0,427265,427265]
[5273,null,0,427265,427265]
[5274,null,0,null,0]
[5275,null,0,null,0]
[5278,null,0,null,0]
[5279,null,0,null,0]
[5281,null,0,null,0]
[5288,null,0,21388,21388]
[5289,null,0,null,0]
[5291,null,0,null,0]
[5293,null,0,33336,33336]
[5294,null,0,54724,54724]
[5295,null,0,481989,481989]
[5300,null,0,5000000,5000000]
[5306,null,0,5000000,5000000]
[5360,null,0,5000000,5000000]
[5447,null,0,5481989,5481989]
[5448,null,0,1570884,1570884]
[5452,null,0,1570884,1570884]
[5453,null,0,null,0]
[5454,null,0,null,0]
[5457,null,0,null,0]
[5458,null,0,null,0]
[5460,null,0,null,0]
[5464,null,0,3,3]
[5465,null,0,3,3]
[5466,null,0,1570887,1570887]
[5476,null,0,3193300,3193300]
[5483,null,0,3193300,3193300]
[5491,null,0,4764187,4764187]
[5492,null,0,170908,170908]
[5496,null,0,170908,170908]
[5497,null,0,null,0]
[5498,null,0,null,0]
[5501,null,0,null,0]
[5502,null,0,null,0]
[5505,null,0,null,0]
[5506,null,0,null,0]
[5518,null,0,null,0]
[5519,null,0,null,0]
[5521,null,0,null,0]
[5525,null,0,null,0]
[5526,null,0,null,0]
[5527,null,0,170908,170908]
[5532,null,0,1800000,1800000]
[5538,null,0,1800000,1800000]
[5554,null,0,1388440,1388440]
[5556,null,0,1216496,1216496]
[5557,null,0,2604936,2604936]
[5583,null,0,2604936,2604936]
[5592,null,0,4404936,4404936]
[5659,null,0,4575844,4575844]
[5660,null,0,545259,545259]
[5662,null,0,1388972,1388972]
[5664,null,0,1934231,1934231]
[5665,null,0,null,0]
[5666,null,0,null,0]
[5667,null,0,368000,368000]
[5669,null,0,368000,368000]
[5670,null,0,null,0]
[5672,null,0,null,0]
[5729,null,0,null,0]
[5742,null,0,null,0]
[5802,null,0,null,0]
[5808,null,0,null,0]
[5809,null,0,2302231,2302231]
[5815,null,0,null,0]
[5817,null,0,null,0]
[5818,null,0,8344,8344]
[5820,null,0,8344,8344]
[5824,null,0,null,0]
[5825,null,0,null,0]
[5826,null,0,null,0]
[5832,null,0,null,0]
[5845,null,0,null,0]
[5854,null,0,8344,8344]
[5855,null,0,42725,42725]
[5857,null,0,42725,42725]
[5858,null,0,null,0]
[5859,null,0,null,0]
[5862,null,0,null,0]
[5863,null,0,null,0]
[5865,null,0,null,0]
[5885,null,0,42725,42725]
[5924,null,0,42725,42725]
[5926,null,0,42725,42725]
[5927,null,0,null,0]
[5928,null,0,null,0]
[5931,null,0,null,0]
[5932,null,0,null,0]
[5934,null,0,null,0]
[5962,null,0,42725,42725]
[5963,null,0,2302231,2302231]
[5964,null,0,8344,8344]
[5965,null,0,42725,42725]
[5967,null,0,42725,42725]
[5970,null,0,null,0]
[5974,null,0,260837.61,260837.61]
[6013,null,0,4504.88,4504.88]
[6020,null,0,null,0]
[6029,null,0,5037299,5037299]
[6032,null,0,649693,649693]
[6033,null,0,null,0]
[6034,null,0,null,0]
[6038,null,0,3988227,3988227]
[6039,null,0,null,0]
[6040,null,0,null,0]
[6041,null,0,null,0]
[6042,null,0,null,0]
[6043,null,0,null,0]
[6044,null,0,null,0]
[6052,null,0,null,0]
[6053,null,0,null,0]
[6054,null,0,553809,553809]
[6056,null,0,null,0]
[6059,null,0,306251,306251]
[6063,null,0,6280958,6280958]
[6065,null,0,null,0]
[6081,null,0,1048940,1048940]
[6082,null,0,172439,172439]
[6084,null,0,124403,124403]
[6086,null,0,null,0]
[6088,null,0,13360,13360]
[6108,null,0,3790323,3790323]
[6109,null,0,null,0]
[6112,null,0,null,0]
[6120,null,0,1678839,1678839]
[6130,null,0,1692199,1692199]
[6153,null,0,4588759,4588759]
[6154,null,0,null,0]
[6155,null,0,6280958,6280958]
[6156,null,0,3348765,3348765]
[6158,null,0,2625942,2625942]
[6159,null,0,3361526,3361526]
[6162,null,0,3361526,3361526]
[6164,null,0,3361526,3361526]
[6166,null,0,3353519,3353519]
[6168,null,0,3353519,3353519]
[6169,null,0,8007,8007]
[6202,null,0,8007,8007]
[6203,null,0,4580752,4580752]
[6205,null,0,4588759,4588759]
[6206,null,0,7537932,7537932]
[6207,null,0,-1678656,-1678656]
[6208,null,0,-70171,-70171]
[6209,null,0,-269490,-269490]
[6210,null,0,98529,98529]
[6211,null,0,7007,7007]
[6212,null,0,42725,42725]
[6213,null,0,8007,8007]
[6214,null,0,42725,42725]
[6215,null,0,0.16307752257869601,0.16307752257869601]
[6216,null,0,-1.2801737549493899,-1.2801737549493899]
[6217,null,0,-1.0564395978691399E-2,-1.0564395978691399E-2]
[6218,null,0,-0.16218782950327201,-0.16218782950327201]
[6219,null,0,2.4869787558417299E-2,2.4869787558417299E-2]
[6220,null,0,5.0527594037066102E-3,5.0527594037066102E-3]
[6221,null,0,0.10306754090134899,0.10306754090134899]
[6222,null,0,1.7449162180885899E-3,1.7449162180885899E-3]
[6223,null,0,4.8097597878189499E-2,4.8097597878189499E-2]
[6224,null,0,null,0]
[6225,null,0,null,0]
[6228,null,0,null,0]
[6237,null,0,3361526,3361526]
[6240,null,0,3361526,3361526]
[6241,null,0,null,0]
[6242,null,0,null,0]
[6245,null,0,null,0]
[6255,null,0,null,0]
[6257,null,0,null,0]
[6278,null,0,null,0]
[6279,null,0,null,0]
[6291,null,0,3361526,3361526]
[6298,null,0,null,0]
[6666,null,0,2038077,2038077]
[6783,null,0,null,0]
[6784,null,0,99884,99884]
[6787,null,0,2781763,2781763]
[6788,null,0,null,0]
[6789,null,0,122150,122150]
[6792,null,0,184281,184281]
[6793,null,0,null,0]
[6800,null,0,null,0]
[6802,null,0,null,0]
[6810,null,0,180647,180647]
[6817,null,0,null,0]
[6818,null,0,null,0]
[6819,null,0,5078303,5078303]
[6820,null,0,5078303,5078303]
[6841,null,0,null,0]
[6842,null,0,222034,222034]
[6844,null,0,60042,60042]
[6850,null,0,62271,62271]
[6856,null,0,122313,122313]
[6857,null,0,null,0]
[6858,null,0,40208,40208]
[6859,null,0,null,0]
[6860,null,0,40208,40208]
[6863,null,0,null,0]
[6864,null,0,80416,80416]
[6865,null,0,null,0]
[6868,null,0,null,0]
[6873,null,0,null,0]
[6876,null,0,71979,71979]
[6879,null,0,71979,71979]
[6880,null,0,null,0]
[6881,null,0,null,0]
[6882,null,0,null,0]
[6897,null,0,null,0]
[6899,null,0,13368,13368]
[6900,null,0,null,0]
[6901,null,0,13368,13368]
[6916,null,0,null,0]
[6917,null,0,216097,216097]
[6920,null,0,null,0]
[6921,null,0,null,0]
[6922,null,0,null,0]
[6923,null,0,null,0]
[6926,null,0,null,0]
[6927,null,0,null,0]
[6928,null,0,139422,139422]
[6929,null,0,139422,139422]
[6934,null,0,139422,139422]
[6959,null,0,null,0]
[6960,null,0,438131,438131]
[6967,null,0,null,0]
[6968,null,0,2110,2110]
[6972,null,0,null,0]
[6973,null,0,2110,2110]
[6976,null,0,null,0]
[6977,null,0,2110,2110]
[6981,null,0,3353519,3353519]
[6990,null,0,null,0]
[6991,null,0,2110,2110]
[6994,null,0,3361526,3361526]
[7006,null,0,null,0]
[7007,null,0,null,0]
[7012,null,0,119040,119040]
[7013,null,0,119040,119040]
[7014,null,0,2324,2324]
[7015,null,0,2324,2324]
[7018,null,0,2557,2557]
[7019,null,0,2557,2557]
[7032,null,0,114772,114772]
[7033,null,0,114772,114772]
[7068,null,0,1213333,1213333]
[7071,null,0,399523,399523]
[7074,null,0,1612856,1612856]
[7077,null,0,230310,230310]
[7083,null,0,230310,230310]
[7086,null,0,132048,132048]
[7092,null,0,132048,132048]
[7095,null,0,10000,10000]
[7101,null,0,10000,10000]
[7107,null,0,4483,4483]
[7110,null,0,4483,4483]
[7111,null,0,963254,963254]
[7112,null,0,231924,231924]
[7113,null,0,26932,26932]
[7114,null,0,null,0]
[7119,null,0,1222110,1222110]
[7131,null,0,141712,141712]
[7137,null,0,141712,141712]
[7138,null,0,963254,963254]
[7139,null,0,231924,231924]
[7140,null,0,1754335,1754335]
[7141,null,0,null,0]
[7143,null,0,404006,404006]
[7146,null,0,3353519,3353519]
[7155,null,0,963254,963254]
[7156,null,0,231924,231924]
[7157,null,0,1754335,1754335]
[7158,null,0,null,0]
[7160,null,0,404006,404006]
[7163,null,0,3353519,3353519]
[7164,null,0,8007,8007]
[7185,null,0,449309,449309]
[7186,null,0,114915,114915]
[7187,null,0,64358,64358]
[7188,null,0,115104,115104]
[7190,null,0,160832,160832]
[7191,null,0,23449,23449]
[7193,null,0,null,0]
[7195,null,0,null,0]
[7202,null,0,156778,156778]
[7203,null,0,23025,23025]
[7204,null,0,844,844]
[7205,null,0,null,0]
[7206,null,0,null,0]
[7207,null,0,null,0]
[7563,null,0,null,0]
[7564,null,0,null,0]
[7570,null,0,5122976,5122976]
[7593,null,0,null,0]
[7596,null,0,null,0]
[7602,null,0,null,0]
[7605,null,0,null,0]
[7625,null,0,null,0]
[7626,null,0,174305,174305]
[7650,null,0,null,0]
[7653,null,0,25855,25855]
[7658,null,0,25855,25855]
[7659,null,0,34186,34186]
[7660,null,0,25855,25855]
[7697,null,0,991794,991794]
[7698,null,0,null,0]
[7699,null,0,991794,991794]
[7701,null,0,1428188,1428188]
[7702,null,0,1428188,1428188]